Workbook
Name \0: #REF!
Name \a: #REF!
Name ______Ele200502: #REF!
Name ______Ser200705: #REF!
Name ______Ser200712: #REF!
Name ______Ser201104: #REF!
Name ______TR2: #REF!
Name ______TR5: #REF!
Name _____Ele200502: #REF!
Name _____Ele200609: #REF!
Name _____pv2: #REF!
Name _____pv3: #REF!
Name _____Ser200506: #REF!
Name _____Ser200705: #REF!
Name _____Ser200712: #REF!
Name _____Ser201104: #REF!
Name _____TR2: #REF!
Name _____TR5: #REF!
Name ____Ele200502: #REF!
Name ____Ele200609: #REF!
Name ____pv2: #REF!
Name ____pv3: #REF!
Name ____Ser200506: #REF!
Name ____Ser200705: #REF!
Name ____Ser200712: #REF!
Name ____Ser201104: #REF!
Name ____TR2: #REF!
Name ____TR5: #REF!
Name ___Ele200502: #REF!
Name ___Ele200609: #REF!
Name ___pv2: #REF!
Name ___pv3: #REF!
Name ___Ser200506: #REF!
Name ___Ser200705: #REF!
Name ___Ser200712: #REF!
Name ___Ser201104: #REF!
Name ___TR2: #REF!
Name ___TR5: #REF!
Name __Ele200502: #REF!
Name __Ele200609: #REF!
Name __pv2: #REF!
Name __pv3: #REF!
Name __Ser200506: #REF!
Name __Ser200705: #REF!
Name __Ser200712: #REF!
Name __Ser201104: #REF!
Name __TR2: #REF!
Name __TR5: #REF!
Name _abc2: #REF!
Name _Ele200502: #REF!
Name _Ele200609: #REF!
Name _ogu01: #REF!
Name _ogu02: #REF!
Name _ogu03: #REF!
Name _ogu04: #REF!
Name _ogu05: #REF!
Name _ogu06: #REF!
Name _ogu07: #REF!
Name _ogu08: #REF!
Name _ogu09: #REF!

Sheet CRONOGRAMA
B2: CRONOGRAMA FÍSICO/ FINANCEIRO
B3: OBRA: | C3: =[1]INFORMAÇÕES!C4 -> CONSTRUÇÃO DE CRECHE PRÉ-ESCOLA TIPO 1
B4: =[1]INFORMAÇÕES!A5 -> ENDEREÇO: | C4: =[1]INFORMAÇÕES!C5 -> RUA FRANCISCO MARTO, NOSSA SENHORA DE FÁTIMA IBIRITÉ MG
G7: 1 | H7: 2 | I7: 3 | J7: 4 | K7: 5 | L7: 6 | M7: 7 | N7: 8 | O7: 9 | P7: 10 | Q7: 11 | R7: 12 | S7: 13 | T7: 14 | U7: 15 | V7: 16 | W7: 17 | X7: 18 | Y7: 19 | Z7: 20 | AA7: 21 | AB7: 22 | AC7: 23 | AD7: 24
B8: PRAZO (EM MESES): | C8: =[1]ORÇAMENTO!H4 -> 10
B10: ITEM | C10: DESCRIÇÃO | D10: TOTAL ORÇADO | E10: TIPO | F10: TOTAL ETAPA | G10: =IF([1]INFORMAÇÕES!$C$6>=CRONOGRAMA!G7,CRONOGRAMA!G7,"") -> 1 | H10: =IF([1]INFORMAÇÕES!$C$6>=CRONOGRAMA!H7,CRONOGRAMA!H7,"") -> 2 | I10: =IF([1]INFORMAÇÕES!$C$6>=CRONOGRAMA!I7,CRONOGRAMA!I7,"") -> 3 | J10: =IF([1]INFORMAÇÕES!$C$6>=CRONOGRAMA!J7,CRONOGRAMA!J7,"") -> 4 | K10: =IF([1]INFORMAÇÕES!$C$6>=CRONOGRAMA!K7,CRONOGRAMA!K7,"") -> 5 | L10: =IF([1]INFORMAÇÕES!$C$6>=CRONOGRAMA!L7,CRONOGRAMA!L7,"") -> 6 | M10: =IF([1]INFORMAÇÕES!$C$6>=CRONOGRAMA!M7,CRONOGRAMA!M7,"") -> 7 | N10: =IF([1]INFORMAÇÕES!$C$6>=CRONOGRAMA!N7,CRONOGRAMA!N7,"") -> 8 | ... AD10: =IF([1]INFORMAÇÕES!$C$6>=CRONOGRAMA!AD7,CRONOGRAMA!AD7,"")
B11: ='[1]RESUMO (AUTO)'!C11 -> 1 | C11: ='[1]RESUMO (AUTO)'!D11 -> SERVIÇOS PRELIMINARES | D11: ='[1]RESUMO (AUTO)'!F11 -> 741253.44 | E11: Financeiro | F11: =SUM(G11:AD11) -> 741253.41 | G11: =ROUND(G12*$D11,2) -> 104146.11 | H11: =ROUND(H12*$D11,2) -> 70789.7 | I11: =ROUND(I12*$D11,2) -> 70789.7 | J11: =ROUND(J12*$D11,2) -> 70789.7 | K11: =ROUND(K12*$D11,2) -> 70789.7 | L11: =ROUND(L12*$D11,2) -> 70789.7 | M11: =ROUND(M12*$D11,2) -> 70789.7 | N11: =ROUND(N12*$D11,2) -> 70789.7 | ... AD11: =ROUND(AD12*$D11,2) -> 0
E12: Físico (%) | F12: =SUM(G12:AD12) -> 1 | G12: 0.1405 | H12: 0.0955 | I12: 0.0955 | J12: 0.0955 | K12: 0.0955 | L12: 0.0955 | M12: 0.0955 | N12: 0.0955 | O12: 0.0955 | P12: 0.0955
B13: ='[1]RESUMO (AUTO)'!C12 -> 2 | C13: ='[1]RESUMO (AUTO)'!D12 -> MOVIMENTO DE TERRA PARA FUNDAÇÕES | D13: ='[1]RESUMO (AUTO)'!F12 -> 84409.64 | E13: Financeiro | F13: =SUM(G13:AD13) -> 84409.64 | G13: =ROUND(G14*$D13,2) -> 84409.64 | H13: =ROUND(H14*$D13,2) -> 0 | I13: =ROUND(I14*$D13,2) -> 0 | J13: =ROUND(J14*$D13,2) -> 0 | K13: =ROUND(K14*$D13,2) -> 0 | L13: =ROUND(L14*$D13,2) -> 0 | M13: =ROUND(M14*$D13,2) -> 0 | N13: =ROUND(N14*$D13,2) -> 0 | ... AD13: =ROUND(AD14*$D13,2) -> 0
E14: Físico (%) | F14: =SUM(G14:AD14) -> 1 | G14: 1
B15: ='[1]RESUMO (AUTO)'!C13 -> 3 | C15: ='[1]RESUMO (AUTO)'!D13 -> FUNDAÇÕES | D15: ='[1]RESUMO (AUTO)'!F13 -> 355493.35 | E15: Financeiro | F15: =SUM(G15:AD15) -> 355493.35 | G15: =ROUND(G16*$D15,2) -> 71098.67 | H15: =ROUND(H16*$D15,2) -> 142197.34 | I15: =ROUND(I16*$D15,2) -> 142197.34 | J15: =ROUND(J16*$D15,2) -> 0 | K15: =ROUND(K16*$D15,2) -> 0 | L15: =ROUND(L16*$D15,2) -> 0 | M15: =ROUND(M16*$D15,2) -> 0 | N15: =ROUND(N16*$D15,2) -> 0 | ... AD15: =ROUND(AD16*$D15,2) -> 0
E16: Físico (%) | F16: =SUM(G16:AD16) -> 1 | G16: 0.2 | H16: 0.4 | I16: 0.4
B17: ='[1]RESUMO (AUTO)'!C14 -> 4 | C17: ='[1]RESUMO (AUTO)'!D14 -> SUPERESTRUTURA | D17: ='[1]RESUMO (AUTO)'!F14 -> 636137.87 | E17: Financeiro | F17: =SUM(G17:AD17) -> 636137.87 | G17: =ROUND(G18*$D17,2) -> 0 | H17: =ROUND(H18*$D17,2) -> 63613.79 | I17: =ROUND(I18*$D17,2) -> 190841.36 | J17: =ROUND(J18*$D17,2) -> 190841.36 | K17: =ROUND(K18*$D17,2) -> 190841.36 | L17: =ROUND(L18*$D17,2) -> 0 | M17: =ROUND(M18*$D17,2) -> 0 | N17: =ROUND(N18*$D17,2) -> 0 | ... AD17: =ROUND(AD18*$D17,2) -> 0
E18: Físico (%) | F18: =SUM(G18:AD18) -> 1 | H18: 0.1 | I18: 0.3 | J18: 0.3 | K18: 0.3
B19: ='[1]RESUMO (AUTO)'!C15 -> 5 | C19: ='[1]RESUMO (AUTO)'!D15 -> SISTEMA DE VEDAÇÃO VERTICAL | D19: ='[1]RESUMO (AUTO)'!F15 -> 212393.73 | E19: Financeiro | F19: =SUM(G19:AD19) -> 212393.74 | G19: =ROUND(G20*$D19,2) -> 0 | H19: =ROUND(H20*$D19,2) -> 0 | I19: =ROUND(I20*$D19,2) -> 0 | J19: =ROUND(J20*$D19,2) -> 0 | K19: =ROUND(K20*$D19,2) -> 84957.49 | L19: =ROUND(L20*$D19,2) -> 42478.75 | M19: =ROUND(M20*$D19,2) -> 42478.75 | N19: =ROUND(N20*$D19,2) -> 42478.75 | ... AD19: =ROUND(AD20*$D19,2) -> 0
E20: Físico (%) | F20: =SUM(G20:AD20) -> 1 | K20: 0.4 | L20: 0.2 | M20: 0.2 | N20: 0.2
B21: ='[1]RESUMO (AUTO)'!C16 -> 6 | C21: ='[1]RESUMO (AUTO)'!D16 -> ESQUADRIAS | D21: ='[1]RESUMO (AUTO)'!F16 -> 547259.69 | E21: Financeiro | F21: =SUM(G21:AD21) -> 547259.7 | G21: =ROUND(G22*$D21,2) -> 0 | H21: =ROUND(H22*$D21,2) -> 0 | I21: =ROUND(I22*$D21,2) -> 0 | J21: =ROUND(J22*$D21,2) -> 0 | K21: =ROUND(K22*$D21,2) -> 0 | L21: =ROUND(L22*$D21,2) -> 0 | M21: =ROUND(M22*$D21,2) -> 218903.88 | N21: =ROUND(N22*$D21,2) -> 218903.88 | ... AD21: =ROUND(AD22*$D21,2) -> 0
E22: Físico (%) | F22: =SUM(G22:AD22) -> 1 | M22: 0.4 | N22: 0.4 | O22: 0.2
B23: ='[1]RESUMO (AUTO)'!C17 -> 7 | C23: ='[1]RESUMO (AUTO)'!D17 -> SISTEMAS DE COBERTURA | D23: ='[1]RESUMO (AUTO)'!F17 -> 397791.9 | E23: Financeiro | F23: =SUM(G23:AD23) -> 397791.9 | G23: =ROUND(G24*$D23,2) -> 0 | H23: =ROUND(H24*$D23,2) -> 0 | I23: =ROUND(I24*$D23,2) -> 0 | J23: =ROUND(J24*$D23,2) -> 0 | K23: =ROUND(K24*$D23,2) -> 79558.38 | L23: =ROUND(L24*$D23,2) -> 119337.57 | M23: =ROUND(M24*$D23,2) -> 119337.57 | N23: =ROUND(N24*$D23,2) -> 79558.38 | ... AD23: =ROUND(AD24*$D23,2) -> 0
E24: Físico (%) | F24: =SUM(G24:AD24) -> 1 | K24: 0.2 | L24: 0.3 | M24: 0.3 | N24: 0.2
B25: ='[1]RESUMO (AUTO)'!C18 -> 8 | C25: ='[1]RESUMO (AUTO)'!D18 -> IMPERMEABILIZAÇÃO | D25: ='[1]RESUMO (AUTO)'!F18 -> 52961.52 | E25: Financeiro | F25: =SUM(G25:AD25) -> 52961.51 | G25: =ROUND(G26*$D25,2) -> 0 | H25: =ROUND(H26*$D25,2) -> 0 | I25: =ROUND(I26*$D25,2) -> 0 | J25: =ROUND(J26*$D25,2) -> 0 | K25: =ROUND(K26*$D25,2) -> 10592.3 | L25: =ROUND(L26*$D25,2) -> 10592.3 | M25: =ROUND(M26*$D25,2) -> 10592.3 | N25: =ROUND(N26*$D25,2) -> 21184.61 | ... AD25: =ROUND(AD26*$D25,2) -> 0
E26: Físico (%) | F26: =SUM(G26:AD26) -> 1 | K26: 0.2 | L26: 0.2 | M26: 0.2 | N26: 0.4
B27: ='[1]RESUMO (AUTO)'!C19 -> 9 | C27: ='[1]RESUMO (AUTO)'!D19 -> REVESTIMENTOS INTERNO E EXTERNO | D27: ='[1]RESUMO (AUTO)'!F19 -> 527175.01 | E27: Financeiro | F27: =SUM(G27:AD27) -> 527175 | G27: =ROUND(G28*$D27,2) -> 0 | H27: =ROUND(H28*$D27,2) -> 0 | I27: =ROUND(I28*$D27,2) -> 0 | J27: =ROUND(J28*$D27,2) -> 0 | K27: =ROUND(K28*$D27,2) -> 158152.5 | L27: =ROUND(L28*$D27,2) -> 131793.75 | M27: =ROUND(M28*$D27,2) -> 105435 | N27: =ROUND(N28*$D27,2) -> 131793.75 | ... AD27: =ROUND(AD28*$D27,2) -> 0
E28: Físico (%) | F28: =SUM(G28:AD28) -> 1 | K28: 0.3 | L28: 0.25 | M28: 0.2 | N28: 0.25
B29: ='[1]RESUMO (AUTO)'!C20 -> 10 | C29: ='[1]RESUMO (AUTO)'!D20 -> SISTEMAS DE PISOS | D29: ='[1]RESUMO (AUTO)'!F20 -> 305272.78 | E29: Financeiro | F29: =SUM(G29:AD29) -> 305272.77 | G29: =ROUND(G30*$D29,2) -> 0 | H29: =ROUND(H30*$D29,2) -> 0 | I29: =ROUND(I30*$D29,2) -> 0 | J29: =ROUND(J30*$D29,2) -> 91581.83 | K29: =ROUND(K30*$D29,2) -> 122109.11 | L29: =ROUND(L30*$D29,2) -> 91581.83 | M29: =ROUND(M30*$D29,2) -> 0 | N29: =ROUND(N30*$D29,2) -> 0 | ... AD29: =ROUND(AD30*$D29,2) -> 0
E30: Físico (%) | F30: =SUM(G30:AD30) -> 1 | J30: 0.3 | K30: 0.4 | L30: 0.3
B31: ='[1]RESUMO (AUTO)'!C21 -> 11 | C31: ='[1]RESUMO (AUTO)'!D21 -> PINTURAS E ACABAMENTOS | D31: ='[1]RESUMO (AUTO)'!F21 -> 241253.36 | E31: Financeiro | F31: =SUM(G31:AD31) -> 241253.36 | G31: =ROUND(G32*$D31,2) -> 0 | H31: =ROUND(H32*$D31,2) -> 0 | I31: =ROUND(I32*$D31,2) -> 0 | J31: =ROUND(J32*$D31,2) -> 0 | K31: =ROUND(K32*$D31,2) -> 0 | L31: =ROUND(L32*$D31,2) -> 0 | M31: =ROUND(M32*$D31,2) -> 48250.67 | N31: =ROUND(N32*$D31,2) -> 72376.01 | ... AD31: =ROUND(AD32*$D31,2) -> 0
E32: Físico (%) | F32: =SUM(G32:AD32) -> 1 | M32: 0.2 | N32: 0.3 | O32: 0.4 | P32: 0.1
B33: ='[1]RESUMO (AUTO)'!C22 -> 12 | C33: ='[1]RESUMO (AUTO)'!D22 -> INSTALAÇÃO HIDRÁULICA | D33: ='[1]RESUMO (AUTO)'!F22 -> 127780.39 | E33: Financeiro | F33: =SUM(G33:AD33) -> 127780.4 | G33: =ROUND(G34*$D33,2) -> 0 | H33: =ROUND(H34*$D33,2) -> 0 | I33: =ROUND(I34*$D33,2) -> 0 | J33: =ROUND(J34*$D33,2) -> 38334.12 | K33: =ROUND(K34*$D33,2) -> 51112.16 | L33: =ROUND(L34*$D33,2) -> 25556.08 | M33: =ROUND(M34*$D33,2) -> 12778.04 | N33: =ROUND(N34*$D33,2) -> 0 | ... AD33: =ROUND(AD34*$D33,2) -> 0
E34: Físico (%) | F34: =SUM(G34:AD34) -> 1 | J34: 0.3 | K34: 0.4 | L34: 0.2 | M34: 0.1
B35: ='[1]RESUMO (AUTO)'!C23 -> 13 | C35: ='[1]RESUMO (AUTO)'!D23 -> DRENAGEM DE ÁGUAS PLUVIAIS | D35: ='[1]RESUMO (AUTO)'!F23 -> 42430.26 | E35: Financeiro | F35: =SUM(G35:AD35) -> 42430.26 | G35: =ROUND(G36*$D35,2) -> 0 | H35: =ROUND(H36*$D35,2) -> 0 | I35: =ROUND(I36*$D35,2) -> 0 | J35: =ROUND(J36*$D35,2) -> 0 | K35: =ROUND(K36*$D35,2) -> 21215.13 | L35: =ROUND(L36*$D35,2) -> 21215.13 | M35: =ROUND(M36*$D35,2) -> 0 | N35: =ROUND(N36*$D35,2) -> 0 | ... AD35: =ROUND(AD36*$D35,2) -> 0
E36: Físico (%) | F36: =SUM(G36:AD36) -> 1 | K36: 0.5 | L36: 0.5
B37: ='[1]RESUMO (AUTO)'!C24 -> 14 | C37: ='[1]RESUMO (AUTO)'!D24 -> INSTALAÇÃO SANITÁRIA | D37: ='[1]RESUMO (AUTO)'!F24 -> 111117.04 | E37: Financeiro | F37: =SUM(G37:AD37) -> 111117.04 | G37: =ROUND(G38*$D37,2) -> 0 | H37: =ROUND(H38*$D37,2) -> 0 | I37: =ROUND(I38*$D37,2) -> 22223.41 | J37: =ROUND(J38*$D37,2) -> 22223.41 | K37: =ROUND(K38*$D37,2) -> 33335.11 | L37: =ROUND(L38*$D37,2) -> 33335.11 | M37: =ROUND(M38*$D37,2) -> 0 | N37: =ROUND(N38*$D37,2) -> 0 | ... AD37: =ROUND(AD38*$D37,2) -> 0
E38: Físico (%) | F38: =SUM(G38:AD38) -> 1 | I38: 0.2 | J38: 0.2 | K38: 0.3 | L38: 0.3
B39: ='[1]RESUMO (AUTO)'!C25 -> 15 | C39: ='[1]RESUMO (AUTO)'!D25 -> LOUÇAS, ACESSÓRIOS E METAIS | D39: ='[1]RESUMO (AUTO)'!F25 -> 120141.6 | E39: Financeiro | F39: =SUM(G39:AD39) -> 120141.6 | G39: =ROUND(G40*$D39,2) -> 0 | H39: =ROUND(H40*$D39,2) -> 0 | I39: =ROUND(I40*$D39,2) -> 0 | J39: =ROUND(J40*$D39,2) -> 0 | K39: =ROUND(K40*$D39,2) -> 0 | L39: =ROUND(L40*$D39,2) -> 0 | M39: =ROUND(M40*$D39,2) -> 0 | N39: =ROUND(N40*$D39,2) -> 36042.48 | ... AD39: =ROUND(AD40*$D39,2) -> 0
E40: Físico (%) | F40: =SUM(G40:AD40) -> 1 | N40: 0.3 | O40: 0.4 | P40: 0.3
B41: ='[1]RESUMO (AUTO)'!C26 -> 16 | C41: ='[1]RESUMO (AUTO)'!D26 -> INSTALAÇÃO DE GÁS COMBUSTÍVEL | D41: ='[1]RESUMO (AUTO)'!F26 -> 5648.64 | E41: Financeiro | F41: =SUM(G41:AD41) -> 5648.64 | G41: =ROUND(G42*$D41,2) -> 0 | H41: =ROUND(H42*$D41,2) -> 0 | I41: =ROUND(I42*$D41,2) -> 0 | J41: =ROUND(J42*$D41,2) -> 0 | K41: =ROUND(K42*$D41,2) -> 0 | L41: =ROUND(L42*$D41,2) -> 0 | M41: =ROUND(M42*$D41,2) -> 0 | N41: =ROUND(N42*$D41,2) -> 0 | ... AD41: =ROUND(AD42*$D41,2) -> 0
E42: Físico (%) | F42: =SUM(G42:AD42) -> 1 | O42: 1
B43: ='[1]RESUMO (AUTO)'!C27 -> 17 | C43: ='[1]RESUMO (AUTO)'!D27 -> SISTEMA DE PROTEÇÃO CONTRA INCÊNDIO | D43: ='[1]RESUMO (AUTO)'!F27 -> 50466.59 | E43: Financeiro | F43: =SUM(G43:AD43) -> 50466.59 | G43: =ROUND(G44*$D43,2) -> 0 | H43: =ROUND(H44*$D43,2) -> 0 | I43: =ROUND(I44*$D43,2) -> 0 | J43: =ROUND(J44*$D43,2) -> 0 | K43: =ROUND(K44*$D43,2) -> 0 | L43: =ROUND(L44*$D43,2) -> 0 | M43: =ROUND(M44*$D43,2) -> 0 | N43: =ROUND(N44*$D43,2) -> 0 | ... AD43: =ROUND(AD44*$D43,2) -> 0
E44: Físico (%) | F44: =SUM(G44:AD44) -> 1 | O44: 1
...
