Workbook
Name \0: #REF!
Name \a: #REF!
Name ______Ele200502: #REF!
Name ______Ser200705: #REF!
Name ______Ser200712: #REF!
Name ______Ser201104: #REF!
Name ______TR2: #REF!
Name ______TR5: #REF!
Name _____Ele200502: #REF!
Name _____Ele200609: #REF!
Name _____pv2: #REF!
Name _____pv3: #REF!
Name _____Ser200506: #REF!
Name _____Ser200705: #REF!
Name _____Ser200712: #REF!
Name _____Ser201104: #REF!
Name _____TR2: #REF!
Name _____TR5: #REF!
Name ____Ele200502: #REF!
Name ____Ele200609: #REF!
Name ____pv2: #REF!
Name ____pv3: #REF!
Name ____Ser200506: #REF!
Name ____Ser200705: #REF!
Name ____Ser200712: #REF!
Name ____Ser201104: #REF!
Name ____TR2: #REF!
Name ____TR5: #REF!
Name ___Ele200502: #REF!
Name ___Ele200609: #REF!
Name ___pv2: #REF!
Name ___pv3: #REF!
Name ___Ser200506: #REF!
Name ___Ser200705: #REF!
Name ___Ser200712: #REF!
Name ___Ser201104: #REF!
Name ___TR2: #REF!
Name ___TR5: #REF!
Name __Ele200502: #REF!
Name __Ele200609: #REF!
Name __pv2: #REF!
Name __pv3: #REF!
Name __Ser200506: #REF!
Name __Ser200705: #REF!
Name __Ser200712: #REF!
Name __Ser201104: #REF!
Name __TR2: #REF!
Name __TR5: #REF!
Name _abc2: #REF!
Name _Ele200502: #REF!
Name _Ele200609: #REF!
Name _ogu01: #REF!
Name _ogu02: #REF!
Name _ogu03: #REF!
Name _ogu04: #REF!
Name _ogu05: #REF!
Name _ogu06: #REF!
Name _ogu07: #REF!
Name _ogu08: #REF!
Name _ogu09: #REF!

Sheet CRONOGRAMA
B2: CRONOGRAMA FÍSICO/ FINANCEIRO
B3: OBRA: | C3: =[1]INFORMAÇÕES!C4 -> CONSTRUÇÃO DE CRECHE PRÉ-ESCOLA TIPO 1
B4: =[1]INFORMAÇÕES!A5 -> ENDEREÇO: | C4: =[1]INFORMAÇÕES!C5 -> RUA FRANCISCO MARTO, NOSSA SENHORA DE FÁTIMA IBIRITÉ MG
G7: 1 | H7: 2 | I7: 3 | J7: 4 | K7: 5 | L7: 6 | M7: 7 | N7: 8 | O7: 9 | P7: 10 | Q7: 11 | R7: 12 | S7: 13 | T7: 14 | U7: 15 | V7: 16 | W7: 17 | X7: 18 | Y7: 19 | Z7: 20 | AA7: 21 | AB7: 22 | AC7: 23 | AD7: 24
B8: PRAZO (EM MESES): | C8: =[1]ORÇAMENTO!H4 -> 10
B10: ITEM | C10: DESCRIÇÃO | D10: TOTAL ORÇADO | E10: TIPO | F10: TOTAL ETAPA | G10: =IF([1]INFORMAÇÕES!$C$6>=CRONOGRAMA!G7,CRONOGRAMA!G7,"") -> 1 | H10: =IF([1]INFORMAÇÕES!$C$6>=CRONOGRAMA!H7,CRONOGRAMA!H7,"") -> 2 | I10: =IF([1]INFORMAÇÕES!$C$6>=CRONOGRAMA!I7,CRONOGRAMA!I7,"") -> 3 | J10: =IF([1]INFORMAÇÕES!$C$6>=CRONOGRAMA!J7,CRONOGRAMA!J7,"") -> 4 | K10: =IF([1]INFORMAÇÕES!$C$6>=CRONOGRAMA!K7,CRONOGRAMA!K7,"") -> 5 | L10: =IF([1]INFORMAÇÕES!$C$6>=CRONOGRAMA!L7,CRONOGRAMA!L7,"") -> 6 | M10: =IF([1]INFORMAÇÕES!$C$6>=CRONOGRAMA!M7,CRONOGRAMA!M7,"") -> 7 | N10: =IF([1]INFORMAÇÕES!$C$6>=CRONOGRAMA!N7,CRONOGRAMA!N7,"") -> 8 | ... AD10: =IF([1]INFORMAÇÕES!$C$6>=CRONOGRAMA!AD7,CRONOGRAMA!AD7,"")
B11: ='[1]RESUMO (AUTO)'!C11 -> 1 | C11: ='[1]RESUMO (AUTO)'!D11 -> SERVIÇOS PRELIMINARES | D11: ='[1]RESUMO (AUTO)'!F11 -> 741253.44 | E11: Financeiro | F11: =SUM(G11:AD11) -> 741253.41 | G11: =ROUND(G12*$D11,2) -> 104146.11 | H11: =ROUND(H12*$D11,2) -> 70789.7 | I11: =ROUND(I12*$D11,2) -> 70789.7 | J11: =ROUND(J12*$D11,2) -> 70789.7 | K11: =ROUND(K12*$D11,2) -> 70789.7 | L11: =ROUND(L12*$D11,2) -> 70789.7 | M11: =ROUND(M12*$D11,2) -> 70789.7 | N11: =ROUND(N12*$D11,2) -> 70789.7 | ... AD11: =ROUND(AD12*$D11,2) -> 0
E12: Físico (%) | F12: =SUM(G12:AD12) -> 1 | G12: 0.1405 | H12: 0.0955 | I12: 0.0955 | J12: 0.0955 | K12: 0.0955 | L12: 0.0955 | M12: 0.0955 | N12: 0.0955 | O12: 0.0955 | P12: 0.0955
B13: ='[1]RESUMO (AUTO)'!C12 -> 2 | C13: ='[1]RESUMO (AUTO)'!D12 -> MOVIMENTO DE TERRA PARA FUNDAÇÕES | D13: ='[1]RESUMO (AUTO)'!F12 -> 84409.64 | E13: Financeiro | F13: =SUM(G13:AD13) -> 84409.64 | G13: =ROUND(G14*$D13,2) -> 84409.64 | H13: =ROUND(H14*$D13,2) -> 0 | I13: =ROUND(I14*$D13,2) -> 0 | J13: =ROUND(J14*$D13,2) -> 0 | K13: =ROUND(K14*$D13,2) -> 0 | L13: =ROUND(L14*$D13,2) -> 0 | M13: =ROUND(M14*$D13,2) -> 0 | N13: =ROUND(N14*$D13,2) -> 0 | ... AD13: =ROUND(AD14*$D13,2) -> 0
E14: Físico (%) | F14: =SUM(G14:AD14) -> 1 | G14: 1
B15: ='[1]RESUMO (AUTO)'!C13 -> 3 | C15: ='[1]RESUMO (AUTO)'!D13 -> FUNDAÇÕES | D15: ='[1]RESUMO (AUTO)'!F13 -> 355493.35 | E15: Financeiro | F15: =SUM(G15:AD15) -> 355493.35 | G15: =ROUND(G16*$D15,2) -> 71098.67 | H15: =ROUND(H16*$D15,2) -> 142197.34 | I15: =ROUND(I16*$D15,2) -> 142197.34 | J15: =ROUND(J16*$D15,2) -> 0 | K15: =ROUND(K16*$D15,2) -> 0 | L15: =ROUND(L16*$D15,2) -> 0 | M15: =ROUND(M16*$D15,2) -> 0 | N15: =ROUND(N16*$D15,2) -> 0 | ... AD15: =ROUND(AD16*$D15,2) -> 0
E16: Físico (%) | F16: =SUM(G16:AD16) -> 1 | G16: 0.2 | H16: 0.4 | I16: 0.4
B17: ='[1]RESUMO (AUTO)'!C14 -> 4 | C17: ='[1]RESUMO (AUTO)'!D14 -> SUPERESTRUTURA | D17: ='[1]RESUMO (AUTO)'!F14 -> 636137.87 | E17: Financeiro | F17: =SUM(G17:AD17) -> 636137.87 | G17: =ROUND(G18*$D17,2) -> 0 | H17: =ROUND(H18*$D17,2) -> 63613.79 | I17: =ROUND(I18*$D17,2) -> 190841.36 | J17: =ROUND(J18*$D17,2) -> 190841.36 | K17: =ROUND(K18*$D17,2) -> 190841.36 | L17: =ROUND(L18*$D17,2) -> 0 | M17: =ROUND(M18*$D17,2) -> 0 | N17: =ROUND(N18*$D17,2) -> 0 | ... AD17: =ROUND(AD18*$D17,2) -> 0
E18: Físico (%) | F18: =SUM(G18:AD18) -> 1 | H18: 0.1 | I18: 0.3 | J18: 0.3 | K18: 0.3
B19: ='[1]RESUMO (AUTO)'!C15 -> 5 | C19: ='[1]RESUMO (AUTO)'!D15 -> SISTEMA DE VEDAÇÃO VERTICAL | D19: ='[1]RESUMO (AUTO)'!F15 -> 212393.73 | E19: Financeiro | F19: =SUM(G19:AD19) -> 212393.74 | G19: =ROUND(G20*$D19,2) -> 0 | H19: =ROUND(H20*$D19,2) -> 0 | I19: =ROUND(I20*$D19,2) -> 0 | J19: =ROUND(J20*$D19,2) -> 0 | K19: =ROUND(K20*$D19,2) -> 84957.49 | L19: =ROUND(L20*$D19,2) -> 42478.75 | M19: =ROUND(M20*$D19,2) -> 42478.75 | N19: =ROUND(N20*$D19,2) -> 42478.75 | ... AD19: =ROUND(AD20*$D19,2) -> 0
E20: Físico (%) | F20: =SUM(G20:AD20) -> 1 | K20: 0.4 | L20: 0.2 | M20: 0.2 | N20: 0.2
B21: ='[1]RESUMO (AUTO)'!C16 -> 6 | C21: ='[1]RESUMO (AUTO)'!D16 -> ESQUADRIAS | D21: ='[1]RESUMO (AUTO)'!F16 -> 547259.69 | E21: Financeiro | F21: =SUM(G21:AD21) -> 547259.7 | G21: =ROUND(G22*$D21,2) -> 0 | H21: =ROUND(H22*$D21,2) -> 0 | I21: =ROUND(I22*$D21,2) -> 0 | J21: =ROUND(J22*$D21,2) -> 0 | K21: =ROUND(K22*$D21,2) -> 0 | L21: =ROUND(L22*$D21,2) -> 0 | M21: =ROUND(M22*$D21,2) -> 218903.88 | N21: =ROUND(N22*$D21,2) -> 218903.88 | ... AD21: =ROUND(AD22*$D21,2) -> 0
E22: Físico (%) | F22: =SUM(G22:AD22) -> 1 | M22: 0.4 | N22: 0.4 | O22: 0.2
B23: ='[1]RESUMO (AUTO)'!C17 -> 7 | C23: ='[1]RESUMO (AUTO)'!D17 -> SISTEMAS DE COBERTURA | D23: ='[1]RESUMO (AUTO)'!F17 -> 397791.9 | E23: Financeiro | F23: =SUM(G23:AD23) -> 397791.9 | G23: =ROUND(G24*$D23,2) -> 0 | H23: =ROUND(H24*$D23,2) -> 0 | I23: =ROUND(I24*$D23,2) -> 0 | J23: =ROUND(J24*$D23,2) -> 0 | K23: =ROUND(K24*$D23,2) -> 79558.38 | L23: =ROUND(L24*$D23,2) -> 119337.57 | M23: =ROUND(M24*$D23,2) -> 119337.57 | N23: =ROUND(N24*$D23,2) -> 79558.38 | ... AD23: =ROUND(AD24*$D23,2) -> 0
E24: Físico (%) | F24: =SUM(G24:AD24) -> 1 | K24: 0.2 | L24: 0.3 | M24: 0.3 | N24: 0.2
B25: ='[1]RESUMO (AUTO)'!C18 -> 8 | C25: ='[1]RESUMO (AUTO)'!D18 -> IMPERMEABILIZAÇÃO | D25: ='[1]RESUMO (AUTO)'!F18 -> 52961.52 | E25: Financeiro | F25: =SUM(G25:AD25) -> 52961.51 | G25: =ROUND(G26*$D25,2) -> 0 | H25: =ROUND(H26*$D25,2) -> 0 | I25: =ROUND(I26*$D25,2) -> 0 | J25: =ROUND(J26*$D25,2) -> 0 | K25: =ROUND(K26*$D25,2) -> 10592.3 | L25: =ROUND(L26*$D25,2) -> 10592.3 | M25: =ROUND(M26*$D25,2) -> 10592.3 | N25: =ROUND(N26*$D25,2) -> 21184.61 | ... AD25: =ROUND(AD26*$D25,2) -> 0
E26: Físico (%) | F26: =SUM(G26:AD26) -> 1 | K26: 0.2 | L26: 0.2 | M26: 0.2 | N26: 0.4
B27: ='[1]RESUMO (AUTO)'!C19 -> 9 | C27: ='[1]RESUMO (AUTO)'!D19 -> REVESTIMENTOS INTERNO E EXTERNO | D27: ='[1]RESUMO (AUTO)'!F19 -> 527175.01 | E27: Financeiro | F27: =SUM(G27:AD27) -> 527175 | G27: =ROUND(G28*$D27,2) -> 0 | H27: =ROUND(H28*$D27,2) -> 0 | I27: =ROUND(I28*$D27,2) -> 0 | J27: =ROUND(J28*$D27,2) -> 0 | K27: =ROUND(K28*$D27,2) -> 158152.5 | L27: =ROUND(L28*$D27,2) -> 131793.75 | M27: =ROUND(M28*$D27,2) -> 105435 | N27: =ROUND(N28*$D27,2) -> 131793.75 | ... AD27: =ROUND(AD28*$D27,2) -> 0
E28: Físico (%) | F28: =SUM(G28:AD28) -> 1 | K28: 0.3 | L28: 0.25 | M28: 0.2 | N28: 0.25
B29: ='[1]RESUMO (AUTO)'!C20 -> 10 | C29: ='[1]RESUMO (AUTO)'!D20 -> SISTEMAS DE PISOS | D29: ='[1]RESUMO (AUTO)'!F20 -> 305272.78 | E29: Financeiro | F29: =SUM(G29:AD29) -> 305272.77 | G29: =ROUND(G30*$D29,2) -> 0 | H29: =ROUND(H30*$D29,2) -> 0 | I29: =ROUND(I30*$D29,2) -> 0 | J29: =ROUND(J30*$D29,2) -> 91581.83 | K29: =ROUND(K30*$D29,2) -> 122109.11 | L29: =ROUND(L30*$D29,2) -> 91581.83 | M29: =ROUND(M30*$D29,2) -> 0 | N29: =ROUND(N30*$D29,2) -> 0 | ... AD29: =ROUND(AD30*$D29,2) -> 0
E30: Físico (%) | F30: =SUM(G30:AD30) -> 1 | J30: 0.3 | K30: 0.4 | L30: 0.3
B31: ='[1]RESUMO (AUTO)'!C21 -> 11 | C31: ='[1]RESUMO (AUTO)'!D21 -> PINTURAS E ACABAMENTOS | D31: ='[1]RESUMO (AUTO)'!F21 -> 241253.36 | E31: Financeiro | F31: =SUM(G31:AD31) -> 241253.36 | G31: =ROUND(G32*$D31,2) -> 0 | H31: =ROUND(H32*$D31,2) -> 0 | I31: =ROUND(I32*$D31,2) -> 0 | J31: =ROUND(J32*$D31,2) -> 0 | K31: =ROUND(K32*$D31,2) -> 0 | L31: =ROUND(L32*$D31,2) -> 0 | M31: =ROUND(M32*$D31,2) -> 48250.67 | N31: =ROUND(N32*$D31,2) -> 72376.01 | ... AD31: =ROUND(AD32*$D31,2) -> 0
E32: Físico (%) | F32: =SUM(G32:AD32) -> 1 | M32: 0.2 | N32: 0.3 | O32: 0.4 | P32: 0.1
B33: ='[1]RESUMO (AUTO)'!C22 -> 12 | C33: ='[1]RESUMO (AUTO)'!D22 -> INSTALAÇÃO HIDRÁULICA | D33: ='[1]RESUMO (AUTO)'!F22 -> 127780.39 | E33: Financeiro | F33: =SUM(G33:AD33) -> 127780.4 | G33: =ROUND(G34*$D33,2) -> 0 | H33: =ROUND(H34*$D33,2) -> 0 | I33: =ROUND(I34*$D33,2) -> 0 | J33: =ROUND(J34*$D33,2) -> 38334.12 | K33: =ROUND(K34*$D33,2) -> 51112.16 | L33: =ROUND(L34*$D33,2) -> 25556.08 | M33: =ROUND(M34*$D33,2) -> 12778.04 | N33: =ROUND(N34*$D33,2) -> 0 | ... AD33: =ROUND(AD34*$D33,2) -> 0
E34: Físico (%) | F34: =SUM(G34:AD34) -> 1 | J34: 0.3 | K34: 0.4 | L34: 0.2 | M34: 0.1
B35: ='[1]RESUMO (AUTO)'!C23 -> 13 | C35: ='[1]RESUMO (AUTO)'!D23 -> DRENAGEM DE ÁGUAS PLUVIAIS | D35: ='[1]RESUMO (AUTO)'!F23 -> 42430.26 | E35: Financeiro | F35: =SUM(G35:AD35) -> 42430.26 | G35: =ROUND(G36*$D35,2) -> 0 | H35: =ROUND(H36*$D35,2) -> 0 | I35: =ROUND(I36*$D35,2) -> 0 | J35: =ROUND(J36*$D35,2) -> 0 | K35: =ROUND(K36*$D35,2) -> 21215.13 | L35: =ROUND(L36*$D35,2) -> 21215.13 | M35: =ROUND(M36*$D35,2) -> 0 | N35: =ROUND(N36*$D35,2) -> 0 | ... AD35: =ROUND(AD36*$D35,2) -> 0
E36: Físico (%) | F36: =SUM(G36:AD36) -> 1 | K36: 0.5 | L36: 0.5
B37: ='[1]RESUMO (AUTO)'!C24 -> 14 | C37: ='[1]RESUMO (AUTO)'!D24 -> INSTALAÇÃO SANITÁRIA | D37: ='[1]RESUMO (AUTO)'!F24 -> 111117.04 | E37: Financeiro | F37: =SUM(G37:AD37) -> 111117.04 | G37: =ROUND(G38*$D37,2) -> 0 | H37: =ROUND(H38*$D37,2) -> 0 | I37: =ROUND(I38*$D37,2) -> 22223.41 | J37: =ROUND(J38*$D37,2) -> 22223.41 | K37: =ROUND(K38*$D37,2) -> 33335.11 | L37: =ROUND(L38*$D37,2) -> 33335.11 | M37: =ROUND(M38*$D37,2) -> 0 | N37: =ROUND(N38*$D37,2) -> 0 | ... AD37: =ROUND(AD38*$D37,2) -> 0
E38: Físico (%) | F38: =SUM(G38:AD38) -> 1 | I38: 0.2 | J38: 0.2 | K38: 0.3 | L38: 0.3
B39: ='[1]RESUMO (AUTO)'!C25 -> 15 | C39: ='[1]RESUMO (AUTO)'!D25 -> LOUÇAS, ACESSÓRIOS E METAIS | D39: ='[1]RESUMO (AUTO)'!F25 -> 120141.6 | E39: Financeiro | F39: =SUM(G39:AD39) -> 120141.6 | G39: =ROUND(G40*$D39,2) -> 0 | H39: =ROUND(H40*$D39,2) -> 0 | I39: =ROUND(I40*$D39,2) -> 0 | J39: =ROUND(J40*$D39,2) -> 0 | K39: =ROUND(K40*$D39,2) -> 0 | L39: =ROUND(L40*$D39,2) -> 0 | M39: =ROUND(M40*$D39,2) -> 0 | N39: =ROUND(N40*$D39,2) -> 36042.48 | ... AD39: =ROUND(AD40*$D39,2) -> 0
E40: Físico (%) | F40: =SUM(G40:AD40) -> 1 | N40: 0.3 | O40: 0.4 | P40: 0.3
B41: ='[1]RESUMO (AUTO)'!C26 -> 16 | C41: ='[1]RESUMO (AUTO)'!D26 -> INSTALAÇÃO DE GÁS COMBUSTÍVEL | D41: ='[1]RESUMO (AUTO)'!F26 -> 5648.64 | E41: Financeiro | F41: =SUM(G41:AD41) -> 5648.64 | G41: =ROUND(G42*$D41,2) -> 0 | H41: =ROUND(H42*$D41,2) -> 0 | I41: =ROUND(I42*$D41,2) -> 0 | J41: =ROUND(J42*$D41,2) -> 0 | K41: =ROUND(K42*$D41,2) -> 0 | L41: =ROUND(L42*$D41,2) -> 0 | M41: =ROUND(M42*$D41,2) -> 0 | N41: =ROUND(N42*$D41,2) -> 0 | ... AD41: =ROUND(AD42*$D41,2) -> 0
E42: Físico (%) | F42: =SUM(G42:AD42) -> 1 | O42: 1
B43: ='[1]RESUMO (AUTO)'!C27 -> 17 | C43: ='[1]RESUMO (AUTO)'!D27 -> SISTEMA DE PROTEÇÃO CONTRA INCÊNDIO | D43: ='[1]RESUMO (AUTO)'!F27 -> 50466.59 | E43: Financeiro | F43: =SUM(G43:AD43) -> 50466.59 | G43: =ROUND(G44*$D43,2) -> 0 | H43: =ROUND(H44*$D43,2) -> 0 | I43: =ROUND(I44*$D43,2) -> 0 | J43: =ROUND(J44*$D43,2) -> 0 | K43: =ROUND(K44*$D43,2) -> 0 | L43: =ROUND(L44*$D43,2) -> 0 | M43: =ROUND(M44*$D43,2) -> 0 | N43: =ROUND(N44*$D43,2) -> 0 | ... AD43: =ROUND(AD44*$D43,2) -> 0
E44: Físico (%) | F44: =SUM(G44:AD44) -> 1 | O44: 1
B45: ='[1]RESUMO (AUTO)'!C28 -> 18 | C45: ='[1]RESUMO (AUTO)'!D28 -> INSTALAÇÃO ELÉTRICA - 110V | D45: ='[1]RESUMO (AUTO)'!F28 -> 437667.35 | E45: Financeiro | F45: =SUM(G45:AD45) -> 437667.37 | G45: =ROUND(G46*$D45,2) -> 0 | H45: =ROUND(H46*$D45,2) -> 0 | I45: =ROUND(I46*$D45,2) -> 43766.74 | J45: =ROUND(J46*$D45,2) -> 109416.84 | K45: =ROUND(K46*$D45,2) -> 109416.84 | L45: =ROUND(L46*$D45,2) -> 131300.21 | M45: =ROUND(M46*$D45,2) -> 43766.74 | N45: =ROUND(N46*$D45,2) -> 0 | ... AD45: =ROUND(AD46*$D45,2) -> 0
E46: Físico (%) | F46: =SUM(G46:AD46) -> 1 | I46: 0.1 | J46: 0.25 | K46: 0.25 | L46: 0.3 | M46: 0.1
B47: ='[1]RESUMO (AUTO)'!C29 -> 19 | C47: ='[1]RESUMO (AUTO)'!D29 -> INSTALAÇÕES DE CLIMATIZAÇÃO | D47: ='[1]RESUMO (AUTO)'!F29 -> 28934.89 | E47: Financeiro | F47: =SUM(G47:AD47) -> 28934.9 | G47: =ROUND(G48*$D47,2) -> 0 | H47: =ROUND(H48*$D47,2) -> 0 | I47: =ROUND(I48*$D47,2) -> 0 | J47: =ROUND(J48*$D47,2) -> 0 | K47: =ROUND(K48*$D47,2) -> 0 | L47: =ROUND(L48*$D47,2) -> 0 | M47: =ROUND(M48*$D47,2) -> 0 | N47: =ROUND(N48*$D47,2) -> 11573.96 | ... AD47: =ROUND(AD48*$D47,2) -> 0
E48: Físico (%) | F48: =SUM(G48:AD48) -> 1 | N48: 0.4 | O48: 0.4 | P48: 0.2
B49: ='[1]RESUMO (AUTO)'!C30 -> 20 | C49: ='[1]RESUMO (AUTO)'!D30 -> INSTALAÇÕES DE CABEAMENTO ESTRUTURADO | D49: ='[1]RESUMO (AUTO)'!F30 -> 53391.35 | E49: Financeiro | F49: =SUM(G49:AD49) -> 53391.35 | G49: =ROUND(G50*$D49,2) -> 0 | H49: =ROUND(H50*$D49,2) -> 0 | I49: =ROUND(I50*$D49,2) -> 0 | J49: =ROUND(J50*$D49,2) -> 0 | K49: =ROUND(K50*$D49,2) -> 10678.27 | L49: =ROUND(L50*$D49,2) -> 21356.54 | M49: =ROUND(M50*$D49,2) -> 21356.54 | N49: =ROUND(N50*$D49,2) -> 0 | ... AD49: =ROUND(AD50*$D49,2) -> 0
E50: Físico (%) | F50: =SUM(G50:AD50) -> 1 | K50: 0.2 | L50: 0.4 | M50: 0.4
B51: ='[1]RESUMO (AUTO)'!C31 -> 21 | C51: ='[1]RESUMO (AUTO)'!D31 -> SISTEMA DE EXAUSTÃO MECÂNICA | D51: ='[1]RESUMO (AUTO)'!F31 -> 14093.35 | E51: Financeiro | F51: =SUM(G51:AD51) -> 14093.36 | G51: =ROUND(G52*$D51,2) -> 0 | H51: =ROUND(H52*$D51,2) -> 0 | I51: =ROUND(I52*$D51,2) -> 0 | J51: =ROUND(J52*$D51,2) -> 0 | K51: =ROUND(K52*$D51,2) -> 7046.68 | L51: =ROUND(L52*$D51,2) -> 5637.34 | M51: =ROUND(M52*$D51,2) -> 1409.34 | N51: =ROUND(N52*$D51,2) -> 0 | ... AD51: =ROUND(AD52*$D51,2) -> 0
E52: Físico (%) | F52: =SUM(G52:AD52) -> 1 | K52: 0.5 | L52: 0.4 | M52: 0.1
B53: ='[1]RESUMO (AUTO)'!C32 -> 22 | C53: ='[1]RESUMO (AUTO)'!D32 -> SISTEMA DE PROTEÇÃO CONTRA DESCARGAS ATMOSFÉRICAS (SPDA) | D53: ='[1]RESUMO (AUTO)'!F32 -> 93828.56 | E53: Financeiro | F53: =SUM(G53:AD53) -> 93828.56 | G53: =ROUND(G54*$D53,2) -> 0 | H53: =ROUND(H54*$D53,2) -> 0 | I53: =ROUND(I54*$D53,2) -> 0 | J53: =ROUND(J54*$D53,2) -> 0 | K53: =ROUND(K54*$D53,2) -> 0 | L53: =ROUND(L54*$D53,2) -> 9382.86 | M53: =ROUND(M54*$D53,2) -> 37531.42 | N53: =ROUND(N54*$D53,2) -> 37531.42 | ... AD53: =ROUND(AD54*$D53,2) -> 0
E54: Físico (%) | F54: =SUM(G54:AD54) -> 1 | L54: 0.1 | M54: 0.4 | N54: 0.4 | O54: 0.1
B55: ='[1]RESUMO (AUTO)'!C33 -> 23 | C55: ='[1]RESUMO (AUTO)'!D33 -> SERVIÇOS COMPLEMENTARES | D55: ='[1]RESUMO (AUTO)'!F33 -> 140757.61 | E55: Financeiro | F55: =SUM(G55:AD55) -> 140757.62 | G55: =ROUND(G56*$D55,2) -> 0 | H55: =ROUND(H56*$D55,2) -> 0 | I55: =ROUND(I56*$D55,2) -> 0 | J55: =ROUND(J56*$D55,2) -> 0 | K55: =ROUND(K56*$D55,2) -> 0 | L55: =ROUND(L56*$D55,2) -> 0 | M55: =ROUND(M56*$D55,2) -> 0 | N55: =ROUND(N56*$D55,2) -> 0 | ... AD55: =ROUND(AD56*$D55,2) -> 0
E56: Físico (%) | F56: =SUM(G56:AD56) -> 1 | O56: 0.5 | P56: 0.5
B57: ='[1]RESUMO (AUTO)'!C34 -> 24 | C57: ='[1]RESUMO (AUTO)'!D34 -> SERVIÇOS FINAIS | D57: ='[1]RESUMO (AUTO)'!F34 -> 9464.28 | E57: Financeiro | F57: =SUM(G57:AD57) -> 9464.28 | G57: =ROUND(G58*$D57,2) -> 0 | H57: =ROUND(H58*$D57,2) -> 0 | I57: =ROUND(I58*$D57,2) -> 0 | J57: =ROUND(J58*$D57,2) -> 0 | K57: =ROUND(K58*$D57,2) -> 0 | L57: =ROUND(L58*$D57,2) -> 0 | M57: =ROUND(M58*$D57,2) -> 0 | N57: =ROUND(N58*$D57,2) -> 0 | ... AD57: =ROUND(AD58*$D57,2) -> 0
E58: Físico (%) | F58: =SUM(G58:AD58) -> 1 | P58: 1
B59: ='[1]RESUMO (AUTO)'!C35 | C59: ='[1]RESUMO (AUTO)'!D35 | D59: ='[1]RESUMO (AUTO)'!F35 -> 0 | E59: Financeiro | F59: =SUM(G59:AD59) -> 0 | G59: =ROUND(G60*$D59,2) -> 0 | H59: =ROUND(H60*$D59,2) -> 0 | I59: =ROUND(I60*$D59,2) -> 0 | J59: =ROUND(J60*$D59,2) -> 0 | K59: =ROUND(K60*$D59,2) -> 0 | L59: =ROUND(L60*$D59,2) -> 0 | M59: =ROUND(M60*$D59,2) -> 0 | N59: =ROUND(N60*$D59,2) -> 0 | ... AD59: =ROUND(AD60*$D59,2) -> 0
E60: Físico (%) | F60: =SUM(G60:AD60) -> 0
B61: ='[1]RESUMO (AUTO)'!C36 | C61: ='[1]RESUMO (AUTO)'!D36 | D61: ='[1]RESUMO (AUTO)'!F36 -> 0 | E61: Financeiro | F61: =SUM(G61:AD61) -> 0 | G61: =ROUND(G62*$D61,2) -> 0 | H61: =ROUND(H62*$D61,2) -> 0 | I61: =ROUND(I62*$D61,2) -> 0 | J61: =ROUND(J62*$D61,2) -> 0 | K61: =ROUND(K62*$D61,2) -> 0 | L61: =ROUND(L62*$D61,2) -> 0 | M61: =ROUND(M62*$D61,2) -> 0 | N61: =ROUND(N62*$D61,2) -> 0 | ... AD61: =ROUND(AD62*$D61,2) -> 0
E62: Físico (%) | F62: =SUM(G62:AD62) -> 0
B63: ='[1]RESUMO (AUTO)'!C37 | C63: ='[1]RESUMO (AUTO)'!D37 | D63: ='[1]RESUMO (AUTO)'!F37 -> 0 | E63: Financeiro | F63: =SUM(G63:AD63) -> 0 | G63: =ROUND(G64*$D63,2) -> 0 | H63: =ROUND(H64*$D63,2) -> 0 | I63: =ROUND(I64*$D63,2) -> 0 | J63: =ROUND(J64*$D63,2) -> 0 | K63: =ROUND(K64*$D63,2) -> 0 | L63: =ROUND(L64*$D63,2) -> 0 | M63: =ROUND(M64*$D63,2) -> 0 | N63: =ROUND(N64*$D63,2) -> 0 | ... AD63: =ROUND(AD64*$D63,2) -> 0
E64: Físico (%) | F64: =SUM(G64:AD64) -> 0
B65: ='[1]RESUMO (AUTO)'!C38 | C65: ='[1]RESUMO (AUTO)'!D38 | D65: ='[1]RESUMO (AUTO)'!F38 -> 0 | E65: Financeiro | F65: =SUM(G65:AD65) -> 0 | G65: =ROUND(G66*$D65,2) -> 0 | H65: =ROUND(H66*$D65,2) -> 0 | I65: =ROUND(I66*$D65,2) -> 0 | J65: =ROUND(J66*$D65,2) -> 0 | K65: =ROUND(K66*$D65,2) -> 0 | L65: =ROUND(L66*$D65,2) -> 0 | M65: =ROUND(M66*$D65,2) -> 0 | N65: =ROUND(N66*$D65,2) -> 0 | ... AD65: =ROUND(AD66*$D65,2) -> 0
E66: Físico (%) | F66: =SUM(G66:AD66) -> 0
B67: ='[1]RESUMO (AUTO)'!C39 | C67: ='[1]RESUMO (AUTO)'!D39 | D67: ='[1]RESUMO (AUTO)'!F39 -> 0 | E67: Financeiro | F67: =SUM(G67:AD67) -> 0 | G67: =ROUND(G68*$D67,2) -> 0 | H67: =ROUND(H68*$D67,2) -> 0 | I67: =ROUND(I68*$D67,2) -> 0 | J67: =ROUND(J68*$D67,2) -> 0 | K67: =ROUND(K68*$D67,2) -> 0 | L67: =ROUND(L68*$D67,2) -> 0 | M67: =ROUND(M68*$D67,2) -> 0 | N67: =ROUND(N68*$D67,2) -> 0 | ... AD67: =ROUND(AD68*$D67,2) -> 0
E68: Físico (%) | F68: =SUM(G68:AD68) -> 0
B69: ='[1]RESUMO (AUTO)'!C40 | C69: ='[1]RESUMO (AUTO)'!D40 | D69: ='[1]RESUMO (AUTO)'!F40 -> 0 | E69: Financeiro | F69: =SUM(G69:AD69) -> 0 | G69: =ROUND(G70*$D69,2) -> 0 | H69: =ROUND(H70*$D69,2) -> 0 | I69: =ROUND(I70*$D69,2) -> 0 | J69: =ROUND(J70*$D69,2) -> 0 | K69: =ROUND(K70*$D69,2) -> 0 | L69: =ROUND(L70*$D69,2) -> 0 | M69: =ROUND(M70*$D69,2) -> 0 | N69: =ROUND(N70*$D69,2) -> 0 | ... AD69: =ROUND(AD70*$D69,2) -> 0
E70: Físico (%) | F70: =SUM(G70:AD70) -> 0
B71: ='[1]RESUMO (AUTO)'!C41 | C71: ='[1]RESUMO (AUTO)'!D41 | D71: ='[1]RESUMO (AUTO)'!F41 -> 0 | E71: Financeiro | F71: =SUM(G71:AD71) -> 0 | G71: =ROUND(G72*$D71,2) -> 0 | H71: =ROUND(H72*$D71,2) -> 0 | I71: =ROUND(I72*$D71,2) -> 0 | J71: =ROUND(J72*$D71,2) -> 0 | K71: =ROUND(K72*$D71,2) -> 0 | L71: =ROUND(L72*$D71,2) -> 0 | M71: =ROUND(M72*$D71,2) -> 0 | N71: =ROUND(N72*$D71,2) -> 0 | ... AD71: =ROUND(AD72*$D71,2) -> 0
E72: Físico (%) | F72: =SUM(G72:AD72) -> 0
B73: ='[1]RESUMO (AUTO)'!C42 | C73: ='[1]RESUMO (AUTO)'!D42 | D73: ='[1]RESUMO (AUTO)'!F42 -> 0 | E73: Financeiro | F73: =SUM(G73:AD73) -> 0 | G73: =ROUND(G74*$D73,2) -> 0 | H73: =ROUND(H74*$D73,2) -> 0 | I73: =ROUND(I74*$D73,2) -> 0 | J73: =ROUND(J74*$D73,2) -> 0 | K73: =ROUND(K74*$D73,2) -> 0 | L73: =ROUND(L74*$D73,2) -> 0 | M73: =ROUND(M74*$D73,2) -> 0 | N73: =ROUND(N74*$D73,2) -> 0 | ... AD73: =ROUND(AD74*$D73,2) -> 0
E74: Físico (%) | F74: =SUM(G74:AD74) -> 0
B75: ='[1]RESUMO (AUTO)'!C43 | C75: ='[1]RESUMO (AUTO)'!D43 | D75: ='[1]RESUMO (AUTO)'!F43 -> 0 | E75: Financeiro | F75: =SUM(G75:AD75) -> 0 | G75: =ROUND(G76*$D75,2) -> 0 | H75: =ROUND(H76*$D75,2) -> 0 | I75: =ROUND(I76*$D75,2) -> 0 | J75: =ROUND(J76*$D75,2) -> 0 | K75: =ROUND(K76*$D75,2) -> 0 | L75: =ROUND(L76*$D75,2) -> 0 | M75: =ROUND(M76*$D75,2) -> 0 | N75: =ROUND(N76*$D75,2) -> 0 | ... AD75: =ROUND(AD76*$D75,2) -> 0
E76: Físico (%) | F76: =SUM(G76:AD76) -> 0
B77: ='[1]RESUMO (AUTO)'!C44 | C77: ='[1]RESUMO (AUTO)'!D44 | D77: ='[1]RESUMO (AUTO)'!F44 -> 0 | E77: Financeiro | F77: =SUM(G77:AD77) -> 0 | G77: =ROUND(G78*$D77,2) -> 0 | H77: =ROUND(H78*$D77,2) -> 0 | I77: =ROUND(I78*$D77,2) -> 0 | J77: =ROUND(J78*$D77,2) -> 0 | K77: =ROUND(K78*$D77,2) -> 0 | L77: =ROUND(L78*$D77,2) -> 0 | M77: =ROUND(M78*$D77,2) -> 0 | N77: =ROUND(N78*$D77,2) -> 0 | ... AD77: =ROUND(AD78*$D77,2) -> 0
E78: Físico (%) | F78: =SUM(G78:AD78) -> 0
B79: ='[1]RESUMO (AUTO)'!C45 | C79: ='[1]RESUMO (AUTO)'!D45 | D79: ='[1]RESUMO (AUTO)'!F45 -> 0 | E79: Financeiro | F79: =SUM(G79:AD79) -> 0 | G79: =ROUND(G80*$D79,2) -> 0 | H79: =ROUND(H80*$D79,2) -> 0 | I79: =ROUND(I80*$D79,2) -> 0 | J79: =ROUND(J80*$D79,2) -> 0 | K79: =ROUND(K80*$D79,2) -> 0 | L79: =ROUND(L80*$D79,2) -> 0 | M79: =ROUND(M80*$D79,2) -> 0 | N79: =ROUND(N80*$D79,2) -> 0 | ... AD79: =ROUND(AD80*$D79,2) -> 0
E80: Físico (%) | F80: =SUM(G80:AD80) -> 0
B81: ='[1]RESUMO (AUTO)'!C46 | C81: ='[1]RESUMO (AUTO)'!D46 | D81: ='[1]RESUMO (AUTO)'!F46 -> 0 | E81: Financeiro | F81: =SUM(G81:AD81) -> 0 | G81: =ROUND(G82*$D81,2) -> 0 | H81: =ROUND(H82*$D81,2) -> 0 | I81: =ROUND(I82*$D81,2) -> 0 | J81: =ROUND(J82*$D81,2) -> 0 | K81: =ROUND(K82*$D81,2) -> 0 | L81: =ROUND(L82*$D81,2) -> 0 | M81: =ROUND(M82*$D81,2) -> 0 | N81: =ROUND(N82*$D81,2) -> 0 | ... AD81: =ROUND(AD82*$D81,2) -> 0
E82: Físico (%) | F82: =SUM(G82:AD82) -> 0
C83: TOTAL | D83: =D11+D13+D15+D17+D19+D21+D23+D25+D27+D29+D31+D33+D35+D37+D39+D41+D43+D45+D47+D49+D51+D53+D55+D57+D59+D61+D63+D65+D67+D69+D71+D73+D75+D77+D79+D81 -> 5337124.2 | F83: =F11+F13+F15+F17+F19+F21+F23+F25+F27+F29+F31+F33+F35+F37+F39+F41+F43+F45+F47+F49+F51+F53+F55+F57+F59+F61+F63+F65+F67+F69+F71+F73+F75+F77+F79+F81 -> 5337124.2 | G83: =G11+G13+G15+G17+G19+G21+G23+G25+G27+G29+G31+G33+G35+G37+G39+G41+G43+G45+G47+G49+G51+G53+G55+G57+G59+G61+G63+G65+G67+G69+G71+G73+G75+G77+G79+G81 -> 259654.42 | H83: =H11+H13+H15+H17+H19+H21+H23+H25+H27+H29+H31+H33+H35+H37+H39+H41+H43+H45+H47+H49+H51+H53+H55+H57+H59+H61+H63+H65+H67+H69+H71+H73+H75+H77+H79+H81 -> 276600.83 | I83: =I11+I13+I15+I17+I19+I21+I23+I25+I27+I29+I31+I33+I35+I37+I39+I41+I43+I45+I47+I49+I51+I53+I55+I57+I59+I61+I63+I65+I67+I69+I71+I73+I75+I77+I79+I81 -> 469818.55 | J83: =J11+J13+J15+J17+J19+J21+J23+J25+J27+J29+J31+J33+J35+J37+J39+J41+J43+J45+J47+J49+J51+J53+J55+J57+J59+J61+J63+J65+J67+J69+J71+J73+J75+J77+J79+J81 -> 523187.26 | K83: =K11+K13+K15+K17+K19+K21+K23+K25+K27+K29+K31+K33+K35+K37+K39+K41+K43+K45+K47+K49+K51+K53+K55+K57+K59+K61+K63+K65+K67+K69+K71+K73+K75+K77+K79+K81 -> 949805.03 | L83: =L11+L13+L15+L17+L19+L21+L23+L25+L27+L29+L31+L33+L35+L37+L39+L41+L43+L45+L47+L49+L51+L53+L55+L57+L59+L61+L63+L65+L67+L69+L71+L73+L75+L77+L79+L81 -> 714357.17 | M83: =M11+M13+M15+M17+M19+M21+M23+M25+M27+M29+M31+M33+M35+M37+M39+M41+M43+M45+M47+M49+M51+M53+M55+M57+M59+M61+M63+M65+M67+M69+M71+M73+M75+M77+M79+M81 -> 732629.95 | ... AD83: =AD11+AD13+AD15+AD17+AD19+AD21+AD23+AD25+AD27+AD29+AD31+AD33+AD35+AD37+AD39+AD41+AD43+AD45+AD47+AD49+AD51+AD53+AD55+AD57+AD59+AD61+AD63+AD65+AD67+AD69+AD71+AD73+AD75+AD77+AD79+AD81 -> 0
C84: % TOTAL | F84: =IFERROR(ROUND(F83/$D$83,2),"") -> 1 | G84: =G83/$D$83 -> 0.048650623 | H84: =H83/$D$83 -> 0.051825818 | I84: =I83/$D$83 -> 0.088028409 | J84: =J83/$D$83 -> 0.098027934 | K84: =K83/$D$83 -> 0.17796195 | L84: =L83/$D$83 -> 0.13384683 | M84: =M83/$D$83 -> 0.13727055 | N84: =N83/$D$83 -> 0.13532249 | ... AD84: =AD83/$D$83 -> 0
C85: TOTAL ACUMULADO | D85: =D83 -> 5337124.2 | F85: =F83 -> 5337124.2 | G85: =G83 -> 259654.42 | H85: =G85+H83 -> 536255.25 | I85: =H85+I83 -> 1006073.8 | J85: =I85+J83 -> 1529261.1 | K85: =J85+K83 -> 2479066.1 | L85: =K85+L83 -> 3193423.3 | M85: =L85+M83 -> 3926053.2 | N85: =M85+N83 -> 4648286.2 | O85: =N85+O83 -> 5120536.6 | ... AD85: =AC85+AD83 -> 5337124.2
C86: % ACUMULADO | F86: =F84 -> 1 | G86: =G84 -> 0.048650623 | H86: =G86+H84 -> 0.10047644 | I86: =H86+I84 -> 0.18850485 | J86: =I86+J84 -> 0.28653278 | K86: =J86+K84 -> 0.46449473 | L86: =K86+L84 -> 0.59834157 | M86: =L86+M84 -> 0.73561211 | N86: =M86+N84 -> 0.8709346 | O86: =N86+O84 -> 0.95941868 | ... AD86: =AC86+AD84 -> 1
B88: =[1]INFORMAÇÕES!C10 -> PABLO HENRY FERNANDES AGUILAR
B89: =[1]INFORMAÇÕES!C11 -> ENGENHEIRO CIVIL
B90: =[1]INFORMAÇÕES!C12 -> 256880/D MG
B91: SECRETARIA MUNICIPAL DE OBRAS E URBANISMO
B92: PREFEITURA MUNICIPAL DE IBIRITÉ
