Workbook

Sheet ORÇAMENTO
B1: ANEXO 1 – PLANILHA ORÇAMENTÁRIA: PLANO INTEGRADO DE URBANIZAÇÃO E REGULARIZAÇÃO FUNDIÁRIA FUNCIONÁRIOS
A2: FASE | B2: PRODUTO | C2: QUANTIDADE | D2: UNIDADE | E2: CUSTO UNITÁRIO | F2: CUSTO TOTAL | G2: MÊS DE DESEMBOLSO | H2: PERCENTUAL DO CONTRATO
A3: ETAPA 01 – PLANEJAMENTO DA URBANIZAÇÃO E REGULARIZAÇÃO FUNDIÁRIA
A4: LEVANTAMENTO SITUACIONAL E PESQUISA DOMINIAL | B4: Relatório de Levantamento Situacional | C4: 1 | D4: unidade | E4: =F4 -> 43064.84 | F4: ='MEMÓRIA DE CÁLCULO'!P4 -> 43064.84 | G4: 1 | H4: =F4/$F$32 -> 0.0123636
B5: Plano de Mobilização, Organização e Capacitação Social | C5: 1 | D5: unidade | E5: =F5 -> 19793.09 | F5: ='MEMÓRIA DE CÁLCULO'!P13 -> 19793.09 | G5: 1 | H5: =F5/$F$32 -> 0.0056824509
B6: Relatório de Pesquisa Dominial e Cartorária | C6: 1 | D6: unidade | E6: =F6 -> 61278.03 | F6: ='MEMÓRIA DE CÁLCULO'!P16 -> 61278.03 | G6: 2 | H6: =F6/$F$32 -> 0.017592473
A7: ATUALIZAÇÃO DA BASE CARTOGRÁFICA | B7: Levantamento Planialtimétrico Cadastral | C7: ='MEMÓRIA DE CÁLCULO'!D23 -> 453749 | D7: m² | E7: ='MEMÓRIA DE CÁLCULO'!L23 -> 2.84 | F7: ='MEMÓRIA DE CÁLCULO'!P23 -> 1288647.2 | G7: 4 | H7: =F7/$F$32 -> 0.36996114
B8: Relatório da Base Cartográfica Atualizada | C8: 1 | D8: unidade | E8: =F8 -> 88269.63 | F8: ='MEMÓRIA DE CÁLCULO'!P24 -> 88269.63 | G8: 4 | H8: =F8/$F$32 -> 0.025341563
A9: SELAGEM E CADASTRO SOCIOECONÔMICO E FUNDIÁRIO | B9: Relatório da fase de Selagem e Cadastro Socioeconômico e Fundiário, incluindo como anexo o arquivo digital do Banco de Dados Preliminar e os prontuários separados por selo | C9: 1 | D9: unidade | E9: =F9 -> 413037.67 | F9: ='MEMÓRIA DE CÁLCULO'!P28 -> 413037.67 | G9: 8 | H9: =F9/$F$32 -> 0.11858008
A10: DIAGNÓSTICOS | B10: Diagnóstico Setorial Jurídico | C10: 1 | D10: unidade | E10: =F10 -> 50495.51 | F10: ='MEMÓRIA DE CÁLCULO'!P35 -> 50495.51 | G10: 10 | H10: =F10/$F$32 -> 0.01449689
B11: Diagnóstico Setorial dos Aspectos Físico-Urbano-Ambientais | C11: 1 | D11: unidade | E11: =F11 -> 160655.67 | F11: ='MEMÓRIA DE CÁLCULO'!P38 -> 160655.67 | G11: 10 | H11: =F11/$F$32 -> 0.046123064
B12: Diagnóstico Setorial dos Aspectos Socioeconômico Organizativos | C12: 1 | D12: unidade | E12: =F12 -> 15890.71 | F12: ='MEMÓRIA DE CÁLCULO'!P42 -> 15890.71 | G12: 10 | H12: =F12/$F$32 -> 0.0045621062
B13: Diagnóstico Integrado | C13: 1 | D13: unidade | E13: =F13 -> 108137.83 | F13: ='MEMÓRIA DE CÁLCULO'!P44 -> 108137.83 | G13: 11 | H13: =F13/$F$32 -> 0.031045577
A14: PROPOSTAS DE SOLUÇÃO DAS DESCONFORMIDADES | B14: Relatório de Cenário de Intervenção Integrada | C14: 1 | D14: unidade | E14: =F14 -> 46896.12 | F14: ='MEMÓRIA DE CÁLCULO'!P51 -> 46896.12 | G14: 12 | H14: =F14/$F$32 -> 0.013463532
B15: Propostas de Intervenção Físico-Urbano-Ambientais | C15: 1 | D15: unidade | E15: =F15 -> 179810.91 | F15: ='MEMÓRIA DE CÁLCULO'!P57 -> 179810.91 | G15: 13 | H15: =F15/$F$32 -> 0.051622393
B16: Propostas de Intervenção Socioeconômico-Organizativas | C16: 1 | D16: unidade | E16: =F16 -> 11977.44 | F16: ='MEMÓRIA DE CÁLCULO'!P64 -> 11977.44 | G16: 13 | H16: =F16/$F$32 -> 0.0034386351
B17: Propostas de Intervenção Jurídico-Legais | C17: 1 | D17: unidade | E17: =F17 -> 51013.7 | F17: ='MEMÓRIA DE CÁLCULO'!P66 -> 51013.7 | G17: 13 | H17: =F17/$F$32 -> 0.014645659
B18: Estimativas de Custos de Urbanização | C18: 1 | D18: unidade | E18: =F18 -> 43444.34 | F18: ='MEMÓRIA DE CÁLCULO'!P72 -> 43444.34 | G18: 14 | H18: =F18/$F$32 -> 0.012472551
B19: Hierarquização de Ações e Obras | C19: 1 | D19: unidade | E19: =F19 -> 80699.44 | F19: ='MEMÓRIA DE CÁLCULO'!P73 -> 80699.44 | G19: 15 | H19: =F19/$F$32 -> 0.023168217
A20: ETAPA 02 – PROJETO DE REGULARIZAÇÃO FUNDIÁRIA SUSTENTÁVEL
A21: REGULARIZAÇÃO FUNDIÁRIA URBANA REURB | B21: Relatório elucidativo dos procedimentos técnicos e administrativos referentes à Demarcação Urbanística | C21: 1 | D21: unidade | E21: =F21 -> 101566.13 | F21: ='MEMÓRIA DE CÁLCULO'!P79 -> 101566.13 | G21: 17 | H21: =F21/$F$32 -> 0.029158891
B22: Projeto de Parcelamento preliminar | C22: 1 | D22: unidade | E22: =F22 -> 54484.76 | F22: ='MEMÓRIA DE CÁLCULO'!P92 -> 54484.76 | G22: 18 | H22: =F22/$F$32 -> 0.015642175
B23: Listagem preliminar das unidades e beneficiários | C23: 1 | D23: unidade | E23: =F23 -> 11851.73 | F23: ='MEMÓRIA DE CÁLCULO'!P94 -> 11851.73 | G23: 18 | H23: =F23/$F$32 -> 0.0034025447
B24: Relatório demonstrativo do Plantão de Conferência Documental e Parcelamento | C24: 1 | D24: unidade | E24: =F24 -> 258033.73 | F24: ='MEMÓRIA DE CÁLCULO'!P96 -> 258033.73 | G24: 20 | H24: =F24/$F$32 -> 0.07407959
B25: Projeto de Regularização Fundiária | C25: 1 | D25: unidade | E25: =F25 -> 48867.01 | F25: ='MEMÓRIA DE CÁLCULO'!P100 -> 48867.01 | G25: 20 | H25: =F25/$F$32 -> 0.01402936
B26: Relatório demonstrativo do Plantão Pré-Titulação | C26: 1 | D26: unidade | E26: =F26 -> 141980.79 | F26: ='MEMÓRIA DE CÁLCULO'!P102 -> 141980.79 | G26: 21 | H26: =F26/$F$32 -> 0.040761643
B27: Banco de Dados Consolidado | C27: 1 | D27: unidade | E27: =F27 -> 13290.87 | F27: ='MEMÓRIA DE CÁLCULO'!P106 -> 13290.87 | G27: 22 | H27: =F27/$F$32 -> 0.0038157112
A28: TITULAÇÃO FUNCIONÁRIOS | B28: Registro da CRF no Cartório de Registro de Imóveis | C28: 1 | D28: unidade | E28: =F28 -> 24828.96 | F28: ='MEMÓRIA DE CÁLCULO'!P109 -> 24828.96 | G28: 22 | H28: =F28/$F$32 -> 0.0071282122
B29: Certidões de registro dos títulos individualizados | C29: 1 | D29: unidade | E29: =F29 -> 71376.82 | F29: ='MEMÓRIA DE CÁLCULO'!P112 -> 71376.82 | G29: 23 | H29: =F29/$F$32 -> 0.020491761
B30: Documentos finais sistematizados | C30: 1 | D30: unidade | E30: =F30 -> 15200.39 | F30: ='MEMÓRIA DE CÁLCULO'!P117 -> 15200.39 | G30: 24 | H30: =F30/$F$32 -> 0.0043639204
B31: Relatório síntese do resultado das assembleias de entrega de títulos | C31: 1 | D31: unidade | E31: =F31 -> 78602.68 | F31: ='MEMÓRIA DE CÁLCULO'!P121 -> 78602.68 | G31: 24 | H31: =F31/$F$32 -> 0.022566253
A32: TOTAL | F32: =SUM(F21:F31,F4:F19) -> 3483196 | G32: - | H32: 1

Sheet CRONOGRAMA FISICO FINANC
A1: ANEXO 2 – CRONOGRAMA FÍSICO-FINANCEIRO: PLANO INTEGRADO DE URBANIZAÇÃO E REGULARIZAÇÃO FUNDIÁRIA FUNCIONÁRIOS
A2: FASE | B2: ATIVIDADE | C2: PRODUTO | D2: 1 | E2: 2 | F2: 3 | G2: 4 | H2: 5 | I2: 6 | J2: 7 | K2: 8 | L2: 9 | M2: 10 | N2: 11 | O2: 12 | P2: 13 | Q2: 14 | R2: 15 | S2: 16 | T2: 17 | U2: 18 | V2: 19 | W2: 20 | X2: 21 | Y2: 22 | Z2: 23 | AA2: 24
A3: ETAPA 01 – PLANEJAMENTO DA URBANIZAÇÃO E REGULARIZAÇÃO FUNDIÁRIA
A4: LEVANTAMENTO SITUACIONAL E PESQUISA DOMINIAL | B4: Vistoria técnica multidisciplinar | C4: Relatório de Levantamento Situacional | D4: =ORÇAMENTO!F4 -> 43064.84
B6: Sistematização das informações
B8: Trabalho Técnico Social
B9: Plano de Mobilização, Organização e Capacitação Social | C9: Plano de Mobilização, Organização e Capacitação Social | D9: =ORÇAMENTO!F5 -> 19793.09
B10: Trabalho Técnico Social
B11: Pesquisa Cartorária | C11: Relatório de Pesquisa Dominial e Cartorária | E11: =ORÇAMENTO!F6 -> 61278.03
B12: Quadro dominial
B14: =SUM(D4,D9,E11) -> 124135.96
A15: ATUALIZAÇÃO DA BASE CARTOGRÁFICA | B15: Levantamento Planialtimétrico Cadastral | C15: Levantamento Planialtimétrico Cadastral | G15: =ORÇAMENTO!F7 -> 1288647.2
B16: Atualização da Base | C16: Relatório da Base Cartográfica Atualizada | G16: =ORÇAMENTO!F8 -> 88269.63
B17: Trabalho Técnico Social
B18: =SUM(G15,G16) -> 1376916.8
A19: SELAGEM E CADASTRO SOCIOECONÔMICO E FUNDIÁRIO | B19: Contagem de Domicílio e Selagem | C19: Relatório da fase de Selagem e Cadastro Socioeconômico e Fundiário, incluindo como anexo o arquivo digital do Banco de Dados Preliminar e os prontuários separados por selo | K19: =ORÇAMENTO!F9 -> 413037.67
B20: Aplicação de Cadastro
B21: Montagem de Banco de Dados
B22: Trabalho Técnico Social
B23: =SUM(K19) -> 413037.67
A24: DIAGNÓSTICO | B24: Jurídico | C24: Diagnóstico Setorial Jurídico | M24: =ORÇAMENTO!F10 -> 50495.51
B25: Trabalho Técnico Social
B26: Físico-Urbano-Ambiental | C26: Diagnóstico Setorial dos Aspectos Físico-Urbano-Ambientais | M26: =ORÇAMENTO!F11 -> 160655.67
B27: Trabalho Técnico Social
B28: Socioeconômico-Organizativo | C28: Diagnóstico Setorial dos Aspectos Socioeconômico Organizativos | M28: =ORÇAMENTO!F12 -> 15890.71
B29: Trabalho Técnico Social
B30: Integrado | C30: Diagnóstico Integrado
B31: Trabalho Técnico Social | N31: =ORÇAMENTO!F13 -> 108137.83
B32: =SUM(M24,M26,M28,M30,N31) -> 335179.72
A33: PROPOSTAS DE SOLUÇÃO DAS DESCONFORMIDADES | B33: Estudo de Cenário de Intervenção Integrada | C33: Relatório de Cenário de Intervenção Integrada | O33: =ORÇAMENTO!F14 -> 46896.12
B34: Trabalho Técnico Social
B35: Propostas de Intervenção Físico-Urbano-Ambiental | C35: Propostas de Intervenção Físico-Urbano-Ambiental | P35: =ORÇAMENTO!F15 -> 179810.91
B36: Plano de Intervenção Integrada
B37: Trabalho Técnico Social
B38: Propostas de Interevenção Socioeconômica-Organizativa | C38: Propostas de Interevenção Socioeconômica-Organizativa | P38: =ORÇAMENTO!F16 -> 11977.44
B39: Trabalho Técnico Social
B40: Propostas de Intervenção Jurídico-Legais | C40: Propostas de Intervenção Jurídico-Legais | P40: =ORÇAMENTO!F17 -> 51013.7
B41: Plano de Regularização Fundiária
B42: Trabalho Técnico Social
B43: Estimativa de custos de Urbanização | C43: Estimativa de custos de Urbanização | Q43: =ORÇAMENTO!F18 -> 43444.34
...

Sheet COMPOSIÇÃO HORA TÉCNICA
B1: Anexo 3.1 - Composição de preço de hora técnica com base nos quantitativos e custos unitários dos insumos utilizados
B4: Profissional | C4: Fonte/ Código | D4: CUSTO TOTAL HORA | E4: CUSTO DIRETO MÃO DE OBRA | F4: CUSTO HORA-TÉCNICA | H4: Encargos e Tributos incidentes sobre os serviços | I4: %
B5: Engenheiro Intermediário (H) | C5: SUDECAP / 56.11.05 | D5: - | E5: 72.64 | F5: =ROUND(E5*$C$16,2) -> 172.09 | H5: ENCARGOS SOCIAIS | I5: 73.66
B6: Arquiteto Júnior (H) | C6: SINAPI / 33939 | D6: 131.18 | E6: =ROUND(D6/2.167,2) -> 60.54 | F6: =ROUND(E6*$C$16,2) -> 143.42
B7: Arquiteto Sênior (H) | C7: SINAPI / 33953 | D7: 142.77 | E7: =ROUND(D7/2.1679,2) -> 65.86 | F7: =ROUND(E7*$C$16,2) -> 156.02 | H7: PIS | I7: 1.32
B8: Técnico de Nível Superior Sênior (H) | C8: URBEL / 31.40.32 | D8: - | E8: 31.83 | F8: =ROUND(E8*$C$16,2) -> 75.41 | H8: COFINS | I8: 6.08
B9: Advogado Sênior (H) | C9: DNIT / P8003 | D9: - | E9: 54.21 | F9: =ROUND(E9*$C$16,2) -> 128.42 | H9: ISS | I9: 5
B13: Parâmetros adotados | D13: Identificação
B14: DD | C14: 0 | D14: Despesas diretas
B15: TRDE* (1+k3)(1+k4) | C15: =(1+C19/100)*(1+C20/100) -> 1.2557078 | D15: Taxa de ressarcimento de despesas e encargos
B16: K* (1+k1+k2)(1+k3)(1+k4) | C16: =((1+C17/100+C18/100)*(1+C19/100)*(1+C20/100)) -> 2.3690183 | D16: FATOR K
B17: K1 | C17: =I5 -> 73.66 | D17: Encargos sociais incidentes sobre a mão de obra
B18: K2 | C18: 15 | D18: Administração central da empresa de consultoria (ou overhead)
B19: K3 | C19: 10 | D19: Remuneração bruta da empresa de consultoria
B20: K4* 1/(1-I) | C20: =((1/(1-SUM(I7:I9)/100))-1)*100 -> 14.155251 | D20: Fator relativo aos tributos incidentes sobre o preço de venda

Sheet MEMÓRIA DE CÁLCULO
A1: ANEXO 3 – MEMÓRIA DE CÁLCULO: PLANO INTEGRADO DE URBANIZAÇÃO E REGULARIZAÇÃO FUNDIÁRIA FUNCIONÁRIOS
A2: FASE | B2: PRODUTO | C2: ATIVIDADE | D2: QUANTIDADE* | E2: UNIDADE | F2: QUANTIDADE DE PROFISSIONAIS | G2: PROFISSIONAIS | H2: REFERÊNCIA | I2: CÓDIGO | J2: CUSTO UNITÁRIO | K2: FATOR DE PREÇO | L2: CUSTO C/ FATOR DE PREÇO | M2: TOTAL S/ DESPESAS COMPLEMENTARES POR ATIVIDADE | N2: TOTAL S/ DESPESAS COMPLEMENTARES POR PRODUTO | O2: DESPESAS COMPLEMENTARES POR PRODUTO CONFORME ANEXO 3.2 | P2: TOTAL C/ DESPESAS COMPLEMENTARES POR PRODUTO | Q2: PERCENTUAL DO TOTAL S/ DESP. COMP. E SEM COORD. | R2: PERCENTUAL DA ETAPA
A3: ETAPA 01 – PLANEJAMENTO DA URBANIZAÇÃO E REGULARIZAÇÃO FUNDIÁRIA
A4: LEVANTAMENTO SITUACIONAL E PESQUISA DOMINIAL | B4: Relatório de Levantamento Situacional | C4: Vistoria técnica multidisciplinar | D4: 15 | E4: h | F4: 1 | G4: Arquiteto Júnior | H4: SINAPI | I4: 33939 | J4: ='COMPOSIÇÃO HORA TÉCNICA'!$E$6 -> 60.54 | K4: K | L4: ='COMPOSIÇÃO HORA TÉCNICA'!F6 -> 143.42 | M4: =ROUND(D4*F4*L4,2) -> 2151.3 | N4: =SUM(M4:M12) -> 28629 | O4: ='DESPESAS COMPLEMENTARES'!M3 -> 14435.84 | P4: =ROUND(N4+O4,2) -> 43064.84 | Q4: =M4/($M$22+$M$27+$M$34+$M$50+$M$77+$M$108+$M$126+#REF!) -> #REF! | R4: =M4/$M$22 -> 0.021485177
D5: 10 | E5: h | F5: 1 | G5: Arquiteto Sênior | H5: SINAPI | I5: 33953 | J5: ='COMPOSIÇÃO HORA TÉCNICA'!$E$7 -> 65.86 | K5: K | L5: ='COMPOSIÇÃO HORA TÉCNICA'!$F$7 -> 156.02 | M5: =ROUND(D5*F5*L5,2) -> 1560.2 | Q5: =M5/($M$22+$M$27+$M$34+$M$50+$M$77+$M$108+$M$126+#REF!) -> #REF! | R5: =M5/$M$22 -> 0.015581822
D6: 15 | E6: h | F6: 1 | G6: Advogado Sênior | H6: DNIT | I6: P8003 | J6: ='COMPOSIÇÃO HORA TÉCNICA'!$E$9 -> 54.21 | K6: K | L6: ='COMPOSIÇÃO HORA TÉCNICA'!$F$9 -> 128.42 | M6: =ROUND(D6*F6*L6,2) -> 1926.3
D7: 15 | E7: h | F7: 2 | G7: Técnico de Nível Superior | H7: URBEL | I7: 31.40.32 | J7: ='COMPOSIÇÃO HORA TÉCNICA'!$E$8 -> 31.83 | K7: K | L7: ='COMPOSIÇÃO HORA TÉCNICA'!$F$8 -> 75.41 | M7: =ROUND(D7*F7*L7,2) -> 2262.3 | Q7: =M7/($M$22+$M$27+$M$34+$M$50+$M$77+$M$108+$M$126+#REF!) -> #REF! | R7: =M7/$M$22 -> 0.022593741
C8: Sistematização das informações | D8: 40 | E8: h | F8: 1 | G8: Arquiteto Júnior | H8: SINAPI | I8: 33939 | J8: ='COMPOSIÇÃO HORA TÉCNICA'!$E$6 -> 60.54 | K8: K | L8: ='COMPOSIÇÃO HORA TÉCNICA'!F6 -> 143.42 | M8: =ROUND(D8*F8*L8,2) -> 5736.8 | Q8: =M8/($M$22+$M$27+$M$34+$M$50+$M$77+$M$108+$M$126+#REF!) -> #REF! | R8: =M8/$M$22 -> 0.057293805
D9: 10 | E9: h | F9: 1 | G9: Arquiteto Sênior | H9: SINAPI | I9: 33953 | J9: ='COMPOSIÇÃO HORA TÉCNICA'!$E$7 -> 65.86 | K9: K | L9: ='COMPOSIÇÃO HORA TÉCNICA'!$F$7 -> 156.02 | M9: =ROUND(D9*F9*L9,2) -> 1560.2 | Q9: =M9/($M$22+$M$27+$M$34+$M$50+$M$77+$M$108+$M$126+#REF!) -> #REF! | R9: =M9/$M$22 -> 0.015581822
D10: 40 | E10: h | F10: 1 | G10: Advogado Sênior | H10: DNIT | I10: P8003 | J10: ='COMPOSIÇÃO HORA TÉCNICA'!$E$9 -> 54.21 | K10: K | L10: ='COMPOSIÇÃO HORA TÉCNICA'!$F$9 -> 128.42 | M10: =ROUND(D10*F10*L10,2) -> 5136.8
D11: 40 | E11: h | F11: 2 | G11: Técnico de Nível Superior | H11: URBEL | I11: 31.40.32 | J11: ='COMPOSIÇÃO HORA TÉCNICA'!$E$8 -> 31.83 | K11: K | L11: ='COMPOSIÇÃO HORA TÉCNICA'!$F$8 -> 75.41 | M11: =ROUND(D11*F11*L11,2) -> 6032.8 | Q11: =M11/($M$22+$M$27+$M$34+$M$50+$M$77+$M$108+$M$126+#REF!) -> #REF! | R11: =M11/$M$22 -> 0.060249976
C12: Trabalho Técnico Social | D12: 30 | E12: h | F12: 1 | G12: Técnico de Nível Superior | H12: URBEL | I12: 31.40.32 | J12: ='COMPOSIÇÃO HORA TÉCNICA'!$E$8 -> 31.83 | K12: K | L12: ='COMPOSIÇÃO HORA TÉCNICA'!$F$8 -> 75.41 | M12: =ROUND(D12*F12*L12,2) -> 2262.3 | Q12: =M12/($M$22+$M$27+$M$34+$M$50+$M$77+$M$108+$M$126+#REF!) -> #REF! | R12: =M12/$M$22 -> 0.022593741
B13: Plano de Mobilização, Organização e Capacitação Social | C13: Plano de Mobilização, Organização e Capacitação Social | D13: 60 | E13: h | F13: 1 | G13: Advogado Sênior | H13: DNIT | I13: P8003 | J13: ='COMPOSIÇÃO HORA TÉCNICA'!$E$9 -> 54.21 | K13: K | L13: ='COMPOSIÇÃO HORA TÉCNICA'!$F$9 -> 128.42 | M13: =ROUND(D13*F13*L13,2) -> 7705.2 | N13: =SUM(M13:M15) -> 14492.1 | O13: ='DESPESAS COMPLEMENTARES'!M17 -> 5300.99 | P13: =ROUND(N13+O13,2) -> 19793.09
D14: 60 | E14: h | F14: 1 | G14: Técnico de Nível Superior | H14: URBEL | I14: 31.40.32 | J14: ='COMPOSIÇÃO HORA TÉCNICA'!$E$8 -> 31.83 | K14: K | L14: ='COMPOSIÇÃO HORA TÉCNICA'!$F$8 -> 75.41 | M14: =ROUND(D14*F14*L14,2) -> 4524.6 | Q14: =M14/($M$22+$M$27+$M$34+$M$50+$M$77+$M$108+$M$126+#REF!) -> #REF! | R14: =M14/$M$22 -> 0.045187482
C15: Trabalho Técnico Social | D15: 30 | E15: h | F15: 1 | G15: Técnico de Nível Superior | H15: URBEL | I15: 31.40.32 | J15: ='COMPOSIÇÃO HORA TÉCNICA'!$E$8 -> 31.83 | K15: K | L15: ='COMPOSIÇÃO HORA TÉCNICA'!$F$8 -> 75.41 | M15: =ROUND(D15*F15*L15,2) -> 2262.3 | Q15: =M15/($M$22+$M$27+$M$34+$M$50+$M$77+$M$108+$M$126+#REF!) -> #REF! | R15: =M15/$M$22 -> 0.022593741
B16: Relatório de Pesquisa Dominial e Cartorária | C16: Pesquisa Cartorária | D16: 150 | E16: h | F16: 1 | G16: Advogado Sênior | H16: DNIT | I16: P8003 | J16: ='COMPOSIÇÃO HORA TÉCNICA'!$E$9 -> 54.21 | K16: K | L16: ='COMPOSIÇÃO HORA TÉCNICA'!$F$9 -> 128.42 | M16: =ROUND(D16*F16*L16,2) -> 19263 | N16: =SUM(M16:M21) -> 57008.4 | O16: ='DESPESAS COMPLEMENTARES'!M30 -> 4269.63 | P16: =ROUND(N16+O16,2) -> 61278.03
D17: 80 | E17: h | F17: 1 | G17: Técnico de Nível Superior | H17: URBEL | I17: 31.40.32 | J17: ='COMPOSIÇÃO HORA TÉCNICA'!$E$8 -> 31.83 | K17: K | L17: ='COMPOSIÇÃO HORA TÉCNICA'!$F$8 -> 75.41 | M17: =ROUND(D17*F17*L17,2) -> 6032.8 | Q17: =M17/($M$22+$M$27+$M$34+$M$50+$M$77+$M$108+$M$126+#REF!) -> #REF! | R17: =M17/$M$22 -> 0.060249976
C18: Quadro dominial | D18: 60 | E18: h | F18: 1 | G18: Arquiteto Júnior | H18: SINAPI | I18: 33939 | J18: ='COMPOSIÇÃO HORA TÉCNICA'!$E$6 -> 60.54 | K18: K | L18: ='COMPOSIÇÃO HORA TÉCNICA'!F6 -> 143.42 | M18: =ROUND(D18*F18*L18,2) -> 8605.2 | Q18: =M18/($M$22+$M$27+$M$34+$M$50+$M$77+$M$108+$M$126+#REF!) -> #REF! | R18: =M18/$M$22 -> 0.085940707
D19: 30 | E19: h | F19: 1 | G19: Arquiteto Sênior | H19: SINAPI | I19: 33953 | J19: ='COMPOSIÇÃO HORA TÉCNICA'!$E$7 -> 65.86 | K19: K | L19: ='COMPOSIÇÃO HORA TÉCNICA'!$F$7 -> 156.02 | M19: =ROUND(D19*F19*L19,2) -> 4680.6 | Q19: =M19/($M$22+$M$27+$M$34+$M$50+$M$77+$M$108+$M$126+#REF!) -> #REF! | R19: =M19/$M$22 -> 0.046745465
D20: 120 | E20: h | F20: 1 | G20: Advogado Sênior | H20: DNIT | I20: P8003 | J20: ='COMPOSIÇÃO HORA TÉCNICA'!$E$9 -> 54.21 | K20: K | L20: ='COMPOSIÇÃO HORA TÉCNICA'!$F$9 -> 128.42 | M20: =ROUND(D20*F20*L20,2) -> 15410.4
D21: 40 | E21: h | F21: 1 | G21: Técnico de Nível Superior | H21: URBEL | I21: 31.40.32 | J21: ='COMPOSIÇÃO HORA TÉCNICA'!$E$8 -> 31.83 | K21: K | L21: ='COMPOSIÇÃO HORA TÉCNICA'!$F$8 -> 75.41 | M21: =ROUND(D21*F21*L21,2) -> 3016.4 | Q21: =M21/($M$22+$M$27+$M$34+$M$50+$M$77+$M$108+$M$126+#REF!) -> #REF! | R21: =M21/$M$22 -> 0.030124988
M22: =SUM(M4:M21) -> 100129.5
A23: ATUALIZAÇÃO DA BASE CARTOGRÁFICA | B23: Levantamento Planialtimétrico Cadastral | C23: Levantamento Planialtimétrico Cadastral | D23: 453749 | E23: m² | F23: - | G23: - | H23: URBEL | I23: 18.17.01 | J23: 2.26 | K23: TRDE | L23: =ROUND(J23*'COMPOSIÇÃO HORA TÉCNICA'!C15,2) -> 2.84 | M23: =ROUND(D23*L23,2) -> 1288647.2 | N23: =SUM(M23:M23) -> 1288647.2 | O23: 0 | P23: =ROUND(N23+O23,2) -> 1288647.2 | Q23: =M23/($M$22+$M$27+$M$34+$M$50+$M$77+$M$108+$M$126+#REF!) -> #REF! | R23: =M23/$M$27 -> 0.95168988
B24: Relatório da Base Cartográfica Atualizada | C24: Atualização de Base | D24: 150 | E24: h | F24: 2 | G24: Arquiteto Júnior | H24: SINAPI | I24: 33939 | J24: ='COMPOSIÇÃO HORA TÉCNICA'!$E$6 -> 60.54 | K24: K | L24: ='COMPOSIÇÃO HORA TÉCNICA'!F6 -> 143.42 | M24: =ROUND(D24*F24*L24,2) -> 43026 | N24: =SUM(M24:M26) -> 65414.9 | O24: ='DESPESAS COMPLEMENTARES'!M39 -> 22854.73 | P24: =ROUND(N24+O24,2) -> 88269.63 | Q24: =M24/($M$22+$M$27+$M$34+$M$50+$M$77+$M$108+$M$126+#REF!) -> #REF! | R24: =M24/$M$27 -> 0.031775501
D25: 100 | E25: h | F25: 1 | G25: Arquiteto Sênior | H25: SINAPI | I25: 33953 | J25: ='COMPOSIÇÃO HORA TÉCNICA'!$E$7 -> 65.86 | K25: K | L25: ='COMPOSIÇÃO HORA TÉCNICA'!$F$7 -> 156.02 | M25: =ROUND(D25*F25*L25,2) -> 15602 | Q25: =M25/($M$22+$M$27+$M$34+$M$50+$M$77+$M$108+$M$126+#REF!) -> #REF! | R25: =M25/$M$22 -> 0.15581822
C26: Trabalho Técnico Social | D26: 90 | E26: h | F26: 1 | G26: Técnico de Nível Superior | H26: URBEL | I26: 31.40.32 | J26: ='COMPOSIÇÃO HORA TÉCNICA'!$E$8 -> 31.83 | K26: K | L26: ='COMPOSIÇÃO HORA TÉCNICA'!$F$8 -> 75.41 | M26: =ROUND(D26*F26*L26,2) -> 6786.9 | Q26: =M26/($M$22+$M$27+$M$34+$M$50+$M$77+$M$108+$M$126+#REF!) -> #REF! | R26: =M26/$M$27 -> 0.0050122518
M27: =SUM(M23:M26) -> 1354062.1
A28: SELAGEM E CADASTRO SOCIOECONÔMICO E FUNDIÁRIO | B28: Relatório da fase de Selagem e Cadastro Socioeconômico e Fundiário, incluindo como anexo o arquivo digital do Banco de Dados Preliminar e os prontuários separados por selo | C28: Contagem de Domicílio e Selagem | D28: 300 | E28: h | F28: 3 | G28: Arquiteto Júnior | H28: SINAPI | I28: 33939 | J28: ='COMPOSIÇÃO HORA TÉCNICA'!$E$6 -> 60.54 | K28: K | L28: ='COMPOSIÇÃO HORA TÉCNICA'!F6 -> 143.42 | M28: =ROUND(D28*F28*L28,2) -> 129078 | N28: =SUM(M28:M33) -> 393038.9 | O28: ='DESPESAS COMPLEMENTARES'!M52 -> 19998.77 | P28: =ROUND(N28+O28,2) -> 413037.67 | Q28: =M28/($M$22+$M$27+$M$34+$M$50+$M$77+$M$108+$M$126+#REF!) -> #REF! | R28: =M28/$M$34 -> 0.32841024
D29: 150 | E29: h | F29: 1 | G29: Arquiteto Sênior | H29: SINAPI | I29: 33953 | J29: ='COMPOSIÇÃO HORA TÉCNICA'!$E$7 -> 65.86 | K29: K | L29: ='COMPOSIÇÃO HORA TÉCNICA'!$F$7 -> 156.02 | M29: =ROUND(D29*F29*L29,2) -> 23403 | Q29: =M29/($M$22+$M$27+$M$34+$M$50+$M$77+$M$108+$M$126+#REF!) -> #REF! | R29: =M29/$M$22 -> 0.23372732
D30: 300 | E30: h | F30: 4 | G30: Técnico de Nível Superior | H30: URBEL | I30: 31.40.32 | J30: ='COMPOSIÇÃO HORA TÉCNICA'!$E$8 -> 31.83 | K30: K | L30: ='COMPOSIÇÃO HORA TÉCNICA'!$F$8 -> 75.41 | M30: =ROUND(D30*F30*L30,2) -> 90492 | Q30: =M30/($M$22+$M$27+$M$34+$M$50+$M$77+$M$108+$M$126+#REF!) -> #REF! | R30: =M30/$M$34 -> 0.23023675
C31: Aplicação de Cadastro | D31: 450 | E31: h | F31: 4 | G31: Técnico de Nível Superior | H31: URBEL | I31: 31.40.32 | J31: ='COMPOSIÇÃO HORA TÉCNICA'!$E$8 -> 31.83 | K31: K | L31: ='COMPOSIÇÃO HORA TÉCNICA'!$F$8 -> 75.41 | M31: =ROUND(D31*F31*L31,2) -> 135738 | Q31: =M31/($M$22+$M$27+$M$34+$M$50+$M$77+$M$108+$M$126+#REF!) -> #REF! | R31: =M31/$M$34 -> 0.34535513
C32: Montagem de Banco de Dados | D32: 60 | E32: h | F32: 2 | G32: Técnico de Nível Superior | H32: URBEL | I32: 31.40.32 | J32: ='COMPOSIÇÃO HORA TÉCNICA'!$E$8 -> 31.83 | K32: K | L32: ='COMPOSIÇÃO HORA TÉCNICA'!$F$8 -> 75.41 | M32: =ROUND(D32*F32*L32,2) -> 9049.2 | Q32: =M32/($M$22+$M$27+$M$34+$M$50+$M$77+$M$108+$M$126+#REF!) -> #REF! | R32: =M32/$M$34 -> 0.023023675
C33: Trabalho Técnico Social | D33: 70 | E33: h | F33: 1 | G33: Técnico de Nível Superior | H33: URBEL | I33: 31.40.32 | J33: ='COMPOSIÇÃO HORA TÉCNICA'!$E$8 -> 31.83 | K33: K | L33: ='COMPOSIÇÃO HORA TÉCNICA'!$F$8 -> 75.41 | M33: =ROUND(D33*F33*L33,2) -> 5278.7 | Q33: =M33/($M$22+$M$27+$M$34+$M$50+$M$77+$M$108+$M$126+#REF!) -> #REF! | R33: =M33/$M$34 -> 0.013430477
M34: =SUM(M28:M33) -> 393038.9
A35: DIAGNÓSTICO | B35: Diagnóstico Setorial Jurídico | C35: Jurídico | D35: 240 | E35: h | F35: 1 | G35: Advogado Sênior | H35: DNIT | I35: P8003 | J35: ='COMPOSIÇÃO HORA TÉCNICA'!$E$9 -> 54.21 | K35: K | L35: ='COMPOSIÇÃO HORA TÉCNICA'!$F$9 -> 128.42 | M35: =ROUND(D35*F35*L35,2) -> 30820.8 | N35: =SUM(M35:M37) -> 47411 | O35: ='DESPESAS COMPLEMENTARES'!M66 -> 3084.51 | P35: =ROUND(N35+O35,2) -> 50495.51
D36: 180 | E36: h | F36: 1 | G36: Técnico de Nível Superior | H36: URBEL | I36: 31.40.32 | J36: ='COMPOSIÇÃO HORA TÉCNICA'!$E$8 -> 31.83 | K36: K | L36: ='COMPOSIÇÃO HORA TÉCNICA'!$F$8 -> 75.41 | M36: =ROUND(D36*F36*L36,2) -> 13573.8 | Q36: =M36/($M$22+$M$27+$M$34+$M$50+$M$77+$M$108+$M$126+#REF!) -> #REF! | R36: =M36/$M$50 -> 0.042734709
C37: Trabalho Técnico Social | D37: 40 | E37: h | F37: 1 | G37: Técnico de Nível Superior | H37: URBEL | I37: 31.40.32 | J37: ='COMPOSIÇÃO HORA TÉCNICA'!$E$8 -> 31.83 | K37: K | L37: ='COMPOSIÇÃO HORA TÉCNICA'!$F$8 -> 75.41 | M37: =ROUND(D37*F37*L37,2) -> 3016.4 | Q37: =M37/($M$22+$M$27+$M$34+$M$50+$M$77+$M$108+$M$126+#REF!) -> #REF! | R37: =M37/$M$50 -> 0.009496602
B38: Diagnóstico Setorial dos Aspectos Físico-Urbano-Ambientais | C38: Físico-Urbano-Ambiental | D38: 150 | E38: h | F38: 3 | G38: Arquiteto Júnior | H38: SINAPI | I38: 33939 | J38: ='COMPOSIÇÃO HORA TÉCNICA'!$E$6 -> 60.54 | K38: K | L38: ='COMPOSIÇÃO HORA TÉCNICA'!F6 -> 143.42 | M38: =ROUND(D38*F38*L38,2) -> 64539 | N38: =SUM(M38:M41) -> 154976.5 | O38: ='DESPESAS COMPLEMENTARES'!M72 -> 5679.17 | P38: =ROUND(N38+O38,2) -> 160655.67 | Q38: =M38/($M$22+$M$27+$M$34+$M$50+$M$77+$M$108+$M$126+#REF!) -> #REF! | R38: =M38/$M$50 -> 0.20318963
D39: 75 | E39: h | F39: 1 | G39: Arquiteto Sênior | H39: SINAPI | I39: 33953 | J39: ='COMPOSIÇÃO HORA TÉCNICA'!$E$7 -> 65.86 | K39: K | L39: ='COMPOSIÇÃO HORA TÉCNICA'!$F$7 -> 156.02 | M39: =ROUND(D39*F39*L39,2) -> 11701.5 | Q39: =M39/($M$22+$M$27+$M$34+$M$50+$M$77+$M$108+$M$126+#REF!) -> #REF! | R39: =M39/$M$22 -> 0.11686366
D40: 220 | E40: h | F40: 2 | G40: Engenheiro Intermediário | H40: SUDECAP | I40: 56.11.05 | J40: ='COMPOSIÇÃO HORA TÉCNICA'!$E$5 -> 72.64 | K40: K | L40: ='COMPOSIÇÃO HORA TÉCNICA'!F5 -> 172.09 | M40: =ROUND(D40*F40*L40,2) -> 75719.6 | Q40: =M40/($M$22+$M$27+$M$34+$M$50+$M$77+$M$108+$M$126+#REF!) -> #REF! | R40: =M40/$M$50 -> 0.23838977
...

Sheet DESPESAS COMPLEMENTARES
A1: ANEXO 3.2 - DESPESAS COMPLEMENTARES
A2: FASE | B2: PRODUTO | C2: TIPO | D2: ITEM | E2: QUANTIDADE | F2: UNIDADE | G2: REFERÊNCIA | H2: CÓDIGO | I2: CUSTO UNITÁRIO | J2: FATOR DE PREÇO | K2: CUSTO UNITÁRIO C/ FATOR DE PREÇO | L2: CUSTO TOTAL POR ITEM | M2: CUSTO TOTAL DO PRODUTO | N2: percentual do contrato | O2: percentual da etapa
A3: LEVANTAMENTO SITUACIONAL E PESQUISA DOMINIAL | B3: Relatório de Levantamento Situacional | C3: PEÇAS GRÁFICAS | D3: Xerox preto/branco - Formato A4 | E3: 1000 | F3: unidades | G3: SUDECAP | H3: 94.07.01 | I3: =I262 -> 0.5 | J3: TRDE | K3: =I3*'COMPOSIÇÃO HORA TÉCNICA'!$C$15 -> 0.62785388 | L3: =ROUND(E3*K3,2) -> 627.85 | M3: =SUM(L3:L16) -> 14435.84 | N3: ='MEMÓRIA DE CÁLCULO'!#REF! -> #REF! | O3: ='MEMÓRIA DE CÁLCULO'!#REF! -> #REF!
D4: Plotagem colorida sulfite - Formato A4 | E4: 1200 | F4: unidades | G4: SUDECAP | H4: 94.15.01 | I4: =I263 -> 2 | J4: TRDE | K4: =I4*'COMPOSIÇÃO HORA TÉCNICA'!$C$15 -> 2.5114155 | L4: =ROUND(E4*K4,2) -> 3013.7
D5: Plotagem colorida sulfite - Formato A2 | E5: 10 | F5: unidades | G5: SUDECAP | H5: 94.15.03 | I5: =I265 -> 9.5 | J5: TRDE | K5: =I5*'COMPOSIÇÃO HORA TÉCNICA'!$C$15 -> 11.929224 | L5: =ROUND(E5*K5,2) -> 119.29
D6: Plotagem colorida sulfite - Formato A1 | E6: 2 | F6: unidades | G6: SUDECAP | H6: 94.15.04 | I6: =I266 -> 12 | J6: TRDE | K6: =I6*'COMPOSIÇÃO HORA TÉCNICA'!$C$15 -> 15.068493 | L6: =ROUND(E6*K6,2) -> 30.14
D7: Papel couchê fosco 120 gramas 210 X 297 pacote 75 folhas | E7: 3 | F7: unidades | G7: URBEL | H7: 71.20.98 | I7: 24.97 | J7: TRDE | K7: =I7*'COMPOSIÇÃO HORA TÉCNICA'!$C$15 -> 31.355023 | L7: =ROUND(E7*K7,2) -> 94.07
D8: Pasta argola | E8: 1 | F8: unidades | G8: PESQUISA DE PREÇO | H8: - | I8: =I270 -> 31.4 | J8: TRDE | K8: =I8*'COMPOSIÇÃO HORA TÉCNICA'!$C$15 -> 39.429224 | L8: =ROUND(E8*K8,2) -> 39.43
C9: TRABALHO TÉCNICO SOCIAL | D9: Caneta esferográfica azul 1mm cx 50 unid | E9: 1 | F9: unidades | G9: URBEL | H9: 71.19.47 | I9: 49.73 | J9: TRDE | K9: =I9*'COMPOSIÇÃO HORA TÉCNICA'!$C$15 -> 62.446347 | L9: =ROUND(E9*K9,2) -> 62.45
D10: Banner em lona 1,0x1,2m | E10: 2 | F10: unidades | G10: URBEL | H10: 71.06.01 | I10: 95.23 | J10: TRDE | K10: =I10*'COMPOSIÇÃO HORA TÉCNICA'!$C$15 -> 119.58105 | L10: =ROUND(E10*K10,2) -> 239.16
D11: Locação de imóvel (incluídos impostos e taxas) | E11: 0.033 | F11: mês | G11: URBEL | H11: 31.40.53 | I11: 3251.08 | J11: TRDE | K11: =I11*'COMPOSIÇÃO HORA TÉCNICA'!$C$15 -> 4082.4064 | L11: =ROUND(E11*K11,2) -> 134.72
D12: Locação de mesa de plástico polipropileno - 04 lugares | E12: 20 | F12: unidades | G12: URBEL | H12: 71.21.72 | I12: 7.41 | J12: TRDE | K12: =I12*'COMPOSIÇÃO HORA TÉCNICA'!$C$15 -> 9.3047945 | L12: =ROUND(E12*K12,2) -> 186.1
D13: Locação de cadeira de plástico em polipropileno, sem braços | E13: 900 | F13: unidades | G13: URBEL | H13: 71.21.71 | I13: 3.07 | J13: TRDE | K13: =I13*'COMPOSIÇÃO HORA TÉCNICA'!$C$15 -> 3.8550228 | L13: =ROUND(E13*K13,2) -> 3469.52
C14: INFORMÁTICA | D14: HD externo 1TB USB portátil | E14: 1 | F14: unidade | G14: URBEL | H14: 31.42.99 | I14: 518.33 | J14: TRDE | K14: =I14*'COMPOSIÇÃO HORA TÉCNICA'!$C$15 -> 650.871 | L14: =ROUND(E14*K14,2) -> 650.87
C15: LOGÍSTICA | D15: Locação veículo popular motor 1.0 c/ ar e seguro | E15: 1.5 | F15: mês | G15: SUDECAP | H15: 54.40.06 | I15: =I274 -> 2441.57 | J15: TRDE | K15: =I15*'COMPOSIÇÃO HORA TÉCNICA'!$C$15 -> 3065.8984 | L15: =ROUND(E15*K15,2) -> 4598.85
D16: Gasolina comum | E16: 150 | F16: litros | G16: SINAPI | H16: 4222 | I16: =I275 -> 6.21 | J16: TRDE | K16: =I16*'COMPOSIÇÃO HORA TÉCNICA'!$C$15 -> 7.7979452 | L16: =ROUND(E16*K16,2) -> 1169.69
B17: Plano de Mobilização, Organização e Capacitação Social | C17: PEÇAS GRÁFICAS | D17: Xerox preto/branco - Formato A4 | E17: 300 | F17: unidades | G17: SUDECAP | H17: 94.07.01 | I17: =I262 -> 0.5 | J17: TRDE | K17: =I17*'COMPOSIÇÃO HORA TÉCNICA'!$C$15 -> 0.62785388 | L17: =ROUND(E17*K17,2) -> 188.36 | M17: =SUM(L17:L29) -> 5300.99 | N17: ='MEMÓRIA DE CÁLCULO'!#REF! -> #REF! | O17: ='MEMÓRIA DE CÁLCULO'!#REF! -> #REF!
D18: Plotagem colorida sulfite - Formato A4 | E18: 450 | F18: unidades | G18: SUDECAP | H18: 94.15.01 | I18: =I263 -> 2 | J18: TRDE | K18: =I18*'COMPOSIÇÃO HORA TÉCNICA'!$C$15 -> 2.5114155 | L18: =ROUND(E18*K18,2) -> 1130.14
D19: Plotagem colorida sulfite - Formato A2 | E19: 2 | F19: unidades | G19: SUDECAP | H19: 94.15.03 | I19: =I265 -> 9.5 | J19: TRDE | K19: =I19*'COMPOSIÇÃO HORA TÉCNICA'!$C$15 -> 11.929224 | L19: =ROUND(E19*K19,2) -> 23.86
D20: Plotagem colorida sulfite - Formato A1 | E20: 1 | F20: unidades | G20: SUDECAP | H20: 94.15.04 | I20: =I266 -> 12 | J20: TRDE | K20: =I20*'COMPOSIÇÃO HORA TÉCNICA'!$C$15 -> 15.068493 | L20: =ROUND(E20*K20,2) -> 15.07
D21: Papel couchê fosco 120 gramas 210 X 297 pacote 75 folhas | E21: 2 | F21: unidades | G21: URBEL | H21: 71.20.98 | I21: 24.97 | J21: TRDE | K21: =I21*'COMPOSIÇÃO HORA TÉCNICA'!$C$15 -> 31.355023 | L21: =ROUND(E21*K21,2) -> 62.71
D22: Pasta argola | E22: 1 | F22: unidades | G22: PESQUISA DE PREÇO | H22: - | I22: =I270 -> 31.4 | J22: TRDE | K22: =I22*'COMPOSIÇÃO HORA TÉCNICA'!$C$15 -> 39.429224 | L22: =ROUND(E22*K22,2) -> 39.43
C23: TRABALHO TÉCNICO SOCIAL | D23: Camiseta em malha | E23: 60 | F23: unidades | G23: URBEL | H23: 71.21.59 | I23: 26.35 | J23: TRDE | K23: =I23*'COMPOSIÇÃO HORA TÉCNICA'!$C$15 -> 33.0879 | L23: =ROUND(E23*K23,2) -> 1985.27
D24: Pasta de plástico com elástico | E24: 60 | F24: unidades | G24: URBEL | H24: 71.19.28 | I24: 4.02 | J24: TRDE | K24: =I24*'COMPOSIÇÃO HORA TÉCNICA'!$C$15 -> 5.0479452 | L24: =ROUND(E24*K24,2) -> 302.88
D25: Caneta esferográfica azul 1mm cx 50 unid | E25: 2 | F25: unidades | G25: URBEL | H25: 71.19.47 | I25: 49.73 | J25: TRDE | K25: =I25*'COMPOSIÇÃO HORA TÉCNICA'!$C$15 -> 62.446347 | L25: =ROUND(E25*K25,2) -> 124.89
D26: Banner em lona 1,0x1,2m | E26: 1 | F26: unidades | G26: URBEL | H26: 71.06.01 | I26: 95.23 | J26: TRDE | K26: =I26*'COMPOSIÇÃO HORA TÉCNICA'!$C$15 -> 119.58105 | L26: =ROUND(E26*K26,2) -> 119.58
D27: Locação de cadeira de plástico em polipropileno, sem braços | E27: 100 | F27: unidades | G27: URBEL | H27: 71.21.71 | I27: 3.07 | J27: TRDE | K27: =I27*'COMPOSIÇÃO HORA TÉCNICA'!$C$15 -> 3.8550228 | L27: =ROUND(E27*K27,2) -> 385.5
D28: Locação de imóvel (incluídos impostos e taxas) | E28: 0.033 | F28: mês | G28: URBEL | H28: 31.40.53 | I28: 3251.08 | J28: TRDE | K28: =I28*'COMPOSIÇÃO HORA TÉCNICA'!$C$15 -> 4082.4064 | L28: =ROUND(E28*K28,2) -> 134.72
D29: Lanche | E29: 100 | F29: unidades | G29: URBEL | H29: 71.06.13 | I29: 6.28 | J29: TRDE | K29: =I29*'COMPOSIÇÃO HORA TÉCNICA'!$C$15 -> 7.8858447 | L29: =ROUND(E29*K29,2) -> 788.58
B30: Relatório de Pesquisa Dominial e Cartorária | C30: PEÇAS GRÁFICAS | D30: Xerox preto/branco - Formato A4 | E30: 700 | F30: unidades | G30: SUDECAP | H30: 94.07.01 | I30: =I262 -> 0.5 | J30: TRDE | K30: =I30*'COMPOSIÇÃO HORA TÉCNICA'!$C$15 -> 0.62785388 | L30: =ROUND(E30*K30,2) -> 439.5 | M30: =SUM(L30:L36) -> 4269.63 | N30: ='MEMÓRIA DE CÁLCULO'!#REF! -> #REF! | O30: ='MEMÓRIA DE CÁLCULO'!#REF! -> #REF!
D31: Plotagem colorida sulfite - Formato A4 | E31: 1000 | F31: unidades | G31: SUDECAP | H31: 94.15.01 | I31: =I263 -> 2 | J31: TRDE | K31: =I31*'COMPOSIÇÃO HORA TÉCNICA'!$C$15 -> 2.5114155 | L31: =ROUND(E31*K31,2) -> 2511.42
D32: Plotagem colorida sulfite - Formato A2 | E32: 8 | F32: unidades | G32: SUDECAP | H32: 94.15.03 | I32: =I265 -> 9.5 | J32: TRDE | K32: =I32*'COMPOSIÇÃO HORA TÉCNICA'!$C$15 -> 11.929224 | L32: =ROUND(E32*K32,2) -> 95.43
D33: Plotagem colorida sulfite - Formato A1 | E33: 2 | F33: unidades | G33: SUDECAP | H33: 94.15.04 | I33: =I266 -> 12 | J33: TRDE | K33: =I33*'COMPOSIÇÃO HORA TÉCNICA'!$C$15 -> 15.068493 | L33: =ROUND(E33*K33,2) -> 30.14
D34: Pasta argola | E34: 1 | F34: unidades | G34: PESQUISA DE PREÇO | H34: - | I34: =I270 -> 31.4 | J34: TRDE | K34: =I34*'COMPOSIÇÃO HORA TÉCNICA'!$C$15 -> 39.429224 | L34: =ROUND(E34*K34,2) -> 39.43
C35: LOGÍSTICA | D35: Locação veículo popular motor 1.0 c/ ar e seguro | E35: 0.3 | F35: mês | G35: SUDECAP | H35: 54.40.06 | I35: =I274 -> 2441.57 | J35: TRDE | K35: =I35*'COMPOSIÇÃO HORA TÉCNICA'!$C$15 -> 3065.8984 | L35: =ROUND(E35*K35,2) -> 919.77
D36: Gasolina comum | E36: 30 | F36: litros | G36: SINAPI | H36: 4222 | I36: =I275 -> 6.21 | J36: TRDE | K36: =I36*'COMPOSIÇÃO HORA TÉCNICA'!$C$15 -> 7.7979452 | L36: =ROUND(E36*K36,2) -> 233.94
A39: ATUALIZAÇÃO DA BASE CARTOGRÁFICA | B39: Base Cartográfica Atualizada | C39: LOGÍSTICA | D39: Locação veículo popular motor 1.0 c/ ar e seguro | E39: 3 | F39: mês | G39: SUDECAP | H39: 54.40.06 | I39: =I274 -> 2441.57 | J39: TRDE | K39: =I39*'COMPOSIÇÃO HORA TÉCNICA'!$C$15 -> 3065.8984 | L39: =ROUND(E39*K39,2) -> 9197.7 | M39: =SUM(L39:L49) -> 22854.73
D40: Gasolina comum | E40: 300 | F40: litros | G40: SINAPI | H40: 4222 | I40: =I275 -> 6.21 | J40: TRDE | K40: =I40*'COMPOSIÇÃO HORA TÉCNICA'!$C$15 -> 7.7979452 | L40: =ROUND(E40*K40,2) -> 2339.38
C41: PEÇAS GRÁFICAS | D41: Xerox preto/branco - Formato A4 | E41: 1600 | F41: unidades | G41: SUDECAP | H41: 94.07.01 | I41: =I262 -> 0.5 | J41: TRDE | K41: =I41*'COMPOSIÇÃO HORA TÉCNICA'!$C$15 -> 0.62785388 | L41: =ROUND(E41*K41,2) -> 1004.57
D42: Plotagem colorida sulfite - Formato A4 | E42: 1600 | F42: unidades | G42: SUDECAP | H42: 94.15.01 | I42: =I263 -> 2 | J42: TRDE | K42: =I42*'COMPOSIÇÃO HORA TÉCNICA'!$C$15 -> 2.5114155 | L42: =ROUND(E42*K42,2) -> 4018.26
...
