Workbook

Sheet ORÇAMENTO
B1: PLANO INTEGRADO DE URBANIZAÇÃO E REGULARIZAÇÃO FUNDIÁRIA IPÊ AMARELO, VILA ESPERANÇA E VILA ESTALEIRO ANEXO 1.1 – PLANILHA ORÇAMENTÁRIA: IPÊ AMARELO
A2: FASE | B2: PRODUTO | C2: QUANTIDADE | D2: UNIDADE | E2: CUSTO UNITÁRIO | F2: CUSTO TOTAL | G2: MÊS DE DESEMBOLSO | H2: PERCENTUAL DO CONTRATO
A3: ETAPA 01 – PLANEJAMENTO DA URBANIZAÇÃO E REGULARIZAÇÃO FUNDIÁRIA
A4: LEVANTAMENTO SITUACIONAL E PESQUISA DOMINIAL | B4: Relatório de Levantamento Situacional | C4: 1 | D4: unidade | E4: =F4 -> 12607.89 | F4: ='MEMÓRIA DE CÁLCULO'!S4 -> 12607.89 | G4: 1 | H4: =F4/$F$32 -> 0.016609796
B5: Plano de Mobilização, Organização e Capacitação Social | C5: 1 | D5: unidade | E5: =F5 -> 4334.94 | F5: ='MEMÓRIA DE CÁLCULO'!S11 -> 4334.94 | G5: 1 | H5: =F5/$F$32 -> 0.0057109055
B6: Relatório de Pesquisa Dominial e Cartorária | C6: 1 | D6: unidade | E6: =F6 -> 8699.32 | F6: ='MEMÓRIA DE CÁLCULO'!S13 -> 8699.32 | G6: 2 | H6: =F6/$F$32 -> 0.011460596
A7: ATUALIZAÇÃO DA BASE CARTOGRÁFICA | B7: Levantamento Planialtimétrico Cadastral | C7: ='MEMÓRIA DE CÁLCULO'!D17 -> 100879 | D7: m² | E7: ='MEMÓRIA DE CÁLCULO'!L17 -> 2.84 | F7: =ROUND('MEMÓRIA DE CÁLCULO'!M17,2) -> 286496.36 | G7: 4 | H7: =F7/$F$32 -> 0.37743398
B8: Base Cartográfica Atualizada | C8: 1 | D8: unidade | E8: =F8 -> 61530.2 | F8: ='MEMÓRIA DE CÁLCULO'!S19 -> 61530.2 | G8: 4 | H8: =F8/$F$32 -> 0.081060674
A9: SELAGEM E CADASTRO SOCIOECONÔMICO E FUNDIÁRIO | B9: Relatório da fase de Selagem e Cadastro Socioeconômico e Fundiário, incluindo como anexo o arquivo digital do Banco de Dados Preliminar e os prontuários separados por selo | C9: 1 | D9: unidade | E9: =F9 -> 73249.28 | F9: ='MEMÓRIA DE CÁLCULO'!S22 -> 73249.28 | G9: 6 | H9: =F9/$F$32 -> 0.096499541
A10: DIAGNÓSTICOS | B10: Diagnóstico Setorial Jurídico | C10: 1 | D10: unidade | E10: =F10 -> 5691.08 | F10: ='MEMÓRIA DE CÁLCULO'!S28 -> 5691.08 | G10: 9 | H10: =F10/$F$32 -> 0.0074975018
B11: Diagnóstico Setorial dos Aspectos Físico-Urbano-Ambientais | C11: 1 | D11: unidade | E11: =F11 -> 25525.32 | F11: ='MEMÓRIA DE CÁLCULO'!S30 -> 25525.32 | G11: 9 | H11: =F11/$F$32 -> 0.033627384
B12: Diagnóstico Setorial dos Aspectos Socioeconômico Organizativos | C12: 1 | D12: unidade | E12: =F12 -> 4129.63 | F12: ='MEMÓRIA DE CÁLCULO'!S33 -> 4129.63 | G12: 9 | H12: =F12/$F$32 -> 0.0054404275
B13: Diagnóstico Integrado | C13: 1 | D13: unidade | E13: =F13 -> 11044.06 | F13: ='MEMÓRIA DE CÁLCULO'!S35 -> 11044.06 | G13: 10 | H13: =F13/$F$32 -> 0.014549586
A14: PROPOSTAS DE SOLUÇÃO DAS DESCONFORMIDADES | B14: Relatório de Cenário de Intervenção Integrada | C14: 1 | D14: unidade | E14: =F14 -> 8852.38 | F14: ='MEMÓRIA DE CÁLCULO'!S41 -> 8852.38 | G14: 12 | H14: =F14/$F$32 -> 0.011662239
B15: Propostas de Intervenção Físico-Urbano-Ambientais | C15: 1 | D15: unidade | E15: =F15 -> 22981.83 | F15: ='MEMÓRIA DE CÁLCULO'!S45 -> 22981.83 | G15: 13 | H15: =F15/$F$32 -> 0.030276557
B16: Propostas de Intervenção Socioeconômico-Organizativas | C16: 1 | D16: unidade | E16: =F16 -> 4145.95 | F16: ='MEMÓRIA DE CÁLCULO'!S50 -> 4145.95 | G16: 13 | H16: =F16/$F$32 -> 0.0054619277
B17: Propostas de Intervenção Jurídico-Legais | C17: 1 | D17: unidade | E17: =F17 -> 8132.06 | F17: ='MEMÓRIA DE CÁLCULO'!S52 -> 8132.06 | G17: 13 | H17: =F17/$F$32 -> 0.01071328
B18: Estimativas de Custos de Urbanização | C18: 1 | D18: unidade | E18: =F18 -> 6364.93 | F18: ='MEMÓRIA DE CÁLCULO'!S55 -> 6364.93 | G18: 14 | H18: =F18/$F$32 -> 0.0083852404
B19: Hierarquização de Ações e Obras | C19: 1 | D19: unidade | E19: =F19 -> 7613.82 | F19: ='MEMÓRIA DE CÁLCULO'!S56 -> 7613.82 | G19: 14 | H19: =F19/$F$32 -> 0.010030544
A20: ETAPA 02 – PROJETO DE REGULARIZAÇÃO FUNDIÁRIA SUSTENTÁVEL
A21: REGULARIZAÇÃO FUNDIÁRIA URBANA REURB | B21: Relatório elucidativo dos procedimentos técnicos e administrativos referentes à Demarcação Urbanística | C21: 1 | D21: unidade | E21: =F21 -> 15878.02 | F21: ='MEMÓRIA DE CÁLCULO'!S61 -> 15878.02 | G21: 17 | H21: =F21/$F$32 -> 0.020917907
B22: Projeto de Parcelamento preliminar | C22: 1 | D22: unidade | E22: =F22 -> 12037.31 | F22: ='MEMÓRIA DE CÁLCULO'!S69 -> 12037.31 | G22: 18 | H22: =F22/$F$32 -> 0.015858107
B23: Listagem preliminar das unidades e beneficiários | C23: 1 | D23: unidade | E23: =F23 -> 3257.47 | F23: ='MEMÓRIA DE CÁLCULO'!S71 -> 3257.47 | G23: 18 | H23: =F23/$F$32 -> 0.0042914327
B24: Relatório demonstrativo do Plantão de Conferência Documental e Parcelamento | C24: 1 | D24: unidade | E24: =F24 -> 76211.15 | F24: ='MEMÓRIA DE CÁLCULO'!S72 -> 76211.15 | G24: 20 | H24: =F24/$F$32 -> 0.10040155
B25: Projeto de Regularização Fundiária | C25: 1 | D25: unidade | E25: =F25 -> 15128.33 | F25: ='MEMÓRIA DE CÁLCULO'!S75 -> 15128.33 | G25: 20 | H25: =F25/$F$32 -> 0.019930256
B26: Relatório demonstrativo do Plantão Pré-Titulação | C26: 1 | D26: unidade | E26: =F26 -> 57938.97 | F26: ='MEMÓRIA DE CÁLCULO'!S77 -> 57938.97 | G26: 21 | H26: =F26/$F$32 -> 0.076329542
B27: Banco de Dados Consolidado | C27: 1 | D27: unidade | E27: =F27 -> 2367.19 | F27: ='MEMÓRIA DE CÁLCULO'!S80 -> 2367.19 | G27: 22 | H27: =F27/$F$32 -> 0.0031185665
A28: TITULAÇÃO | B28: Registro da CRF no Cartório de Registro de Imóveis | C28: 1 | D28: unidade | E28: =F28 -> 5329.16 | F28: ='MEMÓRIA DE CÁLCULO'!S82 -> 5329.16 | G28: 22 | H28: =F28/$F$32 -> 0.0070207037
B29: Certidões de registro dos títulos individualizados | C29: 1 | D29: unidade | E29: =F29 -> 7026.26 | F29: ='MEMÓRIA DE CÁLCULO'!S84 -> 7026.26 | G29: 23 | H29: =F29/$F$32 -> 0.009256485
B30: Documentos finais sistematizados | C30: 1 | D30: unidade | E30: =F30 -> 4418.95 | F30: ='MEMÓRIA DE CÁLCULO'!S88 -> 4418.95 | G30: 24 | H30: =F30/$F$32 -> 0.0058215814
B31: Relatório síntese do resultado das assembleias de entrega de títulos | C31: 1 | D31: unidade | E31: =F31 -> 8071.65 | F31: ='MEMÓRIA DE CÁLCULO'!S90 -> 8071.65 | G31: 24 | H31: =F31/$F$32 -> 0.010633695
A32: TOTAL | F32: =SUM(F4:F19,F21:F31) -> 759063.51 | H32: 1

Sheet CRONOGRAMA FISICO FINANC
A1: PLANO INTEGRADO DE URBANIZAÇÃO E REGULARIZAÇÃO FUNDIÁRIA IPÊ AMARELO, VILA ESPERANÇA E VILA ESTALEIRO ANEXO 1.2 – CRONOGRAMA FÍSICO-FINANCEIRO: IPÊ AMARELO
A2: FASE | B2: ATIVIDADE | C2: PRODUTO | D2: 1 | E2: 2 | F2: 3 | G2: 4 | H2: 5 | I2: 6 | J2: 7 | K2: 8 | L2: 9 | M2: 10 | N2: 11 | O2: 12 | P2: 13 | Q2: 14 | R2: 15 | S2: 16 | T2: 17 | U2: 18 | V2: 19 | W2: 20 | X2: 21 | Y2: 22 | Z2: 23 | AA2: 24
A3: ETAPA 01 – PLANEJAMENTO DA URBANIZAÇÃO E REGULARIZAÇÃO FUNDIÁRIA
A4: LEVANTAMENTO SITUACIONAL E PESQUISA DOMINIAL | B4: Vistoria técnica multidisciplinar | C4: Relatório de Levantamento Situacional | D4: ='MEMÓRIA DE CÁLCULO'!S4 -> 12607.89
B6: Sistematização das informações
B8: Trabalho Técnico Social
B9: Plano de Mobilização, Organização e Capacitação Social | C9: Plano de Mobilização, Organização e Capacitação Social | D9: ='MEMÓRIA DE CÁLCULO'!S11 -> 4334.94
B10: Trabalho Técnico Social
B11: Pesquisa Cartorária | C11: Relatório de Pesquisa Dominial e Cartorária | E11: ='MEMÓRIA DE CÁLCULO'!S13 -> 8699.32
B12: Quadro dominial
B14: =SUM(D4,D9,E11) -> 25642.15
A15: ATUALIZAÇÃO DA BASE CARTOGRÁFICA | B15: Levantamento Planialtimétrico Cadastral | C15: Levantamento Planialtimétrico Cadastral | G15: ='MEMÓRIA DE CÁLCULO'!S17 -> 286496.36
B16: Atualização da Base | C16: Base Cartográfica Atualizada | G16: ='MEMÓRIA DE CÁLCULO'!S19 -> 61530.2
B17: Trabalho Técnico Social
B18: =SUM(G15,G16) -> 348026.56
A19: SELAGEM E CADASTRO SOCIOECONÔMICO E FUNDIÁRIO | B19: Contagem de Domicílio e Selagem | C19: Relatório da fase de Selagem e Cadastro Socioeconômico e Fundiário, incluindo como anexo o arquivo digital do Banco de Dados Preliminar e os prontuários separados por selo | I19: ='MEMÓRIA DE CÁLCULO'!S22 -> 73249.28
B20: Aplicação de Cadastro
B21: Montagem de Banco de Dados
B22: Trabalho Técnico Social
B23: =SUM(I19) -> 73249.28
A24: DIAGNÓSTICO | B24: Jurídico | C24: Diagnóstico Setorial Jurídico | L24: ='MEMÓRIA DE CÁLCULO'!S28 -> 5691.08
B25: Trabalho Técnico Social
B26: Físico-Urbano-Ambiental | C26: Diagnóstico Setorial dos Aspectos Físico-Urbano-Ambientais | L26: ='MEMÓRIA DE CÁLCULO'!S30 -> 25525.32
B27: Trabalho Técnico Social
B28: Socioeconômico-Organizativo | C28: Diagnóstico Setorial dos Aspectos Socioeconômico Organizativos | L28: ='MEMÓRIA DE CÁLCULO'!S33 -> 4129.63
B29: Trabalho Técnico Social
B30: Integrado | C30: Diagnóstico Integrado | M30: ='MEMÓRIA DE CÁLCULO'!S35 -> 11044.06
B31: Trabalho Técnico Social
B32: =SUM(L24,L26,L28,M30) -> 46390.09
A33: PROPOSTAS DE SOLUÇÃO DAS DESCONFORMIDADES | B33: Estudo de Cenário de Intervenção Integrada | C33: Relatório de Cenário de Intervenção Integrada | O33: ='MEMÓRIA DE CÁLCULO'!S41 -> 8852.38
B34: Trabalho Técnico Social
B35: Propostas de Intervenção Físico-Urbano-Ambiental | C35: Propostas de Intervenção Físico-Urbano-Ambiental | P35: ='MEMÓRIA DE CÁLCULO'!S45 -> 22981.83
B36: Plano de Intervenção Integrada
B37: Trabalho Técnico Social
B38: Propostas de Interevenção Socioeconômica-Organizativa | C38: Propostas de Interevenção Socioeconômica-Organizativa | P38: ='MEMÓRIA DE CÁLCULO'!S50 -> 4145.95
B39: Trabalho Técnico Social
B40: Propostas de Intervenção Jurídico-Legais | C40: Propostas de Intervenção Jurídico-Legais | P40: ='MEMÓRIA DE CÁLCULO'!S52 -> 8132.06
B41: Plano de Regularização Fundiária
B42: Trabalho Técnico Social
B43: Estimativa de custos de Urbanização | C43: Estimativa de custos de Urbanização | Q43: ='MEMÓRIA DE CÁLCULO'!S55 -> 6364.93
...

Sheet MEMÓRIA DE CÁLCULO
A1: PLANO INTEGRADO DE URBANIZAÇÃO E REGULARIZAÇÃO FUNDIÁRIA IPÊ AMARELO, VILA ESPERANÇA E VILA ESTALEIRO ANEXO 1.3 – MEMÓRIA DE CÁLCULO: IPÊ AMARELO
A2: FASE | B2: PRODUTO | C2: ATIVIDADE | D2: QUANTIDADE | E2: UNIDADE | F2: QUANTIDADE DE PROFISSIONAIS | G2: PROFISSIONAIS | H2: REFERÊNCIA | I2: CÓDIGO | J2: CUSTO UNITÁRIO | K2: FATOR DE PREÇO | L2: CUSTO C/ FATOR DE PREÇO | M2: TOTAL S/ DESPESAS COMPLEMENTARES POR ATIVIDADE | N2: TOTAL S/ DESPESAS COMPLEMENTARES E S/ COORDENAÇÃO POR PRODUTO | O2: PROPORCIONAL COORDENAÇÃO | P2: PROPORCIONAL COORDENAÇÃO POR PRODUTO | Q2: TOTAL S/ DESPESAS COMPLEMENTARES POR PRODUTO | R2: DESPESAS COMPLEMENTARES POR PRODUTO CONFORME ANEXO 1.3.2 | S2: TOTAL C/ DESPESAS COMPLEMENTARES POR PRODUTO | T2: PERCENTUAL DO TOTAL S/ DESP. COMP. E SEM COORD. | U2: PERCENTUAL DA ETAPA
A3: ETAPA 01 – PLANEJAMENTO DA URBANIZAÇÃO E REGULARIZAÇÃO FUNDIÁRIA
A4: LEVANTAMENTO SITUACIONAL E PESQUISA DOMINIAL | B4: Relatório de Levantamento Situacional | C4: Vistoria técnica multidisciplinar | D4: 4 | E4: h | F4: 1 | G4: Arquiteto Júnior | H4: SINAPI | I4: 33939 | J4: ='COMPOSIÇÃO HORA TÉCNICA'!E6 -> 60.510171 | K4: K | L4: ='COMPOSIÇÃO HORA TÉCNICA'!F6 -> 143.35 | M4: =ROUND(D4*F4*L4,2) -> 573.4 | N4: =SUM(M4:M10) -> 6670.34 | O4: 69.734705 | P4: =SUM(O4:O10) -> 811.22112 | Q4: =N4+P4 -> 7481.5611 | R4: ='DESPESAS COMPLEMENTARES'!M3 -> 5126.33 | S4: =ROUND(Q4+R4,2) -> 12607.89 | T4: =R4+S4 -> 17734.22 | U4: =S4+T4 -> 30342.11
D5: 4 | E5: h | F5: 1 | G5: Técnico de Nível Superior | H5: URBEL | I5: 31.40.32 | J5: ='COMPOSIÇÃO HORA TÉCNICA'!E8 -> 31.83 | K5: K | L5: ='COMPOSIÇÃO HORA TÉCNICA'!$F$8 -> 75.41 | M5: =ROUND(D5*F5*L5,2) -> 301.64 | O5: 36.684298
D6: 4 | E6: h | F6: 1 | G6: Advogado Sênior | H6: DNIT | I6: P8003 | J6: ='COMPOSIÇÃO HORA TÉCNICA'!E9 -> 54.21 | K6: K | L6: ='COMPOSIÇÃO HORA TÉCNICA'!F9 -> 128.42 | M6: =ROUND(D6*F6*L6,2) -> 513.68 | O6: 62.471788
C7: Sistematização das informações | D7: 16 | E7: h | F7: 1 | G7: Arquiteto Júnior | H7: SINAPI | I7: 33939 | J7: ='COMPOSIÇÃO HORA TÉCNICA'!E6 -> 60.510171 | K7: K | L7: ='COMPOSIÇÃO HORA TÉCNICA'!F6 -> 143.35 | M7: =ROUND(D7*F7*L7,2) -> 2293.6 | O7: 278.93882
D8: 16 | E8: h | F8: 1 | G8: Técnico de Nível Superior | H8: URBEL | I8: 31.40.32 | J8: ='COMPOSIÇÃO HORA TÉCNICA'!E8 -> 31.83 | K8: K | L8: ='COMPOSIÇÃO HORA TÉCNICA'!$F$8 -> 75.41 | M8: =ROUND(D8*F8*L8,2) -> 1206.56 | O8: 146.73719
D9: 8 | E9: h | F9: 1 | G9: Advogado Sênior | H9: DNIT | I9: P8003 | J9: ='COMPOSIÇÃO HORA TÉCNICA'!E9 -> 54.21 | K9: K | L9: ='COMPOSIÇÃO HORA TÉCNICA'!F9 -> 128.42 | M9: =ROUND(D9*F9*L9,2) -> 1027.36 | O9: 124.94358
C10: Trabalho Técnico Social | D10: 10 | E10: h | F10: 1 | G10: Técnico de Nível Superior | H10: URBEL | I10: 31.40.32 | J10: ='COMPOSIÇÃO HORA TÉCNICA'!E8 -> 31.83 | K10: K | L10: ='COMPOSIÇÃO HORA TÉCNICA'!$F$8 -> 75.41 | M10: =ROUND(D10*F10*L10,2) -> 754.1 | O10: 91.710745
B11: Plano de Mobilização, Organização e Capacitação Social | C11: Plano de Mobilização, Organização e Capacitação Social | D11: 20 | E11: h | F11: 1 | G11: Técnico de Nível Superior | H11: URBEL | I11: 31.40.32 | J11: ='COMPOSIÇÃO HORA TÉCNICA'!E8 -> 31.83 | K11: K | L11: ='COMPOSIÇÃO HORA TÉCNICA'!$F$8 -> 75.41 | M11: =ROUND(D11*F11*L11,2) -> 1508.2 | N11: =SUM(M11:M12) -> 2262.3 | O11: 183.42149 | P11: =O11+O12 -> 275.13223 | Q11: =N11+P11 -> 2537.4322 | R11: ='DESPESAS COMPLEMENTARES'!M16 -> 1797.51 | S11: =ROUND(Q11+R11,2) -> 4334.94 | T11: =M11/($M$16+$M$21+$M$27+$M$40+$M$59+$M$81+$M$93) -> 0.0024485395 | U11: =M11/$M$16 -> 0.095158416
C12: Trabalho Técnico Social | D12: 10 | E12: h | F12: 1 | G12: Técnico de Nível Superior | H12: URBEL | I12: 31.40.32 | J12: ='COMPOSIÇÃO HORA TÉCNICA'!E8 -> 31.83 | K12: K | L12: ='COMPOSIÇÃO HORA TÉCNICA'!$F$8 -> 75.41 | M12: =ROUND(D12*F12*L12,2) -> 754.1 | O12: 91.710745 | T12: =M12/($M$16+$M$21+$M$27+$M$40+$M$59+$M$81+$M$93) -> 0.0012242698 | U12: =M12/$M$16 -> 0.047579208
B13: Relatório de Pesquisa Dominial e Cartorária | C13: Pesquisa Cartorária | D13: 20 | E13: h | F13: 1 | G13: Advogado Sênior | H13: DNIT | I13: P8003 | J13: ='COMPOSIÇÃO HORA TÉCNICA'!E9 -> 54.21 | K13: K | L13: ='COMPOSIÇÃO HORA TÉCNICA'!F9 -> 128.42 | M13: =ROUND(D13*F13*L13,2) -> 2568.4 | N13: =M13+M14+M15 -> 6916.72 | O13: 312.35894 | P13: =O13+O14+O15 -> 841.18491 | Q13: =N13+P13 -> 7757.9049 | R13: ='DESPESAS COMPLEMENTARES'!M26 -> 941.42 | S13: =ROUND(Q13+R13,2) -> 8699.32 | T13: =M13/($M$16+$M$21+$M$27+$M$40+$M$59+$M$81+$M$93) -> 0.0041697579 | U13: =M13/$M$16 -> 0.16205071
C14: Quadro dominial | D14: 16 | E14: h | F14: 1 | G14: Arquiteto Júnior | H14: SINAPI | I14: 33939 | J14: ='COMPOSIÇÃO HORA TÉCNICA'!E6 -> 60.510171 | K14: K | L14: ='COMPOSIÇÃO HORA TÉCNICA'!F6 -> 143.35 | M14: =ROUND(D14*F14*L14,2) -> 2293.6 | O14: 278.93882 | T14: =M14/($M$16+$M$21+$M$27+$M$40+$M$59+$M$81+$M$93) -> 0.0037236243 | U14: =M14/$M$16 -> 0.14471247
D15: 16 | E15: h | F15: 1 | G15: Advogado Sênior | H15: DNIT | I15: P8003 | J15: ='COMPOSIÇÃO HORA TÉCNICA'!E9 -> 54.21 | K15: K | L15: ='COMPOSIÇÃO HORA TÉCNICA'!F9 -> 128.42 | M15: =ROUND(D15*F15*L15,2) -> 2054.72 | O15: 249.88715 | T15: =M15/($M$16+$M$21+$M$27+$M$40+$M$59+$M$81+$M$93) -> 0.0033358063 | U15: =M15/$M$16 -> 0.12964057
M16: =SUM(M4:M15) -> 15849.36
A17: ATUALIZAÇÃO DA BASE CARTOGRÁFICA | B17: Levantamento Planialtimétrico Cadastral | C17: Levantamento Planialtimétrico Cadastral | D17: 100879 | E17: m² | F17: - | G17: - | H17: URBEL | I17: 18.17.01 | J17: 2.26 | K17: TRDE | L17: =ROUND(J17*'COMPOSIÇÃO HORA TÉCNICA'!C15,2) -> 2.84 | M17: =D17*L17 -> 286496.36 | N17: =M17 -> 286496.36 | O17: =($M$95)*$T17 -> 34830.601 | P17: 0 | Q17: =N17+P17 -> 286496.36 | R17: 0 | S17: =ROUND(Q17+R17,2) -> 286496.36 | T17: =M17/($M$16+$M$21+$M$27+$M$40+$M$59+$M$81+$M$93) -> 0.46512244 | U17: =M17/$M$21 -> 0.96346747
C18: Trabalho Técnico Social | D18: 20 | E18: h | F18: 1 | G18: Técnico de Nível Superior | H18: URBEL | I18: 31.40.32 | J18: ='COMPOSIÇÃO HORA TÉCNICA'!E8 -> 31.83 | K18: K | L18: ='COMPOSIÇÃO HORA TÉCNICA'!$F$8 -> 75.41 | M18: =ROUND(D18*F18*L18,2) -> 1508.2 | O18: =($M$95)*$T18 -> 183.35839 | T18: =M18/($M$16+$M$21+$M$27+$M$40+$M$59+$M$81+$M$93) -> 0.0024485395 | U18: =M18/$M$21 -> 0.0050719724
B19: Base Cartográfica Atualizada | C19: Atualização de Base | D19: 30 | E19: h | F19: 2 | G19: Arquiteto Júnior | H19: SINAPI | I19: 33939 | J19: ='COMPOSIÇÃO HORA TÉCNICA'!E6 -> 60.510171 | K19: K | L19: ='COMPOSIÇÃO HORA TÉCNICA'!F6 -> 143.35 | M19: =ROUND(D19*F19*L19,2) -> 8601 | N19: =SUM(M18:M20) -> 10863.3 | O19: =($M$95)*$T19 -> 1045.6607 | P19: 36137.97 | Q19: =N19+P19 -> 47001.27 | R19: ='DESPESAS COMPLEMENTARES'!M45+'DESPESAS COMPLEMENTARES'!M35 -> 14528.93 | S19: =ROUND(Q19+R19,2) -> 61530.2 | T19: =M19/($M$16+$M$21+$M$27+$M$40+$M$59+$M$81+$M$93) -> 0.013963591 | U19: =M19/$M$21 -> 0.028924569
C20: Trabalho Técnico Social | D20: 10 | E20: h | F20: 1 | G20: Técnico de Nível Superior | H20: URBEL | I20: 31.40.32 | J20: ='COMPOSIÇÃO HORA TÉCNICA'!E8 -> 31.83 | K20: K | L20: ='COMPOSIÇÃO HORA TÉCNICA'!$F$8 -> 75.41 | M20: =ROUND(D20*F20*L20,2) -> 754.1 | O20: =($M$95)*$T20 -> 91.679196 | T20: =M20/($M$16+$M$21+$M$27+$M$40+$M$59+$M$81+$M$93) -> 0.0012242698 | U20: =M20/$M$21 -> 0.0025359862
M21: =SUM(M17:M20) -> 297359.66
A22: SELAGEM E CADASTRO SOCIOECONÔMICO E FUNDIÁRIO | B22: Relatório da fase de Selagem e Cadastro Socioeconômico e Fundiário, incluindo como anexo o arquivo digital do Banco de Dados Preliminar e os prontuários separados por selo | C22: Contagem de Domicílio e Selagem | D22: 100 | E22: h | F22: 1 | G22: Arquiteto Júnior | H22: SINAPI | I22: 33939 | J22: ='COMPOSIÇÃO HORA TÉCNICA'!E6 -> 60.510171 | K22: K | L22: ='COMPOSIÇÃO HORA TÉCNICA'!F6 -> 143.35 | M22: =ROUND(D22*F22*L22,2) -> 14335 | N22: =SUM(M22:M26) -> 55810.5 | O22: 1743.3676 | P22: =SUM(O22:O26) -> 6787.4586 | Q22: =N22+P22 -> 62597.959 | R22: ='DESPESAS COMPLEMENTARES'!M55 -> 10651.32 | S22: =ROUND(Q22+R22,2) -> 73249.28 | T22: =M22/($M$16+$M$21+$M$27+$M$40+$M$59+$M$81+$M$93) -> 0.023272652 | U22: =M22/$M$27 -> 0.25685131
D23: 100 | E23: h | F23: 2 | G23: Técnico de Nível Superior | H23: URBEL | I23: 31.40.32 | J23: ='COMPOSIÇÃO HORA TÉCNICA'!E8 -> 31.83 | K23: K | L23: ='COMPOSIÇÃO HORA TÉCNICA'!$F$8 -> 75.41 | M23: =ROUND(D23*F23*L23,2) -> 15082 | O23: 1834.2149 | T23: =M23/($M$16+$M$21+$M$27+$M$40+$M$59+$M$81+$M$93) -> 0.024485395 | U23: =M23/$M$27 -> 0.27023589
C24: Aplicação de Cadastro | D24: 160 | E24: h | F24: 2 | G24: Técnico de Nível Superior | H24: URBEL | I24: 31.40.32 | J24: ='COMPOSIÇÃO HORA TÉCNICA'!E8 -> 31.83 | K24: K | L24: ='COMPOSIÇÃO HORA TÉCNICA'!$F$8 -> 75.41 | M24: =ROUND(D24*F24*L24,2) -> 24131.2 | O24: 2934.7438 | T24: =M24/($M$16+$M$21+$M$27+$M$40+$M$59+$M$81+$M$93) -> 0.039176632 | U24: =M24/$M$27 -> 0.43237742
C25: Montagem de Banco de Dados | D25: 20 | E25: h | F25: 1 | G25: Técnico de Nível Superior | H25: URBEL | I25: 31.40.32 | J25: ='COMPOSIÇÃO HORA TÉCNICA'!E8 -> 31.83 | K25: K | L25: ='COMPOSIÇÃO HORA TÉCNICA'!$F$8 -> 75.41 | M25: =ROUND(D25*F25*L25,2) -> 1508.2 | O25: 183.42149 | T25: =M25/($M$16+$M$21+$M$27+$M$40+$M$59+$M$81+$M$93) -> 0.0024485395 | U25: =M25/$M$27 -> 0.027023589
C26: Trabalho Técnico Social | D26: 10 | E26: h | F26: 1 | G26: Técnico de Nível Superior | H26: URBEL | I26: 31.40.32 | J26: ='COMPOSIÇÃO HORA TÉCNICA'!E8 -> 31.83 | K26: K | L26: ='COMPOSIÇÃO HORA TÉCNICA'!$F$8 -> 75.41 | M26: =ROUND(D26*F26*L26,2) -> 754.1 | O26: 91.710745 | T26: =M26/($M$16+$M$21+$M$27+$M$40+$M$59+$M$81+$M$93) -> 0.0012242698 | U26: =M26/$M$27 -> 0.013511794
M27: =SUM(M22:M26) -> 55810.5
A28: DIAGNÓSTICO | B28: Diagnóstico Setorial Jurídico | C28: Jurídico | D28: 30 | E28: h | F28: 1 | G28: Advogado Sênior | H28: DNIT | I28: P8003 | J28: ='COMPOSIÇÃO HORA TÉCNICA'!E9 -> 54.21 | K28: K | L28: ='COMPOSIÇÃO HORA TÉCNICA'!F9 -> 128.42 | M28: =ROUND(D28*F28*L28,2) -> 3852.6 | N28: =M28+M29 -> 4606.7 | O28: 468.53841 | P28: =O28+O29 -> 560.24915 | Q28: =N28+P28 -> 5166.9492 | R28: ='DESPESAS COMPLEMENTARES'!M68 -> 524.13 | S28: =ROUND(Q28+R28,2) -> 5691.08 | T28: =M28/($M$16+$M$21+$M$27+$M$40+$M$59+$M$81+$M$93) -> 0.0062546369 | U28: =M28/$M$40 -> 0.10593956
C29: Trabalho Técnico Social | D29: 10 | E29: h | F29: 1 | G29: Técnico de Nível Superior | H29: URBEL | I29: 31.40.32 | J29: ='COMPOSIÇÃO HORA TÉCNICA'!E8 -> 31.83 | K29: K | L29: ='COMPOSIÇÃO HORA TÉCNICA'!$F$8 -> 75.41 | M29: =ROUND(D29*F29*L29,2) -> 754.1 | O29: 91.710745 | T29: =M29/($M$16+$M$21+$M$27+$M$40+$M$59+$M$81+$M$93) -> 0.0012242698 | U29: =M29/$M$40 -> 0.020736391
B30: Diagnóstico Setorial dos Aspectos Físico-Urbano-Ambientais | C30: Físico-Urbano-Ambiental | D30: 60 | E30: h | F30: 1 | G30: Arquiteto Júnior | H30: SINAPI | I30: 33939 | J30: ='COMPOSIÇÃO HORA TÉCNICA'!E6 -> 60.510171 | K30: K | L30: ='COMPOSIÇÃO HORA TÉCNICA'!F6 -> 143.35 | M30: =ROUND(D30*F30*L30,2) -> 8601 | N30: =M30+M31+M32 -> 19680.5 | O30: 1046.0206 | P30: =O30+O31+O32 -> 2393.4668 | Q30: =N30+P30 -> 22073.967 | R30: ='DESPESAS COMPLEMENTARES'!M73 -> 3451.35 | S30: =ROUND(Q30+R30,2) -> 25525.32 | T30: =M30/($M$16+$M$21+$M$27+$M$40+$M$59+$M$81+$M$93) -> 0.013963591 | U30: =M30/$M$40 -> 0.236512
D31: 60 | E31: h | F31: 1 | G31: Engenheiro Intermediário | H31: SUDECAP | I31: 56.11.05 | J31: ='COMPOSIÇÃO HORA TÉCNICA'!E5 -> 72.64 | K31: K | L31: ='COMPOSIÇÃO HORA TÉCNICA'!F5 -> 172.09 | M31: =ROUND(D31*F31*L31,2) -> 10325.4 | O31: 1255.7355 | T31: =M31/($M$16+$M$21+$M$27+$M$40+$M$59+$M$81+$M$93) -> 0.016763128 | U31: =M31/$M$40 -> 0.28392989
C32: Trabalho Técnico Social | D32: 10 | E32: h | F32: 1 | G32: Técnico de Nível Superior | H32: URBEL | I32: 31.40.32 | J32: ='COMPOSIÇÃO HORA TÉCNICA'!E8 -> 31.83 | K32: K | L32: ='COMPOSIÇÃO HORA TÉCNICA'!$F$8 -> 75.41 | M32: =ROUND(D32*F32*L32,2) -> 754.1 | O32: 91.710745 | T32: =M32/($M$16+$M$21+$M$27+$M$40+$M$59+$M$81+$M$93) -> 0.0012242698 | U32: =M32/$M$40 -> 0.020736391
B33: Diagnóstico Setorial dos Aspectos Socioeconômico Organizativos | C33: Socioeconômico-Organizativo | D33: 30 | E33: h | F33: 1 | G33: Técnico de Nível Superior | H33: URBEL | I33: 31.40.32 | J33: ='COMPOSIÇÃO HORA TÉCNICA'!E8 -> 31.83 | K33: K | L33: ='COMPOSIÇÃO HORA TÉCNICA'!$F$8 -> 75.41 | M33: =ROUND(D33*F33*L33,2) -> 2262.3 | N33: =M33+M34 -> 3016.4 | O33: 275.13223 | P33: =O33+O34 -> 366.84298 | Q33: =N33+P33 -> 3383.243 | R33: ='DESPESAS COMPLEMENTARES'!M81 -> 746.39 | S33: =ROUND(Q33+R33,2) -> 4129.63 | T33: =M33/($M$16+$M$21+$M$27+$M$40+$M$59+$M$81+$M$93) -> 0.0036728093 | U33: =M33/$M$40 -> 0.062209172
C34: Trabalho Técnico Social | D34: 10 | E34: h | F34: 1 | G34: Técnico de Nível Superior | H34: URBEL | I34: 31.40.32 | J34: ='COMPOSIÇÃO HORA TÉCNICA'!E8 -> 31.83 | K34: K | L34: ='COMPOSIÇÃO HORA TÉCNICA'!$F$8 -> 75.41 | M34: =ROUND(D34*F34*L34,2) -> 754.1 | O34: 91.710745 | T34: =M34/($M$16+$M$21+$M$27+$M$40+$M$59+$M$81+$M$93) -> 0.0012242698 | U34: =M34/$M$40 -> 0.020736391
B35: Diagnóstico Integrado | C35: Integrado | D35: 16 | E35: h | F35: 1 | G35: Arquiteto Júnior | H35: SINAPI | I35: 33939 | J35: ='COMPOSIÇÃO HORA TÉCNICA'!E6 -> 60.510171 | K35: K | L35: ='COMPOSIÇÃO HORA TÉCNICA'!F6 -> 143.35 | M35: =ROUND(D35*F35*L35,2) -> 2293.6 | N35: =SUM(M35:M39) -> 9062.42 | O35: 278.93882 | P35: =SUM(O35:O39) -> 1102.1367 | Q35: =N35+P35 -> 10164.557 | R35: ='DESPESAS COMPLEMENTARES'!M87 -> 879.5 | S35: =ROUND(Q35+R35,2) -> 11044.06 | T35: =M35/($M$16+$M$21+$M$27+$M$40+$M$59+$M$81+$M$93) -> 0.0037236243 | U35: =M35/$M$40 -> 0.063069866
D36: 16 | E36: h | F36: 1 | G36: Técnico de Nível Superior | H36: URBEL | I36: 31.40.32 | J36: ='COMPOSIÇÃO HORA TÉCNICA'!E8 -> 31.83 | K36: K | L36: ='COMPOSIÇÃO HORA TÉCNICA'!$F$8 -> 75.41 | M36: =ROUND(D36*F36*L36,2) -> 1206.56 | O36: 146.73719 | T36: =M36/($M$16+$M$21+$M$27+$M$40+$M$59+$M$81+$M$93) -> 0.0019588316 | U36: =M36/$M$40 -> 0.033178225
D37: 16 | E37: h | F37: 1 | G37: Advogado Sênior | H37: DNIT | I37: P8003 | J37: ='COMPOSIÇÃO HORA TÉCNICA'!E9 -> 54.21 | K37: K | L37: ='COMPOSIÇÃO HORA TÉCNICA'!F9 -> 128.42 | M37: =ROUND(D37*F37*L37,2) -> 2054.72 | O37: 249.88715 | T37: =M37/($M$16+$M$21+$M$27+$M$40+$M$59+$M$81+$M$93) -> 0.0033358063 | U37: =M37/$M$40 -> 0.056501096
D38: 16 | E38: h | F38: 1 | G38: Engenheiro Intermediário | H38: SUDECAP | I38: 56.11.05 | J38: ='COMPOSIÇÃO HORA TÉCNICA'!E5 -> 72.64 | K38: K | L38: ='COMPOSIÇÃO HORA TÉCNICA'!F5 -> 172.09 | M38: =ROUND(D38*F38*L38,2) -> 2753.44 | O38: 334.86279 | T38: =M38/($M$16+$M$21+$M$27+$M$40+$M$59+$M$81+$M$93) -> 0.0044701675 | U38: =M38/$M$40 -> 0.075714637
C39: Trabalho Técnico Social | D39: 10 | E39: h | F39: 1 | G39: Técnico de Nível Superior | H39: URBEL | I39: 31.40.32 | J39: ='COMPOSIÇÃO HORA TÉCNICA'!E8 -> 31.83 | K39: K | L39: ='COMPOSIÇÃO HORA TÉCNICA'!$F$8 -> 75.41 | M39: =ROUND(D39*F39*L39,2) -> 754.1 | O39: 91.710745 | T39: =M39/($M$16+$M$21+$M$27+$M$40+$M$59+$M$81+$M$93) -> 0.0012242698 | U39: =M39/$M$40 -> 0.020736391
M40: =SUM(M28:M39) -> 36366.02
...

Sheet COMPOSIÇÃO HORA TÉCNICA
B1: PLANO INTEGRADO DE URBANIZAÇÃO E REGULARIZAÇÃO FUNDIÁRIA IPÊ AMARELO, VILA ESPERANÇA E VILA ESTALEIRO ANEXO 4 - COMPOSIÇÃO DE PREÇO DE HORA TÉCNICA
B4: Profissional | C4: Fonte/ Código | D4: CUSTO TOTAL HORA | E4: CUSTO DIRETO MÃO DE OBRA* | F4: CUSTO HORA-TÉCNICA* | H4: Encargos e Tributos incidentes sobre os serviços | I4: %
B5: Engenheiro Intermediário (H) | C5: SUDECAP / 56.11.05 | D5: - | E5: 72.64 | F5: =ROUND(E5*$C$16,2) -> 172.09 | H5: ENCARGOS SOCIAIS | I5: 73.66
B6: Arquiteto Júnior (H) | C6: SINAPI / 33939 | D6: 131.18 | E6: =D6/2.1679 -> 60.510171 | F6: =ROUND(E6*$C$16,2) -> 143.35
B7: Arquiteto Sênior (H) | C7: SINAPI / 33953 | D7: 142.77 | E7: =D7/2.1679 -> 65.856359 | F7: =ROUND(E7*$C$16,2) -> 156.01 | H7: PIS | I7: 1.32
B8: TÉCNICO DE NÍVEL SUPERIOR SÊNIOR (H) | C8: URBEL / 31.40.32 | D8: - | E8: 31.83 | F8: =ROUND(E8*$C$16,2) -> 75.41 | H8: COFINS | I8: 6.08
B9: Advogado Sênior (H) | C9: DNIT / P8003 | D9: - | E9: 54.21 | F9: =ROUND(E9*$C$16,2) -> 128.42 | H9: ISS | I9: 5
B13: Parâmetros adotados | D13: Identificação
B14: DD | C14: 0 | D14: Despesas diretas
B15: TRDE* (1+k3)(1+k4) | C15: =(1+C19/100)*(1+C20/100) -> 1.2557078 | D15: Taxa de ressarcimento de despesas e encargos
B16: K* (1+k1+k2)(1+k3)(1+k4) | C16: =((1+C17/100+C18/100)*(1+C19/100)*(1+C20/100)) -> 2.3690183 | D16: FATOR K
B17: K1 | C17: =I5 -> 73.66 | D17: Encargos sociais incidentes sobre a mão de obra
B18: K2 | C18: 15 | D18: Administração central da empresa de consultoria (ou overhead)
B19: K3 | C19: 10 | D19: Remuneração bruta da empresa de consultoria
B20: K4* 1/(1-I) | C20: =((1/(1-SUM(I7:I9)/100))-1)*100 -> 14.155251 | D20: Fator relativo aos tributos incidentes sobre o preço de venda

Sheet DESPESAS COMPLEMENTARES
A1: PLANO INTEGRADO DE URBANIZAÇÃO E REGULARIZAÇÃO FUNDIÁRIA IPÊ AMARELO, VILA ESPERANÇA E VILA ESTALEIRO ANEXO 1.3.1 - DESPESAS COMPLEMENTARES: IPÊ AMARELO
A2: FASE | B2: PRODUTO | C2: TIPO | D2: ITEM | E2: QUANTIDADE | F2: UNIDADE | G2: REFERÊNCIA | H2: CÓDIGO | I2: CUSTO UNITÁRIO | J2: FATOR DE PREÇO | K2: CUSTO UNITÁRIO C/ FATOR DE PREÇO | L2: CUSTO TOTAL POR ITEM | M2: CUSTO TOTAL DO PRODUTO | N2: percentual do contrato | O2: percentual da etapa
A3: LEVANTAMENTO SITUACIONAL E PESQUISA DOMINIAL | B3: Relatório de Levantamento Situacional | C3: PEÇAS GRÁFICAS | D3: Xerox preto/branco - Formato A4 | E3: 300 | F3: unidades | G3: SUDECAP | H3: 94.07.01 | I3: =I225 -> 0.5 | J3: TRDE | K3: =I3*'COMPOSIÇÃO HORA TÉCNICA'!$C$15 -> 0.62785388 | L3: =ROUND(E3*K3,2) -> 188.36 | M3: =SUM(L3:L15) -> 5126.33 | N3: ='MEMÓRIA DE CÁLCULO'!#REF! -> #REF! | O3: ='MEMÓRIA DE CÁLCULO'!#REF! -> #REF!
D4: Plotagem colorida sulfite - Formato A4 | E4: 500 | F4: unidades | G4: SUDECAP | H4: 94.15.01 | I4: =I226 -> 2 | J4: TRDE | K4: =I4*'COMPOSIÇÃO HORA TÉCNICA'!$C$15 -> 2.5114155 | L4: =ROUND(E4*K4,2) -> 1255.71
D5: Plotagem colorida sulfite - Formato A2 | E5: 8 | F5: unidades | G5: SUDECAP | H5: 94.15.03 | I5: =I227 -> 9.5 | J5: TRDE | K5: =I5*'COMPOSIÇÃO HORA TÉCNICA'!$C$15 -> 11.929224 | L5: =ROUND(E5*K5,2) -> 95.43
D6: Plotagem colorida sulfite - Formato A1 | E6: 2 | F6: unidades | G6: SUDECAP | H6: 94.15.04 | I6: =I228 -> 12 | J6: TRDE | K6: =I6*'COMPOSIÇÃO HORA TÉCNICA'!$C$15 -> 15.068493 | L6: =ROUND(E6*K6,2) -> 30.14
D7: Papel couchê fosco 120 gramas 210 X 297 pacote 75 folhas | E7: 2 | F7: unidades | G7: URBEL | H7: 71.20.98 | I7: =I230 -> 24.97 | J7: TRDE | K7: =I7*'COMPOSIÇÃO HORA TÉCNICA'!$C$15 -> 31.355023 | L7: =ROUND(E7*K7,2) -> 62.71
D8: Pasta argola | E8: 2 | F8: unidades | G8: PESQUISA DE PREÇO | H8: - | I8: =I232 -> 31.4 | J8: TRDE | K8: =I8*'COMPOSIÇÃO HORA TÉCNICA'!$C$15 -> 39.429224 | L8: =ROUND(E8*K8,2) -> 78.86
C9: TRABALHO TÉCNICO SOCIAL | D9: Caneta esferográfica azul 1mm cx 50 unid | E9: 1 | F9: unidades | G9: URBEL | H9: 71.19.47 | I9: =I218 -> 49.73 | J9: TRDE | K9: =I9*'COMPOSIÇÃO HORA TÉCNICA'!$C$15 -> 62.446347 | L9: =ROUND(E9*K9,2) -> 62.45
D10: Banner em lona 1,0x1,2m | E10: 2 | F10: unidades | G10: URBEL | H10: 71.06.01 | I10: =I219 -> 95.23 | J10: TRDE | K10: =I10*'COMPOSIÇÃO HORA TÉCNICA'!$C$15 -> 119.58105 | L10: =ROUND(E10*K10,2) -> 239.16
D11: Locação de mesa de plástico polipropileno - 04 lugares | E11: 8 | F11: unidades | G11: URBEL | H11: 71.21.72 | I11: =I221 -> 7.41 | J11: TRDE | K11: =I11*'COMPOSIÇÃO HORA TÉCNICA'!$C$15 -> 9.3047945 | L11: =ROUND(E11*K11,2) -> 74.44
D12: Locação de cadeira de plástico em polipropileno, sem braços | E12: 300 | F12: unidades | G12: URBEL | H12: 71.21.71 | I12: =I222 -> 3.07 | J12: TRDE | K12: =I12*'COMPOSIÇÃO HORA TÉCNICA'!$C$15 -> 3.8550228 | L12: =ROUND(E12*K12,2) -> 1156.51
C13: INFORMÁTICA | D13: HD externo 1TB USB portátil | E13: 1 | F13: unidade | G13: URBEL | H13: 31.42.99 | I13: =I234 -> 518.33 | J13: TRDE | K13: =I13*'COMPOSIÇÃO HORA TÉCNICA'!$C$15 -> 650.871 | L13: =ROUND(E13*K13,2) -> 650.87
C14: LOGÍSTICA | D14: Locação veículo popular motor 1.0 c/ ar e seguro | E14: 0.3 | F14: mês | G14: SUDECAP | H14: 50.40.06 | I14: =I236 -> 2441.57 | J14: TRDE | K14: =I14*'COMPOSIÇÃO HORA TÉCNICA'!$C$15 -> 3065.8984 | L14: =ROUND(E14*K14,2) -> 919.77
D15: Gasolina comum | E15: 40 | F15: litros | G15: SINAPI | H15: 4222 | I15: =I237 -> 6.21 | J15: TRDE | K15: =I15*'COMPOSIÇÃO HORA TÉCNICA'!$C$15 -> 7.7979452 | L15: =ROUND(E15*K15,2) -> 311.92
B16: Plano de Mobilização, Organização e Capacitação Social | C16: PEÇAS GRÁFICAS | D16: Xerox preto/branco - Formato A4 | E16: 200 | F16: unidades | G16: SUDECAP | H16: 94.07.01 | I16: =I225 -> 0.5 | J16: TRDE | K16: =I16*'COMPOSIÇÃO HORA TÉCNICA'!$C$15 -> 0.62785388 | L16: =ROUND(E16*K16,2) -> 125.57 | M16: =SUM(L16:L25) -> 1797.51 | N16: ='MEMÓRIA DE CÁLCULO'!#REF! -> #REF! | O16: ='MEMÓRIA DE CÁLCULO'!#REF! -> #REF!
D17: Plotagem colorida sulfite - Formato A4 | E17: 100 | F17: unidades | G17: SUDECAP | H17: 94.15.01 | I17: =I226 -> 2 | J17: TRDE | K17: =I17*'COMPOSIÇÃO HORA TÉCNICA'!$C$15 -> 2.5114155 | L17: =ROUND(E17*K17,2) -> 251.14
D18: Plotagem colorida sulfite - Formato A2 | E18: 2 | F18: unidades | G18: SUDECAP | H18: 94.15.03 | I18: =I227 -> 9.5 | J18: TRDE | K18: =I18*'COMPOSIÇÃO HORA TÉCNICA'!$C$15 -> 11.929224 | L18: =ROUND(E18*K18,2) -> 23.86
D19: Papel couchê fosco 120 gramas 210 X 297 pacote 75 folhas | E19: 2 | F19: unidades | G19: URBEL | H19: 71.20.98 | I19: =I230 -> 24.97 | J19: TRDE | K19: =I19*'COMPOSIÇÃO HORA TÉCNICA'!$C$15 -> 31.355023 | L19: =ROUND(E19*K19,2) -> 62.71
D20: Pasta argola | E20: 1 | F20: unidades | G20: PESQUISA DE PREÇO | H20: - | I20: =I232 -> 31.4 | J20: TRDE | K20: =I20*'COMPOSIÇÃO HORA TÉCNICA'!$C$15 -> 39.429224 | L20: =ROUND(E20*K20,2) -> 39.43
C21: TRABALHO TÉCNICO SOCIAL | D21: Camiseta em malha | E21: 20 | F21: unidades | G21: URBEL | H21: 71.21.59 | I21: =I216 -> 26.35 | J21: TRDE | K21: =I21*'COMPOSIÇÃO HORA TÉCNICA'!$C$15 -> 33.0879 | L21: =ROUND(E21*K21,2) -> 661.76
D22: Pasta de plástico com elástico | E22: 20 | F22: unidades | G22: URBEL | H22: 71.19.28 | I22: =I217 -> 4.02 | J22: TRDE | K22: =I22*'COMPOSIÇÃO HORA TÉCNICA'!$C$15 -> 5.0479452 | L22: =ROUND(E22*K22,2) -> 100.96
D23: Caneta esferográfica azul 1mm cx 50 unid | E23: 1 | F23: unidades | G23: URBEL | H23: 71.19.47 | I23: =I218 -> 49.73 | J23: TRDE | K23: =I23*'COMPOSIÇÃO HORA TÉCNICA'!$C$15 -> 62.446347 | L23: =ROUND(E23*K23,2) -> 62.45
D24: Locação de cadeira de plástico em polipropileno, sem braços | E24: 40 | F24: unidades | G24: URBEL | H24: 71.21.71 | I24: =I222 -> 3.07 | J24: TRDE | K24: =I24*'COMPOSIÇÃO HORA TÉCNICA'!$C$15 -> 3.8550228 | L24: =ROUND(E24*K24,2) -> 154.2
D25: Lanche | E25: 40 | F25: unidades | G25: URBEL | H25: 71.06.13 | I25: =I223 -> 6.28 | J25: TRDE | K25: =I25*'COMPOSIÇÃO HORA TÉCNICA'!$C$15 -> 7.8858447 | L25: =ROUND(E25*K25,2) -> 315.43
B26: Relatório de Pesquisa Dominial e Cartorária | C26: PEÇAS GRÁFICAS | D26: Xerox preto/branco - Formato A4 | E26: 200 | F26: unidades | G26: SUDECAP | H26: 94.07.01 | I26: =I225 -> 0.5 | J26: TRDE | K26: =I26*'COMPOSIÇÃO HORA TÉCNICA'!$C$15 -> 0.62785388 | L26: =ROUND(E26*K26,2) -> 125.57 | M26: =SUM(L26:L32) -> 941.42 | N26: ='MEMÓRIA DE CÁLCULO'!#REF! -> #REF! | O26: ='MEMÓRIA DE CÁLCULO'!#REF! -> #REF!
D27: Plotagem colorida sulfite - Formato A4 | E27: 100 | F27: unidades | G27: SUDECAP | H27: 94.15.01 | I27: =I226 -> 2 | J27: TRDE | K27: =I27*'COMPOSIÇÃO HORA TÉCNICA'!$C$15 -> 2.5114155 | L27: =ROUND(E27*K27,2) -> 251.14
D28: Plotagem colorida sulfite - Formato A2 | E28: 6 | F28: unidades | G28: SUDECAP | H28: 94.15.03 | I28: =I227 -> 9.5 | J28: TRDE | K28: =I28*'COMPOSIÇÃO HORA TÉCNICA'!$C$15 -> 11.929224 | L28: =ROUND(E28*K28,2) -> 71.58
D29: Plotagem colorida sulfite - Formato A1 | E29: 2 | F29: unidades | G29: SUDECAP | H29: 94.15.04 | I29: =I228 -> 12 | J29: TRDE | K29: =I29*'COMPOSIÇÃO HORA TÉCNICA'!$C$15 -> 15.068493 | L29: =ROUND(E29*K29,2) -> 30.14
D30: Pasta argola | E30: 1 | F30: unidades | G30: PESQUISA DE PREÇO | H30: - | I30: =I232 -> 31.4 | J30: TRDE | K30: =I30*'COMPOSIÇÃO HORA TÉCNICA'!$C$15 -> 39.429224 | L30: =ROUND(E30*K30,2) -> 39.43
C31: LOGÍSTICA | D31: Locação veículo popular motor 1.0 c/ ar e seguro | E31: 0.1 | F31: mês | G31: SUDECAP | H31: 50.40.06 | I31: =I236 -> 2441.57 | J31: TRDE | K31: =I31*'COMPOSIÇÃO HORA TÉCNICA'!$C$15 -> 3065.8984 | L31: =ROUND(E31*K31,2) -> 306.59
D32: Gasolina comum | E32: 15 | F32: litros | G32: SINAPI | H32: 4222 | I32: =I237 -> 6.21 | J32: TRDE | K32: =I32*'COMPOSIÇÃO HORA TÉCNICA'!$C$15 -> 7.7979452 | L32: =ROUND(E32*K32,2) -> 116.97
A35: ATUALIZAÇÃO DA BASE CARTOGRÁFICA | B35: Levantamento Planialtimétrico Cadastral | C35: PEÇAS GRÁFICAS | D35: Xerox preto/branco - Formato A4 | E35: 200 | F35: unidades | G35: SUDECAP | H35: 94.07.01 | I35: =I225 -> 0.5 | J35: TRDE | K35: =I35*'COMPOSIÇÃO HORA TÉCNICA'!$C$15 -> 0.62785388 | L35: =ROUND(E35*K35,2) -> 125.57 | M35: =SUM(L35:L44) -> 13584.89
D36: Plotagem colorida sulfite - Formato A4 | E36: 100 | F36: unidades | G36: SUDECAP | H36: 94.15.01 | I36: =I226 -> 2 | J36: TRDE | K36: =I36*'COMPOSIÇÃO HORA TÉCNICA'!$C$15 -> 2.5114155 | L36: =ROUND(E36*K36,2) -> 251.14
D37: Plotagem colorida sulfite - Formato A2 | E37: 20 | F37: unidades | G37: SUDECAP | H37: 94.15.03 | I37: =I227 -> 9.5 | J37: TRDE | K37: =I37*'COMPOSIÇÃO HORA TÉCNICA'!$C$15 -> 11.929224 | L37: =ROUND(E37*K37,2) -> 238.58
D38: Plotagem colorida sulfite - Formato A1 | E38: 20 | F38: unidades | G38: SUDECAP | H38: 94.15.04 | I38: =I228 -> 12 | J38: TRDE | K38: =I38*'COMPOSIÇÃO HORA TÉCNICA'!$C$15 -> 15.068493 | L38: =ROUND(E38*K38,2) -> 301.37
D39: Plotagem colorida sulfite - Formato A1 (estendido) | E39: 2 | F39: unidades | G39: SUDECAP | H39: 94.15.07 | I39: =I229 -> 15 | J39: TRDE | K39: =I39*'COMPOSIÇÃO HORA TÉCNICA'!$C$15 -> 18.835616 | L39: =ROUND(E39*K39,2) -> 37.67
D40: Pasta argola | E40: 2 | F40: unidades | G40: PESQUISA DE PREÇO | H40: - | I40: =I232 -> 31.4 | J40: TRDE | K40: =I40*'COMPOSIÇÃO HORA TÉCNICA'!$C$15 -> 39.429224 | L40: =ROUND(E40*K40,2) -> 78.86
C41: TRABALHO TÉCNICO SOCIAL | D41: Locação de cadeira de plástico em polipropileno, sem braços | E41: 20 | F41: unidades | G41: URBEL | H41: 71.21.71 | I41: =I222 -> 3.07 | J41: TRDE | K41: =I41*'COMPOSIÇÃO HORA TÉCNICA'!$C$15 -> 3.8550228 | L41: =ROUND(E41*K41,2) -> 77.1
D42: Lanche | E42: 20 | F42: unidades | G42: URBEL | H42: 71.06.13 | I42: =I223 -> 6.28 | J42: TRDE | K42: =I42*'COMPOSIÇÃO HORA TÉCNICA'!$C$15 -> 7.8858447 | L42: =ROUND(E42*K42,2) -> 157.72
...

Sheet Proporção quantitativos
A2: FASE | B2: PRODUTO | C2: ATIVIDADE | D2: QUANTIDADE HRS FUNCIONÁRIOS | E2: QUANTIDADE HRS ESPERANÇA | G2: ITEM | H2: QUANTIDADE DESPESAS COMPLEMENTARES FUNCIONÁRIOS | I2: QUANTIDADE DESPESAS COMPLEMENTARES ESPERANÇA
A3: ETAPA 01 - PLANO INTEGRADO DE URBANIZAÇÃO E REGULARIZAÇÃO FUNDIÁRIA | G3: Xerox preto/branco - Formato A4 | H3: 1000 | I3: 750
A4: LEVANTAMENTO SITUACIONAL E PESQUISA DOMINIAL | B4: Relatório de Levantamento Situacional | C4: Vistoria técnica multidisciplinar | D4: 15 | E4: =ROUND(D4*$D$96,0) -> 12 | G4: Plotagem colorida sulfite - Formato A4 | H4: 2000 | I4: 1500
D5: 15 | E5: =ROUND(D5*$D$96,0) -> 12 | G5: Plotagem colorida sulfite - Formato A2 | H5: 10 | I5: =ROUND(H5*$D$96,0) -> 8
C6: Sistematização das informações | D6: 40 | E6: 30 | G6: Plotagem colorida sulfite - Formato A1 | H6: 2 | I6: =ROUND(H6*$D$96,0) -> 2
D7: 40 | E7: 30 | G7: Papel couchê fosco 120 gramas 210 X 297 pacote 75 folhas | H7: 3 | I7: =ROUND(H7*$D$96,0) -> 2
C8: Trabalho Técnico Social | D8: 22 | E8: 16 | G8: Pasta argola | H8: 1 | I8: =ROUND(H8*$D$96,0) -> 1
B9: Plano de Mobilização, Organização e Capacitação Social | C9: Plano de Mobilização, Organização e Capacitação Social | D9: 60 | E9: 40 | G9: Caneta esferográfica azul 1mm cx 50 unid | H9: 1 | I9: =ROUND(H9*$D$96,0) -> 1
C10: Trabalho Técnico Social | D10: 22 | E10: 16 | G10: Banner em lona 1,0x1,2m | H10: 2 | I10: =ROUND(H10*$D$96,0) -> 2
B11: Relatório de Pesquisa Dominial e Cartorária | C11: Pesquisa Cartorária | D11: 80 | E11: 60 | G11: Locação de mesa de plástico polipropileno - 04 lugares | H11: 20 | I11: =ROUND(H11*$D$96,0) -> 16
C12: Quadro dominial | D12: 60 | E12: 30 | G12: Locação de cadeira de plástico em polipropileno, sem braços | H12: 900 | I12: 700
D13: 40 | E13: 30 | G13: HD externo 1TB USB portátil | H13: 1 | I13: =ROUND(H13*$D$96,0) -> 1
G14: Locação veículo popular motor 1.0 c/ ar e seguro | H14: 1.5 | I14: =ROUND(H14*$D$96,0) -> 1
A15: ATUALIZAÇÃO DA BASE CARTOGRÁFICA | B15: Levantamento Planialtimétrico Cadastral | C15: Levantamento Planialtimétrico Cadastral | D15: =383370+70379 -> 453749 | E15: 455671 | G15: Gasolina comum | H15: 150 | I15: =ROUND(H15*$D$96,0) -> 116
C16: Trabalho Técnico Social | D16: 42 | E16: 40 | G16: Xerox preto/branco - Formato A4 | H16: 300 | I16: =ROUND(H16*$D$96,0) -> 233
B17: Base Cartográfica Atualizada | C17: Atualização de Base | D17: 180 | E17: =ROUND(D17*$D$96,0) -> 140 | G17: Plotagem colorida sulfite - Formato A4 | H17: 450 | I17: =ROUND(H17*$D$96,0) -> 349
C18: Trabalho Técnico Social | D18: 42 | E18: 16 | G18: Plotagem colorida sulfite - Formato A2 | H18: 2 | I18: =ROUND(H18*$D$96,0) -> 2
G19: Plotagem colorida sulfite - Formato A1 | H19: 1 | I19: =ROUND(H19*$D$96,0) -> 1
A20: SELAGEM E CADASTRO SOCIOECONÔMICO E FUNDIÁRIO | B20: Relatório da fase de Selagem e Cadastro Socioeconômico e Fundiário, incluindo como anexo o arquivo digital do Banco de Dados Preliminar e os prontuários separados por selo | C20: Contagem de Domicílio e Selagem | D20: 350 | E20: 270 | G20: Papel couchê fosco 120 gramas 210 X 297 pacote 75 folhas | H20: 2 | I20: =ROUND(H20*$D$96,0) -> 2
D21: 350 | E21: 270 | G21: Pasta argola | H21: 1 | I21: =ROUND(H21*$D$96,0) -> 1
C22: Aplicação de Cadastro | D22: 480 | E22: 370 | G22: Camiseta em malha | H22: 60 | I22: =ROUND(H22*$D$96,0) -> 47
C23: Montagem de Banco de Dados | D23: 80 | E23: 60 | G23: Pasta de plástico com elástico | H23: 60 | I23: =ROUND(H23*$D$96,0) -> 47
C24: Trabalho Técnico Social | D24: 80 | E24: 40 | G24: Caneta esferográfica azul 1mm cx 50 unid | H24: 2 | I24: =ROUND(H24*$D$96,0) -> 2
G25: Banner em lona 1,0x1,2m | H25: 1 | I25: =ROUND(H25*$D$96,0) -> 1
A26: DIAGNÓSTICO | B26: Diagnóstico Setorial Jurídico | C26: Jurídico | D26: 180 | E26: 120 | G26: Locação de cadeira de plástico em polipropileno, sem braços | H26: 100 | I26: =ROUND(H26*$D$96,0) -> 78
C27: Trabalho Técnico Social | D27: 32 | E27: 16 | G27: Lanche | H27: 100 | I27: =ROUND(H27*$D$96,0) -> 78
B28: Diagnóstico Setorial dos Aspectos Físico-Urbano-Ambientais | C28: Físico-Urbano-Ambiental | D28: 180 | E28: =ROUND(D28*$D$96,0) -> 140 | G28: Xerox preto/branco - Formato A4 | H28: 700 | I28: =ROUND(H28*$D$96,0) -> 543
D29: 160 | E29: 120 | G29: Plotagem colorida sulfite - Formato A4 | H29: 1000 | I29: =ROUND(H29*$D$96,0) -> 775
C30: Trabalho Técnico Social | D30: 32 | E30: 16 | G30: Plotagem colorida sulfite - Formato A2 | H30: 8 | I30: =ROUND(H30*$D$96,0) -> 6
B31: Diagnóstico Setorial dos Aspectos Socioeconômico Organizativos | C31: Socioeconômico-Organizativo | D31: 120 | E31: 100 | G31: Plotagem colorida sulfite - Formato A1 | H31: 2 | I31: =ROUND(H31*$D$96,0) -> 2
C32: Trabalho Técnico Social | D32: 32 | E32: 16 | G32: Pasta argola | H32: 1 | I32: =ROUND(H32*$D$96,0) -> 1
B33: Diagnóstico Integrado | C33: Integrado | D33: 80 | E33: 60 | G33: Locação veículo popular motor 1.0 c/ ar e seguro | H33: 0.5 | I33: =ROUND(H33*$D$96,0) -> 0
D34: 80 | E34: 60 | G34: Gasolina comum | H34: 50 | I34: =ROUND(H34*$D$96,0) -> 39
D35: 80 | E35: 60
C36: Trabalho Técnico Social | D36: 22 | E36: 16
G37: Xerox preto/branco - Formato A4 | H37: 1000 | I37: =ROUND(H37*$D$96,0) -> 775
A38: PROPOSTAS DE SOLUÇÃO DE DESCONFORMIDADES | B38: Relatório de Cenário de Intervenção Integrada | C38: Estudo de Cenário de Intervenção Integrada | D38: 80 | E38: 60 | G38: Plotagem colorida sulfite - Formato A4 | H38: 1000 | I38: =ROUND(H38*$D$96,0) -> 775
D39: 20 | E39: 16 | G39: Plotagem colorida sulfite - Formato A2 | H39: 75 | I39: =ROUND(H39*$D$96,0) -> 58
D40: 80 | E40: 60 | G40: Plotagem colorida sulfite - Formato A1 | H40: 75 | I40: =ROUND(H40*$D$96,0) -> 58
C41: Trabalho Técnico Social | D41: 22 | E41: 16 | G41: Plotagem colorida sulfite - Formato A1 (estendido) | H41: 15 | I41: =ROUND(H41*$D$96,0) -> 12
...
