Workbook

Sheet ORÇAMENTO
B1: PLANO INTEGRADO DE URBANIZAÇÃO E REGULARIZAÇÃO FUNDIÁRIA IPÊ AMARELO, VILA ESPERANÇA E VILA ESTALEIRO ANEXO 3.1 – PLANILHA ORÇAMENTÁRIA: VILA ESTALEIRO
A2: FASE | B2: PRODUTO | C2: QUANTIDADE | D2: UNIDADE | E2: CUSTO UNITÁRIO | F2: CUSTO TOTAL | G2: MÊS DE DESEMBOLSO | H2: PERCENTUAL DO CONTRATO
A3: ETAPA 01 - PLANEJAMENTO DA URBANIZAÇÃO E REGULARIZAÇÃO FUNDIÁRIA
A4: LEVANTAMENTO SITUACIONAL E PESQUISA DOMINIAL | B4: Relatório de Levantamento Situacional | C4: 1 | D4: unidade | E4: =F4 -> 31395.15 | F4: ='MEMÓRIA DE CÁLCULO'!S4 -> 31395.15 | G4: 2 | H4: =F4/$F$32 -> 0.0094703694
B5: Plano de Mobilização, Organização e Capacitação Social | C5: 1 | D5: unidade | E5: =F5 -> 7802.23 | F5: ='MEMÓRIA DE CÁLCULO'!S11 -> 7802.23 | G5: 2 | H5: =F5/$F$32 -> 0.0023535482
B6: Relatório de Pesquisa Dominial e Cartorária | C6: 1 | D6: unidade | E6: =F6 -> 21463.95 | F6: ='MEMÓRIA DE CÁLCULO'!S13 -> 21463.95 | G6: 3 | H6: =F6/$F$32 -> 0.0064746158
A7: ATUALIZAÇÃO DA BASE CARTOGRÁFICA | B7: Levantamento Planialtimétrico Cadastral | C7: ='MEMÓRIA DE CÁLCULO'!D17 -> 701280 | D7: m² | E7: ='MEMÓRIA DE CÁLCULO'!L17 -> 2.84 | F7: ='MEMÓRIA DE CÁLCULO'!S17 -> 1991635.2 | G7: 7 | H7: =F7/$F$32 -> 0.60077818
B8: Base Cartográfica Atualizada | C8: 1 | D8: unidade | E8: =F8 -> 139621.6 | F8: ='MEMÓRIA DE CÁLCULO'!S18 -> 139621.6 | G8: 8 | H8: =F8/$F$32 -> 0.042116955
A9: SELAGEM E CADASTRO SOCIOECONÔMICO E FUNDIÁRIO | B9: Relatório da fase de Selagem e Cadastro Socioeconômico e Fundiário, incluindo como anexo o arquivo digital do Banco de Dados Preliminar e os prontuários separados por selo | C9: 1 | D9: unidade | E9: =F9 -> 260214.93 | F9: ='MEMÓRIA DE CÁLCULO'!S22 -> 260214.93 | G9: 11 | H9: =F9/$F$32 -> 0.078494019
A10: DIAGNÓSTICOS | B10: Diagnóstico Setorial Jurídico | C10: 1 | D10: unidade | E10: =F10 -> 11072.16 | F10: ='MEMÓRIA DE CÁLCULO'!S28 -> 11072.16 | G10: 15 | H10: =F10/$F$32 -> 0.003339925
B11: Diagnóstico Setorial dos Aspectos Físico-Urbano-Ambientais | C11: 1 | D11: unidade | E11: =F11 -> 90966.05 | F11: ='MEMÓRIA DE CÁLCULO'!S30 -> 90966.05 | G11: 15 | H11: =F11/$F$32 -> 0.027439974
B12: Diagnóstico Setorial dos Aspectos Socioeconômico Organizativos | C12: 1 | D12: unidade | E12: =F12 -> 8872.76 | F12: ='MEMÓRIA DE CÁLCULO'!S33 -> 8872.76 | G12: 15 | H12: =F12/$F$32 -> 0.0026764744
B13: Diagnóstico Integrado | C13: 1 | D13: unidade | E13: =F13 -> 26123.73 | F13: ='MEMÓRIA DE CÁLCULO'!S35 -> 26123.73 | G13: 16 | H13: =F13/$F$32 -> 0.0078802418
A14: PROPOSTAS DE SOLUÇÃO DAS DESCONFORMIDADES | B14: Relatório de Cenário de Intervenção Integrada | C14: 1 | D14: unidade | E14: =F14 -> 28478.29 | F14: ='MEMÓRIA DE CÁLCULO'!S41 -> 28478.29 | G14: 17 | H14: =F14/$F$32 -> 0.0085904965
B15: Propostas de Intervenção Físico-Urbano-Ambientais | C15: 1 | D15: unidade | E15: =F15 -> 74918.22 | F15: ='MEMÓRIA DE CÁLCULO'!S45 -> 74918.22 | G15: 19 | H15: =F15/$F$32 -> 0.022599134
B16: Propostas de Intervenção Socioeconômico-Organizativas | C16: 1 | D16: unidade | E16: =F16 -> 5847.12 | F16: ='MEMÓRIA DE CÁLCULO'!S50 -> 5847.12 | G16: 19 | H16: =F16/$F$32 -> 0.0017637879
B17: Propostas de Intervenção Jurídico-Legais | C17: 1 | D17: unidade | E17: =F17 -> 12206.57 | F17: ='MEMÓRIA DE CÁLCULO'!S52 -> 12206.57 | G17: 19 | H17: =F17/$F$32 -> 0.0036821205
B18: Estimativas de Custos de Urbanização | C18: 1 | D18: unidade | E18: =F18 -> 19293.6 | F18: ='MEMÓRIA DE CÁLCULO'!S55 -> 19293.6 | G18: 20 | H18: =F18/$F$32 -> 0.0058199282
B19: Hierarquização de Ações e Obras | C19: 1 | D19: unidade | E19: =F19 -> 16143.85 | F19: ='MEMÓRIA DE CÁLCULO'!S56 -> 16143.85 | G19: 20 | H19: =F19/$F$32 -> 0.0048698039
A20: ETAPA 02 – PROJETO DE REGULARIZAÇÃO FUNDIÁRIA SUSTENTÁVEL
A21: REGULARIZAÇÃO FUNDIÁRIA URBANA REURB | B21: Relatório elucidativo dos procedimentos técnicos e administrativos referentes à Demarcação Urbanística | C21: 1 | D21: unidade | E21: =F21 -> 31248.91 | F21: ='MEMÓRIA DE CÁLCULO'!S61 -> 31248.91 | G21: 21 | H21: =F21/$F$32 -> 0.009426256
B22: Projeto de Parcelamento preliminar | C22: 1 | D22: unidade | E22: =F22 -> 44501.22 | F22: ='MEMÓRIA DE CÁLCULO'!S69 -> 44501.22 | G22: 22 | H22: =F22/$F$32 -> 0.013423825
B23: Listagem preliminar das unidades e beneficiários | C23: 1 | D23: unidade | E23: =F23 -> 6155.11 | F23: ='MEMÓRIA DE CÁLCULO'!S71 -> 6155.11 | G23: 22 | H23: =F23/$F$32 -> 0.0018566933
B24: Relatório demonstrativo do Plantão de Conferência Documental e Parcelamento | C24: 1 | D24: unidade | E24: =F24 -> 227013.05 | F24: ='MEMÓRIA DE CÁLCULO'!S72 -> 227013.05 | G24: 24 | H24: =F24/$F$32 -> 0.068478648
B25: Projeto de Regularização Fundiária | C25: 1 | D25: unidade | E25: =F25 -> 75812.18 | F25: ='MEMÓRIA DE CÁLCULO'!S75 -> 75812.18 | G25: 24 | H25: =F25/$F$32 -> 0.022868798
B26: Relatório demonstrativo do Plantão Pré-Titulação | C26: 1 | D26: unidade | E26: =F26 -> 116859.72 | F26: ='MEMÓRIA DE CÁLCULO'!S77 -> 116859.72 | G26: 25 | H26: =F26/$F$32 -> 0.035250818
B27: Banco de Dados Consolidado | C27: 1 | D27: unidade | E27: =F27 -> 5606.77 | F27: ='MEMÓRIA DE CÁLCULO'!S80 -> 5606.77 | G27: 26 | H27: =F27/$F$32 -> 0.0016912862
A28: TITULAÇÃO | B28: Registro da CRF no Cartório de Registro de Imóveis | C28: 1 | D28: unidade | E28: =F28 -> 13726.07 | F28: ='MEMÓRIA DE CÁLCULO'!S82 -> 13726.07 | G28: 28 | H28: =F28/$F$32 -> 0.0041404788
B29: Certidões de registro dos títulos individualizados | C29: 1 | D29: unidade | E29: =F29 -> 19803.22 | F29: ='MEMÓRIA DE CÁLCULO'!S84 -> 19803.22 | G29: 29 | H29: =F29/$F$32 -> 0.0059736554
B30: Documentos finais sistematizados | C30: 1 | D30: unidade | E30: =F30 -> 8942.81 | F30: ='MEMÓRIA DE CÁLCULO'!S88 -> 8942.81 | G30: 30 | H30: =F30/$F$32 -> 0.002697605
B31: Relatório síntese do resultado das assembleias de entrega de títulos | C31: 1 | D31: unidade | E31: =F31 -> 19367.98 | F31: ='MEMÓRIA DE CÁLCULO'!S90 -> 19367.98 | G31: 30 | H31: =F31/$F$32 -> 0.005842365
A32: TOTAL | F32: =SUM(F4:F19,F21:F31) -> 3315092.5 | H32: 1

Sheet CRONOGRAMA FISICO FINANC
A1: PLANO INTEGRADO DE URBANIZAÇÃO E REGULARIZAÇÃO FUNDIÁRIA IPÊ AMARELO, VILA ESPERANÇA E VILA ESTALEIRO ANEXO 3.2 – CRONOGRAMA FÍSICO-FINANCEIRO: VILA ESTALEIRO
A2: FASE | B2: ATIVIDADE | C2: PRODUTO | D2: 1 | E2: 2 | F2: 3 | G2: 4 | H2: 5 | I2: 6 | J2: 7 | K2: 8 | L2: 9 | M2: 10 | N2: 11 | O2: 12 | P2: 13 | Q2: 14 | R2: 15 | S2: 16 | T2: 17 | U2: 18 | V2: 19 | W2: 20 | X2: 21 | Y2: 22 | Z2: 23 | AA2: 24 | AB2: 25 | AC2: 26 | AD2: 27 | AE2: 28 | AF2: 29 | AG2: 30
A3: ETAPA 01 - PLANEJAMENTO DA URBANIZAÇÃO E REGULARIZAÇÃO FUNDIÁRIA
A4: LEVANTAMENTO SITUACIONAL E PESQUISA DOMINIAL | B4: Vistoria técnica multidisciplinar | C4: Relatório de Levantamento Situacional | E4: ='MEMÓRIA DE CÁLCULO'!S4 -> 31395.15
B6: Sistematização das informações
B8: Trabalho Técnico Social
B9: Plano de Mobilização, Organização e Capacitação Social | C9: Plano de Mobilização, Organização e Capacitação Social | E9: ='MEMÓRIA DE CÁLCULO'!S11 -> 7802.23
B10: Trabalho Técnico Social
B11: Pesquisa Cartorária | C11: Relatório de Pesquisa Dominial e Cartorária | F11: ='MEMÓRIA DE CÁLCULO'!S13 -> 21463.95
B12: Quadro dominial
B14: =SUM(E4,E9,F11) -> 60661.33
A15: ATUALIZAÇÃO DA BASE CARTOGRÁFICA | B15: Levantamento Planialtimétrico Cadastral | C15: Levantamento Planialtimétrico Cadastral | J15: ='MEMÓRIA DE CÁLCULO'!S17 -> 1991635.2
B16: Atualização da Base | C16: Base Cartográfica Atualizada | K16: ='MEMÓRIA DE CÁLCULO'!S18 -> 139621.6
B17: Trabalho Técnico Social
B18: =SUM(J15,K16) -> 2131256.8
A19: SELAGEM E CADASTRO SOCIOECONÔMICO E FUNDIÁRIO | B19: Contagem de Domicílio e Selagem | C19: Relatório da fase de Selagem e Cadastro Socioeconômico e Fundiário, incluindo como anexo o arquivo digital do Banco de Dados Preliminar e os prontuários separados por selo | N19: ='MEMÓRIA DE CÁLCULO'!S22 -> 260214.93
B20: Aplicação de Cadastro
B21: Montagem de Banco de Dados
B22: Trabalho Técnico Social
B23: =SUM(N19) -> 260214.93
A24: DIAGNÓSTICO | B24: Jurídico | C24: Diagnóstico Setorial Jurídico | R24: ='MEMÓRIA DE CÁLCULO'!S28 -> 11072.16
B25: Trabalho Técnico Social
B26: Físico-Urbano-Ambiental | C26: Diagnóstico Setorial dos Aspectos Físico-Urbano-Ambientais | R26: ='MEMÓRIA DE CÁLCULO'!S30 -> 90966.05
B27: Trabalho Técnico Social
B28: Socioeconômico-Organizativo | C28: Diagnóstico Setorial dos Aspectos Socioeconômico Organizativos | R28: ='MEMÓRIA DE CÁLCULO'!S33 -> 8872.76
B29: Trabalho Técnico Social
B30: Integrado | C30: Diagnóstico Integrado | S30: ='MEMÓRIA DE CÁLCULO'!S35 -> 26123.73
B31: Trabalho Técnico Social
B32: =SUM(R24,R26,R28,R30,S30) -> 137034.7
A33: PROPOSTAS DE SOLUÇÃO DAS DESCONFORMIDADES | B33: Estudo de Cenário de Intervenção Integrada | C33: Relatório de Cenário de Intervenção Integrada | T33: ='MEMÓRIA DE CÁLCULO'!S41 -> 28478.29
B34: Trabalho Técnico Social
B35: Propostas de Intervenção Físico-Urbano-Ambiental | C35: Propostas de Intervenção Físico-Urbano-Ambiental | V35: ='MEMÓRIA DE CÁLCULO'!S45 -> 74918.22
B36: Plano de Intervenção Integrada
B37: Trabalho Técnico Social
B38: Propostas de Interevenção Socioeconômica-Organizativa | C38: Propostas de Interevenção Socioeconômica-Organizativa | V38: ='MEMÓRIA DE CÁLCULO'!S50 -> 5847.12
B39: Trabalho Técnico Social
B40: Propostas de Intervenção Jurídico-Legais | C40: Propostas de Intervenção Jurídico-Legais | V40: ='MEMÓRIA DE CÁLCULO'!S52 -> 12206.57
B41: Plano de Regularização Fundiária
B42: Trabalho Técnico Social
B43: Estimativa de custos de Urbanização | C43: Estimativa de custos de Urbanização | W43: ='MEMÓRIA DE CÁLCULO'!S55 -> 19293.6
...

Sheet MEMÓRIA DE CÁLCULO
A1: PLANO INTEGRADO DE URBANIZAÇÃO E REGULARIZAÇÃO FUNDIÁRIA IPÊ AMARELO, VILA ESPERANÇA E VILA ESTALEIRO ANEXO 3.3 – MEMÓRIA DE CÁLCULO: VILA ESTALEIRO
A2: FASE | B2: PRODUTO | C2: ATIVIDADE | D2: QUANTIDADE | E2: UNIDADE | F2: QUANTIDADE DE PROFISSIONAIS | G2: PROFISSIONAIS | H2: REFERÊNCIA | I2: CÓDIGO | J2: CUSTO UNITÁRIO | K2: FATOR DE PREÇO | L2: CUSTO C/ FATOR DE PREÇO | M2: TOTAL S/ DESPESAS COMPLEMENTARES POR ATIVIDADE | N2: TOTAL S/ DESPESAS COMPLEMENTARES E S/ COORDENAÇÃO POR PRODUTO | O2: PROPORCIONAL COORDENAÇÃO | P2: PROPORCIONAL COORDENAÇÃO POR PRODUTO | Q2: TOTAL S/ DESPESAS COMPLEMENTARES POR PRODUTO | R2: DESPESAS COMPLEMENTARES POR PRODUTO CONFORME ANEXO 3.3.2 | S2: TOTAL C/ DESPESAS COMPLEMENTARES POR PRODUTO | T2: PERCENTUAL DO TOTAL S/ DESP. COMP. E SEM COORD. | U2: PERCENTUAL DA ETAPA
A3: ETAPA 01 - PLANEJAMENTO DA URBANIZAÇÃO E REGULARIZAÇÃO FUNDIÁRIA
A4: LEVANTAMENTO SITUACIONAL E PESQUISA DOMINIAL | B4: Relatório de Levantamento Situacional | C4: Vistoria técnica multidisciplinar | D4: 8 | E4: h | F4: 1 | G4: Arquiteto Júnior | H4: SINAPI | I4: 33939 | J4: ='COMPOSIÇÃO HORA TÉCNICA'!E6 -> 60.510171 | K4: K | L4: ='COMPOSIÇÃO HORA TÉCNICA'!F6 -> 143.35 | M4: =ROUND(D4*F4*L4,2) -> 1146.8 | N4: =SUM(M4:M10) -> 18172.84 | O4: 59.136743 | P4: =SUM(O4:O10) -> 937.11421 | Q4: =N4+P4 -> 19109.954 | R4: ='DESPESAS COMPLEMENTARES'!M3 -> 12285.2 | S4: =ROUND(Q4+R4,2) -> 31395.15 | T4: =M4/($M$16+$M$21+$M$27+$M$40+$M$59+$M$81+$M$93) -> 0.00037887292 | U4: =M4/$M$16 -> 0.027785423
D5: 8 | E5: h | F5: 1 | G5: Técnico de Nível Superior | H5: URBEL | I5: 31.40.32 | J5: ='COMPOSIÇÃO HORA TÉCNICA'!E8 -> 31.83 | K5: K | L5: ='COMPOSIÇÃO HORA TÉCNICA'!$F$8 -> 75.41 | M5: =ROUND(D5*F5*L5,2) -> 603.28 | O5: 31.109186 | T5: =M5/($M$16+$M$21+$M$27+$M$40+$M$59+$M$81+$M$93) -> 0.00019930804 | U5: =M5/$M$16 -> 0.014616664
D6: 8 | E6: h | F6: 1 | G6: Advogado Sênior | H6: DNIT | I6: P8003 | J6: ='COMPOSIÇÃO HORA TÉCNICA'!E9 -> 54.21 | K6: K | L6: ='COMPOSIÇÃO HORA TÉCNICA'!F9 -> 128.42 | M6: =ROUND(D6*F6*L6,2) -> 1027.36 | O6: 52.977611 | T6: =M6/($M$16+$M$21+$M$27+$M$40+$M$59+$M$81+$M$93) -> 0.00033941305 | U6: =M6/$M$16 -> 0.024891553
C7: Sistematização das informações | D7: 40 | E7: h | F7: 1 | G7: Arquiteto Júnior | H7: SINAPI | I7: 33939 | J7: ='COMPOSIÇÃO HORA TÉCNICA'!E6 -> 60.510171 | K7: K | L7: ='COMPOSIÇÃO HORA TÉCNICA'!F6 -> 143.35 | M7: =ROUND(D7*F7*L7,2) -> 5734 | O7: 295.68372 | T7: =M7/($M$16+$M$21+$M$27+$M$40+$M$59+$M$81+$M$93) -> 0.0018943646 | U7: =M7/$M$16 -> 0.13892712
D8: 40 | E8: h | F8: 1 | G8: Técnico de Nível Superior | H8: URBEL | I8: 31.40.32 | J8: ='COMPOSIÇÃO HORA TÉCNICA'!E8 -> 31.83 | K8: K | L8: ='COMPOSIÇÃO HORA TÉCNICA'!$F$8 -> 75.41 | M8: =ROUND(D8*F8*L8,2) -> 3016.4 | O8: 155.54593 | T8: =M8/($M$16+$M$21+$M$27+$M$40+$M$59+$M$81+$M$93) -> 0.00099654018 | U8: =M8/$M$16 -> 0.073083319
D9: 40 | E9: h | F9: 1 | G9: Advogado Sênior | H9: DNIT | I9: P8003 | J9: ='COMPOSIÇÃO HORA TÉCNICA'!E9 -> 54.21 | K9: K | L9: ='COMPOSIÇÃO HORA TÉCNICA'!F9 -> 128.42 | M9: =ROUND(D9*F9*L9,2) -> 5136.8 | O9: 264.88806 | T9: =M9/($M$16+$M$21+$M$27+$M$40+$M$59+$M$81+$M$93) -> 0.0016970652 | U9: =M9/$M$16 -> 0.12445776
C10: Trabalho Técnico Social | D10: 20 | E10: h | F10: 1 | G10: Técnico de Nível Superior | H10: URBEL | I10: 31.40.32 | J10: ='COMPOSIÇÃO HORA TÉCNICA'!E8 -> 31.83 | K10: K | L10: ='COMPOSIÇÃO HORA TÉCNICA'!$F$8 -> 75.41 | M10: =ROUND(D10*F10*L10,2) -> 1508.2 | O10: 77.772965 | T10: =M10/($M$16+$M$21+$M$27+$M$40+$M$59+$M$81+$M$93) -> 0.00049827009 | U10: =M10/$M$16 -> 0.03654166
B11: Plano de Mobilização, Organização e Capacitação Social | C11: Plano de Mobilização, Organização e Capacitação Social | D11: 40 | E11: h | F11: 1 | G11: Técnico de Nível Superior | H11: URBEL | I11: 31.40.32 | J11: ='COMPOSIÇÃO HORA TÉCNICA'!E8 -> 31.83 | K11: K | L11: ='COMPOSIÇÃO HORA TÉCNICA'!$F$8 -> 75.41 | M11: =ROUND(D11*F11*L11,2) -> 3016.4 | N11: =M11+M12 -> 4524.6 | O11: 155.54593 | P11: =O11+O12 -> 233.31889 | Q11: =N11+P11 -> 4757.9189 | R11: ='DESPESAS COMPLEMENTARES'!M16 -> 3044.31 | S11: =ROUND(Q11+R11,2) -> 7802.23 | T11: =M11/($M$16+$M$21+$M$27+$M$40+$M$59+$M$81+$M$93) -> 0.00099654018 | U11: =M11/$M$16 -> 0.073083319
C12: Trabalho Técnico Social | D12: 20 | E12: h | F12: 1 | G12: Técnico de Nível Superior | H12: URBEL | I12: 31.40.32 | J12: ='COMPOSIÇÃO HORA TÉCNICA'!E8 -> 31.83 | K12: K | L12: ='COMPOSIÇÃO HORA TÉCNICA'!$F$8 -> 75.41 | M12: =ROUND(D12*F12*L12,2) -> 1508.2 | O12: 77.772965 | T12: =M12/($M$16+$M$21+$M$27+$M$40+$M$59+$M$81+$M$93) -> 0.00049827009 | U12: =M12/$M$16 -> 0.03654166
B13: Relatório de Pesquisa Dominial e Cartorária | C13: Pesquisa Cartorária | D13: 60 | E13: h | F13: 1 | G13: Advogado Sênior | H13: DNIT | I13: P8003 | J13: ='COMPOSIÇÃO HORA TÉCNICA'!E9 -> 54.21 | K13: K | L13: ='COMPOSIÇÃO HORA TÉCNICA'!F9 -> 128.42 | M13: =ROUND(D13*F13*L13,2) -> 7705.2 | N13: =SUM(M13:M15) -> 18576 | O13: 397.33208 | P13: =SUM(O13:O15) -> 957.90386 | Q13: =N13+P13 -> 19533.904 | R13: ='DESPESAS COMPLEMENTARES'!M27 -> 1930.05 | S13: =ROUND(Q13+R13,2) -> 21463.95 | T13: =M13/($M$16+$M$21+$M$27+$M$40+$M$59+$M$81+$M$93) -> 0.0025455979 | U13: =M13/$M$16 -> 0.18668664
C14: Quadro dominial | D14: 40 | E14: h | F14: 1 | G14: Arquiteto Júnior | H14: SINAPI | I14: 33939 | J14: ='COMPOSIÇÃO HORA TÉCNICA'!E6 -> 60.510171 | K14: K | L14: ='COMPOSIÇÃO HORA TÉCNICA'!F6 -> 143.35 | M14: =ROUND(D14*F14*L14,2) -> 5734 | O14: 295.68372 | T14: =M14/($M$16+$M$21+$M$27+$M$40+$M$59+$M$81+$M$93) -> 0.0018943646 | U14: =M14/$M$16 -> 0.13892712
D15: 40 | E15: h | F15: 1 | G15: Advogado Sênior | H15: DNIT | I15: P8003 | J15: ='COMPOSIÇÃO HORA TÉCNICA'!E9 -> 54.21 | K15: K | L15: ='COMPOSIÇÃO HORA TÉCNICA'!F9 -> 128.42 | M15: =ROUND(D15*F15*L15,2) -> 5136.8 | O15: 264.88806 | T15: =M15/($M$16+$M$21+$M$27+$M$40+$M$59+$M$81+$M$93) -> 0.0016970652 | U15: =M15/$M$16 -> 0.12445776
M16: =SUM(M4:M15) -> 41273.44
A17: ATUALIZAÇÃO DA BASE CARTOGRÁFICA | B17: Levantamento Planialtimétrico Cadastral | C17: Levantamento Planialtimétrico Cadastral | D17: 701280 | E17: m² | F17: - | G17: - | H17: URBEL | I17: 18.17.01 | J17: 2.26 | K17: TRDE | L17: =ROUND(J17*'COMPOSIÇÃO HORA TÉCNICA'!C15,2) -> 2.84 | M17: =D17*L17 -> 1991635.2 | N17: =M17 -> 1991635.2 | O17: =($M$95)*$T17 -> 102652.17 | P17: 0 | Q17: =N17+P17 -> 1991635.2 | R17: 0 | S17: =ROUND(Q17+R17,2) -> 1991635.2 | T17: =M17/($M$16+$M$21+$M$27+$M$40+$M$59+$M$81+$M$93) -> 0.65798452 | U17: =M17/$M$21 -> 0.99487555
C18: Trabalho Técnico Social | D18: 40 | E18: h | F18: 1 | G18: Técnico de Nível Superior | H18: URBEL | I18: 31.40.32 | J18: ='COMPOSIÇÃO HORA TÉCNICA'!E8 -> 31.83 | K18: K | L18: ='COMPOSIÇÃO HORA TÉCNICA'!$F$8 -> 75.41 | M18: =ROUND(D18*F18*L18,2) -> 3016.4 | N18: =SUM(M18:M20) -> 10258.6 | O18: =($M$95)*$T18 -> 155.47023 | P18: 103155.19 | Q18: =N18+P18 -> 113413.79 | R18: ='DESPESAS COMPLEMENTARES'!M36+'DESPESAS COMPLEMENTARES'!M46 -> 26207.81 | S18: =ROUND(Q18+R18,2) -> 139621.6 | T18: =M18/($M$16+$M$21+$M$27+$M$40+$M$59+$M$81+$M$93) -> 0.00099654018 | U18: =M18/$M$21 -> 0.0015067732
B19: Base Cartográfica Atualizada | C19: Atualização de Base | D19: 40 | E19: h | F19: 1 | G19: Arquiteto Júnior | H19: SINAPI | I19: 33939 | J19: ='COMPOSIÇÃO HORA TÉCNICA'!E6 -> 60.510171 | K19: K | L19: ='COMPOSIÇÃO HORA TÉCNICA'!F6 -> 143.35 | M19: =ROUND(D19*F19*L19,2) -> 5734 | O19: =($M$95)*$T19 -> 295.53982 | T19: =M19/($M$16+$M$21+$M$27+$M$40+$M$59+$M$81+$M$93) -> 0.0018943646 | U19: =M19/$M$21 -> 0.0028642878
C20: Trabalho Técnico Social | D20: 20 | E20: h | F20: 1 | G20: Técnico de Nível Superior | H20: URBEL | I20: 31.40.32 | J20: ='COMPOSIÇÃO HORA TÉCNICA'!E8 -> 31.83 | K20: K | L20: ='COMPOSIÇÃO HORA TÉCNICA'!$F$8 -> 75.41 | M20: =ROUND(D20*F20*L20,2) -> 1508.2 | O20: =($M$95)*$T20 -> 77.735117 | T20: =M20/($M$16+$M$21+$M$27+$M$40+$M$59+$M$81+$M$93) -> 0.00049827009 | U20: =M20/$M$21 -> 0.00075338662
M21: =SUM(M17:M20) -> 2001893.8
A22: SELAGEM E CADASTRO SOCIOECONÔMICO E FUNDIÁRIO | B22: Relatório da fase de Selagem e Cadastro Socioeconômico e Fundiário, incluindo como anexo o arquivo digital do Banco de Dados Preliminar e os prontuários separados por selo | C22: Contagem de Domicílio e Selagem | D22: 300 | E22: h | F22: 1 | G22: Arquiteto Júnior | H22: SINAPI | I22: 33939 | J22: ='COMPOSIÇÃO HORA TÉCNICA'!E6 -> 60.510171 | K22: K | L22: ='COMPOSIÇÃO HORA TÉCNICA'!F6 -> 143.35 | M22: =ROUND(D22*F22*L22,2) -> 43005 | N22: =SUM(M22:M26) -> 226251.3 | O22: 2217.6279 | P22: =SUM(O22:O26) -> 11667.043 | Q22: =N22+P22 -> 237918.34 | R22: ='DESPESAS COMPLEMENTARES'!M56 -> 22296.59 | S22: =ROUND(Q22+R22,2) -> 260214.93 | T22: =M22/($M$16+$M$21+$M$27+$M$40+$M$59+$M$81+$M$93) -> 0.014207735 | U22: =M22/$M$27 -> 0.19007626
D23: 300 | E23: h | F23: 3 | G23: Técnico de Nível Superior | H23: URBEL | I23: 31.40.32 | J23: ='COMPOSIÇÃO HORA TÉCNICA'!E8 -> 31.83 | K23: K | L23: ='COMPOSIÇÃO HORA TÉCNICA'!$F$8 -> 75.41 | M23: =ROUND(D23*F23*L23,2) -> 67869 | O23: 3499.7834 | T23: =M23/($M$16+$M$21+$M$27+$M$40+$M$59+$M$81+$M$93) -> 0.022422154 | U23: =M23/$M$27 -> 0.29997176
C24: Aplicação de Cadastro | D24: 470 | E24: h | F24: 3 | G24: Técnico de Nível Superior | H24: URBEL | I24: 31.40.32 | J24: ='COMPOSIÇÃO HORA TÉCNICA'!E8 -> 31.83 | K24: K | L24: ='COMPOSIÇÃO HORA TÉCNICA'!$F$8 -> 75.41 | M24: =ROUND(D24*F24*L24,2) -> 106328.1 | O24: 5482.994 | T24: =M24/($M$16+$M$21+$M$27+$M$40+$M$59+$M$81+$M$93) -> 0.035128042 | U24: =M24/$M$27 -> 0.46995575
C25: Montagem de Banco de Dados | D25: 80 | E25: h | F25: 1 | G25: Técnico de Nível Superior | H25: URBEL | I25: 31.40.32 | J25: ='COMPOSIÇÃO HORA TÉCNICA'!E8 -> 31.83 | K25: K | L25: ='COMPOSIÇÃO HORA TÉCNICA'!$F$8 -> 75.41 | M25: =ROUND(D25*F25*L25,2) -> 6032.8 | O25: 311.09186 | T25: =M25/($M$16+$M$21+$M$27+$M$40+$M$59+$M$81+$M$93) -> 0.0019930804 | U25: =M25/$M$27 -> 0.026664156
C26: Trabalho Técnico Social | D26: 40 | E26: h | F26: 1 | G26: Técnico de Nível Superior | H26: URBEL | I26: 31.40.32 | J26: ='COMPOSIÇÃO HORA TÉCNICA'!E8 -> 31.83 | K26: K | L26: ='COMPOSIÇÃO HORA TÉCNICA'!$F$8 -> 75.41 | M26: =ROUND(D26*F26*L26,2) -> 3016.4 | O26: 155.54593 | T26: =M26/($M$16+$M$21+$M$27+$M$40+$M$59+$M$81+$M$93) -> 0.00099654018 | U26: =M26/$M$27 -> 0.013332078
M27: =SUM(M22:M26) -> 226251.3
A28: DIAGNÓSTICO | B28: Diagnóstico Setorial Jurídico | C28: Jurídico | D28: 60 | E28: h | F28: 1 | G28: Advogado Sênior | H28: DNIT | I28: P8003 | J28: ='COMPOSIÇÃO HORA TÉCNICA'!E9 -> 54.21 | K28: K | L28: ='COMPOSIÇÃO HORA TÉCNICA'!F9 -> 128.42 | M28: =ROUND(D28*F28*L28,2) -> 7705.2 | N28: =M28+M29 -> 8459.3 | O28: 397.33208 | P28: =SUM(O28:O29) -> 436.21857 | Q28: =N28+P28 -> 8895.5186 | R28: ='DESPESAS COMPLEMENTARES'!M69 -> 2176.64 | S28: =ROUND(Q28+R28,2) -> 11072.16 | T28: =M28/($M$16+$M$21+$M$27+$M$40+$M$59+$M$81+$M$93) -> 0.0025455979 | U28: =M28/$M$40 -> 0.064768738
C29: Trabalho Técnico Social | D29: 10 | E29: h | F29: 1 | G29: Técnico de Nível Superior | H29: URBEL | I29: 31.40.32 | J29: ='COMPOSIÇÃO HORA TÉCNICA'!E8 -> 31.83 | K29: K | L29: ='COMPOSIÇÃO HORA TÉCNICA'!$F$8 -> 75.41 | M29: =ROUND(D29*F29*L29,2) -> 754.1 | O29: 38.886482 | T29: =M29/($M$16+$M$21+$M$27+$M$40+$M$59+$M$81+$M$93) -> 0.00024913505 | U29: =M29/$M$40 -> 0.0063388498
B30: Diagnóstico Setorial dos Aspectos Físico-Urbano-Ambientais | C30: Físico-Urbano-Ambiental | D30: 140 | E30: h | F30: 2 | G30: Arquiteto Júnior | H30: SINAPI | I30: 33939 | J30: ='COMPOSIÇÃO HORA TÉCNICA'!E6 -> 60.510171 | K30: K | L30: ='COMPOSIÇÃO HORA TÉCNICA'!F6 -> 143.35 | M30: =ROUND(D30*F30*L30,2) -> 40138 | N30: =SUM(M30:M32) -> 82193.7 | O30: 2069.786 | P30: =SUM(O30:O32) -> 4238.4616 | Q30: =N30+P30 -> 86432.162 | R30: ='DESPESAS COMPLEMENTARES'!M75 -> 4533.89 | S30: =ROUND(Q30+R30,2) -> 90966.05 | T30: =M30/($M$16+$M$21+$M$27+$M$40+$M$59+$M$81+$M$93) -> 0.013260552 | U30: =M30/$M$40 -> 0.33739392
D31: 120 | E31: h | F31: 2 | G31: Engenheiro Intermediário | H31: SUDECAP | I31: 56.11.05 | J31: ='COMPOSIÇÃO HORA TÉCNICA'!E5 -> 72.64 | K31: K | L31: ='COMPOSIÇÃO HORA TÉCNICA'!F5 -> 172.09 | M31: =ROUND(D31*F31*L31,2) -> 41301.6 | O31: 2129.7891 | T31: =M31/($M$16+$M$21+$M$27+$M$40+$M$59+$M$81+$M$93) -> 0.013644975 | U31: =M31/$M$40 -> 0.34717496
C32: Trabalho Técnico Social | D32: 10 | E32: h | F32: 1 | G32: Técnico de Nível Superior | H32: URBEL | I32: 31.40.32 | J32: ='COMPOSIÇÃO HORA TÉCNICA'!E8 -> 31.83 | K32: K | L32: ='COMPOSIÇÃO HORA TÉCNICA'!$F$8 -> 75.41 | M32: =ROUND(D32*F32*L32,2) -> 754.1 | O32: 38.886482 | T32: =M32/($M$16+$M$21+$M$27+$M$40+$M$59+$M$81+$M$93) -> 0.00024913505 | U32: =M32/$M$40 -> 0.0063388498
B33: Diagnóstico Setorial dos Aspectos Socioeconômico Organizativos | C33: Socioeconômico-Organizativo | D33: 60 | E33: h | F33: 1 | G33: Técnico de Nível Superior | H33: URBEL | I33: 31.40.32 | J33: ='COMPOSIÇÃO HORA TÉCNICA'!E8 -> 31.83 | K33: K | L33: ='COMPOSIÇÃO HORA TÉCNICA'!$F$8 -> 75.41 | M33: =ROUND(D33*F33*L33,2) -> 4524.6 | N33: =M33+M34 -> 6032.8 | O33: 233.31889 | P33: =SUM(O33:O34) -> 311.09186 | Q33: =N33+P33 -> 6343.8919 | R33: ='DESPESAS COMPLEMENTARES'!M83 -> 2528.87 | S33: =ROUND(Q33+R33,2) -> 8872.76 | T33: =M33/($M$16+$M$21+$M$27+$M$40+$M$59+$M$81+$M$93) -> 0.0014948103 | U33: =M33/$M$40 -> 0.038033099
C34: Trabalho Técnico Social | D34: 20 | E34: h | F34: 1 | G34: Técnico de Nível Superior | H34: URBEL | I34: 31.40.32 | J34: ='COMPOSIÇÃO HORA TÉCNICA'!E8 -> 31.83 | K34: K | L34: ='COMPOSIÇÃO HORA TÉCNICA'!$F$8 -> 75.41 | M34: =ROUND(D34*F34*L34,2) -> 1508.2 | O34: 77.772965 | T34: =M34/($M$16+$M$21+$M$27+$M$40+$M$59+$M$81+$M$93) -> 0.00049827009 | U34: =M34/$M$40 -> 0.0126777
B35: Diagnóstico Integrado | C35: Integrado | D35: 40 | E35: h | F35: 1 | G35: Arquiteto Júnior | H35: SINAPI | I35: 33939 | J35: ='COMPOSIÇÃO HORA TÉCNICA'!E6 -> 60.510171 | K35: K | L35: ='COMPOSIÇÃO HORA TÉCNICA'!F6 -> 143.35 | M35: =ROUND(D35*F35*L35,2) -> 5734 | N35: =SUM(M35:M39) -> 22279 | O35: 295.68372 | P35: =SUM(O35:O39) -> 1148.8555 | Q35: =N35+P35 -> 23427.856 | R35: ='DESPESAS COMPLEMENTARES'!M91 -> 2695.87 | S35: =ROUND(Q35+R35,2) -> 26123.73 | T35: =M35/($M$16+$M$21+$M$27+$M$40+$M$59+$M$81+$M$93) -> 0.0018943646 | U35: =M35/$M$40 -> 0.048199131
D36: 40 | E36: h | F36: 1 | G36: Técnico de Nível Superior | H36: URBEL | I36: 31.40.32 | J36: ='COMPOSIÇÃO HORA TÉCNICA'!E8 -> 31.83 | K36: K | L36: ='COMPOSIÇÃO HORA TÉCNICA'!$F$8 -> 75.41 | M36: =ROUND(D36*F36*L36,2) -> 3016.4 | O36: 155.54593 | T36: =M36/($M$16+$M$21+$M$27+$M$40+$M$59+$M$81+$M$93) -> 0.00099654018 | U36: =M36/$M$40 -> 0.025355399
D37: 40 | E37: h | F37: 1 | G37: Advogado Sênior | H37: DNIT | I37: P8003 | J37: ='COMPOSIÇÃO HORA TÉCNICA'!E9 -> 54.21 | K37: K | L37: ='COMPOSIÇÃO HORA TÉCNICA'!F9 -> 128.42 | M37: =ROUND(D37*F37*L37,2) -> 5136.8 | O37: 264.88806 | T37: =M37/($M$16+$M$21+$M$27+$M$40+$M$59+$M$81+$M$93) -> 0.0016970652 | U37: =M37/$M$40 -> 0.043179159
D38: 40 | E38: h | F38: 1 | G38: Engenheiro Intermediário | H38: SUDECAP | I38: 56.11.05 | J38: ='COMPOSIÇÃO HORA TÉCNICA'!E5 -> 72.64 | K38: K | L38: ='COMPOSIÇÃO HORA TÉCNICA'!F5 -> 172.09 | M38: =ROUND(D38*F38*L38,2) -> 6883.6 | O38: 354.96485 | T38: =M38/($M$16+$M$21+$M$27+$M$40+$M$59+$M$81+$M$93) -> 0.0022741626 | U38: =M38/$M$40 -> 0.057862494
C39: Trabalho Técnico Social | D39: 20 | E39: h | F39: 1 | G39: Técnico de Nível Superior | H39: URBEL | I39: 31.40.32 | J39: ='COMPOSIÇÃO HORA TÉCNICA'!E8 -> 31.83 | K39: K | L39: ='COMPOSIÇÃO HORA TÉCNICA'!$F$8 -> 75.41 | M39: =ROUND(D39*F39*L39,2) -> 1508.2 | O39: 77.772965 | T39: =M39/($M$16+$M$21+$M$27+$M$40+$M$59+$M$81+$M$93) -> 0.00049827009 | U39: =M39/$M$40 -> 0.0126777
M40: =SUM(M28:M39) -> 118964.8
...

Sheet COMPOSIÇÃO HORA TÉCNICA
B1: PLANO INTEGRADO DE URBANIZAÇÃO E REGULARIZAÇÃO FUNDIÁRIA IPÊ AMARELO, VILA ESPERANÇA E VILA ESTALEIRO ANEXO 4 - COMPOSIÇÃO DE PREÇO DE HORA TÉCNICA
B4: Profissional | C4: Fonte/ Código | D4: CUSTO TOTAL HORA | E4: CUSTO DIRETO MÃO DE OBRA* | F4: CUSTO HORA-TÉCNICA* | H4: Encargos e Tributos incidentes sobre os serviços | I4: %
B5: Engenheiro Intermediário (H) | C5: SUDECAP / 56.11.05 | D5: - | E5: 72.64 | F5: =ROUND(E5*$C$16,2) -> 172.09 | H5: ENCARGOS SOCIAIS | I5: 73.66
B6: Arquiteto Júnior (H) | C6: SINAPI / 33939 | D6: 131.18 | E6: =D6/2.1679 -> 60.510171 | F6: =ROUND(E6*$C$16,2) -> 143.35
B7: Arquiteto Sênior (H) | C7: SINAPI / 33953 | D7: 142.77 | E7: =D7/2.1679 -> 65.856359 | F7: =ROUND(E7*$C$16,2) -> 156.01 | H7: PIS | I7: 1.32
B8: TÉCNICO DE NÍVEL SUPERIOR SÊNIOR (H) | C8: URBEL / 31.40.32 | D8: - | E8: 31.83 | F8: =ROUND(E8*$C$16,2) -> 75.41 | H8: COFINS | I8: 6.08
B9: Advogado Sênior (H) | C9: DNIT / P8003 | D9: - | E9: 54.21 | F9: =ROUND(E9*$C$16,2) -> 128.42 | H9: ISS | I9: 5
B13: Parâmetros adotados | D13: Identificação
B14: DD | C14: 0 | D14: Despesas diretas
B15: TRDE* (1+k3)(1+k4) | C15: =(1+C19/100)*(1+C20/100) -> 1.2557078 | D15: Taxa de ressarcimento de despesas e encargos
B16: K* (1+k1+k2)(1+k3)(1+k4) | C16: =((1+C17/100+C18/100)*(1+C19/100)*(1+C20/100)) -> 2.3690183 | D16: FATOR K
B17: K1 | C17: =I5 -> 73.66 | D17: Encargos sociais incidentes sobre a mão de obra
B18: K2 | C18: 15 | D18: Administração central da empresa de consultoria (ou overhead)
B19: K3 | C19: 10 | D19: Remuneração bruta da empresa de consultoria
B20: K4* 1/(1-I) | C20: =((1/(1-SUM(I7:I9)/100))-1)*100 -> 14.155251 | D20: Fator relativo aos tributos incidentes sobre o preço de venda

Sheet DESPESAS COMPLEMENTARES
A1: PLANO INTEGRADO DE URBANIZAÇÃO E REGULARIZAÇÃO FUNDIÁRIA IPÊ AMARELO, VILA ESPERANÇA E VILA ESTALEIRO ANEXO 3.3.1 - DESPESAS COMPLEMENTARES: VILA ESTALEIRO
A2: FASE | B2: PRODUTO | C2: TIPO | D2: ITEM | E2: QUANTIDADE | F2: UNIDADE | G2: REFERÊNCIA | H2: CÓDIGO | I2: CUSTO UNITÁRIO | J2: FATOR DE PREÇO | K2: CUSTO UNITÁRIO C/ FATOR DE PREÇO | L2: CUSTO TOTAL POR ITEM | M2: CUSTO TOTAL DO PRODUTO | N2: percentual do contrato | O2: percentual da etapa
A3: LEVANTAMENTO SITUACIONAL E PESQUISA DOMINIAL | B3: Relatório de Levantamento Situacional | C3: PEÇAS GRÁFICAS | D3: Xerox preto/branco - Formato A4 | E3: 1000 | F3: unidades | G3: SUDECAP | H3: 94.07.01 | I3: =I243 -> 0.5 | J3: TRDE | K3: =I3*'COMPOSIÇÃO HORA TÉCNICA'!$C$15 -> 0.62785388 | L3: =ROUND(E3*K3,2) -> 627.85 | M3: =SUM(L3:L15) -> 12285.2 | N3: ='MEMÓRIA DE CÁLCULO'!#REF! -> #REF! | O3: ='MEMÓRIA DE CÁLCULO'!#REF! -> #REF!
D4: Plotagem colorida sulfite - Formato A4 | E4: 1400 | F4: unidades | G4: SUDECAP | H4: 94.15.01 | I4: =I244 -> 2 | J4: TRDE | K4: =I4*'COMPOSIÇÃO HORA TÉCNICA'!$C$15 -> 2.5114155 | L4: =ROUND(E4*K4,2) -> 3515.98
D5: Plotagem colorida sulfite - Formato A2 | E5: 8 | F5: unidades | G5: SUDECAP | H5: 94.15.03 | I5: =I245 -> 9.5 | J5: TRDE | K5: =I5*'COMPOSIÇÃO HORA TÉCNICA'!$C$15 -> 11.929224 | L5: =ROUND(E5*K5,2) -> 95.43
D6: Plotagem colorida sulfite - Formato A1 | E6: 2 | F6: unidades | G6: SUDECAP | H6: 94.15.04 | I6: =I246 -> 12 | J6: TRDE | K6: =I6*'COMPOSIÇÃO HORA TÉCNICA'!$C$15 -> 15.068493 | L6: =ROUND(E6*K6,2) -> 30.14
D7: Papel couchê fosco 120 gramas 210 X 297 pacote 75 folhas | E7: 3 | F7: unidades | G7: URBEL | H7: 71.20.98 | I7: =I248 -> 24.97 | J7: TRDE | K7: =I7*'COMPOSIÇÃO HORA TÉCNICA'!$C$15 -> 31.355023 | L7: =ROUND(E7*K7,2) -> 94.07
D8: Pasta argola | E8: 1 | F8: unidades | G8: PESQUISA DE PREÇO | H8: - | I8: =I250 -> 31.4 | J8: TRDE | K8: =I8*'COMPOSIÇÃO HORA TÉCNICA'!$C$15 -> 39.429224 | L8: =ROUND(E8*K8,2) -> 39.43
C9: TRABALHO TÉCNICO SOCIAL | D9: Caneta esferográfica azul 1mm cx 50 unid | E9: 1 | F9: unidades | G9: URBEL | H9: 71.19.47 | I9: =I236 -> 49.73 | J9: TRDE | K9: =I9*'COMPOSIÇÃO HORA TÉCNICA'!$C$15 -> 62.446347 | L9: =ROUND(E9*K9,2) -> 62.45
D10: Banner em lona 1,0x1,2m | E10: 2 | F10: unidades | G10: URBEL | H10: 71.06.01 | I10: =I237 -> 95.23 | J10: TRDE | K10: =I10*'COMPOSIÇÃO HORA TÉCNICA'!$C$15 -> 119.58105 | L10: =ROUND(E10*K10,2) -> 239.16
D11: Locação de mesa de plástico polipropileno - 04 lugares | E11: 16 | F11: unidades | G11: URBEL | H11: 71.21.72 | I11: =I239 -> 7.41 | J11: TRDE | K11: =I11*'COMPOSIÇÃO HORA TÉCNICA'!$C$15 -> 9.3047945 | L11: =ROUND(E11*K11,2) -> 148.88
D12: Locação de cadeira de plástico em polipropileno, sem braços | E12: 1000 | F12: unidades | G12: URBEL | H12: 71.21.71 | I12: =I240 -> 3.07 | J12: TRDE | K12: =I12*'COMPOSIÇÃO HORA TÉCNICA'!$C$15 -> 3.8550228 | L12: =ROUND(E12*K12,2) -> 3855.02
C13: INFORMÁTICA | D13: HD externo 1TB USB portátil | E13: 1 | F13: unidade | G13: URBEL | H13: 31.42.99 | I13: =I252 -> 518.33 | J13: TRDE | K13: =I13*'COMPOSIÇÃO HORA TÉCNICA'!$C$15 -> 650.871 | L13: =ROUND(E13*K13,2) -> 650.87
C14: LOGÍSTICA | D14: Locação veículo popular motor 1.0 c/ ar e seguro | E14: 0.7 | F14: mês | G14: SUDECAP | H14: 50.40.06 | I14: =I254 -> 2441.57 | J14: TRDE | K14: =I14*'COMPOSIÇÃO HORA TÉCNICA'!$C$15 -> 3065.8984 | L14: =ROUND(E14*K14,2) -> 2146.13
D15: Gasolina comum | E15: 100 | F15: litros | G15: SINAPI | H15: 4222 | I15: =I255 -> 6.21 | J15: TRDE | K15: =I15*'COMPOSIÇÃO HORA TÉCNICA'!$C$15 -> 7.7979452 | L15: =ROUND(E15*K15,2) -> 779.79
B16: Plano de Mobilização, Organização e Capacitação Social | C16: PEÇAS GRÁFICAS | D16: Xerox preto/branco - Formato A4 | E16: 300 | F16: unidades | G16: SUDECAP | H16: 94.07.01 | I16: =I243 -> 0.5 | J16: TRDE | K16: =I16*'COMPOSIÇÃO HORA TÉCNICA'!$C$15 -> 0.62785388 | L16: =ROUND(E16*K16,2) -> 188.36 | M16: =SUM(L16:L26) -> 3044.31 | N16: ='MEMÓRIA DE CÁLCULO'!#REF! -> #REF! | O16: ='MEMÓRIA DE CÁLCULO'!#REF! -> #REF!
D17: Plotagem colorida sulfite - Formato A4 | E17: 300 | F17: unidades | G17: SUDECAP | H17: 94.15.01 | I17: =I244 -> 2 | J17: TRDE | K17: =I17*'COMPOSIÇÃO HORA TÉCNICA'!$C$15 -> 2.5114155 | L17: =ROUND(E17*K17,2) -> 753.42
D18: Plotagem colorida sulfite - Formato A2 | E18: 2 | F18: unidades | G18: SUDECAP | H18: 94.15.03 | I18: =I245 -> 9.5 | J18: TRDE | K18: =I18*'COMPOSIÇÃO HORA TÉCNICA'!$C$15 -> 11.929224 | L18: =ROUND(E18*K18,2) -> 23.86
D19: Plotagem colorida sulfite - Formato A1 | E19: 1 | F19: unidades | G19: SUDECAP | H19: 94.15.04 | I19: =I246 -> 12 | J19: TRDE | K19: =I19*'COMPOSIÇÃO HORA TÉCNICA'!$C$15 -> 15.068493 | L19: =ROUND(E19*K19,2) -> 15.07
D20: Papel couchê fosco 120 gramas 210 X 297 pacote 75 folhas | E20: 2 | F20: unidades | G20: URBEL | H20: 71.20.98 | I20: =I248 -> 24.97 | J20: TRDE | K20: =I20*'COMPOSIÇÃO HORA TÉCNICA'!$C$15 -> 31.355023 | L20: =ROUND(E20*K20,2) -> 62.71
D21: Pasta argola | E21: 1 | F21: unidades | G21: PESQUISA DE PREÇO | H21: - | I21: =I250 -> 31.4 | J21: TRDE | K21: =I21*'COMPOSIÇÃO HORA TÉCNICA'!$C$15 -> 39.429224 | L21: =ROUND(E21*K21,2) -> 39.43
C22: TRABALHO TÉCNICO SOCIAL | D22: Camiseta em malha | E22: 30 | F22: unidades | G22: URBEL | H22: 71.21.59 | I22: =I234 -> 26.35 | J22: TRDE | K22: =I22*'COMPOSIÇÃO HORA TÉCNICA'!$C$15 -> 33.0879 | L22: =ROUND(E22*K22,2) -> 992.64
D23: Pasta de plástico com elástico | E23: 40 | F23: unidades | G23: URBEL | H23: 71.19.28 | I23: =I235 -> 4.02 | J23: TRDE | K23: =I23*'COMPOSIÇÃO HORA TÉCNICA'!$C$15 -> 5.0479452 | L23: =ROUND(E23*K23,2) -> 201.92
D24: Caneta esferográfica azul 1mm cx 50 unid | E24: 1 | F24: unidades | G24: URBEL | H24: 71.19.47 | I24: =I236 -> 49.73 | J24: TRDE | K24: =I24*'COMPOSIÇÃO HORA TÉCNICA'!$C$15 -> 62.446347 | L24: =ROUND(E24*K24,2) -> 62.45
D25: Locação de cadeira de plástico em polipropileno, sem braços | E25: 60 | F25: unidades | G25: URBEL | H25: 71.21.71 | I25: =I240 -> 3.07 | J25: TRDE | K25: =I25*'COMPOSIÇÃO HORA TÉCNICA'!$C$15 -> 3.8550228 | L25: =ROUND(E25*K25,2) -> 231.3
D26: Lanche | E26: 60 | F26: unidades | G26: URBEL | H26: 71.06.13 | I26: =I241 -> 6.28 | J26: TRDE | K26: =I26*'COMPOSIÇÃO HORA TÉCNICA'!$C$15 -> 7.8858447 | L26: =ROUND(E26*K26,2) -> 473.15
B27: Relatório de Pesquisa Dominial e Cartorária | C27: PEÇAS GRÁFICAS | D27: Xerox preto/branco - Formato A4 | E27: 300 | F27: unidades | G27: SUDECAP | H27: 94.07.01 | I27: =I243 -> 0.5 | J27: TRDE | K27: =I27*'COMPOSIÇÃO HORA TÉCNICA'!$C$15 -> 0.62785388 | L27: =ROUND(E27*K27,2) -> 188.36 | M27: =SUM(L27:L33) -> 1930.05 | N27: ='MEMÓRIA DE CÁLCULO'!#REF! -> #REF! | O27: ='MEMÓRIA DE CÁLCULO'!#REF! -> #REF!
D28: Plotagem colorida sulfite - Formato A4 | E28: 300 | F28: unidades | G28: SUDECAP | H28: 94.15.01 | I28: =I244 -> 2 | J28: TRDE | K28: =I28*'COMPOSIÇÃO HORA TÉCNICA'!$C$15 -> 2.5114155 | L28: =ROUND(E28*K28,2) -> 753.42
D29: Plotagem colorida sulfite - Formato A2 | E29: 6 | F29: unidades | G29: SUDECAP | H29: 94.15.03 | I29: =I245 -> 9.5 | J29: TRDE | K29: =I29*'COMPOSIÇÃO HORA TÉCNICA'!$C$15 -> 11.929224 | L29: =ROUND(E29*K29,2) -> 71.58
D30: Plotagem colorida sulfite - Formato A1 | E30: 2 | F30: unidades | G30: SUDECAP | H30: 94.15.04 | I30: =I246 -> 12 | J30: TRDE | K30: =I30*'COMPOSIÇÃO HORA TÉCNICA'!$C$15 -> 15.068493 | L30: =ROUND(E30*K30,2) -> 30.14
D31: Pasta argola | E31: 1 | F31: unidades | G31: PESQUISA DE PREÇO | H31: - | I31: =I250 -> 31.4 | J31: TRDE | K31: =I31*'COMPOSIÇÃO HORA TÉCNICA'!$C$15 -> 39.429224 | L31: =ROUND(E31*K31,2) -> 39.43
C32: LOGÍSTICA | D32: Locação veículo popular motor 1.0 c/ ar e seguro | E32: 0.2 | F32: mês | G32: SUDECAP | H32: 50.40.06 | I32: =I254 -> 2441.57 | J32: TRDE | K32: =I32*'COMPOSIÇÃO HORA TÉCNICA'!$C$15 -> 3065.8984 | L32: =ROUND(E32*K32,2) -> 613.18
D33: Gasolina comum | E33: 30 | F33: litros | G33: SINAPI | H33: 4222 | I33: =I255 -> 6.21 | J33: TRDE | K33: =I33*'COMPOSIÇÃO HORA TÉCNICA'!$C$15 -> 7.7979452 | L33: =ROUND(E33*K33,2) -> 233.94
A36: ATUALIZAÇÃO DA BASE CARTOGRÁFICA | B36: Levantamento Planialtimétrico Cadastral | C36: PEÇAS GRÁFICAS | D36: Xerox preto/branco - Formato A4 | E36: 200 | F36: unidades | G36: SUDECAP | H36: 94.07.01 | I36: =I243 -> 0.5 | J36: TRDE | K36: =I36*'COMPOSIÇÃO HORA TÉCNICA'!$C$15 -> 0.62785388 | L36: =ROUND(E36*K36,2) -> 125.57 | M36: =SUM(L36:L45) -> 23302.98
D37: Plotagem colorida sulfite - Formato A4 | E37: 200 | F37: unidades | G37: SUDECAP | H37: 94.15.01 | I37: =I244 -> 2 | J37: TRDE | K37: =I37*'COMPOSIÇÃO HORA TÉCNICA'!$C$15 -> 2.5114155 | L37: =ROUND(E37*K37,2) -> 502.28
D38: Plotagem colorida sulfite - Formato A2 | E38: 60 | F38: unidades | G38: SUDECAP | H38: 94.15.03 | I38: =I245 -> 9.5 | J38: TRDE | K38: =I38*'COMPOSIÇÃO HORA TÉCNICA'!$C$15 -> 11.929224 | L38: =ROUND(E38*K38,2) -> 715.75
D39: Plotagem colorida sulfite - Formato A1 | E39: 60 | F39: unidades | G39: SUDECAP | H39: 94.15.04 | I39: =I246 -> 12 | J39: TRDE | K39: =I39*'COMPOSIÇÃO HORA TÉCNICA'!$C$15 -> 15.068493 | L39: =ROUND(E39*K39,2) -> 904.11
D40: Plotagem colorida sulfite - Formato A1 (estendido) | E40: 12 | F40: unidades | G40: SUDECAP | H40: 94.15.07 | I40: =I247 -> 15 | J40: TRDE | K40: =I40*'COMPOSIÇÃO HORA TÉCNICA'!$C$15 -> 18.835616 | L40: =ROUND(E40*K40,2) -> 226.03
D41: Pasta argola | E41: 2 | F41: unidades | G41: PESQUISA DE PREÇO | H41: - | I41: =I250 -> 31.4 | J41: TRDE | K41: =I41*'COMPOSIÇÃO HORA TÉCNICA'!$C$15 -> 39.429224 | L41: =ROUND(E41*K41,2) -> 78.86
C42: TRABALHO TÉCNICO SOCIAL | D42: Locação de cadeira de plástico em polipropileno, sem braços | E42: 30 | F42: unidades | G42: URBEL | H42: 71.21.71 | I42: =I240 -> 3.07 | J42: TRDE | K42: =I42*'COMPOSIÇÃO HORA TÉCNICA'!$C$15 -> 3.8550228 | L42: =ROUND(E42*K42,2) -> 115.65
...
