Workbook

Sheet Planilha Orcamentaria
B2: PLANILHA ORÇAMENTÁRIA | G2: LICITAÇÃO Nº | I2: EDITAL Nº
B3: ÓRGÃO: | C3: PREFEITURA MUNICIPAL DE CONSELHEIRO PENA | I3: DATA | J3: 08/02/2024
B4: OBJETO: | C4: META 01 - RESTABELECIMENTO DE DRENAGEM NO CÓRREGO ROCHEDO DE JOÃO PINTO | I4: Endereço | J4: CÓRREGO ROCHEDO DE JOÃO PINTO 19°19'15.02"S 41°30'23.40"O
B5: MODALIDADE: | D5: REGIME DE EXECUÇÃO | G5: CIDADE: | H5: CONSELHEIRO PENA | I5: UF | J5: MG
B6: DATA BASE DO ORÇAMENTO | C6: TABELA SINAPI-MG 01/2024 --- SICRO MG 10/2023 | D6: DESONERAÇÃO | G6: BDI 1 | H6: 0.2151 | I6: BDI 2
D7: Não
H9: TIPO DE VALOR | L9: TOTAL GERAL
H10: CUSTO (SEM BDI) | L10: =L15+L19+L23+L29+L38+L42 -> 22485.526
B11: ITEM | C11: CÓDIGO | D11: REFERÊNCIA | E11: DESCRIÇÃO DOS SERVIÇOS | F11: UNIDADE | G11: QUANTIDADE | H11: VALOR UNITÁRIO (R$) | I11: BDI | J11: CUSTO UNITÁRIO (SEM BDI) | K11: PREÇO UNITÁRIO (COM BDI) | L11: PREÇO TOTAL
B12: 1 | E12: INSTALAÇÕES INICIAIS DA OBRA
B13: 1.1 | C13: COMPOSIÇÃO PRÓPIA | D13: CP 01 | E13: =Composições!C11 -> ADMINITRAÇÃO LOCAL | F13: UNIDADE | G13: 1 | H13: =Composições!H15 -> 5294.504 | I13: 21.51 | J13: =IF(LEFT($H$10,5)="CUSTO",H13,H13/(1+I13)) -> 5294.504 | K13: =TRUNC(J13 * (1 + 21.51 / 100), 2) -> 6433.35 | L13: =K13*G13 -> 6433.35
B14: 1.2 | C14: COMPOSIÇÃO PRÓPIA | D14: CP 02 | E14: =Composições!C16 -> MOBILIZAÇÃO DE OBRAS | F14: UNIDADE | G14: 1 | H14: =Composições!H20 -> 2805.82 | I14: 21.51 | J14: =IF(LEFT($H$10,5)="CUSTO",H14,H14/(1+I14)) -> 2805.82 | K14: =TRUNC(J14 * (1 + 21.51 / 100), 2) -> 3409.35 | L14: =K14*G14 -> 3409.35
B15: Total de item: | L15: =SUM(L13:L14) -> 9842.7
B17: 2 | E17: DEMOLIÇÃO
B18: 2.1 | C18: 1600404 | D18: SICRO | E18: Remoção de tubos de concreto com diâmetro de 0,40 m a 1,00 m em valas e bueiros | F18: m2 | G18: 10 | H18: 10.03 | I18: 21.51 | J18: =IF(LEFT($H$10,5)="CUSTO",H18,H18/(1+I18)) -> 10.03 | K18: =TRUNC(J18 * (1 + 21.51 / 100), 2) -> 12.18 | L18: =K18*G18 -> 121.8
B19: Total de item: | L19: =SUM(L18:L18) -> 121.8
B21: 3 | E21: SERVIÇOS PRELIMINARES
B22: 3.1 | C22: 103689 | D22: SINAPI | E22: FORNECIMENTO E INSTALAÇÃO DE PLACA DE OBRA COM CHAPA GALVANIZADA E ESTRUTURA DE MADEIRA. AF_03/2022_PS | F22: M2 | G22: 4.5 | H22: 307.74 | I22: 21.51 | J22: =IF(LEFT($H$10,5)="CUSTO",H22,H22/(1+I22)) -> 307.74 | K22: =TRUNC(J22 * (1 + 21.51 / 100), 2) -> 373.93 | L22: =K22*G22 -> 1682.685
B23: Total de item: | L23: =SUM(L22:L22) -> 1682.685
B25: 4 | E25: MOVIMENTAÇÃO DE TERRA
B26: 4.1 | C26: 4805757 | D26: SICRO | E26: Escavação mecânica de vala em material de 1ª categoria | F26: M3 | G26: 66.98 | H26: 6.87 | I26: 21.51 | J26: =IF(LEFT($H$10,5)="CUSTO",H26,H26/(1+I26)) -> 6.87 | K26: =TRUNC(J26 * (1 + 21.51 / 100), 2) -> 8.34 | L26: =K26*G26 -> 558.6132
B27: 4.2 | C27: 4915734 | D27: SICRO | E27: Recomposição mecanizada de aterro com material de jazida | F27: m³ | G27: 36.94 | H27: 11.72 | I27: 21.51 | J27: =IF(LEFT($H$10,5)="CUSTO",H27,H27/(1+I27)) -> 11.72 | K27: =TRUNC(J27 * (1 + 21.51 / 100), 2) -> 14.24 | L27: =K27*G27 -> 526.0256
B28: 4.3 | C28: 4805749 | D28: SICRO | E28: Escavação manual de vala em material de 1ª categoria | F28: m³ | G28: 0.66 | H28: 66.45 | I28: 21.51 | J28: =IF(LEFT($H$10,5)="CUSTO",H28,H28/(1+I28)) -> 66.45 | K28: =TRUNC(J28 * (1 + 21.51 / 100), 2) -> 80.74 | L28: =K28*G28 -> 53.2884
B29: Total de item: | L29: =SUM(L26:L28) -> 1137.9272
B31: 5 | E31: BUEIRO SIMPLES TUBULAR DE CONCRETO
B32: 5.1 | C32: 1505860 | D32: SICRO | E32: Enrocamento de pedra jogada - pedra de mão comercial - fornecimento e assentamento | F32: m³ | G32: 4.19 | H32: 193.47 | I32: 21.51 | J32: =IF(LEFT($H$10,5)="CUSTO",H32,H32/(1+I32)) -> 193.47 | K32: =TRUNC(J32 * (1 + 21.51 / 100), 2) -> 235.08 | L32: =K32*G32 -> 984.9852
B33: 5.2 | C33: 804121 | D33: SICRO | E33: Boca de BSTC D = 1,00 m - esconsidade 0° - areia e brita comerciais - alas retas | F33: un | G33: 2 | H33: 1842.57 | I33: 21.51 | J33: =IF(LEFT($H$10,5)="CUSTO",H33,H33/(1+I33)) -> 1842.57 | K33: =TRUNC(J33 * (1 + 21.51 / 100), 2) -> 2238.9 | L33: =K33*G33 -> 4477.8
B34: 5.3 | C34: COMPOSIÇÃO PRÓPIA | D34: CP 03 | E34: =Composições!C22 -> MÃO DE OBRA PARA TUBO DE CONCRETO PARA REDES COLETORAS DE ÁGUAS PLUVIAIS, DIÂMETRO DE 1000 M MM, JUNTA RÍGIDA, INSTALADO EM LOCAL COM ALTO NÍVEL DE INTERFERÊNCIAS - FO RNECIMENTO E ASSENTAMENTO. | F34: m | G34: 10 | H34: =Composições!H26 -> 58.29632 | I34: 21.51 | J34: =IF(LEFT($H$10,5)="CUSTO",H34,H34/(1+I34)) -> 58.29632 | K34: =TRUNC(J34 * (1 + 21.51 / 100), 2) -> 70.83 | L34: =K34*G34 -> 708.3
B35: 5.4 | C35: 5914614 | D35: SICRO | E35: Transporte com caminhão carroceria com capacidade de 7 t e com guindauto de 20 t.m - rodovia pavimentada | F35: tkm | G35: 720.59 | H35: 1.77 | I35: 21.51 | J35: =IF(LEFT($H$10,5)="CUSTO",H35,H35/(1+I35)) -> 1.77 | K35: =TRUNC(J35 * (1 + 21.51 / 100), 2) -> 2.15 | L35: =K35*G35 -> 1549.2685
B36: 5.5 | C36: 100945 | D36: SINAPI | E36: TRANSPORTE COM CAMINHÃO CARROCERIA 9T, EM VIA URBANA EM LEITO NATURAL (UNIDADE: TXKM). | F36: tkm | G36: ='Memoria de Calculo'!L54 -> 400 | H36: 2.79 | I36: 21.51 | J36: =IF(LEFT($H$10,5)="CUSTO",H36,H36/(1+I36)) -> 2.79 | K36: =TRUNC(J36 * (1 + 21.51 / 100), 2) -> 3.39 | L36: =K36*G36 -> 1356
B37: 5.6 | C37: 94963 | D37: SINAPI | E37: CONCRETO FCK = 15MPA, TRAÇO 1:3,4:3,5 (EM MASSA SECA DE CIMENTO/ AREIA M3 CR 439,83 MÉDIA/ BRITA 1) - PREPARO MECÂNICO COM BETONEIRA 400 L. | F37: m3 | G37: ='Memoria de Calculo'!L58 -> 1.1 | H37: 439.83 | I37: 21.51 | J37: =IF(LEFT($H$10,5)="CUSTO",H37,H37/(1+I37)) -> 439.83 | K37: =TRUNC(J37 * (1 + 21.51 / 100), 2) -> 534.43 | L37: =K37*G37 -> 587.873
B38: Total de item: | L38: =SUM(L32:L37) -> 9664.2267
B40: 6 | E40: SERVIÇOS COMPLEMENTTARES
B41: 6.1 | C41: 4915723 | D41: SICRO | E41: Caiação manual com fixador de cal | F41: m² | G41: 10.08 | H41: 2.96 | I41: 21.51 | J41: =IF(LEFT($H$10,5)="CUSTO",H41,H41/(1+I41)) -> 2.96 | K41: =TRUNC(J41 * (1 + 21.51 / 100), 2) -> 3.59 | L41: =K41*G41 -> 36.1872
B42: Total de item: | L42: =SUM(L41:L41) -> 36.1872
B44: TOTAL GERAL DA OBRA | J44: =SUM(J42+J38+J29+J23+J19+J15) -> 0 | K44: =SUM(K42+K38+K29+K23+K19+K15) -> 0 | L44: -
D45: _______________________ __________________________
D46: SETOR DE ENGENHARIA | H46: PREFEITURA MUNICIPAL DE CONSELHEIRO PENA

Sheet Memoria de Calculo
B2: MUNICÍPIO DE CONSELHEIRO PENA
B3: CNPJ: 19.769.660/0001-60
B4: ESTADO DE MINAS GERAIS
B5: MEMORIA DE CALCULO
B6: PREFEITURA: MUNICIPAL DE CONSELHEIRO PENA | K6: DATA: | L6: 45330
B7: OBRA: META 01 - RESTABELECIMENTO DE DRENAGEM NO CÓRREGO ROCHEDO DE JOÃO PINTO
B8: Endereço: CÓRREGO ROCHEDO DE JOÃO PINTO 19°19'15.02"S 41°30'23.40"O
B9: ITEM | C9: REFERÊNCIA | E9: DESCRIÇÃO | K9: UNID. | L9: QUANT.
C10: ORGÃO | D10: CÓDIGO
B11: 1 | E11: ADMINISTRAÇÃO
B12: 1.1 | C12: SINAPI | D12: 93572 | E12: ENCARREGADO GERAL DE OBRAS COM ENCARGOS COMPLEMENTARES | K12: mês | L12: 0.1
C13: SINAPI | D13: 90777 | E13: ENGENHEIRO CIVIL DE OBRA JUNIOR COM ENCARGOS COMPLEMENTARES | K13: h | L13: 40
B15: 1.2 | C15: SINAPI | D15: 6111 | E15: Servente de obra | K15: H | L15: 22
C16: SINAPI | D16: 96034 | E16: CAMINHÃO BASCULANTE 10 M3, TRUCADO, POTÊNCIA 230 CV, INCLUSIVE CAÇAMBA H C 136,51 METÁLICA, COM DISTRIBUIDOR DE AGREGADOS ACOPLADO - MATERIAIS NA OPERA ÇÃO. AF_02/2017 | K16: CHP | L16: 18
B18: 2 | E18: ='Planilha Orcamentaria'!E17 -> DEMOLIÇÃO
B19: 2.1 | C19: SINAPI | D19: 103689 | E19: ='Planilha Orcamentaria'!E18 -> Remoção de tubos de concreto com diâmetro de 0,40 m a 1,00 m em valas e bueiros | K19: m | L19: 10
B21: 3 | E21: ='Planilha Orcamentaria'!E21 -> SERVIÇOS PRELIMINARES
B22: 3.1 | C22: SINAPI | D22: 103689 | E22: ='Planilha Orcamentaria'!E22 -> FORNECIMENTO E INSTALAÇÃO DE PLACA DE OBRA COM CHAPA GALVANIZADA E ESTRUTURA DE MADEIRA. AF_03/2022_PS | K22: M2 | L22: 4.5
B24: 4 | E24: ='Planilha Orcamentaria'!E25 -> MOVIMENTAÇÃO DE TERRA
B25: 4.1 | C25: SICRO | D25: 4805757 | E25: ='Planilha Orcamentaria'!E26 -> Escavação mecânica de vala em material de 1ª categoria | K25: m³ | L25: 66.975
E26: Operação:
E27: 1,9*2,5*(10+2,05+2,05)
B29: 4.2 | C29: SICRO | D29: 4915734 | E29: ='Planilha Orcamentaria'!E27 -> Recomposição mecanizada de aterro com material de jazida | K29: m³ | L29: 36.93704
E30: Operação:
E31: (1,9*2,5*(10))-(3,14*0,58*0,58*10)
B33: 4.3 | C33: SICRO | D33: 4805749 | E33: ='Planilha Orcamentaria'!E28 -> Escavação manual de vala em material de 1ª categoria | K33: m³ | L33: 0.66
E34: Operação:
E35: 1,9*0,27*(0,37+0,27)*2
B37: 5 | E37: ='Planilha Orcamentaria'!E31 -> BUEIRO SIMPLES TUBULAR DE CONCRETO
B38: 5.1 | C38: SICRO | D38: 1505860 | E38: ='Planilha Orcamentaria'!E32 -> Enrocamento de pedra jogada - pedra de mão comercial - fornecimento e assentamento | K38: m³ | L38: 4.192
E39: Operação:
E40: 1,44*0,2*10+1,6*2,05*0,2*2
B43: 5.2 | C43: SICRO | D43: 804121 | E43: ='Planilha Orcamentaria'!E33 -> Boca de BSTC D = 1,00 m - esconsidade 0° - areia e brita comerciais - alas retas | K43: un | L43: 2
E44: Operação:
B47: 5.3 | C47: SICRO | D47: 804037 | E47: ='Planilha Orcamentaria'!E34 -> MÃO DE OBRA PARA TUBO DE CONCRETO PARA REDES COLETORAS DE ÁGUAS PLUVIAIS, DIÂMETRO DE 1000 M MM, JUNTA RÍGIDA, INSTALADO EM LOCAL COM ALTO NÍVEL DE INTERFERÊNCIAS - FO RNECIMENTO E ASSENTAMENTO. | K47: m | L47: 10
E48: Operação:
B50: 5.4 | C50: SICRO | D50: 5914614 | E50: ='Planilha Orcamentaria'!E35 -> Transporte com caminhão carroceria com capacidade de 7 t e com guindauto de 20 t.m - rodovia pavimentada | K50: tkm | L50: 720.59
E51: Operação:
E52: 0,78667*10*91,6
B54: 5.5 | C54: SINAPI | D54: ='Planilha Orcamentaria'!C36 -> 100945 | E54: ='Planilha Orcamentaria'!E36 -> TRANSPORTE COM CAMINHÃO CARROCERIA 9T, EM VIA URBANA EM LEITO NATURAL (UNIDADE: TXKM). | K54: tkm | L54: 400
...

Sheet Composições
B2: MUNICÍPIO DE CONSELHEIRO PENA
B3: CNPJ: 19.769.660/0001-60
B4: ESTADO DE MINAS GERAIS
B5: COMPOSIÇÃO DE PREÇOS UNITÁRIOS
B7: PREFEITURA: MUNICIPAL DE CONSELHEIRO PENA
B8: OBRA: META 01 - RESTABELECIMENTO DE DRENAGEM NO CÓRREGO ROCHEDO DE JOÃO PINTO | G8: DATA: | H8: 45330
B9: Endereço: CÓRREGO ROCHEDO DE JOÃO PINTO 19°19'15.02"S 41°30'23.40"O
B11: CP01 | C11: ADMINITRAÇÃO LOCAL
B12: CÓDIGO | C12: BASE | D12: DESCRIÇÃO | E12: UNIDADE | F12: COEFICIENTE | G12: VALOR UNIT. | H12: VALOR TOTAL
B13: 93572 | C13: SINAPI | D13: ENCARREGADO GERAL DE OBRAS COM ENCARGOS COMPLEMENTARES | E13: MÊS | F13: 0.1 | G13: 8761.04 | H13: =G13*F13 -> 876.104
B14: 90777 | C14: SINAPI | D14: ENGENHEIRO CIVIL DE OBRA JUNIOR COM ENCARGOS COMPLEMENTARES | E14: H | F14: 40 | G14: 110.46 | H14: =G14*F14 -> 4418.4
H15: =SUM(H13:H14) -> 5294.504
B16: CP2 | C16: MOBILIZAÇÃO DE OBRAS | E16: UNIDADE
B17: CÓDIGO | C17: BASE | D17: DESCRIÇÃO | E17: UNIDADE | F17: COEFICIENTE | G17: VALOR UNIT. | H17: VALOR TOTAL
B18: 6111 | C18: SINAPI | D18: SERVENTE DE OBRAS | E18: H | F18: 22 | G18: 13.72 | H18: =G18*F18 -> 301.84
B19: 96034 | C19: SINAPI | D19: CAMINHÃO BASCULANTE 10 M3, TRUCADO, POTÊNCIA 230 CV, INCLUSIVE CAÇAMBA H C 136,51 METÁLICA, COM DISTRIBUIDOR DE AGREGADOS ACOPLADO - MATERIAIS NA OPERA ÇÃO. AF_02/2017 | E19: CHP | F19: 18 | G19: 139.11 | H19: =G19*F19 -> 2503.98
H20: =SUM(H18:H19) -> 2805.82
B22: CP03 | C22: MÃO DE OBRA PARA TUBO DE CONCRETO PARA REDES COLETORAS DE ÁGUAS PLUVIAIS, DIÂMETRO DE 1000 M MM, JUNTA RÍGIDA, INSTALADO EM LOCAL COM ALTO NÍVEL DE INTERFERÊNCIAS - FO RNECIMENTO E ASSENTAMENTO.
B23: CÓDIGO | C23: BASE | D23: DESCRIÇÃO | E23: UNIDADE | F23: COEFICIENTE | G23: VALOR UNIT. | H23: VALOR TOTAL
B24: 88246 | C24: SINAPI | D24: ASSENTADOR DE TUBOS COM ENCARGOS COMPLEMENTARES | E24: MÊS | F24: 0.947 | G24: 21.7 | H24: =G24*F24 -> 20.5499
B25: 88316 | C25: SINAPI | D25: SERVENTE COM ENCARGOS COMPLEMENTARES | E25: H | F25: 1.893 | G25: 19.94 | H25: =G25*F25 -> 37.74642
H26: =SUM(H24:H25) -> 58.29632

Sheet Cronograma fisico-financeiro
B2: MUNICÍPIO DE CONSELHEIRO PENA
B3: CNPJ: 19.769.660/0001-60
B4: ESTADO DE MINAS GERAIS
B5: CRONOGRAMA FÍSICO FINANCEIRO
B7: PREFEITURA: MUNICIPAL DE CONSELHEIRO PENA
B8: META 01 - RESTABELECIMENTO DE DRENAGEM NO CÓRREGO ROCHEDO DE JOÃO PINTO | F8: DATA: | G8: 45330
B9: Endereço: CÓRREGO ROCHEDO DE JOÃO PINTO 19°19'15.02"S 41°30'23.40"O
B10: PRAZO DE EXECUÇÃO: 30 DIAS
B12: ITEM | C12: DESCRIÇÃO | D12: PREÇO TOTAL | E12: 10 dias | F12: 10 dias | G12: 10 dias
B13: 1 | C13: ='Planilha Orcamentaria'!E12 -> INSTALAÇÕES INICIAIS DA OBRA | E13: 0.33 | F13: 0.33 | G13: 0.34
D14: ='Planilha Orcamentaria'!L15 -> 9842.7 | E14: =D14*E13 -> 3248.091 | F14: =D14*F13 -> 3248.091 | G14: =D14*G13 -> 3346.518
B15: 2 | C15: ='Planilha Orcamentaria'!E17 -> DEMOLIÇÃO | E15: 1
D16: ='Planilha Orcamentaria'!L19 -> 121.8 | E16: =D16*E15 -> 121.8 | F16: =D16*F15 -> 0 | G16: =D16*G15 -> 0
B17: 3 | C17: ='Planilha Orcamentaria'!E21 -> SERVIÇOS PRELIMINARES | E17: 0.5 | F17: 0.5
D18: ='Planilha Orcamentaria'!L23 -> 1682.685 | E18: =D18*E17 -> 841.3425 | F18: =D18*F17 -> 841.3425 | G18: =D18*G17 -> 0
B19: 4 | C19: ='Planilha Orcamentaria'!E25 -> MOVIMENTAÇÃO DE TERRA | E19: 0.25 | F19: 0.25 | G19: 0.5
D20: ='Planilha Orcamentaria'!L29 -> 1137.9272 | E20: =D20*E19 -> 284.4818 | F20: =D20*F19 -> 284.4818 | G20: =D20*G19 -> 568.9636
B21: 5 | C21: ='Planilha Orcamentaria'!E31 -> BUEIRO SIMPLES TUBULAR DE CONCRETO | E21: 0.5 | F21: 0.5
D22: ='Planilha Orcamentaria'!L38 -> 9664.2267 | E22: =D22*E21 -> 4832.1133 | F22: =D22*F21 -> 4832.1133 | G22: =D22*G21 -> 0
B23: 6 | C23: ='Planilha Orcamentaria'!E40 -> SERVIÇOS COMPLEMENTTARES | G23: 1
D24: ='Planilha Orcamentaria'!L42 -> 36.1872 | E24: =D24*E23 -> 0 | F24: =D24*F23 -> 0 | G24: =D24*G23 -> 36.1872
B25: PERIODO | C25: % | E25: =E26/$D$26 -> 0.41483702 | F25: =F26/$D$26 -> 0.4094202 | G25: =G26/$D$26 -> 0.17574278
C26: VALOR | D26: =D14+D16+D18+D20+D22+D24 -> 22485.526 | E26: =E14+E16+E18+E20+E22+E24 -> 9327.8286 | F26: =F14+F16+F18+F20+F22+F24 -> 9206.0287 | G26: =G14+G16+G18+G20+G22+G24 -> 3951.6688
B27: ACUMULADO | C27: % | E27: =E25 -> 0.41483702 | F27: =E27+F25 -> 0.82425722 | G27: =F27+G25 -> 1
C28: VALOR | D28: =D26 -> 22485.526 | E28: =E26 -> 9327.8286 | F28: =F26+E28 -> 18533.857 | G28: =G26+F28 -> 22485.526
