Workbook

Sheet Planilha Orcamentaria
B2: PLANILHA ORÇAMENTÁRIA | G2: LICITAÇÃO Nº | I2: EDITAL Nº
B3: ÓRGÃO: | C3: PREFEITURA MUNICIPAL DE CONSELHEIRO PENA- CONTRATAÇÃO DE EMPRESA PARA EXECUÇÃO DA OBRA DE CONSTRUÇÃO DE MURO DE ARRIMO | I3: DATA | J3: 02/08/2024
B4: OBJETO: | C4: META 05 - RECONSTRUÇÃO DE MUROS (SAAE) | I4: LOTE | J4: DEPÓSITO SAAE, COORDENADA 19°10'38.80"S 41°28'51.22"O
B5: MODALIDADE: | D5: REGIME DE EXECUÇÃO | G5: CIDADE: | H5: CONSELHEIRO PENA | I5: UF | J5: MG
B6: DATA BASE DO ORÇAMENTO | C6: SETOP/LESTE - AGOSTO/2023 e SINAPI/BH - JUNHO /2024 | D6: DESONERAÇÃO | G6: BDI 1 | H6: 0.2151 | I6: BDI 2
D7: Não
H9: TIPO DE VALOR | L9: TOTAL GERAL
H10: CUSTO (SEM BDI) | L10: =L19+L24+L33+L50+L41+L61+L56 -> 354545.95
B11: ITEM | C11: CÓDIGO | D11: REFERÊNCIA | E11: DESCRIÇÃO DOS SERVIÇOS | F11: UNIDADE | G11: QUANTIDADE | H11: VALOR UNITÁRIO (R$) | I11: BDI | J11: CUSTO UNITÁRIO (SEM BDI) | K11: PREÇO UNITÁRIO (COM BDI) | L11: PREÇO TOTAL
B12: 1 | E12: ADMINISTRAÇÃO
B13: 1.1 | C13: COMPOSIÇÃO | D13: CP1 | E13: ADMINISTRAÇÃO LOCAL | F13: MÊS | G13: 3 | H13: =Composição!H17 -> 1966.48 | I13: 21.51 | J13: =IF(LEFT($H$10,5)="CUSTO",H13,H13/(1+I13)) -> 1966.48 | K13: =TRUNC(J13 * (1 + 21.51 / 100), 2) -> 2389.46 | L13: =K13*G13 -> 7168.38
B14: 1.2 | C14: COMPOSIÇÃO | D14: CP2 | E14: MOBILIZAÇÃO DE OBRAS | F14: UN | G14: 1 | H14: =Composição!H23 -> 1244.46 | I14: 21.51 | J14: =IF(LEFT($H$10,5)="CUSTO",H14,H14/(1+I14)) -> 1244.46 | K14: =TRUNC(J14 * (1 + 21.51 / 100), 2) -> 1512.14 | L14: =K14*G14 -> 1512.14
B15: 1.3 | C15: SINAPI | D15: 93414 | E15: GERADOR PORTÁTIL MONOFÁSICO, POTÊNCIA 5500 VA, MOTOR A GASOLINA, POTÊNCIA DO MOTOR 13 CV - MATERIAIS NA OPERAÇÃO. | F15: H | G15: 40 | H15: 14.04 | I15: 21.51 | J15: =IF(LEFT($H$10,5)="CUSTO",H15,H15/(1+I15)) -> 14.04 | K15: =TRUNC(J15 * (1 + 21.51 / 100), 2) -> 17.06 | L15: =K15*G15 -> 682.4
B16: 1.4 | C16: SETOP | D16: ED-50150 | E16: LIGAÇÃO DE ÁGUA PROVISÓRIA PARA CANTEIRO, INCLUSIVE HIDRÔMETRO E CAVALETE PARA MEDIÇÃO DE ÁGUA - ENTRADA PRINCIPAL, EM AÇO GALVANIZADO DN 20MM (1/2") - PADRÃO CONCESSIONÁRIA | F16: UN | G16: 1 | H16: 398.9 | I16: 21.51 | J16: =IF(LEFT($H$10,5)="CUSTO",H16,H16/(1+I16)) -> 398.9 | K16: =TRUNC(J16 * (1 + 21.51 / 100), 2) -> 484.7 | L16: =K16*G16 -> 484.7
B17: 1.5 | C17: SINAPI | D17: 97622 | E17: DEMOLIÇÃO DE ALVENARIA DE BLOCO FURADO, DE FORMA MANUAL, SEM REAPROVEITAMENTO. AF_09/2023 | F17: M3 | G17: 21.075 | H17: 54.77 | I17: 21.51 | J17: =IF(LEFT($H$10,5)="CUSTO",H17,H17/(1+I17)) -> 54.77 | K17: =TRUNC(J17 * (1 + 21.51 / 100), 2) -> 66.55 | L17: =K17*G17 -> 1402.5412
B18: 1.6 | C18: SETOP | D18: ED-28427 | E18: FORNECIMENTO E COLOCAÇÃO DE PLACA DE OBRA EM CHAPA GALVANIZADA #26, ESP. 0,45MM, DIMENSÃO (3X1,5)M, PLOTADA COM ADESIVO VINÍLICO, AFIXADA COM REBITES 4,8X40MM, EM ESTRUTURA METÁLICA DE METALON 20X20MM, ESP. 1,25MM, INCLUSIVE SUPORTE EM EUCALIPTO AUTOCLAVADO PINTADO COM TINTA PVA DUAS (2) DEMÃOS | F18: UNIDADE | G18: 1 | H18: 1396.17 | I18: 21.51 | J18: =IF(LEFT($H$10,5)="CUSTO",H18,H18/(1+I18)) -> 1396.17 | K18: =TRUNC(J18 * (1 + 21.51 / 100), 2) -> 1696.48 | L18: =K18*G18 -> 1696.48
B19: Total de item: | L19: =SUM(L13:L18) -> 12946.641
B21: 2 | E21: MOVIMENTAÇÃO DE TERRA
B22: 2.1 | C22: SINAPI | D22: 93358 | E22: ESCAVAÇÃO MANUAL DE VALA COM PROFUNDIDADE MENOR OU IGUAL A 1,30 M | F22: m³ | G22: ='Memoria de Calculo'!I40 -> 98.85 | H22: 80.74 | I22: 21.51 | J22: =IF(LEFT($H$10,5)="CUSTO",H22,H22/(1+I22)) -> 80.74 | K22: =TRUNC(J22 * (1 + 21.51 / 100), 2) -> 98.1 | L22: =K22*G22 -> 9697.185
B23: 2.2 | C23: SINAPI | D23: 104737 | E23: REATERRO MANUAL DE VALAS COM COMPACTAÇÃO MECANIZADA | F23: m³ | G23: ='Memoria de Calculo'!I50 -> 57.95 | H23: 20.56 | I23: 21.51 | J23: =IF(LEFT($H$10,5)="CUSTO",H23,H23/(1+I23)) -> 20.56 | K23: =TRUNC(J23 * (1 + 21.51 / 100), 2) -> 24.98 | L23: =K23*G23 -> 1447.591
B24: Total de item: | L24: =SUM(L22:L23) -> 11144.776
B26: 3 | E26: FUNDAÇÃO
B27: 3.1 | C27: SINAPI | D27: 95241 | E27: LASTRO DE CONCRETO MAGRO, APLICADO EM PISOS, LAJES SOBRE SOLO OU RADIERS, ESPESSURA DE 5 CM. | F27: m² | G27: ='Memoria de Calculo'!I60 -> 80.4 | H27: 37.4 | I27: 21.51 | J27: =IF(LEFT($H$10,5)="CUSTO",H27,H27/(1+I27)) -> 37.4 | K27: =TRUNC(J27 * (1 + 21.51 / 100), 2) -> 45.44 | L27: =K27*G27 -> 3653.376
B28: 3.2 | C28: SINAPI | D28: 92762 | E28: ARMAÇÃO DE PILAR OU VIGA DE UMA ESTRUTURA CONVENCIONAL DE CONCRETO ARMADO UTILIZANDO AÇO CA-50 DE 10,0 MM | F28: KG | G28: ='Memoria de Calculo'!I72 -> 967.456 | H28: 10.23 | I28: 21.51 | J28: =IF(LEFT($H$10,5)="CUSTO",H28,H28/(1+I28)) -> 10.23 | K28: =TRUNC(J28 * (1 + 21.51 / 100), 2) -> 12.43 | L28: =K28*G28 -> 12025.478
B29: 3.3 | C29: SINAPI | D29: 92759 | E29: ARMAÇÃO DE PILAR OU VIGA DE ESTRUTURA CONVENCIONAL DE CONCRETO ARMADO UTILIZANDO AÇO CA-60 DE 5,0 MM - MONTAGEM | F29: KG | G29: ='Memoria de Calculo'!I81 -> 240.24 | H29: 13.35 | I29: 21.51 | J29: =IF(LEFT($H$10,5)="CUSTO",H29,H29/(1+I29)) -> 13.35 | K29: =TRUNC(J29 * (1 + 21.51 / 100), 2) -> 16.22 | L29: =K29*G29 -> 3896.6928
B30: 3.4 | C30: SINAPI | D30: 92415 | E30: MONTAGEM E DESMONTAGEM DE FÔRMA DE PILARES RETANGULARES E ESTRUTURAS S M2 CR 134,30 IMILARES, PÉ-DIREITO SIMPLES, EM CHAPA DE MADEIRA COMPENSADA RESINADA,2 UTILIZAÇÕES | F30: m² | G30: ='Memoria de Calculo'!I93 -> 55.4 | H30: 131.48 | I30: 21.51 | J30: =IF(LEFT($H$10,5)="CUSTO",H30,H30/(1+I30)) -> 131.48 | K30: =TRUNC(J30 * (1 + 21.51 / 100), 2) -> 159.76 | L30: =K30*G30 -> 8850.704
B31: 3.5 | C31: SINAPI | D31: 103670 | E31: LANÇAMENTO COM USO DE BALDES, ADENSAMENTO E ACABAMENTO DE CONCRETO EM ESTRUTURAS. | F31: m³ | G31: ='Memoria de Calculo'!I105 -> 30.53 | H31: 290.15 | I31: 21.51 | J31: =IF(LEFT($H$10,5)="CUSTO",H31,H31/(1+I31)) -> 290.15 | K31: =TRUNC(J31 * (1 + 21.51 / 100), 2) -> 352.56 | L31: =K31*G31 -> 10763.657
B32: 3.6 | C32: SINAPI | D32: 94965 | E32: CONCRETO FCK = 25MPA, TRAÇO 1:2,3:2,7 (EM MASSA SECA DE CIMENTO/ AREIA MÉDIA/ BRITA 1) - PREPARO MECÂNICO COM BETONEIRA 400 L. AF_05/2021 | F32: m³ | G32: ='Memoria de Calculo'!I117 -> 30.53 | H32: 519.97 | I32: 21.51 | J32: =IF(LEFT($H$10,5)="CUSTO",H32,H32/(1+I32)) -> 519.97 | K32: =TRUNC(J32 * (1 + 21.51 / 100), 2) -> 631.81 | L32: =K32*G32 -> 19289.159
B33: Total de item: | L33: =SUM(L27:L32) -> 58479.067
B35: 4 | E35: ESTRUTURA
B36: 4.1 | C36: SINAPI | D36: 92762 | E36: ARMAÇÃO DE PILAR OU VIGA DE UMA ESTRUTURA CONVENCIONAL DE CONCRETO ARMADO UTILIZANDO AÇO CA-50 DE 10,0 MM | F36: KG | G36: ='Memoria de Calculo'!I128 -> 937.9634 | H36: 10.23 | I36: 21.51 | J36: =IF(LEFT($H$10,5)="CUSTO",H36,H36/(1+I36)) -> 10.23 | K36: =TRUNC(J36 * (1 + 21.51 / 100), 2) -> 12.43 | L36: =K36*G36 -> 11658.885
B37: 4.2 | C37: SINAPI | D37: 92759 | E37: ARMAÇÃO DE PILAR OU VIGA DE ESTRUTURA CONVENCIONAL DE CONCRETO ARMADO UTILIZANDO AÇO CA-60 DE 5,0 MM - MONTAGEM | F37: KG | G37: ='Memoria de Calculo'!I137 -> 334.18 | H37: 13.35 | I37: 21.51 | J37: =IF(LEFT($H$10,5)="CUSTO",H37,H37/(1+I37)) -> 13.35 | K37: =TRUNC(J37 * (1 + 21.51 / 100), 2) -> 16.22 | L37: =K37*G37 -> 5420.3996
B38: 4.3 | C38: SINAPI | D38: 103670 | E38: LANÇAMENTO COM USO DE BALDES, ADENSAMENTO E ACABAMENTO DE CONCRETO EM ESTRUTURAS. | F38: m³ | G38: ='Memoria de Calculo'!I146 -> 26 | H38: 290.15 | I38: 21.51 | J38: =IF(LEFT($H$10,5)="CUSTO",H38,H38/(1+I38)) -> 290.15 | K38: =TRUNC(J38 * (1 + 21.51 / 100), 2) -> 352.56 | L38: =K38*G38 -> 9166.56
B39: 4.4 | C39: SINAPI | D39: 94965 | E39: CONCRETO FCK = 25MPA, TRAÇO 1:2,3:2,7 (EM MASSA SECA DE CIMENTO/ AREIA MÉDIA/ BRITA 1) - PREPARO MECÂNICO COM BETONEIRA 400 L. AF_05/2021 | F39: m³ | G39: ='Memoria de Calculo'!I155 -> 26 | H39: 519.97 | I39: 21.51 | J39: =IF(LEFT($H$10,5)="CUSTO",H39,H39/(1+I39)) -> 519.97 | K39: =TRUNC(J39 * (1 + 21.51 / 100), 2) -> 631.81 | L39: =K39*G39 -> 16427.06
B40: 4.5 | C40: SINAPI | D40: 92415 | E40: MONTAGEM E DESMONTAGEM DE FÔRMA DE PILARES RETANGULARES E ESTRUTURAS S M2 CR 134,30 IMILARES, PÉ-DIREITO SIMPLES, EM CHAPA DE MADEIRA COMPENSADA RESINADA,2 UTILIZAÇÕES | F40: m² | G40: ='Memoria de Calculo'!I163 -> 40 | H40: 131.48 | I40: 21.51 | J40: =IF(LEFT($H$10,5)="CUSTO",H40,H40/(1+I40)) -> 131.48 | K40: =TRUNC(J40 * (1 + 21.51 / 100), 2) -> 159.76 | L40: =K40*G40 -> 6390.4
L41: =SUM(L36:L40) -> 49063.305
B43: 5 | E43: MURO
B44: 5.1 | C44: SINAPI | D44: 94965 | E44: CONCRETO FCK = 25MPA, TRAÇO 1:2,3:2,7 (EM MASSA SECA DE CIMENTO/ AREIA MÉDIA/ BRITA 1) - PREPARO MECÂNICO COM BETONEIRA 400 L. AF_05/2021 | F44: m³ | G44: ='Memoria de Calculo'!H172 -> 76.44 | H44: 519.97 | I44: 21.51 | J44: =IF(LEFT($H$10,5)="CUSTO",H44,H44/(1+I44)) -> 519.97 | K44: =TRUNC(J44 * (1 + 21.51 / 100), 2) -> 631.81 | L44: =K44*G44 -> 48295.556
B45: 5.2 | C45: SINAPI | D45: 103340 | E45: ALVENARIA DE VEDAÇÃO DE BLOCOS VAZADOS DE CONCRETO APARENTE DE 19X19X 39 CM (ESPESSURA 19 CM) E ARGAMASSA DE ASSENTAMENTO COM PREPARO MANUAL . AF_12/2021 | F45: m² | G45: ='Memoria de Calculo'!H178 -> 382.2 | H45: 135.95 | I45: 21.51 | J45: =IF(LEFT($H$10,5)="CUSTO",H45,H45/(1+I45)) -> 135.95 | K45: =TRUNC(J45 * (1 + 21.51 / 100), 2) -> 165.19 | L45: =K45*G45 -> 63135.618
B46: 5.3 | C46: SINAPI | D46: 87879 | E46: CHAPISCO APLICADO EM ALVENARIAS E ESTRUTURAS DE CONCRETO INTERNAS, COM COLHER DE PEDREIRO. ARGAMASSA TRAÇO 1:3 COM PREPARO EM BETONEIRA 400L. AF_10/2022 | F46: M2 | G46: ='Memoria de Calculo'!H185 -> 882 | H46: 4.45 | I46: 21.51 | J46: =IF(LEFT($H$10,5)="CUSTO",H46,H46/(1+I46)) -> 4.45 | K46: =TRUNC(J46 * (1 + 21.51 / 100), 2) -> 5.4 | L46: =K46*G46 -> 4762.8
B47: 5.4 | C47: SINAPI | D47: 87529 | E47: MASSA ÚNICA, PARA RECEBIMENTO DE PINTURA, EM ARGAMASSA TRAÇO 1:2:8, PREPARO MECÂNICO COM BETONEIRA 400L, APLICADA MANUALMENTE EM FACES INTERNAS DE PAREDES, ESPESSURA DE 20MM, COM EXECUÇÃO DE TALISCAS. AF_06/2014 | F47: M2 | G47: ='Memoria de Calculo'!H192 -> 882 | H47: 35.99 | I47: 21.51 | J47: =IF(LEFT($H$10,5)="CUSTO",H47,H47/(1+I47)) -> 35.99 | K47: =TRUNC(J47 * (1 + 21.51 / 100), 2) -> 43.73 | L47: =K47*G47 -> 38569.86
B48: 5.5 | C48: SINAPI | D48: 104642 | E48: PINTURA LÁTEX ACRÍLICA STANDARD, APLICAÇÃO MANUAL EM PAREDES, DUAS DEMÃOS. AF_04/2023 | F48: M2 | G48: ='Memoria de Calculo'!H199 -> 882 | H48: 10.56 | I48: 21.51 | J48: =IF(LEFT($H$10,5)="CUSTO",H48,H48/(1+I48)) -> 10.56 | K48: =TRUNC(J48 * (1 + 21.51 / 100), 2) -> 12.83 | L48: =K48*G48 -> 11316.06
B49: 5.6 | C49: SINAPI | D49: 101966 | E49: CHAPIM SOBRE MUROS LINEARES, EM GRANITO OU MÁRMORE, L = 25 CM, ASSENTADO COM ARGAMASSA 1:6 COM ADITIVO. AF_11/2020 | F49: M | G49: 147 | H49: 135.3 | I49: 21.51 | J49: =IF(LEFT($H$10,5)="CUSTO",H49,H49/(1+I49)) -> 135.3 | K49: =TRUNC(J49 * (1 + 21.51 / 100), 2) -> 164.4 | L49: =K49*G49 -> 24166.8
B50: Total de item: | L50: =SUM(L44:L49) -> 190246.69
B52: 6 | E52: COBERTURA METÁLICA
B53: 6.1 | C53: SINAPI | D53: 97647 | E53: REMOÇÃO DE TELHAS DE FIBROCIMENTO METÁLICA E CERÂMICA, DE FORMA MANUAL, SEM REAPROVEITAMENTO. AF_09/2023 | F53: M2 | G53: 111 | H53: 3.47 | I53: 21.51 | J53: =IF(LEFT($H$10,5)="CUSTO",H53,H53/(1+I53)) -> 3.47 | K53: =TRUNC(J53 * (1 + 21.51 / 100), 2) -> 4.21 | L53: =K53*G53 -> 467.31
B54: 6.2 | C54: SINAPI | D54: 94213 | E54: TELHAMENTO COM TELHA DE AÇO/ALUMÍNIO E = 0,5 MM, COM ATÉ 2 ÁGUAS, INCLUSO IÇAMENTO. AF_07/2019 | F54: M2 | G54: 111 | H54: 56.54 | I54: 21.51 | J54: =IF(LEFT($H$10,5)="CUSTO",H54,H54/(1+I54)) -> 56.54 | K54: =TRUNC(J54 * (1 + 21.51 / 100), 2) -> 68.7 | L54: =K54*G54 -> 7625.7
B55: 6.3 | C55: SETOP | D55: ED-20603 | E55: FORNECIMENTO DE ESTRUTURA METÁLICA E ENGRADAMENTO METÁLICO, EM AÇO, PARA TELHADO, EXCLUSIVE TELHA, INCLUSIVE FABRICAÇÃO, TRANSPORTE, MONTAGEM E APLICAÇÃO DE FUNDO PREPARADOR ANTICORROSIVO EM SUPERFÍCIE METÁLICA, UMA (1) DEMÃO | F55: KG | G55: 753.84 | H55: 24.87 | I55: 21.51 | J55: =IF(LEFT($H$10,5)="CUSTO",H55,H55/(1+I55)) -> 24.87 | K55: =TRUNC(J55 * (1 + 21.51 / 100), 2) -> 30.21 | L55: =K55*G55 -> 22773.506
B56: Total de item: | L56: =SUM(L53:L55) -> 30866.516
B58: 7 | E58: SERVIÇOS FINAIS
B59: 7.1 | C59: 100982 | D59: SINAPI | E59: CARGA, MANOBRA E DESCARGA DE ENTULHO EM CAMINHÃO BASCULANTE 10 M³ - CARGA COM ESCAVADEIRA HIDRÁULICA (CAÇAMBA DE 0,80 M³ / 111 HP) E DESCARGA LIVRE (UNIDADE: M3). AF_07/2020 | F59: M3 | G59: 39.705 | H59: 9 | I59: 21.51 | J59: =IF(LEFT($H$10,5)="CUSTO",H59,H59/(1+I59)) -> 9 | K59: =TRUNC(J59 * (1 + 21.51 / 100), 2) -> 10.93 | L59: =K59*G59 -> 433.97565
B60: 7.3 | C60: COMPOSIÇÃO | D60: CP 3 | E60: DESMOBILIZAÇÃO DE OBRA | F60: UM | G60: 1 | H60: 1123.34 | I60: 21.51 | J60: =IF(LEFT($H$10,5)="CUSTO",H60,H60/(1+I60)) -> 1123.34 | K60: =TRUNC(J60 * (1 + 21.51 / 100), 2) -> 1364.97 | L60: =K60*G60 -> 1364.97
B61: Total de item: | L61: =SUM(L59:L60) -> 1798.9457
B65: TOTAL GERAL DA OBRA | J65: =SUM(#REF!+J50+J33+J24+J19) -> #REF! | L65: =SUM(L50+L33+L24+L19+L41+L61+L56) -> 354545.95
D66: _______________________ __________________________
D67: SETOR DE ENGENHARIA | H67: PREFEITO DE CONSELHEIRO PENA

Sheet Memoria de Calculo
B2: MUNICÍPIO DE CONSELHEIRO PENA
B3: CNPJ: 19.769.660/0001-60
B4: ESTADO DE MINAS GERAIS
B5: MEMORIA DE CALCULO
B7: PREFEITURA: MUNICIPAL DE CONSELHEIRO PENA | H7: DATA: | I7: 45506
B8: OBRA: META 05 - RECONSTRUÇÃO DE MUROS (SAAE)
B9: LOCAL: DEPÓSITO SAAE, COORDENADA 19°10'38.80"S 41°28'51.22"O
B11: 1 | C11: ='[1]Planilha Orcamentaria'!E16 -> SERVIÇOS INICIAIS
B12: 1.1 | C12: ='[1]Planilha Orcamentaria'!E17 -> ADMINISTRAÇÃO LOCAL
C13: LOCAL | I13: MÊS
C14: OBRA | I14: 3
B16: 1.2 | C16: ='[1]Planilha Orcamentaria'!E18 -> MOBILIZAÇÃO DE OBRAS
C17: LOCAL | I17: QUANT
C18: OBRA DE MUROS DE ARRIMO | I18: 1
B20: 1.3 | C20: ='[1]Planilha Orcamentaria'!E19 -> GERADOR PORTÁTIL MONOFÁSICO, POTÊNCIA 5500 VA, MOTOR A GASOLINA, POTÊNCIA DO MOTOR 13 CV - MATERIAIS NA OPERAÇÃO.
C21: LOCAL | F21: HORAS | G21: QT | I21: HORAS TOTAL
C22: 3 OBRAS DE MUROS DE ARRIMO | F22: 40 | G22: 1 | I22: 40
B24: 1.4 | C24: ='[1]Planilha Orcamentaria'!E20 -> LIGAÇÃO DE ÁGUA PROVISÓRIA PARA CANTEIRO, INCLUSIVE HIDRÔMETRO E CAVALETE PARA MEDIÇÃO DE ÁGUA - ENTRADA PRINCIPAL, EM AÇO GALVANIZADO DN 20MM (1/2") - PADRÃO CONCESSIONÁRIA
C25: LOCAL | I25: QUANT
C26: OBRA DE MUROS DE ARRIMO | I26: 1
B28: 1.5 | C28: ='Planilha Orcamentaria'!E17 -> DEMOLIÇÃO DE ALVENARIA DE BLOCO FURADO, DE FORMA MANUAL, SEM REAPROVEITAMENTO. AF_09/2023
C29: LOCAL | I29: QUANT
C30: OBRA DE MUROS DE ARRIMO | D30: ((23*3)+(2,2*32,5))*0,15 | I30: 21.08
B32: 2 | C32: ='[1]Planilha Orcamentaria'!E23 -> TRABALHOS EM TERRA
B33: ='[1]Planilha Orcamentaria'!B24 -> 2.1 | C33: ESCAVAÇÃO MANUAL DE VALA COM PROFUNDIDADE MENOR OU IGUAL A 1,30 M
C34: LOCAL | D34: QUANT. | E34: COMP. | F34: LARG. | G34: ALTURA | H34: LARGURA | I34: VOLUME
C35: MURO 01 S1a S42 | D35: 42 | E35: 1 | G35: 1.5 | H35: 1 | I35: =H35*G35*E35*D35 -> 63
C36: MURO 01VIGA baldrame | D36: 1 | E36: 120 | G36: 0.25 | H36: 0.2 | I36: =H36*G36*E36*D36 -> 6
C37: MURO 02 S1a S9 | D37: 9 | E37: 1 | G37: 1.5 | H37: 1 | I37: =H37*G37*E37*D37 -> 13.5
C38: MURO 02 VIGA baldrame | D38: 1 | E38: 27 | G38: 0.25 | H38: 0.2 | I38: =H38*G38*E38*D38 -> 1.35
C39: MURO S1a S10(SAPATAS DE VIGA DE TRAVAMENTO | D39: 10 | E39: 1 | G39: 1.5 | H39: 1 | I39: =H39*G39*E39*D39 -> 15
I40: =SUM(I35:I39) -> 98.85
B42: ='[1]Planilha Orcamentaria'!B25 -> 2.2 | C42: ='[1]Planilha Orcamentaria'!E25 -> REATERRO MANUAL DE VALAS COM COMPACTAÇÃO MECANIZADA
C43: LOCAL | D43: QUANT. | E43: COMP. | G43: ALTURA | H43: LARGURA | I43: VOLUME
C44: MURO 01 S1a S42 | D44: 42 | E44: 1 | G44: 1 | H44: 1 | I44: =H44*G44*E44*D44 -> 42
C45: MURO 01 S1a S42 | D45: -42 | E45: 0.2 | G45: 1 | H45: 0.25 | I45: =H45*G45*E45*D45 -> -2.1
C46: MURO 02 S1a S9 | D46: 9 | E46: 1 | G46: 1 | H46: 1 | I46: =H46*G46*E46*D46 -> 9
C47: MURO 02 S1a S9 | D47: -9 | E47: 0.2 | G47: 1 | H47: 0.25 | I47: =H47*G47*E47*D47 -> -0.45
C48: MURO S1a S10(SAPATAS DE VIGA DE TRAVAMENTO | D48: 10 | E48: 1 | G48: 1 | H48: 1 | I48: =H48*G48*E48*D48 -> 10
C49: MURO S1a S10(SAPATAS DE VIGA DE TRAVAMENTO | D49: -10 | E49: 0.2 | G49: 1 | H49: 0.25 | I49: =H49*G49*E49*D49 -> -0.5
I50: =SUM(I44:I49) -> 57.95
B52: ='[1]Planilha Orcamentaria'!B28 -> 3 | C52: ='[1]Planilha Orcamentaria'!E28 -> ESTRUTURA (fundação)
C53: OBS: MURO 1= 9,80 X 4,50 M; MURO 02= 27 X 3 m
B54: ='[1]Planilha Orcamentaria'!B29 -> 3.1 | C54: ='[1]Planilha Orcamentaria'!E29 -> MÃO DE OBRA LASTRO DE CONCRETO MAGRO, APLICADO EM PISOS, LAJES SOBRE SOLO OU RADIERS, ESPESSURA DE 5 CM.
C55: LOCAL | D55: QUANT. | E55: COMP. | G55: ALTURA | H55: LARGURA | I55: VOLUME
C56: MURO 01 S1a S42 | D56: 42 | E56: 1 | H56: 1 | I56: =H56*E56*D56 -> 42
C57: MURO 01VIGA baldrame | D57: 1 | E57: 120 | H57: 0.2 | I57: =H57*E57*D57 -> 24
C58: MURO 02 S1a S9 | D58: 9 | E58: 1 | H58: 1 | I58: =H58*E58*D58 -> 9
C59: MURO 02 VIGA baldrame | D59: 1 | E59: 27 | H59: 0.2 | I59: =H59*E59*D59 -> 5.4
I60: =SUM(I56:I59) -> 80.4
B62: ='[1]Planilha Orcamentaria'!B30 -> 3.2 | C62: ='[1]Planilha Orcamentaria'!E30 -> MÃO DE OBRA ARMAÇÃO DE PILAR OU VIGA DE UMA ESTRUTURA CONVENCIONAL DE CONCRETO ARMADO UTILIZANDO AÇO CA-50 DE 10,0 MM
C63: LOCAL | D63: QUANT. | E63: COMP. | G63: MASSA L. | H63: COMP. TOT. | I63: PESO
C64: MURO 01 S1a S42 | D64: 420 | E64: 0.8 | G64: 0.617 | H64: =E64*D64 -> 336 | I64: =H64*G64 -> 207.312
C65: MURO 01 FUSTE 01 A 42 | D65: 170 | E65: 2 | G65: 0.617 | H65: =E65*D65 -> 340 | I65: =H65*G65 -> 209.78
C66: MURO 01VIGA baldrame | D66: 4 | E66: 120 | G66: 0.617 | H66: =E66*D66 -> 480 | I66: =H66*G66 -> 296.16
C67: MURO 02 S1a S9 | D67: 90 | E67: 0.8 | G67: 0.617 | H67: =E67*D67 -> 72 | I67: =H67*G67 -> 44.424
C68: MURO 02 FUSTE 01 A 09 | D68: 36 | E68: 2 | G68: 0.617 | H68: =E68*D68 -> 72 | I68: =H68*G68 -> 44.424
C69: MURO 02VIGA baldrame | D69: 4 | E69: 27 | G69: 0.617 | H69: =E69*D69 -> 108 | I69: =H69*G69 -> 66.636
C70: MURO S1a S10 (SAPATAS DE VIGA DE TRAVAMENTO | D70: 100 | E70: 0.8 | G70: 0.617 | H70: =E70*D70 -> 80 | I70: =H70*G70 -> 49.36
C71: MUROFUSTE 01 A 10 (fuste DE VIGA DE TRAVAMENTO | D71: 40 | E71: 2 | G71: 0.617 | H71: =E71*D71 -> 80 | I71: =H71*G71 -> 49.36
I72: =SUM(I64:I71) -> 967.456
B74: ='[1]Planilha Orcamentaria'!B31 -> 3.3 | C74: ='[1]Planilha Orcamentaria'!E31 -> MÃO DE OBRA ARMAÇÃO DE PILAR OU VIGA DE ESTRUTURA CONVENCIONAL DE CONCRETO ARMADO UTILIZANDO AÇO CA-60 DE 5,0 MM - MONTAGEM
C75: LOCAL | D75: QUANT. | E75: COMP. | G75: MASSA L. | H75: COMP. TOT. | I75: PESO
C76: MURO 01 FUSTE 01 A 42 | D76: 450 | E76: =1 -> 1 | G76: 0.154 | H76: =E76*D76 -> 450 | I76: =H76*G76 -> 69.3
C77: MURO 01VIGA baldrame | D77: 800 | E77: 1 | G77: 0.154 | H77: =E77*D77 -> 800 | I77: =H77*G77 -> 123.2
C78: MURO 02 FUSTE 01 A 09 | D78: 100 | E78: =1 -> 1 | G78: 0.154 | H78: =E78*D78 -> 100 | I78: =H78*G78 -> 15.4
C79: MURO 02VIGA baldrame | D79: 110 | E79: 1 | G79: 0.154 | H79: =E79*D79 -> 110 | I79: =H79*G79 -> 16.94
C80: MUROFUSTE 01 A 10 (fuste DE VIGA DE TRAVAMENTO | D80: 100 | E80: =1 -> 1 | G80: 0.154 | H80: =E80*D80 -> 100 | I80: =H80*G80 -> 15.4
I81: =SUM(I76:I80) -> 240.24
B83: ='[1]Planilha Orcamentaria'!B32 -> 3.4 | C83: ='[1]Planilha Orcamentaria'!E32 -> MÃO DE OBRA MONTAGEM E DESMONTAGEM DE FÔRMA DE PILARES RETANGULARES E ESTRUTURAS S M2 CR 134,30 IMILARES, PÉ-DIREITO SIMPLES, EM CHAPA DE MADEIRA COMPENSADA RESINADA,2 UTILIZAÇÕES
C84: LOCAL | D84: QUANT. | E84: COMP. | G84: LARG | H84: ALT | I84: VOLUME
C85: MURO 01 FUSTE 01 A 42 | D85: 70 | G85: 0.3 | H85: 0.9 | I85: =H85*G85*D85 -> 18.9
C86: MURO 01 FUSTE 01 A 42 | D86: 70 | G86: 0.2 | H86: 0.9 | I86: =H86*G86*D86 -> 12.6
C87: MURO 01VIGA baldrame | D87: 2 | E87: 120 | F87: =E87*D87 -> 240 | G87: 0.4 | I87: =E87*G87*D87 -> 96
C88: MURO 02 FUSTE 01 A 09 | D88: 18 | G88: 0.3 | H88: 0.9 | I88: =H88*G88*D88 -> 4.86
C89: MURO 02 FUSTE 01 A 09 | D89: 18 | G89: 0.2 | H89: 0.9 | I89: =H89*G89*D89 -> 3.24
C90: MURO 02VIGA baldrame | D90: 2 | E90: 27 | F90: =E90*D90 -> 54 | G90: 0.4 | I90: =E90*G90*D90 -> 21.6
C91: MUROFUSTE 01 A 10 (fuste DE VIGA DE TRAVAMENTO | D91: 20 | G91: 0.3 | H91: 0.9 | I91: =H91*G91*D91 -> 5.4
C92: MUROFUSTE 01 A 10 (fuste DE VIGA DE TRAVAMENTO | D92: 20 | G92: 0.2 | H92: 0.9 | I92: =H92*G92*D92 -> 3.6
F93: =SUM(F85:F87) -> 240 | I93: =SUM(I85:I92)/3 -> 55.4
B95: ='[1]Planilha Orcamentaria'!B33 -> 3.5 | C95: ='[1]Planilha Orcamentaria'!E33 -> MÃO DE OBRA LANÇAMENTO COM USO DE BALDES, ADENSAMENTO E ACABAMENTO DE CONCRETO EM ESTRUTURAS.
C96: LOCAL | D96: QUANT. | E96: COMP. | G96: LARG | H96: ALT | I96: VOLUME
C97: MURO 01VIGA baldrame | D97: 1 | E97: 120 | G97: 0.2 | H97: 0.25 | I97: =H97*G97*E97*D97 -> 6
C98: MURO 01 FUSTE 01 A 42 | D98: 42 | E98: 0.2 | G98: 1 | H98: 0.3 | I98: =H98*G98*E98*D98 -> 2.52
C99: MURO 01 S1a S42 | D99: 42 | E99: 0.8 | G99: 0.5 | H99: 0.8 | I99: =H99*G99*E99*D99 -> 13.44
C100: MURO 02VIGA baldrame | D100: 1 | E100: 27 | G100: 0.2 | H100: 0.25 | I100: =H100*G100*E100*D100 -> 1.35
C101: MURO 02 FUSTE 01 A 09 | D101: 9 | E101: 0.2 | G101: 1 | H101: 0.3 | I101: =H101*G101*E101*D101 -> 0.54
C102: MURO 02 S1a S9 | D102: 9 | E102: 0.8 | G102: 0.5 | H102: 0.8 | I102: =H102*G102*E102*D102 -> 2.88
C103: MUROFUSTE 01 A 10 (fuste DE VIGA DE TRAVAMENTO | D103: 10 | E103: 0.2 | G103: 1 | H103: 0.3 | I103: =H103*G103*E103*D103 -> 0.6
C104: MURO SAPATAS 01 A 10 (fuste DE VIGA DE TRAVAMENTO | D104: 10 | E104: 0.8 | G104: 0.5 | H104: 0.8 | I104: =H104*G104*E104*D104 -> 3.2
I105: =SUM(I97:I104) -> 30.53
B107: ='[1]Planilha Orcamentaria'!B34 -> 3.6 | C107: CONCRETO FCK = 20MPA, TRAÇO 1:2,7:3 (EM MASSA SECA DE CIMENTO/ AREIA MÉDIA/ BRITA 1) - PREPARO MECÂNICO COM BETONEIRA 400 L. AF_05/2021
C108: LOCAL | D108: QUANT. | E108: COMP. | G108: ALTURA | H108: LARGURA | I108: VOLUME
C109: MURO 01VIGA baldrame | D109: 1 | E109: 120 | G109: 0.2 | H109: 0.25 | I109: =H109*G109*E109*D109 -> 6
C110: MURO 01 FUSTE 01 A 42 | D110: 42 | E110: 0.2 | G110: 1 | H110: 0.3 | I110: =H110*G110*E110*D110 -> 2.52
C111: MURO 01 S1a S42 | D111: 42 | E111: 0.8 | G111: 0.5 | H111: 0.8 | I111: =H111*G111*E111*D111 -> 13.44
C112: MURO 02VIGA baldrame | D112: 1 | E112: 27 | G112: 0.2 | H112: 0.25 | I112: =H112*G112*E112*D112 -> 1.35
C113: MURO 02 FUSTE 01 A 09 | D113: 9 | E113: 0.2 | G113: 1 | H113: 0.3 | I113: =H113*G113*E113*D113 -> 0.54
C114: MURO 02 S1a S9 | D114: 9 | E114: 0.8 | G114: 0.5 | H114: 0.8 | I114: =H114*G114*E114*D114 -> 2.88
C115: MUROFUSTE 01 A 10 (fuste DE VIGA DE TRAVAMENTO | D115: 10 | E115: 0.2 | G115: 1 | H115: 0.3 | I115: =H115*G115*E115*D115 -> 0.6
...

Sheet Composição
B2: MUNICÍPIO DE CONSELHEIRO PENA
B3: CNPJ: 19.769.660/0001-60
B4: ESTADO DE MINAS GERAIS
B5: COMPOSIÇÃO DE PREÇOS UNITÁRIOS
B7: PREFEITURA: MUNICIPAL DE CONSELHEIRO PENA
B8: OBRA: | C8: META 05 - RECONSTRUÇÃO DE MUROS (SAAE) | G8: DATA: | H8: 45506
B9: LOCAL: | C9: DEPÓSITO SAAE, COORDENADA 19°10'38.80"S 41°28'51.22"O
B12: ='[1]Planilha Orcamentaria'!D17 -> CP1 | C12: ADMINISTRAÇÃO LOCAL | E12: UNIDADE
B13: CÓDIGO | C13: BASE | D13: DESCRIÇÃO | E13: UNIDADE | F13: COEFICIENTE | G13: VALOR UNIT. | H13: VALOR TOTAL
B15: 2707 | C15: SINAPI | D15: ENGENHEIRO CIVIL DE OBRA PLENO | E15: H | F15: 8 | G15: 117.86 | H15: =G15*F15 -> 942.88
B16: 4083 | C16: SINAPI | D16: ENCARREGADO GERAL DE OBRAS (MENSALISTA) | E16: H | F16: 20 | G16: 51.18 | H16: =G16*F16 -> 1023.6
H17: =SUM(H15:H16) -> 1966.48
B19: CP2 | C19: MOBILIZAÇÃO DE OBRAS | E19: UNIDADE
B20: CÓDIGO | C20: BASE | D20: DESCRIÇÃO | E20: UNIDADE | F20: COEFICIENTE | G20: VALOR UNIT. | H20: VALOR TOTAL
B21: 6111 | C21: SINAPI | D21: SERVENTE DE OBRAS | E21: H | F21: 30 | G21: 14.18 | H21: =G21*F21 -> 425.4
B22: 96034 | C22: SINAPI | D22: CAMINHÃO BASCULANTE 10 M3, TRUCADO, POTÊNCIA 230 CV, INCLUSIVE CAÇAMBA H C 136,51 METÁLICA, COM DISTRIBUIDOR DE AGREGADOS ACOPLADO - MATERIAIS NA OPERA ÇÃO. AF_02/2017 | E22: CHP | F22: 6 | G22: 136.51 | H22: =G22*F22 -> 819.06
H23: =SUM(H21:H22) -> 1244.46
B25: CP3 | C25: DESMOBILIZAÇÃO DE OBRAS | E25: UNIDADE
B26: CÓDIGO | C26: BASE | D26: DESCRIÇÃO | E26: UNIDADE | F26: COEFICIENTE | G26: VALOR UNIT. | H26: VALOR TOTAL
B27: 6111 | C27: SINAPI | D27: SERVENTE DE OBRAS | E27: H | F27: 30 | G27: 13.99 | H27: =G27*F27 -> 419.7
B28: 5811 | C28: SINAPI | D28: CAMINHÃO BASCULANTE, PESO BRUTO TOTAL 16.000 KG, CARGA ÚTIL MÁXIMA 13.071 KG, DISTÂNCIA ENTRE EIXOS 4,80 M, POTÊNCIA 230 CV INCLUSIVE CAÇAMBA METÁLICA - CHP DIURNO. | E28: CHP | F28: 4 | G28: 175.91 | H28: =G28*F28 -> 703.64
H29: =SUM(H27:H28) -> 1123.34

Sheet Cronograma fisico-financeiro
B2: MUNICÍPIO DE CONSELHEIRO PENA
B3: CNPJ: 19.769.660/0001-60
B4: ESTADO DE MINAS GERAIS
B5: CRONOGRAMA FÍSICO FINANCEIRO
B7: PREFEITURA: MUNICIPAL DE CONSELHEIRO PENA
B8: META 05 - RECONSTRUÇÃO DE MUROS (SAAE) | F8: DATA: | G8: 45506
B9: ENDEREÇO: DEPÓSITO SAAE, COORDENADA 19°10'38.80"S 41°28'51.22"O
B10: PRAZO DE EXECUÇÃO: 45 DIAS
B12: ITEM | C12: DESCRIÇÃO | D12: PREÇO TOTAL | E12: 1° QUINZENA | F12: 2° QUINZENA | G12: 3° QUINZENA
B13: 1 | C13: ='Planilha Orcamentaria'!E12 -> ADMINISTRAÇÃO | E13: 0.33 | F13: 0.33 | G13: 0.34
D14: ='Planilha Orcamentaria'!L19 -> 12946.641 | E14: =D14*E13 -> 4272.3916 | F14: =D14*F13 -> 4272.3916 | G14: =D14*G13 -> 4401.858
B15: 2 | C15: ='Planilha Orcamentaria'!E21 -> MOVIMENTAÇÃO DE TERRA | E15: 1
D16: ='Planilha Orcamentaria'!L24 -> 11144.776 | E16: =D16*E15 -> 11144.776 | F16: =D16*F15 -> 0 | G16: =D16*G15 -> 0
B17: 3 | C17: ='Planilha Orcamentaria'!E26 -> FUNDAÇÃO | E17: 0.5 | F17: 0.5
D18: ='Planilha Orcamentaria'!L33 -> 58479.067 | E18: =D18*E17 -> 29239.533 | F18: =D18*F17 -> 29239.533 | G18: =D18*G17 -> 0
B19: 4 | C19: ='Planilha Orcamentaria'!E35 -> ESTRUTURA | E19: 0.25 | F19: 0.25 | G19: 0.5
D20: ='Planilha Orcamentaria'!L41 -> 49063.305 | E20: =D20*E19 -> 12265.826 | F20: =D20*F19 -> 12265.826 | G20: =D20*G19 -> 24531.652
B21: 5 | C21: ='Planilha Orcamentaria'!E43 -> MURO | E21: 0.25 | F21: 0.75
D22: ='Planilha Orcamentaria'!L50 -> 190246.69 | E22: =D22*E21 -> 47561.674 | F22: =D22*F21 -> 142685.02
B23: 6 | C23: ='Planilha Orcamentaria'!E52 -> COBERTURA METÁLICA | E23: 0 | F23: 1
D24: ='Planilha Orcamentaria'!L56 -> 30866.516 | E24: =D24*E23 -> 0 | F24: =D24*F23 -> 30866.516
B25: 7 | C25: ='Planilha Orcamentaria'!E58 -> SERVIÇOS FINAIS | G25: 1
D26: ='Planilha Orcamentaria'!L61 -> 1798.9457 | G26: =D26*G25 -> 1798.9457
B27: PERIODO | C27: % | E27: =E28/$D$28 -> 0.29469862 | F27: =F28/$D$28 -> 0.61862021 | G27: =G28/$D$28 -> 0.086681166
C28: VALOR | D28: ='Planilha Orcamentaria'!L10 -> 354545.95 | E28: =E14+E16+E18+E20+E22 -> 104484.2 | F28: =F14+F16+F18+F20+F22+F24 -> 219329.29 | G28: =G14+G16+G18+G20+G26 -> 30732.456
B29: ACUMULADO | C29: % | E29: =E27 -> 0.29469862 | F29: =E29+F27 -> 0.91331883 | G29: =F29+G27 -> 1
C30: VALOR | D30: =D28 -> 354545.95 | E30: =E28 -> 104484.2 | F30: =F28+E30 -> 323813.49 | G30: =G28+F30 -> 354545.95
