Workbook
Name __xlfn_SINGLE: #N/A
Name aaa: #REF!
Name BDI: #REF!
Name BDI_2: #REF!
Name Button_15: "COMERCIAL_2002_JANEIRO_consultas_Lista"
Name CGC: #REF!
Name CLIENTES: #REF!
Name Excel_BuiltIn_Print_Area: '1.1 COLETA RSU'!$A$1:$F$36
Name Excel_BuiltIn_Print_Area: '10.1 PODA'!$A$2:$F$32
Name Excel_BuiltIn_Print_Area: '11 PINTURA MEIOFIO'!$A$2:$F$27
Name Excel_BuiltIn_Print_Area: '12 ADM LOCAL'!$A$1:$F$34
Name Excel_BuiltIn_Print_Area: '2.1 COLETA SELETIVA'!$A$1:$F$26
Name Excel_BuiltIn_Print_Area: '3.1 COLETA INERTES'!$A$2:$F$34
Name Excel_BuiltIn_Print_Area: '7.1 CAPINA'!$A$2:$F$32
Name Excel_BuiltIn_Print_Area: '8.1 CAPINA ELETRICA'!$A$2:$F$19
Name Excel_BuiltIn_Print_Area: '9.1 ROÇADA'!$A$2:$F$32
Name Excel_BuiltIn_Print_Titles: '1.1 COLETA RSU'!$1:$5
Name Excel_BuiltIn_Print_Titles: '10.1 PODA'!$A$1:$ID$5
Name Excel_BuiltIn_Print_Titles: '11 PINTURA MEIOFIO'!$A$1:$ID$5
Name Excel_BuiltIn_Print_Titles: '12 ADM LOCAL'!$1:$5
Name Excel_BuiltIn_Print_Titles: '2.1 COLETA SELETIVA'!$1:$5
Name Excel_BuiltIn_Print_Titles: '3.1 COLETA INERTES'!$A$1:$ID$5
Name Excel_BuiltIn_Print_Titles: '7.1 CAPINA'!$A$1:$ID$5
Name Excel_BuiltIn_Print_Titles: '8.1 CAPINA ELETRICA'!$A$1:$ID$5
Name Excel_BuiltIn_Print_Titles: '9.1 ROÇADA'!$A$1:$ID$5
Name FILIAIS: #REF!
Name jopjiopjkop: #REF!
Name JORNADAS: #REF!
Name MO: #REF!
Name nome_cliente: #REF!
Name PLANILHAS_COM_REAJUSTADAS__ARACAJU__SEBRAE_Lista: #REF!
Name STATUS: #REF!
Name VALES: #REF!

Sheet ORÇAMENTO GERAL
A1: Limpeza Urbana
A3: COMPOSIÇÃO DE PREÇOS UNITÁRIOS DE SERVIÇO
A5: ITENS | B5: DISCRIMINAÇÃO | C5: UNIDADE | D5: QUANT.ESTIMADA MENSAL | E5: VALOR UNITÁRIO SEM BDI (R$) | F5: VALOR UNITÁRIO COM BDI (R$) | G5: VALOR MENSAL (R$) | H5: VALOR TOTAL ANUAL (R$)
B6: SERVIÇOS
A7: 1 | B7: Coleta, Transporte, Descarga E Disposição Final de Resíduos Sólidos Urbanos | C7: Tonelada | D7: ='1.1 COLETA RSU'!F32 -> 1311.7572 | H7: =12*G7 -> 0
A8: 2 | B8: Coleta Seletiva de Resíduos Reciclaveis | C8: Equipe / Mês | D8: ='2.1 COLETA SELETIVA'!F22 -> 3 | H8: =12*G8 -> 0
A9: 3 | B9: Coleta, Transporte, Descarga E Disposição Final de Resíduos Inertes, Entulhos e RCC | C9: Tonelada | D9: ='3.1 COLETA INERTES'!F31 -> 3455.6301 | H9: =12*G9 -> 0
A10: 4 | B10: Varrição Manual | C10: km (sarjeta) | D10: ='4.1 Varrição Manual'!F20 -> 6189.6184 | H10: =12*G10 -> 0
A11: 5 | B11: Varrição Mecanizada | C11: km (sarjeta) | D11: ='5.1 VARR MECANIZADA'!F21 -> 1695.2 | H11: =12*G11 -> 0
A12: 6 | B12: Varrição de Praças | C12: m2 | D12: ='6.1 Varrição PRACAS'!F20 -> 114688.4 | H12: =12*G12 -> 0
A13: 7 | B13: Capina | C13: m2 | D13: ='7.1 CAPINA'!F29 -> 118663.12 | H13: =12*G13 -> 0
A14: 8 | B14: Capina Eletrica | C14: m2 | D14: ='8.1 CAPINA ELETRICA'!F16 -> 2000 | H14: =12*G14 -> 0
A15: 9 | B15: Roçada | C15: m2 | D15: ='9.1 ROÇADA'!F29 -> 656290.12 | H15: =12*G15 -> 0
A16: 10 | B16: Poda de Árvores e Trituração de Troncos e Galhos | C16: Equipe / Mês | D16: ='10.1 PODA'!F29 -> 1 | H16: =12*G16 -> 0
A17: 11 | B17: Pintura de MeioFio | C17: m (sarjeta) | D17: ='11 PINTURA MEIOFIO'!F24 -> 135615 | H17: =12*G17 -> 0
A18: 12 | B18: Administração Local | C18: Verba / Mês | D18: ='12 ADM LOCAL'!F30 -> 1 | H18: =12*G18 -> 0
A19: VALOR GLOBAL DO LOTE | G19: =SUM(G7:G18) -> 0 | H19: =SUM(H7:H18) -> 0
B21: OBSERVAÇÕES:
B25: 01: AS TABELAS ESTÃO COMPOSTAS RELACIONANDO PREÇOS VINCULADOS A TABELAS REFERENCIAS E PREÇOS DE MERCADO, NA ABA MAPA DE COTAÇÕES A EMPRESA DEVERÁ PREENCHER SEUS DADOS E O RESPECTIVO VALOR PARA CADA ITEM EM QUESTÃO.
B26: 02: OS ENCARGOS SOCIAIS E O PERCENTUAL DE BDI DEVERÁ REFLETIR A REALIDADE DA EMPRESA.
B27: 03: OS QUANTITATIVOS DE MÃO DE OBRA, INSUMOS, VEICULOS, EQUIPAMENTOS E SERVIÇOS NÃO PODERÃO SER ALTERADOS EM HIPÓTESE ALGUMA.

Sheet RESUMO
B2: ITEM DE SERVIÇO | D2: EQUIPAMENTOS | F2: ITEM DE SERVIÇO
B3: ITEM | C3: DESCRIÇÃO DO SERVIÇO | D3: DESCRIÇÃO | E3: QTDE | F3: FUNÇÃO | G3: QTDE
B4: 1 | C4: COLETA CONVENCIONAL DE RSU E CONTEINERIZAÇÃO | D4: Caminhão coletor compactador - matutino | E4: ='1.1 COLETA RSU'!D8 -> 4 | F4: ='1.1 COLETA RSU'!B16 -> Coletor Matutino | G4: ='1.1 COLETA RSU'!D16 -> 15
D5: Caminhão coletor compactador - vespertino | E5: ='1.1 COLETA RSU'!D9 -> 2 | F5: ='1.1 COLETA RSU'!B17 -> Coletor Vespertino | G5: ='1.1 COLETA RSU'!D17 -> 6
D6: Caminhão coletor compactador - Frota Reserva | E6: ='1.1 COLETA RSU'!D10 -> 1 | F6: ='1.1 COLETA RSU'!B18 -> Motorista Compactador Matutino | G6: ='1.1 COLETA RSU'!D18 -> 5
D7: Picape - Coleta Dificil Acesso | E7: ='1.1 COLETA RSU'!D11 -> 1 | F7: ='1.1 COLETA RSU'!B19 -> Motorista Compactador Vespertino | G7: ='1.1 COLETA RSU'!D19 -> 2
D8: Picape Reserva | E8: 0 | F8: ='1.1 COLETA RSU'!B20 -> Motorista Veíc Leve Diurno | G8: ='1.1 COLETA RSU'!D20 -> 1
D9: Veículo Utilitário - 2 turnos | E9: ='1.1 COLETA RSU'!D12 -> 1 | F9: ='1.1 COLETA RSU'!B21 -> Encarregado Diurno | G9: ='1.1 COLETA RSU'!D21 -> 1
D10: Caixas estacionárias PEAD, sem compactação, de 1,2m³ | E10: ='1.1 COLETA RSU'!D13 -> 50 | F10: Encarregado Noturno | G10: ='1.1 COLETA RSU'!D22 -> 0
B12: 2 | C12: COLETA SELETIVA | D12: Caminhão coletor compactador - 2 turnos | E12: ='2.1 COLETA SELETIVA'!D8 -> 3 | F12: Coletor Diurno | G12: ='2.1 COLETA SELETIVA'!D12 -> 10
D13: Caminhão coletor compactador - Frota Reserva | E13: ='2.1 COLETA SELETIVA'!D9 -> 1 | F13: Motorista Diurno | G13: ='2.1 COLETA SELETIVA'!D13 -> 4
B15: 3 | C15: COLETA DE ENTULHO | D15: ='3.1 COLETA INERTES'!B8 -> Caminhão caçamba basculante de 10 m³ | E15: ='3.1 COLETA INERTES'!D8 -> 6 | F15: ='3.1 COLETA INERTES'!B15 -> Fiscal diurno | G15: ='3.1 COLETA INERTES'!D15 -> 2
D16: ='3.1 COLETA INERTES'!B9 -> Caminhão Carroceria | E16: ='3.1 COLETA INERTES'!D9 -> 2 | F16: ='3.1 COLETA INERTES'!B16 -> Operador de Pá Carregadeira diurno | G16: ='3.1 COLETA INERTES'!D16 -> 1
D17: ='3.1 COLETA INERTES'!B10 -> Pá carregadeira | E17: ='3.1 COLETA INERTES'!D10 -> 1 | F17: ='3.1 COLETA INERTES'!B17 -> Motorista de Caminhao diurno | G17: ='3.1 COLETA INERTES'!D17 -> 8
D18: ='3.1 COLETA INERTES'!B11 -> Retroescavadeira | E18: ='3.1 COLETA INERTES'!D11 -> 1 | F18: ='3.1 COLETA INERTES'!B18 -> Operador de Retroescavadeira | G18: ='3.1 COLETA INERTES'!D18 -> 1
D19: ='3.1 COLETA INERTES'!B12 -> Minicarregadeira | E19: ='3.1 COLETA INERTES'!D12 -> 1 | F19: ='3.1 COLETA INERTES'!B19 -> Operador de Minicarregadeira | G19: ='3.1 COLETA INERTES'!D19 -> 1
F20: ='3.1 COLETA INERTES'!B20 -> Ajudante de Operação diurno | G20: ='3.1 COLETA INERTES'!D20 -> 16
B22: 4 | C22: VARRIÇÃO MANUAL | D22: ='4.1 Varrição Manual'!B6 -> Veículo de transporte - Van | E22: ='4.1 Varrição Manual'!D6 -> 2 | F22: ='4.1 Varrição Manual'!B9 -> Fiscal Diurno | G22: ='4.1 Varrição Manual'!D9 -> 3
F23: ='4.1 Varrição Manual'!B10 -> Motorista diurno | G23: ='4.1 Varrição Manual'!D10 -> 2
F24: ='4.1 Varrição Manual'!B11 -> Varredor Diurno | G24: ='4.1 Varrição Manual'!D11 -> 62
B26: 5 | C26: VARRIÇÃO MECANIZADA | D26: ='5.1 VARR MECANIZADA'!B6 -> Varredeira mecânica autopropelida | E26: ='5.1 VARR MECANIZADA'!D6 -> 1 | F26: ='5.1 VARR MECANIZADA'!B10 -> Motorista Noturno | G26: ='5.1 VARR MECANIZADA'!D10 -> 1
F27: ='5.1 VARR MECANIZADA'!B11 -> Ajudante de Operação Noturno | G27: ='5.1 VARR MECANIZADA'!D11 -> 1
B29: 6 | C29: VARRIÇÃO MANUAL DE PRAÇAS E FEIRAS | D29: ='6.1 Varrição PRACAS'!B6 -> Veículo de transporte - Van | E29: ='6.1 Varrição PRACAS'!D6 -> 1 | F29: ='6.1 Varrição PRACAS'!B9 -> Fiscal Diurno | G29: ='6.1 Varrição PRACAS'!D9 -> 1
F30: ='6.1 Varrição PRACAS'!B10 -> Motorista diurno | G30: ='6.1 Varrição PRACAS'!D10 -> 1
F31: ='6.1 Varrição PRACAS'!B11 -> Varredor Diurno | G31: ='6.1 Varrição PRACAS'!D11 -> 20
B33: 7 | C33: CAPINA | D33: ='7.1 CAPINA'!B8 -> Veículo de transporte - Van | E33: ='7.1 CAPINA'!D8 -> 2 | F33: ='7.1 CAPINA'!B12 -> Fiscal diurno | G33: ='7.1 CAPINA'!D12 -> 3
D34: ='7.1 CAPINA'!B9 -> Caminhão Carroceria com Cabine Suplementar | E34: ='7.1 CAPINA'!D9 -> 2 | F34: ='7.1 CAPINA'!B13 -> Capinador | G34: ='7.1 CAPINA'!D13 -> 32
F35: ='7.1 CAPINA'!B14 -> Motorista de Caminhao diurno | G35: ='7.1 CAPINA'!D14 -> 2
F36: ='7.1 CAPINA'!B15 -> Motorista diurno | G36: ='7.1 CAPINA'!D15 -> 2
F37: ='7.1 CAPINA'!B16 -> Ajudante de Operação diurno | G37: ='7.1 CAPINA'!D16 -> 4
B39: 8 | C39: CAPINA ELÉTRICA | D39: Caminhão ou Trator Agrícola c/ Equipamento de Capina Elétrica | E39: 1 | F39: ='8.1 CAPINA ELETRICA'!B11 -> Motorista Diurno | G39: ='8.1 CAPINA ELETRICA'!D11 -> 1
F40: ='8.1 CAPINA ELETRICA'!B12 -> Ajudante de Operação Diurno | G40: ='8.1 CAPINA ELETRICA'!D12 -> 1
B43: 9 | C43: ROÇADA | D43: ='9.1 ROÇADA'!B8 -> Caminhão Basculante de 6 m³ | E43: ='9.1 ROÇADA'!D8 -> 2 | F43: ='9.1 ROÇADA'!B12 -> Fiscal diurno | G43: ='9.1 ROÇADA'!D12 -> 3
D44: ='9.1 ROÇADA'!B9 -> Caminhão Carroceria com Cabine Suplementar | E44: ='9.1 ROÇADA'!D9 -> 3 | F44: ='9.1 ROÇADA'!B13 -> Roçador | G44: ='9.1 ROÇADA'!D13 -> 33
F45: ='9.1 ROÇADA'!B14 -> Motorista de Caminhao diurno | G45: ='9.1 ROÇADA'!D14 -> 5
F46: ='9.1 ROÇADA'!B15 -> Ajudante de Operação diurno | G46: ='9.1 ROÇADA'!D15 -> 66
B48: 10 | C48: PODA | D48: ='10.1 PODA'!B8 -> Triturador de Residuos | E48: ='10.1 PODA'!D8 -> 1 | F48: ='10.1 PODA'!B14 -> Fiscal diurno | G48: ='10.1 PODA'!D14 -> 1
D49: ='10.1 PODA'!B9 -> Caminhão Carroceria | E49: ='10.1 PODA'!D9 -> 2 | F49: ='10.1 PODA'!B15 -> Motorista de Caminhao diurno | G49: ='10.1 PODA'!D15 -> 2
D50: ='10.1 PODA'!B10 -> Motosserra | E50: ='10.1 PODA'!D10 -> 4 | F50: ='10.1 PODA'!B16 -> Operador de Retroescavadeira | G50: ='10.1 PODA'!D16 -> 1
D51: ='10.1 PODA'!B11 -> Retroescavadeira | E51: ='10.1 PODA'!D11 -> 1 | F51: ='10.1 PODA'!B17 -> Operador de Motosserra | G51: ='10.1 PODA'!D17 -> 4
...

Sheet E. S.
A2: COMPOSIÇÃO DOS ENCARGOS SOCIAIS
A3: CÓDIGO | B3: DESCRIÇÃO | C3: SEM DESONERAÇÃO
C4: MENSALISTA %
A5: GRUPO A
A6: A1 | B6: INSS
A7: A2 | B7: SESI
A8: A3 | B8: SENAI
A9: A4 | B9: INCRA
A10: A5 | B10: SEBRAE
A11: A6 | B11: Salário Educação
A12: A7 | B12: Seguro Contra Acidentes de Trabalho
A13: A8 | B13: FGTS
A14: A9 | B14: SECONCI
A15: A | B15: Total
A16: GRUPO B
A17: B1 | B17: Repouso Semanal Remunerado
A18: B2 | B18: Feriados
A19: B3 | B19: Auxílio - Enfermidade
A20: B4 | B20: 13º Salário
A21: B5 | B21: Licença Paternidade
A22: B6 | B22: Faltas Justificadas
A23: B7 | B23: Dias de Chuvas
A24: B8 | B24: Auxílio Acidente de Trabalho
A25: B9 | B25: Férias Gozadas
A26: B10 | B26: Salário Maternidade
A27: B | B27: Total
A28: GRUPO C
A29: C1 | B29: Aviso Prévio Indenizado
A30: C2 | B30: Aviso Prévio Trabalhado
A31: C3 | B31: Férias Indenizadas
A32: C4 | B32: Depósito Rescisão Sem Justa Causa
A33: C5 | B33: Indenização Adicional
A34: C | B34: Total
A35: GRUPO D
A36: D1 | B36: Reincidência de Grupo A sobre Grupo B
A37: D2 | B37: Reincidência de Grupo A sobre Aviso Prévio Trabalhado e Reincidência do FGTS sobre Aviso Prévio Indenizado
A38: D | B38: Total
A39: TOTAL(A+B+C+D)

Sheet BDI 
A2: COMPOSIÇÃO DE BDI - BENEFÍCIOS E DESPESAS INDIRETAS
A4: Itens | B4: Discriminação | C4: %
B7: Despesas indiretas
B8: Administração Central (Infra-estrura + Pessoal administrativo)
B9: Seguro
B10: Risco e Garantia
B12: Despesas Financeiras
B14: Lucro
B16: Impostos e taxas sobre o Faturamento (T1 + T2 + T3 + T4) | C16: =SUM(C17:C20) -> 0.05
B17: PIS
B18: COFINS
B19: ISS | C19: 0.05
B20: CPRB
A22: BDI | C22: =ROUND((1+C8+C9+C10)*(1+C12)*(1+C14)/(1-C16)-1,4) -> 0.0526

Sheet 1.1 COLETA RSU
A2: COMPOSIÇÃO DE PREÇOS UNITÁRIOS DE SERVIÇO
A4: ='ORÇAMENTO GERAL'!B7 -> Coleta, Transporte, Descarga E Disposição Final de Resíduos Sólidos Urbanos
E5: Unidade: | F5: Tonelada
A6: ITENS | B6: DISCRIMINAÇÃO | C6: UNIDADE / MÊS | D6: QUANT. | E6: VALOR UNITÁRIO | F6: VALOR TOTAL
A7: 1 | B7: EQUIPAMENTOS
A8: 1.1 | B8: Caminhão coletor compactador - matutino | C8: und | D8: 4 | E8: ='1.3 EQUIP. VEICULOS'!C35 -> #DIV/0! | F8: =E8*D8 -> #DIV/0!
A9: 1.2 | B9: Caminhão coletor compactador - vespertino | C9: und | D9: ='1.4 DIM COLETA RSU'!C119 -> 2 | E9: ='1.3 EQUIP. VEICULOS'!C35 -> #DIV/0! | F9: =E9*D9 -> #DIV/0!
A10: 1.3 | B10: Caminhão coletor compactador - Frota Reserva | C10: und | D10: ='1.4 DIM COLETA RSU'!C120 -> 1 | E10: ='1.3 EQUIP. VEICULOS'!D35 -> #DIV/0! | F10: =E10*D10 -> #DIV/0!
A11: 1.4 | B11: Picape - Coleta Dificil Acesso | C11: und | D11: ='1.4 DIM COLETA RSU'!C121 -> 1 | E11: ='1.3 EQUIP. VEICULOS'!C72 -> #DIV/0! | F11: =E11*D11 -> #DIV/0!
A12: 1.6 | B12: Veículo Utilitário | C12: und | D12: ='1.4 DIM COLETA RSU'!C123 -> 1 | E12: ='1.3 EQUIP. VEICULOS'!E72 -> #DIV/0! | F12: =E12*D12 -> #DIV/0!
A13: 1.7 | B13: Caixas coletoras estacionárias, sem compactação, de 1,2m³ | C13: und | D13: ='1.4 DIM COLETA RSU'!C117 -> 50 | E13: ='1.3 EQUIP. VEICULOS'!C109 -> #DIV/0! | F13: =E13*D13 -> #DIV/0!
E14: Total 1 | F14: =SUM(F8:F13) -> #DIV/0!
A15: 2 | B15: MÃO DE OBRA:
A16: 2.1 | B16: Coletor Matutino | C16: mês | D16: ='1.4 DIM COLETA RSU'!C105 -> 15 | E16: ='1.2 MAO DE OBRA'!F239 -> #DIV/0! | F16: =E16*D16 -> #DIV/0!
A17: 2.2 | B17: Coletor Vespertino | C17: mês | D17: ='1.4 DIM COLETA RSU'!C106 -> 6 | E17: ='1.2 MAO DE OBRA'!F239 -> #DIV/0! | F17: =E17*D17 -> #DIV/0!
A18: 2.3 | B18: Motorista Compactador Matutino | C18: mês | D18: ='1.4 DIM COLETA RSU'!C107 -> 5 | E18: ='1.2 MAO DE OBRA'!F99 -> #DIV/0! | F18: =E18*D18 -> #DIV/0!
A19: 2.4 | B19: Motorista Compactador Vespertino | C19: mês | D19: ='1.4 DIM COLETA RSU'!C108 -> 2 | E19: ='1.2 MAO DE OBRA'!F99 -> #DIV/0! | F19: =E19*D19 -> #DIV/0!
A20: 2.5 | B20: Motorista Veíc Leve Diurno | C20: mês | D20: ='1.4 DIM COLETA RSU'!C109 -> 1 | E20: ='1.2 MAO DE OBRA'!F133 -> #DIV/0! | F20: =E20*D20 -> #DIV/0!
A21: 2.7 | B21: Encarregado Diurno | C21: mês | D21: 1 | E21: ='1.2 MAO DE OBRA'!F33 -> #DIV/0! | F21: =E21*D21 -> #DIV/0!
E23: Total 2 | F23: =SUM(F16:F22) -> #DIV/0!
A24: 3 | B24: FERRAMENTAS
A25: 3.1 | B25: Pá quadrada, com cabo | C25: und | D25: =D8+D11 -> 5 | E25: =VLOOKUP(B25,'1.1 CUSTO FERRAME-UNIFORME-EPI'!B:C,2,FALSE) -> #DIV/0! | F25: =E25*D25 -> #DIV/0!
A26: 3.2 | B26: Vassoura de piaçava 28 furos, com cabo | C26: und | D26: =2*(D8+D11) -> 10 | E26: =VLOOKUP(B26,'1.1 CUSTO FERRAME-UNIFORME-EPI'!B:C,2,FALSE) -> 0 | F26: =E26*D26 -> 0
A27: 3.3 | B27: Cone de sinalização | C27: und | D27: =D8+D11 -> 5 | E27: =VLOOKUP(B27,'1.1 CUSTO FERRAME-UNIFORME-EPI'!B:C,2,FALSE) -> 0 | F27: =E27*D27 -> 0
A28: 3.4 | B28: ='1.1 CUSTO FERRAME-UNIFORME-EPI'!B11 -> Ancinho, com cabo/ Gadanho | C28: und | D28: =2*D11 -> 2 | E28: =VLOOKUP(B28,'1.1 CUSTO FERRAME-UNIFORME-EPI'!B:C,2,FALSE) -> #DIV/0! | F28: =E28*D28 -> #DIV/0!
E29: Total 3 | F29: =SUM(F25:F28) -> #DIV/0!
B30: RESUMO DO ITEM
B31: Custo operacional total | C31: R$ / mês | F31: =SUM(F29,F23,F14) -> #DIV/0!
B32: Quantidade estimada | C32: ton/mês | F32: ='1.4 DIM COLETA RSU'!$D$23 -> 1311.7572
B33: Custo unitário sem BDI | C33: R$ / ton | F33: =ROUND(F31/F32,2) -> #DIV/0!
B34: BDI | C34: % | D34: ='BDI '!$C$22 -> 0.0526 | F34: =ROUND(F33*D34,2) -> #DIV/0!
B35: PREÇO FINAL (com BDI) | C35: R$ / ton | F35: =SUM(F33:F34) -> #DIV/0!
A37: 4 | B37: DISPOSIÇÃO FINAL
A38: 4.1 | B38: DISPOSIÇÃO FINAL DOS RSÍDUOS | C38: R$ / ton | D38: ='1.4 DIM COLETA RSU'!$D$23 -> 1311.7572 | E38: ='1.1 REF EQUIPAMENTOS E DIV'!E34 -> #DIV/0! | F38: =E38*D38 -> #DIV/0!
E39: Total 3 | F39: =SUM(F38:F38) -> #DIV/0!
B40: RESUMO DO ITEM
B41: Custo operacional total | C41: R$ / mês | F41: =F39 -> #DIV/0!
B42: Quantidade estimada | C42: ton/mês | F42: ='1.4 DIM COLETA RSU'!$D$23 -> 1311.7572
B43: Custo unitário sem BDI | C43: R$ / ton | F43: =ROUND(F41/F42,2) -> #DIV/0!
B44: BDI | C44: % | D44: ='BDI '!$C$22 -> 0.0526 | F44: =ROUND(F43*D44,2) -> #DIV/0!
...

Sheet 1.2 MAO DE OBRA
B2: COMPOSIÇÃO DE CUSTOS UNITÁRIOS - PESSOAL
B5: ITENS | C5: DISCRIMINAÇÃO | D5: ENCARREGADO DIURNO
B7: 1.0 | C7: REMUNERAÇÃO, ENCARGOS E BENEFÍCIOS | D7: VALOR | E7: QUANT. | F7: TOTAL
B8: 1.1 | C8: Remuneração
B9: 1.1.1 | C9: Salário | D9: ='1.1 SALÁRIOS'!F25 -> 0 | E9: 1 | F9: =E9*D9 -> 0
B10: 1.1.2 | C10: Adicional de insalubridade | D10: ='1.1 SALÁRIOS'!$F$24 -> 0 | E10: 0.2 | F10: =E10*D10 -> 0
B11: 1.1.3 | C11: Adicional noturno
B12: 1.1.4 | C12: Horas extras com 50%
B13: 1.1.5 | C13: Horas extras com 100%
B14: 1.1.6 | C14: Outros
B15: 1.1.7 | C15: Total (A) | F15: =SUM(F9:F14) -> 0
B16: 1.2 | C16: Encargos sociais (B) | D16: =F15 -> 0 | E16: ='1.1 SALÁRIOS'!$F$33 -> 0 | F16: =E16*D16 -> 0
B17: 1.3 | C17: Remuneração bruta (A + B) | F17: =SUM(F15:F16) -> 0
B18: 1.4 | C18: Benefícios
B19: 1.4.1 | C19: Vale transporte | E19: 26.08 | F19: =E19*D19 -> 0
B20: 1.4.2 | C20: Gratificação | D20: =('1.1 SALÁRIOS'!$F$36+'1.1 SALÁRIOS'!$F$37)/12 -> 0 | E20: 1 | F20: =E20*D20 -> 0
B21: 1.4.3 | C21: Auxilio Alimentação | D21: ='1.1 SALÁRIOS'!$F$38 -> 0 | E21: =E19 -> 26.08 | F21: =E21*D21 -> 0
B22: 1.4.4 | C22: Cesta Básica | D22: ='1.1 SALÁRIOS'!$F$39 -> 0 | E22: 1 | F22: =E22*D22 -> 0
B23: 1.4.5 | C23: Auxilio Saúde | D23: ='1.1 SALÁRIOS'!$F$40 -> 0 | E23: 1 | F23: =E23*D23 -> 0
B24: 1.4.6 | C24: Seguro de Vida | D24: ='1.1 SALÁRIOS'!$F$41 -> 0 | E24: 1 | F24: =E24*D24 -> 0
C25: Total (C) | F25: =SUM(F19:F24) -> 0
B26: 2.0 | C26: UNIFORMES E EPI´s
B27: 2.1 | C27: Boné de brim tipo árabe | D27: =VLOOKUP(C27,'1.1 CUSTO FERRAME-UNIFORME-EPI'!B:C,2,FALSE) -> #DIV/0! | E27: 0.17 | F27: =E27*D27 -> #DIV/0!
B28: 2.2 | C28: Calça jeans | D28: =VLOOKUP(C28,'1.1 CUSTO FERRAME-UNIFORME-EPI'!B:C,2,FALSE) -> #DIV/0! | E28: 0.33 | F28: =E28*D28 -> #DIV/0!
B29: 2.3 | C29: Camisa polo, manga curta | D29: =VLOOKUP(C29,'1.1 CUSTO FERRAME-UNIFORME-EPI'!B:C,2,FALSE) -> #DIV/0! | E29: 0.33 | F29: =E29*D29 -> #DIV/0!
B30: 2.4 | C30: Bota de couro, antiderrapante | D30: =VLOOKUP(C30,'1.1 CUSTO FERRAME-UNIFORME-EPI'!B:C,2,FALSE) -> 0 | E30: 0.17 | F30: =E30*D30 -> 0
C31: Total (D) | F31: =SUM(F27:F30) -> #DIV/0!
B33: 3.0 | C33: Valor total mensal (A + B + C + D) | F33: =SUM(F17,F25,F31) -> #DIV/0!
B36: ITENS | C36: DISCRIMINAÇÃO | D36: ENCARREGADO NOTURNO
B38: 1.0 | C38: REMUNERAÇÃO, ENCARGOS E BENEFÍCIOS | D38: VALOR | E38: QUANT. | F38: TOTAL
B39: 1.1 | C39: Remuneração
B40: 1.1.1 | C40: Salário | D40: ='1.1 SALÁRIOS'!F25 -> 0 | E40: 1 | F40: =E40*D40 -> 0
B41: 1.1.2 | C41: Adicional de insalubridade | D41: ='1.1 SALÁRIOS'!$F$24 -> 0 | E41: 0.2 | F41: =E41*D41 -> 0
B42: 1.1.3 | C42: Adicional noturno | D42: =F40+F41 -> 0 | E42: 0.2 | F42: =E42*D42 -> 0
B43: 1.1.4 | C43: Horas extras com 50%
B44: 1.1.5 | C44: Horas extras com 100%
B45: 1.1.6 | C45: Outros
B46: 1.1.7 | C46: Total (A) | F46: =SUM(F40:F45) -> 0
B47: 1.2 | C47: Encargos sociais (B) | D47: =F46 -> 0 | E47: ='1.1 SALÁRIOS'!$F$33 -> 0 | F47: =E47*D47 -> 0
B48: 1.3 | C48: Remuneração bruta (A + B) | F48: =SUM(F46:F47) -> 0
...

Sheet 1.3 EQUIP. VEICULOS
A2: TABELA DE CUSTOS UNITÁRIOS - VEÍCULOS E EQUIPAMENTOS
A6: ITENS | B6: DISCRIMINAÇÃO | C6: COMPACTADOR 15M3 - 1 TURNO | D6: COMPACTADOR RESERVA | H6: COMPACTADOR 15M3 - 2 TURNOS
C7: Valores (R$) | D7: Valores (R$) | H7: Valores (R$)
A8: A | B8: DEPRECIAÇÃO | C8: =(C9-C10)/D39/12 -> #DIV/0! | D8: =(D9-D10)/D39/12 -> #DIV/0! | H8: =(H9-H10)/C39/12 -> #DIV/0!
A9: A1 | B9: CUSTO DE AQUISIÇÃO | C9: ='1.1 REF EQUIPAMENTOS E DIV'!E11+'1.1 REF EQUIPAMENTOS E DIV'!E4 -> #DIV/0! | D9: ='1.1 REF EQUIPAMENTOS E DIV'!E11+'1.1 REF EQUIPAMENTOS E DIV'!E5 -> #DIV/0! | H9: ='1.1 REF EQUIPAMENTOS E DIV'!E11+'1.1 REF EQUIPAMENTOS E DIV'!E4 -> #DIV/0!
A10: A2 | B10: VALOR RESIDUAL | C10: =C9*D38 -> #DIV/0! | D10: =D9*D38 -> #DIV/0! | H10: =H9*C38 -> #DIV/0!
A12: B | B12: OPORTUNIDADE DE CAPITAL | C12: =C14*D40/12 -> #DIV/0! | D12: =D14*D40/12 -> #DIV/0! | H12: =H14*C40/12 -> #DIV/0!
A13: B1 | B13: CUSTO DE AQUISIÇÃO | C13: =C9 -> #DIV/0! | D13: =D9 -> #DIV/0! | H13: =H9 -> #DIV/0!
A14: B2 | B14: INVESTIMENTO MÉDIO | C14: =(C9-C10)*((1+D39)/(2*D39))/1.25 -> #DIV/0! | D14: =(D9-D10)*((1+D39)/(2*D39))/1.25 -> #DIV/0! | H14: =(H9-H10)*((1+C39)/(2*C39))/1.25 -> #DIV/0!
A16: C | B16: COMBUSTÍVEL | C16: =C21*7.33*26.08 -> 0 | D16: =D21*7.33*26.08 -> 0 | H16: =H21*7.33*26.08*2 -> 0
A17: C1 | B17: CONSUMO DE ÓLEO DIESEL/H TRABALHADA | C17: =0.11*277*0.735 -> 22.39545 | H17: =0.099*200 -> 19.8
B19: CUSTO/LITRO ÓLEO DIESEL | C19: ='1.1 REF EQUIPAMENTOS E DIV'!$E$38 -> 0 | H19: ='1.1 REF EQUIPAMENTOS E DIV'!$E$38 -> 0
A21: C2 | B21: CUSTO/HORA ÓLEO DIESEL | C21: =C19*C17 -> 0 | D21: =D19*D17 -> 0 | H21: =H19*H17 -> 0
A22: D | B22: LUBRIFICANTES | C22: =C25 -> 0 | D22: =D25 -> 0 | H22: =H25 -> 0
A23: D1 | B23: CONSUMO DE LUBRIFICANTES | C23: 0.1 | D23: 0.1 | H23: 0.1
A25: D2 | B25: CUSTO LUBRIFICANTES | C25: =C23*C16 -> 0 | D25: =D23*D16 -> 0 | H25: =H23*H16 -> 0
A27: F | B27: MANUTENÇÃO, IMPOSTOS E SEGUROS | C27: =C33 -> #DIV/0! | D27: =D33 -> #DIV/0! | H27: =H33 -> #DIV/0!
A28: F1 | B28: DEPRECIAÇÃO/HORA | C28: =C8 -> #DIV/0! | D28: =D8 -> #DIV/0! | H28: =H8 -> #DIV/0!
A30: F2 | B30: COEFICIENTE DE MANUTENÇÃO | C30: 0.9 | D30: 0 | H30: 0.9
A31: F3 | B31: SEGUROS E IMPOSTOS | C31: 0.025 | D31: 0.025 | H31: 0.025
A33: F4 | B33: CUSTO MANUTENÇÃO | C33: =(C30+C31)*C28 -> #DIV/0! | D33: =(D30+D31)*D28 -> #DIV/0! | H33: =(H30+H31)*H28 -> #DIV/0!
A34: G | B34: GPS | C34: ='1.1 REF EQUIPAMENTOS E DIV'!$E$35 -> #DIV/0! | D34: ='1.1 REF EQUIPAMENTOS E DIV'!$E$35 -> #DIV/0! | H34: ='1.1 REF EQUIPAMENTOS E DIV'!$E$35 -> #DIV/0!
B35: CUSTO MENSAL | C35: =C27++C22+C16+C12+C8+C34 -> #DIV/0! | D35: =D27++D22+D16+D12+D8+D34 -> #DIV/0! | H35: =H27++H22+H16+H12+H8+H34 -> #DIV/0!
B38: VALOR RESIDUAL | C38: 0.4 | D38: 0.4 | E38: 0.4
B39: VIDA UTIL | C39: 5 | D39: 5 | E39: 5
B40: TAXA DE JUROS AO ANO | C40: 0.1325 | D40: 0.1325 | E40: 0.1325
A43: ITENS | B43: DISCRIMINAÇÃO | C43: PICAPE | D43: PICAPE - RESERVA | E43: UTILITARIO
C44: Valores (R$) | D44: Valores (R$) | E44: Valores (R$)
A45: A | B45: DEPRECIAÇÃO | C45: =(C46-C47)/C76/12 -> 0 | D45: =(D46-D47)/D76/12 -> 0 | E45: =(E46-E47)/E76/12 -> 0
A46: A1 | B46: CUSTO DE AQUISIÇÃO | C46: ='1.1 REF EQUIPAMENTOS E DIV'!E17 -> 0 | D46: ='1.1 REF EQUIPAMENTOS E DIV'!E17 -> 0 | E46: ='1.1 REF EQUIPAMENTOS E DIV'!E19 -> 0
A47: A2 | B47: VALOR RESIDUAL | C47: =C46*C75 -> 0 | D47: =D46*D75 -> 0 | E47: =E46*E75 -> 0
A49: B | B49: OPORTUNIDADE DE CAPITAL | C49: =C51*C77/12 -> 0 | D49: =D51*D77/12 -> 0 | E49: =E51*E77/12 -> 0
A50: B1 | B50: CUSTO DE AQUISIÇÃO | C50: =C46 -> 0 | D50: =D46 -> 0 | E50: =E46 -> 0
A51: B2 | B51: INVESTIMENTO MÉDIO | C51: =(C46-C47)*((1+C76)/(2*C76))/1.25 -> 0 | D51: =(D46-D47)*((1+D76)/(2*D76))/1.25 -> 0 | E51: =(E46-E47)*((1+E76)/(2*E76))/1.25 -> 0
A53: C | B53: COMBUSTÍVEL | C53: =C58*5*26.08 -> 0 | D53: =D58*7.33*26.08 -> 0 | E53: =E58*2*26.08*2 -> 0
A54: C1 | B54: CONSUMO DE ÓLEO DIESEL/H TRABALHADA | C54: =160*0.735*0.07 -> 8.232 | E54: =80*0.735*0.07 -> 4.116
B56: CUSTO/LITRO ÓLEO DIESEL | C56: ='1.1 REF EQUIPAMENTOS E DIV'!$E$38 -> 0 | E56: ='1.1 REF EQUIPAMENTOS E DIV'!$E$39 -> 0
A58: C2 | B58: CUSTO/HORA ÓLEO DIESEL | C58: =C56*C54 -> 0 | D58: =D56*D54 -> 0 | E58: =E56*E54 -> 0
A59: D | B59: LUBRIFICANTES | C59: =C62 -> 0 | D59: =D62 -> 0 | E59: =E62 -> 0
A60: D1 | B60: CONSUMO DE LUBRIFICANTES | C60: 0.1 | D60: 0.1 | E60: 0.1
...

Sheet 1.4 DIM COLETA RSU
A1: PROJETO BÁSICO
A2: DIMENSIONAMENTO DA COLETA DE RESÍDUOS SÓLIDOS URBANOS
A3: ITEM | B3: FREQUENCIA | C3: EXTENSÃO DAS VIAS (KM) | D3: EXTENSÃO PERCORRIDA POR MÊS DIURNO (KM) | E3: EXTENSÃO PERCORRIDA POR MÊS NOTURNO (KM)
A4: 1 | B4: DIARIO (VESPERTINO) | C4: 54.916 | D4: ="-" -> - | E4: =(26.08/1)*C4 -> 1432.2093
A5: 2 | B5: ALTERNADO 3X (MATUTINO) | C5: 71.108 | D5: =(26.08/2)*C5 -> 927.24832 | E5: ="-" -> -
A6: 3 | B6: ALTERNADO 3X (MATUTINO) | C6: =C8-C4-C5 -> 182.121 | D6: =(26.08/2)*C6 -> 2374.8578 | E6: ="-" -> -
A8: EXTENSÃO VIAS (KM) | C8: 308.145 | D8: =SUM(D4:D7) -> 3302.1062 | E8: =SUM(E4:E7) -> 1432.2093
A9: EXTENSÃO VIAS (KM) | D9: =D8+E8 -> 4734.3154
D10: =D8/D9 -> 0.69748334 | E10: =E8/D9 -> 0.30251666
G12: 45292 | H12: 1449.09
A13: RESUMO | G13: 45323 | H13: 1270.73
A14: DIAS TRABALHADOS TRABALHADOS AO MÊS | D14: 26.08 | G14: 45352 | H14: 1259.22
A15: EXTENSÃO DO PERCURSO- DIURNO (KM/DIA ) | D15: =D8/D14 -> 126.6145 | G15: 45383 | H15: 1292.3
A16: EXTENSÃO DO PERCURSO- NOTURNO (KM/DIA ) | D16: =E8/D14 -> 54.916 | G16: 45413 | H16: 1279.9
A17: MASSA DE RESÍDUOS SÓLIDOS | G17: 45444 | H17: 1217.12
A18: POPULAÇÃO ( CENSO IBGE 2022) | D18: 84087 | G18: 45474 | H18: 1238.94
A19: POPULAÇÃO ATENDIDA | D19: =D18 -> 84087 | G19: 45505 | H19: 1210.1
A20: ÍNDICE DE GERAÇÃO DE RESÍDUOS KG/HAB.DIA | D20: 0.52 | G20: 45536 | H20: 1160.57
A21: TOTAL RESÍDUOS GERADOS DIA (KG) | D21: =D20*D19 -> 43725.24 | G21: 45566 | H21: 1301.3
A22: TOTAL RESÍDUOS GERADOS MÊS (KG) | D22: =D21*30 -> 1311757.2 | G22: 45597 | H22: 1305.26
A23: TOTAL RESÍDUOS GERADOS MÊS (TON) | D23: =D22/1000 -> 1311.7572 | G23: 45627 | H23: 1518.29
A24: DIAS ÚTEIS MÊS | D24: =D14 -> 26.08
A25: TOTAL RESÍDUOS COLETADOS (TON/DIA) | D25: =ROUND(D23/D24,3) -> 50.297
A26: TOTAL RESÍDUOS COLETA - DIURNO (TON/DIA) ADOTADO 50% DA QUANTIDADE GERADA POR DIA | D26: =D25*0.5 -> 25.1485
A27: TOTAL RESÍDUOS COLETA NOTURNO (TON/DIA) ADOTADO 50% DA QUANTIDADE GERADA POR DIA | D27: =D25*0.5 -> 25.1485
A28: DIURNO
A29: CAPACIDADE DE CARGA DO CAMINHÃO ( C )
A30: PESO APARENTE DO LIXO (KG/ M³) | C30: 250
A31: ÍNDICE DE COMPACTAÇÃO | C31: 3
A32: CAPACIDADE NOMINAL ( M³ ) | C32: 15
A33: CAPACIDADE REAL (M³) | C33: =0.7*C32 -> 10.5
A34: C (TON) | C34: =(C30*C31*C33)/1000 -> 7.875
A35: TEMPO DE VIAGEM PARA DESCARGA ( TV )
A36: DISTÂNCIA MÉDIA DO CENTRO GERADOR ATÉ O LOCAL DE DESCARGA ( KM ) | C36: 25
A37: VELOCIDADE DE TRANSPORTE ATÉ O LOCAL DE DESCARGA ( KM/H ) | C37: 50
A38: TEMPO NECESSÁRIO PARA PESAGEM E DESCARGA ( H ) | C38: 0.333
A39: TV ( H ) | C39: =((2*C36)/C37)+C38 -> 1.333
A40: QUANTIDADE DE VIAJENS ( NV )
A41: MASSA DE RESÍDUOS SÓLIDOS (TON/ DIA) | C41: =D26 -> 25.1485
A42: VELOCIDADE MÉDIA DE COLETA (KM/H ) | C42: 6.5
...

Sheet 2.1 COLETA SELETIVA
A2: COMPOSIÇÃO DE PREÇOS UNITÁRIOS DE SERVIÇO
A4: ='ORÇAMENTO GERAL'!B8 -> Coleta Seletiva de Resíduos Reciclaveis
E5: Unidade: | F5: Equipe
A6: ITENS | B6: DISCRIMINAÇÃO | C6: UNIDADE / MÊS | D6: QUANT. | E6: VALOR UNITÁRIO | F6: VALOR TOTAL
A7: 1 | B7: EQUIPAMENTOS
A8: 1.1 | B8: Caminhão Baú Coleta Seletiva | C8: und | D8: 3 | E8: ='2.3 EQUIP. VEICULOS'!C35 -> #DIV/0! | F8: =E8*D8 -> #DIV/0!
A9: 1.2 | B9: Caminhão Baú Coleta Seletiva - Frota Reserva | C9: und | D9: 1 | E9: ='2.3 EQUIP. VEICULOS'!D35 -> #DIV/0! | F9: =E9*D9 -> #DIV/0! | N9: são 3 equipes
E10: Total 1 | F10: =SUM(F8:F9) -> #DIV/0! | N10: caminhão baú
A11: 2 | B11: MÃO DE OBRA:
A12: 2.1 | B12: Coletor Diurno | C12: mês | D12: ='2.4 DIM SELETIVA'!C63 -> 10 | E12: ='2.2 MAO DE OBRA'!F73 -> #DIV/0! | F12: =E12*D12 -> #DIV/0!
A13: 2.3 | B13: Motorista Diurno | C13: mês | D13: ='2.4 DIM SELETIVA'!C65 -> 4 | E13: ='2.2 MAO DE OBRA'!F36 -> #DIV/0! | F13: =E13*D13 -> #DIV/0!
E14: Total 2 | F14: =SUM(F12:F13) -> #DIV/0!
A15: 3 | B15: FERRAMENTAS
A16: 3.1 | B16: Pá quadrada, com cabo | C16: und | D16: =D8 -> 3 | E16: =VLOOKUP(B16,'1.1 CUSTO FERRAME-UNIFORME-EPI'!B:C,2,FALSE) -> #DIV/0! | F16: =E16*D16 -> #DIV/0!
A17: 3.2 | B17: Vassoura de piaçava 28 furos, com cabo | C17: und | D17: =2*(D8) -> 6 | E17: =VLOOKUP(B17,'1.1 CUSTO FERRAME-UNIFORME-EPI'!B:C,2,FALSE) -> 0 | F17: =E17*D17 -> 0
A18: 3.3 | B18: Cone de sinalização | C18: und | D18: =D8 -> 3 | E18: =VLOOKUP(B18,'1.1 CUSTO FERRAME-UNIFORME-EPI'!B:C,2,FALSE) -> 0 | F18: =E18*D18 -> 0
E19: Total 3 | F19: =SUM(F16:F18) -> #DIV/0! | H19: =F19/F14 -> #DIV/0!
B20: RESUMO DO ITEM
B21: Custo operacional total | C21: R$ / mês | F21: =SUM(F19,F14,F10) -> #DIV/0!
B22: Quantidade estimada | C22: Equipes/Mês | F22: 3
B23: Custo unitário sem BDI | C23: R$ / Equipe | F23: =ROUND(F21/F22,2) -> #DIV/0!
B24: BDI | C24: % | D24: ='BDI '!$C$22 -> 0.0526 | F24: =ROUND(F23*D24,2) -> #DIV/0!
B25: PREÇO FINAL (com BDI) | C25: R$ / Equipe | F25: =SUM(F23:F24) -> #DIV/0!

Sheet 2.2 MAO DE OBRA
B1: COMPOSIÇÃO DE CUSTOS UNITÁRIOS - PESSOAL
B4: ITENS | C4: DISCRIMINAÇÃO | D4: MOTORISTA DIURNO - COLETA SELETIVA
B6: 1.0 | C6: REMUNERAÇÃO, ENCARGOS E BENEFÍCIOS | D6: VALOR | E6: QUANT. | F6: TOTAL
B7: 1.1 | C7: Remuneração
B8: 1.1.1 | C8: Salário | D8: ='1.1 SALÁRIOS'!$F$26 -> 0 | E8: 1 | F8: =E8*D8 -> 0
B9: 1.1.2 | C9: Adicional de insalubridade | D9: ='1.1 SALÁRIOS'!$F$23 -> 0 | E9: 0.2 | F9: =E9*D9 -> 0
B10: 1.1.3 | C10: Adicional noturno: 20% sobre salário
B11: 1.1.4 | C11: Horas extras com 50%
B12: 1.1.5 | C12: Horas extras com 100%
B13: 1.1.6 | C13: Outros
B14: 1.1.7 | C14: Total (A) | F14: =SUM(F8:F13) -> 0
B15: 1.2 | C15: Encargos sociais (B) | D15: =F14 -> 0 | E15: ='1.1 SALÁRIOS'!$F$33 -> 0 | F15: =E15*D15 -> 0
B16: 1.3 | C16: Remuneração bruta (A + B) | F16: =SUM(F14:F15) -> 0
B17: 1.4 | C17: Benefícios
B18: 1.4.1 | C18: Vale transporte | D18: ='1.1 SALÁRIOS'!$F$35 -> 0 | E18: 25.25 | F18: =IF(2*E18*D18-0.06*D8<0,0,2*E18*D18-0.06*D8) -> 0
B19: 1.4.2 | C19: Gratificação | D19: =('1.1 SALÁRIOS'!$F$36+'1.1 SALÁRIOS'!$F$37)/12 -> 0 | E19: 1 | F19: =E19*D19 -> 0
B20: 1.4.3 | C20: Auxilio Alimentação | D20: ='1.1 SALÁRIOS'!$F$38 -> 0 | E20: =E18 -> 25.25 | F20: =E20*D20 -> 0
B21: 1.4.4 | C21: Cesta Básica | D21: ='1.1 SALÁRIOS'!$F$39 -> 0 | E21: 1 | F21: =E21*D21 -> 0
B22: 1.4.5 | C22: Auxilio Saúde | D22: ='1.1 SALÁRIOS'!$F$40 -> 0 | E22: 1 | F22: =E22*D22 -> 0
B23: 1.4.6 | C23: Seguro de Vida | D23: ='1.1 SALÁRIOS'!$F$41 -> 0 | E23: 1 | F23: =E23*D23 -> 0
B24: 1.4.7 | C24: Total (C) | F24: =SUM(F18:F23) -> 0
B25: 2.0 | C25: UNIFORMES E EPI´s
B26: 2.1 | C26: ='1.1 CUSTO FERRAME-UNIFORME-EPI'!$B$18 -> Boné de brim tipo árabe | D26: =VLOOKUP(C26,'1.1 CUSTO FERRAME-UNIFORME-EPI'!B:C,2,FALSE) -> #DIV/0! | E26: 0.17 | F26: =E26*D26 -> #DIV/0!
B27: 2.2 | C27: ='1.1 CUSTO FERRAME-UNIFORME-EPI'!$B$31 -> Calça jeans | D27: =VLOOKUP(C27,'1.1 CUSTO FERRAME-UNIFORME-EPI'!B:C,2,FALSE) -> #DIV/0! | E27: 0.33 | F27: =E27*D27 -> #DIV/0!
B28: 2.3 | C28: Camisa polo, manga curta | D28: =VLOOKUP(C28,'1.1 CUSTO FERRAME-UNIFORME-EPI'!B:C,2,FALSE) -> #DIV/0! | E28: 0.33 | F28: =E28*D28 -> #DIV/0!
B29: 2.4 | C29: ='1.1 CUSTO FERRAME-UNIFORME-EPI'!$B$33 -> Bota de couro, antiderrapante | D29: =VLOOKUP(C29,'1.1 CUSTO FERRAME-UNIFORME-EPI'!B:C,2,FALSE) -> 0 | E29: 0.17 | F29: =E29*D29 -> 0
B30: 2.5 | C30: Capa de chuva, com capuz | D30: =VLOOKUP(C30,'1.1 CUSTO FERRAME-UNIFORME-EPI'!B:C,2,FALSE) -> 0 | E30: 0.17 | F30: =E30*D30 -> 0
B31: 2.6 | C31: ='1.1 CUSTO FERRAME-UNIFORME-EPI'!$B$22 -> Protetor solar fator 30 (120ml/Mês) | D31: =VLOOKUP(C31,'1.1 CUSTO FERRAME-UNIFORME-EPI'!B:C,2,FALSE) -> 0 | E31: 0.3 | F31: =E31*D31 -> 0
B32: 2.7 | C32: Colete refletor (trabalho noturno) | D32: =VLOOKUP(C32,'1.1 CUSTO FERRAME-UNIFORME-EPI'!B:C,2,FALSE) -> #DIV/0! | E32: 0 | F32: =E32*D32 -> #DIV/0!
B33: 2.8 | C33: ='1.1 CUSTO FERRAME-UNIFORME-EPI'!$B$34 -> Garra Térmica 2L | D33: =VLOOKUP(C33,'1.1 CUSTO FERRAME-UNIFORME-EPI'!B:C,2,FALSE) -> #DIV/0! | E33: 0.08 | F33: =E33*D33 -> #DIV/0!
C34: Total (D) | F34: =SUM(F26:F33) -> #DIV/0!
B36: 3.0 | C36: Valor total mensal (A + B + C + D) | F36: =SUM(F34,F24,F16) -> #DIV/0!
B39: ITENS | C39: DISCRIMINAÇÃO | D39: COLETOR DIURNO
B41: 1.0 | C41: REMUNERAÇÃO, ENCARGOS E BENEFÍCIOS | D41: VALOR | E41: QUANT. | F41: TOTAL
B42: 1.1 | C42: Remuneração
B43: 1.1.1 | C43: Salário | D43: ='1.1 SALÁRIOS'!$F$6 -> 0 | E43: 1 | F43: =E43*D43 -> 0
B44: 1.1.2 | C44: Adicional de insalubridade | D44: ='1.1 SALÁRIOS'!$F$23 -> 0 | E44: 0.2 | F44: =E44*D44 -> 0
B45: 1.1.3 | C45: Adicional noturno: 20% sobre salário
B46: 1.1.4 | C46: Horas extras com 50%
B47: 1.1.5 | C47: Horas extras com 100%
...

Sheet 2.3 EQUIP. VEICULOS
A2: TABELA DE CUSTOS UNITÁRIOS - VEÍCULOS E EQUIPAMENTOS
A6: ITENS | B6: DISCRIMINAÇÃO | C6: CAMINHÃO - SELETIVA | D6: CAMINHÃO - SELETIVA RESERVA
C7: Valores (R$) | D7: Valores (R$)
A8: A | B8: DEPRECIAÇÃO | C8: =(C9-C10)/C39/12 -> #DIV/0! | D8: =(D9-D10)/D39/12 -> #DIV/0!
A9: A1 | B9: CUSTO DE AQUISIÇÃO | C9: ='1.1 REF EQUIPAMENTOS E DIV'!E12+'1.1 REF EQUIPAMENTOS E DIV'!E4 -> #DIV/0! | D9: ='1.1 REF EQUIPAMENTOS E DIV'!E12+'1.1 REF EQUIPAMENTOS E DIV'!E4 -> #DIV/0!
A10: A2 | B10: VALOR RESIDUAL | C10: =C9*C38 -> #DIV/0! | D10: =D9*D38 -> #DIV/0!
A12: B | B12: OPORTUNIDADE DE CAPITAL | C12: =C14*C40/12 -> #DIV/0! | D12: =D14*D40/12 -> #DIV/0!
A13: B1 | B13: CUSTO DE AQUISIÇÃO | C13: =C9 -> #DIV/0! | D13: =D9 -> #DIV/0!
A14: B2 | B14: INVESTIMENTO MÉDIO | C14: =(C9-C10)*((1+C39)/(2*C39))/1.25 -> #DIV/0! | D14: =(D9-D10)*((1+D39)/(2*D39))/1.25 -> #DIV/0!
A16: C | B16: COMBUSTÍVEL | C16: =C21*7.33*25.25 -> 0 | D16: =D21*7.33*26.08 -> 0
A17: C1 | B17: CONSUMO DE ÓLEO DIESEL/H TRABALHADA | C17: =0.09*277*0.735 -> 18.32355 | F17: 203
F18: 277
B19: CUSTO/LITRO ÓLEO DIESEL | C19: ='1.1 REF EQUIPAMENTOS E DIV'!$E$38 -> 0 | F19: 326
F20: =F19/F18 -> 1.1768953
A21: C2 | B21: CUSTO/HORA ÓLEO DIESEL | C21: =C19*C17 -> 0 | D21: =D19*D17 -> 0 | F21: =F17/F20 -> 172.48773
A22: D | B22: LUBRIFICANTES | C22: =C25 -> 0 | D22: =D25 -> 0
A23: D1 | B23: CONSUMO DE LUBRIFICANTES | C23: 0.1 | D23: 0.1
A25: D2 | B25: CUSTO LUBRIFICANTES | C25: =C23*C16 -> 0 | D25: =D23*D16 -> 0
A27: F | B27: MANUTENÇÃO, IMPOSTOS E SEGUROS | C27: =C33 -> #DIV/0! | D27: =D33 -> #DIV/0!
A28: F1 | B28: DEPRECIAÇÃO/HORA | C28: =C8 -> #DIV/0! | D28: =D8 -> #DIV/0!
A30: F2 | B30: COEFICIENTE DE MANUTENÇÃO | C30: 0.6 | D30: 0
A31: F3 | B31: SEGUROS E IMPOSTOS | C31: 0.025 | D31: 0.025
A33: F4 | B33: CUSTO MANUTENÇÃO | C33: =(C30+C31)*C28 -> #DIV/0! | D33: =(D30+D31)*D28 -> #DIV/0!
A34: G | B34: GPS | C34: ='1.1 REF EQUIPAMENTOS E DIV'!$E$35 -> #DIV/0! | D34: ='1.1 REF EQUIPAMENTOS E DIV'!$E$35 -> #DIV/0!
B35: CUSTO MENSAL | C35: =C27++C22+C16+C12+C8+C34 -> #DIV/0! | D35: =D27++D22+D16+D12+D8+D34 -> #DIV/0!
B38: VALOR RESIDUAL | C38: 0.4 | D38: 0.4
B39: VIDA UTIL | C39: 7 | D39: 7
B40: TAXA DE JUROS AO ANO | C40: 0.1325 | D40: 0.1325

Sheet 2.4 DIM SELETIVA
A1: PROJETO BÁSICO
A2: DIMENSIONAMENTO DA COLETA SELETIVA
A3: ITEM | B3: FREQUENCIA | C3: EXTENSÃO DAS VIAS (KM) | D3: EXTENSÃO PERCORRIDA POR MÊS DIURNO (KM) | E3: EXTENSÃO PERCORRIDA POR MÊS NOTURNO (KM)
A4: 1 | B4: ALTERNADO 2X (DIURNO) | C4: 308.145 | D4: =(26.08/3)*C4 -> 2678.8072 | E4: =IFERROR(C4*#REF!*#REF!*(1+#REF!),"-") -> -
A6: EXTENSÃO VIAS (KM) | C6: 308.145 | D6: =SUM(D4:D5) -> 2678.8072 | E6: =SUM(E4:E5) -> 0
A7: EXTENSÃO VIAS (KM) | D7: =D6+E6 -> 2678.8072
D8: =D6/D7 -> 1 | E8: =E6/D7 -> 0
A11: RESUMO
A12: DIAS TRABALHADOS TRABALHADOS AO MÊS | D12: 26.08
A13: EXTENSÃO DO PERCURSO- DIURNO (KM/DIA ) | D13: =D6/D12 -> 102.715
A14: EXTENSÃO DO PERCURSO- NOTURNO (KM/DIA ) | D14: =E6/D12 -> 0
A15: MASSA DE RESÍDUOS SÓLIDOS
A16: POPULAÇÃO ( CENSO IBGE 2022) | D16: 84087
A17: POPULAÇÃO ATENDIDA | D17: =D16 -> 84087
A18: ÍNDICE DE GERAÇÃO DE RESÍDUOS KG/HAB.DIA | D18: 0.512
A19: TOTAL RESÍDUOS GERADOS DIA (KG) | D19: =D18*D17 -> 43052.544
A20: TOTAL RESÍDUOS GERADOS MÊS (KG) | D20: =D19*30 -> 1291576.3
A21: TOTAL RESÍDUOS SELETIVOS (%) | D21: 0.05
A22: TOTAL RESÍDUOS SELETIVOS GERADOS MÊS (TON) | D22: =D20/1000*D21 -> 64.578816
A23: DIAS ÚTEIS MÊS | D23: =D12 -> 26.08
A24: TOTAL RESÍDUOS COLETADOS (TON/DIA) | D24: =ROUND(D22/D23,3) -> 2.476
A25: TOTAL RESÍDUOS COLETA - DIURNO (TON/DIA) ADOTADO 100% DA QUANTIDADE GERADA POR DIA | D25: =D24*1 -> 2.476
A26: DIURNO
A27: CAPACIDADE DE CARGA DO CAMINHÃO ( C )
A28: PESO APARENTE DO LIXO (KG/ M³) | C28: 125
A29: ÍNDICE DE COMPACTAÇÃO | C29: 1
A30: CAPACIDADE NOMINAL ( M³ ) | C30: 30
A31: CAPACIDADE REAL (M³) | C31: =0.75*C30 -> 22.5
A32: C (TON) | C32: =(C28*C29*C31)/1000 -> 2.8125
A33: TEMPO DE VIAGEM PARA DESCARGA ( TV )
A34: DISTÂNCIA MÉDIA DO CENTRO GERADOR ATÉ O LOCAL DE DESCARGA ( KM ) | C34: 20
A35: VELOCIDADE DE TRANSPORTE ATÉ O LOCAL DE DESCARGA ( KM/H ) | C35: 50
A36: TEMPO NECESSÁRIO PARA PESAGEM E DESCARGA ( H ) | C36: 0.333
A37: TV ( H ) | C37: =((2*C34)/C35)+C36 -> 1.133
A38: QUANTIDADE DE VIAJENS ( NV )
A39: MASSA DE RESÍDUOS SÓLIDOS (TON/ DIA) | C39: =D25 -> 2.476
A40: VELOCIDADE MÉDIA DE COLETA (KM/H ) | C40: 6
A41: JORNADA DE TRABALHO ( H ) | C41: 7.33
A42: EXT. VIAS ATENDIDAS NO TURNO (KM/DIA) | C42: =D13 -> 102.715
A43: CAPACIDADE DE CARGA DO CAMINHÃO ( T ) | C43: =C32 -> 2.8125
...

Sheet 3.1 COLETA INERTES
A3: COMPOSIÇÃO DE PREÇOS UNITÁRIOS DE SERVIÇO
A4: ='ORÇAMENTO GERAL'!B9 -> Coleta, Transporte, Descarga E Disposição Final de Resíduos Inertes, Entulhos e RCC
E5: Unidade: | F5: Tonelada
A6: ITENS | B6: DISCRIMINAÇÃO | C6: UNIDADE / MÊS | D6: QUANT. | E6: VALOR UNITÁRIO | F6: VALOR TOTAL
A7: 1 | B7: EQUIPAMENTOS
A8: 1.1 | B8: Caminhão caçamba basculante de 10 m³ | C8: und | D8: ='3.4 DIM ENTULHO'!C44 -> 6 | E8: ='3.3 EQUIP. VEICULOS'!C39 -> #DIV/0! | F8: =E8*D8 -> #DIV/0!
A9: 1.2 | B9: Caminhão Carroceria | C9: und | D9: ='3.4 DIM ENTULHO'!C45 -> 2 | E9: ='3.3 EQUIP. VEICULOS'!G39 -> #DIV/0! | F9: =E9*D9 -> #DIV/0!
A10: 1.3 | B10: Pá carregadeira | C10: und | D10: ='3.4 DIM ENTULHO'!C46 -> 1 | E10: ='3.3 EQUIP. VEICULOS'!D39 -> #DIV/0! | F10: =E10*D10 -> #DIV/0!
A11: 1.4 | B11: Retroescavadeira | C11: und | D11: ='3.4 DIM ENTULHO'!C47 -> 1 | E11: ='3.3 EQUIP. VEICULOS'!F39 -> #DIV/0! | F11: =E11*D11 -> #DIV/0!
A12: 1.5 | B12: Minicarregadeira | C12: und | D12: ='3.4 DIM ENTULHO'!C48 -> 1 | E12: ='3.3 EQUIP. VEICULOS'!E39 -> #DIV/0! | F12: =E12*D12 -> #DIV/0!
B13: Custo total | C13: R$/mês | E13: Total 1 | F13: =SUM(F8:F12) -> #DIV/0!
A14: 2 | B14: MÃO DE OBRA:
A15: 2.1 | B15: Fiscal diurno | C15: mês | D15: ='3.4 DIM ENTULHO'!C57 -> 2 | E15: ='3.2 MAO DE OBRA'!F37 -> #DIV/0! | F15: =E15*D15 -> #DIV/0!
A16: 2.2 | B16: Operador de Pá Carregadeira diurno | C16: mês | D16: ='3.4 DIM ENTULHO'!C58 -> 1 | E16: ='3.2 MAO DE OBRA'!F142 -> #DIV/0! | F16: =E16*D16 -> #DIV/0!
A17: 2.3 | B17: Motorista de Caminhao diurno | C17: mês | D17: ='3.4 DIM ENTULHO'!C59 -> 8 | E17: ='3.2 MAO DE OBRA'!F72 -> #DIV/0! | F17: =E17*D17 -> #DIV/0!
A18: 2.4 | B18: Operador de Retroescavadeira | C18: mês | D18: ='3.4 DIM ENTULHO'!C60 -> 1 | E18: ='3.2 MAO DE OBRA'!F175 -> #DIV/0! | F18: =E18*D18 -> #DIV/0!
A19: 2.5 | B19: Operador de Minicarregadeira | C19: mês | D19: ='3.4 DIM ENTULHO'!C61 -> 1 | E19: ='3.2 MAO DE OBRA'!F207 -> #DIV/0! | F19: =E19*D19 -> #DIV/0!
A20: 2.6 | B20: Ajudante de Operação diurno | C20: mês | D20: 16 | E20: ='3.2 MAO DE OBRA'!F109 -> #DIV/0! | F20: =E20*D20 -> #DIV/0!
B21: Custo total | C21: R$/mês | E21: Total 2 | F21: =SUM(F15:F20) -> #DIV/0!
A22: 3 | B22: FERRAMENTAS
B23: Kit de Ferramentas
A24: 3.1 | B24: Pá quadrada, com cabo | C24: und | D24: 4 | E24: =VLOOKUP(B24,'1.1 CUSTO FERRAME-UNIFORME-EPI'!B:C,2,FALSE) -> #DIV/0! | F24: =E24*D24 -> #DIV/0!
A25: 3.2 | B25: Ancinho, com cabo/ Gadanho | C25: und | D25: 12 | E25: =VLOOKUP(B25,'1.1 CUSTO FERRAME-UNIFORME-EPI'!B:C,2,FALSE) -> #DIV/0! | F25: =E25*D25 -> #DIV/0!
A26: 3.3 | B26: Vassoura de piaçava 28 furos, com cabo | C26: und | D26: 6 | E26: =VLOOKUP(B26,'1.1 CUSTO FERRAME-UNIFORME-EPI'!B:C,2,FALSE) -> 0 | F26: =E26*D26 -> 0
A27: 3.4 | B27: Cone de sinalização | C27: und | D27: 3 | E27: =VLOOKUP(B27,'1.1 CUSTO FERRAME-UNIFORME-EPI'!B:C,2,FALSE) -> 0 | F27: =E27*D27 -> 0
B28: Custo total | C28: R$/mês | E28: Total 3 | F28: =SUM(F24:F27) -> #DIV/0!
B29: RESUMO DO ITEM
B30: Custo operacional total | C30: R$ / mês | F30: =SUM(F21,F28,F13) -> #DIV/0!
B31: Quantidade estimada | C31: Ton / Mês | F31: ='3.4 DIM ENTULHO'!D21 -> 3455.6301
B32: Custo unitário sem BDI | C32: R$ / Ton | F32: =F30/F31 -> #DIV/0!
B33: BDI | C33: % | D33: ='BDI '!$C$22 -> 0.0526 | F33: =F32*D33 -> #DIV/0!
B34: PREÇO FINAL (com BDI) | C34: R$ / Ton | F34: =ROUND(F33+F32,2) -> #DIV/0!
A36: 4 | B36: DISPOSIÇÃO FINAL
A37: 4.1 | B37: DISPOSIÇÃO FINAL DOS RESÍDUOS | C37: R$ / ton | D37: ='3.4 DIM ENTULHO'!D21 -> 3455.6301 | E37: ='1.1 REF EQUIPAMENTOS E DIV'!E37 -> #DIV/0! | F37: =E37*D37 -> #DIV/0!
E38: Total 3 | F38: =SUM(F37:F37) -> #DIV/0!
B39: RESUMO DO ITEM
B40: Custo operacional total | C40: R$ / mês | F40: =F38 -> #DIV/0!
B41: Quantidade estimada | C41: ton/mês | F41: ='3.4 DIM ENTULHO'!D21 -> 3455.6301
B42: Custo unitário sem BDI | C42: R$ / ton | F42: =ROUND(F40/F41,2) -> #DIV/0!
B43: BDI | C43: % | D43: ='BDI '!$C$22 -> 0.0526 | F43: =ROUND(F42*D43,2) -> #DIV/0!
...

Sheet 3.2 MAO DE OBRA
B2: COMPOSIÇÃO DE CUSTOS UNITÁRIOS - PESSOAL
B5: ITENS | C5: DISCRIMINAÇÃO | D5: FISCAL DIURNO
B7: 1.0 | C7: REMUNERAÇÃO, ENCARGOS E BENEFÍCIOS | D7: VALOR | E7: QUANT. | F7: TOTAL
B8: 1.1 | C8: Remuneração
B9: 1.1.1 | C9: Salário | D9: ='1.1 SALÁRIOS'!F10 -> 0 | E9: 1 | F9: =E9*D9 -> 0
B10: 1.1.2 | C10: Adicional de insalubridade | D10: 0 | E10: 1 | F10: =E10*D10 -> 0
B11: 1.1.3 | C11: Adicional noturno
B12: 1.1.4 | C12: Horas extras com 50%
B13: 1.1.5 | C13: Horas extras com 100%
B14: 1.1.6 | C14: Outros
C15: Total (A) | F15: =SUM(F9:F14) -> 0
B16: 1.2 | C16: Encargos sociais (B) | D16: =F15 -> 0 | E16: ='1.1 SALÁRIOS'!$F$33 -> 0 | F16: =E16*D16 -> 0
B17: 1.3 | C17: Remuneração bruta (A + B) | F17: =SUM(F15:F16) -> 0
B18: 1.4 | C18: Benefícios
B19: 1.4.1 | C19: Vale transporte | D19: ='1.1 SALÁRIOS'!$F$35 -> 0 | E19: 25.25 | F19: =IF(2*E19*D19-0.06*D9<0,0,2*E19*D19-0.06*D9) -> 0
B20: 1.4.2 | C20: Gratificação | D20: =('1.1 SALÁRIOS'!$F$36+'1.1 SALÁRIOS'!$F$37)/12 -> 0 | E20: 1 | F20: =E20*D20 -> 0
B21: 1.4.3 | C21: Auxilio Alimentação | D21: ='1.1 SALÁRIOS'!$F$38 -> 0 | E21: =E19 -> 25.25 | F21: =E21*D21 -> 0
B22: 1.4.4 | C22: Cesta Básica | D22: ='1.1 SALÁRIOS'!$F$39 -> 0 | E22: 1 | F22: =E22*D22 -> 0
B23: 1.4.5 | C23: Auxilio Saúde | D23: ='1.1 SALÁRIOS'!$F$40 -> 0 | E23: 1 | F23: =E23*D23 -> 0
B24: 1.4.6 | C24: Seguro de Vida | D24: ='1.1 SALÁRIOS'!$F$41 -> 0 | E24: 1 | F24: =E24*D24 -> 0
C25: Total (C) | F25: =SUM(F19:F24) -> 0
B26: 2.0 | C26: UNIFORMES E EPI´s
B27: 2.1 | C27: Boné de brim tipo árabe | D27: =VLOOKUP(C27,'1.1 CUSTO FERRAME-UNIFORME-EPI'!B:C,2,FALSE) -> #DIV/0! | E27: 0.17 | F27: =E27*D27 -> #DIV/0!
B28: 2.2 | C28: Calça jeans | D28: =VLOOKUP(C28,'1.1 CUSTO FERRAME-UNIFORME-EPI'!B:C,2,FALSE) -> #DIV/0! | E28: 0.33 | F28: =E28*D28 -> #DIV/0!
B29: 2.3 | C29: Camisa polo, manga curta | D29: =VLOOKUP(C29,'1.1 CUSTO FERRAME-UNIFORME-EPI'!B:C,2,FALSE) -> #DIV/0! | E29: 0.33 | F29: =E29*D29 -> #DIV/0!
B30: 2.4 | C30: Bota de couro, antiderrapante | D30: =VLOOKUP(C30,'1.1 CUSTO FERRAME-UNIFORME-EPI'!B:C,2,FALSE) -> 0 | E30: 0.17 | F30: =E30*D30 -> 0
B31: 2.5 | C31: Capa de chuva, com capuz | D31: =VLOOKUP(C31,'1.1 CUSTO FERRAME-UNIFORME-EPI'!B:C,2,FALSE) -> 0 | E31: 0.17 | F31: =E31*D31 -> 0
B32: 2.6 | C32: Protetor solar fator 30 (120ml/Mês) | D32: =VLOOKUP(C32,'1.1 CUSTO FERRAME-UNIFORME-EPI'!B:C,2,FALSE) -> 0 | E32: 0.3 | F32: =E32*D32 -> 0
B33: 2.7 | C33: Colete refletor (trabalho noturno) | D33: =VLOOKUP(C33,'1.1 CUSTO FERRAME-UNIFORME-EPI'!B:C,2,FALSE) -> #DIV/0! | E33: 0 | F33: =E33*D33 -> #DIV/0!
B34: 2.8 | C34: Garra Térmica 2L | D34: =VLOOKUP(C34,'1.1 CUSTO FERRAME-UNIFORME-EPI'!B:C,2,FALSE) -> #DIV/0! | E34: 0.08 | F34: =E34*D34 -> #DIV/0!
C35: Total (D) | F35: =SUM(F27:F34) -> #DIV/0!
B37: 3.0 | C37: Valor total mensal (A + B + C + D) | F37: =SUM(F17,F25,F35) -> #DIV/0!
B40: ITENS | C40: DISCRIMINAÇÃO | D40: MOTORISTA CAMINHÃO DIURNO
B42: 1.0 | C42: REMUNERAÇÃO, ENCARGOS E BENEFÍCIOS | D42: VALOR | E42: QUANT. | F42: TOTAL
B43: 1.1 | C43: Remuneração
B44: 1.1.1 | C44: Salário | D44: ='1.1 SALÁRIOS'!F26 -> 0 | E44: 1 | F44: =E44*D44 -> 0
B45: 1.1.2 | C45: Adicional de insalubridade | D45: ='1.1 SALÁRIOS'!$F$23 -> 0 | E45: 0.2 | F45: =E45*D45 -> 0
B46: 1.1.3 | C46: Adicional noturno: 20% sobre salário
B47: 1.1.4 | C47: Horas extras com 50%
B48: 1.1.5 | C48: Horas extras com 100%
...

Sheet 3.3 EQUIP. VEICULOS
A2: TABELA DE CUSTOS UNITÁRIOS - VEÍCULOS E EQUIPAMENTOS
A6: ITENS | B6: DISCRIMINAÇÃO | C6: CAMINHAO BASC 10m3 | D6: PA CARREGADEIRA | E6: MINICARREGADEIRA | F6: RETROESCAVADEIRA DE PNEUS | G6: CAMINHÃO CARROCERIA
C7: Valores (R$) | D7: Valores (R$) | E7: Valores (R$) | F7: Valores (R$) | G7: Valores (R$)
A8: A | B8: DEPRECIAÇÃO | C8: =(C9-C11)/C43/12 -> 0 | D8: =(D9-D11)/D43/12 -> 0 | E8: =(E9-E11)/E43/12 -> 0 | F8: =(F9-F11)/F43/12 -> 0 | G8: =(G9-G11)/G43/12 -> 0
A9: A1 | B9: CUSTO DE AQUISIÇÃO | C9: ='1.1 REF EQUIPAMENTOS E DIV'!E5+'1.1 REF EQUIPAMENTOS E DIV'!E6 -> 0 | D9: ='1.1 REF EQUIPAMENTOS E DIV'!E21 -> 0 | E9: ='1.1 REF EQUIPAMENTOS E DIV'!E23 -> 0 | F9: ='1.1 REF EQUIPAMENTOS E DIV'!E22 -> 0 | G9: ='1.1 REF EQUIPAMENTOS E DIV'!E9+'1.1 REF EQUIPAMENTOS E DIV'!E4 -> 0
A11: A2 | B11: VALOR RESIDUAL | C11: =C9*C42 -> 0 | D11: =D9*D42 -> 0 | E11: =E9*E42 -> 0 | F11: =F9*F42 -> 0 | G11: =G9*G42 -> 0
A13: B | B13: OPORTUNIDADE DE CAPITAL | C13: =C17*C19/12 -> 0 | D13: =D17*D19/12 -> 0 | E13: =E17*E19/12 -> 0 | F13: =F17*F19/12 -> 0 | G13: =G17*G19/12 -> 0
A15: B1 | B15: CUSTO DE AQUISIÇÃO | C15: =C9 -> 0 | D15: =D9 -> 0 | E15: =E9 -> 0 | F15: =F9 -> 0 | G15: =G9 -> 0
A17: B2 | B17: INVESTIMENTO MÉDIO | C17: =(C9-C11)*((1+C43)/(2*C43))/1.25 -> 0 | D17: =(D9-D11)*((1+D43)/(2*D43))/1.25 -> 0 | E17: =(E9-E11)*((1+E43)/(2*E43))/1.25 -> 0 | F17: =(F9-F11)*((1+F43)/(2*F43))/1.25 -> 0 | G17: =(G9-G11)*((1+G43)/(2*G43))/1.25 -> 0
A19: B3 | B19: TAXA DE JUROS AO ANO | C19: 0.1325 | D19: 0.1325 | E19: 0.1325 | F19: 0.1325 | G19: 0.1325
A20: C | B20: COMBUSTÍVEL | C20: =C25*7.33*25.25 -> 0 | D20: =D25*4.33*25.25 -> 0 | E20: =E25*4.33*25.25 -> 0 | F20: =F25*4.33*25.25 -> 0 | G20: =G25*7.33*25.25 -> 0
A21: C1 | B21: CONSUMO DE ÓLEO DIESEL/H TRABALHADA | C21: =326*0.735*0.1 -> 23.961 | D21: =128*0.746*0.13 -> 12.41344 | E21: =47*0.746*0.13 -> 4.55806 | F21: =72*0.746*0.13 -> 6.98256 | G21: =277*0.735*0.1 -> 20.3595
B23: CUSTO/LITRO ÓLEO DIESEL | C23: ='1.1 REF EQUIPAMENTOS E DIV'!$E$38 -> 0 | D23: ='1.1 REF EQUIPAMENTOS E DIV'!$E$38 -> 0 | E23: ='1.1 REF EQUIPAMENTOS E DIV'!$E$38 -> 0 | F23: ='1.1 REF EQUIPAMENTOS E DIV'!$E$38 -> 0 | G23: ='1.1 REF EQUIPAMENTOS E DIV'!$E$38 -> 0
A25: C2 | B25: CUSTO/HORA ÓLEO DIESEL | C25: =C23*C21 -> 0 | D25: =D23*D21 -> 0 | E25: =E23*E21 -> 0 | F25: =F23*F21 -> 0 | G25: =G23*G21 -> 0
A26: D | B26: LUBRIFICANTES | C26: =C29 -> 0 | D26: =D29 -> 0 | E26: =E29 -> 0 | F26: =F29 -> 0 | G26: =G29 -> 0
A27: D1 | B27: CONSUMO DE LUBRIFICANTES | C27: 0.1 | D27: 0.1 | E27: 0.1 | F27: 0.28 | G27: 0.1
A29: D2 | B29: CUSTO LUBRIFICANTES | C29: =C27*C20 -> 0 | D29: =D27*D20 -> 0 | E29: =E27*E20 -> 0 | F29: =F27*F20 -> 0 | G29: =G27*G20 -> 0
A31: F | B31: MANUTENÇÃO, IMPOSTOS E SEGUROS | C31: =C37 -> 0 | D31: =D37 -> 0 | E31: =E37 -> 0 | F31: =F37 -> 0 | G31: =G37 -> 0
A32: F1 | B32: DEPRECIAÇÃO/HORA | C32: =C8 -> 0 | D32: =D8 -> 0 | E32: =E8 -> 0 | F32: =F8 -> 0 | G32: =G8 -> 0
A34: F2 | B34: COEFICIENTE DE MANUTENÇÃO | C34: 0.9 | D34: 1 | E34: 0.6 | F34: 1 | G34: 0.6
A35: F3 | B35: SEGUROS E IMPOSTOS | C35: 0.025 | G35: 0.025
A37: F4 | B37: CUSTO MANUTENÇÃO | C37: =(C34+C35)*C32 -> 0 | D37: =(D34+D35)*D32 -> 0 | E37: =(E34+E35)*E32 -> 0 | F37: =(F34+F35)*F32 -> 0 | G37: =(G34+G35)*G32 -> 0
A38: G | B38: GPS | C38: ='1.1 REF EQUIPAMENTOS E DIV'!$E$35 -> #DIV/0! | D38: ='1.1 REF EQUIPAMENTOS E DIV'!$E$35 -> #DIV/0! | E38: ='1.1 REF EQUIPAMENTOS E DIV'!$E$35 -> #DIV/0! | F38: ='1.1 REF EQUIPAMENTOS E DIV'!$E$35 -> #DIV/0! | G38: ='1.1 REF EQUIPAMENTOS E DIV'!$E$35 -> #DIV/0!
B39: CUSTO MENSAL | C39: =C31++C26+C20+C13+C8+C38 -> #DIV/0! | D39: =D31++D26+D20+D13+D8+D38 -> #DIV/0! | E39: =E31++E26+E20+E13+E8+E38 -> #DIV/0! | F39: =F31++F26+F20+F13+F8+F38 -> #DIV/0! | G39: =G31++G26+G20+G13+G8+G38 -> #DIV/0!
B42: VALOR RESIDUAL | C42: 0.4 | D42: 0.2 | E42: 0.2 | F42: 0.2 | G42: 0.4
B43: VIDA UTIL | C43: 7 | D43: 4.9999499 | E43: 4.9999499 | F43: 4.9996581 | G43: 7

Sheet 3.4 DIM ENTULHO
A1: PROJETO BÁSICO
A2: DIMENSIONAMENTO DA COLETA DE RESÍDUOS SÓLIDOS URBANOS
A3: ITEM | B3: FREQUENCIA | C3: EXTENSÃO DAS VIAS (KM) | D3: EXTENSÃO PERCORRIDA POR MÊS DIURNO (KM) | E3: EXTENSÃO PERCORRIDA POR MÊS NOTURNO (KM)
A4: 1 | B4: ALTERNADO 2X (DIURNO) | C4: 308.145 | D4: =(26.08/6)*C4 -> 1339.4036 | E4: =IFERROR(C4*#REF!*#REF!*(1+#REF!),"-") -> -
A6: EXTENSÃO VIAS (KM) | C6: 308.145 | D6: =SUM(D4:D5) -> 1339.4036 | E6: =SUM(E4:E5) -> 0
A7: EXTENSÃO VIAS (KM) | D7: =D6+E6 -> 1339.4036
D8: =D6/D7 -> 1 | E8: =E6/D7 -> 0
A11: RESUMO
A12: DIAS TRABALHADOS TRABALHADOS AO MÊS | D12: 26.08
A13: EXTENSÃO DO PERCURSO- DIURNO (KM/DIA ) | D13: =D6/D12 -> 51.3575
A14: EXTENSÃO DO PERCURSO- NOTURNO (KM/DIA ) | D14: =E6/D12 -> 0
A15: MASSA DE RESÍDUOS SÓLIDOS
A16: POPULAÇÃO ( CENSO IBGE 2022) | D16: 84087
A17: POPULAÇÃO ATENDIDA | D17: =D16 -> 84087
A18: ÍNDICE DE GERAÇÃO DE RESÍDUOS KG/HAB.DIA | D18: =0.5*1000/365 -> 1.369863
A19: TOTAL RESÍDUOS GERADOS DIA (TON) | D19: =D18*D17/1000 -> 115.18767
A20: TOTAL RESÍDUOS GERADOS MÊS (TON) | D20: =D19*30 -> 3455.6301
A21: TOTAL RESÍDUOS INERTES GERADOS MÊS (TON) | D21: =D20 -> 3455.6301
A22: DIAS ÚTEIS MÊS | D22: =D12 -> 26.08
A23: TOTAL RESÍDUOS COLETADOS (TON/DIA) | D23: =ROUND(D21/D22,3) -> 132.501
A24: TOTAL RESÍDUOS COLETA - DIURNO (TON/DIA) ADOTADO 100% DA QUANTIDADE GERADA POR DIA | D24: =D23*1 -> 132.501
A25: DIURNO
A26: CAPACIDADE DE CARGA DO CAMINHÃO ( C )
A27: PESO APARENTE DO LIXO (KG/ M³) | C27: 1280
A28: ÍNDICE DE COMPACTAÇÃO | C28: 1
A29: CAPACIDADE NOMINAL ( M³ ) | C29: 10
A30: CAPACIDADE REAL (M³) | C30: =0.9*C29 -> 9
A31: C (TON) | C31: =(C27*C28*C30)/1000 -> 11.52
A32: QUANTIDADE DE VEÍCULOS ( QV )
A33: QUANT. DIÁRIA DE LIXO COLETADO (TON/DIA) | C33: =D24 -> 132.501
A34: NÚMERO DE VIAGENS POR TURNO | C34: 2
A35: CAPACIDADE DE CARGA DO CAMINHÃO (TON) | C35: =C31 -> 11.52
A36: QUANTIDADE DE VEÍCULOS CALCULADA | C36: =((C33)/(C34*C35)) -> 5.7509115
A37: QDADE DE VEÍCULOS DIURNO | C37: =_xlfn.CEILING.MATH(C36,1) -> 6
B39: RESUMO DIMENSIONAMENTO
B42: EQUIPAMENTOS
B44: Caminhão caçamba basculante de 10 m³ | C44: =C37 -> 6
B45: Caminhão Carroceria | C45: 2
B46: Pá carregadeira | C46: 1
B47: Retroescavadeira | C47: 1
...

Sheet 4.1  Varrição Manual
A1: COMPOSIÇÃO DE PREÇOS UNITÁRIOS DE SERVIÇO
A2: ='ORÇAMENTO GERAL'!B10 -> Varrição Manual
E3: Unidade: | F3: KM DE SARJETA
A4: ITENS | B4: DISCRIMINAÇÃO | C4: UNIDADE / MÊS | D4: QUANT. | E4: VALOR UNITÁRIO | F4: VALOR TOTAL
A5: 1 | B5: EQUIPAMENTOS
A6: 1.2 | B6: Veículo de transporte - Van | C6: und | D6: 2 | E6: ='4.3 EQUIP VEICULOS (2)'!C39 -> #DIV/0! | F6: =E6*D6 -> #DIV/0!
B7: CUSTO TOTAL | E7: TOTAL | F7: =SUM(F6:F6) -> #DIV/0!
A8: 2 | B8: MÃO DE OBRA
A9: 2.1 | B9: Fiscal Diurno | C9: mês | D9: ='4.4 DIM VARR MAN'!F18 -> 3 | E9: ='4.2 CPU MO'!F37 -> #DIV/0! | F9: =E9*D9 -> #DIV/0!
A10: 2.2 | B10: Motorista diurno | C10: mês | D10: =D6 -> 2 | E10: ='4.2 CPU MO'!F72 -> #DIV/0! | F10: =E10*D10 -> #DIV/0!
A11: 2.3 | B11: Varredor Diurno | C11: mês | D11: ='4.4 DIM VARR MAN'!F16 -> 62 | E11: ='4.2 CPU MO'!F110 -> #DIV/0! | F11: =E11*D11 -> #DIV/0!
B12: CUSTO TOTAL | E12: TOTAL | F12: =SUM(F9:F11) -> #DIV/0!
A13: 3 | B13: FERRAMENTAS
A14: 3.1 | B14: Vassoura de piaçava 28 furos, com cabo | C14: und | D14: =D11 -> 62 | E14: =VLOOKUP(B14,'1.1 CUSTO FERRAME-UNIFORME-EPI'!B:C,2,FALSE) -> 0 | F14: =E14*D14 -> 0
A15: 3.2 | B15: Contêineres plásticos de 240 litros c/ 02 rodas | C15: und | D15: =D11/2 -> 31 | E15: ='4.3 EQUIP VEICULOS (2)'!D39 -> #DIV/0! | F15: =E15*D15 -> #DIV/0!
A16: 3.3 | B16: Saco Plástico 100L | C16: und | D16: =26.08*D11 -> 1616.96 | E16: =VLOOKUP(B16,'1.1 CUSTO FERRAME-UNIFORME-EPI'!B:C,2,FALSE) -> #DIV/0! | F16: =E16*D16 -> #DIV/0!
B17: CUSTO TOTAL | E17: TOTAL | F17: =SUM(F14:F16) -> #DIV/0!
B18: RESUMO DO ITEM
B19: Custo operacional total | C19: R$ / mês | F19: =SUM(F17,F12,F7) -> #DIV/0!
B20: Quantidade estimada | C20: Km de SARJ / mês | F20: ='4.4 DIM VARR MAN'!F10 -> 6189.6184
B21: Custo unitário sem BDI | C21: Km de SARJ | F21: =F19/F20 -> #DIV/0!
B22: BDI | C22: % | D22: ='BDI '!$C$22 -> 0.0526 | F22: =F21*D22 -> #DIV/0!
B23: PREÇO FINAL (com BDI) | C23: R$ / Km de guia | F23: =ROUND(F21+F22,2) -> #DIV/0!

Sheet 4.2 CPU MO
B2: COMPOSIÇÃO DE CUSTOS UNITÁRIOS - PESSOAL
B5: ITENS | C5: DISCRIMINAÇÃO | D5: FISCAL DIURNO | G5: FISCAL NOTURNO
B7: 1.0 | C7: REMUNERAÇÃO, ENCARGOS E BENEFÍCIOS | D7: VALOR | E7: QUANT. | F7: TOTAL | G7: VALOR | H7: QUANT. | I7: TOTAL
B8: 1.1 | C8: Remuneração
B9: 1.1.1 | C9: Salário | D9: ='1.1 SALÁRIOS'!$F$10 -> 0 | E9: 1 | F9: =E9*D9 -> 0 | G9: ='1.1 SALÁRIOS'!$F$10 -> 0 | H9: 1 | I9: =H9*G9 -> 0
B10: 1.1.2 | C10: Adicional de insalubridade | D10: ='1.1 SALÁRIOS'!$F$24 -> 0 | E10: 0 | F10: =E10*D10 -> 0 | G10: ='1.1 SALÁRIOS'!$F$24 -> 0 | H10: 0 | I10: =H10*G10 -> 0
B11: 1.1.3 | C11: Adicional noturno | G11: =I9+I10 -> 0 | H11: 0.2 | I11: =H11*G11 -> 0
B12: 1.1.4 | C12: Horas extras com 50%
B13: 1.1.5 | C13: Horas extras com 100%
B14: 1.1.6 | C14: Outros
C15: Total (A) | F15: =SUM(F9:F14) -> 0 | I15: =SUM(I9:I14) -> 0
B16: 1.2 | C16: Encargos sociais (B) | D16: =F15 -> 0 | E16: ='1.1 SALÁRIOS'!$F$33 -> 0 | F16: =E16*D16 -> 0 | G16: =I15 -> 0 | H16: ='1.1 SALÁRIOS'!$F$33 -> 0 | I16: =H16*G16 -> 0
B17: 1.3 | C17: Remuneração bruta (A + B) | F17: =SUM(F15:F16) -> 0 | I17: =SUM(I15:I16) -> 0
B18: 1.4 | C18: Benefícios
B19: 1.4.1 | C19: Vale transporte | D19: ='1.1 SALÁRIOS'!$F$35 -> 0 | E19: 25.25 | F19: =IF(2*E19*D19-0.06*D9<0,0,2*E19*D19-0.06*D9) -> 0 | G19: ='1.1 SALÁRIOS'!$F$35 -> 0 | H19: 25.25 | I19: =IF(2*H19*G19-0.06*G9<0,0,2*H19*G19-0.06*G9) -> 0
B20: 1.4.2 | C20: Gratificação | D20: =('1.1 SALÁRIOS'!$F$36+'1.1 SALÁRIOS'!$F$37)/12 -> 0 | E20: 1 | F20: =E20*D20 -> 0 | G20: =('1.1 SALÁRIOS'!$F$36+'1.1 SALÁRIOS'!$F$37)/12 -> 0 | H20: 1 | I20: =H20*G20 -> 0
B21: 1.4.3 | C21: Auxilio Alimentação | D21: ='1.1 SALÁRIOS'!$F$38 -> 0 | E21: =E19 -> 25.25 | F21: =E21*D21 -> 0 | G21: ='1.1 SALÁRIOS'!$F$38 -> 0 | H21: =H19 -> 25.25 | I21: =H21*G21 -> 0
B22: 1.4.4 | C22: Cesta Básica | D22: ='1.1 SALÁRIOS'!$F$39 -> 0 | E22: 1 | F22: =E22*D22 -> 0 | G22: ='1.1 SALÁRIOS'!$F$39 -> 0 | H22: 1 | I22: =H22*G22 -> 0
B23: 1.4.5 | C23: Auxilio Saúde | D23: ='1.1 SALÁRIOS'!$F$40 -> 0 | E23: 1 | F23: =E23*D23 -> 0 | G23: ='1.1 SALÁRIOS'!$F$40 -> 0 | H23: 1 | I23: =H23*G23 -> 0
B24: 1.4.6 | C24: Seguro de Vida | D24: ='1.1 SALÁRIOS'!$F$41 -> 0 | E24: 1 | F24: =E24*D24 -> 0 | G24: ='1.1 SALÁRIOS'!$F$41 -> 0 | H24: 1 | I24: =H24*G24 -> 0
C25: Total (C) | F25: =SUM(F19:F24) -> 0 | I25: =SUM(I19:I24) -> 0
B26: 2.0 | C26: UNIFORMES E EPI´s
B27: 2.1 | C27: Boné de brim tipo árabe | D27: =VLOOKUP(C27,'1.1 CUSTO FERRAME-UNIFORME-EPI'!B:C,2,FALSE) -> #DIV/0! | E27: 0.17 | F27: =E27*D27 -> #DIV/0! | G27: =VLOOKUP(C27,'1.1 CUSTO FERRAME-UNIFORME-EPI'!B:C,2,FALSE) -> #DIV/0! | H27: 0.17 | I27: =H27*G27 -> #DIV/0!
B28: 2.2 | C28: Calça jeans | D28: =VLOOKUP(C28,'1.1 CUSTO FERRAME-UNIFORME-EPI'!B:C,2,FALSE) -> #DIV/0! | E28: 0.33 | F28: =E28*D28 -> #DIV/0! | G28: =VLOOKUP(C28,'1.1 CUSTO FERRAME-UNIFORME-EPI'!B:C,2,FALSE) -> #DIV/0! | H28: 0.33 | I28: =H28*G28 -> #DIV/0!
B29: 2.3 | C29: Camisa polo, manga curta | D29: =VLOOKUP(C29,'1.1 CUSTO FERRAME-UNIFORME-EPI'!B:C,2,FALSE) -> #DIV/0! | E29: 0.33 | F29: =E29*D29 -> #DIV/0! | G29: =VLOOKUP(C29,'1.1 CUSTO FERRAME-UNIFORME-EPI'!B:C,2,FALSE) -> #DIV/0! | H29: 0.33 | I29: =H29*G29 -> #DIV/0!
B30: 2.4 | C30: Bota de couro, antiderrapante | D30: =VLOOKUP(C30,'1.1 CUSTO FERRAME-UNIFORME-EPI'!B:C,2,FALSE) -> 0 | E30: 0.17 | F30: =E30*D30 -> 0 | G30: =VLOOKUP(C30,'1.1 CUSTO FERRAME-UNIFORME-EPI'!B:C,2,FALSE) -> 0 | H30: 0.17 | I30: =H30*G30 -> 0
B31: 2.5 | C31: Capa de chuva, com capuz | D31: =VLOOKUP(C31,'1.1 CUSTO FERRAME-UNIFORME-EPI'!B:C,2,FALSE) -> 0 | E31: 0.17 | F31: =E31*D31 -> 0 | G31: =VLOOKUP(C31,'1.1 CUSTO FERRAME-UNIFORME-EPI'!B:C,2,FALSE) -> 0 | H31: 0.17 | I31: =H31*G31 -> 0
B32: 2.6 | C32: Protetor solar fator 30 (120ml/Mês) | D32: =VLOOKUP(C32,'1.1 CUSTO FERRAME-UNIFORME-EPI'!B:C,2,FALSE) -> 0 | E32: 0.3 | F32: =E32*D32 -> 0 | G32: =VLOOKUP(C32,'1.1 CUSTO FERRAME-UNIFORME-EPI'!B:C,2,FALSE) -> 0 | H32: 0 | I32: =H32*G32 -> 0
B33: 2.7 | C33: Colete refletor (trabalho noturno) | D33: =VLOOKUP(C33,'1.1 CUSTO FERRAME-UNIFORME-EPI'!B:C,2,FALSE) -> #DIV/0! | E33: 0 | F33: =E33*D33 -> #DIV/0! | G33: =VLOOKUP(C33,'1.1 CUSTO FERRAME-UNIFORME-EPI'!B:C,2,FALSE) -> #DIV/0! | H33: 0.17 | I33: =H33*G33 -> #DIV/0!
B34: 2.8 | C34: Garra Térmica 2L | D34: =VLOOKUP(C34,'1.1 CUSTO FERRAME-UNIFORME-EPI'!B:C,2,FALSE) -> #DIV/0! | E34: 0.08 | F34: =E34*D34 -> #DIV/0! | G34: =VLOOKUP(C34,'1.1 CUSTO FERRAME-UNIFORME-EPI'!B:C,2,FALSE) -> #DIV/0! | H34: 0.08 | I34: =H34*G34 -> #DIV/0!
C35: Total (D) | F35: =SUM(F27:F34) -> #DIV/0! | I35: =SUM(I27:I34) -> #DIV/0!
B37: 3.0 | C37: Valor total mensal (A + B + C + D) | F37: =SUM(F17,F25,F35) -> #DIV/0! | I37: =SUM(I17,I25,I35) -> #DIV/0!
B40: ITENS | C40: DISCRIMINAÇÃO | D40: MOTORISTA II DIURNO | G40: MOTORISTA II NOTURNO
B42: 1.0 | C42: REMUNERAÇÃO, ENCARGOS E BENEFÍCIOS | D42: VALOR | E42: QUANT. | F42: TOTAL | G42: VALOR | H42: QUANT. | I42: TOTAL
B43: 1.1 | C43: Remuneração
B44: 1.1.1 | C44: Salário | D44: ='1.1 SALÁRIOS'!$F$26 -> 0 | E44: 1 | F44: =E44*D44 -> 0 | G44: ='1.1 SALÁRIOS'!$F$26 -> 0 | H44: 1 | I44: =H44*G44 -> 0
B45: 1.1.2 | C45: Adicional de insalubridade | D45: ='1.1 SALÁRIOS'!$F$24 -> 0 | E45: 0.2 | F45: =E45*D45 -> 0 | G45: ='1.1 SALÁRIOS'!$F$24 -> 0 | H45: 0.2 | I45: =H45*G45 -> 0
B46: 1.1.3 | C46: Adicional noturno: 20% sobre salário | G46: =I44+I45 -> 0 | H46: 0.2 | I46: =H46*G46 -> 0
B47: 1.1.4 | C47: Horas extras com 50%
B48: 1.1.5 | C48: Horas extras com 100%
...

Sheet 4.3 EQUIP VEICULOS (2)
A2: TABELA DE CUSTOS UNITÁRIOS - VEÍCULOS E EQUIPAMENTOS
A6: ITENS | B6: DISCRIMINAÇÃO | C6: VEÍCULO DE TRANSPORTE - VAN | D6: LUTICAR 240L
C7: Valores (R$) | D7: Valores (R$)
A8: A | B8: DEPRECIAÇÃO | C8: =(C9-C11)/C43/12 -> 0 | D8: =(D9-D11)/D43/12 -> #DIV/0!
A9: A1 | B9: CUSTO DE AQUISIÇÃO | C9: ='1.1 REF EQUIPAMENTOS E DIV'!E18 -> 0 | D9: ='1.1 CUSTO FERRAME-UNIFORME-EPI'!C7 -> #DIV/0!
A11: A2 | B11: VALOR RESIDUAL | C11: =C9*C42 -> 0 | D11: =D9*D42 -> #DIV/0!
A13: B | B13: OPORTUNIDADE DE CAPITAL | C13: =C17*C19/12 -> 0 | D13: =D17*D19/12 -> #DIV/0!
A15: B1 | B15: CUSTO DE AQUISIÇÃO | C15: =C9 -> 0 | D15: =D9 -> #DIV/0!
A17: B2 | B17: INVESTIMENTO MÉDIO | C17: =(C9-C11)*((1+C43)/(2*C43))/1.25 -> 0 | D17: =(D9-D11)*((1+D43)/(2*D43))/1.25 -> #DIV/0!
A19: B3 | B19: TAXA DE JUROS AO ANO | C19: 0.1325 | D19: 0.1325
A20: C | B20: COMBUSTÍVEL | C20: =C25*7.33*25.25 -> 0
A21: C1 | B21: CONSUMO DE ÓLEO DIESEL/H TRABALHADA | C21: =130*0.735*0.07 -> 6.6885
B23: CUSTO/LITRO ÓLEO DIESEL | C23: ='1.1 REF EQUIPAMENTOS E DIV'!E38 -> 0
A25: C2 | B25: CUSTO/HORA ÓLEO DIESEL | C25: =C23*C21 -> 0
A26: D | B26: LUBRIFICANTES | C26: =C29 -> 0
A27: D1 | B27: CONSUMO DE LUBRIFICANTES | C27: 0.27
A29: D2 | B29: CUSTO LUBRIFICANTES | C29: =C27*C20 -> 0
A31: F | B31: MANUTENÇÃO, IMPOSTOS E SEGUROS | C31: =C37 -> 0 | D31: =D37 -> #DIV/0!
A32: F1 | B32: DEPRECIAÇÃO/HORA | C32: =C8 -> 0 | D32: =D8 -> #DIV/0!
A34: F2 | B34: COEFICIENTE DE MANUTENÇÃO | C34: 0.6 | D34: 1
A35: F3 | B35: SEGUROS E IMPOSTOS | C35: 0.025
A37: F4 | B37: CUSTO MANUTENÇÃO | C37: =(C34+C35)*C32 -> 0 | D37: =D34*D32 -> #DIV/0!
A38: G | B38: GPS | C38: ='1.1 REF EQUIPAMENTOS E DIV'!$E$35 -> #DIV/0!
B39: CUSTO MENSAL | C39: =C31++C26+C20+C13+C8+C38 -> #DIV/0! | D39: =D31++D26+D20+D13+D8 -> #DIV/0!
B42: VALOR RESIDUAL | C42: 0.4 | D42: 0
B43: VIDA UTIL | C43: 5 | D43: 1

Sheet 4.4 DIM VARR MAN
A3: PROJETO BÁSICO
A4: DIMENSIONAMENTO DA VARRIÇÃO MANUAL
A5: ITEM | B5: SETOR | C5: EXTENSÃO DAS VIAS SETOR (kM) | F5: EXTENSÃO VARRIDA POR MÊS (kM)
A6: 1 | B6: VARRIÇÃO DIÁRIA (SEG A SAB) | C6: 34.9797 | F6: =C6*25.25 -> 883.23743
A7: =1+A6 -> 2 | B7: VARRIÇÃO ALTERNADA (3X NA SEMANA) | C7: 175.174 | F7: =C7*25.25/2 -> 2211.5718
A9: EXTENSÃO TOTAL DAS VIAS (KM) | C9: =SUM(C6:C8) -> 210.1537 | D9: EXTENSÃO DE VARRIÇÃO /MÊS - EIXO DE VIA (KM) | F9: =SUM(F6:F8) -> 3094.8092
A10: EXTENSÃO TOTAL DE VARRIÇÃO - SARJETAS (KM) | F10: =F9*2 -> 6189.6184
A11: DIAS TRABALHADOS AO MÊS | F11: 25.25
A12: EXTENSÃO MÉDIA VARRIDA POR DIA - SARJETAS (KM) | F12: =F10/F11 -> 245.1334
A13: RENDIMENTO MÉDIO DIÁRIO POR VARREDOR (SARJETAS) KM/DIA | F13: 4
A14: NÚMERO DE VARREDORES POR EQUIPE (02 VARREDORES) | F14: 2
A15: NÚMERO DE VARREDORES NECESSÁRIO | F15: =F12/F13 -> 61.28335
A16: NÚMERO DE VARREDORES ADOTADO | F16: =_xlfn.CEILING.MATH(F15,2) -> 62
A18: QUANTIDADE DE FISCAIS (1 para cada grupo de 20 garis) | F18: =ROUND(F16/20,0) -> 3

Sheet 5.1 VARR MECANIZADA
