Workbook
Name ___sub1: #REF!
Name ___sub2: #REF!
Name ___sub3: #REF!
Name _sub1: #REF!
Name _sub2: #REF!
Name _sub3: #REF!
Name a: #REF!
Name AREA: #REF!
Name B: #REF!
Name BDI: #REF!
Name DOLAR: [1]INSUMOS!$G$8
Name ersdcefgbrnghrbgbrgfbgfwbvbfgvwfv: #REF!
Name Excel_BuiltIn_Print_Area_2: #REF!
Name Excel_BuiltIn_Print_Area_2_1: #REF!
Name Excel_BuiltIn_Print_Area_2_1_1: #REF!
Name Excel_BuiltIn_Print_Area_2_1_1_1: #REF!
Name Excel_BuiltIn_Print_Area_4: #REF!
Name leosde: #REF!
Name NCOMPOSICOES: 7
Name NCOTACOES: 15
Name obra: #REF!
Name obra1: #REF!
Name obra2: #REF!
Name obra3: #REF!
Name obra4: #REF!
Name obra5: #REF!
Name P.1: #REF!
Name P.10: #REF!
Name P.11: #REF!
Name P.12: #REF!
Name P.13: #REF!
Name P.14: #REF!
Name P.15: #REF!
Name P.2: #REF!
Name P.3: #REF!
Name P.4: #REF!
Name P.5: #REF!
Name P.6: #REF!
Name P.7: #REF!
Name P.8: #REF!
Name P.9: #REF!
Name Pedreiro_de_acabamento: [1]INSUMOS!$B$11
Name PP1.1: #REF!
Name PP1.10: #REF!
Name PP1.11: #REF!
Name PP1.12: #REF!
Name PP1.13: #REF!
Name PP1.14: #REF!
Name PP1.15: #REF!
Name PP1.2: #REF!
Name PP1.3: #REF!
Name PP1.4: #REF!
Name PP1.5: #REF!
Name PP1.6: #REF!
Name PP1.7: #REF!
Name PP1.8: #REF!
Name PP1.9: #REF!
Name T.1: #REF!
Name T.10: #REF!
Name T.11: #REF!

Sheet Planilha Orcamentária
A2: PLANILHA ORÇAMENTÁRIA DE CUSTOS
A3: PREFEITURA MUNICIPAL DE INHAPIM-MG | E3: FOLHA N º: | G3: 01/01.
A4: OBRA: REFORMA E OU MODERNIZAÇÃO DE VESTIÁRIO E ARQUIBANCADA MUNICIPIO DE INHAPIM/MG | E4: DATA: | G4: 45989
A5: LOCAL: DISTRITO DE BOM JESUS DO RIO PRETO - INHAPIM/MG - CEP: 35330-000 | E5: FORMA DE EXECUÇÃO:
A6: REGIÃO/MÊS DE REFERÊNCIA: SINAPI 07/2025 - SEM DESONERAÇÃO - SICOR 07/2025 - | E6: ( ) | F6: DIRETA | G6: ( X ) | H6: INDIRETA
A7: COMPOSIÇÃO/DEMONSTRATIVO DE BDI - EM ANEXO | E7: % ISS MUNICIPAL: | F7: 0.05 | G7: BDI: | H7: =BDI!D28 -> 0.2951
A9: ITEM | B9: CÓDIGO | C9: DESCRIÇÃO | D9: UNIDADE | E9: QUANTIDADE | F9: PREÇO UNITÁRIO S/ BDI | G9: PREÇO UNITÁRIO C/ BDI | H9: PREÇO TOTAL
A10: 1.0 | C10: SERVIÇOS PRELIMINARES | H10: =SUM(H11:H11) -> 1497.38
A11: 1.1 | B11: SINAPI-103689 | C11: FORNECIMENTO E COLOCAÇÃO DE PLACA DE OBRA EM CHAPA GALVANIZADA #26, ESP. 0,45MM, DIMENSÃO (3X1,5)M, PLOTADA COM ADESIVO VINÍLICO, AFIXADA COM REBITES 4,8X40MM, EM ESTRUTURA METÁLICA DE METALON 20X20MM, ESP. 1,25MM, INCLUSIVE SUPORTE EM EUCALIPTO AUTOCLAVADO PINTADO COM TINTA PVA DUAS (2) DEMÃOS | D11: M² | E11: 1 | F11: 1156.19 | G11: =ROUND(F11+(F11*$H$7),2) -> 1497.38 | H11: =E11*G11 -> 1497.38
A12: 2.0 | C12: REFORMA DO VESTIÁRIO | H12: =SUM(H13:H38) -> 60903.236
A13: 2.1 | B13: SINAPI-97624 | C13: DEMOLIÇÃO DE ALVENARIA DE TIJOLO MACIÇO, DE FORMA MANUAL, SEM REAPROVEITAMENTO. AF_09/2023 | D13: M³ | E13: ='Memória de Cálculo'!E11 -> 32.51 | F13: 114.22 | G13: =ROUND(F13+(F13*$H$7),2) -> 147.93 | H13: =E13*G13 -> 4809.2043
A14: 2.2 | B14: SINAPI-97633 | C14: DEMOLIÇÃO DE REVESTIMENTO CERÂMICO, DE FORMA MANUAL, SEM REAPROVEITAMENTO. AF_09/2023 | D14: UND | E14: 96.32 | F14: 25.13 | G14: =ROUND(F14+(F14*$H$7),2) -> 32.55 | H14: =E14*G14 -> 3135.216
A15: 2.3 | B15: SINAPI-100981 | C15: CARGA, MANOBRA E DESCARGA DE ENTULHO EM CAMINHÃO BASCULANTE 6 M³ - CARGA COM ESCAVADEIRA HIDRÁULICA (CAÇAMBA DE 0,80 M³ / 111 HP) E DESCARGA LIVRE (UNIDADE: M3). AF_07/2020 | D15: M³ | E15: ='Memória de Cálculo'!E13 -> 4.31 | F15: 9.81 | G15: =ROUND(F15+(F15*$H$7),2) -> 12.7 | H15: =E15*G15 -> 54.737
A16: 2.4 | B16: SINAPI-103354 | C16: ALVENARIA DE VEDAÇÃO DE BLOCOS CERÂMICOS FURADOS NA HORIZONTAL DE 11,5X14X24 CM (ESPESSURA 11,5 CM) E ARGAMASSA DE ASSENTAMENTO COM PREPARO EM BETONEIRA. AF_12/2021 | D16: M² | E16: ='Memória de Cálculo'!E14 -> 39.75 | F16: 94.38 | G16: =ROUND(F16+(F16*$H$7),2) -> 122.23 | H16: =E16*G16 -> 4858.6425
A17: 2.5 | B17: SINAPI-87905 | C17: CHAPISCO APLICADO EM ALVENARIA (COM PRESENÇA DE VÃOS) E ESTRUTURAS DE CONCRETO DE FACHADA, COM COLHER DE PEDREIRO. ARGAMASSA TRAÇO 1:3 COM PREPARO EM BETONEIRA 400L. AF_10/2022 | D17: M | E17: ='Memória de Cálculo'!E15 -> 185.32 | F17: 8.93 | G17: =ROUND(F17+(F17*$H$7),2) -> 11.57 | H17: =E17*G17 -> 2144.1524
A18: 2.6 | B18: SINAPI-87289 | C18: ARGAMASSA TRAÇO 1:1,5:7,5 (EM VOLUME DE CIMENTO, CAL E AREIA MÉDIA ÚMIDA) PARA EMBOÇO/MASSA ÚNICA/ASSENTAMENTO DE ALVENARIA DE VEDAÇÃO, PREPARO MECÂNICO COM BETONEIRA 400 L. AF_08/2019 | D18: M³ | E18: ='Memória de Cálculo'!E16 -> 5.61 | F18: 668.92 | G18: =ROUND(F18+(F18*$H$7),2) -> 866.32 | H18: =E18*G18 -> 4860.0552
A19: 2.7 | B19: SINAPI-87535 | C19: EMBOÇO, EM ARGAMASSA TRAÇO 1:2:8, PREPARO MECÂNICO, APLICADO MANUALMENTE EM PAREDES INTERNAS DE AMBIENTES COM ÁREA MAIOR QUE 10M², E = 17,5MM, COM TALISCAS. AF_03/2024 | D19: UND | E19: ='Memória de Cálculo'!E17 -> 5.56 | F19: 36.65 | G19: =ROUND(F19+(F19*$H$7),2) -> 47.47 | H19: =E19*G19 -> 263.9332
A20: 2.8 | B20: SINAPI-87248 | C20: REVESTIMENTO CERÂMICO PARA PISO COM PLACAS TIPO ESMALTADA DE DIMENSÕES 35X35 CM APLICADA EM AMBIENTES DE ÁREA MAIOR QUE 10 M2. AF_02/2023_PE | D20: M² | E20: ='Memória de Cálculo'!E18 -> 105.82 | F20: 52.53 | G20: =ROUND(F20+(F20*$H$7),2) -> 68.03 | H20: =E20*G20 -> 7198.9346
A21: 2.9 | B21: SINAPI-88412 | C21: APLICAÇÃO MANUAL DE FUNDO SELADOR ACRÍLICO EM PANOS CEGOS DE FACHADA (SEM PRESENÇA DE VÃOS) DE EDIFÍCIOS DE MÚLTIPLOS PAVIMENTOS. AF_03/2024 | D21: M² | E21: ='Memória de Cálculo'!E19 -> 247.57 | F21: 4.56 | G21: =ROUND(F21+(F21*$H$7),2) -> 5.91 | H21: =E21*G21 -> 1463.1387
A22: 2.10 | B22: SINAPI-88431 | C22: APLICAÇÃO MANUAL DE PINTURA COM TINTA TEXTURIZADA ACRÍLICA EM PAREDES EXTERNAS DE CASAS, DUAS CORES. AF_03/2024 | D22: M² | E22: ='Memória de Cálculo'!E20 -> 206.2 | F22: 27.19 | G22: =ROUND(F22+(F22*$H$7),2) -> 35.21 | H22: =E22*G22 -> 7260.302
A23: 2.11 | B23: SINAPI-88488 | C23: PINTURA LÁTEX ACRÍLICA PREMIUM, APLICAÇÃO MANUAL EM TETO, DUAS DEMÃOS. AF_04/2023 | D23: M² | E23: ='Memória de Cálculo'!E21 -> 34.38 | F23: 16.47 | G23: =ROUND(F23+(F23*$H$7),2) -> 21.33 | H23: =E23*G23 -> 733.3254
A24: 2.12 | B24: SINAPI-87248 | C24: REVESTIMENTO CERÂMICO PARA PISO COM PLACAS TIPO ESMALTADA DE DIMENSÕES 35X35 CM APLICADA EM AMBIENTES DE ÁREA MAIOR QUE 10 M2. AF_02/2023_PE | D24: M² | E24: ='Memória de Cálculo'!E22 -> 34.38 | F24: 52.53 | G24: =ROUND(F24+(F24*$H$7),2) -> 68.03 | H24: =E24*G24 -> 2338.8714
A25: 2.13 | B25: SINAPI-91341 | C25: PORTA EM ALUMÍNIO DE ABRIR TIPO VENEZIANA COM GUARNIÇÃO, FIXAÇÃO COM PARAFUSOS - FORNECIMENTO E INSTALAÇÃO. AF_12/2019 | D25: M² | E25: ='Memória de Cálculo'!E23 -> 3.78 | F25: 672.06 | G25: =ROUND(F25+(F25*$H$7),2) -> 870.38 | H25: =E25*G25 -> 3290.0364
A26: 2.14 | B26: SINAPI-100754 | C26: PINTURA COM TINTA ACRÍLICA DE ACABAMENTO APLICADA A ROLO OU PINCEL SOBRE SUPERFÍCIES METÁLICAS (EXCETO PERFIL) EXECUTADO EM OBRA (02 DEMÃOS). AF_01/2020 | D26: M² | E26: ='Memória de Cálculo'!E24 -> 9.88 | F26: 33.98 | G26: =ROUND(F26+(F26*$H$7),2) -> 44.01 | H26: =E26*G26 -> 434.8188
... A38: 2.27 | B38: ED-48172 | C38: BEBEDOURO CONJUGADO DE COLUNA/PRESSÃO, TIPO ADULTO E INFANTIL COM ACABAMENTO EM PINTURA ELETROSTÁTICA, NA COR BRANCA, PRESSÃO DA REDE MÍNIMA REFERENCIAL DE 6M.C.A, INCLUSIVE ACESSÓRIOS | D38: UND | E38: ='Memória de Cálculo'!E36 -> 1 | F38: 1690.2 | G38: =ROUND(F38+(F38*$H$7),2) -> 2188.98 | H38: =E38*G38 -> 2188.98
A39: 3.0 | C39: ARQUIBANCADA | E39: ='Memória de Cálculo'!E37 -> 0 | H39: =SUM(H40:H42) -> 9577.1294
A40: 3.1 | B40: SINAPI-87289 | C40: ARGAMASSA TRAÇO 1:1,5:7,5 (EM VOLUME DE CIMENTO, CAL E AREIA MÉDIA ÚMIDA) PARA EMBOÇO/MASSA ÚNICA/ASSENTAMENTO DE ALVENARIA DE VEDAÇÃO, PREPARO MECÂNICO COM BETONEIRA 400 L. AF_08/2019 | D40: M³ | E40: ='Memória de Cálculo'!E38 -> 1 | F40: 668.92 | G40: =ROUND(F40+(F40*$H$7),2) -> 866.32 | H40: =E40*G40 -> 866.32
A41: 3.2 | B41: SINAPI-99857 | C41: CORRIMÃO SIMPLES, DIÂMETRO EXTERNO = 1 1/2", EM ALUMÍNIO. AF_04/2019_PS | D41: M | E41: ='Memória de Cálculo'!E39 -> 25.7 | F41: 109.85 | G41: =ROUND(F41+(F41*$H$7),2) -> 142.27 | H41: =E41*G41 -> 3656.339
A42: 3.3 | B42: SINAPI-88489 | C42: PINTURA LÁTEX ACRÍLICA PREMIUM, APLICAÇÃO MANUAL EM PAREDES, DUAS DEMÃOS. AF_04/2023 | D42: M² | E42: ='Memória de Cálculo'!E40 -> 280.96 | F42: 13.89 | G42: =ROUND(F42+(F42*$H$7),2) -> 17.99 | H42: =E42*G42 -> 5054.4704
A43: 4.0 | C43: INSTALAÇÃO ELÉTRICA | H43: =SUM(H44:H50) -> 5642.4723
A44: 4.1 | B44: SINAPI-101883 | C44: QUADRO DE DISTRIBUIÇÃO DE ENERGIA EM CHAPA DE AÇO GALVANIZADO, DE EMBUTIR, COM BARRAMENTO TRIFÁSICO, PARA 18 DISJUNTORES DIN 100A - FORNECIMENTO E INSTALAÇÃO. AF_07/2025 | D44: UND | E44: 1 | F44: 587.44 | G44: =ROUND(F44+(F44*$H$7),2) -> 760.79 | H44: =E44*G44 -> 760.79
A45: 4.2 | B45: SINAPI-97610 | C45: LÂMPADA COMPACTA DE LED 10 W, BASE E27 - FORNECIMENTO E INSTALAÇÃO. AF_09/2024 | D45: UND | E45: 4 | F45: 14.35 | G45: =ROUND(F45+(F45*$H$7),2) -> 18.58 | H45: =E45*G45 -> 74.32
A46: 4.3 | B46: SINAPI-92029 | C46: INTERRUPTOR PARALELO (1 MÓDULO) COM 1 TOMADA DE EMBUTIR 2P+T 10 A, INCLUINDO SUPORTE E PLACA - FORNECIMENTO E INSTALAÇÃO. AF_03/2023 | D46: UND | E46: 2 | F46: 59.58 | G46: =ROUND(F46+(F46*$H$7),2) -> 77.16 | H46: =E46*G46 -> 154.32
A47: 4.4 | B47: SINAPI-91925 | C47: CABO DE COBRE FLEXÍVEL ISOLADO, 1,5 MM², ANTI-CHAMA 0,6/1,0 KV, PARA CIRCUITOS TERMINAIS - FORNECIMENTO E INSTALAÇÃO. AF_03/2023 | D47: M | E47: ='Memória de Cálculo'!E45 -> 47.97 | F47: 3.85 | G47: =ROUND(F47+(F47*$H$7),2) -> 4.99 | H47: =E47*G47 -> 239.3703
A48: 4.5 | B48: SINAPI-91927 | C48: CABO DE COBRE FLEXÍVEL ISOLADO, 2,5 MM², ANTI-CHAMA 0,6/1,0 KV, PARA CIRCUITOS TERMINAIS - FORNECIMENTO E INSTALAÇÃO. AF_03/2023 | D48: M | E48: ='Memória de Cálculo'!E46 -> 18.66 | F48: 5.19 | G48: =ROUND(F48+(F48*$H$7),2) -> 6.72 | H48: =E48*G48 -> 125.3952
A49: 4.6 | B49: SINAPI-91929 | C49: CABO DE COBRE FLEXÍVEL ISOLADO, 4 MM², ANTI-CHAMA 0,6/1,0 KV, PARA CIRCUITOS TERMINAIS - FORNECIMENTO E INSTALAÇÃO. AF_03/2023 | D49: M | E49: ='Memória de Cálculo'!E47 -> 35.88 | F49: 7.65 | G49: =ROUND(F49+(F49*$H$7),2) -> 9.91 | H49: =E49*G49 -> 355.5708
A50: 4.7 | B50: SINAPI-91935 | C50: CABO DE COBRE FLEXÍVEL ISOLADO, 16 MM², ANTI-CHAMA 0,6/1,0 KV, PARA CIRCUITOS TERMINAIS - FORNECIMENTO E INSTALAÇÃO. AF_03/2023 | D50: M | E50: ='Memória de Cálculo'!E48 -> 131.97 | F50: 23.01 | G50: =ROUND(F50+(F50*$H$7),2) -> 29.8 | H50: =E50*G50 -> 3932.706
A51: 5.0 | C51: SERVIÇOS FINAIS | H51: =H52 -> 1074.4272
A52: 5.1 | B52: ED-50266 | C52: LIMPEZA FINAL PARA ENTREGA DA OBRA | D52: M² | E52: ='Memória de Cálculo'!E50 -> 106.59 | F52: 7.78 | G52: =ROUND(F52+(F52*$H$7),2) -> 10.08 | H52: =G52*E52 -> 1074.4272
C53: TOTAL | H53: =SUM(H10,H12,H39,H43,H51) -> 78694.645
...

Sheet COMPOSIÇÃO-I
A4: ='Planilha Orcamentária'!A4 -> OBRA: REFORMA E OU MODERNIZAÇÃO DE VESTIÁRIO E ARQUIBANCADA MUNICIPIO DE INHAPIM/MG
A5: ='Planilha Orcamentária'!A5 -> LOCAL: DISTRITO DE BOM JESUS DO RIO PRETO - INHAPIM/MG - CEP: 35330-000
A6: MUNICIPIO: INHAPIM/MG - CEP: 35330-000
A7: DATA: | B7: 45989
A9: QUADRO DE COMPOSIÇÕES
A11: COMPOSIÇÃO | B11: 1 | C11: EXECUÇÃO DE PISO INDUSTRIAL DE CONCRETO ARMADO, FCK = 20 MPA, ESPESSURA DE 15,0 CM. AF_04/2022 | D11: M | F11: 0 | G11: =((E12*G12)+(E13*G13)+(E14*G14)+(E15*G15)+(E16*G16)+(E17*G17)+(E18*G18)+(E19*G19)+(E20*G20)+(E21*G21)+(E22*G22)+(E23*G23)+(E24*G24)+(E25*G25)) -> 158.17699
A12: SINAPI | B12: 4517 | C12: SARRAFO *2,5 X 7,5* CM EM PINUS, MISTA OU EQUIVALENTE DA REGIAO - BRUTA | D12: M3 | E12: 0.051333 | F12: 0 | G12: 2.75 | H12: I
A13: SINAPI | B13: 5069 | C13: PREGO DE ACO POLIDO COM CABECA 17 X 27 (2 1/2 X 11) | D13: M3 | E13: 0.00177 | F13: 0 | G13: 17.79 | H13: I
A14: SINAPI | B14: 34492 | C14: CONCRETO USINADO BOMBEAVEL, CLASSE DE RESISTENCIA C20, COM BRITA 0 E 1, SLUMP = 100 +/- 20 MM, EXCLUI SERVICO DE BOMBEAMENTO (NBR 8953) | D14: KG | E14: 0.158946 | F14: 0 | G14: 520 | H14: I
A15: SINAPI | B15: 42409 | C15: AGENTE DE CURA, PROTETOR DA EVAPORACAO DA AGUA DE HIDRATACAO DO CONCRETO | D15: KG | E15: 0.4 | F15: 0 | G15: 10.49 | H15: I
A16: SINAPI | B16: 43614 | C16: TABUA NAO APARELHADA *2,5 X 15* CM, EM MACARANDUBA/MASSARANDUBA, ANGELIM OU EQUIVALENTE DA REGIAO - BRUTA | D16: M2 | E16: 0.064167 | F16: 0 | G16: 20.9 | H16: I
A17: SINAPI | B17: 88262 | C17: CARPINTEIRO DE FORMAS COM ENCARGOS COMPLEMENTARES | D17: H | E17: 0.032006 | F17: 0 | G17: 30.75 | H17: C
A18: SINAPI | B18: 88309 | C18: PEDREIRO COM ENCARGOS COMPLEMENTARES | D18: H | E18: 0.117236 | F18: 0 | G18: 31.21 | H18: C
A19: SINAPI | B19: 88316 | C19: SERVENTE COM ENCARGOS COMPLEMENTARES | D19: H | E19: 0.120624 | F19: 0 | G19: 22.64 | H19: C
A20: SINAPI | B20: 90586 | C20: VIBRADOR DE IMERSÃO, DIÂMETRO DE PONTEIRA 45MM, MOTOR ELÉTRICO TRIFÁSICO POTÊNCIA DE 2 CV - CHP DIURNO. AF_06/2015 | D20: CHIP | E20: 0.007957 | F20: 0 | G20: 1.52 | H20: C
A21: SINAPI | B21: 95282 | C21: DESEMPENADEIRA DE CONCRETO, PESO DE 78 KG, 4 PÁS, MOTOR A GASOLINA, POTÊNCIA 5,5 HP - CHP DIURNO. AF_05/2023 | D21: CHIP | E21: 0.007957 | F21: 0 | G21: 10.23 | H21: C
A22: SINAPI | B22: 97092 | C22: ARMAÇÃO PARA EXECUÇÃO DE RADIER, PISO DE CONCRETO OU LAJE SOBRE SOLO, COM USO DE TELA Q-196. AF_09/2021 | D22: KG | E22: 3.11 | F22: 0 | G22: 13.27 | H22: C
A23: SINAPI | B23: 97113 | C23: APLICAÇÃO DE LONA PLÁSTICA PARA EXECUÇÃO DE PAVIMENTOS DE CONCRETO. AF_04/2022 | D23: M² | E23: 1 | F23: 0 | G23: 3.06 | H23: C
... A25: SINAPI | B25: 97117 | C25: BARRAS DE TRANSFERÊNCIA, AÇO CA-25 DE 20,0 MM, PARA EXECUÇÃO DE PAVIMENTO DE CONCRETO - FORNECIMENTO E INSTALAÇÃO. AF_04/2022 | D25: KG | E25: 0.822 | F25: 0 | G25: 19.87 | H25: C
A29: _________________________________
A30: Sebastião Barbosa Pinto Filho
A31: CREA/MG Nº: MG 249.547/D

Sheet Memória de Cálculo
A2: MEMÓRIA DE CÁLCULO DE QUANTITATIVOS
A3: PREFEITURA MUNICIPAL DE INHAPIM-MG
A4: ='Planilha Orcamentária'!A4 -> OBRA: REFORMA E OU MODERNIZAÇÃO DE VESTIÁRIO E ARQUIBANCADA MUNICIPIO DE INHAPIM/MG | E4: FOLHA N º: | F4: 01/01.
A5: ='Planilha Orcamentária'!A5 -> LOCAL: DISTRITO DE BOM JESUS DO RIO PRETO - INHAPIM/MG - CEP: 35330-000 | E5: DATA: | F5: 45989
A7: ITEM | B7: CÓDIGO | C7: DESCRIÇÃO | D7: UNIDADE | E7: QUANTIDADE | F7: FÓRMULA DO CÁLCULO
A8: 1 | C8: ='Planilha Orcamentária'!C10 -> SERVIÇOS PRELIMINARES
A9: ='Planilha Orcamentária'!A11 -> 1.1 | B9: ='Planilha Orcamentária'!B11 -> SINAPI-103689 | C9: ='Planilha Orcamentária'!C11 -> FORNECIMENTO E COLOCAÇÃO DE PLACA DE OBRA EM CHAPA GALVANIZADA #26, ESP. 0,45MM, DIMENSÃO (3X1,5)M, PLOTADA COM ADESIVO VINÍLICO, AFIXADA COM REBITES 4,8X40MM, EM ESTRUTURA METÁLICA DE METALON 20X20MM, ESP. 1,25MM, INCLUSIVE SUPORTE EM EUCALIPTO AUTOCLAVADO PINTADO COM TINTA PVA DUAS (2) DEMÃOS | D9: ='Planilha Orcamentária'!D11 -> M² | E9: ='Planilha Orcamentária'!E11 -> 1 | F9: placa de obra de acordo com as exisgências do CREA-MG
A10: ='Planilha Orcamentária'!A12 -> 2.0 | B10: ='Planilha Orcamentária'!B12 -> 0 | C10: ='Planilha Orcamentária'!C12 -> REFORMA DO VESTIÁRIO | D10: ='Planilha Orcamentária'!D12 -> 0
A11: ='Planilha Orcamentária'!A13 -> 2.1 | B11: ='Planilha Orcamentária'!B13 -> SINAPI-97624 | C11: ='Planilha Orcamentária'!C13 -> DEMOLIÇÃO DE ALVENARIA DE TIJOLO MACIÇO, DE FORMA MANUAL, SEM REAPROVEITAMENTO. AF_09/2023 | D11: ='Planilha Orcamentária'!D13 -> M³ | E11: 32.51 | F11: (8,96*2+4,27*2)*1,20+(0,20*1,9)*2=32,51
A12: ='Planilha Orcamentária'!A14 -> 2.2 | B12: ='Planilha Orcamentária'!B14 -> SINAPI-97633 | C12: ='Planilha Orcamentária'!C14 -> DEMOLIÇÃO DE REVESTIMENTO CERÂMICO, DE FORMA MANUAL, SEM REAPROVEITAMENTO. AF_09/2023 | D12: ='Planilha Orcamentária'!D14 -> UND | E12: 105.82 | F12: area da parede + do piso=(1,90*34,12*2)+38,26-((0,80*2,10)x2+(0,80*1,60)x8)=105,82
A13: ='Planilha Orcamentária'!A15 -> 2.3 | B13: ='Planilha Orcamentária'!B15 -> SINAPI-100981 | C13: ='Planilha Orcamentária'!C15 -> CARGA, MANOBRA E DESCARGA DE ENTULHO EM CAMINHÃO BASCULANTE 6 M³ - CARGA COM ESCAVADEIRA HIDRÁULICA (CAÇAMBA DE 0,80 M³ / 111 HP) E DESCARGA LIVRE (UNIDADE: M3). AF_07/2020 | D13: ='Planilha Orcamentária'!D15 -> M³ | E13: 4.31 | F13: 105,82*0,03+1,14=4,31
A14: ='Planilha Orcamentária'!A16 -> 2.4 | B14: ='Planilha Orcamentária'!B16 -> SINAPI-103354 | C14: ='Planilha Orcamentária'!C16 -> ALVENARIA DE VEDAÇÃO DE BLOCOS CERÂMICOS FURADOS NA HORIZONTAL DE 11,5X14X24 CM (ESPESSURA 11,5 CM) E ARGAMASSA DE ASSENTAMENTO COM PREPARO EM BETONEIRA. AF_12/2021 | D14: ='Planilha Orcamentária'!D16 -> M² | E14: 39.75 | F14: 31,75+2*4*1=39,75
A15: ='Planilha Orcamentária'!A17 -> 2.5 | B15: ='Planilha Orcamentária'!B17 -> SINAPI-87905 | C15: ='Planilha Orcamentária'!C17 -> CHAPISCO APLICADO EM ALVENARIA (COM PRESENÇA DE VÃOS) E ESTRUTURAS DE CONCRETO DE FACHADA, COM COLHER DE PEDREIRO. ARGAMASSA TRAÇO 1:3 COM PREPARO EM BETONEIRA 400L. AF_10/2022 | D15: ='Planilha Orcamentária'!D17 -> M | E15: 185.32 | F15: Área de remoção de ceramica da parede e alvenária nova: 105,82+39,75*2=189,87
A16: ='Planilha Orcamentária'!A18 -> 2.6 | B16: ='Planilha Orcamentária'!B18 -> SINAPI-87289 | C16: ='Planilha Orcamentária'!C18 -> ARGAMASSA TRAÇO 1:1,5:7,5 (EM VOLUME DE CIMENTO, CAL E AREIA MÉDIA ÚMIDA) PARA EMBOÇO/MASSA ÚNICA/ASSENTAMENTO DE ALVENARIA DE VEDAÇÃO, PREPARO MECÂNICO COM BETONEIRA 400 L. AF_08/2019 | D16: ='Planilha Orcamentária'!D18 -> M³ | E16: 5.61 | F16: Área chapiscada da alvenaria*0,03 + Áreas pontuais pra regularização = 185,32*0,03+0,05=5,61
A17: ='Planilha Orcamentária'!A19 -> 2.7 | B17: ='Planilha Orcamentária'!B19 -> SINAPI-87535 | C17: ='Planilha Orcamentária'!C19 -> EMBOÇO, EM ARGAMASSA TRAÇO 1:2:8, PREPARO MECÂNICO, APLICADO MANUALMENTE EM PAREDES INTERNAS DE AMBIENTES COM ÁREA MAIOR QUE 10M², E = 17,5MM, COM TALISCAS. AF_03/2024 | D17: ='Planilha Orcamentária'!D19 -> UND | E17: 5.56 | F17: 185,32*0,03=5,56
A18: ='Planilha Orcamentária'!A20 -> 2.8 | B18: ='Planilha Orcamentária'!B20 -> SINAPI-87248 | C18: ='Planilha Orcamentária'!C20 -> REVESTIMENTO CERÂMICO PARA PISO COM PLACAS TIPO ESMALTADA DE DIMENSÕES 35X35 CM APLICADA EM AMBIENTES DE ÁREA MAIOR QUE 10 M2. AF_02/2023_PE | D18: ='Planilha Orcamentária'!D20 -> M² | E18: =E12 -> 105.82 | F18: 105,82
A19: ='Planilha Orcamentária'!A21 -> 2.9 | B19: ='Planilha Orcamentária'!B21 -> SINAPI-88412 | C19: ='Planilha Orcamentária'!C21 -> APLICAÇÃO MANUAL DE FUNDO SELADOR ACRÍLICO EM PANOS CEGOS DE FACHADA (SEM PRESENÇA DE VÃOS) DE EDIFÍCIOS DE MÚLTIPLOS PAVIMENTOS. AF_03/2024 | D19: ='Planilha Orcamentária'!D21 -> M² | E19: 247.57 | F19: Paredes inter.+externas + teto: (32,51*1,20*2)+((9,02+4,33)*2*4,21)+(9,16*1,9) +39,75=247,57
A20: ='Planilha Orcamentária'!A22 -> 2.10 | B20: ='Planilha Orcamentária'!B22 -> SINAPI-88431 | C20: ='Planilha Orcamentária'!C22 -> APLICAÇÃO MANUAL DE PINTURA COM TINTA TEXTURIZADA ACRÍLICA EM PAREDES EXTERNAS DE CASAS, DUAS CORES. AF_03/2024 | D20: ='Planilha Orcamentária'!D22 -> M² | E20: 206.2 | F20: 206,2
A21: ='Planilha Orcamentária'!A23 -> 2.11 | B21: ='Planilha Orcamentária'!B23 -> SINAPI-88488 | C21: ='Planilha Orcamentária'!C23 -> PINTURA LÁTEX ACRÍLICA PREMIUM, APLICAÇÃO MANUAL EM TETO, DUAS DEMÃOS. AF_04/2023 | D21: ='Planilha Orcamentária'!D23 -> M² | E21: 34.38 | F21: 34,38
A22: ='Planilha Orcamentária'!A24 -> 2.12 | B22: ='Planilha Orcamentária'!B24 -> SINAPI-87248 | C22: ='Planilha Orcamentária'!C24 -> REVESTIMENTO CERÂMICO PARA PISO COM PLACAS TIPO ESMALTADA DE DIMENSÕES 35X35 CM APLICADA EM AMBIENTES DE ÁREA MAIOR QUE 10 M2. AF_02/2023_PE | D22: ='Planilha Orcamentária'!D24 -> M² | E22: 34.38 | F22: Área do piso: 34,38
A23: ='Planilha Orcamentária'!A25 -> 2.13 | B23: ='Planilha Orcamentária'!B25 -> SINAPI-91341 | C23: ='Planilha Orcamentária'!C25 -> PORTA EM ALUMÍNIO DE ABRIR TIPO VENEZIANA COM GUARNIÇÃO, FIXAÇÃO COM PARAFUSOS - FORNECIMENTO E INSTALAÇÃO. AF_12/2019 | D23: ='Planilha Orcamentária'!D25 -> M² | E23: 3.78 | F23: 0,9*2,1*2=3,78
A24: ='Planilha Orcamentária'!A26 -> 2.14 | B24: ='Planilha Orcamentária'!B26 -> SINAPI-100754 | C24: ='Planilha Orcamentária'!C26 -> PINTURA COM TINTA ACRÍLICA DE ACABAMENTO APLICADA A ROLO OU PINCEL SOBRE SUPERFÍCIES METÁLICAS (EXCETO PERFIL) EXECUTADO EM OBRA (02 DEMÃOS). AF_01/2020 | D24: ='Planilha Orcamentária'!D26 -> M² | E24: 9.88 | F24: (6*0,6*1,9+2*0,8*1,9)*2=9,88
A25: ='Planilha Orcamentária'!A27 -> 2.15 | B25: ='Planilha Orcamentária'!B27 -> SINAPI-94559 | C25: ='Planilha Orcamentária'!C27 -> JANELA DE AÇO TIPO BASCULANTE, PARA VIDROS (VIDROS NÃO INCLUSOS), BATENTE/ REQUADRO INCLUSO (6,5 A 14 CM), DIMENSÕES 60X60 CM, COM COM PINTURA ANTICORROSIVA, SEM ACABAMENTO, COM FERRAGENS, FIXAÇÃO COM ARGAMASSA, EXCLUSIVE CONTRAMARCO - FORNECIMENTO E INSTALAÇÃO. AF_11/2024 | D25: ='Planilha Orcamentária'!D27 -> M² | E25: 4.32 | F25: 0,6*0,8*4+2*0,6*2=4,32
A26: ='Planilha Orcamentária'!#REF! -> #REF! | B26: ='Planilha Orcamentária'!B28 -> SINAPI-92580 | C26: ='Planilha Orcamentária'!C28 -> TRAMA DE AÇO COMPOSTA POR TERÇAS PARA TELHADOS DE ATÉ 2 ÁGUAS PARA TELHA ONDULADA DE FIBROCIMENTO, METÁLICA, PLÁSTICA OU TERMOACÚSTICA, INCLUSO TRANSPORTE VERTICAL. AF_07/2019 | D26: ='Planilha Orcamentária'!D28 -> M² | E26: 24.12 | F26: 24,12
A27: ='Planilha Orcamentária'!A28 -> 2.17 | B27: ='Planilha Orcamentária'!B29 -> SINAPI-94213 | C27: ='Planilha Orcamentária'!C29 -> TELHAMENTO COM TELHA DE AÇO/ALUMÍNIO E = 0,5 MM, COM ATÉ 2 ÁGUAS, INCLUSO IÇAMENTO. AF_07/2019 | D27: ='Planilha Orcamentária'!D29 -> M² | E27: =E26 -> 24.12 | F27: 24,12
A28: ='Planilha Orcamentária'!A29 -> 2.18 | B28: ='Planilha Orcamentária'!B30 -> SINAPI-101979 | C28: ='Planilha Orcamentária'!C30 -> CHAPIM (RUFO CAPA) EM AÇO GALVANIZADO, CORTE 33. AF_11/2020 | D28: ='Planilha Orcamentária'!D30 -> M | E28: 26.46 | F28: 26.46
A29: ='Planilha Orcamentária'!A30 -> 2.19 | B29: ='Planilha Orcamentária'!B31 -> SINAPI-94227 | C29: ='Planilha Orcamentária'!C31 -> CALHA EM CHAPA DE AÇO GALVANIZADO NÚMERO 24, DESENVOLVIMENTO DE 33 CM, INCLUSO TRANSPORTE VERTICAL. AF_07/2019 | D29: ='Planilha Orcamentária'!D31 -> M | E29: 8.6 | F29: 8,6
A30: ='Planilha Orcamentária'!A31 -> 2.20 | B30: ='Planilha Orcamentária'!B32 -> SINAPI-94231 | C30: ='Planilha Orcamentária'!C32 -> RUFO EM CHAPA DE AÇO GALVANIZADO NÚMERO 24, CORTE DE 25 CM, INCLUSO TRANSPORTE VERTICAL. AF_07/2019 | D30: ='Planilha Orcamentária'!D32 -> M | E30: 19.22 | F30: 2*3,61+2*3+3*2=19,22
A31: ='Planilha Orcamentária'!A32 -> 2.21 | B31: ='Planilha Orcamentária'!B33 -> SINAPI-100860 | C31: ='Planilha Orcamentária'!C33 -> CHUVEIRO ELÉTRICO COMUM CORPO PLÁSTICO, TIPO DUCHA - FORNECIMENTO E INSTALAÇÃO. AF_01/2020 | D31: ='Planilha Orcamentária'!D33 -> UND | E31: 4 | F31: 4
A32: ='Planilha Orcamentária'!A33 -> 2.22 | B32: ='Planilha Orcamentária'!B34 -> SINAPI-86906 | C32: ='Planilha Orcamentária'!C34 -> TORNEIRA CROMADA DE MESA, 1/2" OU 3/4", PARA LAVATÓRIO, PADRÃO POPULAR - FORNECIMENTO E INSTALAÇÃO. AF_01/2020 | D32: ='Planilha Orcamentária'!D34 -> UND | E32: 2 | F32: 2
A33: ='Planilha Orcamentária'!A34 -> 2.23 | B33: ='Planilha Orcamentária'!B35 -> SINAPI-86904 | C33: ='Planilha Orcamentária'!C35 -> LAVATÓRIO LOUÇA BRANCA SUSPENSO, 29,5 X 39CM OU EQUIVALENTE, PADRÃO POPULAR - FORNECIMENTO E INSTALAÇÃO. AF_01/2020 | D33: ='Planilha Orcamentária'!D35 -> UND | E33: 2 | F33: 2
A34: ='Planilha Orcamentária'!A35 -> 2.24 | B34: ='Planilha Orcamentária'!B36 -> SINAPI-86888 | C34: ='Planilha Orcamentária'!C36 -> VASO SANITÁRIO SIFONADO COM CAIXA ACOPLADA LOUÇA BRANCA - FORNECIMENTO E INSTALAÇÃO. AF_01/2020 | D34: ='Planilha Orcamentária'!D36 -> UND | E34: 4 | F34: 2
A35: ='Planilha Orcamentária'!A36 -> 2.25 | B35: ='Planilha Orcamentária'!B37 -> SINAPI-89985 | C35: ='Planilha Orcamentária'!C37 -> REGISTRO DE PRESSÃO BRUTO, LATÃO, ROSCÁVEL, 3/4", COM ACABAMENTO E CANOPLA CROMADOS - FORNECIMENTO E INSTALAÇÃO. AF_08/2021 | D35: ='Planilha Orcamentária'!D37 -> UND | E35: 4 | F35: 4
A36: ='Planilha Orcamentária'!A37 -> 2.26 | B36: ='Planilha Orcamentária'!B38 -> ED-48172 | C36: ='Planilha Orcamentária'!C38 -> BEBEDOURO CONJUGADO DE COLUNA/PRESSÃO, TIPO ADULTO E INFANTIL COM ACABAMENTO EM PINTURA ELETROSTÁTICA, NA COR BRANCA, PRESSÃO DA REDE MÍNIMA REFERENCIAL DE 6M.C.A, INCLUSIVE ACESSÓRIOS | D36: ='Planilha Orcamentária'!D38 -> UND | E36: 1 | F36: 1
A37: ='Planilha Orcamentária'!A39 -> 3.0 | B37: ='Planilha Orcamentária'!B39 -> 0 | C37: ='Planilha Orcamentária'!C39 -> ARQUIBANCADA | D37: ='Planilha Orcamentária'!D39 -> 0
A38: ='Planilha Orcamentária'!A40 -> 3.1 | B38: ='Planilha Orcamentária'!B40 -> SINAPI-87289 | C38: ='Planilha Orcamentária'!C40 -> ARGAMASSA TRAÇO 1:1,5:7,5 (EM VOLUME DE CIMENTO, CAL E AREIA MÉDIA ÚMIDA) PARA EMBOÇO/MASSA ÚNICA/ASSENTAMENTO DE ALVENARIA DE VEDAÇÃO, PREPARO MECÂNICO COM BETONEIRA 400 L. AF_08/2019 | D38: ='Planilha Orcamentária'!D40 -> M³ | E38: 1 | F38: Extimado para regularização: 1m3
A39: ='Planilha Orcamentária'!A41 -> 3.2 | B39: ='Planilha Orcamentária'!B41 -> SINAPI-99857 | C39: ='Planilha Orcamentária'!C41 -> CORRIMÃO SIMPLES, DIÂMETRO EXTERNO = 1 1/2", EM ALUMÍNIO. AF_04/2019_PS | D39: ='Planilha Orcamentária'!D41 -> M | E39: 25.7 | F39: 25,70
A40: ='Planilha Orcamentária'!A42 -> 3.3 | B40: ='Planilha Orcamentária'!B42 -> SINAPI-88489 | C40: ='Planilha Orcamentária'!C42 -> PINTURA LÁTEX ACRÍLICA PREMIUM, APLICAÇÃO MANUAL EM PAREDES, DUAS DEMÃOS. AF_04/2023 | D40: ='Planilha Orcamentária'!D42 -> M² | E40: 280.96 | F40: 5*31,37+1,2*31,37+(1,8*31,37+10*3)= 280,96
A41: ='Planilha Orcamentária'!A43 -> 4.0 | B41: ='Planilha Orcamentária'!B43 -> 0 | C41: ='Planilha Orcamentária'!C43 -> INSTALAÇÃO ELÉTRICA | D41: ='Planilha Orcamentária'!D43 -> 0
A42: ='Planilha Orcamentária'!A44 -> 4.1 | B42: ='Planilha Orcamentária'!B44 -> SINAPI-101883 | C42: ='Planilha Orcamentária'!C44 -> QUADRO DE DISTRIBUIÇÃO DE ENERGIA EM CHAPA DE AÇO GALVANIZADO, DE EMBUTIR, COM BARRAMENTO TRIFÁSICO, PARA 18 DISJUNTORES DIN 100A - FORNECIMENTO E INSTALAÇÃO. AF_07/2025 | D42: ='Planilha Orcamentária'!D44 -> UND | E42: 1 | F42: 1
...

Sheet Cronograma
A2: CRONOGRAMA FÍSICO-FINANCEIRO
A3: ='Planilha Orcamentária'!A3 -> PREFEITURA MUNICIPAL DE INHAPIM-MG | C3: VALOR DO CONVÊNIO: | D3: =D18 -> 78694.645 | E3: DATA: | G3: 45989 | I3: FOLHA Nº:01/01
A4: ='Planilha Orcamentária'!A4 -> OBRA: REFORMA E OU MODERNIZAÇÃO DE VESTIÁRIO E ARQUIBANCADA MUNICIPIO DE INHAPIM/MG | E4: PREVISÃO DE EXECUÇÃO DAS OBRAS: 3 MESES
A5: ='Planilha Orcamentária'!A5 -> LOCAL: DISTRITO DE BOM JESUS DO RIO PRETO - INHAPIM/MG - CEP: 35330-000
A6: ITENS | B6: ETAPAS/DESCRIÇÃO | C6: FÍSICO/ FINANCEIRO | D6: TOTAL ETAPAS | E6: MÊS 1 | G6: MÊS 2 | I6: MÊS 3 | K6: MÊS 4
A7: 1.0 | B7: ='Planilha Orcamentária'!C10 -> SERVIÇOS PRELIMINARES | C7: Físico % | D7: =D8/$D$18 -> 0.019027724 | E7: 1
C8: Financeiro | D8: ='Planilha Orcamentária'!H10 -> 1497.38 | E8: =E7*$D$8 -> 1497.38
A9: 2.0 | B9: ='Planilha Orcamentária'!C12 -> REFORMA DO VESTIÁRIO | C9: Físico % | D9: =D10/D18 -> 0.77391843 | E9: 0.5 | G9: 0.5
C10: Financeiro | D10: ='Planilha Orcamentária'!H12 -> 60903.236 | E10: =E9*$D$10 -> 30451.618 | G10: =G9*$D$10 -> 30451.618
A11: ='Planilha Orcamentária'!A39 -> 3.0 | B11: ='Planilha Orcamentária'!C39 -> ARQUIBANCADA | C11: Físico % | D11: =D12/$D$18 -> 0.12169989 | G11: 1
C12: Financeiro | D12: ='Planilha Orcamentária'!H39 -> 9577.1294 | E12: =D12*$E$11 -> 0 | G12: =D12*$G$11 -> 9577.1294
A13: ='Planilha Orcamentária'!A43 -> 4.0 | B13: ='Planilha Orcamentária'!C43 -> INSTALAÇÃO ELÉTRICA | C13: Físico % | D13: =D14/$D$18 -> 0.071700842 | E13: 1
C14: Financeiro | D14: ='Planilha Orcamentária'!H43 -> 5642.4723 | E14: =E13*$D$14 -> 5642.4723
A15: ='Planilha Orcamentária'!A51 -> 5.0 | B15: ='Planilha Orcamentária'!C51 -> SERVIÇOS FINAIS | C15: Físico % | D15: =D16/$D$18 -> 0.013653117 | I15: 1
C16: Financeiro | D16: ='Planilha Orcamentária'!H51 -> 1074.4272 | I16: =D16*$I$15 -> 1074.4272
A17: TOTAL | C17: Físico % | D17: =SUM(D7+D9+D11+D13+D15) -> 1 | E17: =E18/D18 -> 0.47768778 | G17: =G18/$D$18 -> 0.5086591 | I17: =I18/$D$18 -> 0.013653117 | K17: =K18/$D$18 -> #REF!
C18: Financeiro | D18: =SUM(D8+D10+D12+D14+D16) -> 78694.645 | E18: =E8+E10+E12+E14+E16 -> 37591.47 | G18: =SUM(G8+G10+G12) -> 40028.747 | I18: =SUM(I8+I10+I12+I14+I16) -> 1074.4272 | K18: =#REF! -> #REF!
I19: Observações:
B22: ='Memória de Cálculo'!C59 -> Sebastião Barbosa Pinto Filho | L22: =SUM(E17:J17) -> 1
B23: ='Memória de Cálculo'!C60 -> CREA/MG Nº: MG 249.547/D | L23: =SUM(E18:J18) -> 78694.645
B26: ='Memória de Cálculo'!C64 -> Prefeito Municipal de Inhapim-MG
B27: ='Memória de Cálculo'!C65 -> Sandro Adriano Oliveira Silva

Sheet Memorial Descritivo
A2: MEMORIAL DESCRITIVO
A3: PREFEITURA MUNICIPAL DE INHAPIM-MG
A4: ='Planilha Orcamentária'!A4 -> OBRA: REFORMA E OU MODERNIZAÇÃO DE VESTIÁRIO E ARQUIBANCADA MUNICIPIO DE INHAPIM/MG | E4: FOLHA N º: | F4: 01/01.
A5: ='Planilha Orcamentária'!A5 -> LOCAL: DISTRITO DE BOM JESUS DO RIO PRETO - INHAPIM/MG - CEP: 35330-000 | E5: DATA: | F5: 45989
A7: ITEM | B7: CÓDIGO | C7: DESCRIÇÃO | D7: DETALHAMENTO
A8: 1.0 | C8: ='Planilha Orcamentária'!C10 -> SERVIÇOS PRELIMINARES
A9: ='Planilha Orcamentária'!A11 -> 1.1 | B9: ='Planilha Orcamentária'!B11 -> SINAPI-103689 | C9: ='Planilha Orcamentária'!C11 -> FORNECIMENTO E COLOCAÇÃO DE PLACA DE OBRA EM CHAPA GALVANIZADA #26, ESP. 0,45MM, DIMENSÃO (3X1,5)M, PLOTADA COM ADESIVO VINÍLICO, AFIXADA COM REBITES 4,8X40MM, EM ESTRUTURA METÁLICA DE METALON 20X20MM, ESP. 1,25MM, INCLUSIVE SUPORTE EM EUCALIPTO AUTOCLAVADO PINTADO COM TINTA PVA DUAS (2) DEMÃOS | D9: Para a execução da placa de obras a empresa ganhadora deverá atender a especificação do manual de placa de obra de acordo com a descrição e as especificações do CREA.
A10: ='Planilha Orcamentária'!A12 -> 2.0 | C10: ='Planilha Orcamentária'!C12 -> REFORMA DO VESTIÁRIO
A11: ='Planilha Orcamentária'!A13 -> 2.1 | B11: ='Planilha Orcamentária'!B13 -> SINAPI-97624 | C11: ='Planilha Orcamentária'!C13 -> DEMOLIÇÃO DE ALVENARIA DE TIJOLO MACIÇO, DE FORMA MANUAL, SEM REAPROVEITAMENTO. AF_09/2023 | D11: A demolição manual da alvenaria de tijolo maciço será realizada com marretas, talhadeiras e ponteiros, removendo os elementos de forma controlada. Os fragmentos serão coletados e transportados para descarte em caçambas, sem reaproveitamento. Todo o serviço seguirá normas de segurança e uso de EPIs..
A12: ='Planilha Orcamentária'!A14 -> 2.2 | B12: ='Planilha Orcamentária'!B14 -> SINAPI-97633 | C12: ='Planilha Orcamentária'!C14 -> DEMOLIÇÃO DE REVESTIMENTO CERÂMICO, DE FORMA MANUAL, SEM REAPROVEITAMENTO. AF_09/2023 | D12: A demolição manual do revestimento cerâmico será executada com talhadeira, ponteiro e martelo, destacando as peças sem danificar a alvenaria subjacente. Os fragmentos serão recolhidos e encaminhados para descarte em caçambas, sem reaproveitamento. Todo o procedimento seguirá normas de segurança e uso de EPIs.
A13: ='Planilha Orcamentária'!A15 -> 2.3 | B13: ='Planilha Orcamentária'!B15 -> SINAPI-100981 | C13: ='Planilha Orcamentária'!C15 -> CARGA, MANOBRA E DESCARGA DE ENTULHO EM CAMINHÃO BASCULANTE 6 M³ - CARGA COM ESCAVADEIRA HIDRÁULICA (CAÇAMBA DE 0,80 M³ / 111 HP) E DESCARGA LIVRE (UNIDADE: M3). AF_07/2020 | D13: A carga, manobra e descarga de entulho serão realizadas com escavadeira hidráulica de caçamba 0,80 m³ / 111 HP, transferindo os resíduos para caminhão basculante de 6 m³. O caminhão será manobrado até o ponto de descarga livre, garantindo transporte seguro e eficiente do material. Todo o procedimento seguirá normas de segurança e uso de EPIs.
A14: ='Planilha Orcamentária'!A16 -> 2.4 | B14: ='Planilha Orcamentária'!B16 -> SINAPI-103354 | C14: ='Planilha Orcamentária'!C16 -> ALVENARIA DE VEDAÇÃO DE BLOCOS CERÂMICOS FURADOS NA HORIZONTAL DE 11,5X14X24 CM (ESPESSURA 11,5 CM) E ARGAMASSA DE ASSENTAMENTO COM PREPARO EM BETONEIRA. AF_12/2021 | D14: A alvenaria de vedação com blocos cerâmicos furados de 11,5x14x24 cm será executada na horizontal, utilizando argamassa preparada em betoneira. Os blocos serão assentados de forma alinhada e nivelada, garantindo estabilidade e prumo da parede. O serviço seguirá normas técnicas, assegurando resistência, uniformidade e durabilidade da alvenaria.
A15: ='Planilha Orcamentária'!A17 -> 2.5 | B15: ='Planilha Orcamentária'!B17 -> SINAPI-87905 | C15: ='Planilha Orcamentária'!C17 -> CHAPISCO APLICADO EM ALVENARIA (COM PRESENÇA DE VÃOS) E ESTRUTURAS DE CONCRETO DE FACHADA, COM COLHER DE PEDREIRO. ARGAMASSA TRAÇO 1:3 COM PREPARO EM BETONEIRA 400L. AF_10/2022 | D15: O chapisco será aplicado manualmente com colher de pedreiro sobre alvenaria e estruturas de concreto de fachada, inclusive nas áreas com vãos. A argamassa, traço 1:3, será preparada mecanicamente em betoneira de 400 L, garantindo homogeneidade. A aplicação será uniforme, proporcionando aderência adequada para camadas subsequentes, seguindo normas técnicas e uso de EPIs.
A16: ='Planilha Orcamentária'!A18 -> 2.6 | B16: ='Planilha Orcamentária'!B18 -> SINAPI-87289 | C16: ='Planilha Orcamentária'!C18 -> ARGAMASSA TRAÇO 1:1,5:7,5 (EM VOLUME DE CIMENTO, CAL E AREIA MÉDIA ÚMIDA) PARA EMBOÇO/MASSA ÚNICA/ASSENTAMENTO DE ALVENARIA DE VEDAÇÃO, PREPARO MECÂNICO COM BETONEIRA 400 L. AF_08/2019 | D16: O emboço será aplicado manualmente em paredes internas com área superior a 10 m², utilizando argamassa traço 1:2:8 preparada mecanicamente. A camada terá espessura de 17,5 mm e será guiada por taliscas para garantir uniformidade e prumo. A superfície será limpa e umedecida antes da aplicação, seguindo normas técnicas e uso de EPIs, assegurando aderência, resistência e acabamento adequado.
A17: ='Planilha Orcamentária'!A19 -> 2.7 | B17: ='Planilha Orcamentária'!B19 -> SINAPI-87535 | C17: ='Planilha Orcamentária'!C19 -> EMBOÇO, EM ARGAMASSA TRAÇO 1:2:8, PREPARO MECÂNICO, APLICADO MANUALMENTE EM PAREDES INTERNAS DE AMBIENTES COM ÁREA MAIOR QUE 10M², E = 17,5MM, COM TALISCAS. AF_03/2024 | D17: A execução da ala de rede tubular DN 600 envolve a escavação e regularização da vala, assentamento dos tubos de concreto com alinhamento e vedação adequada e reaterro compactado. Conclui-se com a construção da ala em concreto, garantindo estabilidade e correto direcionamento do fluxo.
A18: ='Planilha Orcamentária'!A20 -> 2.8 | B18: ='Planilha Orcamentária'!B20 -> SINAPI-87248 | C18: ='Planilha Orcamentária'!C20 -> REVESTIMENTO CERÂMICO PARA PISO COM PLACAS TIPO ESMALTADA DE DIMENSÕES 35X35 CM APLICADA EM AMBIENTES DE ÁREA MAIOR QUE 10 M2. AF_02/2023_PE | D18: O revestimento cerâmico esmaltado de 35x35 cm será aplicado manualmente em pisos de ambientes com área superior a 10 m². O contrapiso será preparado, nivelado e umedecido antes da aplicação da argamassa de assentamento. As placas serão posicionadas com espaçamento uniforme e ajustadas para alinhamento e prumo, seguindo normas técnicas e uso de EPIs, garantindo acabamento durável e seguro.
A19: ='Planilha Orcamentária'!A21 -> 2.9 | B19: ='Planilha Orcamentária'!B21 -> SINAPI-88412 | C19: ='Planilha Orcamentária'!C21 -> APLICAÇÃO MANUAL DE FUNDO SELADOR ACRÍLICO EM PANOS CEGOS DE FACHADA (SEM PRESENÇA DE VÃOS) DE EDIFÍCIOS DE MÚLTIPLOS PAVIMENTOS. AF_03/2024 | D19: O fundo selador acrílico será aplicado manualmente em panos cegos de fachada de edifícios de múltiplos pavimentos, sem presença de vãos. A superfície será previamente limpa, seca e livre de impurezas para garantir aderência. A aplicação será uniforme com rolo ou pincel, seguindo normas técnicas e uso de EPIs, assegurando proteção, preparação adequada para pintura subsequente e durabilidade do acabamento.
A20: ='Planilha Orcamentária'!A22 -> 2.10 | B20: ='Planilha Orcamentária'!B22 -> SINAPI-88431 | C20: ='Planilha Orcamentária'!C22 -> APLICAÇÃO MANUAL DE PINTURA COM TINTA TEXTURIZADA ACRÍLICA EM PAREDES EXTERNAS DE CASAS, DUAS CORES. AF_03/2024 | D20: A pintura texturizada acrílica será aplicada manualmente em paredes externas de casas, utilizando duas cores conforme projeto. As superfícies serão previamente limpas, secas e preparadas para receber a tinta. A aplicação será uniforme com rolo ou pincel, seguindo normas técnicas e uso de EPIs, garantindo acabamento estético, durabilidade e proteção da fachada.
A21: ='Planilha Orcamentária'!A23 -> 2.11 | B21: ='Planilha Orcamentária'!B23 -> SINAPI-88488 | C21: ='Planilha Orcamentária'!C23 -> PINTURA LÁTEX ACRÍLICA PREMIUM, APLICAÇÃO MANUAL EM TETO, DUAS DEMÃOS. AF_04/2023 | D21: Será executada sobre base regularizada e compactada, com fôrmas de madeira niveladas e armadura conforme projeto estrutural. O concreto será dosado em traço estrutural adequado (fck ≥ 20 MPa), lançado e adensado mecanicamente para evitar vazios. Após o acabamento superficial, a viga será curada por umidade mínima de 7 dias, garantindo resistência e integridade do conjunto do pavimento intertravado.
A22: ='Planilha Orcamentária'!A24 -> 2.12 | B22: ='Planilha Orcamentária'!B24 -> SINAPI-87248 | C22: ='Planilha Orcamentária'!C24 -> REVESTIMENTO CERÂMICO PARA PISO COM PLACAS TIPO ESMALTADA DE DIMENSÕES 35X35 CM APLICADA EM AMBIENTES DE ÁREA MAIOR QUE 10 M2. AF_02/2023_PE | D22: O revestimento cerâmico esmaltado 35x35 cm é aplicado sobre contrapiso limpo e nivelado, com distribuição uniforme da argamassa colante. As peças são assentadas com espaçadores para garantir alinhamento e regularidade do rejunte. Após o tempo de cura, realiza-se o rejuntamento e a limpeza final, assegurando acabamento adequado e desempenho conforme especificações técnicas.
... A36: ='Planilha Orcamentária'!A38 -> 2.27 | B36: ='Planilha Orcamentária'!B38 -> ED-48172 | C36: ='Planilha Orcamentária'!C38 -> BEBEDOURO CONJUGADO DE COLUNA/PRESSÃO, TIPO ADULTO E INFANTIL COM ACABAMENTO EM PINTURA ELETROSTÁTICA, NA COR BRANCA, PRESSÃO DA REDE MÍNIMA REFERENCIAL DE 6M.C.A, INCLUSIVE ACESSÓRIOS | D36: Fornecimento e instalação de bebedouro conjugado de coluna/pressão, modelos adulto e infantil, com acabamento em pintura eletrostática na cor branca. Inclui montagem completa do equipamento, instalação dos acessórios, conexões à rede hidráulica e ajustes para funcionamento adequado. O sistema é dimensionado para pressão mínima de 6 m.c.a., garantindo desempenho e vazão conforme especificado.
A37: ='Planilha Orcamentária'!A39 -> 3.0 | C37: ='Planilha Orcamentária'!C39 -> ARQUIBANCADA
A38: ='Planilha Orcamentária'!A40 -> 3.1 | B38: ='Planilha Orcamentária'!B40 -> SINAPI-87289 | C38: ='Planilha Orcamentária'!C40 -> ARGAMASSA TRAÇO 1:1,5:7,5 (EM VOLUME DE CIMENTO, CAL E AREIA MÉDIA ÚMIDA) PARA EMBOÇO/MASSA ÚNICA/ASSENTAMENTO DE ALVENARIA DE VEDAÇÃO, PREPARO MECÂNICO COM BETONEIRA 400 L. AF_08/2019 | D38: Preparo mecânico, em betoneira 400 L, de argamassa no traço 1:1,5:7,5 (cimento, cal e areia média úmida), destinada ao emboço, massa única ou assentamento de alvenaria de vedação. Inclui dosagem, mistura homogênea dos materiais e fornecimento da argamassa pronta para aplicação. Serviço conforme especificações da AF_08/2019.
A39: ='Planilha Orcamentária'!A41 -> 3.2 | B39: ='Planilha Orcamentária'!B41 -> SINAPI-99857 | C39: ='Planilha Orcamentária'!C41 -> CORRIMÃO SIMPLES, DIÂMETRO EXTERNO = 1 1/2", EM ALUMÍNIO. AF_04/2019_PS | D39: Fornecimento e instalação de corrimão simples em alumínio, com diâmetro externo de 1 1/2", destinado à segurança e apoio dos usuários nas áreas do vestiário. Inclui corte, conformação, fixação em suportes adequados e verificação de estabilidade. Serviço executado conforme especificações da AF_04/2019_PS.
A40: ='Planilha Orcamentária'!A42 -> 3.3 | B40: ='Planilha Orcamentária'!B42 -> SINAPI-88489 | C40: ='Planilha Orcamentária'!C42 -> PINTURA LÁTEX ACRÍLICA PREMIUM, APLICAÇÃO MANUAL EM PAREDES, DUAS DEMÃOS. AF_04/2023 | D40: Aplicação manual de pintura látex acrílica premium em paredes internas do vestiário, com execução de duas demãos para cobertura uniforme e acabamento durável. Inclui preparação prévia da superfície, correções pontuais e limpeza final da área. Serviço conforme padrões e requisitos da AF_04/2023.
A41: ='Planilha Orcamentária'!A43 -> 4.0 | C41: ='Planilha Orcamentária'!C43 -> INSTALAÇÃO ELÉTRICA
A42: ='Planilha Orcamentária'!A44 -> 4.1 | B42: ='Planilha Orcamentária'!B44 -> SINAPI-101883 | C42: ='Planilha Orcamentária'!C44 -> QUADRO DE DISTRIBUIÇÃO DE ENERGIA EM CHAPA DE AÇO GALVANIZADO, DE EMBUTIR, COM BARRAMENTO TRIFÁSICO, PARA 18 DISJUNTORES DIN 100A - FORNECIMENTO E INSTALAÇÃO. AF_07/2025
A43: ='Planilha Orcamentária'!A45 -> 4.2 | B43: ='Planilha Orcamentária'!B45 -> SINAPI-97610 | C43: ='Planilha Orcamentária'!C45 -> LÂMPADA COMPACTA DE LED 10 W, BASE E27 - FORNECIMENTO E INSTALAÇÃO. AF_09/2024
A44: ='Planilha Orcamentária'!A46 -> 4.3 | B44: ='Planilha Orcamentária'!B46 -> SINAPI-92029 | C44: ='Planilha Orcamentária'!C46 -> INTERRUPTOR PARALELO (1 MÓDULO) COM 1 TOMADA DE EMBUTIR 2P+T 10 A, INCLUINDO SUPORTE E PLACA - FORNECIMENTO E INSTALAÇÃO. AF_03/2023
A45: ='Planilha Orcamentária'!A47 -> 4.4 | B45: ='Planilha Orcamentária'!B47 -> SINAPI-91925 | C45: ='Planilha Orcamentária'!C47 -> CABO DE COBRE FLEXÍVEL ISOLADO, 1,5 MM², ANTI-CHAMA 0,6/1,0 KV, PARA CIRCUITOS TERMINAIS - FORNECIMENTO E INSTALAÇÃO. AF_03/2023
A46: ='Planilha Orcamentária'!A48 -> 4.5 | B46: ='Planilha Orcamentária'!B48 -> SINAPI-91927 | C46: ='Planilha Orcamentária'!C48 -> CABO DE COBRE FLEXÍVEL ISOLADO, 2,5 MM², ANTI-CHAMA 0,6/1,0 KV, PARA CIRCUITOS TERMINAIS - FORNECIMENTO E INSTALAÇÃO. AF_03/2023
A47: ='Planilha Orcamentária'!A49 -> 4.6 | B47: ='Planilha Orcamentária'!B49 -> SINAPI-91929 | C47: ='Planilha Orcamentária'!C49 -> CABO DE COBRE FLEXÍVEL ISOLADO, 4 MM², ANTI-CHAMA 0,6/1,0 KV, PARA CIRCUITOS TERMINAIS - FORNECIMENTO E INSTALAÇÃO. AF_03/2023
A48: ='Planilha Orcamentária'!A51 -> 5.0 | C48: ='Planilha Orcamentária'!C51 -> SERVIÇOS FINAIS
A49: ='Planilha Orcamentária'!A52 -> 5.1 | B49: ='Planilha Orcamentária'!B52 -> ED-50266 | C49: ='Planilha Orcamentária'!C52 -> LIMPEZA FINAL PARA ENTREGA DA OBRA
C52: Nome do(a) Responsável Técnico(a)
C53: ='Planilha Orcamentária'!C56 -> Sebastião Barbosa Pinto Filho
C54: ='Planilha Orcamentária'!C57 -> CREA/MG Nº: MG 249.547/D
C59: Nome do(a) Prefeito(a) Municipal
C60: ='Memória de Cálculo'!C65 -> Sandro Adriano Oliveira Silva

Sheet BDI
A4: ='Planilha Orcamentária'!A4 -> OBRA: REFORMA E OU MODERNIZAÇÃO DE VESTIÁRIO E ARQUIBANCADA MUNICIPIO DE INHAPIM/MG
A5: ='Planilha Orcamentária'!A5 -> LOCAL: DISTRITO DE BOM JESUS DO RIO PRETO - INHAPIM/MG - CEP: 35330-000
A6: MUNICIPIO: INHAPIM/MG - CEP: 35330-000
A7: DATA: | B7: 45989
B9: DETALHAMENTO DE BDI
B11: ITEM COMPONENTE DO BDI | D11: %
B12: Administração Central | C12: AC | D12: 4.67 | H12: 0.038
B13: Seguro e Garantia | C13: SG | D13: 1.71 | H13: 0.0032
B14: Risco | C14: R | D14: 0.97 | H14: 0.005
B15: Despesas Financeiras | C15: DF | D15: 1.05 | H15: 0.0102
B16: Lucro | C16: L | D16: 7.53 | H16: 0.0664
B17: Tibutos ( Impostos COFINS, 3% E PIS 0,65) | C17: CP | D17: 7.15 | H17: 0.0365
B18: Tributos (ISS, variável de acordo com o município) | C18: ISS | D18: 3.5 | H18: 0.025
B19: Tributos (Contribuição Previdenciária - 0% ou 4,5%, conforme Lei 12.844/2013 - Desoneração) | C19: CPRB | D19: 3.6 | H19: 0
A23: BDI = [((1+AC + DF+RE+GA)*(1+DF)*(1+L)) /(1-CP-ISS-CPRB)]-1
C25: BDI= | D25: 0.20090303
C28: BDI = | D28: 0.2951
A39: ___________________________ Sebastião Barbosa Pinto Filho Engenheiro Civil Crea-MG 249.547/D
