Workbook
Name ___sub1: #REF!
Name ___sub2: #REF!
Name ___sub3: #REF!
Name _sub1: #REF!
Name _sub2: #REF!
Name _sub3: #REF!
Name a: #REF!
Name AREA: #REF!
Name B: #REF!
Name BDI: #REF!
Name DOLAR: [1]INSUMOS!$G$8
Name ersdcefgbrnghrbgbrgfbgfwbvbfgvwfv: #REF!
Name Excel_BuiltIn_Print_Area_2: #REF!
Name Excel_BuiltIn_Print_Area_2_1: #REF!
Name Excel_BuiltIn_Print_Area_2_1_1: #REF!
Name Excel_BuiltIn_Print_Area_2_1_1_1: #REF!
Name Excel_BuiltIn_Print_Area_4: #REF!
Name leosde: #REF!
Name NCOMPOSICOES: 7
Name NCOTACOES: 15
Name obra: #REF!
Name obra1: #REF!
Name obra2: #REF!
Name obra3: #REF!
Name obra4: #REF!
Name obra5: #REF!
Name P.1: #REF!
Name P.10: #REF!
Name P.11: #REF!
Name P.12: #REF!
Name P.13: #REF!
Name P.14: #REF!
Name P.15: #REF!
Name P.2: #REF!
Name P.3: #REF!
Name P.4: #REF!
Name P.5: #REF!
Name P.6: #REF!
Name P.7: #REF!
Name P.8: #REF!
Name P.9: #REF!
Name Pedreiro_de_acabamento: [1]INSUMOS!$B$11
Name PP1.1: #REF!
Name PP1.10: #REF!
Name PP1.11: #REF!
Name PP1.12: #REF!
Name PP1.13: #REF!
Name PP1.14: #REF!
Name PP1.15: #REF!
Name PP1.2: #REF!
Name PP1.3: #REF!
Name PP1.4: #REF!
Name PP1.5: #REF!
Name PP1.6: #REF!
Name PP1.7: #REF!
Name PP1.8: #REF!
Name PP1.9: #REF!
Name T.1: #REF!
Name T.10: #REF!
Name T.11: #REF!

Sheet Planilha Orcamentária
A2: PLANILHA ORÇAMENTÁRIA DE CUSTOS
A3: PREFEITURA MUNICIPAL DE INHAPIM-MG | F3: FOLHA N º: | H3: 01/01.
A4: OBRA: PAVIMENTAÇÃO DA SERRA DO PITA FOGO E SERRA DA VILA MARQUES | F4: DATA: | H4: =TODAY() -> 45996
A5: LOCAL: CÓRREGO PITA FOGO E VILA MARQUES - INHAPIM/MG - CEP: 35330-000 | F5: FORMA DE EXECUÇÃO:
A6: REGIÃO/MÊS DE REFERÊNCIA: SINAPI 08/2025 - SEM DESONERAÇÃO / SICRO MG 07/2025 | F6: ( ) | G6: DIRETA | H6: ( X ) | I6: INDIRETA
A7: COMPOSIÇÃO/DEMONSTRATIVO DE BDI - EM ANEXO | F7: % ISS MUNICIPAL: | G7: 0.05 | H7: BDI: | I7: 0.2122
A9: ITEM | C9: CÓDIGO | D9: DESCRIÇÃO | E9: UNIDADE | F9: QUANTIDADE | G9: PREÇO UNITÁRIO S/ BDI | H9: PREÇO UNITÁRIO C/ BDI | I9: PREÇO TOTAL
A10: 1.0 | D10: SERVIÇOS PRELIMINARES | H10: =ROUND(G10+(G10*$I$7),2) -> 0 | I10: =SUM(I11) -> 5468.58
A11: 1.1 | B11: SINAPI | C11: 103689 | D11: FORNECIMENTO E INSTALAÇÃO DE PLACA DE OBRA COM CHAPA GALVANIZADA E ESTRUTURA DE MADEIRA. AF_03/2022_PS | E11: M2 | F11: ='Memória de Cálculo'!D9 -> 9 | G11: 501.25 | H11: =ROUND(G11+(G11*$I$7),2) -> 607.62 | I11: =ROUND((F11*H11),2) -> 5468.58
A13: 2.0 | D13: ADMINISTRAÇÃO LOCAL | H13: =ROUND(G13+(G13*$I$7),2) -> 0 | I13: =SUM(I14) -> 32891.68
A14: 1.2 | B14: COMPOSIÇÃO | C14: =Composição!B19 -> 002 | D14: ADMINISTRAÇÃO LOCAL | F14: ='Memória de Cálculo'!D10 -> 1 | G14: =Composição!G19 -> 27133.87 | H14: =ROUND(G14+(G14*$I$7),2) -> 32891.68 | I14: =ROUND((F14*H14),2) -> 32891.68
F15: ='Memória de Cálculo'!D11 -> 0
A16: 3 | D16: SERRA DO PITA FOGO | F16: ='Memória de Cálculo'!D12 -> 0
A17: 3.1 | D17: DRENAGEM - SERRA PITA FOGO | F17: ='Memória de Cálculo'!D13 -> 0 | H17: =ROUND(G17+(G17*$I$7),2) -> 0 | I17: =SUM(I18:I26) -> 42094.96
A18: 3.1.1 | B18: SINAPI | C18: 90106 | D18: ESCAVAÇÃO MECANIZADA DE VALA COM PROFUNDIDADE ATÉ 1,5 M (MÉDIA MONTANTE E JUSANTE/UMA COMPOSIÇÃO POR TRECHO), RETROESCAV. (0,26 M3), LARGURA DE 0,8 M A 1,5 M, EM SOLO DE 1A CATEGORIA, LOCAIS COM BAIXO NÍVEL DE INTERFERÊNCIA. AF_02/2021 | E18: M3 | F18: ='Memória de Cálculo'!D14 -> 42 | G18: 8.87 | H18: =ROUND(G18+(G18*$I$7),2) -> 10.75 | I18: =ROUND((F18*H18),2) -> 451.5
A19: 3.1.2 | B19: SINAPI | C19: 101616 | D19: PREPARO DE FUNDO DE VALA COM LARGURA MENOR QUE 1,5 M (ACERTO DO SOLO NATURAL). AF_08/2020 | E19: M2 | F19: ='Memória de Cálculo'!D15 -> 29.2 | G19: 6.93 | H19: =ROUND(G19+(G19*$I$7),2) -> 8.4 | I19: =ROUND((F19*H19),2) -> 245.28
A20: 3.1.3 | B20: SINAPI | C20: 94974 | D20: CONCRETO MAGRO PARA LASTRO, TRAÇO 1:4,5:4,5 (EM MASSA SECA DE CIMENTO/ AREIA MÉDIA/ BRITA 1) - PREPARO MANUAL. AF_05/2021 | E20: M3 | F20: ='Memória de Cálculo'!D16 -> 0.952 | G20: 525.34 | H20: =ROUND(G20+(G20*$I$7),2) -> 636.82 | I20: =ROUND((F20*H20),2) -> 606.25
A21: 3.1.4 | B21: SINAPI | C21: 92210 | D21: TUBO DE CONCRETO PARA REDES COLETORAS DE ÁGUAS PLUVIAIS, DIÂMETRO DE 400 MM, JUNTA RÍGIDA, INSTALADO EM LOCAL COM BAIXO NÍVEL DE INTERFERÊNCIAS - FORNECIMENTO E ASSENTAMENTO. AF_12/2015 | E21: M | F21: ='Memória de Cálculo'!D17 -> 18 | G21: 161.23 | H21: =ROUND(G21+(G21*$I$7),2) -> 195.44 | I21: =ROUND((F21*H21),2) -> 3517.92
A22: 3.1.5 | B22: SINAPI | C22: 92214 | D22: TUBO DE CONCRETO PARA REDES COLETORAS DE ÁGUAS PLUVIAIS, DIÂMETRO DE 800 MM, JUNTA RÍGIDA, INSTALADO EM LOCAL COM BAIXO NÍVEL DE INTERFERÊNCIAS - FORNECIMENTO E ASSENTAMENTO. AF_12/2015 | E22: M | F22: ='Memória de Cálculo'!D18 -> 8 | G22: 482.62 | H22: =ROUND(G22+(G22*$I$7),2) -> 585.03 | I22: =ROUND((F22*H22),2) -> 4680.24
A23: 3.1.6 | B23: SINAPI | C23: 93378 | D23: REATERRO MECANIZADO DE VALA COM RETROESCAVADEIRA (CAPACIDADE DA CAÇAMBA DA RETRO: 0,26 M³ / POTÊNCIA: 88 HP), LARGURA ATÉ 0,8 M, PROFUNDIDADE ATÉ 1,5 M, COM SOLO DE 1ª CATEGORIA EM LOCAIS COM BAIXO NÍVEL DE INTERFERÊNCIA. AF_04/2016 | E23: M3 | F23: ='Memória de Cálculo'!D19 -> 37.96 | G23: 26.56 | H23: =ROUND(G23+(G23*$I$7),2) -> 32.2 | I23: =ROUND((F23*H23),2) -> 1222.31
A24: 3.1.7 | B24: SINAPI | C24: 97956 | D24: CAIXA PARA BOCA DE LOBO SIMPLES RETANGULAR, EM ALVENARIA COM BLOCOS DE CONCRETO, DIMENSÕES INTERNAS: 0,6X1X1,2 M. AF_12/2020 | E24: UN | F24: ='Memória de Cálculo'!D20 -> 2 | G24: 1653.73 | H24: =ROUND(G24+(G24*$I$7),2) -> 2004.65 | I24: =ROUND((F24*H24),2) -> 4009.3
A25: 3.1.8 | B25: SICRO | C25: 2003477 | D25: Caixa coletora de sarjeta - CCS 01 - com grelha de concreto - TCC 01 - areia e brita comerciais | E25: UN | F25: ='Memória de Cálculo'!D21 -> 2 | G25: 4684.88 | H25: =ROUND(G25+(G25*$I$7),2) -> 5679.01 | I25: =ROUND((F25*H25),2) -> 11358.02
A26: 3.1.9 | B26: SICRO | C26: 2003411 | D26: Descida d'água de aterros em degraus - DAD 04 - areia e brita comerciais | E26: M | F26: ='Memória de Cálculo'!D22 -> 17 | G26: 776.62 | H26: =ROUND(G26+(G26*$I$7),2) -> 941.42 | I26: =ROUND((F26*H26),2) -> 16004.14
A27: 3.2 | D27: PAVIMENTAÇÃO - SERRA PITA FOGO | F27: ='Memória de Cálculo'!D23 -> 0 | I27: =SUM(I28:I35) -> 499991.45
A28: 3.2.1 | B28: SINAPI | C28: 100576 | D28: REGULARIZAÇÃO E COMPACTAÇÃO DE SUBLEITO DE SOLO PREDOMINANTEMENTE ARGILOSO. AF_11/2019 | E28: M2 | F28: ='Memória de Cálculo'!D24 -> 4074.07 | G28: 2.86 | H28: =ROUND(G28+(G28*$I$7),2) -> 3.47 | I28: =ROUND((F28*H28),2) -> 14137.02
A29: 3.2.2 | B29: SINAPI | C29: 94273 | D29: ASSENTAMENTO DE GUIA (MEIO-FIO) EM TRECHO RETO, CONFECCIONADA EM CONCRETO PRÉ-FABRICADO, DIMENSÕES 100X15X13X30 CM (COMPRIMENTO X BASE INFERIOR X BASE SUPERIOR X ALTURA), PARA VIAS URBANAS (USO VIÁRIO). AF_06/2016 | E29: M | F29: ='Memória de Cálculo'!D25 -> 23.95 | G29: 64.41 | H29: =ROUND(G29+(G29*$I$7),2) -> 78.08 | I29: =ROUND((F29*H29),2) -> 1870.02
A30: 3.2.3 | B30: SINAPI | C30: 92394 | D30: EXECUÇÃO DE PAVIMENTO EM PISO INTERTRAVADO, COM BLOCO SEXTAVADO DE 25 X 25 CM, ESPESSURA 8 CM. AF_10/2022 | E30: M2 | F30: ='Memória de Cálculo'!D26 -> 3598.06 | G30: 98.8 | H30: =ROUND(G30+(G30*$I$7),2) -> 119.77 | I30: =ROUND((F30*H30),2) -> 430939.65
A31: 3.2.4 | B31: SINAPI | C31: 94287 | D31: EXECUÇÃO DE SARJETA DE CONCRETO USINADO, MOLDADO IN LOCO EM TRECHO RETO, 30 CM BASE X 10 CM | E31: M | F31: ='Memória de Cálculo'!D27 -> 471.29 | G31: 35.32 | H31: =ROUND(G31+(G31*$I$7),2) -> 42.81 | I31: =ROUND((F31*H31),2) -> 20175.92
A32: 3.2.5 | B32: SICRO | C32: 2003345 | D32: SARJETA EM V 60/20 EM CONCRETO USINADO, MOLDADO IN LOCO | E32: M | F32: ='Memória de Cálculo'!D28 -> 334.58 | G32: 56.6 | H32: =ROUND(G32+(G32*$I$7),2) -> 68.61 | I32: =ROUND((F32*H32),2) -> 22955.53
A33: 3.2.6 | B33: COMPOSIÇÃO | C33: =Composição!B12 -> 001 | D33: =Composição!C12 -> VIGA DE TRAVAMENTO EM CONCRETO ARMADO TAMANHO 15 X 30. | E33: M | F33: ='Memória de Cálculo'!D29 -> 60.09 | G33: =Composição!G12 -> 108.76697 | H33: =ROUND(G33+(G33*$I$7),2) -> 131.85 | I33: =ROUND((F33*H33),2) -> 7922.87
A34: 3.2.7 | B34: SICRO | C34: 5213440 | D34: Placa de regulamentação em aço D = 0,60 m - película retrorrefletiva tipo I + SI - fornecimento e implantação | E34: un | F34: ='Memória de Cálculo'!D30 -> 4 | G34: 279.08 | H34: =ROUND(G34+(G34*$I$7),2) -> 338.3 | I34: =ROUND((F34*H34),2) -> 1353.2
A35: 3.2.8 | B35: SICRO | C35: 5216111 | D35: Suporte para placa de sinalização em madeira de lei tratada 8 x 8 cm - fornecimento e implantação | E35: un | F35: ='Memória de Cálculo'!D31 -> 4 | G35: 131.42 | H35: =ROUND(G35+(G35*$I$7),2) -> 159.31 | I35: =ROUND((F35*H35),2) -> 637.24
D36: VALOR TOTAL DA SERRA DO PITA FOGO | F36: ='Memória de Cálculo'!D32 -> 0 | I36: =I27+I17 -> 542086.41
F37: ='Memória de Cálculo'!D33 -> 0
A38: 4 | D38: SERRA DA VILA MARQUES | F38: ='Memória de Cálculo'!D34 -> 0
A39: 4.1 | D39: RETALUDAMENTO - SERRA DA VILA MARQUES | F39: ='Memória de Cálculo'!D35 -> 0 | I39: =SUM(I40:I42) -> 127094.59
A40: 4.1.1 | B40: SINAPI | C40: 101244 | D40: ESCAVAÇÃO VERTICAL PARA INFRAESTRUTURA, COM CARGA, DESCARGA E TRANSPORTE DE SOLO DE 1ª CATEGORIA, COM ESCAVADEIRA HIDRÁULICA (CAÇAMBA: 1,2M³ / 155HP), FROTA DE 6 CAMINHÕES BASCULANTES DE 14 M³, DMT DE 1,5 KM E VELOCIDADE MÉDIA18 KM/H. AF_05/2020 | E40: M3 | F40: ='Memória de Cálculo'!D36 -> 6322.51 | G40: 16.24 | H40: =ROUND(G40+(G40*$I$7),2) -> 19.69 | I40: =ROUND((F40*H40),2) -> 124490.22
A41: 4.1.2 | B41: SICRO | C41: 2003933 | D41: Sarjeta trapezoidal sem revestimento - SZT 60-20 - escavação mecânica | E41: M | F41: ='Memória de Cálculo'!D37 -> 284.32 | G41: 7.56 | H41: =ROUND(G41+(G41*$I$7),2) -> 9.16 | I41: =ROUND((F41*H41),2) -> 2604.37
F42: ='Memória de Cálculo'!D38 -> 0 | H42: =ROUND(G42+(G42*$I$7),2) -> 0 | I42: =ROUND((F42*H42),2) -> 0
A43: 4.2 | D43: DRENAGEM - SERRA DA VILA MARQUES | F43: ='Memória de Cálculo'!D39 -> 0 | H43: =ROUND(G43+(G43*$I$7),2) -> 0 | I43: =SUM(I44:I53) -> 151089.23
...

Sheet Memória de Cálculo
A2: MEMÓRIA DE CÁLCULO DE QUANTITATIVOS
A3: PREFEITURA MUNICIPAL DE INHAPIM-MG
A4: ='Planilha Orcamentária'!A4:E4 -> OBRA: PAVIMENTAÇÃO DA SERRA DO PITA FOGO E SERRA DA VILA MARQUES | D4: FOLHA N º: | E4: 01/01.
A5: ='Planilha Orcamentária'!A5:E5 -> LOCAL: CÓRREGO PITA FOGO E VILA MARQUES - INHAPIM/MG - CEP: 35330-000 | D5: DATA: | E5: =TODAY() -> 45996
A7: ITEM | B7: DESCRIÇÃO | C7: UNIDADE | D7: QUANTIDADE | E7: FÓRMULA DO CÁLCULO
A8: ='Planilha Orcamentária'!A10 -> 1.0 | B8: ='Planilha Orcamentária'!D10 -> SERVIÇOS PRELIMINARES
A9: ='Planilha Orcamentária'!A11 -> 1.1 | B9: ='Planilha Orcamentária'!D11 -> FORNECIMENTO E INSTALAÇÃO DE PLACA DE OBRA COM CHAPA GALVANIZADA E ESTRUTURA DE MADEIRA. AF_03/2022_PS | C9: ='Planilha Orcamentária'!E11 -> M2 | D9: 9 | E9: Dimensões = 3,00 x 1,5 x 2 = 9,00m² | G9: =G48 -> 1210799.5
A10: ='Planilha Orcamentária'!A14 -> 1.2 | B10: ='Planilha Orcamentária'!D14 -> ADMINISTRAÇÃO LOCAL | D10: 1 | E10: conforme composição de custos
A11: ='Planilha Orcamentária'!A15 -> 0 | B11: ='Planilha Orcamentária'!D15 -> 0 | C11: ='Planilha Orcamentária'!E15 -> 0
A12: ='Planilha Orcamentária'!A16 -> 3 | B12: ='Planilha Orcamentária'!D16 -> SERRA DO PITA FOGO | C12: ='Planilha Orcamentária'!E16 -> 0
A13: ='Planilha Orcamentária'!A17 -> 3.1 | B13: ='Planilha Orcamentária'!D17 -> DRENAGEM - SERRA PITA FOGO | C13: ='Planilha Orcamentária'!E17 -> 0
A14: ='Planilha Orcamentária'!A18 -> 3.1.1 | B14: ='Planilha Orcamentária'!D18 -> ESCAVAÇÃO MECANIZADA DE VALA COM PROFUNDIDADE ATÉ 1,5 M (MÉDIA MONTANTE E JUSANTE/UMA COMPOSIÇÃO POR TRECHO), RETROESCAV. (0,26 M3), LARGURA DE 0,8 M A 1,5 M, EM SOLO DE 1A CATEGORIA, LOCAIS COM BAIXO NÍVEL DE INTERFERÊNCIA. AF_02/2021 | C14: ='Planilha Orcamentária'!E18 -> M3 | D14: =D17*1*1.4 + D18 * 1.4 * 1.5 -> 42 | E14: Comprimento da tubulação x (Ø do tubo + 0,60)] x Altura da escavação = 18,00*(0,40+0,60)*1,40 + 8,00 *(0,80+0,60) * 1, 5 = 42,00 m³ | G14: =D17*1.4*1.2*1 + D18 * 1.6 * 1.4 -> 48.16
A15: ='Planilha Orcamentária'!A19 -> 3.1.2 | B15: ='Planilha Orcamentária'!D19 -> PREPARO DE FUNDO DE VALA COM LARGURA MENOR QUE 1,5 M (ACERTO DO SOLO NATURAL). AF_08/2020 | C15: ='Planilha Orcamentária'!E19 -> M2 | D15: =D17 *1 + D18 *1.4 -> 29.2 | E15: Largura de escavação x Comprimento de tubulação = (1,00 x 18) + (1,40 x 8,00) = 29,20m²
A16: ='Planilha Orcamentária'!A20 -> 3.1.3 | B16: ='Planilha Orcamentária'!D20 -> CONCRETO MAGRO PARA LASTRO, TRAÇO 1:4,5:4,5 (EM MASSA SECA DE CIMENTO/ AREIA MÉDIA/ BRITA 1) - PREPARO MANUAL. AF_05/2021 | C16: ='Planilha Orcamentária'!E20 -> M3 | D16: =(D17*0.4 + D18*0.8) *0.07 -> 0.952 | E16: (Ø do tubo x Comprimento da tubulação x Altura do lastro: (18,00*0,4) *0,07 +( 8,00*0,8)*0,07= 0,95m³
A17: ='Planilha Orcamentária'!A21 -> 3.1.4 | B17: ='Planilha Orcamentária'!D21 -> TUBO DE CONCRETO PARA REDES COLETORAS DE ÁGUAS PLUVIAIS, DIÂMETRO DE 400 MM, JUNTA RÍGIDA, INSTALADO EM LOCAL COM BAIXO NÍVEL DE INTERFERÊNCIAS - FORNECIMENTO E ASSENTAMENTO. AF_12/2015 | C17: ='Planilha Orcamentária'!E21 -> M | D17: 18 | E17: Comprimeto dos trechos especificados no Projeto de drenagem = 7,00 + 7,00 + 2,00 + 2,00 = 18,00m
A18: ='Planilha Orcamentária'!A22 -> 3.1.5 | B18: ='Planilha Orcamentária'!D22 -> TUBO DE CONCRETO PARA REDES COLETORAS DE ÁGUAS PLUVIAIS, DIÂMETRO DE 800 MM, JUNTA RÍGIDA, INSTALADO EM LOCAL COM BAIXO NÍVEL DE INTERFERÊNCIAS - FORNECIMENTO E ASSENTAMENTO. AF_12/2015 | C18: ='Planilha Orcamentária'!E22 -> M | D18: 8 | E18: Comprimeto dos trechos especificados no Projeto de drenagem = 8,00m
A19: ='Planilha Orcamentária'!A23 -> 3.1.6 | B19: ='Planilha Orcamentária'!D23 -> REATERRO MECANIZADO DE VALA COM RETROESCAVADEIRA (CAPACIDADE DA CAÇAMBA DA RETRO: 0,26 M³ / POTÊNCIA: 88 HP), LARGURA ATÉ 0,8 M, PROFUNDIDADE ATÉ 1,5 M, COM SOLO DE 1ª CATEGORIA EM LOCAIS COM BAIXO NÍVEL DE INTERFERÊNCIA. AF_04/2016 | C19: ='Planilha Orcamentária'!E23 -> M3 | D19: =ROUND(D14-(0.4^2*3.1415*8 + 0.02^2*3.14159 *14),2) -> 37.96 | E19: 'Volume de escavação - Volume da Tubulação = 42,00-(0,4²x3,1415x8 + 0,02²x3,14159 x18 = 37,96m³
A20: ='Planilha Orcamentária'!A24 -> 3.1.7 | B20: ='Planilha Orcamentária'!D24 -> CAIXA PARA BOCA DE LOBO SIMPLES RETANGULAR, EM ALVENARIA COM BLOCOS DE CONCRETO, DIMENSÕES INTERNAS: 0,6X1X1,2 M. AF_12/2020 | C20: ='Planilha Orcamentária'!E24 -> UN | D20: 2 | E20: conforme projeto = 2 unid
A21: ='Planilha Orcamentária'!A25 -> 3.1.8 | B21: ='Planilha Orcamentária'!D25 -> Caixa coletora de sarjeta - CCS 01 - com grelha de concreto - TCC 01 - areia e brita comerciais | C21: ='Planilha Orcamentária'!E25 -> UN | D21: 2 | E21: conforme projeto = 2 unid
A22: ='Planilha Orcamentária'!A26 -> 3.1.9 | B22: ='Planilha Orcamentária'!D26 -> Descida d'água de aterros em degraus - DAD 04 - areia e brita comerciais | C22: ='Planilha Orcamentária'!E26 -> M | D22: 17 | E22: conforme projeto = 17 m
A23: ='Planilha Orcamentária'!A27 -> 3.2 | B23: ='Planilha Orcamentária'!D27 -> PAVIMENTAÇÃO - SERRA PITA FOGO | C23: ='Planilha Orcamentária'!E27 -> 0
A24: ='Planilha Orcamentária'!A28 -> 3.2.1 | B24: ='Planilha Orcamentária'!D28 -> REGULARIZAÇÃO E COMPACTAÇÃO DE SUBLEITO DE SOLO PREDOMINANTEMENTE ARGILOSO. AF_11/2019 | C24: ='Planilha Orcamentária'!E28 -> M2 | D24: 4074.07 | E24: Conforme software Auto CAD
A25: ='Planilha Orcamentária'!A29 -> 3.2.2 | B25: ='Planilha Orcamentária'!D29 -> ASSENTAMENTO DE GUIA (MEIO-FIO) EM TRECHO RETO, CONFECCIONADA EM CONCRETO PRÉ-FABRICADO, DIMENSÕES 100X15X13X30 CM (COMPRIMENTO X BASE INFERIOR X BASE SUPERIOR X ALTURA), PARA VIAS URBANAS (USO VIÁRIO). AF_06/2016 | C25: ='Planilha Orcamentária'!E29 -> M | D25: ='Memória Meio fio'!G8 -> 23.95 | E25: somatório de Meio fio Lado Esquerdo: 21,7+ 22,7+ 22,4 + 22,31 + 10,72 + 7,18 + 25,38 + 20,22 + 48,54 + 13,5 + 2,46 + 43,92 = 261,03 m Lado direito: 21,7 + 22,7 + 22,37 + 18,72 + 8,97 + 7,51 + 27,64 + 20,62 + 53,12 + 16,2 + 40,02 + 32,98 + 22,11 + 33,78 + 15,52 + 31,31 + 22,07 + 14,3 + 34,90 + 28,65 + 6,73 + 17,27 + 17,39 + 32,40 + 17,69 + 12,32 + 3,37 = 602,36m Lado Esquerdo perto da Ponte: 6,01 + 1,83 + 3,34 + 2,83 = 14,01m Lado Esquerdo antes da Ponte: 40,64 + 13,81 + 6,58 + 3,05 + 2,53 = 66,61m Lado direito antes da Ponte: 33,22 + 13,41 + 14,29 + 3,31 = 64,61m Total = 261,03 + 602,36 + 14,01 + 66,61 + 64,23 = 1008,24m | I25: =6.01+1.83+3.34+2.83 -> 14.01 | J25: =40.64+13.81+6.58+3.05+2.53 -> 66.61
A26: ='Planilha Orcamentária'!A30 -> 3.2.3 | B26: ='Planilha Orcamentária'!D30 -> EXECUÇÃO DE PAVIMENTO EM PISO INTERTRAVADO, COM BLOCO SEXTAVADO DE 25 X 25 CM, ESPESSURA 8 CM. AF_10/2022 | C26: ='Planilha Orcamentária'!E30 -> M2 | D26: 3598.06 | E26: Conforme software Auto CAD
A27: ='Planilha Orcamentária'!A31 -> 3.2.4 | B27: ='Planilha Orcamentária'!D31 -> EXECUÇÃO DE SARJETA DE CONCRETO USINADO, MOLDADO IN LOCO EM TRECHO RETO, 30 CM BASE X 10 CM | C27: ='Planilha Orcamentária'!E31 -> M | D27: 471.29 | E27: Lateral Esquerda: 21,7+ 22,7+ 22,4 + 22,31 + 10,72 + 7,18 + 25,38 + 20,22 + 48,54 + 13,5 + 2,46 + 43,92 = 261,03m Lateral Esquerda antes da Ponte: 40,64 + 13,81 + 6,58 + 3,05 = 64,08m Lateral Direita antes da Ponte: 33,22 + 13,41 + 14,29 = 60,29m Total = 261,03 +64,08+60,29 = 386,03m
A28: ='Planilha Orcamentária'!A32 -> 3.2.5 | B28: ='Planilha Orcamentária'!D32 -> SARJETA EM V 60/20 EM CONCRETO USINADO, MOLDADO IN LOCO | C28: ='Planilha Orcamentária'!E32 -> M | D28: 334.58 | E28: Somantorio de Sarjeta: 36,54 + 22,11 + 30,72 + 15,63+ 40,19+ 23,95+ 13,32+ 29,99 + 3,7 + 12,4 + 17,83 + 17,12 + 10,39 + 4,23 + 19,93 + 17,3 + 19,23 = 334,58m
A29: ='Planilha Orcamentária'!A33 -> 3.2.6 | B29: ='Planilha Orcamentária'!D33 -> VIGA DE TRAVAMENTO EM CONCRETO ARMADO TAMANHO 15 X 30. | C29: ='Planilha Orcamentária'!E33 -> M | D29: 60.09 | E29: Somatório de travamentos:4,4 + 5,1 + 5,06 + 5,4 + 5,4 + 5,4 + 5,4 + 5,4 + 5,7 + 3,71 + 3,72 + 5,4 = 60,09m
A30: ='Planilha Orcamentária'!A34 -> 3.2.7 | B30: ='Planilha Orcamentária'!D34 -> Placa de regulamentação em aço D = 0,60 m - película retrorrefletiva tipo I + SI - fornecimento e implantação | C30: ='Planilha Orcamentária'!E34 -> un | D30: =1+1+1+1 -> 4 | E30: somatório = 1 + 1 + 1+1 =4
A31: ='Planilha Orcamentária'!A35 -> 3.2.8 | B31: ='Planilha Orcamentária'!D35 -> Suporte para placa de sinalização em madeira de lei tratada 8 x 8 cm - fornecimento e implantação | C31: ='Planilha Orcamentária'!E35 -> un | D31: =1+1+1+1 -> 4 | E31: somatório = 1 + 1 + 1 +1=4
A33: ='Planilha Orcamentária'!A37 -> 0 | B33: ='Planilha Orcamentária'!D37 -> 0 | C33: ='Planilha Orcamentária'!E37 -> 0
A34: ='Planilha Orcamentária'!A38 -> 4 | B34: ='Planilha Orcamentária'!D38 -> SERRA DA VILA MARQUES | C34: ='Planilha Orcamentária'!E38 -> 0
A35: ='Planilha Orcamentária'!A39 -> 4.1 | B35: ='Planilha Orcamentária'!D39 -> RETALUDAMENTO - SERRA DA VILA MARQUES | C35: ='Planilha Orcamentária'!E39 -> 0
A36: ='Planilha Orcamentária'!A40 -> 4.1.1 | B36: ='Planilha Orcamentária'!D40 -> ESCAVAÇÃO VERTICAL PARA INFRAESTRUTURA, COM CARGA, DESCARGA E TRANSPORTE DE SOLO DE 1ª CATEGORIA, COM ESCAVADEIRA HIDRÁULICA (CAÇAMBA: 1,2M³ / 155HP), FROTA DE 6 CAMINHÕES BASCULANTES DE 14 M³, DMT DE 1,5 KM E VELOCIDADE MÉDIA18 KM/H. AF_05/2020 | C36: ='Planilha Orcamentária'!E40 -> M3 | D36: 6322.51 | E36: conforme projeto
A37: ='Planilha Orcamentária'!A41 -> 4.1.2 | B37: ='Planilha Orcamentária'!D41 -> Sarjeta trapezoidal sem revestimento - SZT 60-20 - escavação mecânica | C37: ='Planilha Orcamentária'!E41 -> M | D37: 284.32 | E37: Somatório das Sarjetas: 49,01 + 39,46 + 33,13 + 39,33 + 16,01 + 13,71 + 3,6 + 7,05 + 36,42 + 40,05 + 6,55 = 284,32m
A38: ='Planilha Orcamentária'!A42 -> 0 | B38: ='Planilha Orcamentária'!D42 -> 0 | C38: ='Planilha Orcamentária'!E42 -> 0
A39: ='Planilha Orcamentária'!A43 -> 4.2 | B39: ='Planilha Orcamentária'!D43 -> DRENAGEM - SERRA DA VILA MARQUES | C39: ='Planilha Orcamentária'!E43 -> 0
A40: ='Planilha Orcamentária'!A44 -> 4.2.1 | B40: ='Planilha Orcamentária'!D44 -> ESCAVAÇÃO MECANIZADA DE VALA COM PROFUNDIDADE ATÉ 1,5 M (MÉDIA MONTANTE E JUSANTE/UMA COMPOSIÇÃO POR TRECHO), RETROESCAV. (0,26 M3), LARGURA DE 0,8 M A 1,5 M, EM SOLO DE 1A CATEGORIA, LOCAIS COM BAIXO NÍVEL DE INTERFERÊNCIA. AF_02/2021 | C40: ='Planilha Orcamentária'!E44 -> M3 | D40: =D43*1.4*1 + D44 * 1.5 * 1.2 -> 363 | E40: Comprimento da tubulação x (Ø tubo + 0,60)] x Altura da escavação = 24,00*1,00*1,40 + 183,00 *1,2 * 1, 5 = 363,00 m³
A41: ='Planilha Orcamentária'!A45 -> 4.2.2 | B41: ='Planilha Orcamentária'!D45 -> PREPARO DE FUNDO DE VALA COM LARGURA MENOR QUE 1,5 M (ACERTO DO SOLO NATURAL). AF_08/2020 | C41: ='Planilha Orcamentária'!E45 -> M2 | D41: =D43 *1 + D44 *1.2 -> 243.6 | E41: Largura de escavação x Comprimento de tubulação + Área da vala existente = (1,00 x 24) + (1,20 x 183,00) = 243,60m²
A42: ='Planilha Orcamentária'!A46 -> 4.2.3 | B42: ='Planilha Orcamentária'!D46 -> CONCRETO MAGRO PARA LASTRO, TRAÇO 1:4,5:4,5 (EM MASSA SECA DE CIMENTO/ AREIA MÉDIA/ BRITA 1) - PREPARO MANUAL. AF_05/2021 | C42: ='Planilha Orcamentária'!E46 -> M3 | D42: =(D43*0.4 + D44*0.6) *0.07 -> 8.358 | E42: (Ø do tubo x Comprimento da tubulação x Altura do lastro: (24,00*0,4 + 183,00*0,6) *0,07 = 8,36m³
A43: ='Planilha Orcamentária'!A47 -> 4.2.4 | B43: ='Planilha Orcamentária'!D47 -> TUBO DE CONCRETO PARA REDES COLETORAS DE ÁGUAS PLUVIAIS, DIÂMETRO DE 400 MM, JUNTA RÍGIDA, INSTALADO EM LOCAL COM BAIXO NÍVEL DE INTERFERÊNCIAS - FORNECIMENTO E ASSENTAMENTO. AF_12/2015 | C43: ='Planilha Orcamentária'!E47 -> M | D43: 24 | E43: conforme projeto = 24m
...

Sheet Memória Meio fio
A1: Meio Fio Serra do pita Fogo | J1: Meio Fio Serra da Vila Marques | P1: Sarjeta trapezoidal
A2: Lado Esquerdo | B2: Lado direito | C2: Lado Esquerdo perto da ponte | D2: Lado Esquerdo antes da ponte | E2: Lado direito antes da ponte | G2: SARJETA 60-20 | J2: Lado Esquerdo | K2: Lado direito
A3: 21.7 | B3: 21.7 | C3: 6.01 | D3: 40.64 | E3: 33.22 | G3: 36.54 | J3: 15.01 | K3: 14.7 | P3: 49.01
A4: 22.7 | B4: 22.7 | C4: 1.83 | D4: 13.81 | E4: 13.41 | G4: 22.11 | J4: 40.75 | K4: 43.49 | M4: total | N4: =J15+K22 -> 675.94 | P4: 39.46
A5: 22.4 | B5: 22.37 | C5: 3.34 | D5: 6.58 | E5: 14.29 | G5: 30.72 | J5: 49.83 | K5: 1.83 | P5: 33.13
A6: 22.31 | B6: 18.72 | C6: 2.83 | D6: 3.05 | E6: 3.31 | G6: 15.63 | J6: 36.42 | K6: 3.53 | P6: 39.33
A7: 10.72 | B7: 8.97 | C7: =SUM(C3:C6) -> 14.01 | D7: 2.53 | E7: =SUM(E3:E6) -> 64.23 | G7: 40.19 | J7: 7.89 | K7: 3.59 | P7: 16.01
A8: 7.18 | B8: 7.51 | D8: =SUM(D3:D7) -> 66.61 | G8: 23.95 | J8: 3.6 | K8: 29.45 | P8: 13.71
A9: 25.38 | B9: 27.64 | G9: 13.32 | J9: 12.62 | K9: 36.42 | P9: 3.6
A10: 20.22 | B10: 20.62 | G10: 29.99 | J10: 16.01 | K10: 9.74 | P10: 7.05
A11: 48.54 | B11: 53.12 | G11: 3.7 | J11: 37.32 | K11: 3.6 | P11: 36.42
A12: 13.5 | B12: 16.2 | G12: 12.4 | J12: 33.13 | K12: 10.22 | P12: 40.05
A13: 2.46 | B13: 40.02 | G13: 17.83 | J13: 43.33 | K13: 16.01 | P13: 6.55
A14: 43.92 | B14: 32.98 | G14: 17.12 | J14: 49.01 | K14: 32.9 | P14: =SUM(P3:P13) -> 284.32
A15: =SUM(A3:A14) -> 261.03 | B15: 22.11 | G15: 10.39 | J15: =SUM(J3:J14) -> 344.92 | K15: 0.9
B16: 33.78 | G16: 4.23 | K16: 8.02
B17: 15.52 | D17: TOTAL MEIO FIO | E17: =A15+B30+C7+D8+E7 -> 1008.24 | G17: 19.93 | K17: 3.47
B18: 31.31 | G18: 17.3 | K18: 0.7
B19: 22.07 | G19: 19.23 | K19: 11.53
B20: 14.3 | G20: =SUM(G3:G19) -> 334.58 | K20: 51.91
B21: 34.9 | K21: 49.01
B22: 28.65 | K22: =SUM(K3:K21) -> 331.02
B23: 6.73
B24: 17.27
B25: 17.39
B26: 32.4
B27: 17.69
B28: 12.32
B29: 3.37
B30: =SUM(B3:B29) -> 602.36

Sheet Cronograma
A2: CRONOGRAMA FÍSICO-FINANCEIRO
A3: ='Planilha Orcamentária'!A3 -> PREFEITURA MUNICIPAL DE INHAPIM-MG | C3: VALOR DO CONVÊNIO: | D3: =D22 -> 1210799.5 | F3: DATA: | G3: =TODAY() -> 45996 | H3: FOLHA Nº: 01/01
A4: ='Planilha Orcamentária'!A4 -> OBRA: PAVIMENTAÇÃO DA SERRA DO PITA FOGO E SERRA DA VILA MARQUES | E4: PREVISÃO DE EXECUÇÃO DAS OBRAS: 4 MESES
A5: ='Planilha Orcamentária'!A5 -> LOCAL: CÓRREGO PITA FOGO E VILA MARQUES - INHAPIM/MG - CEP: 35330-000
A6: ITENS | B6: ETAPAS/DESCRIÇÃO | C6: FÍSICO/ FINANCEIRO | D6: TOTAL ETAPAS | E6: MÊS 1 | F6: MÊS 2 | G6: MÊS 3 | H6: MÊS 4
A7: ='Planilha Orcamentária'!A10 -> 1.0 | B7: ='Planilha Orcamentária'!D10 -> SERVIÇOS PRELIMINARES | C7: Físico % | D7: =D8/$D$22 -> 0.0045165034 | E7: 0.28 | F7: 0.24 | G7: 0.24 | H7: 0.24
C8: Financeiro | D8: ='Planilha Orcamentária'!I10 -> 5468.58 | E8: =$D$8*E7 -> 1531.2024 | F8: =$D$8*F7 -> 1312.4592 | G8: =$D$8*G7 -> 1312.4592 | H8: =$D$8*H7 -> 1312.4592
A9: ='Planilha Orcamentária'!A13 -> 2.0 | B9: ='Planilha Orcamentária'!D13 -> ADMINISTRAÇÃO LOCAL | C9: Físico % | D9: =D10/$D$22 -> 0.027165257 | E9: 0.1449 | F9: 0.2775 | G9: 0.427 | H9: 0.1506
C10: Financeiro | D10: ='Planilha Orcamentária'!I13 -> 32891.68 | E10: =$D$10*E9 -> 4766.0044 | F10: =$D$10*F9 -> 9127.4412 | G10: =$D$10*G9 -> 14044.747 | H10: =$D$10*H9 -> 4953.487
A11: ='Planilha Orcamentária'!A17 -> 3.1 | B11: ='Planilha Orcamentária'!D17 -> DRENAGEM - SERRA PITA FOGO | C11: Físico % | D11: =D12/$D$22 -> 0.034766252 | E11: 1 | H11: 0
C12: Financeiro | D12: ='Planilha Orcamentária'!I17 -> 42094.96 | E12: =$D$12*E11 -> 42094.96 | F12: =$D$12*F11 -> 0 | G12: =$D$12*G11 -> 0 | H12: =$D$12*H11 -> 0
A13: ='Planilha Orcamentária'!A27 -> 3.2 | B13: ='Planilha Orcamentária'!D27 -> PAVIMENTAÇÃO - SERRA PITA FOGO | C13: Físico % | D13: =D14/$D$22 -> 0.41294322 | F13: 0.5 | G13: 0.5
C14: Financeiro | D14: ='Planilha Orcamentária'!I27 -> 499991.45 | E14: =$D$14*E13 -> 0 | F14: =$D$14*F13 -> 249995.73 | G14: =$D$14*G13 -> 249995.73 | H14: =$D$14*H13 -> 0
A15: ='Planilha Orcamentária'!A39 -> 4.1 | B15: ='Planilha Orcamentária'!D39 -> RETALUDAMENTO - SERRA DA VILA MARQUES | C15: Físico % | D15: =D16/$D$22 -> 0.10496749 | E15: 1
C16: Financeiro | D16: ='Planilha Orcamentária'!I39 -> 127094.59 | E16: =$D$16*E15 -> 127094.59 | F16: =$D$16*F15 -> 0 | G16: =$D$16*G15 -> 0 | H16: =$D$16*H15 -> 0
A17: ='Planilha Orcamentária'!A43 -> 4.2 | B17: ='Planilha Orcamentária'!D43 -> DRENAGEM - SERRA DA VILA MARQUES | C17: Físico % | D17: =D18/$D$22 -> 0.12478468 | F17: 0.5 | G17: 0.5
C18: Financeiro | D18: ='Planilha Orcamentária'!I43 -> 151089.23 | E18: =$D$18*E17 -> 0 | F18: =$D$18*F17 -> 75544.615 | G18: =$D$18*G17 -> 75544.615 | H18: =$D$18*H17 -> 0
A19: ='Planilha Orcamentária'!A54 -> 4.3 | B19: ='Planilha Orcamentária'!D54 -> PAVIMENTAÇÃO - SERRA DA VILA MARQUES | C19: Físico % | D19: =D20/$D$22 -> 0.29085659 | G19: 0.5 | H19: 0.5
C20: Financeiro | D20: ='Planilha Orcamentária'!I54 -> 352169.01 | E20: =$D$20*E19 -> 0 | F20: =$D$20*F19 -> 0 | G20: =$D$20*G19 -> 176084.5 | H20: =$D$20*H19 -> 176084.5
A21: TOTAL: | C21: Físico % | D21: =D11+D19+D7+D13+D15+D17 -> 0.97283474 | E21: =E22/$D$22 -> 0.14493461 | F21: =F22/$D$22 -> 0.27748627 | G21: =G22/$D$22 -> 0.42697577 | H21: =H22/$D$22 -> 0.15060334
C22: Financeiro | D22: ='Planilha Orcamentária'!I65 -> 1210799.5 | E22: =E12+E20+E8+E14+E16+E18+E10 -> 175486.76 | F22: =F12+F20+F8+F14+F16+F18+F10 -> 335980.24 | G22: =G12+G20+G8+G14+G16+G18+G10 -> 516982.05 | H22: =H12+H20+H8+H14+H16+H18+H10 -> 182350.45 | I22: =E21+G21+H21 -> 0.72251373
H23: Observações: | I23: =E22+G22+H22 -> 874819.26

Sheet BDI
A4: OBRA: PAVIMENTAÇÃO DA SERRA DO CIRILO FELIPE
A5: LOCAL: SERRA DO PITA FOGO E SERRA DA VILA MARQUES
A6: MUNICIPIO: INHAPIM/MG - CEP: 35330-000
A7: DATA: | B7: =TODAY() -> 45996
B9: DETALHAMENTO DE BDI
B11: ITEM COMPONENTE DO BDI | D11: %
B12: Administração Central | C12: AC | D12: =H12*100 -> 3.8 | H12: 0.038
B13: Seguro e Garantia | C13: SG | D13: =H13*100 -> 0.32 | H13: 0.0032
B14: Risco | C14: R | D14: =H14*100 -> 0.5 | H14: 0.005
B15: Despesas Financeiras | C15: DF | D15: =H15*100 -> 1.02 | H15: 0.0102
B16: Lucro | C16: L | D16: =H16*100 -> 7.64 | H16: 0.0764
B17: Tibutos ( Impostos COFINS, 3% E PIS 0,65) | C17: CP | D17: =H17*100 -> 3.65 | H17: 0.0365
B18: Tributos (ISS, variável de acordo com o município) | C18: ISS | D18: =H18*100 -> 2.5 | H18: 0.025
B19: Tributos (Contribuição Previdenciária - 0% ou 4,5%, conforme Lei 12.844/2013 - Desoneração) | C19: CPRB | D19: =H19*100 -> 0 | H19: 0
A23: BDI = [((1+AC + DF+RE+GA)*(1+DF)*(1+L)) /(1-CP-ISS-CPRB)]-1
C25: BDI= | D25: =(((1+H12+H13+H14)*(1+H15)*(1+H16))/(1-H17-H18-H19))-1 -> 0.21216431
A39: _______________________________ CLAUDEMIR MÁXIMO DE SOUSA Engenheiro Civil Crea-MG 174.203/D

Sheet Composição
A4: OBRA: PAVIMENTAÇÃO DA RUA BEIRA-RIO
A5: =BDI!A5 -> LOCAL: SERRA DO PITA FOGO E SERRA DA VILA MARQUES
A6: =BDI!A6 -> MUNICIPIO: INHAPIM/MG - CEP: 35330-000
A7: DATA: | B7: =TODAY() -> 45996
A9: QUADRO DE COMPOSIÇÕES
A12: COMPOSIÇÃO | B12: 001 | C12: VIGA DE TRAVAMENTO EM CONCRETO ARMADO TAMANHO 15 X 30. | D12: M | F12: 0 | G12: =E13*G13+E14*G14+E15*G15+E16*G16+E17*G17 -> 108.76697
A13: SINAPI | B13: 94970 | C13: CONCRETO FCK = 20MPA, TRAÇO 1:2,7:3 (EM MASSA SECA DE CIMENTO/ AREIA MÉDIA/ BRITA 1) - PREPARO MECÂNICO COM BETONEIRA 600 L. AF_05/2021 | D13: M3 | E13: 0.045 | F13: 0 | G13: 534.8
A14: SINAPI | B14: 93358 | C14: ESCAVAÇÃO MANUAL DE VALA COM PROFUNDIDADE MENOR OU IGUAL A 1,30 M. AF_02/2021 | D14: M3 | E14: 0.045 | F14: 0 | G14: 89.55
A15: SINAPI | B15: 92802 | C15: CORTE E DOBRA DE AÇO CA-50, DIÂMETRO DE 8,0 MM. AF_06/2022 | D15: KG | E15: 2.212 | F15: 0 | G15: 9.56
A16: SINAPI | B16: 92800 | C16: CORTE E DOBRA DE AÇO CA-60, DIÂMETRO DE 5,0 MM. AF_06/2022 | D16: KG | E16: 1.078 | F16: 0 | G16: 9.75
A17: SINAPI | B17: 103796 | C17: FABRICAÇÃO, MONTAGEM E DESMONTAGEM DE FÔRMA PARA BACIA DE DISSIPAÇÃO, EM MADEIRA SERRADA, E = 25 MM, 2 UTILIZAÇÕES. AF_08/2022 | D17: M2 | E17: 0.84 | F17: 0 | G17: 58.35
A19: COMPOSIÇÃO | B19: 002 | C19: ADIMINISTAÇÃO LOCAL | D19: M | F19: 0 | G19: =E20*G20+E21*G21-0.05 -> 27133.87
A20: SINAPI | B20: 90779 | C20: ENGENHEIRO CIVIL DE OBRA SENIOR COM ENCARGOS COMPLEMENTARES | D20: HORA | E20: =16*4 -> 64 | F20: =IF(ISNUMBER($J20),VALUE(OFFSET([2]Banco!$A$1,[2]Composições!$L51-1,COLUMN([2]Composições!H51)-4)),0) -> 0 | G20: 169.23
A21: SINAPI | B21: 90776 | C21: ENCARREGADO GERAL DE OBRAS COM ENCARGOS COMPLEMENTARES | D21: HORA | E21: =60*4 -> 240 | F21: =IF(ISNUMBER($J21),VALUE(OFFSET([2]Banco!$A$1,[2]Composições!$L46-1,COLUMN([2]Composições!H46)-4)),0) -> 0 | G21: 67.93
A25: _________________________________
A26: Claudemir Máximo de Sousa
A27: CREA/MG Nº: MG 174.203/D
