Workbook
Name ___sub1: #REF!
Name ___sub2: #REF!
Name ___sub3: #REF!
Name _sub1: #REF!
Name _sub2: #REF!
Name _sub3: #REF!
Name a: #REF!
Name AREA: #REF!
Name B: #REF!
Name BDI: #REF!
Name DOLAR: [1]INSUMOS!$G$8
Name ersdcefgbrnghrbgbrgfbgfwbvbfgvwfv: #REF!
Name Excel_BuiltIn_Print_Area_2: #REF!
Name Excel_BuiltIn_Print_Area_2_1: #REF!
Name Excel_BuiltIn_Print_Area_2_1_1: #REF!
Name Excel_BuiltIn_Print_Area_2_1_1_1: #REF!
Name Excel_BuiltIn_Print_Area_4: #REF!
Name leosde: #REF!
Name NCOMPOSICOES: 7
Name NCOTACOES: 15
Name obra: #REF!
Name obra1: #REF!
Name obra2: #REF!
Name obra3: #REF!
Name obra4: #REF!
Name obra5: #REF!
Name P.1: #REF!
Name P.10: #REF!
Name P.11: #REF!
Name P.12: #REF!
Name P.13: #REF!
Name P.14: #REF!
Name P.15: #REF!
Name P.2: #REF!
Name P.3: #REF!
Name P.4: #REF!
Name P.5: #REF!
Name P.6: #REF!
Name P.7: #REF!
Name P.8: #REF!
Name P.9: #REF!
Name Pedreiro_de_acabamento: [1]INSUMOS!$B$11
Name PP1.1: #REF!
Name PP1.10: #REF!
Name PP1.11: #REF!
Name PP1.12: #REF!
Name PP1.13: #REF!
Name PP1.14: #REF!
Name PP1.15: #REF!
Name PP1.2: #REF!
Name PP1.3: #REF!
Name PP1.4: #REF!
Name PP1.5: #REF!
Name PP1.6: #REF!
Name PP1.7: #REF!
Name PP1.8: #REF!
Name PP1.9: #REF!
Name T.1: #REF!
Name T.10: #REF!
Name T.11: #REF!

Sheet Planilha Orcamentária
A2: PLANILHA ORÇAMENTÁRIA DE CUSTOS
A3: PREFEITURA MUNICIPAL DE INHAPIM-MG | E3: FOLHA N º: | G3: 01/01.
A4: OBRA: CALÇAMENTO DE BLOCOS DE CONCRETO SEXTAVADOS NA RUA HOLT DE PAULA VALVERDE, DISTRITO DE NOVO HORIZONTE | E4: DATA: | G4: 46111
A5: LOCAL: PERÍMETRO URBANO - INHAPIM/MG - CEP: 35330-000 | E5: FORMA DE EXECUÇÃO:
A6: REGIÃO/MÊS DE REFERÊNCIA: SINAPI 03/2026 - SEM DESONERAÇÃO - SICOR 01/2026 - | E6: ( ) | F6: DIRETA | G6: ( X ) | H6: INDIRETA
A7: COMPOSIÇÃO/DEMONSTRATIVO DE BDI - EM ANEXO | E7: % ISS MUNICIPAL: | F7: 0.05 | G7: BDI: | H7: =BDI!D34 -> 0.2449
A9: ITEM | B9: CÓDIGO | C9: DESCRIÇÃO | D9: UNIDADE | E9: QUANTIDADE | F9: PREÇO UNITÁRIO S/ BDI | G9: PREÇO UNITÁRIO C/ BDI | H9: PREÇO TOTAL
A10: 1.0 | C10: SERVIÇOS PRELIMINARES | H10: =H11 -> 1502.25
A11: 1.1 | B11: ED-28427 | C11: FORNECIMENTO E COLOCAÇÃO DE PLACA DE OBRA EM CHAPA GALVANIZADA #26, ESP. 0,45MM, DIMENSÃO (3X1,5) M, PLOTADA COM ADESIVO VINÍLICO, AFIXADA COM REBITES 4, 8X40MM, EM ESTRUTURA METÁLICA DE METALON 20X20MM, ESP. 1, 25MM, INCLUSIVE SUPORTE EM EUCALIPTO AUTOCLAVADO PINTADO COM TINTA PVA DUAS (2) DEMÃOS | D11: M² | E11: 1 | F11: 1206.72 | G11: =ROUND(F11+(F11*$H$7),2) -> 1502.25 | H11: =E11*G11 -> 1502.25
A12: 2.0 | C12: REDE PLUVIAL | H12: =SUM(H13:H15) -> 1681.3896
A13: 2.1 | B13: SINAPI-102312 | C13: ESCAVAÇÃO MECANIZADA DE VALA COM PROF. DE 3,0 M ATÉ 4,5 M (MÉDIA MONTANTE E JUSANTE/UMA COMPOSIÇÃO POR TRECHO), ESCAVADEIRA (1,2 M3), LARG. DE 1,5 M A 2,5 M, EM SOLO DE 2A CATEGORIA, EM LOCAIS COM ALTO NÍVEL DE INTERFERÊNCIA. AF_09/2024 | D13: M³ | E13: 1.92 | F13: 11.16 | G13: =ROUND(F13+(F13*$H$7),2) -> 13.89 | H13: =E13*G13 -> 26.6688 | K13: =H23*85% -> 107779.15
A14: 2.2 | B14: SINAPI-98409 | C14: ACRÉSCIMO PARA POÇO DE VISITA CIRCULAR PARA ESGOTO, EM CONCRETO PRÉ-MOLDADO, DIÂMETRO INTERNO = 0,8 M. AF_12/2020 | D14: M | E14: 3 | F14: 413.38 | G14: =ROUND(F14+(F14*$H$7),2) -> 514.62 | H14: =E14*G14 -> 1543.86
A15: 2.3 | B15: ED-51121 | C15: REATERRO MANUAL DE VALA, INCLUSIVE ESPALHAMENTO E COMPACTAÇÃO MECANIZADA COM PLACA VIBRATÓRIA | D15: M³ | E15: =E13 -> 1.92 | F15: 46.38 | G15: =ROUND(F15+(F15*$H$7),2) -> 57.74 | H15: =E15*G15 -> 110.8608
A16: 3.0 | C16: CALÇAMENTO DE VIA | H16: =SUM(H17:H22) -> 123615.36
A17: 3.1 | B17: SINAPI-100576 | C17: REGULARIZAÇÃO E COMPACTAÇÃO DE SUBLEITO DE SOLO PREDOMINANTEMENTE ARGILOSO, PARA OBRAS DE CONSTRUÇÃO DE PAVIMENTOS. AF_09/2024 | D17: M2 | E17: 662.22 | F17: 2.95 | G17: =ROUND(F17+(F17*$H$7),2) -> 3.67 | H17: =E17*G17 -> 2430.3474
A18: 3.2 | B18: SINAPI-94273 | C18: ASSENTAMENTO DE GUIA (MEIO-FIO) EM TRECHO RETO, CONFECCIONADA EM CONCRETO PRÉ-FABRICADO, DIMENSÕES 100X15X13X30 CM (COMPRIMENTO X BASE INFERIOR X BASE SUPERIOR X ALTURA), PARA VIAS URBANAS (USO VIÁRIO). AF_06/2016 | D18: M | E18: 203.38 | F18: 66.73 | G18: =ROUND(F18+(F18*$H$7),2) -> 83.07 | H18: =E18*G18 -> 16894.777
A19: 3.3 | B19: SINAPI-92394 | C19: EXECUÇÃO DE PAVIMENTO EM PISO INTERTRAVADO, COM BLOCO SEXTAVADO DE 25 X 25 CM, ESPESSURA 8 CM. AF_10/2022 | D19: M² | E19: 565.69 | F19: 104.11 | G19: =ROUND(F19+(F19*$H$7),2) -> 129.61 | H19: =E19*G19 -> 73319.081 | J19: 102.41 | K19: =J19*85% -> 87.0485
A20: 3.4 | B20: SINAPI-94287 | C20: EXECUÇÃO DE SARJETA DE CONCRETO USINADO, MOLDADA IN LOCO EM TRECHO RETO, 30 CM BASE X 10 CM ALTURA. AF_06/2016 | D20: M | E20: =E18 -> 203.38 | F20: 36.04 | G20: =ROUND(F20+(F20*$H$7),2) -> 44.87 | H20: =E20*G20 -> 9125.6606
A21: 3.5 | B21: SINAPI-95429 | C21: TRANSPORTE COM CAMINHÃO BASCULANTE DE 18 M³, EM VIA URBANA EM REVESTIMENTO PRIMÁRIO. AF_07/2020 | D21: TXKM | E21: ='Memória de Cálculo'!E19 -> 6535.32 | F21: 1.4 | G21: =ROUND(F21+(F21*$H$7),2) -> 1.74 | H21: =E21*G21 -> 11371.457
A22: 3.6 | B22: COMPOSIÇÃO-001 | C22: VIGA EM CONCRETO ARMADO (1,0M) | D22: M | E22: ='Memória de Cálculo'!E20 -> 26.06 | F22: =COMPOSIÇÃO!G11 -> 322.85533 | G22: =ROUND(F22+(F22*$H$7),2) -> 401.92 | H22: =E22*G22 -> 10474.035
C23: TOTAL | H23: =SUM(H10,H12,H16) -> 126799
C26: ='Memória de Cálculo'!C24 -> Sebastião Barbosa Pinto Filho
C27: ='Memória de Cálculo'!C25 -> CREA/MG Nº: MG 249.547/D
C30: Prefeito Municipal de Inhapim-MG
C31: ='Memória de Cálculo'!C30 -> Sandro Adriano Oliveira Silva

Sheet COMPOSIÇÃO
A4: ='Planilha Orcamentária'!A4 -> OBRA: CALÇAMENTO DE BLOCOS DE CONCRETO SEXTAVADOS NA RUA HOLT DE PAULA VALVERDE, DISTRITO DE NOVO HORIZONTE
A5: ='Planilha Orcamentária'!A5 -> LOCAL: PERÍMETRO URBANO - INHAPIM/MG - CEP: 35330-000
A6: MUNICIPIO: INHAPIM/MG - CEP: 35330-000
A7: DATA: | B7: 46111
A9: QUADRO DE COMPOSIÇÕES
A11: COMPOSIÇÃO | B11: 1 | C11: VIGA EM CONCRETO ARMADO (1,0M) | D11: M | F11: 0 | G11: =((G12*E12)+(G13*E13)+(G14*E14)+(G15*E15)+(G16*E16)) -> 322.85533
A12: SINAPI | B12: 94970 | C12: CONCRETO FCK = 20MPA, TRAÇO 1:2,7:3 (EM MASSA SECA DE CIMENTO/ AREIA MÉDIA/ BRITA 1) - PREPARO MECÂNICO COM BETONEIRA 600 L. AF_05/2021 | D12: M3 | E12: 0.114 | F12: 0 | G12: 535.4
A13: SINAPI | B13: 93358 | C13: ESCAVAÇÃO MANUAL DE VALA COM PROFUNDIDADE MENOR OU IGUAL A 1,30 M. AF_02/2021 | D13: M3 | E13: 0.09 | F13: 0 | G13: 89.55
A14: SINAPI | B14: 92802 | C14: CORTE E DOBRA DE AÇO CA-50, DIÂMETRO DE 8,0 MM. AF_06/2022 | D14: KG | E14: 0.325875 | F14: 0 | G14: 9.56
A15: SINAPI | B15: 92800 | C15: CORTE E DOBRA DE AÇO CA-60, DIÂMETRO DE 5,0 MM. AF_06/2022 | D15: KG | E15: 1 | F15: 0 | G15: 9.75
A16: SINAPI | B16: 103796 | C16: FABRICAÇÃO, MONTAGEM E DESMONTAGEM DE FÔRMA PARA BACIA DE DISSIPAÇÃO, EM MADEIRA SERRADA, E = 25 MM, 2 UTILIZAÇÕES. AF_08/2022 | D16: M2 | E16: 4.1235 | F16: 0 | G16: 58.42
A24: _________________________________
A25: Sebastião Barbosa Pinto Filho
A26: CREA/MG Nº: MG 249.547/D

Sheet Memória de Cálculo
A2: MEMÓRIA DE CÁLCULO DE QUANTITATIVOS
A3: PREFEITURA MUNICIPAL DE INHAPIM-MG
A4: ='Planilha Orcamentária'!A4 -> OBRA: CALÇAMENTO DE BLOCOS DE CONCRETO SEXTAVADOS NA RUA HOLT DE PAULA VALVERDE, DISTRITO DE NOVO HORIZONTE | E4: FOLHA N º: | F4: 01/01.
A5: ='Planilha Orcamentária'!A5 -> LOCAL: PERÍMETRO URBANO - INHAPIM/MG - CEP: 35330-000 | E5: DATA: | F5: 46111
A7: ITEM | B7: CÓDIGO | C7: DESCRIÇÃO | D7: UNIDADE | E7: QUANTIDADE | F7: FÓRMULA DO CÁLCULO
A8: 1 | C8: ='Planilha Orcamentária'!C10 -> SERVIÇOS PRELIMINARES
A9: 1.1 | B9: ='Planilha Orcamentária'!B11 -> ED-28427 | C9: ='Planilha Orcamentária'!C11 -> FORNECIMENTO E COLOCAÇÃO DE PLACA DE OBRA EM CHAPA GALVANIZADA #26, ESP. 0,45MM, DIMENSÃO (3X1,5) M, PLOTADA COM ADESIVO VINÍLICO, AFIXADA COM REBITES 4, 8X40MM, EM ESTRUTURA METÁLICA DE METALON 20X20MM, ESP. 1, 25MM, INCLUSIVE SUPORTE EM EUCALIPTO AUTOCLAVADO PINTADO COM TINTA PVA DUAS (2) DEMÃOS | D9: ='Planilha Orcamentária'!D11 -> M² | E9: ='Planilha Orcamentária'!E11 -> 1 | F9: placa de obra de acordo com as exisgências do CREA-MG
A10: 2.0 | C10: ='Planilha Orcamentária'!C12 -> REDE PLUVIAL
A11: 2.1 | B11: ='Planilha Orcamentária'!B13 -> SINAPI-102312 | C11: ='Planilha Orcamentária'!C13 -> ESCAVAÇÃO MECANIZADA DE VALA COM PROF. DE 3,0 M ATÉ 4,5 M (MÉDIA MONTANTE E JUSANTE/UMA COMPOSIÇÃO POR TRECHO), ESCAVADEIRA (1,2 M3), LARG. DE 1,5 M A 2,5 M, EM SOLO DE 2A CATEGORIA, EM LOCAIS COM ALTO NÍVEL DE INTERFERÊNCIA. AF_09/2024 | D11: ='Planilha Orcamentária'!D13 -> M³ | E11: ='Planilha Orcamentária'!E13 -> 1.92 | F11: Escavação de poço de Visita: ((0,80x0,80x1,00)x3,00)=1,92m³
A12: 2.2 | B12: ='Planilha Orcamentária'!B14 -> SINAPI-98409 | C12: ='Planilha Orcamentária'!C14 -> ACRÉSCIMO PARA POÇO DE VISITA CIRCULAR PARA ESGOTO, EM CONCRETO PRÉ-MOLDADO, DIÂMETRO INTERNO = 0,8 M. AF_12/2020 | D12: ='Planilha Orcamentária'!D14 -> M | E12: ='Planilha Orcamentária'!E14 -> 3 | F12: Acréscimo de poço de visita: (1,00+1,00+1,00)= 3,00 M
A13: 2.3 | B13: ='Planilha Orcamentária'!B15 -> ED-51121 | C13: ='Planilha Orcamentária'!C15 -> REATERRO MANUAL DE VALA, INCLUSIVE ESPALHAMENTO E COMPACTAÇÃO MECANIZADA COM PLACA VIBRATÓRIA | D13: ='Planilha Orcamentária'!D15 -> M³ | E13: ='Planilha Orcamentária'!E15 -> 1.92 | F13: Reaterro de poço de Visita; ((0,80x0,80x1,00)x3,00)=1,92m³
A14: ='Planilha Orcamentária'!A16 -> 3.0 | C14: ='Planilha Orcamentária'!C16 -> CALÇAMENTO DE VIA
A15: ='Planilha Orcamentária'!A17 -> 3.1 | B15: ='Planilha Orcamentária'!B17 -> SINAPI-100576 | C15: ='Planilha Orcamentária'!C17 -> REGULARIZAÇÃO E COMPACTAÇÃO DE SUBLEITO DE SOLO PREDOMINANTEMENTE ARGILOSO, PARA OBRAS DE CONSTRUÇÃO DE PAVIMENTOS. AF_09/2024 | D15: ='Planilha Orcamentária'!D17 -> M2 | E15: ='Planilha Orcamentária'!E17 -> 662.22 | F15: De acrodo com o projeto
A16: ='Planilha Orcamentária'!A18 -> 3.2 | B16: ='Planilha Orcamentária'!B18 -> SINAPI-94273 | C16: ='Planilha Orcamentária'!C18 -> ASSENTAMENTO DE GUIA (MEIO-FIO) EM TRECHO RETO, CONFECCIONADA EM CONCRETO PRÉ-FABRICADO, DIMENSÕES 100X15X13X30 CM (COMPRIMENTO X BASE INFERIOR X BASE SUPERIOR X ALTURA), PARA VIAS URBANAS (USO VIÁRIO). AF_06/2016 | D16: ='Planilha Orcamentária'!D18 -> M | E16: ='Planilha Orcamentária'!E18 -> 203.38 | F16: De acrodo com o projeto
A17: ='Planilha Orcamentária'!A19 -> 3.3 | B17: ='Planilha Orcamentária'!B19 -> SINAPI-92394 | C17: ='Planilha Orcamentária'!C19 -> EXECUÇÃO DE PAVIMENTO EM PISO INTERTRAVADO, COM BLOCO SEXTAVADO DE 25 X 25 CM, ESPESSURA 8 CM. AF_10/2022 | D17: ='Planilha Orcamentária'!D19 -> M² | E17: ='Planilha Orcamentária'!E19 -> 565.69 | F17: De acrodo com o projeto
A18: ='Planilha Orcamentária'!A20 -> 3.4 | B18: ='Planilha Orcamentária'!B20 -> SINAPI-94287 | C18: ='Planilha Orcamentária'!C20 -> EXECUÇÃO DE SARJETA DE CONCRETO USINADO, MOLDADA IN LOCO EM TRECHO RETO, 30 CM BASE X 10 CM ALTURA. AF_06/2016 | D18: ='Planilha Orcamentária'!D20 -> M | E18: ='Planilha Orcamentária'!E20 -> 203.38 | F18: De acrodo com o projeto
A19: ='Planilha Orcamentária'!A21 -> 3.5 | B19: ='Planilha Orcamentária'!B21 -> SINAPI-95429 | C19: ='Planilha Orcamentária'!C21 -> TRANSPORTE COM CAMINHÃO BASCULANTE DE 18 M³, EM VIA URBANA EM REVESTIMENTO PRIMÁRIO. AF_07/2020 | D19: ='Planilha Orcamentária'!D21 -> TXKM | E19: 6535.32 | F19: Peso do bloquete = (Área do calçamento x espessura do bloquete x massa específica) 1000 x km; Peso do meio-fio = {[(B+b)/2xhxH] x massa específica}/1000 x km; [662,22x0,08x2400)/1000]x51,40 =6.535,32 TXKM
A20: ='Planilha Orcamentária'!A22 -> 3.6 | B20: ='Planilha Orcamentária'!B22 -> COMPOSIÇÃO-001 | C20: ='Planilha Orcamentária'!C22 -> VIGA EM CONCRETO ARMADO (1,0M) | D20: ='Planilha Orcamentária'!D22 -> M | E20: 26.06 | F20: Somatória dos meios-fios (bordas) = 26,06 m
A21: ='Planilha Orcamentária'!A23 -> 0 | B21: ='Planilha Orcamentária'!B23 -> 0 | C21: ='Planilha Orcamentária'!C23 -> TOTAL
C24: Sebastião Barbosa Pinto Filho
C25: CREA/MG Nº: MG 249.547/D
C29: Prefeito Municipal de Inhapim-MG
C30: Sandro Adriano Oliveira Silva

Sheet Cronograma
A2: CRONOGRAMA FÍSICO-FINANCEIRO
A3: ='Planilha Orcamentária'!A3 -> PREFEITURA MUNICIPAL DE INHAPIM-MG | C3: VALOR DO CONVÊNIO: | D3: =D14 -> 126799 | E3: DATA: | G3: 46111 | I3: FOLHA Nº:01/01
A4: ='Planilha Orcamentária'!A4 -> OBRA: CALÇAMENTO DE BLOCOS DE CONCRETO SEXTAVADOS NA RUA HOLT DE PAULA VALVERDE, DISTRITO DE NOVO HORIZONTE | E4: PREVISÃO DE EXECUÇÃO DAS OBRAS: 3 MESES
A5: ='Planilha Orcamentária'!A5 -> LOCAL: PERÍMETRO URBANO - INHAPIM/MG - CEP: 35330-000
A6: ITENS | B6: ETAPAS/DESCRIÇÃO | C6: FÍSICO/ FINANCEIRO | D6: TOTAL ETAPAS | E6: MÊS 1 | G6: MÊS 2 | I6: MÊS 3 | K6: MÊS 4
A7: 1.0 | B7: ='Planilha Orcamentária'!C10 -> SERVIÇOS PRELIMINARES | C7: Físico % | D7: =D8/$D$14 -> 0.011847491 | E7: 1
C8: Financeiro | D8: ='Planilha Orcamentária'!H10 -> 1502.25 | E8: =E7*$D$8 -> 1502.25
A9: ='Planilha Orcamentária'!A12 -> 2.0 | B9: ='Planilha Orcamentária'!C12 -> REDE PLUVIAL | C9: Físico % | D9: =D10/$D$14 -> 0.013260275 | E9: 1
C10: Financeiro | D10: ='Planilha Orcamentária'!H12 -> 1681.3896 | E10: =D10*E9 -> 1681.3896 | G10: =D10*G9 -> 0 | I10: =D10*I9 -> 0
A11: ='Planilha Orcamentária'!A16 -> 3.0 | B11: ='Planilha Orcamentária'!C16 -> CALÇAMENTO DE VIA | C11: Físico % | D11: =D12/$D$14 -> 0.97489223 | E11: 0.25 | G11: 0.5 | I11: 0.25
C12: Financeiro | D12: ='Planilha Orcamentária'!H16 -> 123615.36 | E12: =D12*$E$11 -> 30903.839 | G12: =D12*$G$11 -> 61807.679 | I12: =D12*$I$11 -> 30903.839
A13: TOTAL | C13: Físico % | D13: =SUM(D7+D9+D11) -> 1 | E13: =E14/D14 -> 0.26883082 | G13: =G14/$D$14 -> 0.48744612 | I13: =I14/$D$14 -> 0.24372306 | K13: =K14/$D$14 -> #REF!
C14: Financeiro | D14: =SUM(D8+D10+D12) -> 126799 | E14: =(E8+E10+E12) -> 34087.479 | G14: =SUM(G8+G10+G12) -> 61807.679 | I14: =SUM(I8+I10+I12) -> 30903.839 | K14: =#REF! -> #REF!
I15: Observações:
B18: ='Memória de Cálculo'!C24 -> Sebastião Barbosa Pinto Filho | L18: =SUM(E13:J13) -> 1
B19: ='Memória de Cálculo'!C25 -> CREA/MG Nº: MG 249.547/D | L19: =SUM(E14:J14) -> 126799
B22: ='Memória de Cálculo'!C29 -> Prefeito Municipal de Inhapim-MG
B23: ='Memória de Cálculo'!C30 -> Sandro Adriano Oliveira Silva

Sheet Memorial Descritivo
A2: MEMORIAL DESCRITIVO
A3: PREFEITURA MUNICIPAL DE INHAPIM-MG
A4: ='Planilha Orcamentária'!A4 -> OBRA: CALÇAMENTO DE BLOCOS DE CONCRETO SEXTAVADOS NA RUA HOLT DE PAULA VALVERDE, DISTRITO DE NOVO HORIZONTE | E4: FOLHA N º: | F4: 01/01.
A5: ='Planilha Orcamentária'!A5 -> LOCAL: PERÍMETRO URBANO - INHAPIM/MG - CEP: 35330-000 | E5: DATA: | F5: 46111
A7: ITEM | B7: CÓDIGO | C7: DESCRIÇÃO | D7: DETALHAMENTO
A8: 1.0 | C8: ='Planilha Orcamentária'!C10 -> SERVIÇOS PRELIMINARES
A9: ='Planilha Orcamentária'!A11 -> 1.1 | B9: ='Planilha Orcamentária'!B11 -> ED-28427 | C9: ='Planilha Orcamentária'!C11 -> FORNECIMENTO E COLOCAÇÃO DE PLACA DE OBRA EM CHAPA GALVANIZADA #26, ESP. 0,45MM, DIMENSÃO (3X1,5) M, PLOTADA COM ADESIVO VINÍLICO, AFIXADA COM REBITES 4, 8X40MM, EM ESTRUTURA METÁLICA DE METALON 20X20MM, ESP. 1, 25MM, INCLUSIVE SUPORTE EM EUCALIPTO AUTOCLAVADO PINTADO COM TINTA PVA DUAS (2) DEMÃOS | D9: Para a execução da placa de obras a empresa ganhadora deverá atender a especificação do manual de placa de obra de acordo com a descrição e as especificações do CREA.
A10: ='Planilha Orcamentária'!A12 -> 2.0 | C10: ='Planilha Orcamentária'!C12 -> REDE PLUVIAL
A11: ='Planilha Orcamentária'!A13 -> 2.1 | B11: ='Planilha Orcamentária'!B13 -> SINAPI-102312 | C11: ='Planilha Orcamentária'!C13 -> ESCAVAÇÃO MECANIZADA DE VALA COM PROF. DE 3,0 M ATÉ 4,5 M (MÉDIA MONTANTE E JUSANTE/UMA COMPOSIÇÃO POR TRECHO), ESCAVADEIRA (1,2 M3), LARG. DE 1,5 M A 2,5 M, EM SOLO DE 2A CATEGORIA, EM LOCAIS COM ALTO NÍVEL DE INTERFERÊNCIA. AF_09/2024 | D11: Escavação realizada com equipamento mecânico (ex.: retroescavadeira), abrindo valas com profundidade entre 1,50 m e 3,00 m conforme dimensões do projeto. O material escavado é carregado diretamente em caminhão para remoção, não incluindo transporte e descarga.
A12: ='Planilha Orcamentária'!A14 -> 2.2 | B12: ='Planilha Orcamentária'!B14 -> SINAPI-98409 | C12: ='Planilha Orcamentária'!C14 -> ACRÉSCIMO PARA POÇO DE VISITA CIRCULAR PARA ESGOTO, EM CONCRETO PRÉ-MOLDADO, DIÂMETRO INTERNO = 0,8 M. AF_12/2020 | D12: Execução de acréscimo em poço de visita de esgoto circular (Ø 0,80 m) com anéis pré-moldados, incluindo escavação complementar, assentamento, alinhamento e vedação das juntas. Finaliza-se com reaterro compactado e recomposição da superfície, garantindo a estanqueidade e o funcionamento hidráulico adequado.
A13: ='Planilha Orcamentária'!A15 -> 2.3 | B13: ='Planilha Orcamentária'!B15 -> ED-51121 | C13: ='Planilha Orcamentária'!C15 -> REATERRO MANUAL DE VALA, INCLUSIVE ESPALHAMENTO E COMPACTAÇÃO MECANIZADA COM PLACA VIBRATÓRIA | D13: Execução de reaterro manual de vala com reaproveitamento ou substituição de material, realizando espalhamento em camadas. Inclui compactação mecanizada com placa vibratória para garantir a adequada densificação do solo.
A14: ='Planilha Orcamentária'!A16 -> 3.0 | C14: ='Planilha Orcamentária'!C16 -> CALÇAMENTO DE VIA
A15: ='Planilha Orcamentária'!A17 -> 3.1 | B15: ='Planilha Orcamentária'!B17 -> SINAPI-100576 | C15: ='Planilha Orcamentária'!C17 -> REGULARIZAÇÃO E COMPACTAÇÃO DE SUBLEITO DE SOLO PREDOMINANTEMENTE ARGILOSO, PARA OBRAS DE CONSTRUÇÃO DE PAVIMENTOS. AF_09/2024 | D15: Executa-se a regularização do terreno e compactação mecânica com rolo vibratório, garantindo uniformidade e densidade adequada.
A16: ='Planilha Orcamentária'!A18 -> 3.2 | B16: ='Planilha Orcamentária'!B18 -> SINAPI-94273 | C16: ='Planilha Orcamentária'!C18 -> ASSENTAMENTO DE GUIA (MEIO-FIO) EM TRECHO RETO, CONFECCIONADA EM CONCRETO PRÉ-FABRICADO, DIMENSÕES 100X15X13X30 CM (COMPRIMENTO X BASE INFERIOR X BASE SUPERIOR X ALTURA), PARA VIAS URBANAS (USO VIÁRIO). AF_06/2016 | D16: Executa-se a abertura de vala, preparação da base e assentamento das guias pré-fabricadas 100x15x13x30 cm, garantindo alinhamento e nivelamento conforme projeto viário.
A17: ='Planilha Orcamentária'!A19 -> 3.3 | B17: ='Planilha Orcamentária'!B19 -> SINAPI-92394 | C17: ='Planilha Orcamentária'!C19 -> EXECUÇÃO DE PAVIMENTO EM PISO INTERTRAVADO, COM BLOCO SEXTAVADO DE 25 X 25 CM, ESPESSURA 8 CM. AF_10/2022 | D17: Prepara-se a base compactada e regularizada, seguida do assentamento dos blocos sextavados 25x25 cm, 8 cm de espessura, garantindo alinhamento e nivelamento do pavimento.
A18: ='Planilha Orcamentária'!A20 -> 3.4 | B18: ='Planilha Orcamentária'!B20 -> SINAPI-94287 | C18: ='Planilha Orcamentária'!C20 -> EXECUÇÃO DE SARJETA DE CONCRETO USINADO, MOLDADA IN LOCO EM TRECHO RETO, 30 CM BASE X 10 CM ALTURA. AF_06/2016 | D18: Prepara-se a base e executa-se a moldagem in loco da sarjeta de concreto 30x10 cm, garantindo alinhamento, nivelamento e acabamento conforme projeto.
A19: ='Planilha Orcamentária'!A21 -> 3.5 | B19: ='Planilha Orcamentária'!B21 -> SINAPI-95429 | C19: ='Planilha Orcamentária'!C21 -> TRANSPORTE COM CAMINHÃO BASCULANTE DE 18 M³, EM VIA URBANA EM REVESTIMENTO PRIMÁRIO. AF_07/2020 | D19: Realiza-se o carregamento e transporte do material com caminhão basculante de 18 m³, circulando sobre via urbana com revestimento primário, garantindo segurança e fluxo adequado.
A20: ='Planilha Orcamentária'!A22 -> 3.6 | B20: ='Planilha Orcamentária'!B22 -> COMPOSIÇÃO-001 | C20: ='Planilha Orcamentária'!C22 -> VIGA EM CONCRETO ARMADO (1,0M) | D20: Será executada sobre base regularizada e compactada, com fôrmas de madeira niveladas e armadura conforme projeto estrutural. O concreto será dosado em traço estrutural adequado (fck ≥ 20 MPa), lançado e adensado mecanicamente para evitar vazios. Após o acabamento superficial, a viga será curada por umidade mínima de 7 dias, garantindo resistência e integridade do conjunto do pavimento intertravado.
C23: Nome do(a) Responsável Técnico(a)
C24: ='Planilha Orcamentária'!C26 -> Sebastião Barbosa Pinto Filho
C25: ='Planilha Orcamentária'!C27 -> CREA/MG Nº: MG 249.547/D
C30: Nome do(a) Prefeito(a) Municipal
C31: ='Memória de Cálculo'!C30 -> Sandro Adriano Oliveira Silva

Sheet BDI
A4: ='Planilha Orcamentária'!A4 -> OBRA: CALÇAMENTO DE BLOCOS DE CONCRETO SEXTAVADOS NA RUA HOLT DE PAULA VALVERDE, DISTRITO DE NOVO HORIZONTE
A5: ='Planilha Orcamentária'!A5 -> LOCAL: PERÍMETRO URBANO - INHAPIM/MG - CEP: 35330-000
A6: MUNICIPIO: INHAPIM/MG - CEP: 35330-000
A7: DATA: | B7: 46111
H12: 0.038
H13: 0.0032
H14: 0.005
H15: 0.0102
H16: 0.0664
H17: 0.0365
H18: 0.025
H19: 0
C34: BDI = | D34: 0.2449
A39: ___________________________ Sebastião Barbosa Pinto Filho Engenheiro Civil Crea-MG 249.547/D
