Workbook
Name ___sub1: #REF!
Name ___sub2: #REF!
Name ___sub3: #REF!
Name _sub1: #REF!
Name _sub2: #REF!
Name _sub3: #REF!
Name a: #REF!
Name AREA: #REF!
Name B: #REF!
Name BDI: #REF!
Name DOLAR: [1]INSUMOS!$G$8
Name ersdcefgbrnghrbgbrgfbgfwbvbfgvwfv: #REF!
Name Excel_BuiltIn_Print_Area_2: #REF!
Name Excel_BuiltIn_Print_Area_2_1: #REF!
Name Excel_BuiltIn_Print_Area_2_1_1: #REF!
Name Excel_BuiltIn_Print_Area_2_1_1_1: #REF!
Name Excel_BuiltIn_Print_Area_4: #REF!
Name leosde: #REF!
Name NCOMPOSICOES: 7
Name NCOTACOES: 15
Name obra: #REF!
Name obra1: #REF!
Name obra2: #REF!
Name obra3: #REF!
Name obra4: #REF!
Name obra5: #REF!
Name P.1: #REF!
Name P.10: #REF!
Name P.11: #REF!
Name P.12: #REF!
Name P.13: #REF!
Name P.14: #REF!
Name P.15: #REF!
Name P.2: #REF!
Name P.3: #REF!
Name P.4: #REF!
Name P.5: #REF!
Name P.6: #REF!
Name P.7: #REF!
Name P.8: #REF!
Name P.9: #REF!
Name Pedreiro_de_acabamento: [1]INSUMOS!$B$11
Name PP1.1: #REF!
Name PP1.10: #REF!
Name PP1.11: #REF!
Name PP1.12: #REF!
Name PP1.13: #REF!
Name PP1.14: #REF!
Name PP1.15: #REF!
Name PP1.2: #REF!
Name PP1.3: #REF!
Name PP1.4: #REF!
Name PP1.5: #REF!
Name PP1.6: #REF!
Name PP1.7: #REF!
Name PP1.8: #REF!
Name PP1.9: #REF!
Name T.1: #REF!
Name T.10: #REF!
Name T.11: #REF!

Sheet Planilha Orcamentária
A2: PLANILHA ORÇAMENTÁRIA DE CUSTOS
A3: PREFEITURA MUNICIPAL DE INHAPIM-MG | E3: FOLHA N º: | G3: 01/01.
A4: OBRA: REVITALIZAÇÃO DA TRAVESSA ZACARIAS DE FREITAS | E4: DATA: | G4: 46139
A5: LOCAL: PERÍMETRO URBANO - INHAPIM/MG - CEP: 35330-000 | E5: FORMA DE EXECUÇÃO:
A6: REGIÃO/MÊS DE REFERÊNCIA: SINAPI 03/2026 - SEM DESONERAÇÃO - SICOR 01/2026 - | E6: ( ) | F6: DIRETA | G6: ( X ) | H6: INDIRETA
A7: COMPOSIÇÃO/DEMONSTRATIVO DE BDI - EM ANEXO | E7: % ISS MUNICIPAL: | F7: 0.05 | G7: BDI: | H7: =BDI!D34 -> 0.2843
A9: ITEM | B9: CÓDIGO | C9: DESCRIÇÃO | D9: UNIDADE | E9: QUANTIDADE | F9: PREÇO UNITÁRIO S/ BDI | G9: PREÇO UNITÁRIO C/ BDI | H9: PREÇO TOTAL
A10: 1.0 | C10: SERVIÇOS PRELIMINARES | H10: =H11 -> 1524.59
A11: 1.1 | B11: ED-28427 | C11: FORNECIMENTO E COLOCAÇÃO DE PLACA DE OBRA EM CHAPA GALVANIZADA #26, ESP. 0,45MM, DIMENSÃO (3X1,5) M, PLOTADA COM ADESIVO VINÍLICO, AFIXADA COM REBITES 4, 8X40MM, EM ESTRUTURA METÁLICA DE METALON 20X20MM, ESP. 1, 25MM, INCLUSIVE SUPORTE EM EUCALIPTO AUTOCLAVADO PINTADO COM TINTA PVA DUAS (2) DEMÃOS | D11: M² | E11: 1 | F11: 1187.1 | G11: =ROUND(F11+(F11*$H$7),2) -> 1524.59 | H11: =E11*G11 -> 1524.59
A12: 2.0 | C12: DEMOLIÇÃO | H12: =SUM(H13:H13) -> 7862.782
A13: 2.1 | B13: SINAPI-104789 | C13: DEMOLIÇÃO DE PISO DE CONCRETO SIMPLES, DE FORMA MANUAL, SEM REAPROVEITAMENTO. AF_09/2023 | D13: M³ | E13: 26.15 | F13: 234.12 | G13: =ROUND(F13+(F13*$H$7),2) -> 300.68 | H13: =E13*G13 -> 7862.782 | K13: =H45*85% -> 171290.46
A14: 3.0 | C14: ALVENARIA | H14: =SUM(H15:H17) -> 8037.2736
A15: 3.1 | B15: ED-50410 | C15: MURETA DE TIJOLO COMUM ESP. = 15CM, H = 130 CM, A REVESTIR | D15: M | E15: 9.69 | F15: 463.1 | G15: =ROUND(F15+(F15*$H$7),2) -> 594.76 | H15: =E15*G15 -> 5763.2244
A16: 3.2 | B16: SINAPI-87894 | C16: CHAPISCO APLICADO EM ALVENARIA (SEM PRESENÇA DE VÃOS) E ESTRUTURAS DE CONCRETO DE FACHADA, COM COLHER DE PEDREIRO. ARGAMASSA TRAÇO 1:3 COM PREPARO EM BETONEIRA 400L. AF_10/2022 | D16: M² | E16: =E15*2 -> 19.38 | F16: 8.21 | G16: =ROUND(F16+(F16*$H$7),2) -> 10.54 | H16: =E16*G16 -> 204.2652
A17: 3.3 | B17: SINAPI-104219 | C17: EMBOÇO OU MASSA ÚNICA EM ARGAMASSA INDUSTRIALIZADA, PREPARO MECÂNICA E APLICAÇÃO COM EQUIPAMENTO DE MISTURA E PROJEÇÃO DE 1,5 M3/H DE ARGAMASSA EM PANOS DE FACHADA COM PRESENÇA DE VÃOS, ESPESSURA DE 25 MM, ACESSO POR ANDAIME. AF_08/2022 | D17: M² | E17: =E16 -> 19.38 | F17: 83.16 | G17: =ROUND(F17+(F17*$H$7),2) -> 106.8 | H17: =E17*G17 -> 2069.784
A18: 4.0 | C18: PINTURA | H18: =SUM(H19:H22) -> 18617.219
A19: 4.1 | B19: ED-50521 | C19: PINTURA COM TEXTURA ACRÍLICA COM ROLO, INCLUSIVE UMA (1) DEMÃO DE SELADOR ACRÍLICO | D19: M² | E19: 398.22 | F19: 29.15 | G19: =ROUND(F19+(F19*$H$7),2) -> 37.44 | H19: =E19*G19 -> 14909.357
A20: 4.2 | B20: ED-50491 | C20: PINTURA ESMALTE BASE SOLVENTE EM ESQUADRIAS DE FERRO, DUAS (2) DEMÃOS, COM APLICAÇÃO MANUAL, INCLUSIVE UMA (1) DEMÃO DE FUNDO ANTICORROSIVO | D20: M² | E20: 69.6 | F20: 35.37 | G20: =ROUND(F20+(F20*$H$7),2) -> 45.43 | H20: =E20*G20 -> 3161.928
A21: 4.3 | B21: SINAPI-88412 | C21: APLICAÇÃO MANUAL DE FUNDO SELADOR ACRÍLICO EM PANOS CEGOS DE FACHADA (SEM PRESENÇA DE VÃOS) DE EDIFÍCIOS DE MÚLTIPLOS PAVIMENTOS. AF_03/2024 | D21: M² | E21: =E16 -> 19.38 | F21: 4.88 | G21: =ROUND(F21+(F21*$H$7),2) -> 6.27 | H21: =E21*G21 -> 121.5126
A22: 4.4 | B22: SINAPI-95622 | C22: APLICAÇÃO MANUAL DE TINTA LÁTEX ACRÍLICA EM PANOS COM PRESENÇA DE VÃOS DE EDIFÍCIOS DE MÚLTIPLOS PAVIMENTOS, DUAS DEMÃOS. AF_03/2024 | D22: M² | E22: =E21 -> 19.38 | F22: 17.05 | G22: =ROUND(F22+(F22*$H$7),2) -> 21.9 | H22: =E22*G22 -> 424.422
A23: 5.0 | C23: PISOS, REVESTIMENTOS, CORRIMÃOS | H23: =SUM(H24:H30) -> 108028.99
A24: 5.1 | B24: SINAPI-94992 | C24: EXECUÇÃO DE PASSEIO (CALÇADA) OU PISO DE CONCRETO COM CONCRETO MOLDADO IN LOCO, FEITO EM OBRA, ACABAMENTO CONVENCIONAL, ESPESSURA 6 CM, ARMADO. AF_08/2022 | D24: M² | E24: 216.43 | F24: 88.47 | G24: =ROUND(F24+(F24*$H$7),2) -> 113.62 | H24: =E24*G24 -> 24590.777
A25: 5.2 | B25: SINAPI-101091 | C25: PISO EM LADRILHO HIDRÁULICO APLICADO EM AMBIENTES EXTERNOS. AF_05/2020 | D25: M2 | E25: 195 | F25: 173.05 | G25: =ROUND(F25+(F25*$H$7),2) -> 222.25 | H25: =E25*G25 -> 43338.75
A26: 5.3 | B26: ED-50717 | C26: REVESTIMENTO COM AZULEJO BRANCO (20X20) CM, JUNTA A PRUMO, ASSENTAMENTO COM ARGAMASSA INDUSTRIALIZADA, INCLUSIVE REJUNTAMENTO | D26: M² | E26: 2.88 | F26: 102.13 | G26: =ROUND(F26+(F26*$H$7),2) -> 131.17 | H26: =E26*G26 -> 377.7696
A27: 5.4 | B27: ED-50717 | C27: REVESTIMENTO COM AZULEJO BRANCO (20X20) CM, JUNTA A PRUMO, ASSENTAMENTO COM ARGAMASSA INDUSTRIALIZADA, INCLUSIVE REJUNTAMENTO | D27: M² | E27: 10.56 | F27: 102.13 | G27: =ROUND(F27+(F27*$H$7),2) -> 131.17 | H27: =E27*G27 -> 1385.1552
A28: 5.5 | B28: SINAPI-88789 | C28: REVESTIMENTO CERÂMICO PARA PAREDES EXTERNAS EM PASTILHAS DE PORCELANA 2,5 X 2,5 CM (PLACAS DE 30 X 30 CM), ALINHADAS A PRUMO, APLICADO EM SUPERFÍCIES INTERNAS DE SACADA. AF_02/2023 | D28: M² | E28: 3 | F28: 466.51 | G28: =ROUND(F28+(F28*$H$7),2) -> 599.14 | H28: =E28*G28 -> 1797.42
A29: 5.6 | B29: ED-50717 | C29: REVESTIMENTO COM AZULEJO BRANCO (20X20) CM, JUNTA A PRUMO, ASSENTAMENTO COM ARGAMASSA INDUSTRIALIZADA, INCLUSIVE REJUNTAMENTO | D29: M² | E29: 11.04 | F29: 102.13 | G29: =ROUND(F29+(F29*$H$7),2) -> 131.17 | H29: =E29*G29 -> 1448.1168
A30: 5.7 | B30: ED-32001 | C30: CORRIMÃO DUPLO EM TUBO GALVANIZADO, COM COSTURA, DIÂMETRO DE 1.1/2", ESP. 3MM, FIXADO EM PISO COM MONTANTE VERTICAL, DIÂMETRO DE 1.1/2", INCLUSIVE SUPORTE PARA CORRIMÃO EM BARRA CHATA (1"X1/2"), EXCLUSIVE PINTURA | D30: M | E30: 100 | F30: 273.23 | G30: =ROUND(F30+(F30*$H$7),2) -> 350.91 | H30: =E30*G30 -> 35091
A31: 6.0 | C31: INSTALAÇÕES ELÉTRICAS | H31: =SUM(H32:H42) -> 55285.2
A32: 6.1 | B32: SINAPI-101499 | C32: ENTRADA DE ENERGIA ELÉTRICA, AÉREA, BIFÁSICA, COM CAIXA DE SOBREPOR, CABO DE 25 MM2 E DISJUNTOR DIN 50A (NÃO INCLUSO O POSTE DE CONCRETO). AF_12/2025 | D32: UND | E32: 1 | F32: 2285.67 | G32: =ROUND(F32+(F32*$H$7),2) -> 2935.49 | H32: =E32*G32 -> 2935.49
A33: 6.2 | B33: SINAPI-91833 | C33: ELETRODUTO FLEXÍVEL CORRUGADO REFORÇADO, PVC, DN 20 MM (1/2"), PARA CIRCUITOS TERMINAIS, INSTALADO EM FORRO - FORNECIMENTO E INSTALAÇÃO. AF_03/2023 | D33: M | E33: 100 | F33: 18.68 | G33: =ROUND(F33+(F33*$H$7),2) -> 23.99 | H33: =E33*G33 -> 2399
A34: 6.3 | B34: SINAPI-101883 | C34: QUADRO DE DISTRIBUIÇÃO DE ENERGIA EM CHAPA DE AÇO GALVANIZADO, DE EMBUTIR, COM BARRAMENTO TRIFÁSICO, PARA 18 DISJUNTORES DIN 100A - FORNECIMENTO E INSTALAÇÃO. AF_07/2025 | D34: UND | E34: 1 | F34: 593.95 | G34: =ROUND(F34+(F34*$H$7),2) -> 762.81 | H34: =E34*G34 -> 762.81
A35: 6.4 | B35: SINAPI-106287 | C35: DISJUNTOR TERMOMAGNETICO PARA TRILHO DIN (IEC), TRIPOLAR, 25 A, PARA QUADRO DE BOMBA - FORNECIMENTO E INSTALAÇÃO. AF_11/2025 | D35: UND | E35: 16 | F35: 127.93 | G35: =ROUND(F35+(F35*$H$7),2) -> 164.3 | H35: =E35*G35 -> 2628.8
A36: 6.5 | B36: ED-50228 | C36: PONTO DE EMBUTIR PARA UMA (1) LUMINÁRIA, COM ELETRODUTO DE PVC RÍGIDO ROSCÁVEL, DN 20MM (3/4"), EMBUTIDO NA LAJE E CABO DE COBRE FLEXÍVEL, CLASSE 5, ISOLAMENTO TIPO LSHF/ATOX, NÃO HALOGENADO, SEÇÃO 1,5MM2 ( 70°C-450/750V), COM DISTÂNCIA DE ATÉ CINCO (5) METROS DO PONTO DE DERIVAÇÃO, EXCLUSIVE LUMINÁRIA, INCLUSIVE CAIXA DE LIGAÇÃO OCTOGONAL, SUPORTE E FIXAÇÃO DO ELETRODUTO | D36: UND | E36: 36 | F36: 118.09 | G36: =ROUND(F36+(F36*$H$7),2) -> 151.66 | H36: =E36*G36 -> 5459.76 | J36: 102.41 | K36: =J36*85% -> 87.0485
A37: 6.6 | B37: SINAPI-97607 | C37: LUMINÁRIA ARANDELA TIPO TARTARUGA, DE SOBREPOR, COM 1 LÂMPADA LED DE 6 W, SEM REATOR - FORNECIMENTO E INSTALAÇÃO. AF_09/2024 | D37: UND | E37: 2 | F37: 91.04 | G37: =ROUND(F37+(F37*$H$7),2) -> 116.92 | H37: =E37*G37 -> 233.84
A38: 6.7 | B38: COMPOSIÇÃO-001 | C38: ='COMPOSIÇÃO - I'!C11 -> POSTE DECORATIVO PARA JARDIM EM AÇO TUBULAR, H = *2,5* M, SEM LUMINÁRIA - FORNECIMENTO E INSTALAÇÃO. AF_04/2025 | D38: UND | E38: 11 | F38: ='COMPOSIÇÃO - I'!G11 -> 2087.1612 | G38: =ROUND(F38+(F38*$H$7),2) -> 2680.54 | H38: =E38*G38 -> 29485.94
A39: 6.8 | B39: COMPOSIÇÃO-005 | C39: POSTE DECORATIVO PARA JARDIM EM AÇO TUBULAR, H = *2,5* M, SEM LUMINÁRIA - FORNECIMENTO E INSTALAÇÃO. AF_04/2025 | D39: UND | E39: 2 | F39: =F38 -> 2087.1612 | G39: =ROUND(F39+(F39*$H$7),2) -> 2680.54 | H39: =E39*G39 -> 5361.08
A40: 6.9 | B40: ED-49379 | C40: LÂMPADA MISTA, BASE E27, POTÊNCIA DE 160W, TENSÃO 220V, EXCLUSIVE LUMINÁRIA | D40: UND | E40: 22 | F40: 37.2 | G40: =ROUND(F40+(F40*$H$7),2) -> 47.78 | H40: =E40*G40 -> 1051.16
A41: 6.10 | B41: COMPOSIÇÃO-002 | C41: ='COMPOSIÇÃO - II'!C11 -> INSTALAÇÃO DE BALIZADOR METÁLICO COM LED, EM ALUMÍNIO COM DIFUSOR EM POLICARBONATO E DIMENSÕES 6,2 CM X30 CM, COM PINTURA ELETROSTÁTICA, SOBRE PISO DE CONCRETO EXISTENTE. AF_11/2021 | D41: UND | E41: 25 | F41: ='COMPOSIÇÃO - II'!G11 -> 80.513118 | G41: =ROUND(F41+(F41*$H$7),2) -> 103.4 | H41: =E41*G41 -> 2585
A42: 6.11 | B42: COMPOSIÇÃO-004 | C42: ARANDELA CURVA COM CHAPÉU GLOBO ACRÍLICO FORNECIMENTO E INTALAÇÃO | D42: UND | E42: 4 | F42: ='COMPOSIÇÃO - IIII'!G11 -> 463.73546 | G42: =ROUND(F42+(F42*$H$7),2) -> 595.58 | H42: =E42*G42 -> 2382.32
...

Sheet COMPOSIÇÃO - I
A4: ='Planilha Orcamentária'!A4 -> OBRA: REVITALIZAÇÃO DA TRAVESSA ZACARIAS DE FREITAS
A5: ='Planilha Orcamentária'!A5 -> LOCAL: PERÍMETRO URBANO - INHAPIM/MG - CEP: 35330-000
A6: MUNICIPIO: INHAPIM/MG - CEP: 35330-000
A7: DATA: | B7: 46139
A9: QUADRO DE COMPOSIÇÕES
A11: COMPOSIÇÃO | B11: 1 | C11: POSTE DECORATIVO PARA JARDIM EM AÇO TUBULAR, H = *2,5* M, SEM LUMINÁRIA - FORNECIMENTO E INSTALAÇÃO. AF_04/2025 | D11: M | F11: 0 | G11: =((G12*E12)+(G13*E13)+(G14*E14)+(G15*E15)+(G16*E16)) -> 2087.1612
A12: SINAPI | B12: 863 | C12: CABO DE COBRE NU 35 MM2 MEIO-DURO | D12: M | E12: 2 | F12: 0 | G12: 40.7
A13: SINAPI | B13: 11975 | C13: CHUMBADOR DE ACO ZINCADO, DIAMETRO 5/8", COMPRIMENTO 6", COM PORCA | D13: UN | E13: 4 | F13: 0 | G13: 27.69
A14: SINAPI | B14: 12388 | C14: POSTE COLONIAL REPUBLICANO JARDIM DE ALUMINIO 02 GLOBOS H_ 4,46m | D14: UN | E14: 1 | F14: 0 | G14: 1890.63
A15: SINAPI | B15: 88247 | C15: AUXILIAR DE ELETRICISTA COM ENCARGOS COMPLEMENTARES | D15: H | E15: 0.8775455 | F15: 0 | G15: 0.2596182
A16: SINAPI | B16: 88264 | C16: ELETRICISTA COM ENCARGOS COMPLEMENTARES | D16: H | E16: 3.9489545 | F16: 0 | G16: 1.0492364
A24: _________________________________
A25: Sebastião Barbosa Pinto Filho
A26: CREA/MG Nº: MG 249.547/D

Sheet COMPOSIÇÃO - II
A4: ='Planilha Orcamentária'!A4 -> OBRA: REVITALIZAÇÃO DA TRAVESSA ZACARIAS DE FREITAS
A5: ='Planilha Orcamentária'!A5 -> LOCAL: PERÍMETRO URBANO - INHAPIM/MG - CEP: 35330-000
A6: MUNICIPIO: INHAPIM/MG - CEP: 35330-000
A7: DATA: | B7: 46139
A9: QUADRO DE COMPOSIÇÕES
A11: COMPOSIÇÃO | B11: 2 | C11: INSTALAÇÃO DE BALIZADOR METÁLICO COM LED, EM ALUMÍNIO COM DIFUSOR EM POLICARBONATO E DIMENSÕES 6,2 CM X30 CM, COM PINTURA ELETROSTÁTICA, SOBRE PISO DE CONCRETO EXISTENTE. AF_11/2021 | D11: M | F11: 0 | G11: =((G12*E12)+(G13*E13)+(G14*E14)) -> 80.513118
A12: COTAÇÃO | B12: MERCADO | C12: BALIZADOR LED INTERNO 2W PRETO EMBUTIR CAIXA 4x2 3000k | D12: M | E12: 1 | F12: 0 | G12: 41.9
A13: SINAPI | B13: 88309 | C13: PEDREIRO COM ENCARGOS COMPLEMENTARES | D13: H | E13: 0.7691 | F13: 0 | G13: 33.62
A14: SINAPI | B14: 88316 | C14: SERVENTE COM ENCARGOS COMPLEMENTARES | D14: UN | E14: 0.5127 | F14: 0 | G14: 24.88
A22: _________________________________
A23: Sebastião Barbosa Pinto Filho
A24: CREA/MG Nº: MG 249.547/D

Sheet COMPOSIÇÃO - III
A4: ='Planilha Orcamentária'!A4 -> OBRA: REVITALIZAÇÃO DA TRAVESSA ZACARIAS DE FREITAS
A5: ='Planilha Orcamentária'!A5 -> LOCAL: PERÍMETRO URBANO - INHAPIM/MG - CEP: 35330-000
A6: MUNICIPIO: INHAPIM/MG - CEP: 35330-000
A7: DATA: | B7: 46139
A9: QUADRO DE COMPOSIÇÕES
A11: COMPOSIÇÃO | B11: 3 | C11: PINTURA DE PISO DE PEDRAS DECORATIVAS COM VERNIZ DE POLIURETANO FOSCO, APLICAÇÃO MANUAL, 3 | D11: M | F11: 0 | G11: =((G12*E12)+(G14*E14)+(G15*E15)+(G16*E16)+(G17*E17)+(G18*E18)+(G13*E13)+(G19*E19)) -> 23.01768
A12: SINAPI | B12: 10478 | C12: VERNIZ A BASE RESINA ALQUIDICA COM POLIURETANO PARA MADEIRA, COM FILTRO SOLAR, BRILHANTE, USO INTERNO E EXTERNO | D12: L | E12: 0.25 | F12: 0 | G12: 45.07
A13: SINAPI | B13: 12815 | C13: FITA CREPE ROLO DE *25* MM X 50 M | D13: UND | E13: 0.014 | F13: 0 | G13: 17.27
A14: SINAPI | B14: 88310 | C14: PINTOR COM ENCARGOS COMPLEMENTARES | D14: H | E14: 0.244 | F14: 0 | G14: 35.36
A15: SINAPI | B15: 88316 | C15: SERVENTE COM ENCARGOS COMPLEMENTARES | D15: H | E15: 0.102 | F15: 0 | G15: 24.88
A16: SINAPI | B16: 99833 | C16: LAVADORA DE ALTA PRESSAO (LAVA-JATO) PARA AGUA FRIA, PRESSAO DE OPERACAO ENTRE 1400 E 1900 LIB/POL2, VAZAO MAXIMA ENTRE 400 E 700 L/H - CHP DIURNO. AF_05/2023 | D16: CHIP | E16: 0.024 | F16: 0 | G16: 5.15
A17: SINAPI | B17: 99834 | C17: LAVADORA DE ALTA PRESSAO (LAVA-JATO) PARA AGUA FRIA, PRESSAO DE OPERACAO ENTRE 1400 E 1900 LIB/POL2, VAZAO MAXIMA ENTRE 400 E 700 L/H - CHI DIURNO. AF_05/2023 | D17: CHIP | E17: 0.222 | F17: 0 | G17: 0.24
A18: SINAPI | B18: 102915 | C18: ENCERADEIRA INDUSTRIAL, 400 MM, 220V, 1 HP - MATERIAIS NA OPERAÇÃO. AF_05/2023 | D18: CHIP | E18: 0.0105 | F18: 0 | G18: 0.68
A19: SINAPI | B19: 102915 | C19: ENCERADEIRA INDUSTRIAL, 400 MM, 220V, 1 HP - MATERIAIS NA OPERAÇÃO. AF_05/2023 | D19: UN | E19: 0.2335 | F19: 0 | G19: 0.68
A27: _________________________________
A28: Sebastião Barbosa Pinto Filho
A29: CREA/MG Nº: MG 249.547/D

Sheet COMPOSIÇÃO - IIII
A4: ='Planilha Orcamentária'!A4 -> OBRA: REVITALIZAÇÃO DA TRAVESSA ZACARIAS DE FREITAS
A5: ='Planilha Orcamentária'!A5 -> LOCAL: PERÍMETRO URBANO - INHAPIM/MG - CEP: 35330-000
A6: MUNICIPIO: INHAPIM/MG - CEP: 35330-000
A7: DATA: | B7: 46139
A9: QUADRO DE COMPOSIÇÕES
A11: COMPOSIÇÃO | B11: 4 | C11: ARANDELA CURVA COM CHAPÉU GLOBO ACRÍLICO FORNECIMENTO E INSTALAÇÃO | D11: UND | F11: 0 | G11: =((G12*E12)+(G13*E13)+(G14*E14)+(G16*E16)+(G17*E17)) -> 463.73546
A12: SINAPI | B12: 863 | C12: CABO DE COBRE NU 35 MM2 MEIO-DURO | D12: M | E12: 2 | F12: 0 | G12: 40.7
A13: COTAÇÃO | B13: MERCADO | C13: ARANDELA CURVA COM CHAPÉU GLOBO ACRÍLICO | D13: UND | E13: 1 | F13: 0 | G13: 239.39
A14: SINAPI | B14: 11975 | C14: CHUMBADOR DE ACO ZINCADO, DIAMETRO 5/8", COMPRIMENTO 6", COM PORCA | D14: UN | E14: 4 | F14: 0 | G14: 27.69
A15: SINAPI | B15: 88247 | C15: AUXILIAR DE ELETRICISTA COM ENCARGOS COMPLEMENTARES | D15: H | E15: 0.8691791 | F15: 0 | G15: 28.03
A16: SINAPI | B16: 88264 | C16: ELETRICISTA COM ENCARGOS COMPLEMENTARES | D16: H | E16: 0.8691791 | F16: 0 | G16: 34.11
A17: SINAPI | B17: 88316 | C17: SERVENTE COM ENCARGOS COMPLEMENTARES | D17: H | E17: 0.102 | F17: 0 | G17: 24.88
A25: _________________________________
A26: Sebastião Barbosa Pinto Filho
A27: CREA/MG Nº: MG 249.547/D

Sheet COMPOSIÇÃO - IIIII
A4: ='Planilha Orcamentária'!A4 -> OBRA: REVITALIZAÇÃO DA TRAVESSA ZACARIAS DE FREITAS
A5: ='Planilha Orcamentária'!A5 -> LOCAL: PERÍMETRO URBANO - INHAPIM/MG - CEP: 35330-000
A6: MUNICIPIO: INHAPIM/MG - CEP: 35330-000
A7: DATA: | B7: 46139
A9: QUADRO DE COMPOSIÇÕES
A11: COMPOSIÇÃO | B11: 5 | C11: POSTE DECORATIVO PARA JARDIM EM AÇO TUBULAR, H = *2,5* M, SEM LUMINÁRIA - FORNECIMENTO E INSTALAÇÃO. AF_04/2025 | D11: M | F11: 0 | G11: =((G12*E12)+(G13*E13)+(G14*E14)+(G15*E15)+(G16*E16)) -> 2087.1612
A12: SINAPI | B12: 863 | C12: CABO DE COBRE NU 35 MM2 MEIO-DURO | D12: M | E12: 2 | F12: 0 | G12: 40.7
A13: SINAPI | B13: 11975 | C13: CHUMBADOR DE ACO ZINCADO, DIAMETRO 5/8", COMPRIMENTO 6", COM PORCA | D13: UN | E13: 4 | F13: 0 | G13: 27.69
A14: SINAPI | B14: 12388 | C14: POSTE COLONIAL REPUBLICANO JARDIM DE ALUMINIO 02 GLOBOS H_ 4,46m | D14: UN | E14: 1 | F14: 0 | G14: 1890.63
A15: SINAPI | B15: 88247 | C15: AUXILIAR DE ELETRICISTA COM ENCARGOS COMPLEMENTARES | D15: H | E15: 0.8775455 | F15: 0 | G15: 0.2596182
A16: SINAPI | B16: 88264 | C16: ELETRICISTA COM ENCARGOS COMPLEMENTARES | D16: H | E16: 3.9489545 | F16: 0 | G16: 1.0492364
A24: _________________________________
A25: Sebastião Barbosa Pinto Filho
A26: CREA/MG Nº: MG 249.547/D

Sheet Memória de Cálculo
A2: MEMÓRIA DE CÁLCULO DE QUANTITATIVOS
A3: PREFEITURA MUNICIPAL DE INHAPIM-MG
A4: ='Planilha Orcamentária'!A4 -> OBRA: REVITALIZAÇÃO DA TRAVESSA ZACARIAS DE FREITAS | E4: FOLHA N º: | F4: 01/01.
A5: ='Planilha Orcamentária'!A5 -> LOCAL: PERÍMETRO URBANO - INHAPIM/MG - CEP: 35330-000 | E5: DATA: | F5: 46139
A7: ITEM | B7: CÓDIGO | C7: DESCRIÇÃO | D7: UNIDADE | E7: QUANTIDADE | F7: FÓRMULA DO CÁLCULO
A8: 1 | C8: ='Planilha Orcamentária'!C10 -> SERVIÇOS PRELIMINARES
A9: 1.1 | B9: ='Planilha Orcamentária'!B11 -> ED-28427 | C9: ='Planilha Orcamentária'!C11 -> FORNECIMENTO E COLOCAÇÃO DE PLACA DE OBRA EM CHAPA GALVANIZADA #26, ESP. 0,45MM, DIMENSÃO (3X1,5) M, PLOTADA COM ADESIVO VINÍLICO, AFIXADA COM REBITES 4, 8X40MM, EM ESTRUTURA METÁLICA DE METALON 20X20MM, ESP. 1, 25MM, INCLUSIVE SUPORTE EM EUCALIPTO AUTOCLAVADO PINTADO COM TINTA PVA DUAS (2) DEMÃOS | D9: ='Planilha Orcamentária'!D11 -> M² | E9: ='Planilha Orcamentária'!E11 -> 1 | F9: placa de obra de acordo com as exisgências do CREA-MG
A10: 2.0 | C10: ='Planilha Orcamentária'!C12 -> DEMOLIÇÃO
A11: 2.1 | B11: ='Planilha Orcamentária'!B13 -> SINAPI-104789 | C11: ='Planilha Orcamentária'!C13 -> DEMOLIÇÃO DE PISO DE CONCRETO SIMPLES, DE FORMA MANUAL, SEM REAPROVEITAMENTO. AF_09/2023 | D11: ='Planilha Orcamentária'!D13 -> M³ | E11: ='Planilha Orcamentária'!E13 -> 26.15 | F11: De acordo com o projeto
A12: 3.0 | C12: ='Planilha Orcamentária'!C14 -> ALVENARIA | D12: ='Planilha Orcamentária'!D14 -> 0 | E12: ='Planilha Orcamentária'!E14 -> 0
A13: 3.1 | B13: ='Planilha Orcamentária'!B15 -> ED-50410 | C13: ='Planilha Orcamentária'!C15 -> MURETA DE TIJOLO COMUM ESP. = 15CM, H = 130 CM, A REVESTIR | D13: ='Planilha Orcamentária'!D15 -> M | E13: ='Planilha Orcamentária'!E15 -> 9.69 | F13: De acordo com o projeto
A14: 3.2 | B14: ='Planilha Orcamentária'!B16 -> SINAPI-87894 | C14: ='Planilha Orcamentária'!C16 -> CHAPISCO APLICADO EM ALVENARIA (SEM PRESENÇA DE VÃOS) E ESTRUTURAS DE CONCRETO DE FACHADA, COM COLHER DE PEDREIRO. ARGAMASSA TRAÇO 1:3 COM PREPARO EM BETONEIRA 400L. AF_10/2022 | D14: ='Planilha Orcamentária'!D16 -> M² | E14: ='Planilha Orcamentária'!E16 -> 19.38 | F14: De acordo com o projeto
A15: 3.3 | B15: ='Planilha Orcamentária'!B17 -> SINAPI-104219 | C15: ='Planilha Orcamentária'!C17 -> EMBOÇO OU MASSA ÚNICA EM ARGAMASSA INDUSTRIALIZADA, PREPARO MECÂNICA E APLICAÇÃO COM EQUIPAMENTO DE MISTURA E PROJEÇÃO DE 1,5 M3/H DE ARGAMASSA EM PANOS DE FACHADA COM PRESENÇA DE VÃOS, ESPESSURA DE 25 MM, ACESSO POR ANDAIME. AF_08/2022 | D15: ='Planilha Orcamentária'!D17 -> M² | E15: ='Planilha Orcamentária'!E17 -> 19.38 | F15: De acordo com o projeto
A16: 4.0 | B16: ='Planilha Orcamentária'!B18 -> 0 | C16: ='Planilha Orcamentária'!C18 -> PINTURA
A17: 4.1 | B17: ='Planilha Orcamentária'!B19 -> ED-50521 | C17: ='Planilha Orcamentária'!C19 -> PINTURA COM TEXTURA ACRÍLICA COM ROLO, INCLUSIVE UMA (1) DEMÃO DE SELADOR ACRÍLICO | D17: ='Planilha Orcamentária'!D19 -> M² | E17: ='Planilha Orcamentária'!E19 -> 398.22 | F17: De acordo com o projeto
A18: 4.2 | B18: ='Planilha Orcamentária'!B20 -> ED-50491 | C18: ='Planilha Orcamentária'!C20 -> PINTURA ESMALTE BASE SOLVENTE EM ESQUADRIAS DE FERRO, DUAS (2) DEMÃOS, COM APLICAÇÃO MANUAL, INCLUSIVE UMA (1) DEMÃO DE FUNDO ANTICORROSIVO | D18: ='Planilha Orcamentária'!D20 -> M² | E18: ='Planilha Orcamentária'!E20 -> 69.6 | F18: De acordo com o projeto
A19: 4.3 | B19: ='Planilha Orcamentária'!B21 -> SINAPI-88412 | C19: ='Planilha Orcamentária'!C21 -> APLICAÇÃO MANUAL DE FUNDO SELADOR ACRÍLICO EM PANOS CEGOS DE FACHADA (SEM PRESENÇA DE VÃOS) DE EDIFÍCIOS DE MÚLTIPLOS PAVIMENTOS. AF_03/2024 | D19: ='Planilha Orcamentária'!D21 -> M² | E19: ='Planilha Orcamentária'!E21 -> 19.38 | F19: De acordo com o projeto
A20: 4.4 | B20: ='Planilha Orcamentária'!B22 -> SINAPI-95622 | C20: ='Planilha Orcamentária'!C22 -> APLICAÇÃO MANUAL DE TINTA LÁTEX ACRÍLICA EM PANOS COM PRESENÇA DE VÃOS DE EDIFÍCIOS DE MÚLTIPLOS PAVIMENTOS, DUAS DEMÃOS. AF_03/2024 | D20: ='Planilha Orcamentária'!D22 -> M² | E20: ='Planilha Orcamentária'!E22 -> 19.38 | F20: De acordo com o projeto
A21: ='Planilha Orcamentária'!A23 -> 5.0 | C21: ='Planilha Orcamentária'!C23 -> PISOS, REVESTIMENTOS, CORRIMÃOS
A22: ='Planilha Orcamentária'!A24 -> 5.1 | B22: ='Planilha Orcamentária'!B24 -> SINAPI-94992 | C22: ='Planilha Orcamentária'!C24 -> EXECUÇÃO DE PASSEIO (CALÇADA) OU PISO DE CONCRETO COM CONCRETO MOLDADO IN LOCO, FEITO EM OBRA, ACABAMENTO CONVENCIONAL, ESPESSURA 6 CM, ARMADO. AF_08/2022 | D22: ='Planilha Orcamentária'!D24 -> M² | E22: ='Planilha Orcamentária'!E24 -> 216.43 | F22: 216,43 metros quadrados
A23: ='Planilha Orcamentária'!A25 -> 5.2 | B23: ='Planilha Orcamentária'!B25 -> SINAPI-101091 | C23: ='Planilha Orcamentária'!C25 -> PISO EM LADRILHO HIDRÁULICO APLICADO EM AMBIENTES EXTERNOS. AF_05/2020 | D23: ='Planilha Orcamentária'!D25 -> M2 | E23: ='Planilha Orcamentária'!E25 -> 195 | F23: 145 metros quadrados executado no piso da rampa 50 metros quadrados executado no piso da escadaria
A24: ='Planilha Orcamentária'!A26 -> 5.3 | B24: ='Planilha Orcamentária'!B26 -> ED-50717 | C24: ='Planilha Orcamentária'!C26 -> REVESTIMENTO COM AZULEJO BRANCO (20X20) CM, JUNTA A PRUMO, ASSENTAMENTO COM ARGAMASSA INDUSTRIALIZADA, INCLUSIVE REJUNTAMENTO | D24: ='Planilha Orcamentária'!D26 -> M² | E24: 2.88 | F24: 2,88 metros quadrados executado nos espelhos dos degraus
A25: ='Planilha Orcamentária'!A27 -> 5.4 | B25: ='Planilha Orcamentária'!B27 -> ED-50717 | C25: ='Planilha Orcamentária'!C27 -> REVESTIMENTO COM AZULEJO BRANCO (20X20) CM, JUNTA A PRUMO, ASSENTAMENTO COM ARGAMASSA INDUSTRIALIZADA, INCLUSIVE REJUNTAMENTO | D25: ='Planilha Orcamentária'!D27 -> M² | E25: 10.56 | F25: 10,56 metros quadrados executado
A26: ='Planilha Orcamentária'!A29 -> 5.6 | B26: ='Planilha Orcamentária'!B29 -> ED-50717 | C26: ='Planilha Orcamentária'!C29 -> REVESTIMENTO COM AZULEJO BRANCO (20X20) CM, JUNTA A PRUMO, ASSENTAMENTO COM ARGAMASSA INDUSTRIALIZADA, INCLUSIVE REJUNTAMENTO | D26: ='Planilha Orcamentária'!D29 -> M² | E26: ='Planilha Orcamentária'!E29 -> 11.04 | F26: 11,04 metros quadrados executado
A27: ='Planilha Orcamentária'!A30 -> 5.7 | B27: ='Planilha Orcamentária'!B30 -> ED-32001 | C27: ='Planilha Orcamentária'!C30 -> CORRIMÃO DUPLO EM TUBO GALVANIZADO, COM COSTURA, DIÂMETRO DE 1.1/2", ESP. 3MM, FIXADO EM PISO COM MONTANTE VERTICAL, DIÂMETRO DE 1.1/2", INCLUSIVE SUPORTE PARA CORRIMÃO EM BARRA CHATA (1"X1/2"), EXCLUSIVE PINTURA | D27: ='Planilha Orcamentária'!D30 -> M | E27: ='Planilha Orcamentária'!E30 -> 100 | F27: 100 metros lineares de acrodo com o projeto
A28: 6.0 | C28: ='Planilha Orcamentária'!C31 -> INSTALAÇÕES ELÉTRICAS
A29: ='Planilha Orcamentária'!A32 -> 6.1 | B29: ='Planilha Orcamentária'!B32 -> SINAPI-101499 | C29: ='Planilha Orcamentária'!C32 -> ENTRADA DE ENERGIA ELÉTRICA, AÉREA, BIFÁSICA, COM CAIXA DE SOBREPOR, CABO DE 25 MM2 E DISJUNTOR DIN 50A (NÃO INCLUSO O POSTE DE CONCRETO). AF_12/2025 | D29: ='Planilha Orcamentária'!D32 -> UND | E29: ='Planilha Orcamentária'!E32 -> 1 | F29: 1 unidade
A30: ='Planilha Orcamentária'!A33 -> 6.2 | B30: ='Planilha Orcamentária'!B33 -> SINAPI-91833 | C30: ='Planilha Orcamentária'!C33 -> ELETRODUTO FLEXÍVEL CORRUGADO REFORÇADO, PVC, DN 20 MM (1/2"), PARA CIRCUITOS TERMINAIS, INSTALADO EM FORRO - FORNECIMENTO E INSTALAÇÃO. AF_03/2023 | D30: ='Planilha Orcamentária'!D33 -> M | E30: ='Planilha Orcamentária'!E33 -> 100 | F30: 100 metros lineares
A31: ='Planilha Orcamentária'!A34 -> 6.3 | B31: ='Planilha Orcamentária'!B34 -> SINAPI-101883 | C31: ='Planilha Orcamentária'!C34 -> QUADRO DE DISTRIBUIÇÃO DE ENERGIA EM CHAPA DE AÇO GALVANIZADO, DE EMBUTIR, COM BARRAMENTO TRIFÁSICO, PARA 18 DISJUNTORES DIN 100A - FORNECIMENTO E INSTALAÇÃO. AF_07/2025 | D31: ='Planilha Orcamentária'!D34 -> UND | E31: ='Planilha Orcamentária'!E34 -> 1 | F31: 1 unidade
A32: ='Planilha Orcamentária'!A35 -> 6.4 | B32: ='Planilha Orcamentária'!B35 -> SINAPI-106287 | C32: ='Planilha Orcamentária'!C35 -> DISJUNTOR TERMOMAGNETICO PARA TRILHO DIN (IEC), TRIPOLAR, 25 A, PARA QUADRO DE BOMBA - FORNECIMENTO E INSTALAÇÃO. AF_11/2025 | D32: ='Planilha Orcamentária'!D35 -> UND | E32: ='Planilha Orcamentária'!E35 -> 16 | F32: 16 unidades
A33: ='Planilha Orcamentária'!A36 -> 6.5 | B33: ='Planilha Orcamentária'!B36 -> ED-50228 | C33: ='Planilha Orcamentária'!C36 -> PONTO DE EMBUTIR PARA UMA (1) LUMINÁRIA, COM ELETRODUTO DE PVC RÍGIDO ROSCÁVEL, DN 20MM (3/4"), EMBUTIDO NA LAJE E CABO DE COBRE FLEXÍVEL, CLASSE 5, ISOLAMENTO TIPO LSHF/ATOX, NÃO HALOGENADO, SEÇÃO 1,5MM2 ( 70°C-450/750V), COM DISTÂNCIA DE ATÉ CINCO (5) METROS DO PONTO DE DERIVAÇÃO, EXCLUSIVE LUMINÁRIA, INCLUSIVE CAIXA DE LIGAÇÃO OCTOGONAL, SUPORTE E FIXAÇÃO DO ELETRODUTO | D33: ='Planilha Orcamentária'!D36 -> UND | E33: ='Planilha Orcamentária'!E36 -> 36 | F33: 36 unidades
A34: ='Planilha Orcamentária'!A38 -> 6.7 | B34: ='Planilha Orcamentária'!B38 -> COMPOSIÇÃO-001 | C34: ='Planilha Orcamentária'!C38 -> POSTE DECORATIVO PARA JARDIM EM AÇO TUBULAR, H = *2,5* M, SEM LUMINÁRIA - FORNECIMENTO E INSTALAÇÃO. AF_04/2025 | D34: ='Planilha Orcamentária'!D38 -> UND | E34: ='Planilha Orcamentária'!E38 -> 11 | F34: 11 unidades
A35: ='Planilha Orcamentária'!A39 -> 6.8 | B35: ='Planilha Orcamentária'!B39 -> COMPOSIÇÃO-005 | C35: ='Planilha Orcamentária'!C39 -> POSTE DECORATIVO PARA JARDIM EM AÇO TUBULAR, H = *2,5* M, SEM LUMINÁRIA - FORNECIMENTO E INSTALAÇÃO. AF_04/2025 | D35: ='Planilha Orcamentária'!D39 -> UND | E35: ='Planilha Orcamentária'!E39 -> 2 | F35: 2 unidades
A36: ='Planilha Orcamentária'!A40 -> 6.9 | B36: ='Planilha Orcamentária'!B40 -> ED-49379 | C36: ='Planilha Orcamentária'!C40 -> LÂMPADA MISTA, BASE E27, POTÊNCIA DE 160W, TENSÃO 220V, EXCLUSIVE LUMINÁRIA | D36: ='Planilha Orcamentária'!D40 -> UND | E36: ='Planilha Orcamentária'!E40 -> 22 | F36: 22 unidades
A37: ='Planilha Orcamentária'!A41 -> 6.10 | B37: ='Planilha Orcamentária'!B41 -> COMPOSIÇÃO-002 | C37: ='Planilha Orcamentária'!C41 -> INSTALAÇÃO DE BALIZADOR METÁLICO COM LED, EM ALUMÍNIO COM DIFUSOR EM POLICARBONATO E DIMENSÕES 6,2 CM X30 CM, COM PINTURA ELETROSTÁTICA, SOBRE PISO DE CONCRETO EXISTENTE. AF_11/2021 | D37: ='Planilha Orcamentária'!D41 -> UND | E37: ='Planilha Orcamentária'!E41 -> 25 | F37: 25 unidades
A38: ='Planilha Orcamentária'!A42 -> 6.11 | B38: ='Planilha Orcamentária'!B42 -> COMPOSIÇÃO-004 | C38: ='Planilha Orcamentária'!C42 -> ARANDELA CURVA COM CHAPÉU GLOBO ACRÍLICO FORNECIMENTO E INTALAÇÃO | D38: ='Planilha Orcamentária'!D42 -> UND | E38: ='Planilha Orcamentária'!E42 -> 4 | F38: 4 unidades
A39: ='Planilha Orcamentária'!A43 -> 7.0 | B39: ='Planilha Orcamentária'!B43 -> 0 | C39: ='Planilha Orcamentária'!C43 -> LIMPEZA FINAL DE OBRA | D39: ='Planilha Orcamentária'!D43 -> 0
A40: ='Planilha Orcamentária'!A44 -> 7.1 | B40: ='Planilha Orcamentária'!B44 -> ED-50266 | C40: ='Planilha Orcamentária'!C44 -> LIMPEZA FINAL PARA ENTREGA DA OBRA | D40: ='Planilha Orcamentária'!D44 -> M² | E40: ='Planilha Orcamentária'!E44 -> 216.43 | F40: De acordo com o projeto
A41: ='Planilha Orcamentária'!A45 -> 0 | B41: ='Planilha Orcamentária'!B45 -> 0 | C41: ='Planilha Orcamentária'!C45 -> TOTAL
C44: Sebastião Barbosa Pinto Filho
...

Sheet Cronograma
A2: CRONOGRAMA FÍSICO-FINANCEIRO
A3: ='Planilha Orcamentária'!A3 -> PREFEITURA MUNICIPAL DE INHAPIM-MG | C3: VALOR DO CONVÊNIO: | D3: =D22 -> 201518.19 | E3: DATA: | G3: 46139 | I3: FOLHA Nº:01/01
A4: ='Planilha Orcamentária'!A4 -> OBRA: REVITALIZAÇÃO DA TRAVESSA ZACARIAS DE FREITAS | E4: PREVISÃO DE EXECUÇÃO DAS OBRAS: 3 MESES
A5: ='Planilha Orcamentária'!A5 -> LOCAL: PERÍMETRO URBANO - INHAPIM/MG - CEP: 35330-000
A6: ITENS | B6: ETAPAS/DESCRIÇÃO | C6: FÍSICO/ FINANCEIRO | D6: TOTAL ETAPAS | E6: MÊS 1 | G6: MÊS 2 | I6: MÊS 3 | K6: MÊS 4
A7: 1.0 | B7: ='Planilha Orcamentária'!C10 -> SERVIÇOS PRELIMINARES | C7: Físico % | D7: =D8/$D$22 -> 0.0075655206 | E7: 1
C8: Financeiro | D8: ='Planilha Orcamentária'!H10 -> 1524.59 | E8: =E7*$D$8 -> 1524.59
A9: ='Planilha Orcamentária'!A12 -> 2.0 | B9: ='Planilha Orcamentária'!C12 -> DEMOLIÇÃO | C9: Físico % | D9: =D10/$D$22 -> 0.039017729 | E9: 1
C10: Financeiro | D10: ='Planilha Orcamentária'!H12 -> 7862.782 | E10: =D10*E9 -> 7862.782 | G10: =D10*G9 -> 0 | I10: =D10*I9 -> 0
A11: ='Planilha Orcamentária'!A14 -> 3.0 | B11: ='Planilha Orcamentária'!C14 -> ALVENARIA | C11: Físico % | D11: =D12/$D$22 -> 0.039883614 | E11: 1
C12: Financeiro | D12: ='Planilha Orcamentária'!H14 -> 8037.2736 | E12: =D12*E11 -> 8037.2736
A13: 4.0 | B13: ='Planilha Orcamentária'!C18 -> PINTURA | C13: Físico % | D13: =D14/$D$22 -> 0.092384809 | G13: 0.5 | I13: 0.5
C14: Financeiro | D14: ='Planilha Orcamentária'!H18 -> 18617.219 | G14: =D14*G13 -> 9308.6097 | I14: =D14*I13 -> 9308.6097
A15: ='Planilha Orcamentária'!A23 -> 5.0 | B15: ='Planilha Orcamentária'!C23 -> PISOS, REVESTIMENTOS, CORRIMÃOS | C15: Físico % | D15: =D16/$D$22 -> 0.53607562 | E15: 0.25 | G15: 0.5 | I15: 0.25
C16: Financeiro | D16: ='Planilha Orcamentária'!H23 -> 108028.99 | E16: =D16*$E$15 -> 27007.247 | G16: =D16*$G$15 -> 54014.494 | I16: =D16*$I$15 -> 27007.247
A17: 6.0 | B17: ='Planilha Orcamentária'!C31 -> INSTALAÇÕES ELÉTRICAS | C17: Físico % | D17: =D18/$D$22 -> 0.27434347 | E17: 0.25 | G17: 0.5 | I17: 0.25
C18: Financeiro | D18: ='Planilha Orcamentária'!H31 -> 55285.2 | E18: =D18*E17 -> 13821.3 | G18: =D18*G17 -> 27642.6 | I18: =D18*I17 -> 13821.3
A19: 7.0 | B19: ='Planilha Orcamentária'!C43 -> LIMPEZA FINAL DE OBRA | C19: Físico % | D19: =D20/$D$22 -> 0.010729233 | I19: 1
C20: Financeiro | D20: ='Planilha Orcamentária'!H43 -> 2162.1357 | I20: =D20*I19 -> 2162.1357
A21: TOTAL | C21: Físico % | D21: =SUM(D7+D9+D11+D13+D15+D17+D19) -> 1 | E21: =E22/D22 -> 0.28907164 | G21: =G22/$D$22 -> 0.45140195 | I21: =I22/$D$22 -> 0.25952641 | K21: =SUM(E21:J21) -> 1
C22: Financeiro | D22: =SUM(D8+D10+D12+D14+D16+D18+D20) -> 201518.19 | E22: =(E8+E10+E12+E14+E16+E18+E20) -> 58253.193 | G22: =SUM(G8+G10+G12+G14+G16+G18+G20) -> 90965.704 | I22: =SUM(I8+I10+I12+I14+I16+I18+I20) -> 52299.292 | K22: =SUM(E22:J22) -> 201518.19
I23: Observações:
B26: ='Memória de Cálculo'!C44 -> Sebastião Barbosa Pinto Filho | L26: =SUM(E21:J21) -> 1
B27: ='Memória de Cálculo'!C45 -> CREA/MG Nº: MG 249.547/D | L27: =SUM(E22:J22) -> 201518.19
B30: ='Memória de Cálculo'!C49 -> Prefeito Municipal de Inhapim-MG
B31: ='Memória de Cálculo'!C50 -> Sandro Adriano Oliveira Silva

Sheet Memorial Descritivo
A2: MEMORIAL DESCRITIVO
A3: PREFEITURA MUNICIPAL DE INHAPIM-MG
A4: ='Planilha Orcamentária'!A4 -> OBRA: REVITALIZAÇÃO DA TRAVESSA ZACARIAS DE FREITAS | E4: FOLHA N º: | F4: 01/01.
A5: ='Planilha Orcamentária'!A5 -> LOCAL: PERÍMETRO URBANO - INHAPIM/MG - CEP: 35330-000 | E5: DATA: | F5: 46139
A7: ITEM | B7: CÓDIGO | C7: DESCRIÇÃO | D7: DETALHAMENTO
A8: 1.0 | C8: ='Planilha Orcamentária'!C10 -> SERVIÇOS PRELIMINARES
A9: ='Planilha Orcamentária'!A11 -> 1.1 | B9: ='Planilha Orcamentária'!B11 -> ED-28427 | C9: ='Planilha Orcamentária'!C11 -> FORNECIMENTO E COLOCAÇÃO DE PLACA DE OBRA EM CHAPA GALVANIZADA #26, ESP. 0,45MM, DIMENSÃO (3X1,5) M, PLOTADA COM ADESIVO VINÍLICO, AFIXADA COM REBITES 4, 8X40MM, EM ESTRUTURA METÁLICA DE METALON 20X20MM, ESP. 1, 25MM, INCLUSIVE SUPORTE EM EUCALIPTO AUTOCLAVADO PINTADO COM TINTA PVA DUAS (2) DEMÃOS | D9: Para a execução da placa de obras a empresa ganhadora deverá atender a especificação do manual de placa de obra de acordo com a descrição e as especificações do CREA.
A10: ='Planilha Orcamentária'!A12 -> 2.0 | C10: ='Planilha Orcamentária'!C12 -> DEMOLIÇÃO
A11: ='Planilha Orcamentária'!A13 -> 2.1 | B11: ='Planilha Orcamentária'!B13 -> SINAPI-104789 | C11: ='Planilha Orcamentária'!C13 -> DEMOLIÇÃO DE PISO DE CONCRETO SIMPLES, DE FORMA MANUAL, SEM REAPROVEITAMENTO. AF_09/2023 | D11: Serviço de demolição manual de piso em concreto simples, executado com ferramentas adequadas, sem reaproveitamento do material. Inclui fragmentação, remoção e destinação dos resíduos gerados. Deve ser realizado com controle de segurança e preservação das áreas adjacentes.
A12: ='Planilha Orcamentária'!A14 -> 3.0 | C12: ='Planilha Orcamentária'!C14 -> ALVENARIA
A13: ='Planilha Orcamentária'!A15 -> 3.1 | B13: ='Planilha Orcamentária'!B15 -> ED-50410 | C13: ='Planilha Orcamentária'!C15 -> MURETA DE TIJOLO COMUM ESP. = 15CM, H = 130 CM, A REVESTIR | D13: Execução de mureta em alvenaria de tijolo comum, com espessura de 15 cm e altura de 1,30 m. Estrutura assentada com argamassa adequada, garantindo alinhamento e estabilidade. Elemento previsto para receber revestimento posterior.
A14: ='Planilha Orcamentária'!A16 -> 3.2 | B14: ='Planilha Orcamentária'!B16 -> SINAPI-87894 | C14: ='Planilha Orcamentária'!C16 -> CHAPISCO APLICADO EM ALVENARIA (SEM PRESENÇA DE VÃOS) E ESTRUTURAS DE CONCRETO DE FACHADA, COM COLHER DE PEDREIRO. ARGAMASSA TRAÇO 1:3 COM PREPARO EM BETONEIRA 400L. AF_10/2022 | D14: Execução de chapisco em superfícies de alvenaria e estruturas de concreto de fachada, sem presença de vãos, aplicado manualmente com colher de pedreiro. Utiliza argamassa traço 1:3 (cimento e areia), preparada em betoneira de 400L. Serviço destinado a promover aderência para revestimentos posteriores.
A15: ='Planilha Orcamentária'!A17 -> 3.3 | B15: ='Planilha Orcamentária'!B17 -> SINAPI-104219 | C15: ='Planilha Orcamentária'!C17 -> EMBOÇO OU MASSA ÚNICA EM ARGAMASSA INDUSTRIALIZADA, PREPARO MECÂNICA E APLICAÇÃO COM EQUIPAMENTO DE MISTURA E PROJEÇÃO DE 1,5 M3/H DE ARGAMASSA EM PANOS DE FACHADA COM PRESENÇA DE VÃOS, ESPESSURA DE 25 MM, ACESSO POR ANDAIME. AF_08/2022 | D15: Execução de emboço ou massa única com argamassa industrializada, preparo mecânico e aplicação por projeção em fachadas com vãos, utilizando equipamento com capacidade de 1,5 m³/h. Camada com espessura de 25 mm, aplicada com acesso por andaime. Serviço destinado à regularização e acabamento das superfícies.
A16: 4.0 | C16: ='Planilha Orcamentária'!C18 -> PINTURA
A17: 4.1 | B17: ='Planilha Orcamentária'!B19 -> ED-50521 | C17: ='Planilha Orcamentária'!C19 -> PINTURA COM TEXTURA ACRÍLICA COM ROLO, INCLUSIVE UMA (1) DEMÃO DE SELADOR ACRÍLICO | D17: Execução de pintura com textura acrílica aplicada com rolo, sobre superfície previamente preparada. Inclui uma demão de selador acrílico para uniformização e melhor aderência. Serviço destinado ao acabamento e proteção das superfícies.
A18: 4.2 | B18: ='Planilha Orcamentária'!B20 -> ED-50491 | C18: ='Planilha Orcamentária'!C20 -> PINTURA ESMALTE BASE SOLVENTE EM ESQUADRIAS DE FERRO, DUAS (2) DEMÃOS, COM APLICAÇÃO MANUAL, INCLUSIVE UMA (1) DEMÃO DE FUNDO ANTICORROSIVO | D18: Execução de pintura em esquadrias metálicas com esmalte base solvente, aplicada manualmente em duas demãos. Inclui preparo da superfície e aplicação prévia de uma demão de fundo anticorrosivo. Serviço destinado à proteção e acabamento das peças metálicas.
A19: 4.3 | B19: ='Planilha Orcamentária'!#REF! -> #REF! | C19: ='Planilha Orcamentária'!#REF! -> #REF! | D19: Execução de pintura em piso de pedras decorativas com verniz de poliuretano fosco, aplicada manualmente em três demãos. Inclui limpeza e preparo da superfície para melhor aderência. Serviço destinado à proteção e valorização estética do piso.
A20: ='Planilha Orcamentária'!A23 -> 5.0 | C20: ='Planilha Orcamentária'!C23 -> PISOS, REVESTIMENTOS, CORRIMÃOS
A21: ='Planilha Orcamentária'!A24 -> 5.1 | B21: ='Planilha Orcamentária'!B24 -> SINAPI-94992 | C21: ='Planilha Orcamentária'!C24 -> EXECUÇÃO DE PASSEIO (CALÇADA) OU PISO DE CONCRETO COM CONCRETO MOLDADO IN LOCO, FEITO EM OBRA, ACABAMENTO CONVENCIONAL, ESPESSURA 6 CM, ARMADO. AF_08/2022 | D21: Execução de passeio ou piso em concreto moldado in loco, produzido na própria obra, com acabamento convencional. Camada com espessura de 6 cm, armada para maior resistência e durabilidade. Serviço destinado à circulação segura de pedestres.
A22: ='Planilha Orcamentária'!A25 -> 5.2 | B22: ='Planilha Orcamentária'!B25 -> SINAPI-101091 | C22: ='Planilha Orcamentária'!C25 -> PISO EM LADRILHO HIDRÁULICO APLICADO EM AMBIENTES EXTERNOS. AF_05/2020 | D22: Execução de piso em ladrilho hidráulico em áreas externas, assentado sobre base adequada com argamassa. Inclui alinhamento, nivelamento e rejuntamento das peças. Serviço destinado a acabamento resistente, durável e de valor estético.
A23: ='Planilha Orcamentária'!A26 -> 5.3 | B23: ='Planilha Orcamentária'!B26 -> ED-50717 | C23: ='Planilha Orcamentária'!C26 -> REVESTIMENTO COM AZULEJO BRANCO (20X20) CM, JUNTA A PRUMO, ASSENTAMENTO COM ARGAMASSA INDUSTRIALIZADA, INCLUSIVE REJUNTAMENTO | D23: Execução de revestimento com azulejo branco 20x20 cm, assentado com argamassa industrializada e juntas a prumo. Inclui alinhamento, nivelamento e rejuntamento das peças. Serviço destinado ao acabamento e proteção de superfícies.
A24: ='Planilha Orcamentária'!A27 -> 5.4 | B24: ='Planilha Orcamentária'!B27 -> ED-50717 | C24: ='Planilha Orcamentária'!C27 -> REVESTIMENTO COM AZULEJO BRANCO (20X20) CM, JUNTA A PRUMO, ASSENTAMENTO COM ARGAMASSA INDUSTRIALIZADA, INCLUSIVE REJUNTAMENTO | D24: Execução de revestimento com azulejo branco 20x20 cm, assentado com argamassa industrializada e juntas a prumo. Inclui alinhamento, nivelamento e rejuntamento das peças. Serviço destinado ao acabamento e proteção de superfícies.
A25: ='Planilha Orcamentária'!A29 -> 5.6 | B25: ='Planilha Orcamentária'!B29 -> ED-50717 | C25: ='Planilha Orcamentária'!C29 -> REVESTIMENTO COM AZULEJO BRANCO (20X20) CM, JUNTA A PRUMO, ASSENTAMENTO COM ARGAMASSA INDUSTRIALIZADA, INCLUSIVE REJUNTAMENTO | D25: Execução de revestimento com azulejo branco 20x20 cm, assentado com argamassa industrializada e juntas a prumo. Inclui alinhamento, nivelamento e rejuntamento das peças. Serviço destinado ao acabamento e proteção de superfícies.
A26: ='Planilha Orcamentária'!A30 -> 5.7 | B26: ='Planilha Orcamentária'!B30 -> ED-32001 | C26: ='Planilha Orcamentária'!C30 -> CORRIMÃO DUPLO EM TUBO GALVANIZADO, COM COSTURA, DIÂMETRO DE 1.1/2", ESP. 3MM, FIXADO EM PISO COM MONTANTE VERTICAL, DIÂMETRO DE 1.1/2", INCLUSIVE SUPORTE PARA CORRIMÃO EM BARRA CHATA (1"X1/2"), EXCLUSIVE PINTURA | D26: Execução de corrimão simples em aço galvanizado, com diâmetro externo de 1 1/2", fixado diretamente em parede. Inclui fornecimento, chumbamento e fixações adequadas. Elemento destinado à segurança e apoio de usuários.
A27: ='Planilha Orcamentária'!A31 -> 6.0 | C27: ='Planilha Orcamentária'!C31 -> INSTALAÇÕES ELÉTRICAS
A28: ='Planilha Orcamentária'!A32 -> 6.1 | B28: ='Planilha Orcamentária'!B32 -> SINAPI-101499 | C28: ='Planilha Orcamentária'!C32 -> ENTRADA DE ENERGIA ELÉTRICA, AÉREA, BIFÁSICA, COM CAIXA DE SOBREPOR, CABO DE 25 MM2 E DISJUNTOR DIN 50A (NÃO INCLUSO O POSTE DE CONCRETO). AF_12/2025 | D28: Execução de entrada de energia elétrica aérea bifásica, com instalação de caixa de sobrepor, cabos de 25 mm² e disjuntor DIN de 50A. Inclui conexões, fixações e adequações conforme normas vigentes. Não contempla o fornecimento e instalação do poste de concreto.
A29: ='Planilha Orcamentária'!A33 -> 6.2 | B29: ='Planilha Orcamentária'!B33 -> SINAPI-91833 | C29: ='Planilha Orcamentária'!C33 -> ELETRODUTO FLEXÍVEL CORRUGADO REFORÇADO, PVC, DN 20 MM (1/2"), PARA CIRCUITOS TERMINAIS, INSTALADO EM FORRO - FORNECIMENTO E INSTALAÇÃO. AF_03/2023 | D29: Instalação de eletroduto flexível corrugado reforçado em PVC, diâmetro nominal de 20 mm (1/2”), destinado a circuitos terminais. Aplicado em forro, com fornecimento do material e execução completa. Inclui fixação, passagem e adequação conforme normas técnicas.
A30: ='Planilha Orcamentária'!A34 -> 6.3 | B30: ='Planilha Orcamentária'!B34 -> SINAPI-101883 | C30: ='Planilha Orcamentária'!C34 -> QUADRO DE DISTRIBUIÇÃO DE ENERGIA EM CHAPA DE AÇO GALVANIZADO, DE EMBUTIR, COM BARRAMENTO TRIFÁSICO, PARA 18 DISJUNTORES DIN 100A - FORNECIMENTO E INSTALAÇÃO. AF_07/2025 | D30: Instalação de quadro de distribuição de energia de embutir, em chapa de aço galvanizado, com barramento trifásico para até 18 disjuntores DIN de 100A. Inclui fornecimento do quadro, fixação, conexões e adequações necessárias. Serviço destinado à organização e proteção dos circuitos elétricos.
A31: ='Planilha Orcamentária'!A35 -> 6.4 | B31: ='Planilha Orcamentária'!B35 -> SINAPI-106287 | C31: ='Planilha Orcamentária'!C35 -> DISJUNTOR TERMOMAGNETICO PARA TRILHO DIN (IEC), TRIPOLAR, 25 A, PARA QUADRO DE BOMBA - FORNECIMENTO E INSTALAÇÃO. AF_11/2025 | D31: Fornecimento e instalação de disjuntor termomagnético tripolar, padrão trilho DIN (IEC), com corrente nominal de 25 A, destinado a quadro de bomba. Inclui fixação, conexões e testes de funcionamento. Equipamento voltado à proteção contra sobrecargas e curtos-circuitos.
A32: ='Planilha Orcamentária'!A36 -> 6.5 | B32: ='Planilha Orcamentária'!B36 -> ED-50228 | C32: ='Planilha Orcamentária'!C36 -> PONTO DE EMBUTIR PARA UMA (1) LUMINÁRIA, COM ELETRODUTO DE PVC RÍGIDO ROSCÁVEL, DN 20MM (3/4"), EMBUTIDO NA LAJE E CABO DE COBRE FLEXÍVEL, CLASSE 5, ISOLAMENTO TIPO LSHF/ATOX, NÃO HALOGENADO, SEÇÃO 1,5MM2 ( 70°C-450/750V), COM DISTÂNCIA DE ATÉ CINCO (5) METROS DO PONTO DE DERIVAÇÃO, EXCLUSIVE LUMINÁRIA, INCLUSIVE CAIXA DE LIGAÇÃO OCTOGONAL, SUPORTE E FIXAÇÃO DO ELETRODUTO | D32: Execução de ponto elétrico embutido para uma luminária, com eletroduto de PVC rígido roscável DN 20 mm (3/4”) instalado em laje e cabo de cobre flexível 1,5 mm², isolação LSHF/ATOX. Inclui caixa octogonal, suportes, fixações e interligação em até 5 m do ponto de derivação. Não contempla o fornecimento da luminária.
A33: ='Planilha Orcamentária'!A38 -> 6.7 | B33: ='Planilha Orcamentária'!B38 -> COMPOSIÇÃO-001 | C33: ='Planilha Orcamentária'!C38 -> POSTE DECORATIVO PARA JARDIM EM AÇO TUBULAR, H = *2,5* M, SEM LUMINÁRIA - FORNECIMENTO E INSTALAÇÃO. AF_04/2025 | D33: Fornecimento e instalação de poste decorativo para jardim em aço tubular, com altura de 2,5 m. Inclui fixação, base e adequações necessárias para implantação. Não contempla o fornecimento da luminária.
A34: ='Planilha Orcamentária'!A40 -> 6.9 | B34: ='Planilha Orcamentária'!B40 -> ED-49379 | C34: ='Planilha Orcamentária'!C40 -> LÂMPADA MISTA, BASE E27, POTÊNCIA DE 160W, TENSÃO 220V, EXCLUSIVE LUMINÁRIA | D34: Fornecimento e instalação de lâmpada mista, base E27, potência de 160W e tensão de 220V. Destinada à iluminação em conjunto com luminária adequada. Não inclui o fornecimento da luminária.
A35: ='Planilha Orcamentária'!A41 -> 6.10 | B35: ='Planilha Orcamentária'!B41 -> COMPOSIÇÃO-002 | C35: ='Planilha Orcamentária'!C41 -> INSTALAÇÃO DE BALIZADOR METÁLICO COM LED, EM ALUMÍNIO COM DIFUSOR EM POLICARBONATO E DIMENSÕES 6,2 CM X30 CM, COM PINTURA ELETROSTÁTICA, SOBRE PISO DE CONCRETO EXISTENTE. AF_11/2021 | D35: Instalação de balizador metálico com LED, em alumínio com difusor em policarbonato e dimensões de 6,2 x 30 cm, com pintura eletrostática. Fixado sobre piso de concreto existente, incluindo conexões e ajustes necessários. Equipamento destinado à sinalização e iluminação de áreas externas.
A36: ='Planilha Orcamentária'!A42 -> 6.11 | B36: ='Planilha Orcamentária'!B42 -> COMPOSIÇÃO-004 | C36: ='Planilha Orcamentária'!C42 -> ARANDELA CURVA COM CHAPÉU GLOBO ACRÍLICO FORNECIMENTO E INTALAÇÃO | D36: Realiza-se o carregamento e transporte do material com caminhão basculante de 18 m³, circulando sobre via urbana com revestimento primário, garantindo segurança e fluxo adequado.
A37: ='Planilha Orcamentária'!A43 -> 7.0 | C37: ='Planilha Orcamentária'!C43 -> LIMPEZA FINAL DE OBRA
A38: ='Planilha Orcamentária'!A44 -> 7.1 | B38: ='Planilha Orcamentária'!B44 -> ED-50266 | C38: ='Planilha Orcamentária'!C44 -> LIMPEZA FINAL PARA ENTREGA DA OBRA | D38: Será executada sobre base regularizada e compactada, com fôrmas de madeira niveladas e armadura conforme projeto estrutural. O concreto será dosado em traço estrutural adequado (fck ≥ 20 MPa), lançado e adensado mecanicamente para evitar vazios. Após o acabamento superficial, a viga será curada por umidade mínima de 7 dias, garantindo resistência e integridade do conjunto do pavimento intertravado.
C41: Nome do(a) Responsável Técnico(a)
C42: ='Planilha Orcamentária'!C48 -> Sebastião Barbosa Pinto Filho
C43: ='Planilha Orcamentária'!C49 -> CREA/MG Nº: MG 249.547/D
C48: Nome do(a) Prefeito(a) Municipal
...

Sheet BDI
A4: ='Planilha Orcamentária'!A4 -> OBRA: REVITALIZAÇÃO DA TRAVESSA ZACARIAS DE FREITAS
A5: ='Planilha Orcamentária'!A5 -> LOCAL: PERÍMETRO URBANO - INHAPIM/MG - CEP: 35330-000
A6: MUNICIPIO: INHAPIM/MG - CEP: 35330-000
A7: DATA: | B7: 46139
H12: 0.038
H13: 0.0032
H14: 0.005
H15: 0.0102
H16: 0.0664
H17: 0.0365
H18: 0.025
H19: 0
C34: BDI = | D34: 0.2843
A39: ___________________________ Sebastião Barbosa Pinto Filho Engenheiro Civil Crea-MG 249.547/D
