Workbook

Sheet TODAS
D1: Obra | E1: Bancos | G1: B.D.I. | I1: Encargos Sociais
D2: MANUTENÇÃO PREDIAL CIMAG - TOTAL | E2: SINAPI - 02/2026 - Minas Gerais | G2: 26,93% | I2: Desonerado: embutido nos preços unitário dos insumos de mão de obra, de acordo com as bases.
A3: Orçamento Sintético
A4: Item | B4: Código | C4: Banco | D4: Descrição | E4: Und | F4: Quant. | G4: Valor Unit | H4: Valor Unit com BDI | I4: Total | J4: Peso (%)
A5: 1 | D5: ACOMPANHAMENTO DE MANUTENÇÕES | I5: =SUM(I6:I7) -> 5668000.5 | J5: =I5/$I$251 -> 0.078717637
A6: 1.1 | B6: 90778 | C6: SINAPI | D6: ENGENHEIRO CIVIL DE OBRA PLENO COM ENCARGOS COMPLEMENTARES | E6: H | F6: =SUM(Alagoa!F6,Arantina!F6,Aiuruoca!F6,Baependi!F6,'Bocaina de Minas'!F6,Cambuquira!F6,'Carmo de Minas'!F6,Caxambu!F6,'Conceição do Rio Verde'!F6,Cruzilia!F6,'Dom Viçoso'!F6,Itamonte!F6,Itanhandu!F6,Jesuânia!F6,Lambari!F6,Liberdade!F6,Minduri!F6,'Olimpio Noronha'!F6,'Passa Quatro'!F6,'Passa Vinte'!F6,'Pouso Alto'!F6,'São Lourenço'!F6,'São Sebastião'!F6,'São Thome'!F6,Seritinga!F6,Serranos!F6,'Soledade de Minas'!F6,'Tres Corações'!F6,Virginia!F6,Cristina!F6) -> 16579.845 | G6: 136.69 | H6: =TRUNC((G6*$G$2)+(G6),2) -> 173.5 | I6: =TRUNC(H6*F6,2) -> 2876603.1 | J6: =I6/$I$251 -> 0.03995049
A7: 1.2 | B7: 90776 | C7: SINAPI | D7: ENCARREGADO GERAL COM ENCARGOS COMPLEMENTARES | E7: H | F7: =SUM(Alagoa!F7,Arantina!F7,Aiuruoca!F7,Baependi!F7,'Bocaina de Minas'!F7,Cambuquira!F7,'Carmo de Minas'!F7,Caxambu!F7,'Conceição do Rio Verde'!F7,Cruzilia!F7,'Dom Viçoso'!F7,Itamonte!F7,Itanhandu!F7,Jesuânia!F7,Lambari!F7,Liberdade!F7,Minduri!F7,'Olimpio Noronha'!F7,'Passa Quatro'!F7,'Passa Vinte'!F7,'Pouso Alto'!F7,'São Lourenço'!F7,'São Sebastião'!F7,'São Thome'!F7,Seritinga!F7,Serranos!F7,'Soledade de Minas'!F7,'Tres Corações'!F7,Virginia!F7,Cristina!F7) -> 35302.864 | G7: 62.3 | H7: =TRUNC((G7*$G$2)+(G7),2) -> 79.07 | I7: =TRUNC(H7*F7,2) -> 2791397.5 | J7: =I7/$I$251 -> 0.038767147
A8: 2 | D8: SERVIÇOS PRELIMINARES (DEMOLIÇÕES / RETIRADAS) | I8: =SUM(I9:I28) -> 5924116.9 | J8: =I8/$I$251 -> 0.082274602
A9: 2.1 | B9: 97633 | C9: SINAPI | D9: DEMOLIÇÃO DE REVESTIMENTO CERÂMICO, DE FORMA MANUAL, SEM REAPROVEITAMENTO. AF_09/2023 | E9: m² | F9: =SUM(Alagoa!F9,Arantina!F9,Aiuruoca!F9,Baependi!F9,'Bocaina de Minas'!F9,Cambuquira!F9,'Carmo de Minas'!F9,Caxambu!F9,'Conceição do Rio Verde'!F9,Cruzilia!F9,'Dom Viçoso'!F9,Itamonte!F9,Itanhandu!F9,Jesuânia!F9,Lambari!F9,Liberdade!F9,Minduri!F9,'Olimpio Noronha'!F9,'Passa Quatro'!F9,'Passa Vinte'!F9,'Pouso Alto'!F9,'São Lourenço'!F9,'São Sebastião'!F9,'São Thome'!F9,Seritinga!F9,Serranos!F9,'Soledade de Minas'!F9,'Tres Corações'!F9,Virginia!F9,Cristina!F9) -> 17479.902 | G9: 25.97 | H9: =TRUNC((G9*$G$2)+(G9),2) -> 32.96 | I9: =TRUNC(H9*F9,2) -> 576137.58 | J9: =I9/$I$251 -> 0.008001444
A10: 2.2 | B10: 97663 | C10: SINAPI | D10: REMOÇÃO DE LOUÇAS, DE FORMA MANUAL, SEM REAPROVEITAMENTO. AF_09/2023 | E10: UN | F10: =SUM(Alagoa!F10,Arantina!F10,Aiuruoca!F10,Baependi!F10,'Bocaina de Minas'!F10,Cambuquira!F10,'Carmo de Minas'!F10,Caxambu!F10,'Conceição do Rio Verde'!F10,Cruzilia!F10,'Dom Viçoso'!F10,Itamonte!F10,Itanhandu!F10,Jesuânia!F10,Lambari!F10,Liberdade!F10,Minduri!F10,'Olimpio Noronha'!F10,'Passa Quatro'!F10,'Passa Vinte'!F10,'Pouso Alto'!F10,'São Lourenço'!F10,'São Sebastião'!F10,'São Thome'!F10,Seritinga!F10,Serranos!F10,'Soledade de Minas'!F10,'Tres Corações'!F10,Virginia!F10,Cristina!F10) -> 5501.3589 | G10: 14.14 | H10: =TRUNC((G10*$G$2)+(G10),2) -> 17.94 | I10: =TRUNC(H10*F10,2) -> 98694.37 | J10: =I10/$I$251 -> 0.0013706752
A11: 2.3 | B11: 97664 | C11: SINAPI | D11: REMOÇÃO DE ACESSÓRIOS, DE FORMA MANUAL, SEM REAPROVEITAMENTO. AF_09/2023 | E11: UN | F11: =SUM(Alagoa!F11,Arantina!F11,Aiuruoca!F11,Baependi!F11,'Bocaina de Minas'!F11,Cambuquira!F11,'Carmo de Minas'!F11,Caxambu!F11,'Conceição do Rio Verde'!F11,Cruzilia!F11,'Dom Viçoso'!F11,Itamonte!F11,Itanhandu!F11,Jesuânia!F11,Lambari!F11,Liberdade!F11,Minduri!F11,'Olimpio Noronha'!F11,'Passa Quatro'!F11,'Passa Vinte'!F11,'Pouso Alto'!F11,'São Lourenço'!F11,'São Sebastião'!F11,'São Thome'!F11,Seritinga!F11,Serranos!F11,'Soledade de Minas'!F11,'Tres Corações'!F11,Virginia!F11,Cristina!F11) -> 6582.1091 | G11: 1.76 | H11: =TRUNC((G11*$G$2)+(G11),2) -> 2.23 | I11: =TRUNC(H11*F11,2) -> 14678.1 | J11: =I11/$I$251 -> 0.00020385061
A12: 2.4 | B12: 90447 | C12: SINAPI | D12: RASGO LINEAR MANUAL EM ALVENARIA, PARA ELETRODUTOS, DIÂMETROS MENORES OU IGUAIS A 40 MM. AF_09/2023 | E12: M | F12: =SUM(Alagoa!F12,Arantina!F12,Aiuruoca!F12,Baependi!F12,'Bocaina de Minas'!F12,Cambuquira!F12,'Carmo de Minas'!F12,Caxambu!F12,'Conceição do Rio Verde'!F12,Cruzilia!F12,'Dom Viçoso'!F12,Itamonte!F12,Itanhandu!F12,Jesuânia!F12,Lambari!F12,Liberdade!F12,Minduri!F12,'Olimpio Noronha'!F12,'Passa Quatro'!F12,'Passa Vinte'!F12,'Pouso Alto'!F12,'São Lourenço'!F12,'São Sebastião'!F12,'São Thome'!F12,Seritinga!F12,Serranos!F12,'Soledade de Minas'!F12,'Tres Corações'!F12,Virginia!F12,Cristina!F12) -> 14086.778 | G12: 9.28 | H12: =TRUNC((G12*$G$2)+(G12),2) -> 11.77 | I12: =TRUNC(H12*F12,2) -> 165801.37 | J12: =I12/$I$251 -> 0.0023026625
A13: 2.5 | B13: 97660 | C13: SINAPI | D13: REMOÇÃO DE INTERRUPTORES/TOMADAS ELÉTRICAS, DE FORMA MANUAL, SEM REAPROVEITAMENTO. AF_09/2023 | E13: UN | F13: =SUM(Alagoa!F13,Arantina!F13,Aiuruoca!F13,Baependi!F13,'Bocaina de Minas'!F13,Cambuquira!F13,'Carmo de Minas'!F13,Caxambu!F13,'Conceição do Rio Verde'!F13,Cruzilia!F13,'Dom Viçoso'!F13,Itamonte!F13,Itanhandu!F13,Jesuânia!F13,Lambari!F13,Liberdade!F13,Minduri!F13,'Olimpio Noronha'!F13,'Passa Quatro'!F13,'Passa Vinte'!F13,'Pouso Alto'!F13,'São Lourenço'!F13,'São Sebastião'!F13,'São Thome'!F13,Seritinga!F13,Serranos!F13,'Soledade de Minas'!F13,'Tres Corações'!F13,Virginia!F13,Cristina!F13) -> 41445.964 | G13: 0.74 | H13: =TRUNC((G13*$G$2)+(G13),2) -> 0.93 | I13: =TRUNC(H13*F13,2) -> 38544.74 | J13: =I13/$I$251 -> 0.00053531238
A14: 2.6 | B14: 97661 | C14: SINAPI | D14: REMOÇÃO DE CABOS ELÉTRICOS, COM SEÇÃO DE 10 MM², FORMA MANUAL, SEM REAPROVEITAMENTO. AF_09/2023 | E14: M | F14: =SUM(Alagoa!F14,Arantina!F14,Aiuruoca!F14,Baependi!F14,'Bocaina de Minas'!F14,Cambuquira!F14,'Carmo de Minas'!F14,Caxambu!F14,'Conceição do Rio Verde'!F14,Cruzilia!F14,'Dom Viçoso'!F14,Itamonte!F14,Itanhandu!F14,Jesuânia!F14,Lambari!F14,Liberdade!F14,Minduri!F14,'Olimpio Noronha'!F14,'Passa Quatro'!F14,'Passa Vinte'!F14,'Pouso Alto'!F14,'São Lourenço'!F14,'São Sebastião'!F14,'São Thome'!F14,Seritinga!F14,Serranos!F14,'Soledade de Minas'!F14,'Tres Corações'!F14,Virginia!F14,Cristina!F14) -> 626449.42 | G14: 0.8 | H14: =TRUNC((G14*$G$2)+(G14),2) -> 1.01 | I14: =TRUNC(H14*F14,2) -> 632713.91 | J14: =I14/$I$251 -> 0.0087871805
A15: 2.7 | B15: 97665 | C15: SINAPI | D15: REMOÇÃO DE LUMINÁRIAS, DE FORMA MANUAL, SEM REAPROVEITAMENTO. AF_09/2023 | E15: UN | F15: =SUM(Alagoa!F15,Arantina!F15,Aiuruoca!F15,Baependi!F15,'Bocaina de Minas'!F15,Cambuquira!F15,'Carmo de Minas'!F15,Caxambu!F15,'Conceição do Rio Verde'!F15,Cruzilia!F15,'Dom Viçoso'!F15,Itamonte!F15,Itanhandu!F15,Jesuânia!F15,Lambari!F15,Liberdade!F15,Minduri!F15,'Olimpio Noronha'!F15,'Passa Quatro'!F15,'Passa Vinte'!F15,'Pouso Alto'!F15,'São Lourenço'!F15,'São Sebastião'!F15,'São Thome'!F15,Seritinga!F15,Serranos!F15,'Soledade de Minas'!F15,'Tres Corações'!F15,Virginia!F15,Cristina!F15) -> 8216.0635 | G15: 2.01 | H15: =TRUNC((G15*$G$2)+(G15),2) -> 2.55 | I15: =TRUNC(H15*F15,2) -> 20950.96 | J15: =I15/$I$251 -> 0.00029096858
A16: 2.8 | B16: 97644 | C16: SINAPI | D16: REMOÇÃO DE PORTAS, DE FORMA MANUAL, SEM REAPROVEITAMENTO. AF_09/2023 | E16: m² | F16: =SUM(Alagoa!F16,Arantina!F16,Aiuruoca!F16,Baependi!F16,'Bocaina de Minas'!F16,Cambuquira!F16,'Carmo de Minas'!F16,Caxambu!F16,'Conceição do Rio Verde'!F16,Cruzilia!F16,'Dom Viçoso'!F16,Itamonte!F16,Itanhandu!F16,Jesuânia!F16,Lambari!F16,Liberdade!F16,Minduri!F16,'Olimpio Noronha'!F16,'Passa Quatro'!F16,'Passa Vinte'!F16,'Pouso Alto'!F16,'São Lourenço'!F16,'São Sebastião'!F16,'São Thome'!F16,Seritinga!F16,Serranos!F16,'Soledade de Minas'!F16,'Tres Corações'!F16,Virginia!F16,Cristina!F16) -> 8161.1139 | G16: 10.69 | H16: =TRUNC((G16*$G$2)+(G16),2) -> 13.56 | I16: =TRUNC(H16*F16,2) -> 110664.7 | J16: =I16/$I$251 -> 0.0015369201
A17: 2.9 | B17: 97645 | C17: SINAPI | D17: REMOÇÃO DE JANELAS, DE FORMA MANUAL, SEM REAPROVEITAMENTO. AF_09/2023 | E17: m² | F17: =SUM(Alagoa!F17,Arantina!F17,Aiuruoca!F17,Baependi!F17,'Bocaina de Minas'!F17,Cambuquira!F17,'Carmo de Minas'!F17,Caxambu!F17,'Conceição do Rio Verde'!F17,Cruzilia!F17,'Dom Viçoso'!F17,Itamonte!F17,Itanhandu!F17,Jesuânia!F17,Lambari!F17,Liberdade!F17,Minduri!F17,'Olimpio Noronha'!F17,'Passa Quatro'!F17,'Passa Vinte'!F17,'Pouso Alto'!F17,'São Lourenço'!F17,'São Sebastião'!F17,'São Thome'!F17,Seritinga!F17,Serranos!F17,'Soledade de Minas'!F17,'Tres Corações'!F17,Virginia!F17,Cristina!F17) -> 17888.916 | G17: 27.59 | H17: =TRUNC((G17*$G$2)+(G17),2) -> 35.01 | I17: =TRUNC(H17*F17,2) -> 626290.95 | J17: =I17/$I$251 -> 0.008697978
A18: 2.10 | B18: 90441 | C18: SINAPI | D18: FURO MECANIZADO EM CONCRETO, COM MARTELO DEMOLIDOR, PARA INSTALAÇÕES HIDRÁULICAS, DIÂMETROS MAIORES QUE 75 MM E MENORES OU IGUAIS A 150 MM. AF_09/2023 | E18: UN | F18: =SUM(Alagoa!F18,Arantina!F18,Aiuruoca!F18,Baependi!F18,'Bocaina de Minas'!F18,Cambuquira!F18,'Carmo de Minas'!F18,Caxambu!F18,'Conceição do Rio Verde'!F18,Cruzilia!F18,'Dom Viçoso'!F18,Itamonte!F18,Itanhandu!F18,Jesuânia!F18,Lambari!F18,Liberdade!F18,Minduri!F18,'Olimpio Noronha'!F18,'Passa Quatro'!F18,'Passa Vinte'!F18,'Pouso Alto'!F18,'São Lourenço'!F18,'São Sebastião'!F18,'São Thome'!F18,Seritinga!F18,Serranos!F18,'Soledade de Minas'!F18,'Tres Corações'!F18,Virginia!F18,Cristina!F18) -> 4398.9504 | G18: 10.13 | H18: =TRUNC((G18*$G$2)+(G18),2) -> 12.85 | I18: =TRUNC(H18*F18,2) -> 56526.51 | J18: =I18/$I$251 -> 0.00078504462
A19: 2.11 | B19: 97631 | C19: SINAPI | D19: DEMOLIÇÃO DE ARGAMASSAS, DE FORMA MANUAL, SEM REAPROVEITAMENTO. AF_09/2023 | E19: m² | F19: =SUM(Alagoa!F19,Arantina!F19,Aiuruoca!F19,Baependi!F19,'Bocaina de Minas'!F19,Cambuquira!F19,'Carmo de Minas'!F19,Caxambu!F19,'Conceição do Rio Verde'!F19,Cruzilia!F19,'Dom Viçoso'!F19,Itamonte!F19,Itanhandu!F19,Jesuânia!F19,Lambari!F19,Liberdade!F19,Minduri!F19,'Olimpio Noronha'!F19,'Passa Quatro'!F19,'Passa Vinte'!F19,'Pouso Alto'!F19,'São Lourenço'!F19,'São Sebastião'!F19,'São Thome'!F19,Seritinga!F19,Serranos!F19,'Soledade de Minas'!F19,'Tres Corações'!F19,Virginia!F19,Cristina!F19) -> 8898.8251 | G19: 12.77 | H19: =TRUNC((G19*$G$2)+(G19),2) -> 16.2 | I19: =TRUNC(H19*F19,2) -> 144160.96 | J19: =I19/$I$251 -> 0.0020021188
A20: 2.12 | B20: 97643 | C20: SINAPI | D20: REMOÇÃO DE PISO DE MADEIRA (ASSOALHO E BARROTE), DE FORMA MANUAL, SEM REAPROVEITAMENTO. AF_09/2023 | E20: m² | F20: =SUM(Alagoa!F20,Arantina!F20,Aiuruoca!F20,Baependi!F20,'Bocaina de Minas'!F20,Cambuquira!F20,'Carmo de Minas'!F20,Caxambu!F20,'Conceição do Rio Verde'!F20,Cruzilia!F20,'Dom Viçoso'!F20,Itamonte!F20,Itanhandu!F20,Jesuânia!F20,Lambari!F20,Liberdade!F20,Minduri!F20,'Olimpio Noronha'!F20,'Passa Quatro'!F20,'Passa Vinte'!F20,'Pouso Alto'!F20,'São Lourenço'!F20,'São Sebastião'!F20,'São Thome'!F20,Seritinga!F20,Serranos!F20,'Soledade de Minas'!F20,'Tres Corações'!F20,Virginia!F20,Cristina!F20) -> 4133.1774 | G20: 28.2 | H20: =TRUNC((G20*$G$2)+(G20),2) -> 35.79 | I20: =TRUNC(H20*F20,2) -> 147926.41 | J20: =I20/$I$251 -> 0.0020544136
... A28: 2.20 | B28: 97062 | C28: SINAPI | D28: COLOCAÇÃO DE TELA EM ANDAIME FACHADEIRO. AF_03/2024 | E28: m² | F28: =SUM(Alagoa!F28,Arantina!F28,Aiuruoca!F28,Baependi!F28,'Bocaina de Minas'!F28,Cambuquira!F28,'Carmo de Minas'!F28,Caxambu!F28,'Conceição do Rio Verde'!F28,Cruzilia!F28,'Dom Viçoso'!F28,Itamonte!F28,Itanhandu!F28,Jesuânia!F28,Lambari!F28,Liberdade!F28,Minduri!F28,'Olimpio Noronha'!F28,'Passa Quatro'!F28,'Passa Vinte'!F28,'Pouso Alto'!F28,'São Lourenço'!F28,'São Sebastião'!F28,'São Thome'!F28,Seritinga!F28,Serranos!F28,'Soledade de Minas'!F28,'Tres Corações'!F28,Virginia!F28,Cristina!F28) -> 21825.903 | G28: 6.4 | H28: =TRUNC((G28*$G$2)+(G28),2) -> 8.12 | I28: =TRUNC(H28*F28,2) -> 177226.33 | J28: =I28/$I$251 -> 0.0024613332
A29: 3 | D29: CARGA, DESCARGA E / OU TRANSPORTE DE MATERIAIS PROVENIENTES DAS MANUTENÇÕES | I29: =SUM(I30:I33) -> 1149220.2 | J29: =I29/$I$251 -> 0.015960461
A30: 3.1 | B30: 100984 | C30: SINAPI | D30: CARGA, MANOBRA E DESCARGA DE ENTULHO EM CAMINHÃO BASCULANTE 18 M³ - CARGA COM ESCAVADEIRA HIDRÁULICA (CAÇAMBA DE 0,80 M³ / 111 HP) E DESCARGA LIVRE (UNIDADE: M3). AF_07/2020 | E30: m³ | F30: =SUM(Alagoa!F30,Arantina!F30,Aiuruoca!F30,Baependi!F30,'Bocaina de Minas'!F30,Cambuquira!F30,'Carmo de Minas'!F30,Caxambu!F30,'Conceição do Rio Verde'!F30,Cruzilia!F30,'Dom Viçoso'!F30,Itamonte!F30,Itanhandu!F30,Jesuânia!F30,Lambari!F30,Liberdade!F30,Minduri!F30,'Olimpio Noronha'!F30,'Passa Quatro'!F30,'Passa Vinte'!F30,'Pouso Alto'!F30,'São Lourenço'!F30,'São Sebastião'!F30,'São Thome'!F30,Seritinga!F30,Serranos!F30,'Soledade de Minas'!F30,'Tres Corações'!F30,Virginia!F30,Cristina!F30) -> 23365.3 | G30: 9.03 | H30: =TRUNC((G30*$G$2)+(G30),2) -> 11.46 | I30: =TRUNC(H30*F30,2) -> 267766.34 | J30: =I30/$I$251 -> 0.00371876
A31: 3.2 | B31: 95875 | C31: SINAPI | D31: TRANSPORTE COM CAMINHÃO BASCULANTE DE 10 M³, EM VIA URBANA PAVIMENTADA, DMT ATÉ 30 KM (UNIDADE: M3XKM). AF_07/2020 | E31: M3XKM | F31: =SUM(Alagoa!F31,Arantina!F31,Aiuruoca!F31,Baependi!F31,'Bocaina de Minas'!F31,Cambuquira!F31,'Carmo de Minas'!F31,Caxambu!F31,'Conceição do Rio Verde'!F31,Cruzilia!F31,'Dom Viçoso'!F31,Itamonte!F31,Itanhandu!F31,Jesuânia!F31,Lambari!F31,Liberdade!F31,Minduri!F31,'Olimpio Noronha'!F31,'Passa Quatro'!F31,'Passa Vinte'!F31,'Pouso Alto'!F31,'São Lourenço'!F31,'São Sebastião'!F31,'São Thome'!F31,Seritinga!F31,Serranos!F31,'Soledade de Minas'!F31,'Tres Corações'!F31,Virginia!F31,Cristina!F31) -> 55549.296 | G31: 2.61 | H31: =TRUNC((G31*$G$2)+(G31),2) -> 3.31 | I31: =TRUNC(H31*F31,2) -> 183868.17 | J31: =I31/$I$251 -> 0.0025535756
A32: 3.3 | B32: 93358 | C32: SINAPI | D32: ESCAVAÇÃO MANUAL DE VALA. AF_09/2024 | E32: m³ | F32: =SUM(Alagoa!F32,Arantina!F32,Aiuruoca!F32,Baependi!F32,'Bocaina de Minas'!F32,Cambuquira!F32,'Carmo de Minas'!F32,Caxambu!F32,'Conceição do Rio Verde'!F32,Cruzilia!F32,'Dom Viçoso'!F32,Itamonte!F32,Itanhandu!F32,Jesuânia!F32,Lambari!F32,Liberdade!F32,Minduri!F32,'Olimpio Noronha'!F32,'Passa Quatro'!F32,'Passa Vinte'!F32,'Pouso Alto'!F32,'São Lourenço'!F32,'São Sebastião'!F32,'São Thome'!F32,Seritinga!F32,Serranos!F32,'Soledade de Minas'!F32,'Tres Corações'!F32,Virginia!F32,Cristina!F32) -> 4485.2165 | G32: 93.27 | H32: =TRUNC((G32*$G$2)+(G32),2) -> 118.38 | I32: =TRUNC(H32*F32,2) -> 530959.92 | J32: =I32/$I$251 -> 0.0073740131
A33: 3.4 | B33: 93382 | C33: SINAPI | D33: REATERRO MANUAL DE VALAS, COM COMPACTADOR DE SOLOS DE PERCUSSÃO. AF_08/2023 | E33: m³ | F33: =SUM(Alagoa!F33,Arantina!F33,Aiuruoca!F33,Baependi!F33,'Bocaina de Minas'!F33,Cambuquira!F33,'Carmo de Minas'!F33,Caxambu!F33,'Conceição do Rio Verde'!F33,Cruzilia!F33,'Dom Viçoso'!F33,Itamonte!F33,Itanhandu!F33,Jesuânia!F33,Lambari!F33,Liberdade!F33,Minduri!F33,'Olimpio Noronha'!F33,'Passa Quatro'!F33,'Passa Vinte'!F33,'Pouso Alto'!F33,'São Lourenço'!F33,'São Sebastião'!F33,'São Thome'!F33,Seritinga!F33,Serranos!F33,'Soledade de Minas'!F33,'Tres Corações'!F33,Virginia!F33,Cristina!F33) -> 4485.2165 | G33: 29.27 | H33: =TRUNC((G33*$G$2)+(G33),2) -> 37.15 | I33: =TRUNC(H33*F33,2) -> 166625.79 | J33: =I33/$I$251 -> 0.0023141121
A34: 4 | D34: MANUTENÇÃO DE INSTALAÇÕES HIDROSSANITÁRIAS | I34: =SUM(I35:I91) -> 11719986 | J34: =I34/$I$251 -> 0.16276809
A35: 4.1 | B35: 89714 | C35: SINAPI | D35: TUBO PVC, SERIE NORMAL, ESGOTO PREDIAL, DN 100 MM, FORNECIDO E INSTALADO EM RAMAL DE DESCARGA OU RAMAL DE ESGOTO SANITÁRIO. AF_08/2022 | E35: M | F35: =SUM(Alagoa!F35,Arantina!F35,Aiuruoca!F35,Baependi!F35,'Bocaina de Minas'!F35,Cambuquira!F35,'Carmo de Minas'!F35,Caxambu!F35,'Conceição do Rio Verde'!F35,Cruzilia!F35,'Dom Viçoso'!F35,Itamonte!F35,Itanhandu!F35,Jesuânia!F35,Lambari!F35,Liberdade!F35,Minduri!F35,'Olimpio Noronha'!F35,'Passa Quatro'!F35,'Passa Vinte'!F35,'Pouso Alto'!F35,'São Lourenço'!F35,'São Sebastião'!F35,'São Thome'!F35,Seritinga!F35,Serranos!F35,'Soledade de Minas'!F35,'Tres Corações'!F35,Virginia!F35,Cristina!F35) -> 5727.4988 | G35: 41.27 | H35: =TRUNC((G35*$G$2)+(G35),2) -> 52.38 | I35: =TRUNC(H35*F35,2) -> 300006.38 | J35: =I35/$I$251 -> 0.0041665122
A36: 4.2 | B36: 89713 | C36: SINAPI | D36: TUBO PVC, SERIE NORMAL, ESGOTO PREDIAL, DN 75 MM, FORNECIDO E INSTALADO EM RAMAL DE DESCARGA OU RAMAL DE ESGOTO SANITÁRIO. AF_08/2022 | E36: M | F36: =SUM(Alagoa!F36,Arantina!F36,Aiuruoca!F36,Baependi!F36,'Bocaina de Minas'!F36,Cambuquira!F36,'Carmo de Minas'!F36,Caxambu!F36,'Conceição do Rio Verde'!F36,Cruzilia!F36,'Dom Viçoso'!F36,Itamonte!F36,Itanhandu!F36,Jesuânia!F36,Lambari!F36,Liberdade!F36,Minduri!F36,'Olimpio Noronha'!F36,'Passa Quatro'!F36,'Passa Vinte'!F36,'Pouso Alto'!F36,'São Lourenço'!F36,'São Sebastião'!F36,'São Thome'!F36,Seritinga!F36,Serranos!F36,'Soledade de Minas'!F36,'Tres Corações'!F36,Virginia!F36,Cristina!F36) -> 13365.725 | G36: 36.84 | H36: =TRUNC((G36*$G$2)+(G36),2) -> 46.76 | I36: =TRUNC(H36*F36,2) -> 624981.3 | J36: =I36/$I$251 -> 0.0086797894
A37: 4.3 | B37: 89712 | C37: SINAPI | D37: TUBO PVC, SERIE NORMAL, ESGOTO PREDIAL, DN 50 MM, FORNECIDO E INSTALADO EM RAMAL DE DESCARGA OU RAMAL DE ESGOTO SANITÁRIO. AF_08/2022 | E37: M | F37: =SUM(Alagoa!F37,Arantina!F37,Aiuruoca!F37,Baependi!F37,'Bocaina de Minas'!F37,Cambuquira!F37,'Carmo de Minas'!F37,Caxambu!F37,'Conceição do Rio Verde'!F37,Cruzilia!F37,'Dom Viçoso'!F37,Itamonte!F37,Itanhandu!F37,Jesuânia!F37,Lambari!F37,Liberdade!F37,Minduri!F37,'Olimpio Noronha'!F37,'Passa Quatro'!F37,'Passa Vinte'!F37,'Pouso Alto'!F37,'São Lourenço'!F37,'São Sebastião'!F37,'São Thome'!F37,Seritinga!F37,Serranos!F37,'Soledade de Minas'!F37,'Tres Corações'!F37,Virginia!F37,Cristina!F37) -> 13365.725 | G37: 29.64 | H37: =TRUNC((G37*$G$2)+(G37),2) -> 37.62 | I37: =TRUNC(H37*F37,2) -> 502818.57 | J37: =I37/$I$251 -> 0.0069831838
A38: 4.4 | B38: 89744 | C38: SINAPI | D38: JOELHO 90 GRAUS, PVC, SERIE NORMAL, ESGOTO PREDIAL, DN 100 MM, JUNTA ELÁSTICA, FORNECIDO E INSTALADO EM RAMAL DE DESCARGA OU RAMAL DE ESGOTO SANITÁRIO. AF_08/2022 | E38: UN | F38: =SUM(Alagoa!F38,Arantina!F38,Aiuruoca!F38,Baependi!F38,'Bocaina de Minas'!F38,Cambuquira!F38,'Carmo de Minas'!F38,Caxambu!F38,'Conceição do Rio Verde'!F38,Cruzilia!F38,'Dom Viçoso'!F38,Itamonte!F38,Itanhandu!F38,Jesuânia!F38,Lambari!F38,Liberdade!F38,Minduri!F38,'Olimpio Noronha'!F38,'Passa Quatro'!F38,'Passa Vinte'!F38,'Pouso Alto'!F38,'São Lourenço'!F38,'São Sebastião'!F38,'São Thome'!F38,Seritinga!F38,Serranos!F38,'Soledade de Minas'!F38,'Tres Corações'!F38,Virginia!F38,Cristina!F38) -> 9875.3345 | G38: 28.94 | H38: =TRUNC((G38*$G$2)+(G38),2) -> 36.73 | I38: =TRUNC(H38*F38,2) -> 362721.03 | J38: =I38/$I$251 -> 0.0050374982
A39: 4.5 | B39: 89731 | C39: SINAPI | D39: JOELHO 90 GRAUS, PVC, SERIE NORMAL, ESGOTO PREDIAL, DN 50 MM, JUNTA ELÁSTICA, FORNECIDO E INSTALADO EM RAMAL DE DESCARGA OU RAMAL DE ESGOTO SANITÁRIO. AF_08/2022 | E39: UN | F39: =SUM(Alagoa!F39,Arantina!F39,Aiuruoca!F39,Baependi!F39,'Bocaina de Minas'!F39,Cambuquira!F39,'Carmo de Minas'!F39,Caxambu!F39,'Conceição do Rio Verde'!F39,Cruzilia!F39,'Dom Viçoso'!F39,Itamonte!F39,Itanhandu!F39,Jesuânia!F39,Lambari!F39,Liberdade!F39,Minduri!F39,'Olimpio Noronha'!F39,'Passa Quatro'!F39,'Passa Vinte'!F39,'Pouso Alto'!F39,'São Lourenço'!F39,'São Sebastião'!F39,'São Thome'!F39,Seritinga!F39,Serranos!F39,'Soledade de Minas'!F39,'Tres Corações'!F39,Virginia!F39,Cristina!F39) -> 2746.6794 | G39: 15.85 | H39: =TRUNC((G39*$G$2)+(G39),2) -> 20.11 | I39: =TRUNC(H39*F39,2) -> 55235.72 | J39: =I39/$I$251 -> 0.00076711802
A40: 4.6 | B40: 89746 | C40: SINAPI | D40: JOELHO 45 GRAUS, PVC, SERIE NORMAL, ESGOTO PREDIAL, DN 100 MM, JUNTA ELÁSTICA, FORNECIDO E INSTALADO EM RAMAL DE DESCARGA OU RAMAL DE ESGOTO SANITÁRIO. AF_08/2022 | E40: UN | F40: =SUM(Alagoa!F40,Arantina!F40,Aiuruoca!F40,Baependi!F40,'Bocaina de Minas'!F40,Cambuquira!F40,'Carmo de Minas'!F40,Caxambu!F40,'Conceição do Rio Verde'!F40,Cruzilia!F40,'Dom Viçoso'!F40,Itamonte!F40,Itanhandu!F40,Jesuânia!F40,Lambari!F40,Liberdade!F40,Minduri!F40,'Olimpio Noronha'!F40,'Passa Quatro'!F40,'Passa Vinte'!F40,'Pouso Alto'!F40,'São Lourenço'!F40,'São Sebastião'!F40,'São Thome'!F40,Seritinga!F40,Serranos!F40,'Soledade de Minas'!F40,'Tres Corações'!F40,Virginia!F40,Cristina!F40) -> 1652.271 | G40: 29.79 | H40: =TRUNC((G40*$G$2)+(G40),2) -> 37.81 | I40: =TRUNC(H40*F40,2) -> 62472.36 | J40: =I40/$I$251 -> 0.00086762105
A41: 4.7 | B41: 89795 | C41: SINAPI | D41: JUNÇÃO SIMPLES, PVC, SERIE NORMAL, ESGOTO PREDIAL, DN 75 X 75 MM, JUNTA ELÁSTICA, FORNECIDO E INSTALADO EM RAMAL DE DESCARGA OU RAMAL DE ESGOTO SANITÁRIO. AF_08/2022 | E41: UN | F41: =SUM(Alagoa!F41,Arantina!F41,Aiuruoca!F41,Baependi!F41,'Bocaina de Minas'!F41,Cambuquira!F41,'Carmo de Minas'!F41,Caxambu!F41,'Conceição do Rio Verde'!F41,Cruzilia!F41,'Dom Viçoso'!F41,Itamonte!F41,Itanhandu!F41,Jesuânia!F41,Lambari!F41,Liberdade!F41,Minduri!F41,'Olimpio Noronha'!F41,'Passa Quatro'!F41,'Passa Vinte'!F41,'Pouso Alto'!F41,'São Lourenço'!F41,'São Sebastião'!F41,'São Thome'!F41,Seritinga!F41,Serranos!F41,'Soledade de Minas'!F41,'Tres Corações'!F41,Virginia!F41,Cristina!F41) -> 2747.6794 | G41: 42.5 | H41: =TRUNC((G41*$G$2)+(G41),2) -> 53.94 | I41: =TRUNC(H41*F41,2) -> 148209.82 | J41: =I41/$I$251 -> 0.0020583496
A42: 4.8 | B42: 89834 | C42: SINAPI | D42: JUNÇÃO SIMPLES, PVC, SERIE NORMAL, ESGOTO PREDIAL, DN 100 X 100 MM, JUNTA ELÁSTICA, FORNECIDO E INSTALADO EM PRUMADA DE ESGOTO SANITÁRIO OU VENTILAÇÃO. AF_08/2022 | E42: UN | F42: =SUM(Alagoa!F42,Arantina!F42,Aiuruoca!F42,Baependi!F42,'Bocaina de Minas'!F42,Cambuquira!F42,'Carmo de Minas'!F42,Caxambu!F42,'Conceição do Rio Verde'!F42,Cruzilia!F42,'Dom Viçoso'!F42,Itamonte!F42,Itanhandu!F42,Jesuânia!F42,Lambari!F42,Liberdade!F42,Minduri!F42,'Olimpio Noronha'!F42,'Passa Quatro'!F42,'Passa Vinte'!F42,'Pouso Alto'!F42,'São Lourenço'!F42,'São Sebastião'!F42,'São Thome'!F42,Seritinga!F42,Serranos!F42,'Soledade de Minas'!F42,'Tres Corações'!F42,Virginia!F42,Cristina!F42) -> 1649.271 | G42: 55.27 | H42: =TRUNC((G42*$G$2)+(G42),2) -> 70.15 | I42: =TRUNC(H42*F42,2) -> 115696.35 | J42: =I42/$I$251 -> 0.0016068
A43: 4.9 | B43: 89808 | C43: SINAPI | D43: CURVA LONGA 90 GRAUS, PVC, SERIE NORMAL, ESGOTO PREDIAL, DN 75 MM, JUNTA ELÁSTICA, FORNECIDO E INSTALADO EM PRUMADA DE ESGOTO SANITÁRIO OU VENTILAÇÃO. AF_08/2022 | E43: UN | F43: =SUM(Alagoa!F43,Arantina!F43,Aiuruoca!F43,Baependi!F43,'Bocaina de Minas'!F43,Cambuquira!F43,'Carmo de Minas'!F43,Caxambu!F43,'Conceição do Rio Verde'!F43,Cruzilia!F43,'Dom Viçoso'!F43,Itamonte!F43,Itanhandu!F43,Jesuânia!F43,Lambari!F43,Liberdade!F43,Minduri!F43,'Olimpio Noronha'!F43,'Passa Quatro'!F43,'Passa Vinte'!F43,'Pouso Alto'!F43,'São Lourenço'!F43,'São Sebastião'!F43,'São Thome'!F43,Seritinga!F43,Serranos!F43,'Soledade de Minas'!F43,'Tres Corações'!F43,Virginia!F43,Cristina!F43) -> 2749.6794 | G43: 59.93 | H43: =TRUNC((G43*$G$2)+(G43),2) -> 76.06 | I43: =TRUNC(H43*F43,2) -> 209140.61 | J43: =I43/$I$251 -> 0.0029045612
A44: 4.10 | B44: 89806 | C44: SINAPI | D44: JOELHO 45 GRAUS, PVC, SERIE NORMAL, ESGOTO PREDIAL, DN 75 MM, JUNTA ELÁSTICA, FORNECIDO E INSTALADO EM PRUMADA DE ESGOTO SANITÁRIO OU VENTILAÇÃO. AF_08/2022 | E44: UN | F44: =SUM(Alagoa!F44,Arantina!F44,Aiuruoca!F44,Baependi!F44,'Bocaina de Minas'!F44,Cambuquira!F44,'Carmo de Minas'!F44,Caxambu!F44,'Conceição do Rio Verde'!F44,Cruzilia!F44,'Dom Viçoso'!F44,Itamonte!F44,Itanhandu!F44,Jesuânia!F44,Lambari!F44,Liberdade!F44,Minduri!F44,'Olimpio Noronha'!F44,'Passa Quatro'!F44,'Passa Vinte'!F44,'Pouso Alto'!F44,'São Lourenço'!F44,'São Sebastião'!F44,'São Thome'!F44,Seritinga!F44,Serranos!F44,'Soledade de Minas'!F44,'Tres Corações'!F44,Virginia!F44,Cristina!F44) -> 2749.6794 | G44: 22.5 | H44: =TRUNC((G44*$G$2)+(G44),2) -> 28.55 | I44: =TRUNC(H44*F44,2) -> 78503.34 | J44: =I44/$I$251 -> 0.0010902606
A45: 4.11 | B45: 91794 | C45: SINAPI | D45: (COMPOSIÇÃO REPRESENTATIVA) DO SERVIÇO DE INST. TUBO PVC, SÉRIE N, ESGOTO PREDIAL, DN 75 MM, (INST. EM RAMAL DE DESCARGA, RAMAL DE ESG. SANITÁRIO, PRUMADA DE ESG. SANITÁRIO OU VENTILAÇÃO), INCL. CONEXÕES, CORTES E FIXAÇÕES, P/ PRÉDIOS. AF_10/2015 | E45: M | F45: =SUM(Alagoa!F45,Arantina!F45,Aiuruoca!F45,Baependi!F45,'Bocaina de Minas'!F45,Cambuquira!F45,'Carmo de Minas'!F45,Caxambu!F45,'Conceição do Rio Verde'!F45,Cruzilia!F45,'Dom Viçoso'!F45,Itamonte!F45,Itanhandu!F45,Jesuânia!F45,Lambari!F45,Liberdade!F45,Minduri!F45,'Olimpio Noronha'!F45,'Passa Quatro'!F45,'Passa Vinte'!F45,'Pouso Alto'!F45,'São Lourenço'!F45,'São Sebastião'!F45,'São Thome'!F45,Seritinga!F45,Serranos!F45,'Soledade de Minas'!F45,'Tres Corações'!F45,Virginia!F45,Cristina!F45) -> 7622.568 | G45: 50.34 | H45: =TRUNC((G45*$G$2)+(G45),2) -> 63.89 | I45: =TRUNC(H45*F45,2) -> 487005.86 | J45: =I45/$I$251 -> 0.0067635757
A46: 4.12 | B46: 91792 | C46: SINAPI | D46: (COMPOSIÇÃO REPRESENTATIVA) DO SERVIÇO DE INSTALAÇÃO DE TUBO DE PVC, SÉRIE NORMAL, ESGOTO PREDIAL, DN 40 MM (INSTALADO EM RAMAL DE DESCARGA OU RAMAL DE ESGOTO SANITÁRIO), INCLUSIVE CONEXÕES, CORTES E FIXAÇÕES, PARA PRÉDIOS. AF_10/2015 | E46: M | F46: =SUM(Alagoa!F46,Arantina!F46,Aiuruoca!F46,Baependi!F46,'Bocaina de Minas'!F46,Cambuquira!F46,'Carmo de Minas'!F46,Caxambu!F46,'Conceição do Rio Verde'!F46,Cruzilia!F46,'Dom Viçoso'!F46,Itamonte!F46,Itanhandu!F46,Jesuânia!F46,Lambari!F46,Liberdade!F46,Minduri!F46,'Olimpio Noronha'!F46,'Passa Quatro'!F46,'Passa Vinte'!F46,'Pouso Alto'!F46,'São Lourenço'!F46,'São Sebastião'!F46,'São Thome'!F46,Seritinga!F46,Serranos!F46,'Soledade de Minas'!F46,'Tres Corações'!F46,Virginia!F46,Cristina!F46) -> 4194.127 | G46: 88.12 | H46: =TRUNC((G46*$G$2)+(G46),2) -> 111.85 | I46: =TRUNC(H46*F46,2) -> 469113.09 | J46: =I46/$I$251 -> 0.0065150795
... A91: 4.57 | B91: 89711 | C91: SINAPI | D91: TUBO PVC, SERIE NORMAL, ESGOTO PREDIAL, DN 40 MM, FORNECIDO E INSTALADO EM RAMAL DE DESCARGA OU RAMAL DE ESGOTO SANITÁRIO. AF_08/2022 | E91: M | F91: =SUM(Alagoa!F91,Arantina!F91,Aiuruoca!F91,Baependi!F91,'Bocaina de Minas'!F91,Cambuquira!F91,'Carmo de Minas'!F91,Caxambu!F91,'Conceição do Rio Verde'!F91,Cruzilia!F91,'Dom Viçoso'!F91,Itamonte!F91,Itanhandu!F91,Jesuânia!F91,Lambari!F91,Liberdade!F91,Minduri!F91,'Olimpio Noronha'!F91,'Passa Quatro'!F91,'Passa Vinte'!F91,'Pouso Alto'!F91,'São Lourenço'!F91,'São Sebastião'!F91,'São Thome'!F91,Seritinga!F91,Serranos!F91,'Soledade de Minas'!F91,'Tres Corações'!F91,Virginia!F91,Cristina!F91) -> 2693.1038 | G91: 23.63 | H91: =TRUNC((G91*$G$2)+(G91),2) -> 29.99 | I91: =TRUNC(H91*F91,2) -> 80766.18 | J91: =I91/$I$251 -> 0.0011216871
...

Sheet Alagoa
D1: Obra | E1: Bancos | G1: B.D.I. | I1: Encargos Sociais
D2: MANUTENÇÃO PREDIAL CIMAG - ALAGOA - MG | E2: SINAPI - 02/2026 - Minas Gerais | G2: 26,93% | I2: Desonerado: embutido nos preços unitário dos insumos de mão de obra, de acordo com as bases.
A3: Orçamento Sintético
A4: Item | B4: Código | C4: Banco | D4: Descrição | E4: Und | F4: Quant. | G4: Valor Unit | H4: Valor Unit com BDI | I4: Total | J4: Peso (%)
A5: 1 | D5: ACOMPANHAMENTO DE MANUTENÇÕES | I5: 94868.94 | J5: 0.064441332
A6: 1.1 | B6: 90778 | C6: SINAPI | D6: ENGENHEIRO CIVIL DE OBRA PLENO COM ENCARGOS COMPLEMENTARES | E6: H | F6: 277 | G6: 136.69 | H6: 173.5 | I6: 48059.5 | J6: 0.032645228
A7: 1.2 | B7: 90776 | C7: SINAPI | D7: ENCARREGADO GERAL COM ENCARGOS COMPLEMENTARES | E7: H | F7: 592 | G7: 62.3 | H7: 79.07 | I7: 46809.44 | J7: 0.031796104
A8: 2 | D8: SERVIÇOS PRELIMINARES (DEMOLIÇÕES / RETIRADAS) | I8: 134412.07 | J8: 0.091301672
A9: 2.1 | B9: 97633 | C9: SINAPI | D9: DEMOLIÇÃO DE REVESTIMENTO CERÂMICO, DE FORMA MANUAL, SEM REAPROVEITAMENTO. AF_09/2023 | E9: m² | F9: 397.00124 | G9: 25.97 | H9: 32.96 | I9: 13085.16 | J9: 0.0088883163
A10: 2.2 | B10: 97663 | C10: SINAPI | D10: REMOÇÃO DE LOUÇAS, DE FORMA MANUAL, SEM REAPROVEITAMENTO. AF_09/2023 | E10: UN | F10: 124.79766 | G10: 14.14 | H10: 17.94 | I10: 2238.86 | J10: 0.0015207835
A11: 2.3 | B11: 97664 | C11: SINAPI | D11: REMOÇÃO DE ACESSÓRIOS, DE FORMA MANUAL, SEM REAPROVEITAMENTO. AF_09/2023 | E11: UN | F11: 149.44067 | G11: 1.76 | H11: 2.23 | I11: 333.25 | J11: 0.0002263657
A12: 2.4 | B12: 90447 | C12: SINAPI | D12: RASGO LINEAR MANUAL EM ALVENARIA, PARA ELETRODUTOS, DIÂMETROS MENORES OU IGUAIS A 40 MM. AF_09/2023 | E12: M | F12: 319.68095 | G12: 9.28 | H12: 11.77 | I12: 3762.64 | J12: 0.0025558369
A13: 2.5 | B13: 97660 | C13: SINAPI | D13: REMOÇÃO DE INTERRUPTORES/TOMADAS ELÉTRICAS, DE FORMA MANUAL, SEM REAPROVEITAMENTO. AF_09/2023 | E13: UN | F13: 942.08665 | G13: 0.74 | H13: 0.93 | I13: 876.14 | J13: 0.00059513291
A14: 2.6 | B14: 97661 | C14: SINAPI | D14: REMOÇÃO DE CABOS ELÉTRICOS, COM SEÇÃO DE 10 MM², FORMA MANUAL, SEM REAPROVEITAMENTO. AF_09/2023 | E14: M | F14: 14204.098 | G14: 0.8 | H14: 1.01 | I14: 14346.13 | J14: 0.0097448515
A15: 2.7 | B15: 97665 | C15: SINAPI | D15: REMOÇÃO DE LUMINÁRIAS, DE FORMA MANUAL, SEM REAPROVEITAMENTO. AF_09/2023 | E15: UN | F15: 186.51824 | G15: 2.01 | H15: 2.55 | I15: 475.62 | J15: 0.00032307293
A16: 2.8 | B16: 97644 | C16: SINAPI | D16: REMOÇÃO DE PORTAS, DE FORMA MANUAL, SEM REAPROVEITAMENTO. AF_09/2023 | E16: m² | F16: 185.16174 | G16: 10.69 | H16: 13.56 | I16: 2510.79 | J16: 0.0017054966
A17: 2.9 | B17: 97645 | C17: SINAPI | D17: REMOÇÃO DE JANELAS, DE FORMA MANUAL, SEM REAPROVEITAMENTO. AF_09/2023 | E17: m² | F17: 405.59238 | G17: 27.59 | H17: 35.01 | I17: 14199.78 | J17: 0.0096454407
A18: 2.10 | B18: 90441 | C18: SINAPI | D18: FURO MECANIZADO EM CONCRETO, COM MARTELO DEMOLIDOR, PARA INSTALAÇÕES HIDRÁULICAS, DIÂMETROS MAIORES QUE 75 MM E MENORES OU IGUAIS A 150 MM. AF_09/2023 | E18: UN | F18: 99.928558 | G18: 10.13 | H18: 12.85 | I18: 1284.08 | J18: 0.00087223306
A19: 2.11 | B19: 97631 | C19: SINAPI | D19: DEMOLIÇÃO DE ARGAMASSAS, DE FORMA MANUAL, SEM REAPROVEITAMENTO. AF_09/2023 | E19: m² | F19: 201.89186 | G19: 12.77 | H19: 16.2 | I19: 3270.64 | J19: 0.0022216375
A20: 2.12 | B20: 97643 | C20: SINAPI | D20: REMOÇÃO DE PISO DE MADEIRA (ASSOALHO E BARROTE), DE FORMA MANUAL, SEM REAPROVEITAMENTO. AF_09/2023 | E20: m² | F20: 93.824325 | G20: 28.2 | H20: 35.79 | I20: 3357.97 | J20: 0.0022809579
A21: 2.13 | B21: 97622 | C21: SINAPI | D21: DEMOLIÇÃO DE ALVENARIA DE BLOCO FURADO, DE FORMA MANUAL, SEM REAPROVEITAMENTO. AF_09/2023 | E21: m³ | F21: 129.31931 | G21: 62.98 | H21: 79.94 | I21: 10337.78 | J21: 0.0070221119
A22: 2.14 | B22: 73801/002 | C22: SINAPI | D22: DEMOLICAO DE CAMADA DE ASSENTAMENTO/CONTRAPISO COM USO DE PONTEIRO, ESPESSURA ATE 4CM | E22: m² | F22: 431.36581 | G22: 35.37 | H22: 44.89 | I22: 19364.01 | J22: 0.013153331
A23: 2.15 | B23: 97628 | C23: SINAPI | D23: DEMOLIÇÃO DE LAJES, EM CONCRETO ARMADO, DE FORMA MANUAL, SEM REAPROVEITAMENTO. AF_09/2023 | E23: m³ | F23: 14.695376 | G23: 294.78 | H23: 374.16 | I23: 5498.42 | J23: 0.0037348948
A24: 2.16 | B24: 97649 | C24: SINAPI | D24: REMOÇÃO DE TELHAS DE FIBROCIMENTO, METÁLICA E CERÂMICA, DE FORMA MECANIZADA, COM USO DE GUINDASTE, SEM REAPROVEITAMENTO. AF_09/2023 | E24: m² | F24: 713.06487 | G24: 4.99 | H24: 6.33 | I24: 4513.7 | J24: 0.0030660071
A25: 2.17 | B25: 97650 | C25: SINAPI | D25: REMOÇÃO DE TRAMA DE MADEIRA PARA COBERTURA, DE FORMA MANUAL, SEM REAPROVEITAMENTO. AF_09/2023 | E25: m² | F25: 713.06487 | G25: 8.55 | H25: 10.85 | I25: 7736.75 | J25: 0.0052553183
A26: 2.18 | B26: 68053 | C26: SINAPI | D26: FORNECIMENTO/INSTALACAO LONA PLASTICA PRETA, PARA IMPERMEABILIZACAO, ESPESSURA 150 MICRAS. | E26: m² | F26: 930.10427 | G26: 8.98 | H26: 11.39 | I26: 10593.88 | J26: 0.0071960722
A27: 2.19 | B27: 97063 | C27: SINAPI | D27: MONTAGEM E DESMONTAGEM DE ANDAIME MODULAR FACHADEIRO, COM PISO METÁLICO, PARA EDIFÍCIOS COM MULTIPLOS PAVIMENTOS (EXCLUSIVE ANDAIME E LIMPEZA). AF_03/2024 | E27: m² | F27: 495.5733 | G27: 20.04 | H27: 25.43 | I27: 12602.42 | J27: 0.0085604069
A28: 2.20 | B28: 97062 | C28: SINAPI | D28: COLOCAÇÃO DE TELA EM ANDAIME FACHADEIRO. AF_03/2024 | E28: m² | F28: 495.5733 | G28: 6.4 | H28: 8.12 | I28: 4024.05 | J28: 0.002733404
A29: 3 | D29: CARGA, DESCARGA E / OU TRANSPORTE DE MATERIAIS PROVENIENTES DAS MANUTENÇÕES | I29: 26062.33 | J29: 0.017703278
A30: 3.1 | B30: 100984 | C30: SINAPI | D30: CARGA, MANOBRA E DESCARGA DE ENTULHO EM CAMINHÃO BASCULANTE 18 M³ - CARGA COM ESCAVADEIRA HIDRÁULICA (CAÇAMBA DE 0,80 M³ / 111 HP) E DESCARGA LIVRE (UNIDADE: M3). AF_07/2020 | E30: m³ | F30: 529.71179 | G30: 9.03 | H30: 11.46 | I30: 6070.49 | J30: 0.004123483
A31: 3.2 | B31: 95875 | C31: SINAPI | D31: TRANSPORTE COM CAMINHÃO BASCULANTE DE 10 M³, EM VIA URBANA PAVIMENTADA, DMT ATÉ 30 KM (UNIDADE: M3XKM). AF_07/2020 | E31: M3XKM | F31: 1259.4163 | G31: 2.61 | H31: 3.31 | I31: 4168.66 | J31: 0.0028316328
A32: 3.3 | B32: 93358 | C32: SINAPI | D32: ESCAVAÇÃO MANUAL DE VALA. AF_09/2024 | E32: m³ | F32: 101.73722 | G32: 93.27 | H32: 118.38 | I32: 12043.65 | J32: 0.008180853
A33: 3.4 | B33: 93382 | C33: SINAPI | D33: REATERRO MANUAL DE VALAS, COM COMPACTADOR DE SOLOS DE PERCUSSÃO. AF_08/2023 | E33: m³ | F33: 101.73722 | G33: 29.27 | H33: 37.15 | I33: 3779.53 | J33: 0.0025673097
A34: 4 | D34: MANUTENÇÃO DE INSTALAÇÕES HIDROSSANITÁRIAS | I34: 266251.87 | J34: 0.18085609
A35: 4.1 | B35: 89714 | C35: SINAPI | D35: TUBO PVC, SERIE NORMAL, ESGOTO PREDIAL, DN 100 MM, FORNECIDO E INSTALADO EM RAMAL DE DESCARGA OU RAMAL DE ESGOTO SANITÁRIO. AF_08/2022 | E35: M | F35: 129.99756 | G35: 41.27 | H35: 52.38 | I35: 6809.27 | J35: 0.0046253118
A36: 4.2 | B36: 89713 | C36: SINAPI | D36: TUBO PVC, SERIE NORMAL, ESGOTO PREDIAL, DN 75 MM, FORNECIDO E INSTALADO EM RAMAL DE DESCARGA OU RAMAL DE ESGOTO SANITÁRIO. AF_08/2022 | E36: M | F36: 303.17691 | G36: 36.84 | H36: 46.76 | I36: 14176.55 | J36: 0.0096296614
A37: 4.3 | B37: 89712 | C37: SINAPI | D37: TUBO PVC, SERIE NORMAL, ESGOTO PREDIAL, DN 50 MM, FORNECIDO E INSTALADO EM RAMAL DE DESCARGA OU RAMAL DE ESGOTO SANITÁRIO. AF_08/2022 | E37: M | F37: 303.17691 | G37: 29.64 | H37: 37.62 | I37: 11405.51 | J37: 0.0077473856
A38: 4.4 | B38: 89744 | C38: SINAPI | D38: JOELHO 90 GRAUS, PVC, SERIE NORMAL, ESGOTO PREDIAL, DN 100 MM, JUNTA ELÁSTICA, FORNECIDO E INSTALADO EM RAMAL DE DESCARGA OU RAMAL DE ESGOTO SANITÁRIO. AF_08/2022 | E38: UN | F38: 224.04797 | G38: 28.94 | H38: 36.73 | I38: 8229.28 | J38: 0.0055898776
A39: 4.5 | B39: 89731 | C39: SINAPI | D39: JOELHO 90 GRAUS, PVC, SERIE NORMAL, ESGOTO PREDIAL, DN 50 MM, JUNTA ELÁSTICA, FORNECIDO E INSTALADO EM RAMAL DE DESCARGA OU RAMAL DE ESGOTO SANITÁRIO. AF_08/2022 | E39: UN | F39: 62.398828 | G39: 15.85 | H39: 20.11 | I39: 1254.84 | J39: 0.00085237129
A40: 4.6 | B40: 89746 | C40: SINAPI | D40: JOELHO 45 GRAUS, PVC, SERIE NORMAL, ESGOTO PREDIAL, DN 100 MM, JUNTA ELÁSTICA, FORNECIDO E INSTALADO EM RAMAL DE DESCARGA OU RAMAL DE ESGOTO SANITÁRIO. AF_08/2022 | E40: UN | F40: 37.52973 | G40: 29.79 | H40: 37.81 | I40: 1418.99 | J40: 0.00096387296
...

Sheet Arantina
D1: Obra | E1: Bancos | G1: B.D.I. | I1: Encargos Sociais
D2: MANUTENÇÃO PREDIAL CIMAG - ARANTINA - MG | E2: SINAPI - 02/2026 - Minas Gerais | G2: 26,93% | I2: Desonerado: embutido nos preços unitário dos insumos de mão de obra, de acordo com as bases.
A3: Orçamento Sintético
A4: Item | B4: Código | C4: Banco | D4: Descrição | E4: Und | F4: Quant. | G4: Valor Unit | H4: Valor Unit com BDI | I4: Total | J4: Peso (%)
A5: 1 | D5: ACOMPANHAMENTO DE MANUTENÇÕES | I5: 131641.98 | J5: 0.14544361
A6: 1.1 | B6: 90778 | C6: SINAPI | D6: ENGENHEIRO CIVIL DE OBRA PLENO COM ENCARGOS COMPLEMENTARES | E6: H | F6: 384.5432 | G6: 136.69 | H6: 173.5 | I6: 66718.24 | J6: 0.073713125
A7: 1.2 | B7: 90776 | C7: SINAPI | D7: ENCARREGADO GERAL COM ENCARGOS COMPLEMENTARES | E7: H | F7: 821.092 | G7: 62.3 | H7: 79.07 | I7: 64923.74 | J7: 0.071730486
A8: 2 | D8: SERVIÇOS PRELIMINARES (DEMOLIÇÕES / RETIRADAS) | I8: 43735.47 | J8: 0.048320792
A9: 2.1 | B9: 97633 | C9: SINAPI | D9: DEMOLIÇÃO DE REVESTIMENTO CERÂMICO, DE FORMA MANUAL, SEM REAPROVEITAMENTO. AF_09/2023 | E9: m² | F9: 129.17785 | G9: 25.97 | H9: 32.96 | I9: 4257.7 | J9: 0.0047040865
A10: 2.2 | B10: 97663 | C10: SINAPI | D10: REMOÇÃO DE LOUÇAS, DE FORMA MANUAL, SEM REAPROVEITAMENTO. AF_09/2023 | E10: UN | F10: 40.607161 | G10: 14.14 | H10: 17.94 | I10: 728.49 | J10: 0.00080486648
A11: 2.3 | B11: 97664 | C11: SINAPI | D11: REMOÇÃO DE ACESSÓRIOS, DE FORMA MANUAL, SEM REAPROVEITAMENTO. AF_09/2023 | E11: UN | F11: 48.625603 | G11: 1.76 | H11: 2.23 | I11: 108.43 | J11: 0.00011979804
A12: 2.4 | B12: 90447 | C12: SINAPI | D12: RASGO LINEAR MANUAL EM ALVENARIA, PARA ELETRODUTOS, DIÂMETROS MENORES OU IGUAIS A 40 MM. AF_09/2023 | E12: M | F12: 104.01907 | G12: 9.28 | H12: 11.77 | I12: 1224.3 | J12: 0.0013526583
A13: 2.5 | B13: 97660 | C13: SINAPI | D13: REMOÇÃO DE INTERRUPTORES/TOMADAS ELÉTRICAS, DE FORMA MANUAL, SEM REAPROVEITAMENTO. AF_09/2023 | E13: UN | F13: 306.53992 | G13: 0.74 | H13: 0.93 | I13: 285.08 | J13: 0.00031496841
A14: 2.6 | B14: 97661 | C14: SINAPI | D14: REMOÇÃO DE CABOS ELÉTRICOS, COM SEÇÃO DE 10 MM², FORMA MANUAL, SEM REAPROVEITAMENTO. AF_09/2023 | E14: M | F14: 4621.7864 | G14: 0.8 | H14: 1.01 | I14: 4668 | J14: 0.0051574033
A15: 2.7 | B15: 97665 | C15: SINAPI | D15: REMOÇÃO DE LUMINÁRIAS, DE FORMA MANUAL, SEM REAPROVEITAMENTO. AF_09/2023 | E15: UN | F15: 60.69005 | G15: 2.01 | H15: 2.55 | I15: 154.75 | J15: 0.00017097433
A16: 2.8 | B16: 97644 | C16: SINAPI | D16: REMOÇÃO DE PORTAS, DE FORMA MANUAL, SEM REAPROVEITAMENTO. AF_09/2023 | E16: m² | F16: 60.248668 | G16: 10.69 | H16: 13.56 | I16: 816.97 | J16: 0.00090262291
A17: 2.9 | B17: 97645 | C17: SINAPI | D17: REMOÇÃO DE JANELAS, DE FORMA MANUAL, SEM REAPROVEITAMENTO. AF_09/2023 | E17: m² | F17: 131.97327 | G17: 27.59 | H17: 35.01 | I17: 4620.38 | J17: 0.0051047907
A18: 2.10 | B18: 90441 | C18: SINAPI | D18: FURO MECANIZADO EM CONCRETO, COM MARTELO DEMOLIDOR, PARA INSTALAÇÕES HIDRÁULICAS, DIÂMETROS MAIORES QUE 75 MM E MENORES OU IGUAIS A 150 MM. AF_09/2023 | E18: UN | F18: 32.515154 | G18: 10.13 | H18: 12.85 | I18: 417.81 | J18: 0.00046161411
A19: 2.11 | B19: 97631 | C19: SINAPI | D19: DEMOLIÇÃO DE ARGAMASSAS, DE FORMA MANUAL, SEM REAPROVEITAMENTO. AF_09/2023 | E19: m² | F19: 65.692381 | G19: 12.77 | H19: 16.2 | I19: 1064.21 | J19: 0.0011757841
A20: 2.12 | B20: 97643 | C20: SINAPI | D20: REMOÇÃO DE PISO DE MADEIRA (ASSOALHO E BARROTE), DE FORMA MANUAL, SEM REAPROVEITAMENTO. AF_09/2023 | E20: m² | F20: 30.528934 | G20: 28.2 | H20: 35.79 | I20: 1092.63 | J20: 0.0012071837
... A28: 2.20 | B28: 97062 | C28: SINAPI | D28: COLOCAÇÃO DE TELA EM ANDAIME FACHADEIRO. AF_03/2024 | E28: m² | F28: 161.25162 | G28: 6.4 | H28: 8.12 | I28: 1309.36 | J28: 0.0014466362
A29: 3 | D29: CARGA, DESCARGA E / OU TRANSPORTE DE MATERIAIS PROVENIENTES DAS MANUTENÇÕES | I29: 8480.26 | J29: 0.0093693489
A30: 3.1 | B30: 100984 | C30: SINAPI | D30: CARGA, MANOBRA E DESCARGA DE ENTULHO EM CAMINHÃO BASCULANTE 18 M³ - CARGA COM ESCAVADEIRA HIDRÁULICA (CAÇAMBA DE 0,80 M³ / 111 HP) E DESCARGA LIVRE (UNIDADE: M3). AF_07/2020 | E30: m³ | F30: 172.35974 | G30: 9.03 | H30: 11.46 | I30: 1975.24 | J30: 0.0021823285
A31: 3.2 | B31: 95875 | C31: SINAPI | D31: TRANSPORTE COM CAMINHÃO BASCULANTE DE 10 M³, EM VIA URBANA PAVIMENTADA, DMT ATÉ 30 KM (UNIDADE: M3XKM). AF_07/2020 | E31: M3XKM | F31: 409.79393 | G31: 2.61 | H31: 3.31 | I31: 1356.41 | J31: 0.001498619
A32: 3.3 | B32: 93358 | C32: SINAPI | D32: ESCAVAÇÃO MANUAL DE VALA. AF_09/2024 | E32: m³ | F32: 33.103663 | G32: 93.27 | H32: 118.38 | I32: 3918.81 | J32: 0.0043296666
A33: 3.4 | B33: 93382 | C33: SINAPI | D33: REATERRO MANUAL DE VALAS, COM COMPACTADOR DE SOLOS DE PERCUSSÃO. AF_08/2023 | E33: m³ | F33: 33.103663 | G33: 29.27 | H33: 37.15 | I33: 1229.8 | J33: 0.0013587349
A34: 4 | D34: MANUTENÇÃO DE INSTALAÇÕES HIDROSSANITÁRIAS | I34: 86633.88 | J34: 0.095716764
A35: 4.1 | B35: 89714 | C35: SINAPI | D35: TUBO PVC, SERIE NORMAL, ESGOTO PREDIAL, DN 100 MM, FORNECIDO E INSTALADO EM RAMAL DE DESCARGA OU RAMAL DE ESGOTO SANITÁRIO. AF_08/2022 | E35: M | F35: 42.299126 | G35: 41.27 | H35: 52.38 | I35: 2215.62 | J35: 0.0024479104
A36: 4.2 | B36: 89713 | C36: SINAPI | D36: TUBO PVC, SERIE NORMAL, ESGOTO PREDIAL, DN 75 MM, FORNECIDO E INSTALADO EM RAMAL DE DESCARGA OU RAMAL DE ESGOTO SANITÁRIO. AF_08/2022 | E36: M | F36: 98.648917 | G36: 36.84 | H36: 46.76 | I36: 4612.82 | J36: 0.0050964381
A37: 4.3 | B37: 89712 | C37: SINAPI | D37: TUBO PVC, SERIE NORMAL, ESGOTO PREDIAL, DN 50 MM, FORNECIDO E INSTALADO EM RAMAL DE DESCARGA OU RAMAL DE ESGOTO SANITÁRIO. AF_08/2022 | E37: M | F37: 98.648917 | G37: 29.64 | H37: 37.62 | I37: 3711.17 | J37: 0.0041002571
A38: 4.4 | B38: 89744 | C38: SINAPI | D38: JOELHO 90 GRAUS, PVC, SERIE NORMAL, ESGOTO PREDIAL, DN 100 MM, JUNTA ELÁSTICA, FORNECIDO E INSTALADO EM RAMAL DE DESCARGA OU RAMAL DE ESGOTO SANITÁRIO. AF_08/2022 | E38: UN | F38: 72.901623 | G38: 28.94 | H38: 36.73 | I38: 2677.67 | J38: 0.0029584027
A39: 4.5 | B39: 89731 | C39: SINAPI | D39: JOELHO 90 GRAUS, PVC, SERIE NORMAL, ESGOTO PREDIAL, DN 50 MM, JUNTA ELÁSTICA, FORNECIDO E INSTALADO EM RAMAL DE DESCARGA OU RAMAL DE ESGOTO SANITÁRIO. AF_08/2022 | E39: UN | F39: 20.30358 | G39: 15.85 | H39: 20.11 | I39: 408.3 | J39: 0.00045110706
A40: 4.6 | B40: 89746 | C40: SINAPI | D40: JOELHO 45 GRAUS, PVC, SERIE NORMAL, ESGOTO PREDIAL, DN 100 MM, JUNTA ELÁSTICA, FORNECIDO E INSTALADO EM RAMAL DE DESCARGA OU RAMAL DE ESGOTO SANITÁRIO. AF_08/2022 | E40: UN | F40: 12.211574 | G40: 29.79 | H40: 37.81 | I40: 461.71 | J40: 0.00051011668
A41: 4.7 | B41: 89795 | C41: SINAPI | D41: JUNÇÃO SIMPLES, PVC, SERIE NORMAL, ESGOTO PREDIAL, DN 75 X 75 MM, JUNTA ELÁSTICA, FORNECIDO E INSTALADO EM RAMAL DE DESCARGA OU RAMAL DE ESGOTO SANITÁRIO. AF_08/2022 | E41: UN | F41: 20.30358 | G41: 42.5 | H41: 53.94 | I41: 1095.17 | J41: 0.00120999
A42: 4.8 | B42: 89834 | C42: SINAPI | D42: JUNÇÃO SIMPLES, PVC, SERIE NORMAL, ESGOTO PREDIAL, DN 100 X 100 MM, JUNTA ELÁSTICA, FORNECIDO E INSTALADO EM PRUMADA DE ESGOTO SANITÁRIO OU VENTILAÇÃO. AF_08/2022 | E42: UN | F42: 12.211574 | G42: 55.27 | H42: 70.15 | I42: 856.64 | J42: 0.000946452
A43: 4.9 | B43: 89808 | C43: SINAPI | D43: CURVA LONGA 90 GRAUS, PVC, SERIE NORMAL, ESGOTO PREDIAL, DN 75 MM, JUNTA ELÁSTICA, FORNECIDO E INSTALADO EM PRUMADA DE ESGOTO SANITÁRIO OU VENTILAÇÃO. AF_08/2022 | E43: UN | F43: 20.30358 | G43: 59.93 | H43: 76.06 | I43: 1544.29 | J43: 0.0017061967
A44: 4.10 | B44: 89806 | C44: SINAPI | D44: JOELHO 45 GRAUS, PVC, SERIE NORMAL, ESGOTO PREDIAL, DN 75 MM, JUNTA ELÁSTICA, FORNECIDO E INSTALADO EM PRUMADA DE ESGOTO SANITÁRIO OU VENTILAÇÃO. AF_08/2022 | E44: UN | F44: 20.30358 | G44: 22.5 | H44: 28.55 | I44: 579.66 | J44: 0.00064043282
A45: 4.11 | B45: 91794 | C45: SINAPI | D45: (COMPOSIÇÃO REPRESENTATIVA) DO SERVIÇO DE INST. TUBO PVC, SÉRIE N, ESGOTO PREDIAL, DN 75 MM, (INST. EM RAMAL DE DESCARGA, RAMAL DE ESG. SANITÁRIO, PRUMADA DE ESG. SANITÁRIO OU VENTILAÇÃO), INCL. CONEXÕES, CORTES E FIXAÇÕES, P/ PRÉDIOS. AF_10/2015 | E45: M | F45: 56.276228 | G45: 50.34 | H45: 63.89 | I45: 3595.48 | J45: 0.0039724379
A46: 4.12 | B46: 91792 | C46: SINAPI | D46: (COMPOSIÇÃO REPRESENTATIVA) DO SERVIÇO DE INSTALAÇÃO DE TUBO DE PVC, SÉRIE NORMAL, ESGOTO PREDIAL, DN 40 MM (INSTALADO EM RAMAL DE DESCARGA OU RAMAL DE ESGOTO SANITÁRIO), INCLUSIVE CONEXÕES, CORTES E FIXAÇÕES, PARA PRÉDIOS. AF_10/2015 | E46: M | F46: 30.970316 | G46: 88.12 | H46: 111.85 | I46: 3464.02 | J46: 0.0038271954
... A91: 4.57 | B91: 89711 | C91: SINAPI | D91: TUBO PVC, SERIE NORMAL, ESGOTO PREDIAL, DN 40 MM, FORNECIDO E INSTALADO EM RAMAL DE DESCARGA OU RAMAL DE ESGOTO SANITÁRIO. AF_08/2022 | E91: M | F91: 19.862198 | G91: 23.63 | H91: 29.99 | I91: 595.66 | J91: 0.00065811029
...

Sheet Aiuruoca
D1: Obra | E1: Bancos | G1: B.D.I. | I1: Encargos Sociais
D2: MANUTENÇÃO PREDIAL CIMAG - AURUOCA - MG | E2: SINAPI - 02/2026 - Minas Gerais | G2: 26,93% | I2: Desonerado: embutido nos preços unitário dos insumos de mão de obra, de acordo com as bases.
A3: Orçamento Sintético
A4: Item | B4: Código | C4: Banco | D4: Descrição | E4: Und | F4: Quant. | G4: Valor Unit | H4: Valor Unit com BDI | I4: Total | J4: Peso (%)
A5: 1 | D5: ACOMPANHAMENTO DE MANUTENÇÕES | I5: 43503.99 | J5: 0.045765867
A6: 1.1 | B6: 90778 | C6: SINAPI | D6: ENGENHEIRO CIVIL DE OBRA PLENO COM ENCARGOS COMPLEMENTARES | E6: H | F6: 127.0808 | G6: 136.69 | H6: 173.5 | I6: 22048.51 | J6: 0.023194865
A7: 1.2 | B7: 90776 | C7: SINAPI | D7: ENCARREGADO GERAL COM ENCARGOS COMPLEMENTARES | E7: H | F7: 271.348 | G7: 62.3 | H7: 79.07 | I7: 21455.48 | J7: 0.022571002
A8: 2 | D8: SERVIÇOS PRELIMINARES (DEMOLIÇÕES / RETIRADAS) | I8: 95701.35 | J8: 0.10067709
A9: 2.1 | B9: 97633 | C9: SINAPI | D9: DEMOLIÇÃO DE REVESTIMENTO CERÂMICO, DE FORMA MANUAL, SEM REAPROVEITAMENTO. AF_09/2023 | E9: m² | F9: 282.66488 | G9: 25.97 | H9: 32.96 | I9: 9316.63 | J9: 0.0098010241
A10: 2.2 | B10: 97663 | C10: SINAPI | D10: REMOÇÃO DE LOUÇAS, DE FORMA MANUAL, SEM REAPROVEITAMENTO. AF_09/2023 | E10: UN | F10: 88.855931 | G10: 14.14 | H10: 17.94 | I10: 1594.07 | J10: 0.0016769495
A11: 2.3 | B11: 97664 | C11: SINAPI | D11: REMOÇÃO DE ACESSÓRIOS, DE FORMA MANUAL, SEM REAPROVEITAMENTO. AF_09/2023 | E11: UN | F11: 106.40176 | G11: 1.76 | H11: 2.23 | I11: 237.27 | J11: 0.00024960624
A12: 2.4 | B12: 90447 | C12: SINAPI | D12: RASGO LINEAR MANUAL EM ALVENARIA, PARA ELETRODUTOS, DIÂMETROS MENORES OU IGUAIS A 40 MM. AF_09/2023 | E12: M | F12: 227.61284 | G12: 9.28 | H12: 11.77 | I12: 2679 | J12: 0.0028182877
A13: 2.5 | B13: 97660 | C13: SINAPI | D13: REMOÇÃO DE INTERRUPTORES/TOMADAS ELÉTRICAS, DE FORMA MANUAL, SEM REAPROVEITAMENTO. AF_09/2023 | E13: UN | F13: 670.7657 | G13: 0.74 | H13: 0.93 | I13: 623.81 | J13: 0.00065624339
A14: 2.6 | B14: 97661 | C14: SINAPI | D14: REMOÇÃO DE CABOS ELÉTRICOS, COM SEÇÃO DE 10 MM², FORMA MANUAL, SEM REAPROVEITAMENTO. AF_09/2023 | E14: M | F14: 10113.318 | G14: 0.8 | H14: 1.01 | I14: 10214.45 | J14: 0.010745524
A15: 2.7 | B15: 97665 | C15: SINAPI | D15: REMOÇÃO DE LUMINÁRIAS, DE FORMA MANUAL, SEM REAPROVEITAMENTO. AF_09/2023 | E15: UN | F15: 132.80098 | G15: 2.01 | H15: 2.55 | I15: 338.64 | J15: 0.00035624671
A16: 2.8 | B16: 97644 | C16: SINAPI | D16: REMOÇÃO DE PORTAS, DE FORMA MANUAL, SEM REAPROVEITAMENTO. AF_09/2023 | E16: m² | F16: 131.83516 | G16: 10.69 | H16: 13.56 | I16: 1787.68 | J16: 0.0018806258
A17: 2.9 | B17: 97645 | C17: SINAPI | D17: REMOÇÃO DE JANELAS, DE FORMA MANUAL, SEM REAPROVEITAMENTO. AF_09/2023 | E17: m² | F17: 288.78178 | G17: 27.59 | H17: 35.01 | I17: 10110.24 | J17: 0.010635896
A18: 2.10 | B18: 90441 | C18: SINAPI | D18: FURO MECANIZADO EM CONCRETO, COM MARTELO DEMOLIDOR, PARA INSTALAÇÕES HIDRÁULICAS, DIÂMETROS MAIORES QUE 75 MM E MENORES OU IGUAIS A 150 MM. AF_09/2023 | E18: UN | F18: 71.149133 | G18: 10.13 | H18: 12.85 | I18: 914.26 | J18: 0.00096179458
A19: 2.11 | B19: 97631 | C19: SINAPI | D19: DEMOLIÇÃO DE ARGAMASSAS, DE FORMA MANUAL, SEM REAPROVEITAMENTO. AF_09/2023 | E19: m² | F19: 143.747 | G19: 12.77 | H19: 16.2 | I19: 2328.7 | J19: 0.0024497747
A20: 2.12 | B20: 97643 | C20: SINAPI | D20: REMOÇÃO DE PISO DE MADEIRA (ASSOALHO E BARROTE), DE FORMA MANUAL, SEM REAPROVEITAMENTO. AF_09/2023 | E20: m² | F20: 66.802919 | G20: 28.2 | H20: 35.79 | I20: 2390.87 | J20: 0.0025151771
... A28: 2.20 | B28: 97062 | C28: SINAPI | D28: COLOCAÇÃO DE TELA EM ANDAIME FACHADEIRO. AF_03/2024 | E28: m² | F28: 352.84819 | G28: 6.4 | H28: 8.12 | I28: 2865.12 | J28: 0.0030140845
A29: 3 | D29: CARGA, DESCARGA E / OU TRANSPORTE DE MATERIAIS PROVENIENTES DAS MANUTENÇÕES | I29: 18556.39 | J29: 0.019521181
A30: 3.1 | B30: 100984 | C30: SINAPI | D30: CARGA, MANOBRA E DESCARGA DE ENTULHO EM CAMINHÃO BASCULANTE 18 M³ - CARGA COM ESCAVADEIRA HIDRÁULICA (CAÇAMBA DE 0,80 M³ / 111 HP) E DESCARGA LIVRE (UNIDADE: M3). AF_07/2020 | E30: m³ | F30: 377.15479 | G30: 9.03 | H30: 11.46 | I30: 4322.19 | J30: 0.0045469111
A31: 3.2 | B31: 95875 | C31: SINAPI | D31: TRANSPORTE COM CAMINHÃO BASCULANTE DE 10 M³, EM VIA URBANA PAVIMENTADA, DMT ATÉ 30 KM (UNIDADE: M3XKM). AF_07/2020 | E31: M3XKM | F31: 896.70444 | G31: 2.61 | H31: 3.31 | I31: 2968.09 | J31: 0.0031224082
A32: 3.3 | B32: 93358 | C32: SINAPI | D32: ESCAVAÇÃO MANUAL DE VALA. AF_09/2024 | E32: m³ | F32: 72.4369 | G32: 93.27 | H32: 118.38 | I32: 8575.08 | J32: 0.0090209191
A33: 3.4 | B33: 93382 | C33: SINAPI | D33: REATERRO MANUAL DE VALAS, COM COMPACTADOR DE SOLOS DE PERCUSSÃO. AF_08/2023 | E33: m³ | F33: 72.4369 | G33: 29.27 | H33: 37.15 | I33: 2691.03 | J33: 0.0028309431
A34: 4 | D34: MANUTENÇÃO DE INSTALAÇÕES HIDROSSANITÁRIAS | I34: 189571.24 | J34: 0.19942751
A35: 4.1 | B35: 89714 | C35: SINAPI | D35: TUBO PVC, SERIE NORMAL, ESGOTO PREDIAL, DN 100 MM, FORNECIDO E INSTALADO EM RAMAL DE DESCARGA OU RAMAL DE ESGOTO SANITÁRIO. AF_08/2022 | E35: M | F35: 92.558262 | G35: 41.27 | H35: 52.38 | I35: 4848.2 | J35: 0.0051002696
A36: 4.2 | B36: 89713 | C36: SINAPI | D36: TUBO PVC, SERIE NORMAL, ESGOTO PREDIAL, DN 75 MM, FORNECIDO E INSTALADO EM RAMAL DE DESCARGA OU RAMAL DE ESGOTO SANITÁRIO. AF_08/2022 | E36: M | F36: 215.86196 | G36: 36.84 | H36: 46.76 | I36: 10093.7 | J36: 0.010618496
A37: 4.3 | B37: 89712 | C37: SINAPI | D37: TUBO PVC, SERIE NORMAL, ESGOTO PREDIAL, DN 50 MM, FORNECIDO E INSTALADO EM RAMAL DE DESCARGA OU RAMAL DE ESGOTO SANITÁRIO. AF_08/2022 | E37: M | F37: 215.86196 | G37: 29.64 | H37: 37.62 | I37: 8120.72 | J37: 0.0085429358
A38: 4.4 | B38: 89744 | C38: SINAPI | D38: JOELHO 90 GRAUS, PVC, SERIE NORMAL, ESGOTO PREDIAL, DN 100 MM, JUNTA ELÁSTICA, FORNECIDO E INSTALADO EM RAMAL DE DESCARGA OU RAMAL DE ESGOTO SANITÁRIO. AF_08/2022 | E38: UN | F38: 159.52215 | G38: 28.94 | H38: 36.73 | I38: 5859.24 | J38: 0.006163876
A39: 4.5 | B39: 89731 | C39: SINAPI | D39: JOELHO 90 GRAUS, PVC, SERIE NORMAL, ESGOTO PREDIAL, DN 50 MM, JUNTA ELÁSTICA, FORNECIDO E INSTALADO EM RAMAL DE DESCARGA OU RAMAL DE ESGOTO SANITÁRIO. AF_08/2022 | E39: UN | F39: 44.427966 | G39: 15.85 | H39: 20.11 | I39: 893.44 | J39: 0.0009398921
A40: 4.6 | B40: 89746 | C40: SINAPI | D40: JOELHO 45 GRAUS, PVC, SERIE NORMAL, ESGOTO PREDIAL, DN 100 MM, JUNTA ELÁSTICA, FORNECIDO E INSTALADO EM RAMAL DE DESCARGA OU RAMAL DE ESGOTO SANITÁRIO. AF_08/2022 | E40: UN | F40: 26.721168 | G40: 29.79 | H40: 37.81 | I40: 1010.32 | J40: 0.001062849
A41: 4.7 | B41: 89795 | C41: SINAPI | D41: JUNÇÃO SIMPLES, PVC, SERIE NORMAL, ESGOTO PREDIAL, DN 75 X 75 MM, JUNTA ELÁSTICA, FORNECIDO E INSTALADO EM RAMAL DE DESCARGA OU RAMAL DE ESGOTO SANITÁRIO. AF_08/2022 | E41: UN | F41: 44.427966 | G41: 42.5 | H41: 53.94 | I41: 2396.44 | J41: 0.0025210367
A42: 4.8 | B42: 89834 | C42: SINAPI | D42: JUNÇÃO SIMPLES, PVC, SERIE NORMAL, ESGOTO PREDIAL, DN 100 X 100 MM, JUNTA ELÁSTICA, FORNECIDO E INSTALADO EM PRUMADA DE ESGOTO SANITÁRIO OU VENTILAÇÃO. AF_08/2022 | E42: UN | F42: 26.721168 | G42: 55.27 | H42: 70.15 | I42: 1874.48 | J42: 0.0019719387
A43: 4.9 | B43: 89808 | C43: SINAPI | D43: CURVA LONGA 90 GRAUS, PVC, SERIE NORMAL, ESGOTO PREDIAL, DN 75 MM, JUNTA ELÁSTICA, FORNECIDO E INSTALADO EM PRUMADA DE ESGOTO SANITÁRIO OU VENTILAÇÃO. AF_08/2022 | E43: UN | F43: 44.427966 | G43: 59.93 | H43: 76.06 | I43: 3379.19 | J43: 0.0035548822
A44: 4.10 | B44: 89806 | C44: SINAPI | D44: JOELHO 45 GRAUS, PVC, SERIE NORMAL, ESGOTO PREDIAL, DN 75 MM, JUNTA ELÁSTICA, FORNECIDO E INSTALADO EM PRUMADA DE ESGOTO SANITÁRIO OU VENTILAÇÃO. AF_08/2022 | E44: UN | F44: 44.427966 | G44: 22.5 | H44: 28.55 | I44: 1268.41 | J44: 0.0013343577
A45: 4.11 | B45: 91794 | C45: SINAPI | D45: (COMPOSIÇÃO REPRESENTATIVA) DO SERVIÇO DE INST. TUBO PVC, SÉRIE N, ESGOTO PREDIAL, DN 75 MM, (INST. EM RAMAL DE DESCARGA, RAMAL DE ESG. SANITÁRIO, PRUMADA DE ESG. SANITÁRIO OU VENTILAÇÃO), INCL. CONEXÕES, CORTES E FIXAÇÕES, P/ PRÉDIOS. AF_10/2015 | E45: M | F45: 123.14273 | G45: 50.34 | H45: 63.89 | I45: 7867.58 | J45: 0.0082766344
A46: 4.12 | B46: 91792 | C46: SINAPI | D46: (COMPOSIÇÃO REPRESENTATIVA) DO SERVIÇO DE INSTALAÇÃO DE TUBO DE PVC, SÉRIE NORMAL, ESGOTO PREDIAL, DN 40 MM (INSTALADO EM RAMAL DE DESCARGA OU RAMAL DE ESGOTO SANITÁRIO), INCLUSIVE CONEXÕES, CORTES E FIXAÇÕES, PARA PRÉDIOS. AF_10/2015 | E46: M | F46: 67.768745 | G46: 88.12 | H46: 111.85 | I46: 7579.93 | J46: 0.0079740288
... A91: 4.57 | B91: 89711 | C91: SINAPI | D91: TUBO PVC, SERIE NORMAL, ESGOTO PREDIAL, DN 40 MM, FORNECIDO E INSTALADO EM RAMAL DE DESCARGA OU RAMAL DE ESGOTO SANITÁRIO. AF_08/2022 | E91: M | F91: 43.46214 | G91: 23.63 | H91: 29.99 | I91: 1303.42 | J91: 0.0013711879
...

Sheet Baependi
D1: Obra | E1: Bancos | G1: B.D.I. | I1: Encargos Sociais
D2: MANUTENÇÃO PREDIAL CIMAG - BAPENDI - MG | E2: SINAPI - 02/2026 - Minas Gerais | G2: 26,93% | I2: Desonerado: embutido nos preços unitário dos insumos de mão de obra, de acordo com as bases.
A3: Orçamento Sintético
A4: Item | B4: Código | C4: Banco | D4: Descrição | E4: Und | F4: Quant. | G4: Valor Unit | H4: Valor Unit com BDI | I4: Total | J4: Peso (%)
A5: 1 | D5: ACOMPANHAMENTO DE MANUTENÇÕES | I5: 277973.63 | J5: 0.08106726
A6: 1.1 | B6: 90778 | C6: SINAPI | D6: ENGENHEIRO CIVIL DE OBRA PLENO COM ENCARGOS COMPLEMENTARES | E6: H | F6: 811.9968 | G6: 136.69 | H6: 173.5 | I6: 140881.44 | J6: 0.041086172
A7: 1.2 | B7: 90776 | C7: SINAPI | D7: ENCARREGADO GERAL COM ENCARGOS COMPLEMENTARES | E7: H | F7: 1733.808 | G7: 62.3 | H7: 79.07 | I7: 137092.19 | J7: 0.039981088
A8: 2 | D8: SERVIÇOS PRELIMINARES (DEMOLIÇÕES / RETIRADAS) | I8: 284969.94 | J8: 0.083107639
A9: 2.1 | B9: 97633 | C9: SINAPI | D9: DEMOLIÇÃO DE REVESTIMENTO CERÂMICO, DE FORMA MANUAL, SEM REAPROVEITAMENTO. AF_09/2023 | E9: m² | F9: 841.69065 | G9: 25.97 | H9: 32.96 | I9: 27742.12 | J9: 0.0080906151
A10: 2.2 | B10: 97663 | C10: SINAPI | D10: REMOÇÃO DE LOUÇAS, DE FORMA MANUAL, SEM REAPROVEITAMENTO. AF_09/2023 | E10: UN | F10: 264.58613 | G10: 14.14 | H10: 17.94 | I10: 4746.67 | J10: 0.0013843023
A11: 2.3 | B11: 97664 | C11: SINAPI | D11: REMOÇÃO DE ACESSÓRIOS, DE FORMA MANUAL, SEM REAPROVEITAMENTO. AF_09/2023 | E11: UN | F11: 316.8323 | G11: 1.76 | H11: 2.23 | I11: 706.53 | J11: 0.00020604994
A12: 2.4 | B12: 90447 | C12: SINAPI | D12: RASGO LINEAR MANUAL EM ALVENARIA, PARA ELETRODUTOS, DIÂMETROS MENORES OU IGUAIS A 40 MM. AF_09/2023 | E12: M | F12: 677.76229 | G12: 9.28 | H12: 11.77 | I12: 7977.26 | J12: 0.0023264603
A13: 2.5 | B13: 97660 | C13: SINAPI | D13: REMOÇÃO DE INTERRUPTORES/TOMADAS ELÉTRICAS, DE FORMA MANUAL, SEM REAPROVEITAMENTO. AF_09/2023 | E13: UN | F13: 1997.3377 | G13: 0.74 | H13: 0.93 | I13: 1857.52 | J13: 0.00054172065
A14: 2.6 | B14: 97661 | C14: SINAPI | D14: REMOÇÃO DE CABOS ELÉTRICOS, COM SEÇÃO DE 10 MM², FORMA MANUAL, SEM REAPROVEITAMENTO. AF_09/2023 | E14: M | F14: 30114.407 | G14: 0.8 | H14: 1.01 | I14: 30415.55 | J14: 0.0088702849
A15: 2.7 | B15: 97665 | C15: SINAPI | D15: REMOÇÃO DE LUMINÁRIAS, DE FORMA MANUAL, SEM REAPROVEITAMENTO. AF_09/2023 | E15: UN | F15: 395.44122 | G15: 2.01 | H15: 2.55 | I15: 1008.37 | J15: 0.00029407751
A16: 2.8 | B16: 97644 | C16: SINAPI | D16: REMOÇÃO DE PORTAS, DE FORMA MANUAL, SEM REAPROVEITAMENTO. AF_09/2023 | E16: m² | F16: 392.56529 | G16: 10.69 | H16: 13.56 | I16: 5323.18 | J16: 0.0015524336
A17: 2.9 | B17: 97645 | C17: SINAPI | D17: REMOÇÃO DE JANELAS, DE FORMA MANUAL, SEM REAPROVEITAMENTO. AF_09/2023 | E17: m² | F17: 859.90491 | G17: 27.59 | H17: 35.01 | I17: 30105.27 | J17: 0.0087797959
A18: 2.10 | B18: 90441 | C18: SINAPI | D18: FURO MECANIZADO EM CONCRETO, COM MARTELO DEMOLIDOR, PARA INSTALAÇÕES HIDRÁULICAS, DIÂMETROS MAIORES QUE 75 MM E MENORES OU IGUAIS A 150 MM. AF_09/2023 | E18: UN | F18: 211.86063 | G18: 10.13 | H18: 12.85 | I18: 2722.4 | J18: 0.00079395124
A19: 2.11 | B19: 97631 | C19: SINAPI | D19: DEMOLIÇÃO DE ARGAMASSAS, DE FORMA MANUAL, SEM REAPROVEITAMENTO. AF_09/2023 | E19: m² | F19: 428.03517 | G19: 12.77 | H19: 16.2 | I19: 6934.16 | J19: 0.0020222542
A20: 2.12 | B20: 97643 | C20: SINAPI | D20: REMOÇÃO DE PISO DE MADEIRA (ASSOALHO E BARROTE), DE FORMA MANUAL, SEM REAPROVEITAMENTO. AF_09/2023 | E20: m² | F20: 198.91892 | G20: 28.2 | H20: 35.79 | I20: 7119.3 | J20: 0.0020762478
... A28: 2.20 | B28: 97062 | C28: SINAPI | D28: COLOCAÇÃO DE TELA EM ANDAIME FACHADEIRO. AF_03/2024 | E28: m² | F28: 1050.6753 | G28: 6.4 | H28: 8.12 | I28: 8531.48 | J28: 0.0024880911
A29: 3 | D29: CARGA, DESCARGA E / OU TRANSPORTE DE MATERIAIS PROVENIENTES DAS MANUTENÇÕES | I29: 55255.32 | J29: 0.016114469
A30: 3.1 | B30: 100984 | C30: SINAPI | D30: CARGA, MANOBRA E DESCARGA DE ENTULHO EM CAMINHÃO BASCULANTE 18 M³ - CARGA COM ESCAVADEIRA HIDRÁULICA (CAÇAMBA DE 0,80 M³ / 111 HP) E DESCARGA LIVRE (UNIDADE: M3). AF_07/2020 | E30: m³ | F30: 1123.0531 | G30: 9.03 | H30: 11.46 | I30: 12870.18 | J30: 0.0037534144
A31: 3.2 | B31: 95875 | C31: SINAPI | D31: TRANSPORTE COM CAMINHÃO BASCULANTE DE 10 M³, EM VIA URBANA PAVIMENTADA, DMT ATÉ 30 KM (UNIDADE: M3XKM). AF_07/2020 | E31: M3XKM | F31: 2670.115 | G31: 2.61 | H31: 3.31 | I31: 8838.08 | J31: 0.0025775068
A32: 3.3 | B32: 93358 | C32: SINAPI | D32: ESCAVAÇÃO MANUAL DE VALA. AF_09/2024 | E32: m³ | F32: 215.69521 | G32: 93.27 | H32: 118.38 | I32: 25533.99 | J32: 0.0074466438
A33: 3.4 | B33: 93382 | C33: SINAPI | D33: REATERRO MANUAL DE VALAS, COM COMPACTADOR DE SOLOS DE PERCUSSÃO. AF_08/2023 | E33: m³ | F33: 215.69521 | G33: 29.27 | H33: 37.15 | I33: 8013.07 | J33: 0.0023369038
A34: 4 | D34: MANUTENÇÃO DE INSTALAÇÕES HIDROSSANITÁRIAS | I34: 564486.47 | J34: 0.16462487
A35: 4.1 | B35: 89714 | C35: SINAPI | D35: TUBO PVC, SERIE NORMAL, ESGOTO PREDIAL, DN 100 MM, FORNECIDO E INSTALADO EM RAMAL DE DESCARGA OU RAMAL DE ESGOTO SANITÁRIO. AF_08/2022 | E35: M | F35: 275.61055 | G35: 41.27 | H35: 52.38 | I35: 14436.48 | J35: 0.0042102047
A36: 4.2 | B36: 89713 | C36: SINAPI | D36: TUBO PVC, SERIE NORMAL, ESGOTO PREDIAL, DN 75 MM, FORNECIDO E INSTALADO EM RAMAL DE DESCARGA OU RAMAL DE ESGOTO SANITÁRIO. AF_08/2022 | E36: M | F36: 642.77173 | G36: 36.84 | H36: 46.76 | I36: 30056 | J36: 0.008765427
A37: 4.3 | B37: 89712 | C37: SINAPI | D37: TUBO PVC, SERIE NORMAL, ESGOTO PREDIAL, DN 50 MM, FORNECIDO E INSTALADO EM RAMAL DE DESCARGA OU RAMAL DE ESGOTO SANITÁRIO. AF_08/2022 | E37: M | F37: 642.77173 | G37: 29.64 | H37: 37.62 | I37: 24181.07 | J37: 0.0070520829
A38: 4.4 | B38: 89744 | C38: SINAPI | D38: JOELHO 90 GRAUS, PVC, SERIE NORMAL, ESGOTO PREDIAL, DN 100 MM, JUNTA ELÁSTICA, FORNECIDO E INSTALADO EM RAMAL DE DESCARGA OU RAMAL DE ESGOTO SANITÁRIO. AF_08/2022 | E38: UN | F38: 475.00879 | G38: 28.94 | H38: 36.73 | I38: 17447.07 | J38: 0.0050882026
A39: 4.5 | B39: 89731 | C39: SINAPI | D39: JOELHO 90 GRAUS, PVC, SERIE NORMAL, ESGOTO PREDIAL, DN 50 MM, JUNTA ELÁSTICA, FORNECIDO E INSTALADO EM RAMAL DE DESCARGA OU RAMAL DE ESGOTO SANITÁRIO. AF_08/2022 | E39: UN | F39: 132.29306 | G39: 15.85 | H39: 20.11 | I39: 2660.41 | J39: 0.00077587269
A40: 4.6 | B40: 89746 | C40: SINAPI | D40: JOELHO 45 GRAUS, PVC, SERIE NORMAL, ESGOTO PREDIAL, DN 100 MM, JUNTA ELÁSTICA, FORNECIDO E INSTALADO EM RAMAL DE DESCARGA OU RAMAL DE ESGOTO SANITÁRIO. AF_08/2022 | E40: UN | F40: 79.567567 | G40: 29.79 | H40: 37.81 | I40: 3008.44 | J40: 0.00087737095
A41: 4.7 | B41: 89795 | C41: SINAPI | D41: JUNÇÃO SIMPLES, PVC, SERIE NORMAL, ESGOTO PREDIAL, DN 75 X 75 MM, JUNTA ELÁSTICA, FORNECIDO E INSTALADO EM RAMAL DE DESCARGA OU RAMAL DE ESGOTO SANITÁRIO. AF_08/2022 | E41: UN | F41: 132.29306 | G41: 42.5 | H41: 53.94 | I41: 7135.88 | J41: 0.0020810832
A42: 4.8 | B42: 89834 | C42: SINAPI | D42: JUNÇÃO SIMPLES, PVC, SERIE NORMAL, ESGOTO PREDIAL, DN 100 X 100 MM, JUNTA ELÁSTICA, FORNECIDO E INSTALADO EM PRUMADA DE ESGOTO SANITÁRIO OU VENTILAÇÃO. AF_08/2022 | E42: UN | F42: 79.567567 | G42: 55.27 | H42: 70.15 | I42: 5581.66 | J42: 0.0016278159
A43: 4.9 | B43: 89808 | C43: SINAPI | D43: CURVA LONGA 90 GRAUS, PVC, SERIE NORMAL, ESGOTO PREDIAL, DN 75 MM, JUNTA ELÁSTICA, FORNECIDO E INSTALADO EM PRUMADA DE ESGOTO SANITÁRIO OU VENTILAÇÃO. AF_08/2022 | E43: UN | F43: 132.29306 | G43: 59.93 | H43: 76.06 | I43: 10062.21 | J43: 0.0029345078
