Workbook

Sheet TODAS
D1: Obra | E1: Bancos | G1: B.D.I. | I1: Encargos Sociais
D2: MANUTENÇÃO PREDIAL CIMAG - TOTAL | E2: SINAPI - 02/2026 - Minas Gerais | G2: 26,93% | I2: Desonerado: embutido nos preços unitário dos insumos de mão de obra, de acordo com as bases.
A3: Orçamento Sintético
A4: Item | B4: Código | C4: Banco | D4: Descrição | E4: Und | F4: Quant. | G4: Valor Unit | H4: Valor Unit com BDI | I4: Total | J4: Peso (%)
A5: 1 | D5: ACOMPANHAMENTO DE MANUTENÇÕES | I5: =SUM(I6:I7) -> 5668000.5 | J5: =I5/$I$251 -> 0.078717637
A6: 1.1 | B6: 90778 | C6: SINAPI | D6: ENGENHEIRO CIVIL DE OBRA PLENO COM ENCARGOS COMPLEMENTARES | E6: H | F6: =SUM(Alagoa!F6,Arantina!F6,Aiuruoca!F6,Baependi!F6,'Bocaina de Minas'!F6,Cambuquira!F6,'Carmo de Minas'!F6,Caxambu!F6,'Conceição do Rio Verde'!F6,Cruzilia!F6,'Dom Viçoso'!F6,Itamonte!F6,Itanhandu!F6,Jesuânia!F6,Lambari!F6,Liberdade!F6,Minduri!F6,'Olimpio Noronha'!F6,'Passa Quatro'!F6,'Passa Vinte'!F6,'Pouso Alto'!F6,'São Lourenço'!F6,'São Sebastião'!F6,'São Thome'!F6,Seritinga!F6,Serranos!F6,'Soledade de Minas'!F6,'Tres Corações'!F6,Virginia!F6,Cristina!F6) -> 16579.845 | G6: 136.69 | H6: =TRUNC((G6*$G$2)+(G6),2) -> 173.5 | I6: =TRUNC(H6*F6,2) -> 2876603.1 | J6: =I6/$I$251 -> 0.03995049
A7: 1.2 | B7: 90776 | C7: SINAPI | D7: ENCARREGADO GERAL COM ENCARGOS COMPLEMENTARES | E7: H | F7: =SUM(Alagoa!F7,Arantina!F7,Aiuruoca!F7,Baependi!F7,'Bocaina de Minas'!F7,Cambuquira!F7,'Carmo de Minas'!F7,Caxambu!F7,'Conceição do Rio Verde'!F7,Cruzilia!F7,'Dom Viçoso'!F7,Itamonte!F7,Itanhandu!F7,Jesuânia!F7,Lambari!F7,Liberdade!F7,Minduri!F7,'Olimpio Noronha'!F7,'Passa Quatro'!F7,'Passa Vinte'!F7,'Pouso Alto'!F7,'São Lourenço'!F7,'São Sebastião'!F7,'São Thome'!F7,Seritinga!F7,Serranos!F7,'Soledade de Minas'!F7,'Tres Corações'!F7,Virginia!F7,Cristina!F7) -> 35302.864 | G7: 62.3 | H7: =TRUNC((G7*$G$2)+(G7),2) -> 79.07 | I7: =TRUNC(H7*F7,2) -> 2791397.5 | J7: =I7/$I$251 -> 0.038767147
A8: 2 | D8: SERVIÇOS PRELIMINARES (DEMOLIÇÕES / RETIRADAS) | I8: =SUM(I9:I28) -> 5924116.9 | J8: =I8/$I$251 -> 0.082274602
A9: 2.1 | B9: 97633 | C9: SINAPI | D9: DEMOLIÇÃO DE REVESTIMENTO CERÂMICO, DE FORMA MANUAL, SEM REAPROVEITAMENTO. AF_09/2023 | E9: m² | F9: =SUM(Alagoa!F9,Arantina!F9,Aiuruoca!F9,Baependi!F9,'Bocaina de Minas'!F9,Cambuquira!F9,'Carmo de Minas'!F9,Caxambu!F9,'Conceição do Rio Verde'!F9,Cruzilia!F9,'Dom Viçoso'!F9,Itamonte!F9,Itanhandu!F9,Jesuânia!F9,Lambari!F9,Liberdade!F9,Minduri!F9,'Olimpio Noronha'!F9,'Passa Quatro'!F9,'Passa Vinte'!F9,'Pouso Alto'!F9,'São Lourenço'!F9,'São Sebastião'!F9,'São Thome'!F9,Seritinga!F9,Serranos!F9,'Soledade de Minas'!F9,'Tres Corações'!F9,Virginia!F9,Cristina!F9) -> 17479.902 | G9: 25.97 | H9: =TRUNC((G9*$G$2)+(G9),2) -> 32.96 | I9: =TRUNC(H9*F9,2) -> 576137.58 | J9: =I9/$I$251 -> 0.008001444
A10: 2.2 | B10: 97663 | C10: SINAPI | D10: REMOÇÃO DE LOUÇAS, DE FORMA MANUAL, SEM REAPROVEITAMENTO. AF_09/2023 | E10: UN | F10: =SUM(Alagoa!F10,Arantina!F10,Aiuruoca!F10,Baependi!F10,'Bocaina de Minas'!F10,Cambuquira!F10,'Carmo de Minas'!F10,Caxambu!F10,'Conceição do Rio Verde'!F10,Cruzilia!F10,'Dom Viçoso'!F10,Itamonte!F10,Itanhandu!F10,Jesuânia!F10,Lambari!F10,Liberdade!F10,Minduri!F10,'Olimpio Noronha'!F10,'Passa Quatro'!F10,'Passa Vinte'!F10,'Pouso Alto'!F10,'São Lourenço'!F10,'São Sebastião'!F10,'São Thome'!F10,Seritinga!F10,Serranos!F10,'Soledade de Minas'!F10,'Tres Corações'!F10,Virginia!F10,Cristina!F10) -> 5501.3589 | G10: 14.14 | H10: =TRUNC((G10*$G$2)+(G10),2) -> 17.94 | I10: =TRUNC(H10*F10,2) -> 98694.37 | J10: =I10/$I$251 -> 0.0013706752
A11: 2.3 | B11: 97664 | C11: SINAPI | D11: REMOÇÃO DE ACESSÓRIOS, DE FORMA MANUAL, SEM REAPROVEITAMENTO. AF_09/2023 | E11: UN | F11: =SUM(Alagoa!F11,Arantina!F11,Aiuruoca!F11,Baependi!F11,'Bocaina de Minas'!F11,Cambuquira!F11,'Carmo de Minas'!F11,Caxambu!F11,'Conceição do Rio Verde'!F11,Cruzilia!F11,'Dom Viçoso'!F11,Itamonte!F11,Itanhandu!F11,Jesuânia!F11,Lambari!F11,Liberdade!F11,Minduri!F11,'Olimpio Noronha'!F11,'Passa Quatro'!F11,'Passa Vinte'!F11,'Pouso Alto'!F11,'São Lourenço'!F11,'São Sebastião'!F11,'São Thome'!F11,Seritinga!F11,Serranos!F11,'Soledade de Minas'!F11,'Tres Corações'!F11,Virginia!F11,Cristina!F11) -> 6582.1091 | G11: 1.76 | H11: =TRUNC((G11*$G$2)+(G11),2) -> 2.23 | I11: =TRUNC(H11*F11,2) -> 14678.1 | J11: =I11/$I$251 -> 0.00020385061
A12: 2.4 | B12: 90447 | C12: SINAPI | D12: RASGO LINEAR MANUAL EM ALVENARIA, PARA ELETRODUTOS, DIÂMETROS MENORES OU IGUAIS A 40 MM. AF_09/2023 | E12: M | F12: =SUM(Alagoa!F12,Arantina!F12,Aiuruoca!F12,Baependi!F12,'Bocaina de Minas'!F12,Cambuquira!F12,'Carmo de Minas'!F12,Caxambu!F12,'Conceição do Rio Verde'!F12,Cruzilia!F12,'Dom Viçoso'!F12,Itamonte!F12,Itanhandu!F12,Jesuânia!F12,Lambari!F12,Liberdade!F12,Minduri!F12,'Olimpio Noronha'!F12,'Passa Quatro'!F12,'Passa Vinte'!F12,'Pouso Alto'!F12,'São Lourenço'!F12,'São Sebastião'!F12,'São Thome'!F12,Seritinga!F12,Serranos!F12,'Soledade de Minas'!F12,'Tres Corações'!F12,Virginia!F12,Cristina!F12) -> 14086.778 | G12: 9.28 | H12: =TRUNC((G12*$G$2)+(G12),2) -> 11.77 | I12: =TRUNC(H12*F12,2) -> 165801.37 | J12: =I12/$I$251 -> 0.0023026625
A13: 2.5 | B13: 97660 | C13: SINAPI | D13: REMOÇÃO DE INTERRUPTORES/TOMADAS ELÉTRICAS, DE FORMA MANUAL, SEM REAPROVEITAMENTO. AF_09/2023 | E13: UN | F13: =SUM(Alagoa!F13,Arantina!F13,Aiuruoca!F13,Baependi!F13,'Bocaina de Minas'!F13,Cambuquira!F13,'Carmo de Minas'!F13,Caxambu!F13,'Conceição do Rio Verde'!F13,Cruzilia!F13,'Dom Viçoso'!F13,Itamonte!F13,Itanhandu!F13,Jesuânia!F13,Lambari!F13,Liberdade!F13,Minduri!F13,'Olimpio Noronha'!F13,'Passa Quatro'!F13,'Passa Vinte'!F13,'Pouso Alto'!F13,'São Lourenço'!F13,'São Sebastião'!F13,'São Thome'!F13,Seritinga!F13,Serranos!F13,'Soledade de Minas'!F13,'Tres Corações'!F13,Virginia!F13,Cristina!F13) -> 41445.964 | G13: 0.74 | H13: =TRUNC((G13*$G$2)+(G13),2) -> 0.93 | I13: =TRUNC(H13*F13,2) -> 38544.74 | J13: =I13/$I$251 -> 0.00053531238
A14: 2.6 | B14: 97661 | C14: SINAPI | D14: REMOÇÃO DE CABOS ELÉTRICOS, COM SEÇÃO DE 10 MM², FORMA MANUAL, SEM REAPROVEITAMENTO. AF_09/2023 | E14: M | F14: =SUM(Alagoa!F14,Arantina!F14,Aiuruoca!F14,Baependi!F14,'Bocaina de Minas'!F14,Cambuquira!F14,'Carmo de Minas'!F14,Caxambu!F14,'Conceição do Rio Verde'!F14,Cruzilia!F14,'Dom Viçoso'!F14,Itamonte!F14,Itanhandu!F14,Jesuânia!F14,Lambari!F14,Liberdade!F14,Minduri!F14,'Olimpio Noronha'!F14,'Passa Quatro'!F14,'Passa Vinte'!F14,'Pouso Alto'!F14,'São Lourenço'!F14,'São Sebastião'!F14,'São Thome'!F14,Seritinga!F14,Serranos!F14,'Soledade de Minas'!F14,'Tres Corações'!F14,Virginia!F14,Cristina!F14) -> 626449.42 | G14: 0.8 | H14: =TRUNC((G14*$G$2)+(G14),2) -> 1.01 | I14: =TRUNC(H14*F14,2) -> 632713.91 | J14: =I14/$I$251 -> 0.0087871805
A15: 2.7 | B15: 97665 | C15: SINAPI | D15: REMOÇÃO DE LUMINÁRIAS, DE FORMA MANUAL, SEM REAPROVEITAMENTO. AF_09/2023 | E15: UN | F15: =SUM(Alagoa!F15,Arantina!F15,Aiuruoca!F15,Baependi!F15,'Bocaina de Minas'!F15,Cambuquira!F15,'Carmo de Minas'!F15,Caxambu!F15,'Conceição do Rio Verde'!F15,Cruzilia!F15,'Dom Viçoso'!F15,Itamonte!F15,Itanhandu!F15,Jesuânia!F15,Lambari!F15,Liberdade!F15,Minduri!F15,'Olimpio Noronha'!F15,'Passa Quatro'!F15,'Passa Vinte'!F15,'Pouso Alto'!F15,'São Lourenço'!F15,'São Sebastião'!F15,'São Thome'!F15,Seritinga!F15,Serranos!F15,'Soledade de Minas'!F15,'Tres Corações'!F15,Virginia!F15,Cristina!F15) -> 8216.0635 | G15: 2.01 | H15: =TRUNC((G15*$G$2)+(G15),2) -> 2.55 | I15: =TRUNC(H15*F15,2) -> 20950.96 | J15: =I15/$I$251 -> 0.00029096858
A16: 2.8 | B16: 97644 | C16: SINAPI | D16: REMOÇÃO DE PORTAS, DE FORMA MANUAL, SEM REAPROVEITAMENTO. AF_09/2023 | E16: m² | F16: =SUM(Alagoa!F16,Arantina!F16,Aiuruoca!F16,Baependi!F16,'Bocaina de Minas'!F16,Cambuquira!F16,'Carmo de Minas'!F16,Caxambu!F16,'Conceição do Rio Verde'!F16,Cruzilia!F16,'Dom Viçoso'!F16,Itamonte!F16,Itanhandu!F16,Jesuânia!F16,Lambari!F16,Liberdade!F16,Minduri!F16,'Olimpio Noronha'!F16,'Passa Quatro'!F16,'Passa Vinte'!F16,'Pouso Alto'!F16,'São Lourenço'!F16,'São Sebastião'!F16,'São Thome'!F16,Seritinga!F16,Serranos!F16,'Soledade de Minas'!F16,'Tres Corações'!F16,Virginia!F16,Cristina!F16) -> 8161.1139 | G16: 10.69 | H16: =TRUNC((G16*$G$2)+(G16),2) -> 13.56 | I16: =TRUNC(H16*F16,2) -> 110664.7 | J16: =I16/$I$251 -> 0.0015369201
A17: 2.9 | B17: 97645 | C17: SINAPI | D17: REMOÇÃO DE JANELAS, DE FORMA MANUAL, SEM REAPROVEITAMENTO. AF_09/2023 | E17: m² | F17: =SUM(Alagoa!F17,Arantina!F17,Aiuruoca!F17,Baependi!F17,'Bocaina de Minas'!F17,Cambuquira!F17,'Carmo de Minas'!F17,Caxambu!F17,'Conceição do Rio Verde'!F17,Cruzilia!F17,'Dom Viçoso'!F17,Itamonte!F17,Itanhandu!F17,Jesuânia!F17,Lambari!F17,Liberdade!F17,Minduri!F17,'Olimpio Noronha'!F17,'Passa Quatro'!F17,'Passa Vinte'!F17,'Pouso Alto'!F17,'São Lourenço'!F17,'São Sebastião'!F17,'São Thome'!F17,Seritinga!F17,Serranos!F17,'Soledade de Minas'!F17,'Tres Corações'!F17,Virginia!F17,Cristina!F17) -> 17888.916 | G17: 27.59 | H17: =TRUNC((G17*$G$2)+(G17),2) -> 35.01 | I17: =TRUNC(H17*F17,2) -> 626290.95 | J17: =I17/$I$251 -> 0.008697978
A18: 2.10 | B18: 90441 | C18: SINAPI | D18: FURO MECANIZADO EM CONCRETO, COM MARTELO DEMOLIDOR, PARA INSTALAÇÕES HIDRÁULICAS, DIÂMETROS MAIORES QUE 75 MM E MENORES OU IGUAIS A 150 MM. AF_09/2023 | E18: UN | F18: =SUM(Alagoa!F18,Arantina!F18,Aiuruoca!F18,Baependi!F18,'Bocaina de Minas'!F18,Cambuquira!F18,'Carmo de Minas'!F18,Caxambu!F18,'Conceição do Rio Verde'!F18,Cruzilia!F18,'Dom Viçoso'!F18,Itamonte!F18,Itanhandu!F18,Jesuânia!F18,Lambari!F18,Liberdade!F18,Minduri!F18,'Olimpio Noronha'!F18,'Passa Quatro'!F18,'Passa Vinte'!F18,'Pouso Alto'!F18,'São Lourenço'!F18,'São Sebastião'!F18,'São Thome'!F18,Seritinga!F18,Serranos!F18,'Soledade de Minas'!F18,'Tres Corações'!F18,Virginia!F18,Cristina!F18) -> 4398.9504 | G18: 10.13 | H18: =TRUNC((G18*$G$2)+(G18),2) -> 12.85 | I18: =TRUNC(H18*F18,2) -> 56526.51 | J18: =I18/$I$251 -> 0.00078504462
A19: 2.11 | B19: 97631 | C19: SINAPI | D19: DEMOLIÇÃO DE ARGAMASSAS, DE FORMA MANUAL, SEM REAPROVEITAMENTO. AF_09/2023 | E19: m² | F19: =SUM(Alagoa!F19,Arantina!F19,Aiuruoca!F19,Baependi!F19,'Bocaina de Minas'!F19,Cambuquira!F19,'Carmo de Minas'!F19,Caxambu!F19,'Conceição do Rio Verde'!F19,Cruzilia!F19,'Dom Viçoso'!F19,Itamonte!F19,Itanhandu!F19,Jesuânia!F19,Lambari!F19,Liberdade!F19,Minduri!F19,'Olimpio Noronha'!F19,'Passa Quatro'!F19,'Passa Vinte'!F19,'Pouso Alto'!F19,'São Lourenço'!F19,'São Sebastião'!F19,'São Thome'!F19,Seritinga!F19,Serranos!F19,'Soledade de Minas'!F19,'Tres Corações'!F19,Virginia!F19,Cristina!F19) -> 8898.8251 | G19: 12.77 | H19: =TRUNC((G19*$G$2)+(G19),2) -> 16.2 | I19: =TRUNC(H19*F19,2) -> 144160.96 | J19: =I19/$I$251 -> 0.0020021188
A20: 2.12 | B20: 97643 | C20: SINAPI | D20: REMOÇÃO DE PISO DE MADEIRA (ASSOALHO E BARROTE), DE FORMA MANUAL, SEM REAPROVEITAMENTO. AF_09/2023 | E20: m² | F20: =SUM(Alagoa!F20,Arantina!F20,Aiuruoca!F20,Baependi!F20,'Bocaina de Minas'!F20,Cambuquira!F20,'Carmo de Minas'!F20,Caxambu!F20,'Conceição do Rio Verde'!F20,Cruzilia!F20,'Dom Viçoso'!F20,Itamonte!F20,Itanhandu!F20,Jesuânia!F20,Lambari!F20,Liberdade!F20,Minduri!F20,'Olimpio Noronha'!F20,'Passa Quatro'!F20,'Passa Vinte'!F20,'Pouso Alto'!F20,'São Lourenço'!F20,'São Sebastião'!F20,'São Thome'!F20,Seritinga!F20,Serranos!F20,'Soledade de Minas'!F20,'Tres Corações'!F20,Virginia!F20,Cristina!F20) -> 4133.1774 | G20: 28.2 | H20: =TRUNC((G20*$G$2)+(G20),2) -> 35.79 | I20: =TRUNC(H20*F20,2) -> 147926.41 | J20: =I20/$I$251 -> 0.0020544136
... A28: 2.20 | B28: 97062 | C28: SINAPI | D28: COLOCAÇÃO DE TELA EM ANDAIME FACHADEIRO. AF_03/2024 | E28: m² | F28: =SUM(Alagoa!F28,Arantina!F28,Aiuruoca!F28,Baependi!F28,'Bocaina de Minas'!F28,Cambuquira!F28,'Carmo de Minas'!F28,Caxambu!F28,'Conceição do Rio Verde'!F28,Cruzilia!F28,'Dom Viçoso'!F28,Itamonte!F28,Itanhandu!F28,Jesuânia!F28,Lambari!F28,Liberdade!F28,Minduri!F28,'Olimpio Noronha'!F28,'Passa Quatro'!F28,'Passa Vinte'!F28,'Pouso Alto'!F28,'São Lourenço'!F28,'São Sebastião'!F28,'São Thome'!F28,Seritinga!F28,Serranos!F28,'Soledade de Minas'!F28,'Tres Corações'!F28,Virginia!F28,Cristina!F28) -> 21825.903 | G28: 6.4 | H28: =TRUNC((G28*$G$2)+(G28),2) -> 8.12 | I28: =TRUNC(H28*F28,2) -> 177226.33 | J28: =I28/$I$251 -> 0.0024613332
A29: 3 | D29: CARGA, DESCARGA E / OU TRANSPORTE DE MATERIAIS PROVENIENTES DAS MANUTENÇÕES | I29: =SUM(I30:I33) -> 1149220.2 | J29: =I29/$I$251 -> 0.015960461
A30: 3.1 | B30: 100984 | C30: SINAPI | D30: CARGA, MANOBRA E DESCARGA DE ENTULHO EM CAMINHÃO BASCULANTE 18 M³ - CARGA COM ESCAVADEIRA HIDRÁULICA (CAÇAMBA DE 0,80 M³ / 111 HP) E DESCARGA LIVRE (UNIDADE: M3). AF_07/2020 | E30: m³ | F30: =SUM(Alagoa!F30,Arantina!F30,Aiuruoca!F30,Baependi!F30,'Bocaina de Minas'!F30,Cambuquira!F30,'Carmo de Minas'!F30,Caxambu!F30,'Conceição do Rio Verde'!F30,Cruzilia!F30,'Dom Viçoso'!F30,Itamonte!F30,Itanhandu!F30,Jesuânia!F30,Lambari!F30,Liberdade!F30,Minduri!F30,'Olimpio Noronha'!F30,'Passa Quatro'!F30,'Passa Vinte'!F30,'Pouso Alto'!F30,'São Lourenço'!F30,'São Sebastião'!F30,'São Thome'!F30,Seritinga!F30,Serranos!F30,'Soledade de Minas'!F30,'Tres Corações'!F30,Virginia!F30,Cristina!F30) -> 23365.3 | G30: 9.03 | H30: =TRUNC((G30*$G$2)+(G30),2) -> 11.46 | I30: =TRUNC(H30*F30,2) -> 267766.34 | J30: =I30/$I$251 -> 0.00371876
A31: 3.2 | B31: 95875 | C31: SINAPI | D31: TRANSPORTE COM CAMINHÃO BASCULANTE DE 10 M³, EM VIA URBANA PAVIMENTADA, DMT ATÉ 30 KM (UNIDADE: M3XKM). AF_07/2020 | E31: M3XKM | F31: =SUM(Alagoa!F31,Arantina!F31,Aiuruoca!F31,Baependi!F31,'Bocaina de Minas'!F31,Cambuquira!F31,'Carmo de Minas'!F31,Caxambu!F31,'Conceição do Rio Verde'!F31,Cruzilia!F31,'Dom Viçoso'!F31,Itamonte!F31,Itanhandu!F31,Jesuânia!F31,Lambari!F31,Liberdade!F31,Minduri!F31,'Olimpio Noronha'!F31,'Passa Quatro'!F31,'Passa Vinte'!F31,'Pouso Alto'!F31,'São Lourenço'!F31,'São Sebastião'!F31,'São Thome'!F31,Seritinga!F31,Serranos!F31,'Soledade de Minas'!F31,'Tres Corações'!F31,Virginia!F31,Cristina!F31) -> 55549.296 | G31: 2.61 | H31: =TRUNC((G31*$G$2)+(G31),2) -> 3.31 | I31: =TRUNC(H31*F31,2) -> 183868.17 | J31: =I31/$I$251 -> 0.0025535756
A32: 3.3 | B32: 93358 | C32: SINAPI | D32: ESCAVAÇÃO MANUAL DE VALA. AF_09/2024 | E32: m³ | F32: =SUM(Alagoa!F32,Arantina!F32,Aiuruoca!F32,Baependi!F32,'Bocaina de Minas'!F32,Cambuquira!F32,'Carmo de Minas'!F32,Caxambu!F32,'Conceição do Rio Verde'!F32,Cruzilia!F32,'Dom Viçoso'!F32,Itamonte!F32,Itanhandu!F32,Jesuânia!F32,Lambari!F32,Liberdade!F32,Minduri!F32,'Olimpio Noronha'!F32,'Passa Quatro'!F32,'Passa Vinte'!F32,'Pouso Alto'!F32,'São Lourenço'!F32,'São Sebastião'!F32,'São Thome'!F32,Seritinga!F32,Serranos!F32,'Soledade de Minas'!F32,'Tres Corações'!F32,Virginia!F32,Cristina!F32) -> 4485.2165 | G32: 93.27 | H32: =TRUNC((G32*$G$2)+(G32),2) -> 118.38 | I32: =TRUNC(H32*F32,2) -> 530959.92 | J32: =I32/$I$251 -> 0.0073740131
A33: 3.4 | B33: 93382 | C33: SINAPI | D33: REATERRO MANUAL DE VALAS, COM COMPACTADOR DE SOLOS DE PERCUSSÃO. AF_08/2023 | E33: m³ | F33: =SUM(Alagoa!F33,Arantina!F33,Aiuruoca!F33,Baependi!F33,'Bocaina de Minas'!F33,Cambuquira!F33,'Carmo de Minas'!F33,Caxambu!F33,'Conceição do Rio Verde'!F33,Cruzilia!F33,'Dom Viçoso'!F33,Itamonte!F33,Itanhandu!F33,Jesuânia!F33,Lambari!F33,Liberdade!F33,Minduri!F33,'Olimpio Noronha'!F33,'Passa Quatro'!F33,'Passa Vinte'!F33,'Pouso Alto'!F33,'São Lourenço'!F33,'São Sebastião'!F33,'São Thome'!F33,Seritinga!F33,Serranos!F33,'Soledade de Minas'!F33,'Tres Corações'!F33,Virginia!F33,Cristina!F33) -> 4485.2165 | G33: 29.27 | H33: =TRUNC((G33*$G$2)+(G33),2) -> 37.15 | I33: =TRUNC(H33*F33,2) -> 166625.79 | J33: =I33/$I$251 -> 0.0023141121
A34: 4 | D34: MANUTENÇÃO DE INSTALAÇÕES HIDROSSANITÁRIAS | I34: =SUM(I35:I91) -> 11719986 | J34: =I34/$I$251 -> 0.16276809
A35: 4.1 | B35: 89714 | C35: SINAPI | D35: TUBO PVC, SERIE NORMAL, ESGOTO PREDIAL, DN 100 MM, FORNECIDO E INSTALADO EM RAMAL DE DESCARGA OU RAMAL DE ESGOTO SANITÁRIO. AF_08/2022 | E35: M | F35: =SUM(Alagoa!F35,Arantina!F35,Aiuruoca!F35,Baependi!F35,'Bocaina de Minas'!F35,Cambuquira!F35,'Carmo de Minas'!F35,Caxambu!F35,'Conceição do Rio Verde'!F35,Cruzilia!F35,'Dom Viçoso'!F35,Itamonte!F35,Itanhandu!F35,Jesuânia!F35,Lambari!F35,Liberdade!F35,Minduri!F35,'Olimpio Noronha'!F35,'Passa Quatro'!F35,'Passa Vinte'!F35,'Pouso Alto'!F35,'São Lourenço'!F35,'São Sebastião'!F35,'São Thome'!F35,Seritinga!F35,Serranos!F35,'Soledade de Minas'!F35,'Tres Corações'!F35,Virginia!F35,Cristina!F35) -> 5727.4988 | G35: 41.27 | H35: =TRUNC((G35*$G$2)+(G35),2) -> 52.38 | I35: =TRUNC(H35*F35,2) -> 300006.38 | J35: =I35/$I$251 -> 0.0041665122
A36: 4.2 | B36: 89713 | C36: SINAPI | D36: TUBO PVC, SERIE NORMAL, ESGOTO PREDIAL, DN 75 MM, FORNECIDO E INSTALADO EM RAMAL DE DESCARGA OU RAMAL DE ESGOTO SANITÁRIO. AF_08/2022 | E36: M | F36: =SUM(Alagoa!F36,Arantina!F36,Aiuruoca!F36,Baependi!F36,'Bocaina de Minas'!F36,Cambuquira!F36,'Carmo de Minas'!F36,Caxambu!F36,'Conceição do Rio Verde'!F36,Cruzilia!F36,'Dom Viçoso'!F36,Itamonte!F36,Itanhandu!F36,Jesuânia!F36,Lambari!F36,Liberdade!F36,Minduri!F36,'Olimpio Noronha'!F36,'Passa Quatro'!F36,'Passa Vinte'!F36,'Pouso Alto'!F36,'São Lourenço'!F36,'São Sebastião'!F36,'São Thome'!F36,Seritinga!F36,Serranos!F36,'Soledade de Minas'!F36,'Tres Corações'!F36,Virginia!F36,Cristina!F36) -> 13365.725 | G36: 36.84 | H36: =TRUNC((G36*$G$2)+(G36),2) -> 46.76 | I36: =TRUNC(H36*F36,2) -> 624981.3 | J36: =I36/$I$251 -> 0.0086797894
A37: 4.3 | B37: 89712 | C37: SINAPI | D37: TUBO PVC, SERIE NORMAL, ESGOTO PREDIAL, DN 50 MM, FORNECIDO E INSTALADO EM RAMAL DE DESCARGA OU RAMAL DE ESGOTO SANITÁRIO. AF_08/2022 | E37: M | F37: =SUM(Alagoa!F37,Arantina!F37,Aiuruoca!F37,Baependi!F37,'Bocaina de Minas'!F37,Cambuquira!F37,'Carmo de Minas'!F37,Caxambu!F37,'Conceição do Rio Verde'!F37,Cruzilia!F37,'Dom Viçoso'!F37,Itamonte!F37,Itanhandu!F37,Jesuânia!F37,Lambari!F37,Liberdade!F37,Minduri!F37,'Olimpio Noronha'!F37,'Passa Quatro'!F37,'Passa Vinte'!F37,'Pouso Alto'!F37,'São Lourenço'!F37,'São Sebastião'!F37,'São Thome'!F37,Seritinga!F37,Serranos!F37,'Soledade de Minas'!F37,'Tres Corações'!F37,Virginia!F37,Cristina!F37) -> 13365.725 | G37: 29.64 | H37: =TRUNC((G37*$G$2)+(G37),2) -> 37.62 | I37: =TRUNC(H37*F37,2) -> 502818.57 | J37: =I37/$I$251 -> 0.0069831838
A38: 4.4 | B38: 89744 | C38: SINAPI | D38: JOELHO 90 GRAUS, PVC, SERIE NORMAL, ESGOTO PREDIAL, DN 100 MM, JUNTA ELÁSTICA, FORNECIDO E INSTALADO EM RAMAL DE DESCARGA OU RAMAL DE ESGOTO SANITÁRIO. AF_08/2022 | E38: UN | F38: =SUM(Alagoa!F38,Arantina!F38,Aiuruoca!F38,Baependi!F38,'Bocaina de Minas'!F38,Cambuquira!F38,'Carmo de Minas'!F38,Caxambu!F38,'Conceição do Rio Verde'!F38,Cruzilia!F38,'Dom Viçoso'!F38,Itamonte!F38,Itanhandu!F38,Jesuânia!F38,Lambari!F38,Liberdade!F38,Minduri!F38,'Olimpio Noronha'!F38,'Passa Quatro'!F38,'Passa Vinte'!F38,'Pouso Alto'!F38,'São Lourenço'!F38,'São Sebastião'!F38,'São Thome'!F38,Seritinga!F38,Serranos!F38,'Soledade de Minas'!F38,'Tres Corações'!F38,Virginia!F38,Cristina!F38) -> 9875.3345 | G38: 28.94 | H38: =TRUNC((G38*$G$2)+(G38),2) -> 36.73 | I38: =TRUNC(H38*F38,2) -> 362721.03 | J38: =I38/$I$251 -> 0.0050374982
A39: 4.5 | B39: 89731 | C39: SINAPI | D39: JOELHO 90 GRAUS, PVC, SERIE NORMAL, ESGOTO PREDIAL, DN 50 MM, JUNTA ELÁSTICA, FORNECIDO E INSTALADO EM RAMAL DE DESCARGA OU RAMAL DE ESGOTO SANITÁRIO. AF_08/2022 | E39: UN | F39: =SUM(Alagoa!F39,Arantina!F39,Aiuruoca!F39,Baependi!F39,'Bocaina de Minas'!F39,Cambuquira!F39,'Carmo de Minas'!F39,Caxambu!F39,'Conceição do Rio Verde'!F39,Cruzilia!F39,'Dom Viçoso'!F39,Itamonte!F39,Itanhandu!F39,Jesuânia!F39,Lambari!F39,Liberdade!F39,Minduri!F39,'Olimpio Noronha'!F39,'Passa Quatro'!F39,'Passa Vinte'!F39,'Pouso Alto'!F39,'São Lourenço'!F39,'São Sebastião'!F39,'São Thome'!F39,Seritinga!F39,Serranos!F39,'Soledade de Minas'!F39,'Tres Corações'!F39,Virginia!F39,Cristina!F39) -> 2746.6794 | G39: 15.85 | H39: =TRUNC((G39*$G$2)+(G39),2) -> 20.11 | I39: =TRUNC(H39*F39,2) -> 55235.72 | J39: =I39/$I$251 -> 0.00076711802
A40: 4.6 | B40: 89746 | C40: SINAPI | D40: JOELHO 45 GRAUS, PVC, SERIE NORMAL, ESGOTO PREDIAL, DN 100 MM, JUNTA ELÁSTICA, FORNECIDO E INSTALADO EM RAMAL DE DESCARGA OU RAMAL DE ESGOTO SANITÁRIO. AF_08/2022 | E40: UN | F40: =SUM(Alagoa!F40,Arantina!F40,Aiuruoca!F40,Baependi!F40,'Bocaina de Minas'!F40,Cambuquira!F40,'Carmo de Minas'!F40,Caxambu!F40,'Conceição do Rio Verde'!F40,Cruzilia!F40,'Dom Viçoso'!F40,Itamonte!F40,Itanhandu!F40,Jesuânia!F40,Lambari!F40,Liberdade!F40,Minduri!F40,'Olimpio Noronha'!F40,'Passa Quatro'!F40,'Passa Vinte'!F40,'Pouso Alto'!F40,'São Lourenço'!F40,'São Sebastião'!F40,'São Thome'!F40,Seritinga!F40,Serranos!F40,'Soledade de Minas'!F40,'Tres Corações'!F40,Virginia!F40,Cristina!F40) -> 1652.271 | G40: 29.79 | H40: =TRUNC((G40*$G$2)+(G40),2) -> 37.81 | I40: =TRUNC(H40*F40,2) -> 62472.36 | J40: =I40/$I$251 -> 0.00086762105
A41: 4.7 | B41: 89795 | C41: SINAPI | D41: JUNÇÃO SIMPLES, PVC, SERIE NORMAL, ESGOTO PREDIAL, DN 75 X 75 MM, JUNTA ELÁSTICA, FORNECIDO E INSTALADO EM RAMAL DE DESCARGA OU RAMAL DE ESGOTO SANITÁRIO. AF_08/2022 | E41: UN | F41: =SUM(Alagoa!F41,Arantina!F41,Aiuruoca!F41,Baependi!F41,'Bocaina de Minas'!F41,Cambuquira!F41,'Carmo de Minas'!F41,Caxambu!F41,'Conceição do Rio Verde'!F41,Cruzilia!F41,'Dom Viçoso'!F41,Itamonte!F41,Itanhandu!F41,Jesuânia!F41,Lambari!F41,Liberdade!F41,Minduri!F41,'Olimpio Noronha'!F41,'Passa Quatro'!F41,'Passa Vinte'!F41,'Pouso Alto'!F41,'São Lourenço'!F41,'São Sebastião'!F41,'São Thome'!F41,Seritinga!F41,Serranos!F41,'Soledade de Minas'!F41,'Tres Corações'!F41,Virginia!F41,Cristina!F41) -> 2747.6794 | G41: 42.5 | H41: =TRUNC((G41*$G$2)+(G41),2) -> 53.94 | I41: =TRUNC(H41*F41,2) -> 148209.82 | J41: =I41/$I$251 -> 0.0020583496
A42: 4.8 | B42: 89834 | C42: SINAPI | D42: JUNÇÃO SIMPLES, PVC, SERIE NORMAL, ESGOTO PREDIAL, DN 100 X 100 MM, JUNTA ELÁSTICA, FORNECIDO E INSTALADO EM PRUMADA DE ESGOTO SANITÁRIO OU VENTILAÇÃO. AF_08/2022 | E42: UN | F42: =SUM(Alagoa!F42,Arantina!F42,Aiuruoca!F42,Baependi!F42,'Bocaina de Minas'!F42,Cambuquira!F42,'Carmo de Minas'!F42,Caxambu!F42,'Conceição do Rio Verde'!F42,Cruzilia!F42,'Dom Viçoso'!F42,Itamonte!F42,Itanhandu!F42,Jesuânia!F42,Lambari!F42,Liberdade!F42,Minduri!F42,'Olimpio Noronha'!F42,'Passa Quatro'!F42,'Passa Vinte'!F42,'Pouso Alto'!F42,'São Lourenço'!F42,'São Sebastião'!F42,'São Thome'!F42,Seritinga!F42,Serranos!F42,'Soledade de Minas'!F42,'Tres Corações'!F42,Virginia!F42,Cristina!F42) -> 1649.271 | G42: 55.27 | H42: =TRUNC((G42*$G$2)+(G42),2) -> 70.15 | I42: =TRUNC(H42*F42,2) -> 115696.35 | J42: =I42/$I$251 -> 0.0016068
A43: 4.9 | B43: 89808 | C43: SINAPI | D43: CURVA LONGA 90 GRAUS, PVC, SERIE NORMAL, ESGOTO PREDIAL, DN 75 MM, JUNTA ELÁSTICA, FORNECIDO E INSTALADO EM PRUMADA DE ESGOTO SANITÁRIO OU VENTILAÇÃO. AF_08/2022 | E43: UN | F43: =SUM(Alagoa!F43,Arantina!F43,Aiuruoca!F43,Baependi!F43,'Bocaina de Minas'!F43,Cambuquira!F43,'Carmo de Minas'!F43,Caxambu!F43,'Conceição do Rio Verde'!F43,Cruzilia!F43,'Dom Viçoso'!F43,Itamonte!F43,Itanhandu!F43,Jesuânia!F43,Lambari!F43,Liberdade!F43,Minduri!F43,'Olimpio Noronha'!F43,'Passa Quatro'!F43,'Passa Vinte'!F43,'Pouso Alto'!F43,'São Lourenço'!F43,'São Sebastião'!F43,'São Thome'!F43,Seritinga!F43,Serranos!F43,'Soledade de Minas'!F43,'Tres Corações'!F43,Virginia!F43,Cristina!F43) -> 2749.6794 | G43: 59.93 | H43: =TRUNC((G43*$G$2)+(G43),2) -> 76.06 | I43: =TRUNC(H43*F43,2) -> 209140.61 | J43: =I43/$I$251 -> 0.0029045612
A44: 4.10 | B44: 89806 | C44: SINAPI | D44: JOELHO 45 GRAUS, PVC, SERIE NORMAL, ESGOTO PREDIAL, DN 75 MM, JUNTA ELÁSTICA, FORNECIDO E INSTALADO EM PRUMADA DE ESGOTO SANITÁRIO OU VENTILAÇÃO. AF_08/2022 | E44: UN | F44: =SUM(Alagoa!F44,Arantina!F44,Aiuruoca!F44,Baependi!F44,'Bocaina de Minas'!F44,Cambuquira!F44,'Carmo de Minas'!F44,Caxambu!F44,'Conceição do Rio Verde'!F44,Cruzilia!F44,'Dom Viçoso'!F44,Itamonte!F44,Itanhandu!F44,Jesuânia!F44,Lambari!F44,Liberdade!F44,Minduri!F44,'Olimpio Noronha'!F44,'Passa Quatro'!F44,'Passa Vinte'!F44,'Pouso Alto'!F44,'São Lourenço'!F44,'São Sebastião'!F44,'São Thome'!F44,Seritinga!F44,Serranos!F44,'Soledade de Minas'!F44,'Tres Corações'!F44,Virginia!F44,Cristina!F44) -> 2749.6794 | G44: 22.5 | H44: =TRUNC((G44*$G$2)+(G44),2) -> 28.55 | I44: =TRUNC(H44*F44,2) -> 78503.34 | J44: =I44/$I$251 -> 0.0010902606
A45: 4.11 | B45: 91794 | C45: SINAPI | D45: (COMPOSIÇÃO REPRESENTATIVA) DO SERVIÇO DE INST. TUBO PVC, SÉRIE N, ESGOTO PREDIAL, DN 75 MM, (INST. EM RAMAL DE DESCARGA, RAMAL DE ESG. SANITÁRIO, PRUMADA DE ESG. SANITÁRIO OU VENTILAÇÃO), INCL. CONEXÕES, CORTES E FIXAÇÕES, P/ PRÉDIOS. AF_10/2015 | E45: M | F45: =SUM(Alagoa!F45,Arantina!F45,Aiuruoca!F45,Baependi!F45,'Bocaina de Minas'!F45,Cambuquira!F45,'Carmo de Minas'!F45,Caxambu!F45,'Conceição do Rio Verde'!F45,Cruzilia!F45,'Dom Viçoso'!F45,Itamonte!F45,Itanhandu!F45,Jesuânia!F45,Lambari!F45,Liberdade!F45,Minduri!F45,'Olimpio Noronha'!F45,'Passa Quatro'!F45,'Passa Vinte'!F45,'Pouso Alto'!F45,'São Lourenço'!F45,'São Sebastião'!F45,'São Thome'!F45,Seritinga!F45,Serranos!F45,'Soledade de Minas'!F45,'Tres Corações'!F45,Virginia!F45,Cristina!F45) -> 7622.568 | G45: 50.34 | H45: =TRUNC((G45*$G$2)+(G45),2) -> 63.89 | I45: =TRUNC(H45*F45,2) -> 487005.86 | J45: =I45/$I$251 -> 0.0067635757
A46: 4.12 | B46: 91792 | C46: SINAPI | D46: (COMPOSIÇÃO REPRESENTATIVA) DO SERVIÇO DE INSTALAÇÃO DE TUBO DE PVC, SÉRIE NORMAL, ESGOTO PREDIAL, DN 40 MM (INSTALADO EM RAMAL DE DESCARGA OU RAMAL DE ESGOTO SANITÁRIO), INCLUSIVE CONEXÕES, CORTES E FIXAÇÕES, PARA PRÉDIOS. AF_10/2015 | E46: M | F46: =SUM(Alagoa!F46,Arantina!F46,Aiuruoca!F46,Baependi!F46,'Bocaina de Minas'!F46,Cambuquira!F46,'Carmo de Minas'!F46,Caxambu!F46,'Conceição do Rio Verde'!F46,Cruzilia!F46,'Dom Viçoso'!F46,Itamonte!F46,Itanhandu!F46,Jesuânia!F46,Lambari!F46,Liberdade!F46,Minduri!F46,'Olimpio Noronha'!F46,'Passa Quatro'!F46,'Passa Vinte'!F46,'Pouso Alto'!F46,'São Lourenço'!F46,'São Sebastião'!F46,'São Thome'!F46,Seritinga!F46,Serranos!F46,'Soledade de Minas'!F46,'Tres Corações'!F46,Virginia!F46,Cristina!F46) -> 4194.127 | G46: 88.12 | H46: =TRUNC((G46*$G$2)+(G46),2) -> 111.85 | I46: =TRUNC(H46*F46,2) -> 469113.09 | J46: =I46/$I$251 -> 0.0065150795
... A91: 4.57 | B91: 89711 | C91: SINAPI | D91: TUBO PVC, SERIE NORMAL, ESGOTO PREDIAL, DN 40 MM, FORNECIDO E INSTALADO EM RAMAL DE DESCARGA OU RAMAL DE ESGOTO SANITÁRIO. AF_08/2022 | E91: M | F91: =SUM(Alagoa!F91,Arantina!F91,Aiuruoca!F91,Baependi!F91,'Bocaina de Minas'!F91,Cambuquira!F91,'Carmo de Minas'!F91,Caxambu!F91,'Conceição do Rio Verde'!F91,Cruzilia!F91,'Dom Viçoso'!F91,Itamonte!F91,Itanhandu!F91,Jesuânia!F91,Lambari!F91,Liberdade!F91,Minduri!F91,'Olimpio Noronha'!F91,'Passa Quatro'!F91,'Passa Vinte'!F91,'Pouso Alto'!F91,'São Lourenço'!F91,'São Sebastião'!F91,'São Thome'!F91,Seritinga!F91,Serranos!F91,'Soledade de Minas'!F91,'Tres Corações'!F91,Virginia!F91,Cristina!F91) -> 2693.1038 | G91: 23.63 | H91: =TRUNC((G91*$G$2)+(G91),2) -> 29.99 | I91: =TRUNC(H91*F91,2) -> 80766.18 | J91: =I91/$I$251 -> 0.0011216871
A92: 5 | D92: MANUTENÇÃO DE INSTALAÇÕES ELÉTRICAS / ELETRIFICAÇÃO E ILUMINAÇÃO EXTERNA | I92: =SUM(I93:I133) -> 7749999.1 | J92: =I92/$I$251 -> 0.1076326
A93: 5.1 | B93: 91854 | C93: SINAPI | D93: ELETRODUTO FLEXÍVEL CORRUGADO, PVC, DN 25 MM (3/4"), PARA CIRCUITOS TERMINAIS, INSTALADO EM PAREDE - FORNECIMENTO E INSTALAÇÃO. AF_03/2023 | E93: M | F93: =SUM(Alagoa!F93,Arantina!F93,Aiuruoca!F93,Baependi!F93,'Bocaina de Minas'!F93,Cambuquira!F93,'Carmo de Minas'!F93,Caxambu!F93,'Conceição do Rio Verde'!F93,Cruzilia!F93,'Dom Viçoso'!F93,Itamonte!F93,Itanhandu!F93,Jesuânia!F93,Lambari!F93,Liberdade!F93,Minduri!F93,'Olimpio Noronha'!F93,'Passa Quatro'!F93,'Passa Vinte'!F93,'Pouso Alto'!F93,'São Lourenço'!F93,'São Sebastião'!F93,'São Thome'!F93,Seritinga!F93,Serranos!F93,'Soledade de Minas'!F93,'Tres Corações'!F93,Virginia!F93,Cristina!F93) -> 36527.785 | G93: 10.62 | H93: =TRUNC((G93*$G$2)+(G93),2) -> 13.47 | I93: =TRUNC(H93*F93,2) -> 492029.25 | J93: =I93/$I$251 -> 0.0068333409
A94: 5.2 | B94: 91857 | C94: SINAPI | D94: ELETRODUTO FLEXÍVEL CORRUGADO REFORÇADO, PVC, DN 32 MM (1"), PARA CIRCUITOS TERMINAIS, INSTALADO EM PAREDE - FORNECIMENTO E INSTALAÇÃO. AF_03/2023 | E94: M | F94: =SUM(Alagoa!F94,Arantina!F94,Aiuruoca!F94,Baependi!F94,'Bocaina de Minas'!F94,Cambuquira!F94,'Carmo de Minas'!F94,Caxambu!F94,'Conceição do Rio Verde'!F94,Cruzilia!F94,'Dom Viçoso'!F94,Itamonte!F94,Itanhandu!F94,Jesuânia!F94,Lambari!F94,Liberdade!F94,Minduri!F94,'Olimpio Noronha'!F94,'Passa Quatro'!F94,'Passa Vinte'!F94,'Pouso Alto'!F94,'São Lourenço'!F94,'São Sebastião'!F94,'São Thome'!F94,Seritinga!F94,Serranos!F94,'Soledade de Minas'!F94,'Tres Corações'!F94,Virginia!F94,Cristina!F94) -> 23649.048 | G94: 16.86 | H94: =TRUNC((G94*$G$2)+(G94),2) -> 21.4 | I94: =TRUNC(H94*F94,2) -> 506089.62 | J94: =I94/$I$251 -> 0.0070286124
A95: 5.3 | B95: 91926 | C95: SINAPI | D95: CABO DE COBRE FLEXÍVEL ISOLADO, 2,5 MM², ANTI-CHAMA 450/750 V, PARA CIRCUITOS TERMINAIS - FORNECIMENTO E INSTALAÇÃO. AF_03/2023 | E95: M | F95: =SUM(Alagoa!F95,Arantina!F95,Aiuruoca!F95,Baependi!F95,'Bocaina de Minas'!F95,Cambuquira!F95,'Carmo de Minas'!F95,Caxambu!F95,'Conceição do Rio Verde'!F95,Cruzilia!F95,'Dom Viçoso'!F95,Itamonte!F95,Itanhandu!F95,Jesuânia!F95,Lambari!F95,Liberdade!F95,Minduri!F95,'Olimpio Noronha'!F95,'Passa Quatro'!F95,'Passa Vinte'!F95,'Pouso Alto'!F95,'São Lourenço'!F95,'São Sebastião'!F95,'São Thome'!F95,Seritinga!F95,Serranos!F95,'Soledade de Minas'!F95,'Tres Corações'!F95,Virginia!F95,Cristina!F95) -> 97838.443 | G95: 4.97 | H95: =TRUNC((G95*$G$2)+(G95),2) -> 6.3 | I95: =TRUNC(H95*F95,2) -> 616382.19 | J95: =I95/$I$251 -> 0.0085603643
A96: 5.4 | B96: 91930 | C96: SINAPI | D96: CABO DE COBRE FLEXÍVEL ISOLADO, 6 MM², ANTI-CHAMA 450/750 V, PARA CIRCUITOS TERMINAIS - FORNECIMENTO E INSTALAÇÃO. AF_03/2023 | E96: M | F96: =SUM(Alagoa!F96,Arantina!F96,Aiuruoca!F96,Baependi!F96,'Bocaina de Minas'!F96,Cambuquira!F96,'Carmo de Minas'!F96,Caxambu!F96,'Conceição do Rio Verde'!F96,Cruzilia!F96,'Dom Viçoso'!F96,Itamonte!F96,Itanhandu!F96,Jesuânia!F96,Lambari!F96,Liberdade!F96,Minduri!F96,'Olimpio Noronha'!F96,'Passa Quatro'!F96,'Passa Vinte'!F96,'Pouso Alto'!F96,'São Lourenço'!F96,'São Sebastião'!F96,'São Thome'!F96,Seritinga!F96,Serranos!F96,'Soledade de Minas'!F96,'Tres Corações'!F96,Virginia!F96,Cristina!F96) -> 49018.633 | G96: 10.72 | H96: =TRUNC((G96*$G$2)+(G96),2) -> 13.6 | I96: =TRUNC(H96*F96,2) -> 666653.41 | J96: =I96/$I$251 -> 0.009258535
A97: 5.5 | B97: 91924 | C97: SINAPI | D97: CABO DE COBRE FLEXÍVEL ISOLADO, 1,5 MM², ANTI-CHAMA 450/750 V, PARA CIRCUITOS TERMINAIS - FORNECIMENTO E INSTALAÇÃO. AF_03/2023 | E97: M | F97: =SUM(Alagoa!F97,Arantina!F97,Aiuruoca!F97,Baependi!F97,'Bocaina de Minas'!F97,Cambuquira!F97,'Carmo de Minas'!F97,Caxambu!F97,'Conceição do Rio Verde'!F97,Cruzilia!F97,'Dom Viçoso'!F97,Itamonte!F97,Itanhandu!F97,Jesuânia!F97,Lambari!F97,Liberdade!F97,Minduri!F97,'Olimpio Noronha'!F97,'Passa Quatro'!F97,'Passa Vinte'!F97,'Pouso Alto'!F97,'São Lourenço'!F97,'São Sebastião'!F97,'São Thome'!F97,Seritinga!F97,Serranos!F97,'Soledade de Minas'!F97,'Tres Corações'!F97,Virginia!F97,Cristina!F97) -> 74266.028 | G97: 3.42 | H97: =TRUNC((G97*$G$2)+(G97),2) -> 4.34 | I97: =TRUNC(H97*F97,2) -> 322314.56 | J97: =I97/$I$251 -> 0.00447633
A98: 5.6 | B98: 91933 | C98: SINAPI | D98: CABO DE COBRE FLEXÍVEL ISOLADO, 10 MM², ANTI-CHAMA 0,6/1,0 KV, PARA CIRCUITOS TERMINAIS - FORNECIMENTO E INSTALAÇÃO. AF_03/2023 | E98: M | F98: =SUM(Alagoa!F98,Arantina!F98,Aiuruoca!F98,Baependi!F98,'Bocaina de Minas'!F98,Cambuquira!F98,'Carmo de Minas'!F98,Caxambu!F98,'Conceição do Rio Verde'!F98,Cruzilia!F98,'Dom Viçoso'!F98,Itamonte!F98,Itanhandu!F98,Jesuânia!F98,Lambari!F98,Liberdade!F98,Minduri!F98,'Olimpio Noronha'!F98,'Passa Quatro'!F98,'Passa Vinte'!F98,'Pouso Alto'!F98,'São Lourenço'!F98,'São Sebastião'!F98,'São Thome'!F98,Seritinga!F98,Serranos!F98,'Soledade de Minas'!F98,'Tres Corações'!F98,Virginia!F98,Cristina!F98) -> 13155.902 | G98: 18.51 | H98: =TRUNC((G98*$G$2)+(G98),2) -> 23.49 | I98: =TRUNC(H98*F98,2) -> 309032.12 | J98: =I98/$I$251 -> 0.0042918624
A99: 5.7 | B99: 91939 | C99: SINAPI | D99: CAIXA RETANGULAR 4" X 2" ALTA (2,00 M DO PISO), PVC, INSTALADA EM PAREDE - FORNECIMENTO E INSTALAÇÃO. AF_03/2023 | E99: UN | F99: =SUM(Alagoa!F99,Arantina!F99,Aiuruoca!F99,Baependi!F99,'Bocaina de Minas'!F99,Cambuquira!F99,'Carmo de Minas'!F99,Caxambu!F99,'Conceição do Rio Verde'!F99,Cruzilia!F99,'Dom Viçoso'!F99,Itamonte!F99,Itanhandu!F99,Jesuânia!F99,Lambari!F99,Liberdade!F99,Minduri!F99,'Olimpio Noronha'!F99,'Passa Quatro'!F99,'Passa Vinte'!F99,'Pouso Alto'!F99,'São Lourenço'!F99,'São Sebastião'!F99,'São Thome'!F99,Seritinga!F99,Serranos!F99,'Soledade de Minas'!F99,'Tres Corações'!F99,Virginia!F99,Cristina!F99) -> 8222.0635 | G99: 35.82 | H99: =TRUNC((G99*$G$2)+(G99),2) -> 45.46 | I99: =TRUNC(H99*F99,2) -> 373775 | J99: =I99/$I$251 -> 0.0051910166
A100: 5.8 | B100: 91940 | C100: SINAPI | D100: CAIXA RETANGULAR 4" X 2" MÉDIA (1,30 M DO PISO), PVC, INSTALADA EM PAREDE - FORNECIMENTO E INSTALAÇÃO. AF_03/2023 | E100: UN | F100: =SUM(Alagoa!F100,Arantina!F100,Aiuruoca!F100,Baependi!F100,'Bocaina de Minas'!F100,Cambuquira!F100,'Carmo de Minas'!F100,Caxambu!F100,'Conceição do Rio Verde'!F100,Cruzilia!F100,'Dom Viçoso'!F100,Itamonte!F100,Itanhandu!F100,Jesuânia!F100,Lambari!F100,Liberdade!F100,Minduri!F100,'Olimpio Noronha'!F100,'Passa Quatro'!F100,'Passa Vinte'!F100,'Pouso Alto'!F100,'São Lourenço'!F100,'São Sebastião'!F100,'São Thome'!F100,Seritinga!F100,Serranos!F100,'Soledade de Minas'!F100,'Tres Corações'!F100,Virginia!F100,Cristina!F100) -> 4931.8381 | G100: 20.62 | H100: =TRUNC((G100*$G$2)+(G100),2) -> 26.17 | I100: =TRUNC(H100*F100,2) -> 129066.2 | J100: =I100/$I$251 -> 0.0017924815
A101: 5.9 | B101: 91941 | C101: SINAPI | D101: CAIXA RETANGULAR 4" X 2" BAIXA (0,30 M DO PISO), PVC, INSTALADA EM PAREDE - FORNECIMENTO E INSTALAÇÃO. AF_03/2023 | E101: UN | F101: =SUM(Alagoa!F101,Arantina!F101,Aiuruoca!F101,Baependi!F101,'Bocaina de Minas'!F101,Cambuquira!F101,'Carmo de Minas'!F101,Caxambu!F101,'Conceição do Rio Verde'!F101,Cruzilia!F101,'Dom Viçoso'!F101,Itamonte!F101,Itanhandu!F101,Jesuânia!F101,Lambari!F101,Liberdade!F101,Minduri!F101,'Olimpio Noronha'!F101,'Passa Quatro'!F101,'Passa Vinte'!F101,'Pouso Alto'!F101,'São Lourenço'!F101,'São Sebastião'!F101,'São Thome'!F101,Seritinga!F101,Serranos!F101,'Soledade de Minas'!F101,'Tres Corações'!F101,Virginia!F101,Cristina!F101) -> 10386.222 | G101: 13.17 | H101: =TRUNC((G101*$G$2)+(G101),2) -> 16.71 | I101: =TRUNC(H101*F101,2) -> 173553.77 | J101: =I101/$I$251 -> 0.0024103284
A102: 5.10 | B102: 91942 | C102: SINAPI | D102: CAIXA RETANGULAR 4" X 4" ALTA (2,00 M DO PISO), PVC, INSTALADA EM PAREDE - FORNECIMENTO E INSTALAÇÃO. AF_03/2023 | E102: UN | F102: =SUM(Alagoa!F102,Arantina!F102,Aiuruoca!F102,Baependi!F102,'Bocaina de Minas'!F102,Cambuquira!F102,'Carmo de Minas'!F102,Caxambu!F102,'Conceição do Rio Verde'!F102,Cruzilia!F102,'Dom Viçoso'!F102,Itamonte!F102,Itanhandu!F102,Jesuânia!F102,Lambari!F102,Liberdade!F102,Minduri!F102,'Olimpio Noronha'!F102,'Passa Quatro'!F102,'Passa Vinte'!F102,'Pouso Alto'!F102,'São Lourenço'!F102,'São Sebastião'!F102,'São Thome'!F102,Seritinga!F102,Serranos!F102,'Soledade de Minas'!F102,'Tres Corações'!F102,Virginia!F102,Cristina!F102) -> 1653.271 | G102: 40.01 | H102: =TRUNC((G102*$G$2)+(G102),2) -> 50.78 | I102: =TRUNC(H102*F102,2) -> 83953.09 | J102: =I102/$I$251 -> 0.0011659471
A103: 5.11 | B103: 91937 | C103: SINAPI | D103: CAIXA OCTOGONAL 3" X 3", PVC, INSTALADA EM LAJE - FORNECIMENTO E INSTALAÇÃO. AF_03/2023 | E103: UN | F103: =SUM(Alagoa!F103,Arantina!F103,Aiuruoca!F103,Baependi!F103,'Bocaina de Minas'!F103,Cambuquira!F103,'Carmo de Minas'!F103,Caxambu!F103,'Conceição do Rio Verde'!F103,Cruzilia!F103,'Dom Viçoso'!F103,Itamonte!F103,Itanhandu!F103,Jesuânia!F103,Lambari!F103,Liberdade!F103,Minduri!F103,'Olimpio Noronha'!F103,'Passa Quatro'!F103,'Passa Vinte'!F103,'Pouso Alto'!F103,'São Lourenço'!F103,'São Sebastião'!F103,'São Thome'!F103,Seritinga!F103,Serranos!F103,'Soledade de Minas'!F103,'Tres Corações'!F103,Virginia!F103,Cristina!F103) -> 8228.0635 | G103: 18.19 | H103: =TRUNC((G103*$G$2)+(G103),2) -> 23.08 | I103: =TRUNC(H103*F103,2) -> 189903.7 | J103: =I103/$I$251 -> 0.0026373975
A104: 5.12 | B104: 91939 | C104: SINAPI | D104: CAIXA RETANGULAR 4" X 2" ALTA (2,00 M DO PISO), PVC, INSTALADA EM PAREDE - FORNECIMENTO E INSTALAÇÃO. AF_03/2023 | E104: UN | F104: =SUM(Alagoa!F104,Arantina!F104,Aiuruoca!F104,Baependi!F104,'Bocaina de Minas'!F104,Cambuquira!F104,'Carmo de Minas'!F104,Caxambu!F104,'Conceição do Rio Verde'!F104,Cruzilia!F104,'Dom Viçoso'!F104,Itamonte!F104,Itanhandu!F104,Jesuânia!F104,Lambari!F104,Liberdade!F104,Minduri!F104,'Olimpio Noronha'!F104,'Passa Quatro'!F104,'Passa Vinte'!F104,'Pouso Alto'!F104,'São Lourenço'!F104,'São Sebastião'!F104,'São Thome'!F104,Seritinga!F104,Serranos!F104,'Soledade de Minas'!F104,'Tres Corações'!F104,Virginia!F104,Cristina!F104) -> 3833.0879 | G104: 35.82 | H104: =TRUNC((G104*$G$2)+(G104),2) -> 45.46 | I104: =TRUNC(H104*F104,2) -> 174252.17 | J104: =I104/$I$251 -> 0.0024200278
... A133: 5.41 | B133: 96973 | C133: SINAPI | D133: CORDOALHA DE COBRE NU 35 MM², NÃO ENTERRADA, COM ISOLADOR - FORNECIMENTO E INSTALAÇÃO. AF_08/2023 | E133: M | F133: =SUM(Alagoa!F133,Arantina!F133,Aiuruoca!F133,Baependi!F133,'Bocaina de Minas'!F133,Cambuquira!F133,'Carmo de Minas'!F133,Caxambu!F133,'Conceição do Rio Verde'!F133,Cruzilia!F133,'Dom Viçoso'!F133,Itamonte!F133,Itanhandu!F133,Jesuânia!F133,Lambari!F133,Liberdade!F133,Minduri!F133,'Olimpio Noronha'!F133,'Passa Quatro'!F133,'Passa Vinte'!F133,'Pouso Alto'!F133,'São Lourenço'!F133,'São Sebastião'!F133,'São Thome'!F133,Seritinga!F133,Serranos!F133,'Soledade de Minas'!F133,'Tres Corações'!F133,Virginia!F133,Cristina!F133) -> 897.70125 | G133: 78.1 | H133: =TRUNC((G133*$G$2)+(G133),2) -> 99.13 | I133: =TRUNC(H133*F133,2) -> 88989.12 | J133: =I133/$I$251 -> 0.0012358879
A134: 6 | D134: MANUTENÇÃO DE PAREDES / PAINÉIS | I134: =SUM(I135:I141) -> 5523191.7 | J134: =I134/$I$251 -> 0.076706521
A135: 6.1 | B135: 87495 | C135: SINAPI | D135: ALVENARIA DE VEDAÇÃO DE BLOCOS CERÂMICOS FURADOS NA HORIZONTAL DE 9X19X19CM (ESPESSURA 9CM) DE PAREDES COM ÁREA LÍQUIDA MENOR QUE 6M² SEM VÃOS E ARGAMASSA DE ASSENTAMENTO COM PREPARO EM BETONEIRA. AF_06/2014 | E135: m² | F135: =SUM(Alagoa!F135,Arantina!F135,Aiuruoca!F135,Baependi!F135,'Bocaina de Minas'!F135,Cambuquira!F135,'Carmo de Minas'!F135,Caxambu!F135,'Conceição do Rio Verde'!F135,Cruzilia!F135,'Dom Viçoso'!F135,Itamonte!F135,Itanhandu!F135,Jesuânia!F135,Lambari!F135,Liberdade!F135,Minduri!F135,'Olimpio Noronha'!F135,'Passa Quatro'!F135,'Passa Vinte'!F135,'Pouso Alto'!F135,'São Lourenço'!F135,'São Sebastião'!F135,'São Thome'!F135,Seritinga!F135,Serranos!F135,'Soledade de Minas'!F135,'Tres Corações'!F135,Virginia!F135,Cristina!F135) -> 6574.4508 | G135: 108.09 | H135: =TRUNC((G135*$G$2)+(G135),2) -> 137.19 | I135: =TRUNC(H135*F135,2) -> 901948.9 | J135: =I135/$I$251 -> 0.012526337
A136: 6.2 | B136: 87879 | C136: SINAPI | D136: CHAPISCO APLICADO EM ALVENARIAS E ESTRUTURAS DE CONCRETO INTERNAS, COM COLHER DE PEDREIRO. ARGAMASSA TRAÇO 1:3 COM PREPARO EM BETONEIRA 400L. AF_10/2022 | E136: m² | F136: =SUM(Alagoa!F136,Arantina!F136,Aiuruoca!F136,Baependi!F136,'Bocaina de Minas'!F136,Cambuquira!F136,'Carmo de Minas'!F136,Caxambu!F136,'Conceição do Rio Verde'!F136,Cruzilia!F136,'Dom Viçoso'!F136,Itamonte!F136,Itanhandu!F136,Jesuânia!F136,Lambari!F136,Liberdade!F136,Minduri!F136,'Olimpio Noronha'!F136,'Passa Quatro'!F136,'Passa Vinte'!F136,'Pouso Alto'!F136,'São Lourenço'!F136,'São Sebastião'!F136,'São Thome'!F136,Seritinga!F136,Serranos!F136,'Soledade de Minas'!F136,'Tres Corações'!F136,Virginia!F136,Cristina!F136) -> 13147.902 | G136: 5.04 | H136: =TRUNC((G136*$G$2)+(G136),2) -> 6.39 | I136: =TRUNC(H136*F136,2) -> 84015.09 | J136: =I136/$I$251 -> 0.0011668082
A137: 6.3 | B137: 87797 | C137: SINAPI | D137: EMBOÇO OU MASSA ÚNICA EM ARGAMASSA TRAÇO 1:2:8, PREPARO MECÂNICO COM BETONEIRA 400 L, APLICADA MANUALMENTE EM PANOS CEGOS DE FACHADA (SEM PRESENÇA DE VÃOS), ESPESSURA DE 35 MM. AF_08/2022 | E137: m² | F137: =SUM(Alagoa!F137,Arantina!F137,Aiuruoca!F137,Baependi!F137,'Bocaina de Minas'!F137,Cambuquira!F137,'Carmo de Minas'!F137,Caxambu!F137,'Conceição do Rio Verde'!F137,Cruzilia!F137,'Dom Viçoso'!F137,Itamonte!F137,Itanhandu!F137,Jesuânia!F137,Lambari!F137,Liberdade!F137,Minduri!F137,'Olimpio Noronha'!F137,'Passa Quatro'!F137,'Passa Vinte'!F137,'Pouso Alto'!F137,'São Lourenço'!F137,'São Sebastião'!F137,'São Thome'!F137,Seritinga!F137,Serranos!F137,'Soledade de Minas'!F137,'Tres Corações'!F137,Virginia!F137,Cristina!F137) -> 11069.04 | G137: 63.87 | H137: =TRUNC((G137*$G$2)+(G137),2) -> 81.07 | I137: =TRUNC(H137*F137,2) -> 897367.07 | J137: =I137/$I$251 -> 0.012462704
A138: 6.4 | B138: 104611 | C138: SINAPI | D138: REVESTIMENTO CERÂMICO PARA PAREDES INTERNAS COM PLACAS TIPO ESMALTADA DE DIMENSÕES 60X60 CM APLICADAS NA ALTURA INTEIRA DAS PAREDES. AF_02/2023_PE | E138: m² | F138: =SUM(Alagoa!F138,Arantina!F138,Aiuruoca!F138,Baependi!F138,'Bocaina de Minas'!F138,Cambuquira!F138,'Carmo de Minas'!F138,Caxambu!F138,'Conceição do Rio Verde'!F138,Cruzilia!F138,'Dom Viçoso'!F138,Itamonte!F138,Itanhandu!F138,Jesuânia!F138,Lambari!F138,Liberdade!F138,Minduri!F138,'Olimpio Noronha'!F138,'Passa Quatro'!F138,'Passa Vinte'!F138,'Pouso Alto'!F138,'São Lourenço'!F138,'São Sebastião'!F138,'São Thome'!F138,Seritinga!F138,Serranos!F138,'Soledade de Minas'!F138,'Tres Corações'!F138,Virginia!F138,Cristina!F138) -> 3213.7885 | G138: 94.27 | H138: =TRUNC((G138*$G$2)+(G138),2) -> 119.65 | I138: =TRUNC(H138*F138,2) -> 384529.78 | J138: =I138/$I$251 -> 0.0053403798
A139: 6.5 | B139: 88787 | C139: SINAPI | D139: REVESTIMENTO CERÂMICO PARA PAREDES EXTERNAS EM PASTILHAS DE PORCELANA 2,5 X 2,5 CM (PLACAS DE 30 X 30 CM), ALINHADAS A PRUMO, APLICADO EM PANOS SEM VÃOS. AF_10/2014 | E139: m² | F139: =SUM(Alagoa!F139,Arantina!F139,Aiuruoca!F139,Baependi!F139,'Bocaina de Minas'!F139,Cambuquira!F139,'Carmo de Minas'!F139,Caxambu!F139,'Conceição do Rio Verde'!F139,Cruzilia!F139,'Dom Viçoso'!F139,Itamonte!F139,Itanhandu!F139,Jesuânia!F139,Lambari!F139,Liberdade!F139,Minduri!F139,'Olimpio Noronha'!F139,'Passa Quatro'!F139,'Passa Vinte'!F139,'Pouso Alto'!F139,'São Lourenço'!F139,'São Sebastião'!F139,'São Thome'!F139,Seritinga!F139,Serranos!F139,'Soledade de Minas'!F139,'Tres Corações'!F139,Virginia!F139,Cristina!F139) -> 3164.306 | G139: 360.86 | H139: =TRUNC((G139*$G$2)+(G139),2) -> 458.03 | I139: =TRUNC(H139*F139,2) -> 1449347.1 | J139: =I139/$I$251 -> 0.020128646
A140: 6.6 | B140: 105938 | C140: SINAPI | D140: REVESTIMENTO NÃO ADERIDO DE PAREDES EXTERNAS COM PLACAS DE PORCELANATO DE ÁREA MAIOR DO QUE 2500 CM2 E MENOR OU IGUAL A 6400 CM2, FIXADAS COM INSERTE METÁLICO. AF_03/2025 | E140: m² | F140: =SUM(Alagoa!F140,Arantina!F140,Aiuruoca!F140,Baependi!F140,'Bocaina de Minas'!F140,Cambuquira!F140,'Carmo de Minas'!F140,Caxambu!F140,'Conceição do Rio Verde'!F140,Cruzilia!F140,'Dom Viçoso'!F140,Itamonte!F140,Itanhandu!F140,Jesuânia!F140,Lambari!F140,Liberdade!F140,Minduri!F140,'Olimpio Noronha'!F140,'Passa Quatro'!F140,'Passa Vinte'!F140,'Pouso Alto'!F140,'São Lourenço'!F140,'São Sebastião'!F140,'São Thome'!F140,Seritinga!F140,Serranos!F140,'Soledade de Minas'!F140,'Tres Corações'!F140,Virginia!F140,Cristina!F140) -> 7204.4832 | G140: 140.96 | H140: =TRUNC((G140*$G$2)+(G140),2) -> 178.92 | I140: =TRUNC(H140*F140,2) -> 1289026.1 | J140: =I140/$I$251 -> 0.017902096
A141: 6.7 | B141: 102253 | C141: SINAPI | D141: DIVISORIA SANITÁRIA, EM GRANITO CINZA POLIDO, ESP = 3CM, ASSENTADO COM ARGAMASSA COLANTE AC III-E. AF_10/2025 | E141: m² | F141: =SUM(Alagoa!F141,Arantina!F141,Aiuruoca!F141,Baependi!F141,'Bocaina de Minas'!F141,Cambuquira!F141,'Carmo de Minas'!F141,Caxambu!F141,'Conceição do Rio Verde'!F141,Cruzilia!F141,'Dom Viçoso'!F141,Itamonte!F141,Itanhandu!F141,Jesuânia!F141,Lambari!F141,Liberdade!F141,Minduri!F141,'Olimpio Noronha'!F141,'Passa Quatro'!F141,'Passa Vinte'!F141,'Pouso Alto'!F141,'São Lourenço'!F141,'São Sebastião'!F141,'São Thome'!F141,Seritinga!F141,Serranos!F141,'Soledade de Minas'!F141,'Tres Corações'!F141,Virginia!F141,Cristina!F141) -> 555.86249 | G141: 732.7 | H141: =TRUNC((G141*$G$2)+(G141),2) -> 930.01 | I141: =TRUNC(H141*F141,2) -> 516957.67 | J141: =I141/$I$251 -> 0.0071795488
A142: 7 | D142: MANUTENÇÃO DE IMPERMEABILIZAÇÕES E PROTEÇÕES DIVERSAS | I142: =SUM(I143:I146) -> 2244741.9 | J142: =I142/$I$251 -> 0.031175152
A143: 7.1 | B143: 98555 | C143: SINAPI | D143: IMPERMEABILIZAÇÃO DE SUPERFÍCIE COM ARGAMASSA POLIMÉRICA / MEMBRANA ACRÍLICA, 3 DEMÃOS. AF_09/2023 | E143: m² | F143: =SUM(Alagoa!F143,Arantina!F143,Aiuruoca!F143,Baependi!F143,'Bocaina de Minas'!F143,Cambuquira!F143,'Carmo de Minas'!F143,Caxambu!F143,'Conceição do Rio Verde'!F143,Cruzilia!F143,'Dom Viçoso'!F143,Itamonte!F143,Itanhandu!F143,Jesuânia!F143,Lambari!F143,Liberdade!F143,Minduri!F143,'Olimpio Noronha'!F143,'Passa Quatro'!F143,'Passa Vinte'!F143,'Pouso Alto'!F143,'São Lourenço'!F143,'São Sebastião'!F143,'São Thome'!F143,Seritinga!F143,Serranos!F143,'Soledade de Minas'!F143,'Tres Corações'!F143,Virginia!F143,Cristina!F143) -> 9510.6371 | G143: 33.07 | H143: =TRUNC((G143*$G$2)+(G143),2) -> 41.97 | I143: =TRUNC(H143*F143,2) -> 399161.44 | J143: =I143/$I$251 -> 0.0055435855
A144: 7.2 | B144: 98547 | C144: SINAPI | D144: IMPERMEABILIZAÇÃO DE SUPERFÍCIE COM MANTA ASFÁLTICA, DUAS CAMADAS, INCLUSIVE APLICAÇÃO DE PRIMER ASFÁLTICO, E=3MM E E=4MM. AF_09/2023 | E144: m² | F144: =SUM(Alagoa!F144,Arantina!F144,Aiuruoca!F144,Baependi!F144,'Bocaina de Minas'!F144,Cambuquira!F144,'Carmo de Minas'!F144,Caxambu!F144,'Conceição do Rio Verde'!F144,Cruzilia!F144,'Dom Viçoso'!F144,Itamonte!F144,Itanhandu!F144,Jesuânia!F144,Lambari!F144,Liberdade!F144,Minduri!F144,'Olimpio Noronha'!F144,'Passa Quatro'!F144,'Passa Vinte'!F144,'Pouso Alto'!F144,'São Lourenço'!F144,'São Sebastião'!F144,'São Thome'!F144,Seritinga!F144,Serranos!F144,'Soledade de Minas'!F144,'Tres Corações'!F144,Virginia!F144,Cristina!F144) -> 3688.228 | G144: 194 | H144: =TRUNC((G144*$G$2)+(G144),2) -> 246.24 | I144: =TRUNC(H144*F144,2) -> 908189.26 | J144: =I144/$I$251 -> 0.012613004
A145: 7.3 | B145: 98575 | C145: SINAPI | D145: TRATAMENTO DE JUNTA DE DILATAÇÃO, COM TARUGO DE POLIETILENO E SELANTE PU, INCLUSO PREENCHIMENTO COM ESPUMA EXPANSIVA PU. AF_09/2023 | E145: M | F145: =SUM(Alagoa!F145,Arantina!F145,Aiuruoca!F145,Baependi!F145,'Bocaina de Minas'!F145,Cambuquira!F145,'Carmo de Minas'!F145,Caxambu!F145,'Conceição do Rio Verde'!F145,Cruzilia!F145,'Dom Viçoso'!F145,Itamonte!F145,Itanhandu!F145,Jesuânia!F145,Lambari!F145,Liberdade!F145,Minduri!F145,'Olimpio Noronha'!F145,'Passa Quatro'!F145,'Passa Vinte'!F145,'Pouso Alto'!F145,'São Lourenço'!F145,'São Sebastião'!F145,'São Thome'!F145,Seritinga!F145,Serranos!F145,'Soledade de Minas'!F145,'Tres Corações'!F145,Virginia!F145,Cristina!F145) -> 4574.799 | G145: 72.28 | H145: =TRUNC((G145*$G$2)+(G145),2) -> 91.74 | I145: =TRUNC(H145*F145,2) -> 419692.06 | J145: =I145/$I$251 -> 0.0058287163
A146: 7.4 | B146: 98565 | C146: SINAPI | D146: PROTEÇÃO MECÂNICA DE SUPERFICIE HORIZONTAL COM ARGAMASSA DE CIMENTO E AREIA, TRAÇO 1:3, E=3CM. AF_09/2023 | E146: m² | F146: =SUM(Alagoa!F146,Arantina!F146,Aiuruoca!F146,Baependi!F146,'Bocaina de Minas'!F146,Cambuquira!F146,'Carmo de Minas'!F146,Caxambu!F146,'Conceição do Rio Verde'!F146,Cruzilia!F146,'Dom Viçoso'!F146,Itamonte!F146,Itanhandu!F146,Jesuânia!F146,Lambari!F146,Liberdade!F146,Minduri!F146,'Olimpio Noronha'!F146,'Passa Quatro'!F146,'Passa Vinte'!F146,'Pouso Alto'!F146,'São Lourenço'!F146,'São Sebastião'!F146,'São Thome'!F146,Seritinga!F146,Serranos!F146,'Soledade de Minas'!F146,'Tres Corações'!F146,Virginia!F146,Cristina!F146) -> 6819.9073 | G146: 59.81 | H146: =TRUNC((G146*$G$2)+(G146),2) -> 75.91 | I146: =TRUNC(H146*F146,2) -> 517699.16 | J146: =I146/$I$251 -> 0.0071898467
A147: 8 | D147: MANUTENÇÃO DE ESQUADRIAS / FERRAGENS / VIDROS | I147: =SUM(I148:I167) -> 9544407.9 | J147: =I147/$I$251 -> 0.13255349
A148: 8.1 | B148: 90841 | C148: SINAPI | D148: KIT DE PORTA DE MADEIRA PARA PINTURA, SEMI-OCA (LEVE OU MÉDIA), PADRÃO MÉDIO, 60X210CM, ESPESSURA DE 3,5CM, ITENS INCLUSOS: DOBRADIÇAS, MONTAGEM E INSTALAÇÃO DO BATENTE, FECHADURA COM EXECUÇÃO DO FURO - FORNECIMENTO E INSTALAÇÃO. AF_10/2025 | E148: UN | F148: =SUM(Alagoa!F148,Arantina!F148,Aiuruoca!F148,Baependi!F148,'Bocaina de Minas'!F148,Cambuquira!F148,'Carmo de Minas'!F148,Caxambu!F148,'Conceição do Rio Verde'!F148,Cruzilia!F148,'Dom Viçoso'!F148,Itamonte!F148,Itanhandu!F148,Jesuânia!F148,Lambari!F148,Liberdade!F148,Minduri!F148,'Olimpio Noronha'!F148,'Passa Quatro'!F148,'Passa Vinte'!F148,'Pouso Alto'!F148,'São Lourenço'!F148,'São Sebastião'!F148,'São Thome'!F148,Seritinga!F148,Serranos!F148,'Soledade de Minas'!F148,'Tres Corações'!F148,Virginia!F148,Cristina!F148) -> 645.78682 | G148: 1111.7 | H148: =TRUNC((G148*$G$2)+(G148),2) -> 1411.08 | I148: =TRUNC(H148*F148,2) -> 911256.86 | J148: =I148/$I$251 -> 0.012655607
A149: 8.2 | B149: 90842 | C149: SINAPI | D149: KIT DE PORTA DE MADEIRA PARA PINTURA, SEMI-OCA (LEVE OU MÉDIA), PADRÃO MÉDIO, 70X210CM, ESPESSURA DE 3,5CM, ITENS INCLUSOS: DOBRADIÇAS, MONTAGEM E INSTALAÇÃO DO BATENTE, FECHADURA COM EXECUÇÃO DO FURO - FORNECIMENTO E INSTALAÇÃO. AF_10/2025 | E149: UN | F149: =SUM(Alagoa!F149,Arantina!F149,Aiuruoca!F149,Baependi!F149,'Bocaina de Minas'!F149,Cambuquira!F149,'Carmo de Minas'!F149,Caxambu!F149,'Conceição do Rio Verde'!F149,Cruzilia!F149,'Dom Viçoso'!F149,Itamonte!F149,Itanhandu!F149,Jesuânia!F149,Lambari!F149,Liberdade!F149,Minduri!F149,'Olimpio Noronha'!F149,'Passa Quatro'!F149,'Passa Vinte'!F149,'Pouso Alto'!F149,'São Lourenço'!F149,'São Sebastião'!F149,'São Thome'!F149,Seritinga!F149,Serranos!F149,'Soledade de Minas'!F149,'Tres Corações'!F149,Virginia!F149,Cristina!F149) -> 645.78682 | G149: 1123.71 | H149: =TRUNC((G149*$G$2)+(G149),2) -> 1426.32 | I149: =TRUNC(H149*F149,2) -> 921098.65 | J149: =I149/$I$251 -> 0.01279229
A150: 8.3 | B150: 90843 | C150: SINAPI | D150: KIT DE PORTA DE MADEIRA PARA PINTURA, SEMI-OCA (LEVE OU MÉDIA), PADRÃO MÉDIO, 80X210CM, ESPESSURA DE 3,5CM, ITENS INCLUSOS: DOBRADIÇAS, MONTAGEM E INSTALAÇÃO DO BATENTE, FECHADURA COM EXECUÇÃO DO FURO - FORNECIMENTO E INSTALAÇÃO. AF_10/2025 | E150: UN | F150: =SUM(Alagoa!F150,Arantina!F150,Aiuruoca!F150,Baependi!F150,'Bocaina de Minas'!F150,Cambuquira!F150,'Carmo de Minas'!F150,Caxambu!F150,'Conceição do Rio Verde'!F150,Cruzilia!F150,'Dom Viçoso'!F150,Itamonte!F150,Itanhandu!F150,Jesuânia!F150,Lambari!F150,Liberdade!F150,Minduri!F150,'Olimpio Noronha'!F150,'Passa Quatro'!F150,'Passa Vinte'!F150,'Pouso Alto'!F150,'São Lourenço'!F150,'São Sebastião'!F150,'São Thome'!F150,Seritinga!F150,Serranos!F150,'Soledade de Minas'!F150,'Tres Corações'!F150,Virginia!F150,Cristina!F150) -> 645.78682 | G150: 1177.86 | H150: =TRUNC((G150*$G$2)+(G150),2) -> 1495.05 | I150: =TRUNC(H150*F150,2) -> 965483.58 | J150: =I150/$I$251 -> 0.013408712
A151: 8.4 | B151: 90844 | C151: SINAPI | D151: KIT DE PORTA DE MADEIRA PARA PINTURA, SEMI-OCA (LEVE OU MÉDIA), PADRÃO MÉDIO, 90X210CM, ESPESSURA DE 3,5CM, ITENS INCLUSOS: DOBRADIÇAS, MONTAGEM E INSTALAÇÃO DO BATENTE, FECHADURA COM EXECUÇÃO DO FURO - FORNECIMENTO E INSTALAÇÃO. AF_10/2025 | E151: UN | F151: =SUM(Alagoa!F151,Arantina!F151,Aiuruoca!F151,Baependi!F151,'Bocaina de Minas'!F151,Cambuquira!F151,'Carmo de Minas'!F151,Caxambu!F151,'Conceição do Rio Verde'!F151,Cruzilia!F151,'Dom Viçoso'!F151,Itamonte!F151,Itanhandu!F151,Jesuânia!F151,Lambari!F151,Liberdade!F151,Minduri!F151,'Olimpio Noronha'!F151,'Passa Quatro'!F151,'Passa Vinte'!F151,'Pouso Alto'!F151,'São Lourenço'!F151,'São Sebastião'!F151,'São Thome'!F151,Seritinga!F151,Serranos!F151,'Soledade de Minas'!F151,'Tres Corações'!F151,Virginia!F151,Cristina!F151) -> 645.78682 | G151: 1256.25 | H151: =TRUNC((G151*$G$2)+(G151),2) -> 1594.55 | I151: =TRUNC(H151*F151,2) -> 1029739.4 | J151: =I151/$I$251 -> 0.014301101
A152: 8.5 | B152: 90831 | C152: SINAPI | D152: FECHADURA DE EMBUTIR SEM CILINDRO, PARA PORTA DE BANHEIRO, COMPLETA, ACABAMENTO PADRÃO MÉDIO, INCLUSO EXECUÇÃO DE FURO - FORNECIMENTO E INSTALAÇÃO. AF_10/2025 | E152: UN | F152: =SUM(Alagoa!F152,Arantina!F152,Aiuruoca!F152,Baependi!F152,'Bocaina de Minas'!F152,Cambuquira!F152,'Carmo de Minas'!F152,Caxambu!F152,'Conceição do Rio Verde'!F152,Cruzilia!F152,'Dom Viçoso'!F152,Itamonte!F152,Itanhandu!F152,Jesuânia!F152,Lambari!F152,Liberdade!F152,Minduri!F152,'Olimpio Noronha'!F152,'Passa Quatro'!F152,'Passa Vinte'!F152,'Pouso Alto'!F152,'São Lourenço'!F152,'São Sebastião'!F152,'São Thome'!F152,Seritinga!F152,Serranos!F152,'Soledade de Minas'!F152,'Tres Corações'!F152,Virginia!F152,Cristina!F152) -> 703.73637 | G152: 167.16 | H152: =TRUNC((G152*$G$2)+(G152),2) -> 212.17 | I152: =TRUNC(H152*F152,2) -> 149311.74 | J152: =I152/$I$251 -> 0.0020736532
A153: 8.6 | B153: 91307 | C153: SINAPI | D153: FECHADURA DE EMBUTIR SEM CILINDRO, PARA PORTAS INTERNAS, COMPLETA, ACABAMENTO PADRÃO POPULAR, COM EXECUÇÃO DE FURO - FORNECIMENTO E INSTALAÇÃO. AF_10/2025 | E153: UN | F153: =SUM(Alagoa!F153,Arantina!F153,Aiuruoca!F153,Baependi!F153,'Bocaina de Minas'!F153,Cambuquira!F153,'Carmo de Minas'!F153,Caxambu!F153,'Conceição do Rio Verde'!F153,Cruzilia!F153,'Dom Viçoso'!F153,Itamonte!F153,Itanhandu!F153,Jesuânia!F153,Lambari!F153,Liberdade!F153,Minduri!F153,'Olimpio Noronha'!F153,'Passa Quatro'!F153,'Passa Vinte'!F153,'Pouso Alto'!F153,'São Lourenço'!F153,'São Sebastião'!F153,'São Thome'!F153,Seritinga!F153,Serranos!F153,'Soledade de Minas'!F153,'Tres Corações'!F153,Virginia!F153,Cristina!F153) -> 873.92677 | G153: 106.44 | H153: =TRUNC((G153*$G$2)+(G153),2) -> 135.1 | I153: =TRUNC(H153*F153,2) -> 118067.5 | J153: =I153/$I$251 -> 0.0016397307
A154: 8.7 | B154: 90830 | C154: SINAPI | D154: FECHADURA DE EMBUTIR COM CILINDRO, EXTERNA, COMPLETA, ACABAMENTO PADRÃO MÉDIO, INCLUSO EXECUÇÃO DE FURO - FORNECIMENTO E INSTALAÇÃO. AF_10/2025 | E154: UN | F154: =SUM(Alagoa!F154,Arantina!F154,Aiuruoca!F154,Baependi!F154,'Bocaina de Minas'!F154,Cambuquira!F154,'Carmo de Minas'!F154,Caxambu!F154,'Conceição do Rio Verde'!F154,Cruzilia!F154,'Dom Viçoso'!F154,Itamonte!F154,Itanhandu!F154,Jesuânia!F154,Lambari!F154,Liberdade!F154,Minduri!F154,'Olimpio Noronha'!F154,'Passa Quatro'!F154,'Passa Vinte'!F154,'Pouso Alto'!F154,'São Lourenço'!F154,'São Sebastião'!F154,'São Thome'!F154,Seritinga!F154,Serranos!F154,'Soledade de Minas'!F154,'Tres Corações'!F154,Virginia!F154,Cristina!F154) -> 476.59642 | G154: 193.83 | H154: =TRUNC((G154*$G$2)+(G154),2) -> 246.02 | I154: =TRUNC(H154*F154,2) -> 117252.25 | J154: =I154/$I$251 -> 0.0016284085
A155: 8.8 | B155: 100701 | C155: SINAPI | D155: PORTA DE FERRO, DE ABRIR, TIPO GRADE COM CHAPA, COM GUARNIÇÕES. AF_10/2025 | E155: m² | F155: =SUM(Alagoa!F155,Arantina!F155,Aiuruoca!F155,Baependi!F155,'Bocaina de Minas'!F155,Cambuquira!F155,'Carmo de Minas'!F155,Caxambu!F155,'Conceição do Rio Verde'!F155,Cruzilia!F155,'Dom Viçoso'!F155,Itamonte!F155,Itanhandu!F155,Jesuânia!F155,Lambari!F155,Liberdade!F155,Minduri!F155,'Olimpio Noronha'!F155,'Passa Quatro'!F155,'Passa Vinte'!F155,'Pouso Alto'!F155,'São Lourenço'!F155,'São Sebastião'!F155,'São Thome'!F155,Seritinga!F155,Serranos!F155,'Soledade de Minas'!F155,'Tres Corações'!F155,Virginia!F155,Cristina!F155) -> 873.92677 | G155: 571.26 | H155: =TRUNC((G155*$G$2)+(G155),2) -> 725.1 | I155: =TRUNC(H155*F155,2) -> 633684.3 | J155: =I155/$I$251 -> 0.0088006574
A156: 8.9 | B156: 105813 | C156: SINAPI | D156: JANELA DE AÇO GALVANIZADO TIPO MAXIMO-AR, PINT. ANTICORROSIVA, COM BATENTE/REQUADRO DE 6 A 14 CM, SEM VIDRO, COM GRADE, 1 FL, 60 X 80 CM (A X L), FIXAÇÃO COM ARGAMASSA, EXCLUSIVE CONTRAMARCO - FORNECIMENTO E INSTALAÇÃO. AF_11/2024 | E156: m² | F156: =SUM(Alagoa!F156,Arantina!F156,Aiuruoca!F156,Baependi!F156,'Bocaina de Minas'!F156,Cambuquira!F156,'Carmo de Minas'!F156,Caxambu!F156,'Conceição do Rio Verde'!F156,Cruzilia!F156,'Dom Viçoso'!F156,Itamonte!F156,Itanhandu!F156,Jesuânia!F156,Lambari!F156,Liberdade!F156,Minduri!F156,'Olimpio Noronha'!F156,'Passa Quatro'!F156,'Passa Vinte'!F156,'Pouso Alto'!F156,'São Lourenço'!F156,'São Sebastião'!F156,'São Thome'!F156,Seritinga!F156,Serranos!F156,'Soledade de Minas'!F156,'Tres Corações'!F156,Virginia!F156,Cristina!F156) -> 446.62165 | G156: 932.69 | H156: =TRUNC((G156*$G$2)+(G156),2) -> 1183.86 | I156: =TRUNC(H156*F156,2) -> 528737.5 | J156: =I156/$I$251 -> 0.007343148
A157: 8.10 | B157: 94559 | C157: SINAPI | D157: JANELA DE AÇO TIPO BASCULANTE, PARA VIDROS (VIDROS NÃO INCLUSOS), BATENTE/ REQUADRO INCLUSO (6,5 A 14 CM), DIMENSÕES 60X60 CM, COM COM PINTURA ANTICORROSIVA, SEM ACABAMENTO, COM FERRAGENS, FIXAÇÃO COM ARGAMASSA, EXCLUSIVE CONTRAMARCO - FORNECIMENTO E INSTALAÇÃO. AF_11/2024 | E157: m² | F157: =SUM(Alagoa!F157,Arantina!F157,Aiuruoca!F157,Baependi!F157,'Bocaina de Minas'!F157,Cambuquira!F157,'Carmo de Minas'!F157,Caxambu!F157,'Conceição do Rio Verde'!F157,Cruzilia!F157,'Dom Viçoso'!F157,Itamonte!F157,Itanhandu!F157,Jesuânia!F157,Lambari!F157,Liberdade!F157,Minduri!F157,'Olimpio Noronha'!F157,'Passa Quatro'!F157,'Passa Vinte'!F157,'Pouso Alto'!F157,'São Lourenço'!F157,'São Sebastião'!F157,'São Thome'!F157,Seritinga!F157,Serranos!F157,'Soledade de Minas'!F157,'Tres Corações'!F157,Virginia!F157,Cristina!F157) -> 613.81204 | G157: 664.41 | H157: =TRUNC((G157*$G$2)+(G157),2) -> 843.33 | I157: =TRUNC(H157*F157,2) -> 517646.11 | J157: =I157/$I$251 -> 0.0071891099
A158: 8.11 | B158: 94805 | C158: SINAPI | D158: PORTA DE ALUMÍNIO DE ABRIR PARA VIDRO SEM GUARNIÇÃO, 87X210CM, FIXAÇÃO COM PARAFUSOS, INCLUSIVE VIDROS - FORNECIMENTO E INSTALAÇÃO. AF_10/2025 | E158: UN | F158: =SUM(Alagoa!F158,Arantina!F158,Aiuruoca!F158,Baependi!F158,'Bocaina de Minas'!F158,Cambuquira!F158,'Carmo de Minas'!F158,Caxambu!F158,'Conceição do Rio Verde'!F158,Cruzilia!F158,'Dom Viçoso'!F158,Itamonte!F158,Itanhandu!F158,Jesuânia!F158,Lambari!F158,Liberdade!F158,Minduri!F158,'Olimpio Noronha'!F158,'Passa Quatro'!F158,'Passa Vinte'!F158,'Pouso Alto'!F158,'São Lourenço'!F158,'São Sebastião'!F158,'São Thome'!F158,Seritinga!F158,Serranos!F158,'Soledade de Minas'!F158,'Tres Corações'!F158,Virginia!F158,Cristina!F158) -> 613.81204 | G158: 902.84 | H158: =TRUNC((G158*$G$2)+(G158),2) -> 1145.97 | I158: =TRUNC(H158*F158,2) -> 703410.18 | J158: =I158/$I$251 -> 0.0097690159
A159: 8.12 | B159: 91338 | C159: SINAPI | D159: PORTA DE ALUMÍNIO DE ABRIR COM LAMBRI, COM GUARNIÇÃO, FIXAÇÃO COM PARAFUSOS - FORNECIMENTO E INSTALAÇÃO. AF_12/2019 | E159: m² | F159: =SUM(Alagoa!F159,Arantina!F159,Aiuruoca!F159,Baependi!F159,'Bocaina de Minas'!F159,Cambuquira!F159,'Carmo de Minas'!F159,Caxambu!F159,'Conceição do Rio Verde'!F159,Cruzilia!F159,'Dom Viçoso'!F159,Itamonte!F159,Itanhandu!F159,Jesuânia!F159,Lambari!F159,Liberdade!F159,Minduri!F159,'Olimpio Noronha'!F159,'Passa Quatro'!F159,'Passa Vinte'!F159,'Pouso Alto'!F159,'São Lourenço'!F159,'São Sebastião'!F159,'São Thome'!F159,Seritinga!F159,Serranos!F159,'Soledade de Minas'!F159,'Tres Corações'!F159,Virginia!F159,Cristina!F159) -> 446.62165 | G159: 874.09 | H159: =TRUNC((G159*$G$2)+(G159),2) -> 1109.48 | I159: =TRUNC(H159*F159,2) -> 495517.78 | J159: =I159/$I$251 -> 0.0068817899
... A167: 8.20 | B167: 102188 | C167: SINAPI | D167: MOLA HIDRAULICA DE PISO PARA PORTA DE VIDRO TEMPERADO. AF_11/2025 | E167: UN | F167: =SUM(Alagoa!F167,Arantina!F167,Aiuruoca!F167,Baependi!F167,'Bocaina de Minas'!F167,Cambuquira!F167,'Carmo de Minas'!F167,Caxambu!F167,'Conceição do Rio Verde'!F167,Cruzilia!F167,'Dom Viçoso'!F167,Itamonte!F167,Itanhandu!F167,Jesuânia!F167,Lambari!F167,Liberdade!F167,Minduri!F167,'Olimpio Noronha'!F167,'Passa Quatro'!F167,'Passa Vinte'!F167,'Pouso Alto'!F167,'São Lourenço'!F167,'São Sebastião'!F167,'São Thome'!F167,Seritinga!F167,Serranos!F167,'Soledade de Minas'!F167,'Tres Corações'!F167,Virginia!F167,Cristina!F167) -> 348.03906 | G167: 919.28 | H167: =TRUNC((G167*$G$2)+(G167),2) -> 1166.84 | I167: =TRUNC(H167*F167,2) -> 406105.89 | J167: =I167/$I$251 -> 0.0056400305
A168: 9 | D168: MANUTENÇÃO DE PISOS / SOLEIRAS / RODAPÉS | I168: =SUM(I169:I174) -> 3283405.7 | J168: =I168/$I$251 -> 0.045600196
A169: 9.1 | B169: 87765 | C169: SINAPI | D169: CONTRAPISO EM ARGAMASSA TRAÇO 1:4 (CIMENTO E AREIA), PREPARO MECÂNICO COM BETONEIRA 400 L, APLICADO EM ÁREAS MOLHADAS SOBRE IMPERMEABILIZAÇÃO, ACABAMENTO NÃO REFORÇADO, ESPESSURA 4CM. AF_07/2021 | E169: m² | F169: =SUM(Alagoa!F169,Arantina!F169,Aiuruoca!F169,Baependi!F169,'Bocaina de Minas'!F169,Cambuquira!F169,'Carmo de Minas'!F169,Caxambu!F169,'Conceição do Rio Verde'!F169,Cruzilia!F169,'Dom Viçoso'!F169,Itamonte!F169,Itanhandu!F169,Jesuânia!F169,Lambari!F169,Liberdade!F169,Minduri!F169,'Olimpio Noronha'!F169,'Passa Quatro'!F169,'Passa Vinte'!F169,'Pouso Alto'!F169,'São Lourenço'!F169,'São Sebastião'!F169,'São Thome'!F169,Seritinga!F169,Serranos!F169,'Soledade de Minas'!F169,'Tres Corações'!F169,Virginia!F169,Cristina!F169) -> 10830.3 | G169: 65.77 | H169: =TRUNC((G169*$G$2)+(G169),2) -> 83.48 | I169: =TRUNC(H169*F169,2) -> 904113.44 | J169: =I169/$I$251 -> 0.012556399
A170: 9.2 | B170: 87263 | C170: SINAPI | D170: REVESTIMENTO CERÂMICO PARA PISO COM PLACAS TIPO PORCELANATO DE DIMENSÕES 60X60 CM APLICADA EM AMBIENTES DE ÁREA MAIOR QUE 10 M². AF_02/2023_PE | E170: m² | F170: =SUM(Alagoa!F170,Arantina!F170,Aiuruoca!F170,Baependi!F170,'Bocaina de Minas'!F170,Cambuquira!F170,'Carmo de Minas'!F170,Caxambu!F170,'Conceição do Rio Verde'!F170,Cruzilia!F170,'Dom Viçoso'!F170,Itamonte!F170,Itanhandu!F170,Jesuânia!F170,Lambari!F170,Liberdade!F170,Minduri!F170,'Olimpio Noronha'!F170,'Passa Quatro'!F170,'Passa Vinte'!F170,'Pouso Alto'!F170,'São Lourenço'!F170,'São Sebastião'!F170,'São Thome'!F170,Seritinga!F170,Serranos!F170,'Soledade de Minas'!F170,'Tres Corações'!F170,Virginia!F170,Cristina!F170) -> 5836.1542 | G170: 110.52 | H170: =TRUNC((G170*$G$2)+(G170),2) -> 140.28 | I170: =TRUNC(H170*F170,2) -> 818695.71 | J170: =I170/$I$251 -> 0.01137011
A171: 9.3 | B171: 104605 | C171: SINAPI | D171: REVESTIMENTO CERÂMICO PARA PISO COM PLACAS TIPO ESMALTADA DE DIMENSÕES 45X45 CM APLICADA EM DIAGONAL EM AMBIENTES DE ÁREA MENOR QUE 5 M². AF_02/2023_PE | E171: m² | F171: =SUM(Alagoa!F171,Arantina!F171,Aiuruoca!F171,Baependi!F171,'Bocaina de Minas'!F171,Cambuquira!F171,'Carmo de Minas'!F171,Caxambu!F171,'Conceição do Rio Verde'!F171,Cruzilia!F171,'Dom Viçoso'!F171,Itamonte!F171,Itanhandu!F171,Jesuânia!F171,Lambari!F171,Liberdade!F171,Minduri!F171,'Olimpio Noronha'!F171,'Passa Quatro'!F171,'Passa Vinte'!F171,'Pouso Alto'!F171,'São Lourenço'!F171,'São Sebastião'!F171,'São Thome'!F171,Seritinga!F171,Serranos!F171,'Soledade de Minas'!F171,'Tres Corações'!F171,Virginia!F171,Cristina!F171) -> 8761.3002 | G171: 105.54 | H171: =TRUNC((G171*$G$2)+(G171),2) -> 133.96 | I171: =TRUNC(H171*F171,2) -> 1173663.8 | J171: =I171/$I$251 -> 0.016299935
A172: 9.4 | B172: 88650 | C172: SINAPI | D172: RODAPÉ CERÂMICO DE 7CM DE ALTURA COM PLACAS TIPO ESMALTADA DE DIMENSÕES 60X60CM. AF_02/2023 | E172: M | F172: =SUM(Alagoa!F172,Arantina!F172,Aiuruoca!F172,Baependi!F172,'Bocaina de Minas'!F172,Cambuquira!F172,'Carmo de Minas'!F172,Caxambu!F172,'Conceição do Rio Verde'!F172,Cruzilia!F172,'Dom Viçoso'!F172,Itamonte!F172,Itanhandu!F172,Jesuânia!F172,Lambari!F172,Liberdade!F172,Minduri!F172,'Olimpio Noronha'!F172,'Passa Quatro'!F172,'Passa Vinte'!F172,'Pouso Alto'!F172,'São Lourenço'!F172,'São Sebastião'!F172,'São Thome'!F172,Seritinga!F172,Serranos!F172,'Soledade de Minas'!F172,'Tres Corações'!F172,Virginia!F172,Cristina!F172) -> 8121.4809 | G172: 11.84 | H172: =TRUNC((G172*$G$2)+(G172),2) -> 15.02 | I172: =TRUNC(H172*F172,2) -> 121984.64 | J172: =I172/$I$251 -> 0.0016941323
A173: 9.5 | B173: 98689 | C173: SINAPI | D173: SOLEIRA EM GRANITO, LARGURA 15 CM, ESPESSURA 2,0 CM. AF_09/2020 | E173: M | F173: =SUM(Alagoa!F173,Arantina!F173,Aiuruoca!F173,Baependi!F173,'Bocaina de Minas'!F173,Cambuquira!F173,'Carmo de Minas'!F173,Caxambu!F173,'Conceição do Rio Verde'!F173,Cruzilia!F173,'Dom Viçoso'!F173,Itamonte!F173,Itanhandu!F173,Jesuânia!F173,Lambari!F173,Liberdade!F173,Minduri!F173,'Olimpio Noronha'!F173,'Passa Quatro'!F173,'Passa Vinte'!F173,'Pouso Alto'!F173,'São Lourenço'!F173,'São Sebastião'!F173,'São Thome'!F173,Seritinga!F173,Serranos!F173,'Soledade de Minas'!F173,'Tres Corações'!F173,Virginia!F173,Cristina!F173) -> 874.92677 | G173: 108.35 | H173: =TRUNC((G173*$G$2)+(G173),2) -> 137.52 | I173: =TRUNC(H173*F173,2) -> 120319.92 | J173: =I173/$I$251 -> 0.0016710125
A174: 9.6 | B174: 101965 | C174: SINAPI | D174: PEITORIL LINEAR EM GRANITO OU MÁRMORE, L = 15CM, ASSENTADO COM ARGAMASSA 1:6 COM ADITIVO. AF_11/2020 | E174: M | F174: =SUM(Alagoa!F174,Arantina!F174,Aiuruoca!F174,Baependi!F174,'Bocaina de Minas'!F174,Cambuquira!F174,'Carmo de Minas'!F174,Caxambu!F174,'Conceição do Rio Verde'!F174,Cruzilia!F174,'Dom Viçoso'!F174,Itamonte!F174,Itanhandu!F174,Jesuânia!F174,Lambari!F174,Liberdade!F174,Minduri!F174,'Olimpio Noronha'!F174,'Passa Quatro'!F174,'Passa Vinte'!F174,'Pouso Alto'!F174,'São Lourenço'!F174,'São Sebastião'!F174,'São Thome'!F174,Seritinga!F174,Serranos!F174,'Soledade de Minas'!F174,'Tres Corações'!F174,Virginia!F174,Cristina!F174) -> 1043.1172 | G174: 109.24 | H174: =TRUNC((G174*$G$2)+(G174),2) -> 138.65 | I174: =TRUNC(H174*F174,2) -> 144628.19 | J174: =I174/$I$251 -> 0.0020086077
A175: 10 | D175: MANUTENÇÃO DE PINTURAS | I175: =SUM(I176:I189) -> 7151577.2 | J175: =I175/$I$251 -> 0.099321666
A176: 10.1 | B176: 88495 | C176: SINAPI | D176: EMASSAMENTO COM MASSA LÁTEX, APLICAÇÃO EM PAREDE, UMA DEMÃO, LIXAMENTO MANUAL. AF_04/2023 | E176: m² | F176: =SUM(Alagoa!F176,Arantina!F176,Aiuruoca!F176,Baependi!F176,'Bocaina de Minas'!F176,Cambuquira!F176,'Carmo de Minas'!F176,Caxambu!F176,'Conceição do Rio Verde'!F176,Cruzilia!F176,'Dom Viçoso'!F176,Itamonte!F176,Itanhandu!F176,Jesuânia!F176,Lambari!F176,Liberdade!F176,Minduri!F176,'Olimpio Noronha'!F176,'Passa Quatro'!F176,'Passa Vinte'!F176,'Pouso Alto'!F176,'São Lourenço'!F176,'São Sebastião'!F176,'São Thome'!F176,Seritinga!F176,Serranos!F176,'Soledade de Minas'!F176,'Tres Corações'!F176,Virginia!F176,Cristina!F176) -> 36626.895 | G176: 13.06 | H176: =TRUNC((G176*$G$2)+(G176),2) -> 16.57 | I176: =TRUNC(H176*F176,2) -> 606907.65 | J176: =I176/$I$251 -> 0.0084287812
A177: 10.2 | B177: 88489 | C177: SINAPI | D177: PINTURA LÁTEX ACRÍLICA PREMIUM, APLICAÇÃO MANUAL EM PAREDES, DUAS DEMÃOS. AF_04/2023 | E177: m² | F177: =SUM(Alagoa!F177,Arantina!F177,Aiuruoca!F177,Baependi!F177,'Bocaina de Minas'!F177,Cambuquira!F177,'Carmo de Minas'!F177,Caxambu!F177,'Conceição do Rio Verde'!F177,Cruzilia!F177,'Dom Viçoso'!F177,Itamonte!F177,Itanhandu!F177,Jesuânia!F177,Lambari!F177,Liberdade!F177,Minduri!F177,'Olimpio Noronha'!F177,'Passa Quatro'!F177,'Passa Vinte'!F177,'Pouso Alto'!F177,'São Lourenço'!F177,'São Sebastião'!F177,'São Thome'!F177,Seritinga!F177,Serranos!F177,'Soledade de Minas'!F177,'Tres Corações'!F177,Virginia!F177,Cristina!F177) -> 123700.02 | G177: 14.38 | H177: =TRUNC((G177*$G$2)+(G177),2) -> 18.25 | I177: =TRUNC(H177*F177,2) -> 2257525.4 | J177: =I177/$I$251 -> 0.03135269
A178: 10.3 | B178: 88485 | C178: SINAPI | D178: FUNDO SELADOR ACRÍLICO, APLICAÇÃO MANUAL EM PAREDE, UMA DEMÃO. AF_04/2023 | E178: m² | F178: =SUM(Alagoa!F178,Arantina!F178,Aiuruoca!F178,Baependi!F178,'Bocaina de Minas'!F178,Cambuquira!F178,'Carmo de Minas'!F178,Caxambu!F178,'Conceição do Rio Verde'!F178,Cruzilia!F178,'Dom Viçoso'!F178,Itamonte!F178,Itanhandu!F178,Jesuânia!F178,Lambari!F178,Liberdade!F178,Minduri!F178,'Olimpio Noronha'!F178,'Passa Quatro'!F178,'Passa Vinte'!F178,'Pouso Alto'!F178,'São Lourenço'!F178,'São Sebastião'!F178,'São Thome'!F178,Seritinga!F178,Serranos!F178,'Soledade de Minas'!F178,'Tres Corações'!F178,Virginia!F178,Cristina!F178) -> 123700.02 | G178: 4.87 | H178: =TRUNC((G178*$G$2)+(G178),2) -> 6.18 | I178: =TRUNC(H178*F178,2) -> 764466.11 | J178: =I178/$I$251 -> 0.010616965
A179: 10.4 | B179: 88496 | C179: SINAPI | D179: EMASSAMENTO COM MASSA LÁTEX, APLICAÇÃO EM TETO, DUAS DEMÃOS, LIXAMENTO MANUAL. AF_04/2023 | E179: m² | F179: =SUM(Alagoa!F179,Arantina!F179,Aiuruoca!F179,Baependi!F179,'Bocaina de Minas'!F179,Cambuquira!F179,'Carmo de Minas'!F179,Caxambu!F179,'Conceição do Rio Verde'!F179,Cruzilia!F179,'Dom Viçoso'!F179,Itamonte!F179,Itanhandu!F179,Jesuânia!F179,Lambari!F179,Liberdade!F179,Minduri!F179,'Olimpio Noronha'!F179,'Passa Quatro'!F179,'Passa Vinte'!F179,'Pouso Alto'!F179,'São Lourenço'!F179,'São Sebastião'!F179,'São Thome'!F179,Seritinga!F179,Serranos!F179,'Soledade de Minas'!F179,'Tres Corações'!F179,Virginia!F179,Cristina!F179) -> 10257.011 | G179: 35.99 | H179: =TRUNC((G179*$G$2)+(G179),2) -> 45.68 | I179: =TRUNC(H179*F179,2) -> 468540.28 | J179: =I179/$I$251 -> 0.0065071243
A180: 10.5 | B180: 88488 | C180: SINAPI | D180: PINTURA LÁTEX ACRÍLICA PREMIUM, APLICAÇÃO MANUAL EM TETO, DUAS DEMÃOS. AF_04/2023 | E180: m² | F180: =SUM(Alagoa!F180,Arantina!F180,Aiuruoca!F180,Baependi!F180,'Bocaina de Minas'!F180,Cambuquira!F180,'Carmo de Minas'!F180,Caxambu!F180,'Conceição do Rio Verde'!F180,Cruzilia!F180,'Dom Viçoso'!F180,Itamonte!F180,Itanhandu!F180,Jesuânia!F180,Lambari!F180,Liberdade!F180,Minduri!F180,'Olimpio Noronha'!F180,'Passa Quatro'!F180,'Passa Vinte'!F180,'Pouso Alto'!F180,'São Lourenço'!F180,'São Sebastião'!F180,'São Thome'!F180,Seritinga!F180,Serranos!F180,'Soledade de Minas'!F180,'Tres Corações'!F180,Virginia!F180,Cristina!F180) -> 32408.717 | G180: 17.01 | H180: =TRUNC((G180*$G$2)+(G180),2) -> 21.59 | I180: =TRUNC(H180*F180,2) -> 699704.19 | J180: =I180/$I$251 -> 0.0097175468
A181: 10.6 | B181: 88484 | C181: SINAPI | D181: FUNDO SELADOR ACRÍLICO, APLICAÇÃO MANUAL EM TETO, UMA DEMÃO. AF_04/2023 | E181: m² | F181: =SUM(Alagoa!F181,Arantina!F181,Aiuruoca!F181,Baependi!F181,'Bocaina de Minas'!F181,Cambuquira!F181,'Carmo de Minas'!F181,Caxambu!F181,'Conceição do Rio Verde'!F181,Cruzilia!F181,'Dom Viçoso'!F181,Itamonte!F181,Itanhandu!F181,Jesuânia!F181,Lambari!F181,Liberdade!F181,Minduri!F181,'Olimpio Noronha'!F181,'Passa Quatro'!F181,'Passa Vinte'!F181,'Pouso Alto'!F181,'São Lourenço'!F181,'São Sebastião'!F181,'São Thome'!F181,Seritinga!F181,Serranos!F181,'Soledade de Minas'!F181,'Tres Corações'!F181,Virginia!F181,Cristina!F181) -> 32408.717 | G181: 5.94 | H181: =TRUNC((G181*$G$2)+(G181),2) -> 7.53 | I181: =TRUNC(H181*F181,2) -> 244037.63 | J181: =I181/$I$251 -> 0.0033892138
A182: 10.7 | B182: 102193 | C182: SINAPI | D182: LIXAMENTO DE MADEIRA PARA APLICAÇÃO DE FUNDO OU PINTURA. AF_01/2021 | E182: m² | F182: =SUM(Alagoa!F182,Arantina!F182,Aiuruoca!F182,Baependi!F182,'Bocaina de Minas'!F182,Cambuquira!F182,'Carmo de Minas'!F182,Caxambu!F182,'Conceição do Rio Verde'!F182,Cruzilia!F182,'Dom Viçoso'!F182,Itamonte!F182,Itanhandu!F182,Jesuânia!F182,Lambari!F182,Liberdade!F182,Minduri!F182,'Olimpio Noronha'!F182,'Passa Quatro'!F182,'Passa Vinte'!F182,'Pouso Alto'!F182,'São Lourenço'!F182,'São Sebastião'!F182,'São Thome'!F182,Seritinga!F182,Serranos!F182,'Soledade de Minas'!F182,'Tres Corações'!F182,Virginia!F182,Cristina!F182) -> 9623.878 | G182: 2.33 | H182: =TRUNC((G182*$G$2)+(G182),2) -> 2.95 | I182: =TRUNC(H182*F182,2) -> 28390.44 | J182: =I182/$I$251 -> 0.00039428866
A183: 10.8 | B183: 102195 | C183: SINAPI | D183: PINTURA FUNDO NIVELADOR ALQUÍDICO INCOLOR EM MADEIRA. AF_01/2021 | E183: m² | F183: =SUM(Alagoa!F183,Arantina!F183,Aiuruoca!F183,Baependi!F183,'Bocaina de Minas'!F183,Cambuquira!F183,'Carmo de Minas'!F183,Caxambu!F183,'Conceição do Rio Verde'!F183,Cruzilia!F183,'Dom Viçoso'!F183,Itamonte!F183,Itanhandu!F183,Jesuânia!F183,Lambari!F183,Liberdade!F183,Minduri!F183,'Olimpio Noronha'!F183,'Passa Quatro'!F183,'Passa Vinte'!F183,'Pouso Alto'!F183,'São Lourenço'!F183,'São Sebastião'!F183,'São Thome'!F183,Seritinga!F183,Serranos!F183,'Soledade de Minas'!F183,'Tres Corações'!F183,Virginia!F183,Cristina!F183) -> 9623.878 | G183: 20.59 | H183: =TRUNC((G183*$G$2)+(G183),2) -> 26.13 | I183: =TRUNC(H183*F183,2) -> 251471.93 | J183: =I183/$I$251 -> 0.0034924619
A184: 10.9 | B184: 102215 | C184: SINAPI | D184: PINTURA VERNIZ (INCOLOR) POLIURETÂNICO (RESINA ALQUÍDICA MODIFICADA) EM MADEIRA, 2 DEMÃOS. AF_01/2021 | E184: m² | F184: =SUM(Alagoa!F184,Arantina!F184,Aiuruoca!F184,Baependi!F184,'Bocaina de Minas'!F184,Cambuquira!F184,'Carmo de Minas'!F184,Caxambu!F184,'Conceição do Rio Verde'!F184,Cruzilia!F184,'Dom Viçoso'!F184,Itamonte!F184,Itanhandu!F184,Jesuânia!F184,Lambari!F184,Liberdade!F184,Minduri!F184,'Olimpio Noronha'!F184,'Passa Quatro'!F184,'Passa Vinte'!F184,'Pouso Alto'!F184,'São Lourenço'!F184,'São Sebastião'!F184,'São Thome'!F184,Seritinga!F184,Serranos!F184,'Soledade de Minas'!F184,'Tres Corações'!F184,Virginia!F184,Cristina!F184) -> 9623.878 | G184: 22.11 | H184: =TRUNC((G184*$G$2)+(G184),2) -> 28.06 | I184: =TRUNC(H184*F184,2) -> 270046.01 | J184: =I184/$I$251 -> 0.0037504202
A185: 10.10 | B185: 102234 | C185: SINAPI | D185: PINTURA IMUNIZANTE PARA MADEIRA, 2 DEMÃOS. AF_01/2021 | E185: m² | F185: =SUM(Alagoa!F185,Arantina!F185,Aiuruoca!F185,Baependi!F185,'Bocaina de Minas'!F185,Cambuquira!F185,'Carmo de Minas'!F185,Caxambu!F185,'Conceição do Rio Verde'!F185,Cruzilia!F185,'Dom Viçoso'!F185,Itamonte!F185,Itanhandu!F185,Jesuânia!F185,Lambari!F185,Liberdade!F185,Minduri!F185,'Olimpio Noronha'!F185,'Passa Quatro'!F185,'Passa Vinte'!F185,'Pouso Alto'!F185,'São Lourenço'!F185,'São Sebastião'!F185,'São Thome'!F185,Seritinga!F185,Serranos!F185,'Soledade de Minas'!F185,'Tres Corações'!F185,Virginia!F185,Cristina!F185) -> 15216.045 | G185: 23.33 | H185: =TRUNC((G185*$G$2)+(G185),2) -> 29.61 | I185: =TRUNC(H185*F185,2) -> 450547.08 | J185: =I185/$I$251 -> 0.0062572333
A186: 10.11 | B186: 100717 | C186: SINAPI | D186: LIXAMENTO MANUAL EM SUPERFÍCIES METÁLICAS EM OBRA. AF_01/2020 | E186: m² | F186: =SUM(Alagoa!F186,Arantina!F186,Aiuruoca!F186,Baependi!F186,'Bocaina de Minas'!F186,Cambuquira!F186,'Carmo de Minas'!F186,Caxambu!F186,'Conceição do Rio Verde'!F186,Cruzilia!F186,'Dom Viçoso'!F186,Itamonte!F186,Itanhandu!F186,Jesuânia!F186,Lambari!F186,Liberdade!F186,Minduri!F186,'Olimpio Noronha'!F186,'Passa Quatro'!F186,'Passa Vinte'!F186,'Pouso Alto'!F186,'São Lourenço'!F186,'São Sebastião'!F186,'São Thome'!F186,Seritinga!F186,Serranos!F186,'Soledade de Minas'!F186,'Tres Corações'!F186,Virginia!F186,Cristina!F186) -> 12438.823 | G186: 11.16 | H186: =TRUNC((G186*$G$2)+(G186),2) -> 14.16 | I186: =TRUNC(H186*F186,2) -> 176133.74 | J186: =I186/$I$251 -> 0.0024461592
...

Sheet Alagoa
D1: Obra | E1: Bancos | G1: B.D.I. | I1: Encargos Sociais
D2: MANUTENÇÃO PREDIAL CIMAG - ALAGOA - MG | E2: SINAPI - 02/2026 - Minas Gerais | G2: 26,93% | I2: Desonerado: embutido nos preços unitário dos insumos de mão de obra, de acordo com as bases.
A3: Orçamento Sintético
A4: Item | B4: Código | C4: Banco | D4: Descrição | E4: Und | F4: Quant. | G4: Valor Unit | H4: Valor Unit com BDI | I4: Total | J4: Peso (%)
A5: 1 | D5: ACOMPANHAMENTO DE MANUTENÇÕES | I5: 94868.94 | J5: 0.064441332
A6: 1.1 | B6: 90778 | C6: SINAPI | D6: ENGENHEIRO CIVIL DE OBRA PLENO COM ENCARGOS COMPLEMENTARES | E6: H | F6: 277 | G6: 136.69 | H6: 173.5 | I6: 48059.5 | J6: 0.032645228
A7: 1.2 | B7: 90776 | C7: SINAPI | D7: ENCARREGADO GERAL COM ENCARGOS COMPLEMENTARES | E7: H | F7: 592 | G7: 62.3 | H7: 79.07 | I7: 46809.44 | J7: 0.031796104
A8: 2 | D8: SERVIÇOS PRELIMINARES (DEMOLIÇÕES / RETIRADAS) | I8: 134412.07 | J8: 0.091301672
A9: 2.1 | B9: 97633 | C9: SINAPI | D9: DEMOLIÇÃO DE REVESTIMENTO CERÂMICO, DE FORMA MANUAL, SEM REAPROVEITAMENTO. AF_09/2023 | E9: m² | F9: 397.00124 | G9: 25.97 | H9: 32.96 | I9: 13085.16 | J9: 0.0088883163
A10: 2.2 | B10: 97663 | C10: SINAPI | D10: REMOÇÃO DE LOUÇAS, DE FORMA MANUAL, SEM REAPROVEITAMENTO. AF_09/2023 | E10: UN | F10: 124.79766 | G10: 14.14 | H10: 17.94 | I10: 2238.86 | J10: 0.0015207835
A11: 2.3 | B11: 97664 | C11: SINAPI | D11: REMOÇÃO DE ACESSÓRIOS, DE FORMA MANUAL, SEM REAPROVEITAMENTO. AF_09/2023 | E11: UN | F11: 149.44067 | G11: 1.76 | H11: 2.23 | I11: 333.25 | J11: 0.0002263657
A12: 2.4 | B12: 90447 | C12: SINAPI | D12: RASGO LINEAR MANUAL EM ALVENARIA, PARA ELETRODUTOS, DIÂMETROS MENORES OU IGUAIS A 40 MM. AF_09/2023 | E12: M | F12: 319.68095 | G12: 9.28 | H12: 11.77 | I12: 3762.64 | J12: 0.0025558369
A13: 2.5 | B13: 97660 | C13: SINAPI | D13: REMOÇÃO DE INTERRUPTORES/TOMADAS ELÉTRICAS, DE FORMA MANUAL, SEM REAPROVEITAMENTO. AF_09/2023 | E13: UN | F13: 942.08665 | G13: 0.74 | H13: 0.93 | I13: 876.14 | J13: 0.00059513291
A14: 2.6 | B14: 97661 | C14: SINAPI | D14: REMOÇÃO DE CABOS ELÉTRICOS, COM SEÇÃO DE 10 MM², FORMA MANUAL, SEM REAPROVEITAMENTO. AF_09/2023 | E14: M | F14: 14204.098 | G14: 0.8 | H14: 1.01 | I14: 14346.13 | J14: 0.0097448515
A15: 2.7 | B15: 97665 | C15: SINAPI | D15: REMOÇÃO DE LUMINÁRIAS, DE FORMA MANUAL, SEM REAPROVEITAMENTO. AF_09/2023 | E15: UN | F15: 186.51824 | G15: 2.01 | H15: 2.55 | I15: 475.62 | J15: 0.00032307293
A16: 2.8 | B16: 97644 | C16: SINAPI | D16: REMOÇÃO DE PORTAS, DE FORMA MANUAL, SEM REAPROVEITAMENTO. AF_09/2023 | E16: m² | F16: 185.16174 | G16: 10.69 | H16: 13.56 | I16: 2510.79 | J16: 0.0017054966
A17: 2.9 | B17: 97645 | C17: SINAPI | D17: REMOÇÃO DE JANELAS, DE FORMA MANUAL, SEM REAPROVEITAMENTO. AF_09/2023 | E17: m² | F17: 405.59238 | G17: 27.59 | H17: 35.01 | I17: 14199.78 | J17: 0.0096454407
A18: 2.10 | B18: 90441 | C18: SINAPI | D18: FURO MECANIZADO EM CONCRETO, COM MARTELO DEMOLIDOR, PARA INSTALAÇÕES HIDRÁULICAS, DIÂMETROS MAIORES QUE 75 MM E MENORES OU IGUAIS A 150 MM. AF_09/2023 | E18: UN | F18: 99.928558 | G18: 10.13 | H18: 12.85 | I18: 1284.08 | J18: 0.00087223306
A19: 2.11 | B19: 97631 | C19: SINAPI | D19: DEMOLIÇÃO DE ARGAMASSAS, DE FORMA MANUAL, SEM REAPROVEITAMENTO. AF_09/2023 | E19: m² | F19: 201.89186 | G19: 12.77 | H19: 16.2 | I19: 3270.64 | J19: 0.0022216375
A20: 2.12 | B20: 97643 | C20: SINAPI | D20: REMOÇÃO DE PISO DE MADEIRA (ASSOALHO E BARROTE), DE FORMA MANUAL, SEM REAPROVEITAMENTO. AF_09/2023 | E20: m² | F20: 93.824325 | G20: 28.2 | H20: 35.79 | I20: 3357.97 | J20: 0.0022809579
A21: 2.13 | B21: 97622 | C21: SINAPI | D21: DEMOLIÇÃO DE ALVENARIA DE BLOCO FURADO, DE FORMA MANUAL, SEM REAPROVEITAMENTO. AF_09/2023 | E21: m³ | F21: 129.31931 | G21: 62.98 | H21: 79.94 | I21: 10337.78 | J21: 0.0070221119
A22: 2.14 | B22: 73801/002 | C22: SINAPI | D22: DEMOLICAO DE CAMADA DE ASSENTAMENTO/CONTRAPISO COM USO DE PONTEIRO, ESPESSURA ATE 4CM | E22: m² | F22: 431.36581 | G22: 35.37 | H22: 44.89 | I22: 19364.01 | J22: 0.013153331
A23: 2.15 | B23: 97628 | C23: SINAPI | D23: DEMOLIÇÃO DE LAJES, EM CONCRETO ARMADO, DE FORMA MANUAL, SEM REAPROVEITAMENTO. AF_09/2023 | E23: m³ | F23: 14.695376 | G23: 294.78 | H23: 374.16 | I23: 5498.42 | J23: 0.0037348948
A24: 2.16 | B24: 97649 | C24: SINAPI | D24: REMOÇÃO DE TELHAS DE FIBROCIMENTO, METÁLICA E CERÂMICA, DE FORMA MECANIZADA, COM USO DE GUINDASTE, SEM REAPROVEITAMENTO. AF_09/2023 | E24: m² | F24: 713.06487 | G24: 4.99 | H24: 6.33 | I24: 4513.7 | J24: 0.0030660071
A25: 2.17 | B25: 97650 | C25: SINAPI | D25: REMOÇÃO DE TRAMA DE MADEIRA PARA COBERTURA, DE FORMA MANUAL, SEM REAPROVEITAMENTO. AF_09/2023 | E25: m² | F25: 713.06487 | G25: 8.55 | H25: 10.85 | I25: 7736.75 | J25: 0.0052553183
A26: 2.18 | B26: 68053 | C26: SINAPI | D26: FORNECIMENTO/INSTALACAO LONA PLASTICA PRETA, PARA IMPERMEABILIZACAO, ESPESSURA 150 MICRAS. | E26: m² | F26: 930.10427 | G26: 8.98 | H26: 11.39 | I26: 10593.88 | J26: 0.0071960722
A27: 2.19 | B27: 97063 | C27: SINAPI | D27: MONTAGEM E DESMONTAGEM DE ANDAIME MODULAR FACHADEIRO, COM PISO METÁLICO, PARA EDIFÍCIOS COM MULTIPLOS PAVIMENTOS (EXCLUSIVE ANDAIME E LIMPEZA). AF_03/2024 | E27: m² | F27: 495.5733 | G27: 20.04 | H27: 25.43 | I27: 12602.42 | J27: 0.0085604069
A28: 2.20 | B28: 97062 | C28: SINAPI | D28: COLOCAÇÃO DE TELA EM ANDAIME FACHADEIRO. AF_03/2024 | E28: m² | F28: 495.5733 | G28: 6.4 | H28: 8.12 | I28: 4024.05 | J28: 0.002733404
A29: 3 | D29: CARGA, DESCARGA E / OU TRANSPORTE DE MATERIAIS PROVENIENTES DAS MANUTENÇÕES | I29: 26062.33 | J29: 0.017703278
A30: 3.1 | B30: 100984 | C30: SINAPI | D30: CARGA, MANOBRA E DESCARGA DE ENTULHO EM CAMINHÃO BASCULANTE 18 M³ - CARGA COM ESCAVADEIRA HIDRÁULICA (CAÇAMBA DE 0,80 M³ / 111 HP) E DESCARGA LIVRE (UNIDADE: M3). AF_07/2020 | E30: m³ | F30: 529.71179 | G30: 9.03 | H30: 11.46 | I30: 6070.49 | J30: 0.004123483
A31: 3.2 | B31: 95875 | C31: SINAPI | D31: TRANSPORTE COM CAMINHÃO BASCULANTE DE 10 M³, EM VIA URBANA PAVIMENTADA, DMT ATÉ 30 KM (UNIDADE: M3XKM). AF_07/2020 | E31: M3XKM | F31: 1259.4163 | G31: 2.61 | H31: 3.31 | I31: 4168.66 | J31: 0.0028316328
A32: 3.3 | B32: 93358 | C32: SINAPI | D32: ESCAVAÇÃO MANUAL DE VALA. AF_09/2024 | E32: m³ | F32: 101.73722 | G32: 93.27 | H32: 118.38 | I32: 12043.65 | J32: 0.008180853
A33: 3.4 | B33: 93382 | C33: SINAPI | D33: REATERRO MANUAL DE VALAS, COM COMPACTADOR DE SOLOS DE PERCUSSÃO. AF_08/2023 | E33: m³ | F33: 101.73722 | G33: 29.27 | H33: 37.15 | I33: 3779.53 | J33: 0.0025673097
A34: 4 | D34: MANUTENÇÃO DE INSTALAÇÕES HIDROSSANITÁRIAS | I34: 266251.87 | J34: 0.18085609
A35: 4.1 | B35: 89714 | C35: SINAPI | D35: TUBO PVC, SERIE NORMAL, ESGOTO PREDIAL, DN 100 MM, FORNECIDO E INSTALADO EM RAMAL DE DESCARGA OU RAMAL DE ESGOTO SANITÁRIO. AF_08/2022 | E35: M | F35: 129.99756 | G35: 41.27 | H35: 52.38 | I35: 6809.27 | J35: 0.0046253118
A36: 4.2 | B36: 89713 | C36: SINAPI | D36: TUBO PVC, SERIE NORMAL, ESGOTO PREDIAL, DN 75 MM, FORNECIDO E INSTALADO EM RAMAL DE DESCARGA OU RAMAL DE ESGOTO SANITÁRIO. AF_08/2022 | E36: M | F36: 303.17691 | G36: 36.84 | H36: 46.76 | I36: 14176.55 | J36: 0.0096296614
A37: 4.3 | B37: 89712 | C37: SINAPI | D37: TUBO PVC, SERIE NORMAL, ESGOTO PREDIAL, DN 50 MM, FORNECIDO E INSTALADO EM RAMAL DE DESCARGA OU RAMAL DE ESGOTO SANITÁRIO. AF_08/2022 | E37: M | F37: 303.17691 | G37: 29.64 | H37: 37.62 | I37: 11405.51 | J37: 0.0077473856
A38: 4.4 | B38: 89744 | C38: SINAPI | D38: JOELHO 90 GRAUS, PVC, SERIE NORMAL, ESGOTO PREDIAL, DN 100 MM, JUNTA ELÁSTICA, FORNECIDO E INSTALADO EM RAMAL DE DESCARGA OU RAMAL DE ESGOTO SANITÁRIO. AF_08/2022 | E38: UN | F38: 224.04797 | G38: 28.94 | H38: 36.73 | I38: 8229.28 | J38: 0.0055898776
A39: 4.5 | B39: 89731 | C39: SINAPI | D39: JOELHO 90 GRAUS, PVC, SERIE NORMAL, ESGOTO PREDIAL, DN 50 MM, JUNTA ELÁSTICA, FORNECIDO E INSTALADO EM RAMAL DE DESCARGA OU RAMAL DE ESGOTO SANITÁRIO. AF_08/2022 | E39: UN | F39: 62.398828 | G39: 15.85 | H39: 20.11 | I39: 1254.84 | J39: 0.00085237129
A40: 4.6 | B40: 89746 | C40: SINAPI | D40: JOELHO 45 GRAUS, PVC, SERIE NORMAL, ESGOTO PREDIAL, DN 100 MM, JUNTA ELÁSTICA, FORNECIDO E INSTALADO EM RAMAL DE DESCARGA OU RAMAL DE ESGOTO SANITÁRIO. AF_08/2022 | E40: UN | F40: 37.52973 | G40: 29.79 | H40: 37.81 | I40: 1418.99 | J40: 0.00096387296
A41: 4.7 | B41: 89795 | C41: SINAPI | D41: JUNÇÃO SIMPLES, PVC, SERIE NORMAL, ESGOTO PREDIAL, DN 75 X 75 MM, JUNTA ELÁSTICA, FORNECIDO E INSTALADO EM RAMAL DE DESCARGA OU RAMAL DE ESGOTO SANITÁRIO. AF_08/2022 | E41: UN | F41: 62.398828 | G41: 42.5 | H41: 53.94 | I41: 3365.79 | J41: 0.0022862698
A42: 4.8 | B42: 89834 | C42: SINAPI | D42: JUNÇÃO SIMPLES, PVC, SERIE NORMAL, ESGOTO PREDIAL, DN 100 X 100 MM, JUNTA ELÁSTICA, FORNECIDO E INSTALADO EM PRUMADA DE ESGOTO SANITÁRIO OU VENTILAÇÃO. AF_08/2022 | E42: UN | F42: 37.52973 | G42: 55.27 | H42: 70.15 | I42: 2632.71 | J42: 0.0017883128
A43: 4.9 | B43: 89808 | C43: SINAPI | D43: CURVA LONGA 90 GRAUS, PVC, SERIE NORMAL, ESGOTO PREDIAL, DN 75 MM, JUNTA ELÁSTICA, FORNECIDO E INSTALADO EM PRUMADA DE ESGOTO SANITÁRIO OU VENTILAÇÃO. AF_08/2022 | E43: UN | F43: 62.398828 | G43: 59.93 | H43: 76.06 | I43: 4746.05 | J43: 0.0032238347
A44: 4.10 | B44: 89806 | C44: SINAPI | D44: JOELHO 45 GRAUS, PVC, SERIE NORMAL, ESGOTO PREDIAL, DN 75 MM, JUNTA ELÁSTICA, FORNECIDO E INSTALADO EM PRUMADA DE ESGOTO SANITÁRIO OU VENTILAÇÃO. AF_08/2022 | E44: UN | F44: 62.398828 | G44: 22.5 | H44: 28.55 | I44: 1781.48 | J44: 0.0012101004
A45: 4.11 | B45: 91794 | C45: SINAPI | D45: (COMPOSIÇÃO REPRESENTATIVA) DO SERVIÇO DE INST. TUBO PVC, SÉRIE N, ESGOTO PREDIAL, DN 75 MM, (INST. EM RAMAL DE DESCARGA, RAMAL DE ESG. SANITÁRIO, PRUMADA DE ESG. SANITÁRIO OU VENTILAÇÃO), INCL. CONEXÕES, CORTES E FIXAÇÕES, P/ PRÉDIOS. AF_10/2015 | E45: M | F45: 172.95327 | G45: 50.34 | H45: 63.89 | I45: 11049.98 | J45: 0.0075058858
A46: 4.12 | B46: 91792 | C46: SINAPI | D46: (COMPOSIÇÃO REPRESENTATIVA) DO SERVIÇO DE INSTALAÇÃO DE TUBO DE PVC, SÉRIE NORMAL, ESGOTO PREDIAL, DN 40 MM (INSTALADO EM RAMAL DE DESCARGA OU RAMAL DE ESGOTO SANITÁRIO), INCLUSIVE CONEXÕES, CORTES E FIXAÇÕES, PARA PRÉDIOS. AF_10/2015 | E46: M | F46: 95.180821 | G46: 88.12 | H46: 111.85 | I46: 10645.97 | J46: 0.0072314552
... A91: 4.57 | B91: 89711 | C91: SINAPI | D91: TUBO PVC, SERIE NORMAL, ESGOTO PREDIAL, DN 40 MM, FORNECIDO E INSTALADO EM RAMAL DE DESCARGA OU RAMAL DE ESGOTO SANITÁRIO. AF_08/2022 | E91: M | F91: 61.042332 | G91: 23.63 | H91: 29.99 | I91: 1830.65 | J91: 0.0012435
A92: 5 | D92: MANUTENÇÃO DE INSTALAÇÕES ELÉTRICAS / ELETRIFICAÇÃO E ILUMINAÇÃO EXTERNA | I92: 175907.71 | J92: 0.11948829
A93: 5.1 | B93: 91854 | C93: SINAPI | D93: ELETRODUTO FLEXÍVEL CORRUGADO, PVC, DN 25 MM (3/4"), PARA CIRCUITOS TERMINAIS, INSTALADO EM PAREDE - FORNECIMENTO E INSTALAÇÃO. AF_03/2023 | E93: M | F93: 830.4018 | G93: 10.62 | H93: 13.47 | I93: 11185.51 | J93: 0.0075979469
A94: 5.2 | B94: 91857 | C94: SINAPI | D94: ELETRODUTO FLEXÍVEL CORRUGADO REFORÇADO, PVC, DN 32 MM (1"), PARA CIRCUITOS TERMINAIS, INSTALADO EM PAREDE - FORNECIMENTO E INSTALAÇÃO. AF_03/2023 | E94: M | F94: 536.49427 | G94: 16.86 | H94: 21.4 | I94: 11480.97 | J94: 0.0077986431
A95: 5.3 | B95: 91926 | C95: SINAPI | D95: CABO DE COBRE FLEXÍVEL ISOLADO, 2,5 MM², ANTI-CHAMA 450/750 V, PARA CIRCUITOS TERMINAIS - FORNECIMENTO E INSTALAÇÃO. AF_03/2023 | E95: M | F95: 2219.9061 | G95: 4.97 | H95: 6.3 | I95: 13985.4 | J95: 0.0094998195
A96: 5.4 | B96: 91930 | C96: SINAPI | D96: CABO DE COBRE FLEXÍVEL ISOLADO, 6 MM², ANTI-CHAMA 450/750 V, PARA CIRCUITOS TERMINAIS - FORNECIMENTO E INSTALAÇÃO. AF_03/2023 | E96: M | F96: 1112.3269 | G96: 10.72 | H96: 13.6 | I96: 15127.64 | J96: 0.010275705
A97: 5.5 | B97: 91924 | C97: SINAPI | D97: CABO DE COBRE FLEXÍVEL ISOLADO, 1,5 MM², ANTI-CHAMA 450/750 V, PARA CIRCUITOS TERMINAIS - FORNECIMENTO E INSTALAÇÃO. AF_03/2023 | E97: M | F97: 1684.3162 | G97: 3.42 | H97: 4.34 | I97: 7309.93 | J97: 0.0049653936
A98: 5.6 | B98: 91933 | C98: SINAPI | D98: CABO DE COBRE FLEXÍVEL ISOLADO, 10 MM², ANTI-CHAMA 0,6/1,0 KV, PARA CIRCUITOS TERMINAIS - FORNECIMENTO E INSTALAÇÃO. AF_03/2023 | E98: M | F98: 298.42918 | G98: 18.51 | H98: 23.49 | I98: 7010.1 | J98: 0.004761729
A99: 5.7 | B99: 91939 | C99: SINAPI | D99: CAIXA RETANGULAR 4" X 2" ALTA (2,00 M DO PISO), PVC, INSTALADA EM PAREDE - FORNECIMENTO E INSTALAÇÃO. AF_03/2023 | E99: UN | F99: 186.51824 | G99: 35.82 | H99: 45.46 | I99: 8479.11 | J99: 0.0057595789
A100: 5.8 | B100: 91940 | C100: SINAPI | D100: CAIXA RETANGULAR 4" X 2" MÉDIA (1,30 M DO PISO), PVC, INSTALADA EM PAREDE - FORNECIMENTO E INSTALAÇÃO. AF_03/2023 | E100: UN | F100: 111.91094 | G100: 20.62 | H100: 26.17 | I100: 2928.7 | J100: 0.001989369
A101: 5.9 | B101: 91941 | C101: SINAPI | D101: CAIXA RETANGULAR 4" X 2" BAIXA (0,30 M DO PISO), PVC, INSTALADA EM PAREDE - FORNECIMENTO E INSTALAÇÃO. AF_03/2023 | E101: UN | F101: 236.03035 | G101: 13.17 | H101: 16.71 | I101: 3944.06 | J101: 0.0026790695
A102: 5.10 | B102: 91942 | C102: SINAPI | D102: CAIXA RETANGULAR 4" X 4" ALTA (2,00 M DO PISO), PVC, INSTALADA EM PAREDE - FORNECIMENTO E INSTALAÇÃO. AF_03/2023 | E102: UN | F102: 37.52973 | G102: 40.01 | H102: 50.78 | I102: 1905.75 | J102: 0.0012945129
A103: 5.11 | B103: 91937 | C103: SINAPI | D103: CAIXA OCTOGONAL 3" X 3", PVC, INSTALADA EM LAJE - FORNECIMENTO E INSTALAÇÃO. AF_03/2023 | E103: UN | F103: 186.51824 | G103: 18.19 | H103: 23.08 | I103: 4304.84 | J103: 0.0029241354
A104: 5.12 | B104: 91939 | C104: SINAPI | D104: CAIXA RETANGULAR 4" X 2" ALTA (2,00 M DO PISO), PVC, INSTALADA EM PAREDE - FORNECIMENTO E INSTALAÇÃO. AF_03/2023 | E104: UN | F104: 87.267926 | G104: 35.82 | H104: 45.46 | I104: 3967.19 | J104: 0.0026947809
... A133: 5.41 | B133: 96973 | C133: SINAPI | D133: CORDOALHA DE COBRE NU 35 MM², NÃO ENTERRADA, COM ISOLADOR - FORNECIMENTO E INSTALAÇÃO. AF_08/2023 | E133: M | F133: 20.347444 | G133: 78.1 | H133: 99.13 | I133: 2017.04 | J133: 0.0013701085
A134: 6 | D134: MANUTENÇÃO DE PAREDES / PAINÉIS | I134: 102515.05 | J134: 0.069635082
A135: 6.1 | B135: 87495 | C135: SINAPI | D135: ALVENARIA DE VEDAÇÃO DE BLOCOS CERÂMICOS FURADOS NA HORIZONTAL DE 9X19X19CM (ESPESSURA 9CM) DE PAREDES COM ÁREA LÍQUIDA MENOR QUE 6M² SEM VÃOS E ARGAMASSA DE ASSENTAMENTO COM PREPARO EM BETONEIRA. AF_06/2014 | E135: m² | F135: 149.21459 | G135: 108.09 | H135: 137.19 | I135: 20470.74 | J135: 0.013905096
A136: 6.2 | B136: 87879 | C136: SINAPI | D136: CHAPISCO APLICADO EM ALVENARIAS E ESTRUTURAS DE CONCRETO INTERNAS, COM COLHER DE PEDREIRO. ARGAMASSA TRAÇO 1:3 COM PREPARO EM BETONEIRA 400L. AF_10/2022 | E136: m² | F136: 298.42918 | G136: 5.04 | H136: 6.39 | I136: 1906.96 | J136: 0.0012953348
A137: 6.3 | B137: 87797 | C137: SINAPI | D137: EMBOÇO OU MASSA ÚNICA EM ARGAMASSA TRAÇO 1:2:8, PREPARO MECÂNICO COM BETONEIRA 400 L, APLICADA MANUALMENTE EM PANOS CEGOS DE FACHADA (SEM PRESENÇA DE VÃOS), ESPESSURA DE 35 MM. AF_08/2022 | E137: m² | F137: 180 | G137: 63.87 | H137: 81.07 | I137: 14592.6 | J137: 0.0099122704
A138: 6.4 | B138: 104611 | C138: SINAPI | D138: REVESTIMENTO CERÂMICO PARA PAREDES INTERNAS COM PLACAS TIPO ESMALTADA DE DIMENSÕES 60X60 CM APLICADAS NA ALTURA INTEIRA DAS PAREDES. AF_02/2023_PE | E138: m² | F138: 72.911674 | G138: 94.27 | H138: 119.65 | I138: 8723.88 | J138: 0.005925843
A139: 6.5 | B139: 88787 | C139: SINAPI | D139: REVESTIMENTO CERÂMICO PARA PAREDES EXTERNAS EM PASTILHAS DE PORCELANA 2,5 X 2,5 CM (PLACAS DE 30 X 30 CM), ALINHADAS A PRUMO, APLICADO EM PANOS SEM VÃOS. AF_10/2014 | E139: m² | F139: 50.879 | G139: 360.86 | H139: 458.03 | I139: 23304.1 | J139: 0.015829704
A140: 6.6 | B140: 105938 | C140: SINAPI | D140: REVESTIMENTO NÃO ADERIDO DE PAREDES EXTERNAS COM PLACAS DE PORCELANATO DE ÁREA MAIOR DO QUE 2500 CM2 E MENOR OU IGUAL A 6400 CM2, FIXADAS COM INSERTE METÁLICO. AF_03/2025 | E140: m² | F140: 121.51946 | G140: 140.96 | H140: 178.92 | I140: 21742.26 | J140: 0.014768798
A141: 6.7 | B141: 102253 | C141: SINAPI | D141: DIVISORIA SANITÁRIA, EM GRANITO CINZA POLIDO, ESP = 3CM, ASSENTADO COM ARGAMASSA COLANTE AC III-E. AF_10/2025 | E141: m² | F141: 12.660632 | G141: 732.7 | H141: 930.01 | I141: 11774.51 | J141: 0.0079980351
A142: 7 | D142: MANUTENÇÃO DE IMPERMEABILIZAÇÕES E PROTEÇÕES DIVERSAS | I142: 44991.95 | J142: 0.030561543
A143: 7.1 | B143: 98555 | C143: SINAPI | D143: IMPERMEABILIZAÇÃO DE SUPERFÍCIE COM ARGAMASSA POLIMÉRICA / MEMBRANA ACRÍLICA, 3 DEMÃOS. AF_09/2023 | E143: m² | F143: 215.90899 | G143: 33.07 | H143: 41.97 | I143: 9061.7 | J143: 0.006155313
A144: 7.2 | B144: 98547 | C144: SINAPI | D144: IMPERMEABILIZAÇÃO DE SUPERFÍCIE COM MANTA ASFÁLTICA, DUAS CAMADAS, INCLUSIVE APLICAÇÃO DE PRIMER ASFÁLTICO, E=3MM E E=4MM. AF_09/2023 | E144: m² | F144: 59.428 | G144: 194 | H144: 246.24 | I144: 14633.55 | J144: 0.0099400863
A145: 7.3 | B145: 98575 | C145: SINAPI | D145: TRATAMENTO DE JUNTA DE DILATAÇÃO, COM TARUGO DE POLIETILENO E SELANTE PU, INCLUSO PREENCHIMENTO COM ESPUMA EXPANSIVA PU. AF_09/2023 | E145: M | F145: 103.99805 | G145: 72.28 | H145: 91.74 | I145: 9540.78 | J145: 0.0064807362
A146: 7.4 | B146: 98565 | C146: SINAPI | D146: PROTEÇÃO MECÂNICA DE SUPERFICIE HORIZONTAL COM ARGAMASSA DE CIMENTO E AREIA, TRAÇO 1:3, E=3CM. AF_09/2023 | E146: m² | F146: 154.86666 | G146: 59.81 | H146: 75.91 | I146: 11755.92 | J146: 0.0079854075
A147: 8 | D147: MANUTENÇÃO DE ESQUADRIAS / FERRAGENS / VIDROS | I147: 217732.8 | J147: 0.14789869
A148: 8.1 | B148: 90841 | C148: SINAPI | D148: KIT DE PORTA DE MADEIRA PARA PINTURA, SEMI-OCA (LEVE OU MÉDIA), PADRÃO MÉDIO, 60X210CM, ESPESSURA DE 3,5CM, ITENS INCLUSOS: DOBRADIÇAS, MONTAGEM E INSTALAÇÃO DO BATENTE, FECHADURA COM EXECUÇÃO DO FURO - FORNECIMENTO E INSTALAÇÃO. AF_10/2025 | E148: UN | F148: 14.695376 | G148: 1111.7 | H148: 1411.08 | I148: 20736.35 | J148: 0.014085516
A149: 8.2 | B149: 90842 | C149: SINAPI | D149: KIT DE PORTA DE MADEIRA PARA PINTURA, SEMI-OCA (LEVE OU MÉDIA), PADRÃO MÉDIO, 70X210CM, ESPESSURA DE 3,5CM, ITENS INCLUSOS: DOBRADIÇAS, MONTAGEM E INSTALAÇÃO DO BATENTE, FECHADURA COM EXECUÇÃO DO FURO - FORNECIMENTO E INSTALAÇÃO. AF_10/2025 | E149: UN | F149: 14.695376 | G149: 1123.71 | H149: 1426.32 | I149: 20960.3 | J149: 0.014237638
A150: 8.3 | B150: 90843 | C150: SINAPI | D150: KIT DE PORTA DE MADEIRA PARA PINTURA, SEMI-OCA (LEVE OU MÉDIA), PADRÃO MÉDIO, 80X210CM, ESPESSURA DE 3,5CM, ITENS INCLUSOS: DOBRADIÇAS, MONTAGEM E INSTALAÇÃO DO BATENTE, FECHADURA COM EXECUÇÃO DO FURO - FORNECIMENTO E INSTALAÇÃO. AF_10/2025 | E150: UN | F150: 14.695376 | G150: 1177.86 | H150: 1495.05 | I150: 21970.32 | J150: 0.014923711
A151: 8.4 | B151: 90844 | C151: SINAPI | D151: KIT DE PORTA DE MADEIRA PARA PINTURA, SEMI-OCA (LEVE OU MÉDIA), PADRÃO MÉDIO, 90X210CM, ESPESSURA DE 3,5CM, ITENS INCLUSOS: DOBRADIÇAS, MONTAGEM E INSTALAÇÃO DO BATENTE, FECHADURA COM EXECUÇÃO DO FURO - FORNECIMENTO E INSTALAÇÃO. AF_10/2025 | E151: UN | F151: 14.695376 | G151: 1256.25 | H151: 1594.55 | I151: 23432.51 | J151: 0.015916929
A152: 8.5 | B152: 90831 | C152: SINAPI | D152: FECHADURA DE EMBUTIR SEM CILINDRO, PARA PORTA DE BANHEIRO, COMPLETA, ACABAMENTO PADRÃO MÉDIO, INCLUSO EXECUÇÃO DE FURO - FORNECIMENTO E INSTALAÇÃO. AF_10/2025 | E152: UN | F152: 16.051872 | G152: 167.16 | H152: 212.17 | I152: 3405.72 | J152: 0.0023133929
A153: 8.6 | B153: 91307 | C153: SINAPI | D153: FECHADURA DE EMBUTIR SEM CILINDRO, PARA PORTAS INTERNAS, COMPLETA, ACABAMENTO PADRÃO POPULAR, COM EXECUÇÃO DE FURO - FORNECIMENTO E INSTALAÇÃO. AF_10/2025 | E153: UN | F153: 19.895279 | G153: 106.44 | H153: 135.1 | I153: 2687.85 | J153: 0.0018257676
A154: 8.7 | B154: 90830 | C154: SINAPI | D154: FECHADURA DE EMBUTIR COM CILINDRO, EXTERNA, COMPLETA, ACABAMENTO PADRÃO MÉDIO, INCLUSO EXECUÇÃO DE FURO - FORNECIMENTO E INSTALAÇÃO. AF_10/2025 | E154: UN | F154: 10.85197 | G154: 193.83 | H154: 246.02 | I154: 2669.8 | J154: 0.0018135068
A155: 8.8 | B155: 100701 | C155: SINAPI | D155: PORTA DE FERRO, DE ABRIR, TIPO GRADE COM CHAPA, COM GUARNIÇÕES. AF_10/2025 | E155: m² | F155: 19.895279 | G155: 571.26 | H155: 725.1 | I155: 14426.06 | J155: 0.0097991453
A156: 8.9 | B156: 105813 | C156: SINAPI | D156: JANELA DE AÇO GALVANIZADO TIPO MAXIMO-AR, PINT. ANTICORROSIVA, COM BATENTE/REQUADRO DE 6 A 14 CM, SEM VIDRO, COM GRADE, 1 FL, 60 X 80 CM (A X L), FIXAÇÃO COM ARGAMASSA, EXCLUSIVE CONTRAMARCO - FORNECIMENTO E INSTALAÇÃO. AF_11/2024 | E156: m² | F156: 10.173722 | G156: 932.69 | H156: 1183.86 | I156: 12044.26 | J156: 0.0081812673
A157: 8.10 | B157: 94559 | C157: SINAPI | D157: JANELA DE AÇO TIPO BASCULANTE, PARA VIDROS (VIDROS NÃO INCLUSOS), BATENTE/ REQUADRO INCLUSO (6,5 A 14 CM), DIMENSÕES 60X60 CM, COM COM PINTURA ANTICORROSIVA, SEM ACABAMENTO, COM FERRAGENS, FIXAÇÃO COM ARGAMASSA, EXCLUSIVE CONTRAMARCO - FORNECIMENTO E INSTALAÇÃO. AF_11/2024 | E157: m² | F157: 14.017128 | G157: 664.41 | H157: 843.33 | I157: 11821.06 | J157: 0.0080296549
A158: 8.11 | B158: 94805 | C158: SINAPI | D158: PORTA DE ALUMÍNIO DE ABRIR PARA VIDRO SEM GUARNIÇÃO, 87X210CM, FIXAÇÃO COM PARAFUSOS, INCLUSIVE VIDROS - FORNECIMENTO E INSTALAÇÃO. AF_10/2025 | E158: UN | F158: 14.017128 | G158: 902.84 | H158: 1145.97 | I158: 16063.2 | J158: 0.0109112
A159: 8.12 | B159: 91338 | C159: SINAPI | D159: PORTA DE ALUMÍNIO DE ABRIR COM LAMBRI, COM GUARNIÇÃO, FIXAÇÃO COM PARAFUSOS - FORNECIMENTO E INSTALAÇÃO. AF_12/2019 | E159: m² | F159: 10.173722 | G159: 874.09 | H159: 1109.48 | I159: 11287.54 | J159: 0.0076672525
... A167: 8.20 | B167: 102188 | C167: SINAPI | D167: MOLA HIDRAULICA DE PISO PARA PORTA DE VIDRO TEMPERADO. AF_11/2025 | E167: UN | F167: 7.9128949 | G167: 919.28 | H167: 1166.84 | I167: 9233.08 | J167: 0.0062717258
A168: 9 | D168: MANUTENÇÃO DE PISOS / SOLEIRAS / RODAPÉS | I168: 60837.82 | J168: 0.041325118
A169: 9.1 | B169: 87765 | C169: SINAPI | D169: CONTRAPISO EM ARGAMASSA TRAÇO 1:4 (CIMENTO E AREIA), PREPARO MECÂNICO COM BETONEIRA 400 L, APLICADO EM ÁREAS MOLHADAS SOBRE IMPERMEABILIZAÇÃO, ACABAMENTO NÃO REFORÇADO, ESPESSURA 4CM. AF_07/2021 | E169: m² | F169: 174.3 | G169: 65.77 | H169: 83.48 | I169: 14550.56 | J169: 0.009883714
A170: 9.2 | B170: 87263 | C170: SINAPI | D170: REVESTIMENTO CERÂMICO PARA PISO COM PLACAS TIPO PORCELANATO DE DIMENSÕES 60X60 CM APLICADA EM AMBIENTES DE ÁREA MAIOR QUE 10 M². AF_02/2023_PE | E170: m² | F170: 132.54099 | G170: 110.52 | H170: 140.28 | I170: 18592.84 | J170: 0.012629501
A171: 9.3 | B171: 104605 | C171: SINAPI | D171: REVESTIMENTO CERÂMICO PARA PISO COM PLACAS TIPO ESMALTADA DE DIMENSÕES 45X45 CM APLICADA EM DIAGONAL EM AMBIENTES DE ÁREA MENOR QUE 5 M². AF_02/2023_PE | E171: m² | F171: 141.0834 | G171: 105.54 | H171: 133.96 | I171: 18899.53 | J171: 0.012837825
A172: 9.4 | B172: 88650 | C172: SINAPI | D172: RODAPÉ CERÂMICO DE 7CM DE ALTURA COM PLACAS TIPO ESMALTADA DE DIMENSÕES 60X60CM. AF_02/2023 | E172: M | F172: 184.25741 | G172: 11.84 | H172: 15.02 | I172: 2767.54 | J172: 0.0018798984
A173: 9.5 | B173: 98689 | C173: SINAPI | D173: SOLEIRA EM GRANITO, LARGURA 15 CM, ESPESSURA 2,0 CM. AF_09/2020 | E173: M | F173: 19.895279 | G173: 108.35 | H173: 137.52 | I173: 2735.99 | J173: 0.0018584675
A174: 9.6 | B174: 101965 | C174: SINAPI | D174: PEITORIL LINEAR EM GRANITO OU MÁRMORE, L = 15CM, ASSENTADO COM ARGAMASSA 1:6 COM ADITIVO. AF_11/2020 | E174: M | F174: 23.738685 | G174: 109.24 | H174: 138.65 | I174: 3291.36 | J174: 0.0022357119
A175: 10 | D175: MANUTENÇÃO DE PINTURAS | I175: 124363.42 | J175: 0.084475957
A176: 10.1 | B176: 88495 | C176: SINAPI | D176: EMASSAMENTO COM MASSA LÁTEX, APLICAÇÃO EM PAREDE, UMA DEMÃO, LIXAMENTO MANUAL. AF_04/2023 | E176: m² | F176: 589.6984 | G176: 13.06 | H176: 16.57 | I176: 9771.3 | J176: 0.0066373208
A177: 10.2 | B177: 88489 | C177: SINAPI | D177: PINTURA LÁTEX ACRÍLICA PREMIUM, APLICAÇÃO MANUAL EM PAREDES, DUAS DEMÃOS. AF_04/2023 | E177: m² | F177: 1990.3898 | G177: 14.38 | H177: 18.25 | I177: 36324.61 | J177: 0.024674106
A178: 10.3 | B178: 88485 | C178: SINAPI | D178: FUNDO SELADOR ACRÍLICO, APLICAÇÃO MANUAL EM PAREDE, UMA DEMÃO. AF_04/2023 | E178: m² | F178: 1990.3898 | G178: 4.87 | H178: 6.18 | I178: 12300.6 | J178: 0.0083553906
A179: 10.4 | B179: 88496 | C179: SINAPI | D179: EMASSAMENTO COM MASSA LÁTEX, APLICAÇÃO EM TETO, DUAS DEMÃOS, LIXAMENTO MANUAL. AF_04/2023 | E179: m² | F179: 165.0538 | G179: 35.99 | H179: 45.68 | I179: 7539.65 | J179: 0.0051214348
...

Sheet Arantina
D1: Obra | E1: Bancos | G1: B.D.I. | I1: Encargos Sociais
D2: MANUTENÇÃO PREDIAL CIMAG - ARANTINA - MG | E2: SINAPI - 02/2026 - Minas Gerais | G2: 26,93% | I2: Desonerado: embutido nos preços unitário dos insumos de mão de obra, de acordo com as bases.
A3: Orçamento Sintético
A4: Item | B4: Código | C4: Banco | D4: Descrição | E4: Und | F4: Quant. | G4: Valor Unit | H4: Valor Unit com BDI | I4: Total | J4: Peso (%)
A5: 1 | D5: ACOMPANHAMENTO DE MANUTENÇÕES | I5: 131641.98 | J5: 0.14544361
A6: 1.1 | B6: 90778 | C6: SINAPI | D6: ENGENHEIRO CIVIL DE OBRA PLENO COM ENCARGOS COMPLEMENTARES | E6: H | F6: 384.5432 | G6: 136.69 | H6: 173.5 | I6: 66718.24 | J6: 0.073713125
A7: 1.2 | B7: 90776 | C7: SINAPI | D7: ENCARREGADO GERAL COM ENCARGOS COMPLEMENTARES | E7: H | F7: 821.092 | G7: 62.3 | H7: 79.07 | I7: 64923.74 | J7: 0.071730486
A8: 2 | D8: SERVIÇOS PRELIMINARES (DEMOLIÇÕES / RETIRADAS) | I8: 43735.47 | J8: 0.048320792
A9: 2.1 | B9: 97633 | C9: SINAPI | D9: DEMOLIÇÃO DE REVESTIMENTO CERÂMICO, DE FORMA MANUAL, SEM REAPROVEITAMENTO. AF_09/2023 | E9: m² | F9: 129.17785 | G9: 25.97 | H9: 32.96 | I9: 4257.7 | J9: 0.0047040865
A10: 2.2 | B10: 97663 | C10: SINAPI | D10: REMOÇÃO DE LOUÇAS, DE FORMA MANUAL, SEM REAPROVEITAMENTO. AF_09/2023 | E10: UN | F10: 40.607161 | G10: 14.14 | H10: 17.94 | I10: 728.49 | J10: 0.00080486648
A11: 2.3 | B11: 97664 | C11: SINAPI | D11: REMOÇÃO DE ACESSÓRIOS, DE FORMA MANUAL, SEM REAPROVEITAMENTO. AF_09/2023 | E11: UN | F11: 48.625603 | G11: 1.76 | H11: 2.23 | I11: 108.43 | J11: 0.00011979804
A12: 2.4 | B12: 90447 | C12: SINAPI | D12: RASGO LINEAR MANUAL EM ALVENARIA, PARA ELETRODUTOS, DIÂMETROS MENORES OU IGUAIS A 40 MM. AF_09/2023 | E12: M | F12: 104.01907 | G12: 9.28 | H12: 11.77 | I12: 1224.3 | J12: 0.0013526583
A13: 2.5 | B13: 97660 | C13: SINAPI | D13: REMOÇÃO DE INTERRUPTORES/TOMADAS ELÉTRICAS, DE FORMA MANUAL, SEM REAPROVEITAMENTO. AF_09/2023 | E13: UN | F13: 306.53992 | G13: 0.74 | H13: 0.93 | I13: 285.08 | J13: 0.00031496841
A14: 2.6 | B14: 97661 | C14: SINAPI | D14: REMOÇÃO DE CABOS ELÉTRICOS, COM SEÇÃO DE 10 MM², FORMA MANUAL, SEM REAPROVEITAMENTO. AF_09/2023 | E14: M | F14: 4621.7864 | G14: 0.8 | H14: 1.01 | I14: 4668 | J14: 0.0051574033
A15: 2.7 | B15: 97665 | C15: SINAPI | D15: REMOÇÃO DE LUMINÁRIAS, DE FORMA MANUAL, SEM REAPROVEITAMENTO. AF_09/2023 | E15: UN | F15: 60.69005 | G15: 2.01 | H15: 2.55 | I15: 154.75 | J15: 0.00017097433
A16: 2.8 | B16: 97644 | C16: SINAPI | D16: REMOÇÃO DE PORTAS, DE FORMA MANUAL, SEM REAPROVEITAMENTO. AF_09/2023 | E16: m² | F16: 60.248668 | G16: 10.69 | H16: 13.56 | I16: 816.97 | J16: 0.00090262291
A17: 2.9 | B17: 97645 | C17: SINAPI | D17: REMOÇÃO DE JANELAS, DE FORMA MANUAL, SEM REAPROVEITAMENTO. AF_09/2023 | E17: m² | F17: 131.97327 | G17: 27.59 | H17: 35.01 | I17: 4620.38 | J17: 0.0051047907
A18: 2.10 | B18: 90441 | C18: SINAPI | D18: FURO MECANIZADO EM CONCRETO, COM MARTELO DEMOLIDOR, PARA INSTALAÇÕES HIDRÁULICAS, DIÂMETROS MAIORES QUE 75 MM E MENORES OU IGUAIS A 150 MM. AF_09/2023 | E18: UN | F18: 32.515154 | G18: 10.13 | H18: 12.85 | I18: 417.81 | J18: 0.00046161411
A19: 2.11 | B19: 97631 | C19: SINAPI | D19: DEMOLIÇÃO DE ARGAMASSAS, DE FORMA MANUAL, SEM REAPROVEITAMENTO. AF_09/2023 | E19: m² | F19: 65.692381 | G19: 12.77 | H19: 16.2 | I19: 1064.21 | J19: 0.0011757841
A20: 2.12 | B20: 97643 | C20: SINAPI | D20: REMOÇÃO DE PISO DE MADEIRA (ASSOALHO E BARROTE), DE FORMA MANUAL, SEM REAPROVEITAMENTO. AF_09/2023 | E20: m² | F20: 30.528934 | G20: 28.2 | H20: 35.79 | I20: 1092.63 | J20: 0.0012071837
... A28: 2.20 | B28: 97062 | C28: SINAPI | D28: COLOCAÇÃO DE TELA EM ANDAIME FACHADEIRO. AF_03/2024 | E28: m² | F28: 161.25162 | G28: 6.4 | H28: 8.12 | I28: 1309.36 | J28: 0.0014466362
A29: 3 | D29: CARGA, DESCARGA E / OU TRANSPORTE DE MATERIAIS PROVENIENTES DAS MANUTENÇÕES | I29: 8480.26 | J29: 0.0093693489
A30: 3.1 | B30: 100984 | C30: SINAPI | D30: CARGA, MANOBRA E DESCARGA DE ENTULHO EM CAMINHÃO BASCULANTE 18 M³ - CARGA COM ESCAVADEIRA HIDRÁULICA (CAÇAMBA DE 0,80 M³ / 111 HP) E DESCARGA LIVRE (UNIDADE: M3). AF_07/2020 | E30: m³ | F30: 172.35974 | G30: 9.03 | H30: 11.46 | I30: 1975.24 | J30: 0.0021823285
A31: 3.2 | B31: 95875 | C31: SINAPI | D31: TRANSPORTE COM CAMINHÃO BASCULANTE DE 10 M³, EM VIA URBANA PAVIMENTADA, DMT ATÉ 30 KM (UNIDADE: M3XKM). AF_07/2020 | E31: M3XKM | F31: 409.79393 | G31: 2.61 | H31: 3.31 | I31: 1356.41 | J31: 0.001498619
A32: 3.3 | B32: 93358 | C32: SINAPI | D32: ESCAVAÇÃO MANUAL DE VALA. AF_09/2024 | E32: m³ | F32: 33.103663 | G32: 93.27 | H32: 118.38 | I32: 3918.81 | J32: 0.0043296666
A33: 3.4 | B33: 93382 | C33: SINAPI | D33: REATERRO MANUAL DE VALAS, COM COMPACTADOR DE SOLOS DE PERCUSSÃO. AF_08/2023 | E33: m³ | F33: 33.103663 | G33: 29.27 | H33: 37.15 | I33: 1229.8 | J33: 0.0013587349
A34: 4 | D34: MANUTENÇÃO DE INSTALAÇÕES HIDROSSANITÁRIAS | I34: 86633.88 | J34: 0.095716764
A35: 4.1 | B35: 89714 | C35: SINAPI | D35: TUBO PVC, SERIE NORMAL, ESGOTO PREDIAL, DN 100 MM, FORNECIDO E INSTALADO EM RAMAL DE DESCARGA OU RAMAL DE ESGOTO SANITÁRIO. AF_08/2022 | E35: M | F35: 42.299126 | G35: 41.27 | H35: 52.38 | I35: 2215.62 | J35: 0.0024479104
A36: 4.2 | B36: 89713 | C36: SINAPI | D36: TUBO PVC, SERIE NORMAL, ESGOTO PREDIAL, DN 75 MM, FORNECIDO E INSTALADO EM RAMAL DE DESCARGA OU RAMAL DE ESGOTO SANITÁRIO. AF_08/2022 | E36: M | F36: 98.648917 | G36: 36.84 | H36: 46.76 | I36: 4612.82 | J36: 0.0050964381
A37: 4.3 | B37: 89712 | C37: SINAPI | D37: TUBO PVC, SERIE NORMAL, ESGOTO PREDIAL, DN 50 MM, FORNECIDO E INSTALADO EM RAMAL DE DESCARGA OU RAMAL DE ESGOTO SANITÁRIO. AF_08/2022 | E37: M | F37: 98.648917 | G37: 29.64 | H37: 37.62 | I37: 3711.17 | J37: 0.0041002571
A38: 4.4 | B38: 89744 | C38: SINAPI | D38: JOELHO 90 GRAUS, PVC, SERIE NORMAL, ESGOTO PREDIAL, DN 100 MM, JUNTA ELÁSTICA, FORNECIDO E INSTALADO EM RAMAL DE DESCARGA OU RAMAL DE ESGOTO SANITÁRIO. AF_08/2022 | E38: UN | F38: 72.901623 | G38: 28.94 | H38: 36.73 | I38: 2677.67 | J38: 0.0029584027
A39: 4.5 | B39: 89731 | C39: SINAPI | D39: JOELHO 90 GRAUS, PVC, SERIE NORMAL, ESGOTO PREDIAL, DN 50 MM, JUNTA ELÁSTICA, FORNECIDO E INSTALADO EM RAMAL DE DESCARGA OU RAMAL DE ESGOTO SANITÁRIO. AF_08/2022 | E39: UN | F39: 20.30358 | G39: 15.85 | H39: 20.11 | I39: 408.3 | J39: 0.00045110706
A40: 4.6 | B40: 89746 | C40: SINAPI | D40: JOELHO 45 GRAUS, PVC, SERIE NORMAL, ESGOTO PREDIAL, DN 100 MM, JUNTA ELÁSTICA, FORNECIDO E INSTALADO EM RAMAL DE DESCARGA OU RAMAL DE ESGOTO SANITÁRIO. AF_08/2022 | E40: UN | F40: 12.211574 | G40: 29.79 | H40: 37.81 | I40: 461.71 | J40: 0.00051011668
A41: 4.7 | B41: 89795 | C41: SINAPI | D41: JUNÇÃO SIMPLES, PVC, SERIE NORMAL, ESGOTO PREDIAL, DN 75 X 75 MM, JUNTA ELÁSTICA, FORNECIDO E INSTALADO EM RAMAL DE DESCARGA OU RAMAL DE ESGOTO SANITÁRIO. AF_08/2022 | E41: UN | F41: 20.30358 | G41: 42.5 | H41: 53.94 | I41: 1095.17 | J41: 0.00120999
A42: 4.8 | B42: 89834 | C42: SINAPI | D42: JUNÇÃO SIMPLES, PVC, SERIE NORMAL, ESGOTO PREDIAL, DN 100 X 100 MM, JUNTA ELÁSTICA, FORNECIDO E INSTALADO EM PRUMADA DE ESGOTO SANITÁRIO OU VENTILAÇÃO. AF_08/2022 | E42: UN | F42: 12.211574 | G42: 55.27 | H42: 70.15 | I42: 856.64 | J42: 0.000946452
A43: 4.9 | B43: 89808 | C43: SINAPI | D43: CURVA LONGA 90 GRAUS, PVC, SERIE NORMAL, ESGOTO PREDIAL, DN 75 MM, JUNTA ELÁSTICA, FORNECIDO E INSTALADO EM PRUMADA DE ESGOTO SANITÁRIO OU VENTILAÇÃO. AF_08/2022 | E43: UN | F43: 20.30358 | G43: 59.93 | H43: 76.06 | I43: 1544.29 | J43: 0.0017061967
A44: 4.10 | B44: 89806 | C44: SINAPI | D44: JOELHO 45 GRAUS, PVC, SERIE NORMAL, ESGOTO PREDIAL, DN 75 MM, JUNTA ELÁSTICA, FORNECIDO E INSTALADO EM PRUMADA DE ESGOTO SANITÁRIO OU VENTILAÇÃO. AF_08/2022 | E44: UN | F44: 20.30358 | G44: 22.5 | H44: 28.55 | I44: 579.66 | J44: 0.00064043282
A45: 4.11 | B45: 91794 | C45: SINAPI | D45: (COMPOSIÇÃO REPRESENTATIVA) DO SERVIÇO DE INST. TUBO PVC, SÉRIE N, ESGOTO PREDIAL, DN 75 MM, (INST. EM RAMAL DE DESCARGA, RAMAL DE ESG. SANITÁRIO, PRUMADA DE ESG. SANITÁRIO OU VENTILAÇÃO), INCL. CONEXÕES, CORTES E FIXAÇÕES, P/ PRÉDIOS. AF_10/2015 | E45: M | F45: 56.276228 | G45: 50.34 | H45: 63.89 | I45: 3595.48 | J45: 0.0039724379
A46: 4.12 | B46: 91792 | C46: SINAPI | D46: (COMPOSIÇÃO REPRESENTATIVA) DO SERVIÇO DE INSTALAÇÃO DE TUBO DE PVC, SÉRIE NORMAL, ESGOTO PREDIAL, DN 40 MM (INSTALADO EM RAMAL DE DESCARGA OU RAMAL DE ESGOTO SANITÁRIO), INCLUSIVE CONEXÕES, CORTES E FIXAÇÕES, PARA PRÉDIOS. AF_10/2015 | E46: M | F46: 30.970316 | G46: 88.12 | H46: 111.85 | I46: 3464.02 | J46: 0.0038271954
... A91: 4.57 | B91: 89711 | C91: SINAPI | D91: TUBO PVC, SERIE NORMAL, ESGOTO PREDIAL, DN 40 MM, FORNECIDO E INSTALADO EM RAMAL DE DESCARGA OU RAMAL DE ESGOTO SANITÁRIO. AF_08/2022 | E91: M | F91: 19.862198 | G91: 23.63 | H91: 29.99 | I91: 595.66 | J91: 0.00065811029
A92: 5 | D92: MANUTENÇÃO DE INSTALAÇÕES ELÉTRICAS / ELETRIFICAÇÃO E ILUMINAÇÃO EXTERNA | I92: 57237.43 | J92: 0.063238327
A93: 5.1 | B93: 91854 | C93: SINAPI | D93: ELETRODUTO FLEXÍVEL CORRUGADO, PVC, DN 25 MM (3/4"), PARA CIRCUITOS TERMINAIS, INSTALADO EM PAREDE - FORNECIMENTO E INSTALAÇÃO. AF_03/2023 | E93: M | F93: 270.19946 | G93: 10.62 | H93: 13.47 | I93: 3639.58 | J93: 0.0040211615
A94: 5.2 | B94: 91857 | C94: SINAPI | D94: ELETRODUTO FLEXÍVEL CORRUGADO REFORÇADO, PVC, DN 32 MM (1"), PARA CIRCUITOS TERMINAIS, INSTALADO EM PAREDE - FORNECIMENTO E INSTALAÇÃO. AF_03/2023 | E94: M | F94: 174.56665 | G94: 16.86 | H94: 21.4 | I94: 3735.72 | J94: 0.004127381
A95: 5.3 | B95: 91926 | C95: SINAPI | D95: CABO DE COBRE FLEXÍVEL ISOLADO, 2,5 MM², ANTI-CHAMA 450/750 V, PARA CIRCUITOS TERMINAIS - FORNECIMENTO E INSTALAÇÃO. AF_03/2023 | E95: M | F95: 722.32194 | G95: 4.97 | H95: 6.3 | I95: 4550.62 | J95: 0.0050277169
A96: 5.4 | B96: 91930 | C96: SINAPI | D96: CABO DE COBRE FLEXÍVEL ISOLADO, 6 MM², ANTI-CHAMA 450/750 V, PARA CIRCUITOS TERMINAIS - FORNECIMENTO E INSTALAÇÃO. AF_03/2023 | E96: M | F96: 361.93339 | G96: 10.72 | H96: 13.6 | I96: 4922.29 | J96: 0.0054383536
A97: 5.5 | B97: 91924 | C97: SINAPI | D97: CABO DE COBRE FLEXÍVEL ISOLADO, 1,5 MM², ANTI-CHAMA 450/750 V, PARA CIRCUITOS TERMINAIS - FORNECIMENTO E INSTALAÇÃO. AF_03/2023 | E97: M | F97: 548.04954 | G97: 3.42 | H97: 4.34 | I97: 2378.53 | J97: 0.0026279003
A98: 5.6 | B98: 91933 | C98: SINAPI | D98: CABO DE COBRE FLEXÍVEL ISOLADO, 10 MM², ANTI-CHAMA 0,6/1,0 KV, PARA CIRCUITOS TERMINAIS - FORNECIMENTO E INSTALAÇÃO. AF_03/2023 | E98: M | F98: 97.10408 | G98: 18.51 | H98: 23.49 | I98: 2280.97 | J98: 0.0025201119
A99: 5.7 | B99: 91939 | C99: SINAPI | D99: CAIXA RETANGULAR 4" X 2" ALTA (2,00 M DO PISO), PVC, INSTALADA EM PAREDE - FORNECIMENTO E INSTALAÇÃO. AF_03/2023 | E99: UN | F99: 60.69005 | G99: 35.82 | H99: 45.46 | I99: 2758.96 | J99: 0.0030482154
A100: 5.8 | B100: 91940 | C100: SINAPI | D100: CAIXA RETANGULAR 4" X 2" MÉDIA (1,30 M DO PISO), PVC, INSTALADA EM PAREDE - FORNECIMENTO E INSTALAÇÃO. AF_03/2023 | E100: UN | F100: 36.41403 | G100: 20.62 | H100: 26.17 | I100: 952.95 | J100: 0.0010528594
A101: 5.9 | B101: 91941 | C101: SINAPI | D101: CAIXA RETANGULAR 4" X 2" BAIXA (0,30 M DO PISO), PVC, INSTALADA EM PAREDE - FORNECIMENTO E INSTALAÇÃO. AF_03/2023 | E101: UN | F101: 76.800499 | G101: 13.17 | H101: 16.71 | I101: 1283.33 | J101: 0.0014178771
A102: 5.10 | B102: 91942 | C102: SINAPI | D102: CAIXA RETANGULAR 4" X 4" ALTA (2,00 M DO PISO), PVC, INSTALADA EM PAREDE - FORNECIMENTO E INSTALAÇÃO. AF_03/2023 | E102: UN | F102: 12.211574 | G102: 40.01 | H102: 50.78 | I102: 620.1 | J102: 0.00068511263
A103: 5.11 | B103: 91937 | C103: SINAPI | D103: CAIXA OCTOGONAL 3" X 3", PVC, INSTALADA EM LAJE - FORNECIMENTO E INSTALAÇÃO. AF_03/2023 | E103: UN | F103: 60.69005 | G103: 18.19 | H103: 23.08 | I103: 1400.72 | J103: 0.0015475745
A104: 5.12 | B104: 91939 | C104: SINAPI | D104: CAIXA RETANGULAR 4" X 2" ALTA (2,00 M DO PISO), PVC, INSTALADA EM PAREDE - FORNECIMENTO E INSTALAÇÃO. AF_03/2023 | E104: UN | F104: 28.395587 | G104: 35.82 | H104: 45.46 | I104: 1290.86 | J104: 0.0014261966
... A133: 5.41 | B133: 96973 | C133: SINAPI | D133: CORDOALHA DE COBRE NU 35 MM², NÃO ENTERRADA, COM ISOLADOR - FORNECIMENTO E INSTALAÇÃO. AF_08/2023 | E133: M | F133: 6.6207327 | G133: 78.1 | H133: 99.13 | I133: 656.31 | J133: 0.00072511897
A134: 6 | D134: MANUTENÇÃO DE PAREDES / PAINÉIS | I134: 74039.85 | J134: 0.081802349
A135: 6.1 | B135: 87495 | C135: SINAPI | D135: ALVENARIA DE VEDAÇÃO DE BLOCOS CERÂMICOS FURADOS NA HORIZONTAL DE 9X19X19CM (ESPESSURA 9CM) DE PAREDES COM ÁREA LÍQUIDA MENOR QUE 6M² SEM VÃOS E ARGAMASSA DE ASSENTAMENTO COM PREPARO EM BETONEIRA. AF_06/2014 | E135: m² | F135: 48.55204 | G135: 108.09 | H135: 137.19 | I135: 6660.85 | J135: 0.007359188
A136: 6.2 | B136: 87879 | C136: SINAPI | D136: CHAPISCO APLICADO EM ALVENARIAS E ESTRUTURAS DE CONCRETO INTERNAS, COM COLHER DE PEDREIRO. ARGAMASSA TRAÇO 1:3 COM PREPARO EM BETONEIRA 400L. AF_10/2022 | E136: m² | F136: 97.10408 | G136: 5.04 | H136: 6.39 | I136: 620.49 | J136: 0.00068554352
A137: 6.3 | B137: 87797 | C137: SINAPI | D137: EMBOÇO OU MASSA ÚNICA EM ARGAMASSA TRAÇO 1:2:8, PREPARO MECÂNICO COM BETONEIRA 400 L, APLICADA MANUALMENTE EM PANOS CEGOS DE FACHADA (SEM PRESENÇA DE VÃOS), ESPESSURA DE 35 MM. AF_08/2022 | E137: m² | F137: 250.4517 | G137: 63.87 | H137: 81.07 | I137: 20304.11 | J137: 0.022432837
A138: 6.4 | B138: 104611 | C138: SINAPI | D138: REVESTIMENTO CERÂMICO PARA PAREDES INTERNAS COM PLACAS TIPO ESMALTADA DE DIMENSÕES 60X60 CM APLICADAS NA ALTURA INTEIRA DAS PAREDES. AF_02/2023_PE | E138: m² | F138: 23.724292 | G138: 94.27 | H138: 119.65 | I138: 2838.61 | J138: 0.003136216
A139: 6.5 | B139: 88787 | C139: SINAPI | D139: REVESTIMENTO CERÂMICO PARA PAREDES EXTERNAS EM PASTILHAS DE PORCELANA 2,5 X 2,5 CM (PLACAS DE 30 X 30 CM), ALINHADAS A PRUMO, APLICADO EM PANOS SEM VÃOS. AF_10/2014 | E139: m² | F139: 71.4145 | G139: 360.86 | H139: 458.03 | I139: 32709.98 | J139: 0.036139365
A140: 6.6 | B140: 105938 | C140: SINAPI | D140: REVESTIMENTO NÃO ADERIDO DE PAREDES EXTERNAS COM PLACAS DE PORCELANATO DE ÁREA MAIOR DO QUE 2500 CM2 E MENOR OU IGUAL A 6400 CM2, FIXADAS COM INSERTE METÁLICO. AF_03/2025 | E140: m² | F140: 39.540487 | G140: 140.96 | H140: 178.92 | I140: 7074.58 | J140: 0.0078162944
A141: 6.7 | B141: 102253 | C141: SINAPI | D141: DIVISORIA SANITÁRIA, EM GRANITO CINZA POLIDO, ESP = 3CM, ASSENTADO COM ARGAMASSA COLANTE AC III-E. AF_10/2025 | E141: m² | F141: 4.119567 | G141: 732.7 | H141: 930.01 | I141: 3831.23 | J141: 0.0042329045
A142: 7 | D142: MANUTENÇÃO DE IMPERMEABILIZAÇÕES E PROTEÇÕES DIVERSAS | I142: 30417.99 | J142: 0.033607078
A143: 7.1 | B143: 98555 | C143: SINAPI | D143: IMPERMEABILIZAÇÃO DE SUPERFÍCIE COM ARGAMASSA POLIMÉRICA / MEMBRANA ACRÍLICA, 3 DEMÃOS. AF_09/2023 | E143: m² | F143: 70.25333 | G143: 33.07 | H143: 41.97 | I143: 2948.53 | J143: 0.0032576603
A144: 7.2 | B144: 98547 | C144: SINAPI | D144: IMPERMEABILIZAÇÃO DE SUPERFÍCIE COM MANTA ASFÁLTICA, DUAS CAMADAS, INCLUSIVE APLICAÇÃO DE PRIMER ASFÁLTICO, E=3MM E E=4MM. AF_09/2023 | E144: m² | F144: 83.414 | G144: 194 | H144: 246.24 | I144: 20539.86 | J144: 0.022693304
A145: 7.3 | B145: 98575 | C145: SINAPI | D145: TRATAMENTO DE JUNTA DE DILATAÇÃO, COM TARUGO DE POLIETILENO E SELANTE PU, INCLUSO PREENCHIMENTO COM ESPUMA EXPANSIVA PU. AF_09/2023 | E145: M | F145: 33.8393 | G145: 72.28 | H145: 91.74 | I145: 3104.41 | J145: 0.0034298831
A146: 7.4 | B146: 98565 | C146: SINAPI | D146: PROTEÇÃO MECÂNICA DE SUPERFICIE HORIZONTAL COM ARGAMASSA DE CIMENTO E AREIA, TRAÇO 1:3, E=3CM. AF_09/2023 | E146: m² | F146: 50.391132 | G146: 59.81 | H146: 75.91 | I146: 3825.19 | J146: 0.0042262312
A147: 8 | D147: MANUTENÇÃO DE ESQUADRIAS / FERRAGENS / VIDROS | I147: 70846.71 | J147: 0.078274433
A148: 8.1 | B148: 90841 | C148: SINAPI | D148: KIT DE PORTA DE MADEIRA PARA PINTURA, SEMI-OCA (LEVE OU MÉDIA), PADRÃO MÉDIO, 60X210CM, ESPESSURA DE 3,5CM, ITENS INCLUSOS: DOBRADIÇAS, MONTAGEM E INSTALAÇÃO DO BATENTE, FECHADURA COM EXECUÇÃO DO FURO - FORNECIMENTO E INSTALAÇÃO. AF_10/2025 | E148: UN | F148: 4.7816403 | G148: 1111.7 | H148: 1411.08 | I148: 6747.27 | J148: 0.0074546685
A149: 8.2 | B149: 90842 | C149: SINAPI | D149: KIT DE PORTA DE MADEIRA PARA PINTURA, SEMI-OCA (LEVE OU MÉDIA), PADRÃO MÉDIO, 70X210CM, ESPESSURA DE 3,5CM, ITENS INCLUSOS: DOBRADIÇAS, MONTAGEM E INSTALAÇÃO DO BATENTE, FECHADURA COM EXECUÇÃO DO FURO - FORNECIMENTO E INSTALAÇÃO. AF_10/2025 | E149: UN | F149: 4.7816403 | G149: 1123.71 | H149: 1426.32 | I149: 6820.14 | J149: 0.0075351783
A150: 8.3 | B150: 90843 | C150: SINAPI | D150: KIT DE PORTA DE MADEIRA PARA PINTURA, SEMI-OCA (LEVE OU MÉDIA), PADRÃO MÉDIO, 80X210CM, ESPESSURA DE 3,5CM, ITENS INCLUSOS: DOBRADIÇAS, MONTAGEM E INSTALAÇÃO DO BATENTE, FECHADURA COM EXECUÇÃO DO FURO - FORNECIMENTO E INSTALAÇÃO. AF_10/2025 | E150: UN | F150: 4.7816403 | G150: 1177.86 | H150: 1495.05 | I150: 7148.79 | J150: 0.0078982847
A151: 8.4 | B151: 90844 | C151: SINAPI | D151: KIT DE PORTA DE MADEIRA PARA PINTURA, SEMI-OCA (LEVE OU MÉDIA), PADRÃO MÉDIO, 90X210CM, ESPESSURA DE 3,5CM, ITENS INCLUSOS: DOBRADIÇAS, MONTAGEM E INSTALAÇÃO DO BATENTE, FECHADURA COM EXECUÇÃO DO FURO - FORNECIMENTO E INSTALAÇÃO. AF_10/2025 | E151: UN | F151: 4.7816403 | G151: 1256.25 | H151: 1594.55 | I151: 7624.56 | J151: 0.0084239355
A152: 8.5 | B152: 90831 | C152: SINAPI | D152: FECHADURA DE EMBUTIR SEM CILINDRO, PARA PORTA DE BANHEIRO, COMPLETA, ACABAMENTO PADRÃO MÉDIO, INCLUSO EXECUÇÃO DE FURO - FORNECIMENTO E INSTALAÇÃO. AF_10/2025 | E152: UN | F152: 5.2230225 | G152: 167.16 | H152: 212.17 | I152: 1108.16 | J152: 0.0012243419
A153: 8.6 | B153: 91307 | C153: SINAPI | D153: FECHADURA DE EMBUTIR SEM CILINDRO, PARA PORTAS INTERNAS, COMPLETA, ACABAMENTO PADRÃO POPULAR, COM EXECUÇÃO DE FURO - FORNECIMENTO E INSTALAÇÃO. AF_10/2025 | E153: UN | F153: 6.4736053 | G153: 106.44 | H153: 135.1 | I153: 874.58 | J153: 0.00096627287
A154: 8.7 | B154: 90830 | C154: SINAPI | D154: FECHADURA DE EMBUTIR COM CILINDRO, EXTERNA, COMPLETA, ACABAMENTO PADRÃO MÉDIO, INCLUSO EXECUÇÃO DE FURO - FORNECIMENTO E INSTALAÇÃO. AF_10/2025 | E154: UN | F154: 3.5310574 | G154: 193.83 | H154: 246.02 | I154: 868.71 | J154: 0.00095978745
A155: 8.8 | B155: 100701 | C155: SINAPI | D155: PORTA DE FERRO, DE ABRIR, TIPO GRADE COM CHAPA, COM GUARNIÇÕES. AF_10/2025 | E155: m² | F155: 6.4736053 | G155: 571.26 | H155: 725.1 | I155: 4694.01 | J155: 0.0051861402
A156: 8.9 | B156: 105813 | C156: SINAPI | D156: JANELA DE AÇO GALVANIZADO TIPO MAXIMO-AR, PINT. ANTICORROSIVA, COM BATENTE/REQUADRO DE 6 A 14 CM, SEM VIDRO, COM GRADE, 1 FL, 60 X 80 CM (A X L), FIXAÇÃO COM ARGAMASSA, EXCLUSIVE CONTRAMARCO - FORNECIMENTO E INSTALAÇÃO. AF_11/2024 | E156: m² | F156: 3.3103663 | G156: 932.69 | H156: 1183.86 | I156: 3919.01 | J156: 0.0043298875
A157: 8.10 | B157: 94559 | C157: SINAPI | D157: JANELA DE AÇO TIPO BASCULANTE, PARA VIDROS (VIDROS NÃO INCLUSOS), BATENTE/ REQUADRO INCLUSO (6,5 A 14 CM), DIMENSÕES 60X60 CM, COM COM PINTURA ANTICORROSIVA, SEM ACABAMENTO, COM FERRAGENS, FIXAÇÃO COM ARGAMASSA, EXCLUSIVE CONTRAMARCO - FORNECIMENTO E INSTALAÇÃO. AF_11/2024 | E157: m² | F157: 4.5609492 | G157: 664.41 | H157: 843.33 | I157: 3846.38 | J157: 0.0042496428
A158: 8.11 | B158: 94805 | C158: SINAPI | D158: PORTA DE ALUMÍNIO DE ABRIR PARA VIDRO SEM GUARNIÇÃO, 87X210CM, FIXAÇÃO COM PARAFUSOS, INCLUSIVE VIDROS - FORNECIMENTO E INSTALAÇÃO. AF_10/2025 | E158: UN | F158: 4.5609492 | G158: 902.84 | H158: 1145.97 | I158: 5226.71 | J158: 0.0057746896
A159: 8.12 | B159: 91338 | C159: SINAPI | D159: PORTA DE ALUMÍNIO DE ABRIR COM LAMBRI, COM GUARNIÇÃO, FIXAÇÃO COM PARAFUSOS - FORNECIMENTO E INSTALAÇÃO. AF_12/2019 | E159: m² | F159: 3.3103663 | G159: 874.09 | H159: 1109.48 | I159: 3672.78 | J159: 0.0040578422
... A167: 8.20 | B167: 102188 | C167: SINAPI | D167: MOLA HIDRAULICA DE PISO PARA PORTA DE VIDRO TEMPERADO. AF_11/2025 | E167: UN | F167: 2.5747294 | G167: 919.28 | H167: 1166.84 | I167: 3004.29 | J167: 0.0033192663
A168: 9 | D168: MANUTENÇÃO DE PISOS / SOLEIRAS / RODAPÉS | I168: 55862.55 | J168: 0.061719301
A169: 9.1 | B169: 87765 | C169: SINAPI | D169: CONTRAPISO EM ARGAMASSA TRAÇO 1:4 (CIMENTO E AREIA), PREPARO MECÂNICO COM BETONEIRA 400 L, APLICADO EM ÁREAS MOLHADAS SOBRE IMPERMEABILIZAÇÃO, ACABAMENTO NÃO REFORÇADO, ESPESSURA 4CM. AF_07/2021 | E169: m² | F169: 244.65 | G169: 65.77 | H169: 83.48 | I169: 20423.38 | J169: 0.022564612
A170: 9.2 | B170: 87263 | C170: SINAPI | D170: REVESTIMENTO CERÂMICO PARA PISO COM PLACAS TIPO PORCELANATO DE DIMENSÕES 60X60 CM APLICADA EM AMBIENTES DE ÁREA MAIOR QUE 10 M². AF_02/2023_PE | E170: m² | F170: 43.126717 | G170: 110.52 | H170: 140.28 | I170: 6049.81 | J170: 0.0066840852
A171: 9.3 | B171: 104605 | C171: SINAPI | D171: REVESTIMENTO CERÂMICO PARA PISO COM PLACAS TIPO ESMALTADA DE DIMENSÕES 45X45 CM APLICADA EM DIAGONAL EM AMBIENTES DE ÁREA MENOR QUE 5 M². AF_02/2023_PE | E171: m² | F171: 198.0267 | G171: 105.54 | H171: 133.96 | I171: 26527.65 | J171: 0.029308867
A172: 9.4 | B172: 88650 | C172: SINAPI | D172: RODAPÉ CERÂMICO DE 7CM DE ALTURA COM PLACAS TIPO ESMALTADA DE DIMENSÕES 60X60CM. AF_02/2023 | E172: M | F172: 59.954413 | G172: 11.84 | H172: 15.02 | I172: 900.51 | J172: 0.00099492143
A173: 9.5 | B173: 98689 | C173: SINAPI | D173: SOLEIRA EM GRANITO, LARGURA 15 CM, ESPESSURA 2,0 CM. AF_09/2020 | E173: M | F173: 6.4736053 | G173: 108.35 | H173: 137.52 | I173: 890.25 | J173: 0.00098358575
A174: 9.6 | B174: 101965 | C174: SINAPI | D174: PEITORIL LINEAR EM GRANITO OU MÁRMORE, L = 15CM, ASSENTADO COM ARGAMASSA 1:6 COM ADITIVO. AF_11/2020 | E174: M | F174: 7.7241881 | G174: 109.24 | H174: 138.65 | I174: 1070.95 | J174: 0.0011832307
A175: 10 | D175: MANUTENÇÃO DE PINTURAS | I175: 140282.02 | J175: 0.15498949
A176: 10.1 | B176: 88495 | C176: SINAPI | D176: EMASSAMENTO COM MASSA LÁTEX, APLICAÇÃO EM PAREDE, UMA DEMÃO, LIXAMENTO MANUAL. AF_04/2023 | E176: m² | F176: 827.7092 | G176: 13.06 | H176: 16.57 | I176: 13715.14 | J176: 0.015153065
A177: 10.2 | B177: 88489 | C177: SINAPI | D177: PINTURA LÁTEX ACRÍLICA PREMIUM, APLICAÇÃO MANUAL EM PAREDES, DUAS DEMÃOS. AF_04/2023 | E177: m² | F177: 2793.7399 | G177: 14.38 | H177: 18.25 | I177: 50985.75 | J177: 0.056331207
A178: 10.3 | B178: 88485 | C178: SINAPI | D178: FUNDO SELADOR ACRÍLICO, APLICAÇÃO MANUAL EM PAREDE, UMA DEMÃO. AF_04/2023 | E178: m² | F178: 2793.7399 | G178: 4.87 | H178: 6.18 | I178: 17265.31 | J178: 0.019075443
A179: 10.4 | B179: 88496 | C179: SINAPI | D179: EMASSAMENTO COM MASSA LÁTEX, APLICAÇÃO EM TETO, DUAS DEMÃOS, LIXAMENTO MANUAL. AF_04/2023 | E179: m² | F179: 231.6719 | G179: 35.99 | H179: 45.68 | I179: 10582.77 | J179: 0.011692291
A180: 10.5 | B180: 88488 | C180: SINAPI | D180: PINTURA LÁTEX ACRÍLICA PREMIUM, APLICAÇÃO MANUAL EM TETO, DUAS DEMÃOS. AF_04/2023 | E180: m² | F180: 732.0161 | G180: 17.01 | H180: 21.59 | I180: 15804.22 | J180: 0.017461169
A181: 10.6 | B181: 88484 | C181: SINAPI | D181: FUNDO SELADOR ACRÍLICO, APLICAÇÃO MANUAL EM TETO, UMA DEMÃO. AF_04/2023 | E181: m² | F181: 732.0161 | G181: 5.94 | H181: 7.53 | I181: 5512.08 | J181: 0.0060899785
A182: 10.7 | B182: 102193 | C182: SINAPI | D182: LIXAMENTO DE MADEIRA PARA APLICAÇÃO DE FUNDO OU PINTURA. AF_01/2021 | E182: m² | F182: 71.062531 | G182: 2.33 | H182: 2.95 | I182: 209.63 | J182: 0.00023160807
A183: 10.8 | B183: 102195 | C183: SINAPI | D183: PINTURA FUNDO NIVELADOR ALQUÍDICO INCOLOR EM MADEIRA. AF_01/2021 | E183: m² | F183: 71.062531 | G183: 20.59 | H183: 26.13 | I183: 1856.86 | J183: 0.0020515372
A184: 10.9 | B184: 102215 | C184: SINAPI | D184: PINTURA VERNIZ (INCOLOR) POLIURETÂNICO (RESINA ALQUÍDICA MODIFICADA) EM MADEIRA, 2 DEMÃOS. AF_01/2021 | E184: m² | F184: 71.062531 | G184: 22.11 | H184: 28.06 | I184: 1994.01 | J184: 0.0022030663
A185: 10.10 | B185: 102234 | C185: SINAPI | D185: PINTURA IMUNIZANTE PARA MADEIRA, 2 DEMÃOS. AF_01/2021 | E185: m² | F185: 344.2808 | G185: 23.33 | H185: 29.61 | I185: 10194.15 | J185: 0.011262927
A186: 10.11 | B186: 100717 | C186: SINAPI | D186: LIXAMENTO MANUAL EM SUPERFÍCIES METÁLICAS EM OBRA. AF_01/2020 | E186: m² | F186: 91.954621 | G186: 11.16 | H186: 14.16 | I186: 1302.07 | J186: 0.0014385819
...

Sheet Aiuruoca
D1: Obra | E1: Bancos | G1: B.D.I. | I1: Encargos Sociais
D2: MANUTENÇÃO PREDIAL CIMAG - AURUOCA - MG | E2: SINAPI - 02/2026 - Minas Gerais | G2: 26,93% | I2: Desonerado: embutido nos preços unitário dos insumos de mão de obra, de acordo com as bases.
A3: Orçamento Sintético
A4: Item | B4: Código | C4: Banco | D4: Descrição | E4: Und | F4: Quant. | G4: Valor Unit | H4: Valor Unit com BDI | I4: Total | J4: Peso (%)
A5: 1 | D5: ACOMPANHAMENTO DE MANUTENÇÕES | I5: 43503.99 | J5: 0.045765867
A6: 1.1 | B6: 90778 | C6: SINAPI | D6: ENGENHEIRO CIVIL DE OBRA PLENO COM ENCARGOS COMPLEMENTARES | E6: H | F6: 127.0808 | G6: 136.69 | H6: 173.5 | I6: 22048.51 | J6: 0.023194865
A7: 1.2 | B7: 90776 | C7: SINAPI | D7: ENCARREGADO GERAL COM ENCARGOS COMPLEMENTARES | E7: H | F7: 271.348 | G7: 62.3 | H7: 79.07 | I7: 21455.48 | J7: 0.022571002
A8: 2 | D8: SERVIÇOS PRELIMINARES (DEMOLIÇÕES / RETIRADAS) | I8: 95701.35 | J8: 0.10067709
A9: 2.1 | B9: 97633 | C9: SINAPI | D9: DEMOLIÇÃO DE REVESTIMENTO CERÂMICO, DE FORMA MANUAL, SEM REAPROVEITAMENTO. AF_09/2023 | E9: m² | F9: 282.66488 | G9: 25.97 | H9: 32.96 | I9: 9316.63 | J9: 0.0098010241
A10: 2.2 | B10: 97663 | C10: SINAPI | D10: REMOÇÃO DE LOUÇAS, DE FORMA MANUAL, SEM REAPROVEITAMENTO. AF_09/2023 | E10: UN | F10: 88.855931 | G10: 14.14 | H10: 17.94 | I10: 1594.07 | J10: 0.0016769495
A11: 2.3 | B11: 97664 | C11: SINAPI | D11: REMOÇÃO DE ACESSÓRIOS, DE FORMA MANUAL, SEM REAPROVEITAMENTO. AF_09/2023 | E11: UN | F11: 106.40176 | G11: 1.76 | H11: 2.23 | I11: 237.27 | J11: 0.00024960624
A12: 2.4 | B12: 90447 | C12: SINAPI | D12: RASGO LINEAR MANUAL EM ALVENARIA, PARA ELETRODUTOS, DIÂMETROS MENORES OU IGUAIS A 40 MM. AF_09/2023 | E12: M | F12: 227.61284 | G12: 9.28 | H12: 11.77 | I12: 2679 | J12: 0.0028182877
A13: 2.5 | B13: 97660 | C13: SINAPI | D13: REMOÇÃO DE INTERRUPTORES/TOMADAS ELÉTRICAS, DE FORMA MANUAL, SEM REAPROVEITAMENTO. AF_09/2023 | E13: UN | F13: 670.7657 | G13: 0.74 | H13: 0.93 | I13: 623.81 | J13: 0.00065624339
A14: 2.6 | B14: 97661 | C14: SINAPI | D14: REMOÇÃO DE CABOS ELÉTRICOS, COM SEÇÃO DE 10 MM², FORMA MANUAL, SEM REAPROVEITAMENTO. AF_09/2023 | E14: M | F14: 10113.318 | G14: 0.8 | H14: 1.01 | I14: 10214.45 | J14: 0.010745524
A15: 2.7 | B15: 97665 | C15: SINAPI | D15: REMOÇÃO DE LUMINÁRIAS, DE FORMA MANUAL, SEM REAPROVEITAMENTO. AF_09/2023 | E15: UN | F15: 132.80098 | G15: 2.01 | H15: 2.55 | I15: 338.64 | J15: 0.00035624671
A16: 2.8 | B16: 97644 | C16: SINAPI | D16: REMOÇÃO DE PORTAS, DE FORMA MANUAL, SEM REAPROVEITAMENTO. AF_09/2023 | E16: m² | F16: 131.83516 | G16: 10.69 | H16: 13.56 | I16: 1787.68 | J16: 0.0018806258
A17: 2.9 | B17: 97645 | C17: SINAPI | D17: REMOÇÃO DE JANELAS, DE FORMA MANUAL, SEM REAPROVEITAMENTO. AF_09/2023 | E17: m² | F17: 288.78178 | G17: 27.59 | H17: 35.01 | I17: 10110.24 | J17: 0.010635896
A18: 2.10 | B18: 90441 | C18: SINAPI | D18: FURO MECANIZADO EM CONCRETO, COM MARTELO DEMOLIDOR, PARA INSTALAÇÕES HIDRÁULICAS, DIÂMETROS MAIORES QUE 75 MM E MENORES OU IGUAIS A 150 MM. AF_09/2023 | E18: UN | F18: 71.149133 | G18: 10.13 | H18: 12.85 | I18: 914.26 | J18: 0.00096179458
A19: 2.11 | B19: 97631 | C19: SINAPI | D19: DEMOLIÇÃO DE ARGAMASSAS, DE FORMA MANUAL, SEM REAPROVEITAMENTO. AF_09/2023 | E19: m² | F19: 143.747 | G19: 12.77 | H19: 16.2 | I19: 2328.7 | J19: 0.0024497747
A20: 2.12 | B20: 97643 | C20: SINAPI | D20: REMOÇÃO DE PISO DE MADEIRA (ASSOALHO E BARROTE), DE FORMA MANUAL, SEM REAPROVEITAMENTO. AF_09/2023 | E20: m² | F20: 66.802919 | G20: 28.2 | H20: 35.79 | I20: 2390.87 | J20: 0.0025151771
... A28: 2.20 | B28: 97062 | C28: SINAPI | D28: COLOCAÇÃO DE TELA EM ANDAIME FACHADEIRO. AF_03/2024 | E28: m² | F28: 352.84819 | G28: 6.4 | H28: 8.12 | I28: 2865.12 | J28: 0.0030140845
A29: 3 | D29: CARGA, DESCARGA E / OU TRANSPORTE DE MATERIAIS PROVENIENTES DAS MANUTENÇÕES | I29: 18556.39 | J29: 0.019521181
A30: 3.1 | B30: 100984 | C30: SINAPI | D30: CARGA, MANOBRA E DESCARGA DE ENTULHO EM CAMINHÃO BASCULANTE 18 M³ - CARGA COM ESCAVADEIRA HIDRÁULICA (CAÇAMBA DE 0,80 M³ / 111 HP) E DESCARGA LIVRE (UNIDADE: M3). AF_07/2020 | E30: m³ | F30: 377.15479 | G30: 9.03 | H30: 11.46 | I30: 4322.19 | J30: 0.0045469111
A31: 3.2 | B31: 95875 | C31: SINAPI | D31: TRANSPORTE COM CAMINHÃO BASCULANTE DE 10 M³, EM VIA URBANA PAVIMENTADA, DMT ATÉ 30 KM (UNIDADE: M3XKM). AF_07/2020 | E31: M3XKM | F31: 896.70444 | G31: 2.61 | H31: 3.31 | I31: 2968.09 | J31: 0.0031224082
A32: 3.3 | B32: 93358 | C32: SINAPI | D32: ESCAVAÇÃO MANUAL DE VALA. AF_09/2024 | E32: m³ | F32: 72.4369 | G32: 93.27 | H32: 118.38 | I32: 8575.08 | J32: 0.0090209191
A33: 3.4 | B33: 93382 | C33: SINAPI | D33: REATERRO MANUAL DE VALAS, COM COMPACTADOR DE SOLOS DE PERCUSSÃO. AF_08/2023 | E33: m³ | F33: 72.4369 | G33: 29.27 | H33: 37.15 | I33: 2691.03 | J33: 0.0028309431
A34: 4 | D34: MANUTENÇÃO DE INSTALAÇÕES HIDROSSANITÁRIAS | I34: 189571.24 | J34: 0.19942751
A35: 4.1 | B35: 89714 | C35: SINAPI | D35: TUBO PVC, SERIE NORMAL, ESGOTO PREDIAL, DN 100 MM, FORNECIDO E INSTALADO EM RAMAL DE DESCARGA OU RAMAL DE ESGOTO SANITÁRIO. AF_08/2022 | E35: M | F35: 92.558262 | G35: 41.27 | H35: 52.38 | I35: 4848.2 | J35: 0.0051002696
A36: 4.2 | B36: 89713 | C36: SINAPI | D36: TUBO PVC, SERIE NORMAL, ESGOTO PREDIAL, DN 75 MM, FORNECIDO E INSTALADO EM RAMAL DE DESCARGA OU RAMAL DE ESGOTO SANITÁRIO. AF_08/2022 | E36: M | F36: 215.86196 | G36: 36.84 | H36: 46.76 | I36: 10093.7 | J36: 0.010618496
A37: 4.3 | B37: 89712 | C37: SINAPI | D37: TUBO PVC, SERIE NORMAL, ESGOTO PREDIAL, DN 50 MM, FORNECIDO E INSTALADO EM RAMAL DE DESCARGA OU RAMAL DE ESGOTO SANITÁRIO. AF_08/2022 | E37: M | F37: 215.86196 | G37: 29.64 | H37: 37.62 | I37: 8120.72 | J37: 0.0085429358
A38: 4.4 | B38: 89744 | C38: SINAPI | D38: JOELHO 90 GRAUS, PVC, SERIE NORMAL, ESGOTO PREDIAL, DN 100 MM, JUNTA ELÁSTICA, FORNECIDO E INSTALADO EM RAMAL DE DESCARGA OU RAMAL DE ESGOTO SANITÁRIO. AF_08/2022 | E38: UN | F38: 159.52215 | G38: 28.94 | H38: 36.73 | I38: 5859.24 | J38: 0.006163876
A39: 4.5 | B39: 89731 | C39: SINAPI | D39: JOELHO 90 GRAUS, PVC, SERIE NORMAL, ESGOTO PREDIAL, DN 50 MM, JUNTA ELÁSTICA, FORNECIDO E INSTALADO EM RAMAL DE DESCARGA OU RAMAL DE ESGOTO SANITÁRIO. AF_08/2022 | E39: UN | F39: 44.427966 | G39: 15.85 | H39: 20.11 | I39: 893.44 | J39: 0.0009398921
A40: 4.6 | B40: 89746 | C40: SINAPI | D40: JOELHO 45 GRAUS, PVC, SERIE NORMAL, ESGOTO PREDIAL, DN 100 MM, JUNTA ELÁSTICA, FORNECIDO E INSTALADO EM RAMAL DE DESCARGA OU RAMAL DE ESGOTO SANITÁRIO. AF_08/2022 | E40: UN | F40: 26.721168 | G40: 29.79 | H40: 37.81 | I40: 1010.32 | J40: 0.001062849
A41: 4.7 | B41: 89795 | C41: SINAPI | D41: JUNÇÃO SIMPLES, PVC, SERIE NORMAL, ESGOTO PREDIAL, DN 75 X 75 MM, JUNTA ELÁSTICA, FORNECIDO E INSTALADO EM RAMAL DE DESCARGA OU RAMAL DE ESGOTO SANITÁRIO. AF_08/2022 | E41: UN | F41: 44.427966 | G41: 42.5 | H41: 53.94 | I41: 2396.44 | J41: 0.0025210367
A42: 4.8 | B42: 89834 | C42: SINAPI | D42: JUNÇÃO SIMPLES, PVC, SERIE NORMAL, ESGOTO PREDIAL, DN 100 X 100 MM, JUNTA ELÁSTICA, FORNECIDO E INSTALADO EM PRUMADA DE ESGOTO SANITÁRIO OU VENTILAÇÃO. AF_08/2022 | E42: UN | F42: 26.721168 | G42: 55.27 | H42: 70.15 | I42: 1874.48 | J42: 0.0019719387
A43: 4.9 | B43: 89808 | C43: SINAPI | D43: CURVA LONGA 90 GRAUS, PVC, SERIE NORMAL, ESGOTO PREDIAL, DN 75 MM, JUNTA ELÁSTICA, FORNECIDO E INSTALADO EM PRUMADA DE ESGOTO SANITÁRIO OU VENTILAÇÃO. AF_08/2022 | E43: UN | F43: 44.427966 | G43: 59.93 | H43: 76.06 | I43: 3379.19 | J43: 0.0035548822
A44: 4.10 | B44: 89806 | C44: SINAPI | D44: JOELHO 45 GRAUS, PVC, SERIE NORMAL, ESGOTO PREDIAL, DN 75 MM, JUNTA ELÁSTICA, FORNECIDO E INSTALADO EM PRUMADA DE ESGOTO SANITÁRIO OU VENTILAÇÃO. AF_08/2022 | E44: UN | F44: 44.427966 | G44: 22.5 | H44: 28.55 | I44: 1268.41 | J44: 0.0013343577
A45: 4.11 | B45: 91794 | C45: SINAPI | D45: (COMPOSIÇÃO REPRESENTATIVA) DO SERVIÇO DE INST. TUBO PVC, SÉRIE N, ESGOTO PREDIAL, DN 75 MM, (INST. EM RAMAL DE DESCARGA, RAMAL DE ESG. SANITÁRIO, PRUMADA DE ESG. SANITÁRIO OU VENTILAÇÃO), INCL. CONEXÕES, CORTES E FIXAÇÕES, P/ PRÉDIOS. AF_10/2015 | E45: M | F45: 123.14273 | G45: 50.34 | H45: 63.89 | I45: 7867.58 | J45: 0.0082766344
A46: 4.12 | B46: 91792 | C46: SINAPI | D46: (COMPOSIÇÃO REPRESENTATIVA) DO SERVIÇO DE INSTALAÇÃO DE TUBO DE PVC, SÉRIE NORMAL, ESGOTO PREDIAL, DN 40 MM (INSTALADO EM RAMAL DE DESCARGA OU RAMAL DE ESGOTO SANITÁRIO), INCLUSIVE CONEXÕES, CORTES E FIXAÇÕES, PARA PRÉDIOS. AF_10/2015 | E46: M | F46: 67.768745 | G46: 88.12 | H46: 111.85 | I46: 7579.93 | J46: 0.0079740288
... A91: 4.57 | B91: 89711 | C91: SINAPI | D91: TUBO PVC, SERIE NORMAL, ESGOTO PREDIAL, DN 40 MM, FORNECIDO E INSTALADO EM RAMAL DE DESCARGA OU RAMAL DE ESGOTO SANITÁRIO. AF_08/2022 | E91: M | F91: 43.46214 | G91: 23.63 | H91: 29.99 | I91: 1303.42 | J91: 0.0013711879
A92: 5 | D92: MANUTENÇÃO DE INSTALAÇÕES ELÉTRICAS / ELETRIFICAÇÃO E ILUMINAÇÃO EXTERNA | I92: 125246.24 | J92: 0.13175809
A93: 5.1 | B93: 91854 | C93: SINAPI | D93: ELETRODUTO FLEXÍVEL CORRUGADO, PVC, DN 25 MM (3/4"), PARA CIRCUITOS TERMINAIS, INSTALADO EM PAREDE - FORNECIMENTO E INSTALAÇÃO. AF_03/2023 | E93: M | F93: 591.24608 | G93: 10.62 | H93: 13.47 | I93: 7964.08 | J93: 0.0083781517
A94: 5.2 | B94: 91857 | C94: SINAPI | D94: ELETRODUTO FLEXÍVEL CORRUGADO REFORÇADO, PVC, DN 32 MM (1"), PARA CIRCUITOS TERMINAIS, INSTALADO EM PAREDE - FORNECIMENTO E INSTALAÇÃO. AF_03/2023 | E94: M | F94: 381.98392 | G94: 16.86 | H94: 21.4 | I94: 8174.45 | J94: 0.0085994594
A95: 5.3 | B95: 91926 | C95: SINAPI | D95: CABO DE COBRE FLEXÍVEL ISOLADO, 2,5 MM², ANTI-CHAMA 450/750 V, PARA CIRCUITOS TERMINAIS - FORNECIMENTO E INSTALAÇÃO. AF_03/2023 | E95: M | F95: 1580.5732 | G95: 4.97 | H95: 6.3 | I95: 9957.61 | J95: 0.01047533
A96: 5.4 | B96: 91930 | C96: SINAPI | D96: CABO DE COBRE FLEXÍVEL ISOLADO, 6 MM², ANTI-CHAMA 450/750 V, PARA CIRCUITOS TERMINAIS - FORNECIMENTO E INSTALAÇÃO. AF_03/2023 | E96: M | F96: 791.97678 | G96: 10.72 | H96: 13.6 | I96: 10770.88 | J96: 0.011330884
A97: 5.5 | B97: 91924 | C97: SINAPI | D97: CABO DE COBRE FLEXÍVEL ISOLADO, 1,5 MM², ANTI-CHAMA 450/750 V, PARA CIRCUITOS TERMINAIS - FORNECIMENTO E INSTALAÇÃO. AF_03/2023 | E97: M | F97: 1199.2331 | G97: 3.42 | H97: 4.34 | I97: 5204.67 | J97: 0.0054752733
A98: 5.6 | B98: 91933 | C98: SINAPI | D98: CABO DE COBRE FLEXÍVEL ISOLADO, 10 MM², ANTI-CHAMA 0,6/1,0 KV, PARA CIRCUITOS TERMINAIS - FORNECIMENTO E INSTALAÇÃO. AF_03/2023 | E98: M | F98: 212.48157 | G98: 18.51 | H98: 23.49 | I98: 4991.19 | J98: 0.005250694
A99: 5.7 | B99: 91939 | C99: SINAPI | D99: CAIXA RETANGULAR 4" X 2" ALTA (2,00 M DO PISO), PVC, INSTALADA EM PAREDE - FORNECIMENTO E INSTALAÇÃO. AF_03/2023 | E99: UN | F99: 132.80098 | G99: 35.82 | H99: 45.46 | I99: 6037.13 | J99: 0.0063510149
A100: 5.8 | B100: 91940 | C100: SINAPI | D100: CAIXA RETANGULAR 4" X 2" MÉDIA (1,30 M DO PISO), PVC, INSTALADA EM PAREDE - FORNECIMENTO E INSTALAÇÃO. AF_03/2023 | E100: UN | F100: 79.68059 | G100: 20.62 | H100: 26.17 | I100: 2085.24 | J100: 0.0021936567
A101: 5.9 | B101: 91941 | C101: SINAPI | D101: CAIXA RETANGULAR 4" X 2" BAIXA (0,30 M DO PISO), PVC, INSTALADA EM PAREDE - FORNECIMENTO E INSTALAÇÃO. AF_03/2023 | E101: UN | F101: 168.05361 | G101: 13.17 | H101: 16.71 | I101: 2808.17 | J101: 0.0029541735
A102: 5.10 | B102: 91942 | C102: SINAPI | D102: CAIXA RETANGULAR 4" X 4" ALTA (2,00 M DO PISO), PVC, INSTALADA EM PAREDE - FORNECIMENTO E INSTALAÇÃO. AF_03/2023 | E102: UN | F102: 26.721168 | G102: 40.01 | H102: 50.78 | I102: 1356.9 | J102: 0.0014274485
A103: 5.11 | B103: 91937 | C103: SINAPI | D103: CAIXA OCTOGONAL 3" X 3", PVC, INSTALADA EM LAJE - FORNECIMENTO E INSTALAÇÃO. AF_03/2023 | E103: UN | F103: 132.80098 | G103: 18.19 | H103: 23.08 | I103: 3065.04 | J103: 0.0032243988
A104: 5.12 | B104: 91939 | C104: SINAPI | D104: CAIXA RETANGULAR 4" X 2" ALTA (2,00 M DO PISO), PVC, INSTALADA EM PAREDE - FORNECIMENTO E INSTALAÇÃO. AF_03/2023 | E104: UN | F104: 62.134763 | G104: 35.82 | H104: 45.46 | I104: 2824.64 | J104: 0.0029714998
... A133: 5.41 | B133: 96973 | C133: SINAPI | D133: CORDOALHA DE COBRE NU 35 MM², NÃO ENTERRADA, COM ISOLADOR - FORNECIMENTO E INSTALAÇÃO. AF_08/2023 | E133: M | F133: 14.48738 | G133: 78.1 | H133: 99.13 | I133: 1436.13 | J133: 0.0015107979
A134: 6 | D134: MANUTENÇÃO DE PAREDES / PAINÉIS | I134: 63527.92 | J134: 0.06683089
A135: 6.1 | B135: 87495 | C135: SINAPI | D135: ALVENARIA DE VEDAÇÃO DE BLOCOS CERÂMICOS FURADOS NA HORIZONTAL DE 9X19X19CM (ESPESSURA 9CM) DE PAREDES COM ÁREA LÍQUIDA MENOR QUE 6M² SEM VÃOS E ARGAMASSA DE ASSENTAMENTO COM PREPARO EM BETONEIRA. AF_06/2014 | E135: m² | F135: 106.24079 | G135: 108.09 | H135: 137.19 | I135: 14575.17 | J135: 0.015332968
A136: 6.2 | B136: 87879 | C136: SINAPI | D136: CHAPISCO APLICADO EM ALVENARIAS E ESTRUTURAS DE CONCRETO INTERNAS, COM COLHER DE PEDREIRO. ARGAMASSA TRAÇO 1:3 COM PREPARO EM BETONEIRA 400L. AF_10/2022 | E136: m² | F136: 212.48157 | G136: 5.04 | H136: 6.39 | I136: 1357.75 | J136: 0.0014283427
A137: 6.3 | B137: 87797 | C137: SINAPI | D137: EMBOÇO OU MASSA ÚNICA EM ARGAMASSA TRAÇO 1:2:8, PREPARO MECÂNICO COM BETONEIRA 400 L, APLICADA MANUALMENTE EM PANOS CEGOS DE FACHADA (SEM PRESENÇA DE VÃOS), ESPESSURA DE 35 MM. AF_08/2022 | E137: m² | F137: 82.7673 | G137: 63.87 | H137: 81.07 | I137: 6709.94 | J137: 0.007058806
A138: 6.4 | B138: 104611 | C138: SINAPI | D138: REVESTIMENTO CERÂMICO PARA PAREDES INTERNAS COM PLACAS TIPO ESMALTADA DE DIMENSÕES 60X60 CM APLICADAS NA ALTURA INTEIRA DAS PAREDES. AF_02/2023_PE | E138: m² | F138: 51.913112 | G138: 94.27 | H138: 119.65 | I138: 6211.4 | J138: 0.0065343457
A139: 6.5 | B139: 88787 | C139: SINAPI | D139: REVESTIMENTO CERÂMICO PARA PAREDES EXTERNAS EM PASTILHAS DE PORCELANA 2,5 X 2,5 CM (PLACAS DE 30 X 30 CM), ALINHADAS A PRUMO, APLICADO EM PANOS SEM VÃOS. AF_10/2014 | E139: m² | F139: 23.6005 | G139: 360.86 | H139: 458.03 | I139: 10809.73 | J139: 0.011371754
A140: 6.6 | B140: 105938 | C140: SINAPI | D140: REVESTIMENTO NÃO ADERIDO DE PAREDES EXTERNAS COM PLACAS DE PORCELANATO DE ÁREA MAIOR DO QUE 2500 CM2 E MENOR OU IGUAL A 6400 CM2, FIXADAS COM INSERTE METÁLICO. AF_03/2025 | E140: m² | F140: 86.521853 | G140: 140.96 | H140: 178.92 | I140: 15480.48 | J140: 0.016285347
A141: 6.7 | B141: 102253 | C141: SINAPI | D141: DIVISORIA SANITÁRIA, EM GRANITO CINZA POLIDO, ESP = 3CM, ASSENTADO COM ARGAMASSA COLANTE AC III-E. AF_10/2025 | E141: m² | F141: 9.0143698 | G141: 732.7 | H141: 930.01 | I141: 8383.45 | J141: 0.0088193258
A142: 7 | D142: MANUTENÇÃO DE IMPERMEABILIZAÇÕES E PROTEÇÕES DIVERSAS | I142: 28403.03 | J142: 0.029879772
A143: 7.1 | B143: 98555 | C143: SINAPI | D143: IMPERMEABILIZAÇÃO DE SUPERFÍCIE COM ARGAMASSA POLIMÉRICA / MEMBRANA ACRÍLICA, 3 DEMÃOS. AF_09/2023 | E143: m² | F143: 153.7272 | G143: 33.07 | H143: 41.97 | I143: 6451.93 | J143: 0.0067873814
A144: 7.2 | B144: 98547 | C144: SINAPI | D144: IMPERMEABILIZAÇÃO DE SUPERFÍCIE COM MANTA ASFÁLTICA, DUAS CAMADAS, INCLUSIVE APLICAÇÃO DE PRIMER ASFÁLTICO, E=3MM E E=4MM. AF_09/2023 | E144: m² | F144: 27.566 | G144: 194 | H144: 246.24 | I144: 6787.85 | J144: 0.0071407667
A145: 7.3 | B145: 98575 | C145: SINAPI | D145: TRATAMENTO DE JUNTA DE DILATAÇÃO, COM TARUGO DE POLIETILENO E SELANTE PU, INCLUSO PREENCHIMENTO COM ESPUMA EXPANSIVA PU. AF_09/2023 | E145: M | F145: 74.046609 | G145: 72.28 | H145: 91.74 | I145: 6793.03 | J145: 0.007146216
A146: 7.4 | B146: 98565 | C146: SINAPI | D146: PROTEÇÃO MECÂNICA DE SUPERFICIE HORIZONTAL COM ARGAMASSA DE CIMENTO E AREIA, TRAÇO 1:3, E=3CM. AF_09/2023 | E146: m² | F146: 110.26506 | G146: 59.81 | H146: 75.91 | I146: 8370.22 | J146: 0.0088054079
A147: 8 | D147: MANUTENÇÃO DE ESQUADRIAS / FERRAGENS / VIDROS | I147: 155025.7 | J147: 0.16308586
A148: 8.1 | B148: 90841 | C148: SINAPI | D148: KIT DE PORTA DE MADEIRA PARA PINTURA, SEMI-OCA (LEVE OU MÉDIA), PADRÃO MÉDIO, 60X210CM, ESPESSURA DE 3,5CM, ITENS INCLUSOS: DOBRADIÇAS, MONTAGEM E INSTALAÇÃO DO BATENTE, FECHADURA COM EXECUÇÃO DO FURO - FORNECIMENTO E INSTALAÇÃO. AF_10/2025 | E148: UN | F148: 10.463108 | G148: 1111.7 | H148: 1411.08 | I148: 14764.28 | J148: 0.015531911
A149: 8.2 | B149: 90842 | C149: SINAPI | D149: KIT DE PORTA DE MADEIRA PARA PINTURA, SEMI-OCA (LEVE OU MÉDIA), PADRÃO MÉDIO, 70X210CM, ESPESSURA DE 3,5CM, ITENS INCLUSOS: DOBRADIÇAS, MONTAGEM E INSTALAÇÃO DO BATENTE, FECHADURA COM EXECUÇÃO DO FURO - FORNECIMENTO E INSTALAÇÃO. AF_10/2025 | E149: UN | F149: 10.463108 | G149: 1123.71 | H149: 1426.32 | I149: 14923.73 | J149: 0.015699651
A150: 8.3 | B150: 90843 | C150: SINAPI | D150: KIT DE PORTA DE MADEIRA PARA PINTURA, SEMI-OCA (LEVE OU MÉDIA), PADRÃO MÉDIO, 80X210CM, ESPESSURA DE 3,5CM, ITENS INCLUSOS: DOBRADIÇAS, MONTAGEM E INSTALAÇÃO DO BATENTE, FECHADURA COM EXECUÇÃO DO FURO - FORNECIMENTO E INSTALAÇÃO. AF_10/2025 | E150: UN | F150: 10.463108 | G150: 1177.86 | H150: 1495.05 | I150: 15642.86 | J150: 0.01645617
A151: 8.4 | B151: 90844 | C151: SINAPI | D151: KIT DE PORTA DE MADEIRA PARA PINTURA, SEMI-OCA (LEVE OU MÉDIA), PADRÃO MÉDIO, 90X210CM, ESPESSURA DE 3,5CM, ITENS INCLUSOS: DOBRADIÇAS, MONTAGEM E INSTALAÇÃO DO BATENTE, FECHADURA COM EXECUÇÃO DO FURO - FORNECIMENTO E INSTALAÇÃO. AF_10/2025 | E151: UN | F151: 10.463108 | G151: 1256.25 | H151: 1594.55 | I151: 16683.94 | J151: 0.017551378
A152: 8.5 | B152: 90831 | C152: SINAPI | D152: FECHADURA DE EMBUTIR SEM CILINDRO, PARA PORTA DE BANHEIRO, COMPLETA, ACABAMENTO PADRÃO MÉDIO, INCLUSO EXECUÇÃO DE FURO - FORNECIMENTO E INSTALAÇÃO. AF_10/2025 | E152: UN | F152: 11.428933 | G152: 167.16 | H152: 212.17 | I152: 2424.87 | J152: 0.0025509448
A153: 8.6 | B153: 91307 | C153: SINAPI | D153: FECHADURA DE EMBUTIR SEM CILINDRO, PARA PORTAS INTERNAS, COMPLETA, ACABAMENTO PADRÃO POPULAR, COM EXECUÇÃO DE FURO - FORNECIMENTO E INSTALAÇÃO. AF_10/2025 | E153: UN | F153: 14.165438 | G153: 106.44 | H153: 135.1 | I153: 1913.75 | J153: 0.0020132505
A154: 8.7 | B154: 90830 | C154: SINAPI | D154: FECHADURA DE EMBUTIR COM CILINDRO, EXTERNA, COMPLETA, ACABAMENTO PADRÃO MÉDIO, INCLUSO EXECUÇÃO DE FURO - FORNECIMENTO E INSTALAÇÃO. AF_10/2025 | E154: UN | F154: 7.7266027 | G154: 193.83 | H154: 246.02 | I154: 1900.89 | J154: 0.0019997219
A155: 8.8 | B155: 100701 | C155: SINAPI | D155: PORTA DE FERRO, DE ABRIR, TIPO GRADE COM CHAPA, COM GUARNIÇÕES. AF_10/2025 | E155: m² | F155: 14.165438 | G155: 571.26 | H155: 725.1 | I155: 10271.35 | J155: 0.010805382
A156: 8.9 | B156: 105813 | C156: SINAPI | D156: JANELA DE AÇO GALVANIZADO TIPO MAXIMO-AR, PINT. ANTICORROSIVA, COM BATENTE/REQUADRO DE 6 A 14 CM, SEM VIDRO, COM GRADE, 1 FL, 60 X 80 CM (A X L), FIXAÇÃO COM ARGAMASSA, EXCLUSIVE CONTRAMARCO - FORNECIMENTO E INSTALAÇÃO. AF_11/2024 | E156: m² | F156: 7.24369 | G156: 932.69 | H156: 1183.86 | I156: 8575.51 | J156: 0.0090213714
A157: 8.10 | B157: 94559 | C157: SINAPI | D157: JANELA DE AÇO TIPO BASCULANTE, PARA VIDROS (VIDROS NÃO INCLUSOS), BATENTE/ REQUADRO INCLUSO (6,5 A 14 CM), DIMENSÕES 60X60 CM, COM COM PINTURA ANTICORROSIVA, SEM ACABAMENTO, COM FERRAGENS, FIXAÇÃO COM ARGAMASSA, EXCLUSIVE CONTRAMARCO - FORNECIMENTO E INSTALAÇÃO. AF_11/2024 | E157: m² | F157: 9.9801952 | G157: 664.41 | H157: 843.33 | I157: 8416.59 | J157: 0.0088541888
A158: 8.11 | B158: 94805 | C158: SINAPI | D158: PORTA DE ALUMÍNIO DE ABRIR PARA VIDRO SEM GUARNIÇÃO, 87X210CM, FIXAÇÃO COM PARAFUSOS, INCLUSIVE VIDROS - FORNECIMENTO E INSTALAÇÃO. AF_10/2025 | E158: UN | F158: 9.9801952 | G158: 902.84 | H158: 1145.97 | I158: 11437 | J158: 0.012031637
A159: 8.12 | B159: 91338 | C159: SINAPI | D159: PORTA DE ALUMÍNIO DE ABRIR COM LAMBRI, COM GUARNIÇÃO, FIXAÇÃO COM PARAFUSOS - FORNECIMENTO E INSTALAÇÃO. AF_12/2019 | E159: m² | F159: 7.24369 | G159: 874.09 | H159: 1109.48 | I159: 8036.72 | J159: 0.0084545684
... A167: 8.20 | B167: 102188 | C167: SINAPI | D167: MOLA HIDRAULICA DE PISO PARA PORTA DE VIDRO TEMPERADO. AF_11/2025 | E167: UN | F167: 5.6339811 | G167: 919.28 | H167: 1166.84 | I167: 6573.95 | J167: 0.0069157455
A168: 9 | D168: MANUTENÇÃO DE PISOS / SOLEIRAS / RODAPÉS | I168: 35016.07 | J168: 0.03683664
A169: 9.1 | B169: 87765 | C169: SINAPI | D169: CONTRAPISO EM ARGAMASSA TRAÇO 1:4 (CIMENTO E AREIA), PREPARO MECÂNICO COM BETONEIRA 400 L, APLICADO EM ÁREAS MOLHADAS SOBRE IMPERMEABILIZAÇÃO, ACABAMENTO NÃO REFORÇADO, ESPESSURA 4CM. AF_07/2021 | E169: m² | F169: 80.85 | G169: 65.77 | H169: 83.48 | I169: 6749.35 | J169: 0.007100265
A170: 9.2 | B170: 87263 | C170: SINAPI | D170: REVESTIMENTO CERÂMICO PARA PISO COM PLACAS TIPO PORCELANATO DE DIMENSÕES 60X60 CM APLICADA EM AMBIENTES DE ÁREA MAIOR QUE 10 M². AF_02/2023_PE | E170: m² | F170: 94.369184 | G170: 110.52 | H170: 140.28 | I170: 13238.1 | J170: 0.013926381
A171: 9.3 | B171: 104605 | C171: SINAPI | D171: REVESTIMENTO CERÂMICO PARA PISO COM PLACAS TIPO ESMALTADA DE DIMENSÕES 45X45 CM APLICADA EM DIAGONAL EM AMBIENTES DE ÁREA MENOR QUE 5 M². AF_02/2023_PE | E171: m² | F171: 65.4423 | G171: 105.54 | H171: 133.96 | I171: 8766.65 | J171: 0.0092224493
A172: 9.4 | B172: 88650 | C172: SINAPI | D172: RODAPÉ CERÂMICO DE 7CM DE ALTURA COM PLACAS TIPO ESMALTADA DE DIMENSÕES 60X60CM. AF_02/2023 | E172: M | F172: 131.19128 | G172: 11.84 | H172: 15.02 | I172: 1970.49 | J172: 0.0020729405
A173: 9.5 | B173: 98689 | C173: SINAPI | D173: SOLEIRA EM GRANITO, LARGURA 15 CM, ESPESSURA 2,0 CM. AF_09/2020 | E173: M | F173: 14.165438 | G173: 108.35 | H173: 137.52 | I173: 1948.03 | J173: 0.0020493128
A174: 9.6 | B174: 101965 | C174: SINAPI | D174: PEITORIL LINEAR EM GRANITO OU MÁRMORE, L = 15CM, ASSENTADO COM ARGAMASSA 1:6 COM ADITIVO. AF_11/2020 | E174: M | F174: 16.901943 | G174: 109.24 | H174: 138.65 | I174: 2343.45 | J174: 0.0024652916
A175: 10 | D175: MANUTENÇÃO DE PINTURAS | I175: 65574.99 | J175: 0.068984392
A176: 10.1 | B176: 88495 | C176: SINAPI | D176: EMASSAMENTO COM MASSA LÁTEX, APLICAÇÃO EM PAREDE, UMA DEMÃO, LIXAMENTO MANUAL. AF_04/2023 | E176: m² | F176: 273.5348 | G176: 13.06 | H176: 16.57 | I176: 4532.47 | J176: 0.004768124
A177: 10.2 | B177: 88489 | C177: SINAPI | D177: PINTURA LÁTEX ACRÍLICA PREMIUM, APLICAÇÃO MANUAL EM PAREDES, DUAS DEMÃOS. AF_04/2023 | E177: m² | F177: 923.2531 | G177: 14.38 | H177: 18.25 | I177: 16849.36 | J177: 0.017725399
A178: 10.3 | B178: 88485 | C178: SINAPI | D178: FUNDO SELADOR ACRÍLICO, APLICAÇÃO MANUAL EM PAREDE, UMA DEMÃO. AF_04/2023 | E178: m² | F178: 923.2531 | G178: 4.87 | H178: 6.18 | I178: 5705.7 | J178: 0.0060023531
A179: 10.4 | B179: 88496 | C179: SINAPI | D179: EMASSAMENTO COM MASSA LÁTEX, APLICAÇÃO EM TETO, DUAS DEMÃOS, LIXAMENTO MANUAL. AF_04/2023 | E179: m² | F179: 76.5611 | G179: 35.99 | H179: 45.68 | I179: 3497.31 | J179: 0.0036791436
A180: 10.5 | B180: 88488 | C180: SINAPI | D180: PINTURA LÁTEX ACRÍLICA PREMIUM, APLICAÇÃO MANUAL EM TETO, DUAS DEMÃOS. AF_04/2023 | E180: m² | F180: 241.9109 | G180: 17.01 | H180: 21.59 | I180: 5222.85 | J180: 0.0054943986
A181: 10.6 | B181: 88484 | C181: SINAPI | D181: FUNDO SELADOR ACRÍLICO, APLICAÇÃO MANUAL EM TETO, UMA DEMÃO. AF_04/2023 | E181: m² | F181: 241.9109 | G181: 5.94 | H181: 7.53 | I181: 1821.58 | J181: 0.0019162883
A182: 10.7 | B182: 102193 | C182: SINAPI | D182: LIXAMENTO DE MADEIRA PARA APLICAÇÃO DE FUNDO OU PINTURA. AF_01/2021 | E182: m² | F182: 155.49788 | G182: 2.33 | H182: 2.95 | I182: 458.71 | J182: 0.00048255944
A183: 10.8 | B183: 102195 | C183: SINAPI | D183: PINTURA FUNDO NIVELADOR ALQUÍDICO INCOLOR EM MADEIRA. AF_01/2021 | E183: m² | F183: 155.49788 | G183: 20.59 | H183: 26.13 | I183: 4063.15 | J183: 0.004274403
A184: 10.9 | B184: 102215 | C184: SINAPI | D184: PINTURA VERNIZ (INCOLOR) POLIURETÂNICO (RESINA ALQUÍDICA MODIFICADA) EM MADEIRA, 2 DEMÃOS. AF_01/2021 | E184: m² | F184: 155.49788 | G184: 22.11 | H184: 28.06 | I184: 4363.27 | J184: 0.0045901269
A185: 10.10 | B185: 102234 | C185: SINAPI | D185: PINTURA IMUNIZANTE PARA MADEIRA, 2 DEMÃOS. AF_01/2021 | E185: m² | F185: 113.7752 | G185: 23.33 | H185: 29.61 | I185: 3368.88 | J185: 0.0035440362
A186: 10.11 | B186: 100717 | C186: SINAPI | D186: LIXAMENTO MANUAL EM SUPERFÍCIES METÁLICAS EM OBRA. AF_01/2020 | E186: m² | F186: 201.21361 | G186: 11.16 | H186: 14.16 | I186: 2849.18 | J186: 0.0029973157
...

Sheet Baependi
D1: Obra | E1: Bancos | G1: B.D.I. | I1: Encargos Sociais
D2: MANUTENÇÃO PREDIAL CIMAG - BAPENDI - MG | E2: SINAPI - 02/2026 - Minas Gerais | G2: 26,93% | I2: Desonerado: embutido nos preços unitário dos insumos de mão de obra, de acordo com as bases.
A3: Orçamento Sintético
A4: Item | B4: Código | C4: Banco | D4: Descrição | E4: Und | F4: Quant. | G4: Valor Unit | H4: Valor Unit com BDI | I4: Total | J4: Peso (%)
A5: 1 | D5: ACOMPANHAMENTO DE MANUTENÇÕES | I5: 277973.63 | J5: 0.08106726
A6: 1.1 | B6: 90778 | C6: SINAPI | D6: ENGENHEIRO CIVIL DE OBRA PLENO COM ENCARGOS COMPLEMENTARES | E6: H | F6: 811.9968 | G6: 136.69 | H6: 173.5 | I6: 140881.44 | J6: 0.041086172
A7: 1.2 | B7: 90776 | C7: SINAPI | D7: ENCARREGADO GERAL COM ENCARGOS COMPLEMENTARES | E7: H | F7: 1733.808 | G7: 62.3 | H7: 79.07 | I7: 137092.19 | J7: 0.039981088
A8: 2 | D8: SERVIÇOS PRELIMINARES (DEMOLIÇÕES / RETIRADAS) | I8: 284969.94 | J8: 0.083107639
A9: 2.1 | B9: 97633 | C9: SINAPI | D9: DEMOLIÇÃO DE REVESTIMENTO CERÂMICO, DE FORMA MANUAL, SEM REAPROVEITAMENTO. AF_09/2023 | E9: m² | F9: 841.69065 | G9: 25.97 | H9: 32.96 | I9: 27742.12 | J9: 0.0080906151
A10: 2.2 | B10: 97663 | C10: SINAPI | D10: REMOÇÃO DE LOUÇAS, DE FORMA MANUAL, SEM REAPROVEITAMENTO. AF_09/2023 | E10: UN | F10: 264.58613 | G10: 14.14 | H10: 17.94 | I10: 4746.67 | J10: 0.0013843023
A11: 2.3 | B11: 97664 | C11: SINAPI | D11: REMOÇÃO DE ACESSÓRIOS, DE FORMA MANUAL, SEM REAPROVEITAMENTO. AF_09/2023 | E11: UN | F11: 316.8323 | G11: 1.76 | H11: 2.23 | I11: 706.53 | J11: 0.00020604994
A12: 2.4 | B12: 90447 | C12: SINAPI | D12: RASGO LINEAR MANUAL EM ALVENARIA, PARA ELETRODUTOS, DIÂMETROS MENORES OU IGUAIS A 40 MM. AF_09/2023 | E12: M | F12: 677.76229 | G12: 9.28 | H12: 11.77 | I12: 7977.26 | J12: 0.0023264603
A13: 2.5 | B13: 97660 | C13: SINAPI | D13: REMOÇÃO DE INTERRUPTORES/TOMADAS ELÉTRICAS, DE FORMA MANUAL, SEM REAPROVEITAMENTO. AF_09/2023 | E13: UN | F13: 1997.3377 | G13: 0.74 | H13: 0.93 | I13: 1857.52 | J13: 0.00054172065
A14: 2.6 | B14: 97661 | C14: SINAPI | D14: REMOÇÃO DE CABOS ELÉTRICOS, COM SEÇÃO DE 10 MM², FORMA MANUAL, SEM REAPROVEITAMENTO. AF_09/2023 | E14: M | F14: 30114.407 | G14: 0.8 | H14: 1.01 | I14: 30415.55 | J14: 0.0088702849
A15: 2.7 | B15: 97665 | C15: SINAPI | D15: REMOÇÃO DE LUMINÁRIAS, DE FORMA MANUAL, SEM REAPROVEITAMENTO. AF_09/2023 | E15: UN | F15: 395.44122 | G15: 2.01 | H15: 2.55 | I15: 1008.37 | J15: 0.00029407751
A16: 2.8 | B16: 97644 | C16: SINAPI | D16: REMOÇÃO DE PORTAS, DE FORMA MANUAL, SEM REAPROVEITAMENTO. AF_09/2023 | E16: m² | F16: 392.56529 | G16: 10.69 | H16: 13.56 | I16: 5323.18 | J16: 0.0015524336
A17: 2.9 | B17: 97645 | C17: SINAPI | D17: REMOÇÃO DE JANELAS, DE FORMA MANUAL, SEM REAPROVEITAMENTO. AF_09/2023 | E17: m² | F17: 859.90491 | G17: 27.59 | H17: 35.01 | I17: 30105.27 | J17: 0.0087797959
A18: 2.10 | B18: 90441 | C18: SINAPI | D18: FURO MECANIZADO EM CONCRETO, COM MARTELO DEMOLIDOR, PARA INSTALAÇÕES HIDRÁULICAS, DIÂMETROS MAIORES QUE 75 MM E MENORES OU IGUAIS A 150 MM. AF_09/2023 | E18: UN | F18: 211.86063 | G18: 10.13 | H18: 12.85 | I18: 2722.4 | J18: 0.00079395124
A19: 2.11 | B19: 97631 | C19: SINAPI | D19: DEMOLIÇÃO DE ARGAMASSAS, DE FORMA MANUAL, SEM REAPROVEITAMENTO. AF_09/2023 | E19: m² | F19: 428.03517 | G19: 12.77 | H19: 16.2 | I19: 6934.16 | J19: 0.0020222542
A20: 2.12 | B20: 97643 | C20: SINAPI | D20: REMOÇÃO DE PISO DE MADEIRA (ASSOALHO E BARROTE), DE FORMA MANUAL, SEM REAPROVEITAMENTO. AF_09/2023 | E20: m² | F20: 198.91892 | G20: 28.2 | H20: 35.79 | I20: 7119.3 | J20: 0.0020762478
... A28: 2.20 | B28: 97062 | C28: SINAPI | D28: COLOCAÇÃO DE TELA EM ANDAIME FACHADEIRO. AF_03/2024 | E28: m² | F28: 1050.6753 | G28: 6.4 | H28: 8.12 | I28: 8531.48 | J28: 0.0024880911
A29: 3 | D29: CARGA, DESCARGA E / OU TRANSPORTE DE MATERIAIS PROVENIENTES DAS MANUTENÇÕES | I29: 55255.32 | J29: 0.016114469
A30: 3.1 | B30: 100984 | C30: SINAPI | D30: CARGA, MANOBRA E DESCARGA DE ENTULHO EM CAMINHÃO BASCULANTE 18 M³ - CARGA COM ESCAVADEIRA HIDRÁULICA (CAÇAMBA DE 0,80 M³ / 111 HP) E DESCARGA LIVRE (UNIDADE: M3). AF_07/2020 | E30: m³ | F30: 1123.0531 | G30: 9.03 | H30: 11.46 | I30: 12870.18 | J30: 0.0037534144
A31: 3.2 | B31: 95875 | C31: SINAPI | D31: TRANSPORTE COM CAMINHÃO BASCULANTE DE 10 M³, EM VIA URBANA PAVIMENTADA, DMT ATÉ 30 KM (UNIDADE: M3XKM). AF_07/2020 | E31: M3XKM | F31: 2670.115 | G31: 2.61 | H31: 3.31 | I31: 8838.08 | J31: 0.0025775068
A32: 3.3 | B32: 93358 | C32: SINAPI | D32: ESCAVAÇÃO MANUAL DE VALA. AF_09/2024 | E32: m³ | F32: 215.69521 | G32: 93.27 | H32: 118.38 | I32: 25533.99 | J32: 0.0074466438
A33: 3.4 | B33: 93382 | C33: SINAPI | D33: REATERRO MANUAL DE VALAS, COM COMPACTADOR DE SOLOS DE PERCUSSÃO. AF_08/2023 | E33: m³ | F33: 215.69521 | G33: 29.27 | H33: 37.15 | I33: 8013.07 | J33: 0.0023369038
A34: 4 | D34: MANUTENÇÃO DE INSTALAÇÕES HIDROSSANITÁRIAS | I34: 564486.47 | J34: 0.16462487
A35: 4.1 | B35: 89714 | C35: SINAPI | D35: TUBO PVC, SERIE NORMAL, ESGOTO PREDIAL, DN 100 MM, FORNECIDO E INSTALADO EM RAMAL DE DESCARGA OU RAMAL DE ESGOTO SANITÁRIO. AF_08/2022 | E35: M | F35: 275.61055 | G35: 41.27 | H35: 52.38 | I35: 14436.48 | J35: 0.0042102047
A36: 4.2 | B36: 89713 | C36: SINAPI | D36: TUBO PVC, SERIE NORMAL, ESGOTO PREDIAL, DN 75 MM, FORNECIDO E INSTALADO EM RAMAL DE DESCARGA OU RAMAL DE ESGOTO SANITÁRIO. AF_08/2022 | E36: M | F36: 642.77173 | G36: 36.84 | H36: 46.76 | I36: 30056 | J36: 0.008765427
A37: 4.3 | B37: 89712 | C37: SINAPI | D37: TUBO PVC, SERIE NORMAL, ESGOTO PREDIAL, DN 50 MM, FORNECIDO E INSTALADO EM RAMAL DE DESCARGA OU RAMAL DE ESGOTO SANITÁRIO. AF_08/2022 | E37: M | F37: 642.77173 | G37: 29.64 | H37: 37.62 | I37: 24181.07 | J37: 0.0070520829
A38: 4.4 | B38: 89744 | C38: SINAPI | D38: JOELHO 90 GRAUS, PVC, SERIE NORMAL, ESGOTO PREDIAL, DN 100 MM, JUNTA ELÁSTICA, FORNECIDO E INSTALADO EM RAMAL DE DESCARGA OU RAMAL DE ESGOTO SANITÁRIO. AF_08/2022 | E38: UN | F38: 475.00879 | G38: 28.94 | H38: 36.73 | I38: 17447.07 | J38: 0.0050882026
A39: 4.5 | B39: 89731 | C39: SINAPI | D39: JOELHO 90 GRAUS, PVC, SERIE NORMAL, ESGOTO PREDIAL, DN 50 MM, JUNTA ELÁSTICA, FORNECIDO E INSTALADO EM RAMAL DE DESCARGA OU RAMAL DE ESGOTO SANITÁRIO. AF_08/2022 | E39: UN | F39: 132.29306 | G39: 15.85 | H39: 20.11 | I39: 2660.41 | J39: 0.00077587269
A40: 4.6 | B40: 89746 | C40: SINAPI | D40: JOELHO 45 GRAUS, PVC, SERIE NORMAL, ESGOTO PREDIAL, DN 100 MM, JUNTA ELÁSTICA, FORNECIDO E INSTALADO EM RAMAL DE DESCARGA OU RAMAL DE ESGOTO SANITÁRIO. AF_08/2022 | E40: UN | F40: 79.567567 | G40: 29.79 | H40: 37.81 | I40: 3008.44 | J40: 0.00087737095
A41: 4.7 | B41: 89795 | C41: SINAPI | D41: JUNÇÃO SIMPLES, PVC, SERIE NORMAL, ESGOTO PREDIAL, DN 75 X 75 MM, JUNTA ELÁSTICA, FORNECIDO E INSTALADO EM RAMAL DE DESCARGA OU RAMAL DE ESGOTO SANITÁRIO. AF_08/2022 | E41: UN | F41: 132.29306 | G41: 42.5 | H41: 53.94 | I41: 7135.88 | J41: 0.0020810832
A42: 4.8 | B42: 89834 | C42: SINAPI | D42: JUNÇÃO SIMPLES, PVC, SERIE NORMAL, ESGOTO PREDIAL, DN 100 X 100 MM, JUNTA ELÁSTICA, FORNECIDO E INSTALADO EM PRUMADA DE ESGOTO SANITÁRIO OU VENTILAÇÃO. AF_08/2022 | E42: UN | F42: 79.567567 | G42: 55.27 | H42: 70.15 | I42: 5581.66 | J42: 0.0016278159
A43: 4.9 | B43: 89808 | C43: SINAPI | D43: CURVA LONGA 90 GRAUS, PVC, SERIE NORMAL, ESGOTO PREDIAL, DN 75 MM, JUNTA ELÁSTICA, FORNECIDO E INSTALADO EM PRUMADA DE ESGOTO SANITÁRIO OU VENTILAÇÃO. AF_08/2022 | E43: UN | F43: 132.29306 | G43: 59.93 | H43: 76.06 | I43: 10062.21 | J43: 0.0029345078
A44: 4.10 | B44: 89806 | C44: SINAPI | D44: JOELHO 45 GRAUS, PVC, SERIE NORMAL, ESGOTO PREDIAL, DN 75 MM, JUNTA ELÁSTICA, FORNECIDO E INSTALADO EM PRUMADA DE ESGOTO SANITÁRIO OU VENTILAÇÃO. AF_08/2022 | E44: UN | F44: 132.29306 | G44: 22.5 | H44: 28.55 | I44: 3776.96 | J44: 0.0011014994
A45: 4.11 | B45: 91794 | C45: SINAPI | D45: (COMPOSIÇÃO REPRESENTATIVA) DO SERVIÇO DE INST. TUBO PVC, SÉRIE N, ESGOTO PREDIAL, DN 75 MM, (INST. EM RAMAL DE DESCARGA, RAMAL DE ESG. SANITÁRIO, PRUMADA DE ESG. SANITÁRIO OU VENTILAÇÃO), INCL. CONEXÕES, CORTES E FIXAÇÕES, P/ PRÉDIOS. AF_10/2015 | E45: M | F45: 366.68186 | G45: 50.34 | H45: 63.89 | I45: 23427.3 | J45: 0.0068322561
A46: 4.12 | B46: 91792 | C46: SINAPI | D46: (COMPOSIÇÃO REPRESENTATIVA) DO SERVIÇO DE INSTALAÇÃO DE TUBO DE PVC, SÉRIE NORMAL, ESGOTO PREDIAL, DN 40 MM (INSTALADO EM RAMAL DE DESCARGA OU RAMAL DE ESGOTO SANITÁRIO), INCLUSIVE CONEXÕES, CORTES E FIXAÇÕES, PARA PRÉDIOS. AF_10/2015 | E46: M | F46: 201.79485 | G46: 88.12 | H46: 111.85 | I46: 22570.75 | J46: 0.0065824548
... A91: 4.57 | B91: 89711 | C91: SINAPI | D91: TUBO PVC, SERIE NORMAL, ESGOTO PREDIAL, DN 40 MM, FORNECIDO E INSTALADO EM RAMAL DE DESCARGA OU RAMAL DE ESGOTO SANITÁRIO. AF_08/2022 | E91: M | F91: 129.41713 | G91: 23.63 | H91: 29.99 | I91: 3881.21 | J91: 0.0011319025
A92: 5 | D92: MANUTENÇÃO DE INSTALAÇÕES ELÉTRICAS / ELETRIFICAÇÃO E ILUMINAÇÃO EXTERNA | I92: 372945.87 | J92: 0.10876463
A93: 5.1 | B93: 91854 | C93: SINAPI | D93: ELETRODUTO FLEXÍVEL CORRUGADO, PVC, DN 25 MM (3/4"), PARA CIRCUITOS TERMINAIS, INSTALADO EM PAREDE - FORNECIMENTO E INSTALAÇÃO. AF_03/2023 | E93: M | F93: 1760.5523 | G93: 10.62 | H93: 13.47 | I93: 23714.63 | J93: 0.006916052
A94: 5.2 | B94: 91857 | C94: SINAPI | D94: ELETRODUTO FLEXÍVEL CORRUGADO REFORÇADO, PVC, DN 32 MM (1"), PARA CIRCUITOS TERMINAIS, INSTALADO EM PAREDE - FORNECIMENTO E INSTALAÇÃO. AF_03/2023 | E94: M | F94: 1137.4328 | G94: 16.86 | H94: 21.4 | I94: 24341.06 | J94: 0.0070987418
A95: 5.3 | B95: 91926 | C95: SINAPI | D95: CABO DE COBRE FLEXÍVEL ISOLADO, 2,5 MM², ANTI-CHAMA 450/750 V, PARA CIRCUITOS TERMINAIS - FORNECIMENTO E INSTALAÇÃO. AF_03/2023 | E95: M | F95: 4706.4695 | G95: 4.97 | H95: 6.3 | I95: 29650.75 | J95: 0.0086472413
A96: 5.4 | B96: 91930 | C96: SINAPI | D96: CABO DE COBRE FLEXÍVEL ISOLADO, 6 MM², ANTI-CHAMA 450/750 V, PARA CIRCUITOS TERMINAIS - FORNECIMENTO E INSTALAÇÃO. AF_03/2023 | E96: M | F96: 2358.2677 | G96: 10.72 | H96: 13.6 | I96: 32072.44 | J96: 0.0093534945
A97: 5.5 | B97: 91924 | C97: SINAPI | D97: CABO DE COBRE FLEXÍVEL ISOLADO, 1,5 MM², ANTI-CHAMA 450/750 V, PARA CIRCUITOS TERMINAIS - FORNECIMENTO E INSTALAÇÃO. AF_03/2023 | E97: M | F97: 3570.9541 | G97: 3.42 | H97: 4.34 | I97: 15497.94 | J97: 0.0045197652
A98: 5.6 | B98: 91933 | C98: SINAPI | D98: CABO DE COBRE FLEXÍVEL ISOLADO, 10 MM², ANTI-CHAMA 0,6/1,0 KV, PARA CIRCUITOS TERMINAIS - FORNECIMENTO E INSTALAÇÃO. AF_03/2023 | E98: M | F98: 632.70596 | G98: 18.51 | H98: 23.49 | I98: 14862.26 | J98: 0.0043343777
A99: 5.7 | B99: 91939 | C99: SINAPI | D99: CAIXA RETANGULAR 4" X 2" ALTA (2,00 M DO PISO), PVC, INSTALADA EM PAREDE - FORNECIMENTO E INSTALAÇÃO. AF_03/2023 | E99: UN | F99: 395.44122 | G99: 35.82 | H99: 45.46 | I99: 17976.75 | J99: 0.0052426767
A100: 5.8 | B100: 91940 | C100: SINAPI | D100: CAIXA RETANGULAR 4" X 2" MÉDIA (1,30 M DO PISO), PVC, INSTALADA EM PAREDE - FORNECIMENTO E INSTALAÇÃO. AF_03/2023 | E100: UN | F100: 237.26473 | G100: 20.62 | H100: 26.17 | I100: 6209.21 | J100: 0.0018108323
A101: 5.9 | B101: 91941 | C101: SINAPI | D101: CAIXA RETANGULAR 4" X 2" BAIXA (0,30 M DO PISO), PVC, INSTALADA EM PAREDE - FORNECIMENTO E INSTALAÇÃO. AF_03/2023 | E101: UN | F101: 500.41289 | G101: 13.17 | H101: 16.71 | I101: 8361.89 | J101: 0.0024386324
A102: 5.10 | B102: 91942 | C102: SINAPI | D102: CAIXA RETANGULAR 4" X 4" ALTA (2,00 M DO PISO), PVC, INSTALADA EM PAREDE - FORNECIMENTO E INSTALAÇÃO. AF_03/2023 | E102: UN | F102: 79.567567 | G102: 40.01 | H102: 50.78 | I102: 4040.44 | J102: 0.0011783398
A103: 5.11 | B103: 91937 | C103: SINAPI | D103: CAIXA OCTOGONAL 3" X 3", PVC, INSTALADA EM LAJE - FORNECIMENTO E INSTALAÇÃO. AF_03/2023 | E103: UN | F103: 395.44122 | G103: 18.19 | H103: 23.08 | I103: 9126.78 | J103: 0.0026617023
A104: 5.12 | B104: 91939 | C104: SINAPI | D104: CAIXA RETANGULAR 4" X 2" ALTA (2,00 M DO PISO), PVC, INSTALADA EM PAREDE - FORNECIMENTO E INSTALAÇÃO. AF_03/2023 | E104: UN | F104: 185.01856 | G104: 35.82 | H104: 45.46 | I104: 8410.94 | J104: 0.0024529372
... A133: 5.41 | B133: 96973 | C133: SINAPI | D133: CORDOALHA DE COBRE NU 35 MM², NÃO ENTERRADA, COM ISOLADOR - FORNECIMENTO E INSTALAÇÃO. AF_08/2023 | E133: M | F133: 43.139042 | G133: 78.1 | H133: 99.13 | I133: 4276.37 | J133: 0.0012471456
A134: 6 | D134: MANUTENÇÃO DE PAREDES / PAINÉIS | I134: 248942.67 | J134: 0.072600772
A135: 6.1 | B135: 87495 | C135: SINAPI | D135: ALVENARIA DE VEDAÇÃO DE BLOCOS CERÂMICOS FURADOS NA HORIZONTAL DE 9X19X19CM (ESPESSURA 9CM) DE PAREDES COM ÁREA LÍQUIDA MENOR QUE 6M² SEM VÃOS E ARGAMASSA DE ASSENTAMENTO COM PREPARO EM BETONEIRA. AF_06/2014 | E135: m² | F135: 316.35298 | G135: 108.09 | H135: 137.19 | I135: 43400.46 | J135: 0.012657159
A136: 6.2 | B136: 87879 | C136: SINAPI | D136: CHAPISCO APLICADO EM ALVENARIAS E ESTRUTURAS DE CONCRETO INTERNAS, COM COLHER DE PEDREIRO. ARGAMASSA TRAÇO 1:3 COM PREPARO EM BETONEIRA 400L. AF_10/2022 | E136: m² | F136: 632.70596 | G136: 5.04 | H136: 6.39 | I136: 4042.99 | J136: 0.0011790835
A137: 6.3 | B137: 87797 | C137: SINAPI | D137: EMBOÇO OU MASSA ÚNICA EM ARGAMASSA TRAÇO 1:2:8, PREPARO MECÂNICO COM BETONEIRA 400 L, APLICADA MANUALMENTE EM PANOS CEGOS DE FACHADA (SEM PRESENÇA DE VÃOS), ESPESSURA DE 35 MM. AF_08/2022 | E137: m² | F137: 528.8508 | G137: 63.87 | H137: 81.07 | I137: 42873.93 | J137: 0.012503603
A138: 6.4 | B138: 104611 | C138: SINAPI | D138: REVESTIMENTO CERÂMICO PARA PAREDES INTERNAS COM PLACAS TIPO ESMALTADA DE DIMENSÕES 60X60 CM APLICADAS NA ALTURA INTEIRA DAS PAREDES. AF_02/2023_PE | E138: m² | F138: 154.58157 | G138: 94.27 | H138: 119.65 | I138: 18495.68 | J138: 0.0053940156
A139: 6.5 | B139: 88787 | C139: SINAPI | D139: REVESTIMENTO CERÂMICO PARA PAREDES EXTERNAS EM PASTILHAS DE PORCELANA 2,5 X 2,5 CM (PLACAS DE 30 X 30 CM), ALINHADAS A PRUMO, APLICADO EM PANOS SEM VÃOS. AF_10/2014 | E139: m² | F139: 150.798 | G139: 360.86 | H139: 458.03 | I139: 69070 | J139: 0.020143334
A140: 6.6 | B140: 105938 | C140: SINAPI | D140: REVESTIMENTO NÃO ADERIDO DE PAREDES EXTERNAS COM PLACAS DE PORCELANATO DE ÁREA MAIOR DO QUE 2500 CM2 E MENOR OU IGUAL A 6400 CM2, FIXADAS COM INSERTE METÁLICO. AF_03/2025 | E140: m² | F140: 257.63595 | G140: 140.96 | H140: 178.92 | I140: 46096.22 | J140: 0.013443341
A141: 6.7 | B141: 102253 | C141: SINAPI | D141: DIVISORIA SANITÁRIA, EM GRANITO CINZA POLIDO, ESP = 3CM, ASSENTADO COM ARGAMASSA COLANTE AC III-E. AF_10/2025 | E141: m² | F141: 26.842071 | G141: 732.7 | H141: 930.01 | I141: 24963.39 | J141: 0.007280236
A142: 7 | D142: MANUTENÇÃO DE IMPERMEABILIZAÇÕES E PROTEÇÕES DIVERSAS | I142: 107735.2 | J142: 0.031419518
A143: 7.1 | B143: 98555 | C143: SINAPI | D143: IMPERMEABILIZAÇÃO DE SUPERFÍCIE COM ARGAMASSA POLIMÉRICA / MEMBRANA ACRÍLICA, 3 DEMÃOS. AF_09/2023 | E143: m² | F143: 457.75317 | G143: 33.07 | H143: 41.97 | I143: 19211.9 | J143: 0.0056028915
A144: 7.2 | B144: 98547 | C144: SINAPI | D144: IMPERMEABILIZAÇÃO DE SUPERFÍCIE COM MANTA ASFÁLTICA, DUAS CAMADAS, INCLUSIVE APLICAÇÃO DE PRIMER ASFÁLTICO, E=3MM E E=4MM. AF_09/2023 | E144: m² | F144: 176.136 | G144: 194 | H144: 246.24 | I144: 43371.72 | J144: 0.012648777
A145: 7.3 | B145: 98575 | C145: SINAPI | D145: TRATAMENTO DE JUNTA DE DILATAÇÃO, COM TARUGO DE POLIETILENO E SELANTE PU, INCLUSO PREENCHIMENTO COM ESPUMA EXPANSIVA PU. AF_09/2023 | E145: M | F145: 220.48844 | G145: 72.28 | H145: 91.74 | I145: 20227.6 | J145: 0.0058991067
A146: 7.4 | B146: 98565 | C146: SINAPI | D146: PROTEÇÃO MECÂNICA DE SUPERFICIE HORIZONTAL COM ARGAMASSA DE CIMENTO E AREIA, TRAÇO 1:3, E=3CM. AF_09/2023 | E146: m² | F146: 328.33605 | G146: 59.81 | H146: 75.91 | I146: 24923.98 | J146: 0.0072687426
A147: 8 | D147: MANUTENÇÃO DE ESQUADRIAS / FERRAGENS / VIDROS | I147: 442945.54 | J147: 0.12917909
A148: 8.1 | B148: 90841 | C148: SINAPI | D148: KIT DE PORTA DE MADEIRA PARA PINTURA, SEMI-OCA (LEVE OU MÉDIA), PADRÃO MÉDIO, 60X210CM, ESPESSURA DE 3,5CM, ITENS INCLUSOS: DOBRADIÇAS, MONTAGEM E INSTALAÇÃO DO BATENTE, FECHADURA COM EXECUÇÃO DO FURO - FORNECIMENTO E INSTALAÇÃO. AF_10/2025 | E148: UN | F148: 31.155975 | G148: 1111.7 | H148: 1411.08 | I148: 43963.57 | J148: 0.012821382
A149: 8.2 | B149: 90842 | C149: SINAPI | D149: KIT DE PORTA DE MADEIRA PARA PINTURA, SEMI-OCA (LEVE OU MÉDIA), PADRÃO MÉDIO, 70X210CM, ESPESSURA DE 3,5CM, ITENS INCLUSOS: DOBRADIÇAS, MONTAGEM E INSTALAÇÃO DO BATENTE, FECHADURA COM EXECUÇÃO DO FURO - FORNECIMENTO E INSTALAÇÃO. AF_10/2025 | E149: UN | F149: 31.155975 | G149: 1123.71 | H149: 1426.32 | I149: 44438.39 | J149: 0.012959857
A150: 8.3 | B150: 90843 | C150: SINAPI | D150: KIT DE PORTA DE MADEIRA PARA PINTURA, SEMI-OCA (LEVE OU MÉDIA), PADRÃO MÉDIO, 80X210CM, ESPESSURA DE 3,5CM, ITENS INCLUSOS: DOBRADIÇAS, MONTAGEM E INSTALAÇÃO DO BATENTE, FECHADURA COM EXECUÇÃO DO FURO - FORNECIMENTO E INSTALAÇÃO. AF_10/2025 | E150: UN | F150: 31.155975 | G150: 1177.86 | H150: 1495.05 | I150: 46579.74 | J150: 0.013584353
A151: 8.4 | B151: 90844 | C151: SINAPI | D151: KIT DE PORTA DE MADEIRA PARA PINTURA, SEMI-OCA (LEVE OU MÉDIA), PADRÃO MÉDIO, 90X210CM, ESPESSURA DE 3,5CM, ITENS INCLUSOS: DOBRADIÇAS, MONTAGEM E INSTALAÇÃO DO BATENTE, FECHADURA COM EXECUÇÃO DO FURO - FORNECIMENTO E INSTALAÇÃO. AF_10/2025 | E151: UN | F151: 31.155975 | G151: 1256.25 | H151: 1594.55 | I151: 49679.76 | J151: 0.014488432
A152: 8.5 | B152: 90831 | C152: SINAPI | D152: FECHADURA DE EMBUTIR SEM CILINDRO, PARA PORTA DE BANHEIRO, COMPLETA, ACABAMENTO PADRÃO MÉDIO, INCLUSO EXECUÇÃO DE FURO - FORNECIMENTO E INSTALAÇÃO. AF_10/2025 | E152: UN | F152: 34.031911 | G152: 167.16 | H152: 212.17 | I152: 7220.55 | J152: 0.002105776
A153: 8.6 | B153: 91307 | C153: SINAPI | D153: FECHADURA DE EMBUTIR SEM CILINDRO, PARA PORTAS INTERNAS, COMPLETA, ACABAMENTO PADRÃO POPULAR, COM EXECUÇÃO DE FURO - FORNECIMENTO E INSTALAÇÃO. AF_10/2025 | E153: UN | F153: 42.180397 | G153: 106.44 | H153: 135.1 | I153: 5698.57 | J153: 0.0016619111
A154: 8.7 | B154: 90830 | C154: SINAPI | D154: FECHADURA DE EMBUTIR COM CILINDRO, EXTERNA, COMPLETA, ACABAMENTO PADRÃO MÉDIO, INCLUSO EXECUÇÃO DE FURO - FORNECIMENTO E INSTALAÇÃO. AF_10/2025 | E154: UN | F154: 23.007489 | G154: 193.83 | H154: 246.02 | I154: 5660.3 | J154: 0.0016507501
A155: 8.8 | B155: 100701 | C155: SINAPI | D155: PORTA DE FERRO, DE ABRIR, TIPO GRADE COM CHAPA, COM GUARNIÇÕES. AF_10/2025 | E155: m² | F155: 42.180397 | G155: 571.26 | H155: 725.1 | I155: 30585 | J155: 0.0089197027
A156: 8.9 | B156: 105813 | C156: SINAPI | D156: JANELA DE AÇO GALVANIZADO TIPO MAXIMO-AR, PINT. ANTICORROSIVA, COM BATENTE/REQUADRO DE 6 A 14 CM, SEM VIDRO, COM GRADE, 1 FL, 60 X 80 CM (A X L), FIXAÇÃO COM ARGAMASSA, EXCLUSIVE CONTRAMARCO - FORNECIMENTO E INSTALAÇÃO. AF_11/2024 | E156: m² | F156: 21.569521 | G156: 932.69 | H156: 1183.86 | I156: 25535.29 | J156: 0.0074470229
A157: 8.10 | B157: 94559 | C157: SINAPI | D157: JANELA DE AÇO TIPO BASCULANTE, PARA VIDROS (VIDROS NÃO INCLUSOS), BATENTE/ REQUADRO INCLUSO (6,5 A 14 CM), DIMENSÕES 60X60 CM, COM COM PINTURA ANTICORROSIVA, SEM ACABAMENTO, COM FERRAGENS, FIXAÇÃO COM ARGAMASSA, EXCLUSIVE CONTRAMARCO - FORNECIMENTO E INSTALAÇÃO. AF_11/2024 | E157: m² | F157: 29.718007 | G157: 664.41 | H157: 843.33 | I157: 25062.08 | J157: 0.0073090176
A158: 8.11 | B158: 94805 | C158: SINAPI | D158: PORTA DE ALUMÍNIO DE ABRIR PARA VIDRO SEM GUARNIÇÃO, 87X210CM, FIXAÇÃO COM PARAFUSOS, INCLUSIVE VIDROS - FORNECIMENTO E INSTALAÇÃO. AF_10/2025 | E158: UN | F158: 29.718007 | G158: 902.84 | H158: 1145.97 | I158: 34055.94 | J158: 0.0099319555
A159: 8.12 | B159: 91338 | C159: SINAPI | D159: PORTA DE ALUMÍNIO DE ABRIR COM LAMBRI, COM GUARNIÇÃO, FIXAÇÃO COM PARAFUSOS - FORNECIMENTO E INSTALAÇÃO. AF_12/2019 | E159: m² | F159: 21.569521 | G159: 874.09 | H159: 1109.48 | I159: 23930.95 | J159: 0.0069791388
... A167: 8.20 | B167: 102188 | C167: SINAPI | D167: MOLA HIDRAULICA DE PISO PARA PORTA DE VIDRO TEMPERADO. AF_11/2025 | E167: UN | F167: 16.776294 | G167: 919.28 | H167: 1166.84 | I167: 19575.25 | J167: 0.0057088576
A168: 9 | D168: MANUTENÇÃO DE PISOS / SOLEIRAS / RODAPÉS | I168: 157206.59 | J168: 0.045847182
A169: 9.1 | B169: 87765 | C169: SINAPI | D169: CONTRAPISO EM ARGAMASSA TRAÇO 1:4 (CIMENTO E AREIA), PREPARO MECÂNICO COM BETONEIRA 400 L, APLICADO EM ÁREAS MOLHADAS SOBRE IMPERMEABILIZAÇÃO, ACABAMENTO NÃO REFORÇADO, ESPESSURA 4CM. AF_07/2021 | E169: m² | F169: 516.6 | G169: 65.77 | H169: 83.48 | I169: 43125.76 | J169: 0.012577046
A170: 9.2 | B170: 87263 | C170: SINAPI | D170: REVESTIMENTO CERÂMICO PARA PISO COM PLACAS TIPO PORCELANATO DE DIMENSÕES 60X60 CM APLICADA EM AMBIENTES DE ÁREA MAIOR QUE 10 M². AF_02/2023_PE | E170: m² | F170: 281.00293 | G170: 110.52 | H170: 140.28 | I170: 39419.09 | J170: 0.011496046
A171: 9.3 | B171: 104605 | C171: SINAPI | D171: REVESTIMENTO CERÂMICO PARA PISO COM PLACAS TIPO ESMALTADA DE DIMENSÕES 45X45 CM APLICADA EM DIAGONAL EM AMBIENTES DE ÁREA MENOR QUE 5 M². AF_02/2023_PE | E171: m² | F171: 418.1508 | G171: 105.54 | H171: 133.96 | I171: 56015.48 | J171: 0.016336159
A172: 9.4 | B172: 88650 | C172: SINAPI | D172: RODAPÉ CERÂMICO DE 7CM DE ALTURA COM PLACAS TIPO ESMALTADA DE DIMENSÕES 60X60CM. AF_02/2023 | E172: M | F172: 390.648 | G172: 11.84 | H172: 15.02 | I172: 5867.53 | J172: 0.001711186
A173: 9.5 | B173: 98689 | C173: SINAPI | D173: SOLEIRA EM GRANITO, LARGURA 15 CM, ESPESSURA 2,0 CM. AF_09/2020 | E173: M | F173: 42.180397 | G173: 108.35 | H173: 137.52 | I173: 5800.64 | J173: 0.0016916784
A174: 9.6 | B174: 101965 | C174: SINAPI | D174: PEITORIL LINEAR EM GRANITO OU MÁRMORE, L = 15CM, ASSENTADO COM ARGAMASSA 1:6 COM ADITIVO. AF_11/2020 | E174: M | F174: 50.328883 | G174: 109.24 | H174: 138.65 | I174: 6978.09 | J174: 0.0020350658
A175: 10 | D175: MANUTENÇÃO DE PINTURAS | I175: 341773.56 | J175: 0.099673649
A176: 10.1 | B176: 88495 | C176: SINAPI | D176: EMASSAMENTO COM MASSA LÁTEX, APLICAÇÃO EM PAREDE, UMA DEMÃO, LIXAMENTO MANUAL. AF_04/2023 | E176: m² | F176: 1747.7808 | G176: 13.06 | H176: 16.57 | I176: 28960.72 | J176: 0.0084460034
A177: 10.2 | B177: 88489 | C177: SINAPI | D177: PINTURA LÁTEX ACRÍLICA PREMIUM, APLICAÇÃO MANUAL EM PAREDES, DUAS DEMÃOS. AF_04/2023 | E177: m² | F177: 5899.2276 | G177: 14.38 | H177: 18.25 | I177: 107660.9 | J177: 0.031397849
A178: 10.3 | B178: 88485 | C178: SINAPI | D178: FUNDO SELADOR ACRÍLICO, APLICAÇÃO MANUAL EM PAREDE, UMA DEMÃO. AF_04/2023 | E178: m² | F178: 5899.2276 | G178: 4.87 | H178: 6.18 | I178: 36457.22 | J178: 0.010632256
A179: 10.4 | B179: 88496 | C179: SINAPI | D179: EMASSAMENTO COM MASSA LÁTEX, APLICAÇÃO EM TETO, DUAS DEMÃOS, LIXAMENTO MANUAL. AF_04/2023 | E179: m² | F179: 489.1956 | G179: 35.99 | H179: 45.68 | I179: 22346.45 | J179: 0.0065170407
A180: 10.5 | B180: 88488 | C180: SINAPI | D180: PINTURA LÁTEX ACRÍLICA PREMIUM, APLICAÇÃO MANUAL EM TETO, DUAS DEMÃOS. AF_04/2023 | E180: m² | F180: 1545.7164 | G180: 17.01 | H180: 21.59 | I180: 33372.01 | J180: 0.0097324966
A181: 10.6 | B181: 88484 | C181: SINAPI | D181: FUNDO SELADOR ACRÍLICO, APLICAÇÃO MANUAL EM TETO, UMA DEMÃO. AF_04/2023 | E181: m² | F181: 1545.7164 | G181: 5.94 | H181: 7.53 | I181: 11639.24 | J181: 0.0033944274
A182: 10.7 | B182: 102193 | C182: SINAPI | D182: LIXAMENTO DE MADEIRA PARA APLICAÇÃO DE FUNDO OU PINTURA. AF_01/2021 | E182: m² | F182: 463.02572 | G182: 2.33 | H182: 2.95 | I182: 1365.92 | J182: 0.00039835214
A183: 10.8 | B183: 102195 | C183: SINAPI | D183: PINTURA FUNDO NIVELADOR ALQUÍDICO INCOLOR EM MADEIRA. AF_01/2021 | E183: m² | F183: 463.02572 | G183: 20.59 | H183: 26.13 | I183: 12098.86 | J183: 0.0035284693
A184: 10.9 | B184: 102215 | C184: SINAPI | D184: PINTURA VERNIZ (INCOLOR) POLIURETÂNICO (RESINA ALQUÍDICA MODIFICADA) EM MADEIRA, 2 DEMÃOS. AF_01/2021 | E184: m² | F184: 463.02572 | G184: 22.11 | H184: 28.06 | I184: 12992.5 | J184: 0.0037890874
A185: 10.10 | B185: 102234 | C185: SINAPI | D185: PINTURA IMUNIZANTE PARA MADEIRA, 2 DEMÃOS. AF_01/2021 | E185: m² | F185: 726.9792 | G185: 23.33 | H185: 29.61 | I185: 21525.85 | J185: 0.0062777238
A186: 10.11 | B186: 100717 | C186: SINAPI | D186: LIXAMENTO MANUAL EM SUPERFÍCIES METÁLICAS EM OBRA. AF_01/2020 | E186: m² | F186: 599.15337 | G186: 11.16 | H186: 14.16 | I186: 8484.01 | J186: 0.0024742471
...

Sheet Bocaina de Minas
D1: Obra | E1: Bancos | G1: B.D.I. | I1: Encargos Sociais
D2: MANUTENÇÃO PREDIAL CIMAG - BOCINA DE MINAS - MG | E2: SINAPI - 02/2026 - Minas Gerais | G2: 26,93% | I2: Desonerado: embutido nos preços unitário dos insumos de mão de obra, de acordo com as bases.
A3: Orçamento Sintético
A4: Item | B4: Código | C4: Banco | D4: Descrição | E4: Und | F4: Quant. | G4: Valor Unit | H4: Valor Unit com BDI | I4: Total | J4: Peso (%)
A5: 1 | D5: ACOMPANHAMENTO DE MANUTENÇÕES | I5: 78533.2 | J5: 0.080821089
A6: 1.1 | B6: 90778 | C6: SINAPI | D6: ENGENHEIRO CIVIL DE OBRA PLENO COM ENCARGOS COMPLEMENTARES | E6: H | F6: 229.4056 | G6: 136.69 | H6: 173.5 | I6: 39801.87 | J6: 0.040961408
A7: 1.2 | B7: 90776 | C7: SINAPI | D7: ENCARREGADO GERAL COM ENCARGOS COMPLEMENTARES | E7: H | F7: 489.836 | G7: 62.3 | H7: 79.07 | I7: 38731.33 | J7: 0.039859681
A8: 2 | D8: SERVIÇOS PRELIMINARES (DEMOLIÇÕES / RETIRADAS) | I8: 80123.47 | J8: 0.082457688
A9: 2.1 | B9: 97633 | C9: SINAPI | D9: DEMOLIÇÃO DE REVESTIMENTO CERÂMICO, DE FORMA MANUAL, SEM REAPROVEITAMENTO. AF_09/2023 | E9: m² | F9: 236.65382 | G9: 25.97 | H9: 32.96 | I9: 7800.11 | J9: 0.0080273488
A10: 2.2 | B10: 97663 | C10: SINAPI | D10: REMOÇÃO DE LOUÇAS, DE FORMA MANUAL, SEM REAPROVEITAMENTO. AF_09/2023 | E10: UN | F10: 74.392318 | G10: 14.14 | H10: 17.94 | I10: 1334.59 | J10: 0.0013734703
A11: 2.3 | B11: 97664 | C11: SINAPI | D11: REMOÇÃO DE ACESSÓRIOS, DE FORMA MANUAL, SEM REAPROVEITAMENTO. AF_09/2023 | E11: UN | F11: 89.082106 | G11: 1.76 | H11: 2.23 | I11: 198.65 | J11: 0.00020443722
A12: 2.4 | B12: 90447 | C12: SINAPI | D12: RASGO LINEAR MANUAL EM ALVENARIA, PARA ELETRODUTOS, DIÂMETROS MENORES OU IGUAIS A 40 MM. AF_09/2023 | E12: M | F12: 190.56293 | G12: 9.28 | H12: 11.77 | I12: 2242.92 | J12: 0.0023082625
A13: 2.5 | B13: 97660 | C13: SINAPI | D13: REMOÇÃO DE INTERRUPTORES/TOMADAS ELÉTRICAS, DE FORMA MANUAL, SEM REAPROVEITAMENTO. AF_09/2023 | E13: UN | F13: 561.58114 | G13: 0.74 | H13: 0.93 | I13: 522.27 | J13: 0.00053748517
A14: 2.6 | B14: 97661 | C14: SINAPI | D14: REMOÇÃO DE CABOS ELÉTRICOS, COM SEÇÃO DE 10 MM², FORMA MANUAL, SEM REAPROVEITAMENTO. AF_09/2023 | E14: M | F14: 8467.1126 | G14: 0.8 | H14: 1.01 | I14: 8551.78 | J14: 0.008800917
A15: 2.7 | B15: 97665 | C15: SINAPI | D15: REMOÇÃO DE LUMINÁRIAS, DE FORMA MANUAL, SEM REAPROVEITAMENTO. AF_09/2023 | E15: UN | F15: 111.18417 | G15: 2.01 | H15: 2.55 | I15: 283.51 | J15: 0.00029176943
A16: 2.8 | B16: 97644 | C16: SINAPI | D16: REMOÇÃO DE PORTAS, DE FORMA MANUAL, SEM REAPROVEITAMENTO. AF_09/2023 | E16: m² | F16: 110.37556 | G16: 10.69 | H16: 13.56 | I16: 1496.69 | J16: 0.0015402927
A17: 2.9 | B17: 97645 | C17: SINAPI | D17: REMOÇÃO DE JANELAS, DE FORMA MANUAL, SEM REAPROVEITAMENTO. AF_09/2023 | E17: m² | F17: 241.77503 | G17: 27.59 | H17: 35.01 | I17: 8464.54 | J17: 0.0087111354
A18: 2.10 | B18: 90441 | C18: SINAPI | D18: FURO MECANIZADO EM CONCRETO, COM MARTELO DEMOLIDOR, PARA INSTALAÇÕES HIDRÁULICAS, DIÂMETROS MAIORES QUE 75 MM E MENORES OU IGUAIS A 150 MM. AF_09/2023 | E18: UN | F18: 59.567762 | G18: 10.13 | H18: 12.85 | I18: 765.44 | J18: 0.00078773938
A19: 2.11 | B19: 97631 | C19: SINAPI | D19: DEMOLIÇÃO DE ARGAMASSAS, DE FORMA MANUAL, SEM REAPROVEITAMENTO. AF_09/2023 | E19: m² | F19: 120.34844 | G19: 12.77 | H19: 16.2 | I19: 1949.64 | J19: 0.0020064384
A20: 2.12 | B20: 97643 | C20: SINAPI | D20: REMOÇÃO DE PISO DE MADEIRA (ASSOALHO E BARROTE), DE FORMA MANUAL, SEM REAPROVEITAMENTO. AF_09/2023 | E20: m² | F20: 55.929007 | G20: 28.2 | H20: 35.79 | I20: 2001.69 | J20: 0.0020600048
... A28: 2.20 | B28: 97062 | C28: SINAPI | D28: COLOCAÇÃO DE TELA EM ANDAIME FACHADEIRO. AF_03/2024 | E28: m² | F28: 295.41297 | G28: 6.4 | H28: 8.12 | I28: 2398.75 | J28: 0.0024686322
A29: 3 | D29: CARGA, DESCARGA E / OU TRANSPORTE DE MATERIAIS PROVENIENTES DAS MANUTENÇÕES | I29: 15535.84 | J29: 0.015988442
A30: 3.1 | B30: 100984 | C30: SINAPI | D30: CARGA, MANOBRA E DESCARGA DE ENTULHO EM CAMINHÃO BASCULANTE 18 M³ - CARGA COM ESCAVADEIRA HIDRÁULICA (CAÇAMBA DE 0,80 M³ / 111 HP) E DESCARGA LIVRE (UNIDADE: M3). AF_07/2020 | E30: m³ | F30: 315.76305 | G30: 9.03 | H30: 11.46 | I30: 3618.64 | J30: 0.003724061
A31: 3.2 | B31: 95875 | C31: SINAPI | D31: TRANSPORTE COM CAMINHÃO BASCULANTE DE 10 M³, EM VIA URBANA PAVIMENTADA, DMT ATÉ 30 KM (UNIDADE: M3XKM). AF_07/2020 | E31: M3XKM | F31: 750.74248 | G31: 2.61 | H31: 3.31 | I31: 2484.95 | J31: 0.0025573435
A32: 3.3 | B32: 93358 | C32: SINAPI | D32: ESCAVAÇÃO MANUAL DE VALA. AF_09/2024 | E32: m³ | F32: 60.645912 | G32: 93.27 | H32: 118.38 | I32: 7179.26 | J32: 0.0073884117
A33: 3.4 | B33: 93382 | C33: SINAPI | D33: REATERRO MANUAL DE VALAS, COM COMPACTADOR DE SOLOS DE PERCUSSÃO. AF_08/2023 | E33: m³ | F33: 60.645912 | G33: 29.27 | H33: 37.15 | I33: 2252.99 | J33: 0.0023186258
A34: 4 | D34: MANUTENÇÃO DE INSTALAÇÕES HIDROSSANITÁRIAS | I34: 158713.56 | J34: 0.16333732
A35: 4.1 | B35: 89714 | C35: SINAPI | D35: TUBO PVC, SERIE NORMAL, ESGOTO PREDIAL, DN 100 MM, FORNECIDO E INSTALADO EM RAMAL DE DESCARGA OU RAMAL DE ESGOTO SANITÁRIO. AF_08/2022 | E35: M | F35: 77.491998 | G35: 41.27 | H35: 52.38 | I35: 4059.03 | J35: 0.0041772808
A36: 4.2 | B36: 89713 | C36: SINAPI | D36: TUBO PVC, SERIE NORMAL, ESGOTO PREDIAL, DN 75 MM, FORNECIDO E INSTALADO EM RAMAL DE DESCARGA OU RAMAL DE ESGOTO SANITÁRIO. AF_08/2022 | E36: M | F36: 180.72482 | G36: 36.84 | H36: 46.76 | I36: 8450.69 | J36: 0.0086968819
A37: 4.3 | B37: 89712 | C37: SINAPI | D37: TUBO PVC, SERIE NORMAL, ESGOTO PREDIAL, DN 50 MM, FORNECIDO E INSTALADO EM RAMAL DE DESCARGA OU RAMAL DE ESGOTO SANITÁRIO. AF_08/2022 | E37: M | F37: 180.72482 | G37: 29.64 | H37: 37.62 | I37: 6798.86 | J37: 0.0069969296
A38: 4.4 | B38: 89744 | C38: SINAPI | D38: JOELHO 90 GRAUS, PVC, SERIE NORMAL, ESGOTO PREDIAL, DN 100 MM, JUNTA ELÁSTICA, FORNECIDO E INSTALADO EM RAMAL DE DESCARGA OU RAMAL DE ESGOTO SANITÁRIO. AF_08/2022 | E38: UN | F38: 133.55577 | G38: 28.94 | H38: 36.73 | I38: 4905.5 | J38: 0.0050484108
A39: 4.5 | B39: 89731 | C39: SINAPI | D39: JOELHO 90 GRAUS, PVC, SERIE NORMAL, ESGOTO PREDIAL, DN 50 MM, JUNTA ELÁSTICA, FORNECIDO E INSTALADO EM RAMAL DE DESCARGA OU RAMAL DE ESGOTO SANITÁRIO. AF_08/2022 | E39: UN | F39: 37.196159 | G39: 15.85 | H39: 20.11 | I39: 748.01 | J39: 0.0007698016
A40: 4.6 | B40: 89746 | C40: SINAPI | D40: JOELHO 45 GRAUS, PVC, SERIE NORMAL, ESGOTO PREDIAL, DN 100 MM, JUNTA ELÁSTICA, FORNECIDO E INSTALADO EM RAMAL DE DESCARGA OU RAMAL DE ESGOTO SANITÁRIO. AF_08/2022 | E40: UN | F40: 22.371603 | G40: 29.79 | H40: 37.81 | I40: 845.87 | J40: 0.00087051253
A41: 4.7 | B41: 89795 | C41: SINAPI | D41: JUNÇÃO SIMPLES, PVC, SERIE NORMAL, ESGOTO PREDIAL, DN 75 X 75 MM, JUNTA ELÁSTICA, FORNECIDO E INSTALADO EM RAMAL DE DESCARGA OU RAMAL DE ESGOTO SANITÁRIO. AF_08/2022 | E41: UN | F41: 37.196159 | G41: 42.5 | H41: 53.94 | I41: 2006.36 | J41: 0.0020648108
A42: 4.8 | B42: 89834 | C42: SINAPI | D42: JUNÇÃO SIMPLES, PVC, SERIE NORMAL, ESGOTO PREDIAL, DN 100 X 100 MM, JUNTA ELÁSTICA, FORNECIDO E INSTALADO EM PRUMADA DE ESGOTO SANITÁRIO OU VENTILAÇÃO. AF_08/2022 | E42: UN | F42: 22.371603 | G42: 55.27 | H42: 70.15 | I42: 1569.36 | J42: 0.0016150798
A43: 4.9 | B43: 89808 | C43: SINAPI | D43: CURVA LONGA 90 GRAUS, PVC, SERIE NORMAL, ESGOTO PREDIAL, DN 75 MM, JUNTA ELÁSTICA, FORNECIDO E INSTALADO EM PRUMADA DE ESGOTO SANITÁRIO OU VENTILAÇÃO. AF_08/2022 | E43: UN | F43: 37.196159 | G43: 59.93 | H43: 76.06 | I43: 2829.13 | J43: 0.0029115504
A44: 4.10 | B44: 89806 | C44: SINAPI | D44: JOELHO 45 GRAUS, PVC, SERIE NORMAL, ESGOTO PREDIAL, DN 75 MM, JUNTA ELÁSTICA, FORNECIDO E INSTALADO EM PRUMADA DE ESGOTO SANITÁRIO OU VENTILAÇÃO. AF_08/2022 | E44: UN | F44: 37.196159 | G44: 22.5 | H44: 28.55 | I44: 1061.95 | J44: 0.0010928875
A45: 4.11 | B45: 91794 | C45: SINAPI | D45: (COMPOSIÇÃO REPRESENTATIVA) DO SERVIÇO DE INST. TUBO PVC, SÉRIE N, ESGOTO PREDIAL, DN 75 MM, (INST. EM RAMAL DE DESCARGA, RAMAL DE ESG. SANITÁRIO, PRUMADA DE ESG. SANITÁRIO OU VENTILAÇÃO), INCL. CONEXÕES, CORTES E FIXAÇÕES, P/ PRÉDIOS. AF_10/2015 | E45: M | F45: 103.09805 | G45: 50.34 | H45: 63.89 | I45: 6586.93 | J45: 0.0067788255
A46: 4.12 | B46: 91792 | C46: SINAPI | D46: (COMPOSIÇÃO REPRESENTATIVA) DO SERVIÇO DE INSTALAÇÃO DE TUBO DE PVC, SÉRIE NORMAL, ESGOTO PREDIAL, DN 40 MM (INSTALADO EM RAMAL DE DESCARGA OU RAMAL DE ESGOTO SANITÁRIO), INCLUSIVE CONEXÕES, CORTES E FIXAÇÕES, PARA PRÉDIOS. AF_10/2015 | E46: M | F46: 56.737619 | G46: 88.12 | H46: 111.85 | I46: 6346.1 | J46: 0.0065309794
... A91: 4.57 | B91: 89711 | C91: SINAPI | D91: TUBO PVC, SERIE NORMAL, ESGOTO PREDIAL, DN 40 MM, FORNECIDO E INSTALADO EM RAMAL DE DESCARGA OU RAMAL DE ESGOTO SANITÁRIO. AF_08/2022 | E91: M | F91: 36.387547 | G91: 23.63 | H91: 29.99 | I91: 1091.26 | J91: 0.0011230514
A92: 5 | D92: MANUTENÇÃO DE INSTALAÇÕES ELÉTRICAS / ELETRIFICAÇÃO E ILUMINAÇÃO EXTERNA | I92: 104859.13 | J92: 0.10791397
A93: 5.1 | B93: 91854 | C93: SINAPI | D93: ELETRODUTO FLEXÍVEL CORRUGADO, PVC, DN 25 MM (3/4"), PARA CIRCUITOS TERMINAIS, INSTALADO EM PAREDE - FORNECIMENTO E INSTALAÇÃO. AF_03/2023 | E93: M | F93: 495.00541 | G93: 10.62 | H93: 13.47 | I93: 6667.72 | J93: 0.0068619691
A94: 5.2 | B94: 91857 | C94: SINAPI | D94: ELETRODUTO FLEXÍVEL CORRUGADO REFORÇADO, PVC, DN 32 MM (1"), PARA CIRCUITOS TERMINAIS, INSTALADO EM PAREDE - FORNECIMENTO E INSTALAÇÃO. AF_03/2023 | E94: M | F94: 319.80611 | G94: 16.86 | H94: 21.4 | I94: 6843.85 | J94: 0.0070432303
A95: 5.3 | B95: 91926 | C95: SINAPI | D95: CABO DE COBRE FLEXÍVEL ISOLADO, 2,5 MM², ANTI-CHAMA 450/750 V, PARA CIRCUITOS TERMINAIS - FORNECIMENTO E INSTALAÇÃO. AF_03/2023 | E95: M | F95: 1323.2938 | G95: 4.97 | H95: 6.3 | I95: 8336.75 | J95: 0.0085796226
A96: 5.4 | B96: 91930 | C96: SINAPI | D96: CABO DE COBRE FLEXÍVEL ISOLADO, 6 MM², ANTI-CHAMA 450/750 V, PARA CIRCUITOS TERMINAIS - FORNECIMENTO E INSTALAÇÃO. AF_03/2023 | E96: M | F96: 663.06197 | G96: 10.72 | H96: 13.6 | I96: 9017.64 | J96: 0.0092803488
A97: 5.5 | B97: 91924 | C97: SINAPI | D97: CABO DE COBRE FLEXÍVEL ISOLADO, 1,5 MM², ANTI-CHAMA 450/750 V, PARA CIRCUITOS TERMINAIS - FORNECIMENTO E INSTALAÇÃO. AF_03/2023 | E97: M | F97: 1004.0268 | G97: 3.42 | H97: 4.34 | I97: 4357.47 | J97: 0.0044844151
A98: 5.6 | B98: 91933 | C98: SINAPI | D98: CABO DE COBRE FLEXÍVEL ISOLADO, 10 MM², ANTI-CHAMA 0,6/1,0 KV, PARA CIRCUITOS TERMINAIS - FORNECIMENTO E INSTALAÇÃO. AF_03/2023 | E98: M | F98: 177.89467 | G98: 18.51 | H98: 23.49 | I98: 4178.74 | J98: 0.0043004782
A99: 5.7 | B99: 91939 | C99: SINAPI | D99: CAIXA RETANGULAR 4" X 2" ALTA (2,00 M DO PISO), PVC, INSTALADA EM PAREDE - FORNECIMENTO E INSTALAÇÃO. AF_03/2023 | E99: UN | F99: 111.18417 | G99: 35.82 | H99: 45.46 | I99: 5054.43 | J99: 0.0052016795
A100: 5.8 | B100: 91940 | C100: SINAPI | D100: CAIXA RETANGULAR 4" X 2" MÉDIA (1,30 M DO PISO), PVC, INSTALADA EM PAREDE - FORNECIMENTO E INSTALAÇÃO. AF_03/2023 | E100: UN | F100: 66.710503 | G100: 20.62 | H100: 26.17 | I100: 1745.81 | J100: 0.0017966703
A101: 5.9 | B101: 91941 | C101: SINAPI | D101: CAIXA RETANGULAR 4" X 2" BAIXA (0,30 M DO PISO), PVC, INSTALADA EM PAREDE - FORNECIMENTO E INSTALAÇÃO. AF_03/2023 | E101: UN | F101: 140.69851 | G101: 13.17 | H101: 16.71 | I101: 2351.07 | J101: 0.0024195632
A102: 5.10 | B102: 91942 | C102: SINAPI | D102: CAIXA RETANGULAR 4" X 4" ALTA (2,00 M DO PISO), PVC, INSTALADA EM PAREDE - FORNECIMENTO E INSTALAÇÃO. AF_03/2023 | E102: UN | F102: 22.371603 | G102: 40.01 | H102: 50.78 | I102: 1136.02 | J102: 0.0011691154
A103: 5.11 | B103: 91937 | C103: SINAPI | D103: CAIXA OCTOGONAL 3" X 3", PVC, INSTALADA EM LAJE - FORNECIMENTO E INSTALAÇÃO. AF_03/2023 | E103: UN | F103: 111.18417 | G103: 18.19 | H103: 23.08 | I103: 2566.13 | J103: 0.0026408885
A104: 5.12 | B104: 91939 | C104: SINAPI | D104: CAIXA RETANGULAR 4" X 2" ALTA (2,00 M DO PISO), PVC, INSTALADA EM PAREDE - FORNECIMENTO E INSTALAÇÃO. AF_03/2023 | E104: UN | F104: 52.020715 | G104: 35.82 | H104: 45.46 | I104: 2364.86 | J104: 0.0024337549
... A133: 5.41 | B133: 96973 | C133: SINAPI | D133: CORDOALHA DE COBRE NU 35 MM², NÃO ENTERRADA, COM ISOLADOR - FORNECIMENTO E INSTALAÇÃO. AF_08/2023 | E133: M | F133: 12.129182 | G133: 78.1 | H133: 99.13 | I133: 1202.36 | J133: 0.0012373881
A134: 6 | D134: MANUTENÇÃO DE PAREDES / PAINÉIS | I134: 70145.63 | J134: 0.072189166
A135: 6.1 | B135: 87495 | C135: SINAPI | D135: ALVENARIA DE VEDAÇÃO DE BLOCOS CERÂMICOS FURADOS NA HORIZONTAL DE 9X19X19CM (ESPESSURA 9CM) DE PAREDES COM ÁREA LÍQUIDA MENOR QUE 6M² SEM VÃOS E ARGAMASSA DE ASSENTAMENTO COM PREPARO EM BETONEIRA. AF_06/2014 | E135: m² | F135: 88.947337 | G135: 108.09 | H135: 137.19 | I135: 12202.68 | J135: 0.012558178
A136: 6.2 | B136: 87879 | C136: SINAPI | D136: CHAPISCO APLICADO EM ALVENARIAS E ESTRUTURAS DE CONCRETO INTERNAS, COM COLHER DE PEDREIRO. ARGAMASSA TRAÇO 1:3 COM PREPARO EM BETONEIRA 400L. AF_10/2022 | E136: m² | F136: 177.89467 | G136: 5.04 | H136: 6.39 | I136: 1136.74 | J136: 0.0011698564
A137: 6.3 | B137: 87797 | C137: SINAPI | D137: EMBOÇO OU MASSA ÚNICA EM ARGAMASSA TRAÇO 1:2:8, PREPARO MECÂNICO COM BETONEIRA 400 L, APLICADA MANUALMENTE EM PANOS CEGOS DE FACHADA (SEM PRESENÇA DE VÃOS), ESPESSURA DE 35 MM. AF_08/2022 | E137: m² | F137: 149.4111 | G137: 63.87 | H137: 81.07 | I137: 12112.75 | J137: 0.012465628
A138: 6.4 | B138: 104611 | C138: SINAPI | D138: REVESTIMENTO CERÂMICO PARA PAREDES INTERNAS COM PLACAS TIPO ESMALTADA DE DIMENSÕES 60X60 CM APLICADAS NA ALTURA INTEIRA DAS PAREDES. AF_02/2023_PE | E138: m² | F138: 43.462903 | G138: 94.27 | H138: 119.65 | I138: 5200.33 | J138: 0.00535183
A139: 6.5 | B139: 88787 | C139: SINAPI | D139: REVESTIMENTO CERÂMICO PARA PAREDES EXTERNAS EM PASTILHAS DE PORCELANA 2,5 X 2,5 CM (PLACAS DE 30 X 30 CM), ALINHADAS A PRUMO, APLICADO EM PANOS SEM VÃOS. AF_10/2014 | E139: m² | F139: 42.6035 | G139: 360.86 | H139: 458.03 | I139: 19513.68 | J139: 0.020082167
A140: 6.6 | B140: 105938 | C140: SINAPI | D140: REVESTIMENTO NÃO ADERIDO DE PAREDES EXTERNAS COM PLACAS DE PORCELANATO DE ÁREA MAIOR DO QUE 2500 CM2 E MENOR OU IGUAL A 6400 CM2, FIXADAS COM INSERTE METÁLICO. AF_03/2025 | E140: m² | F140: 72.438172 | G140: 140.96 | H140: 178.92 | I140: 12960.63 | J140: 0.013338209
A141: 6.7 | B141: 102253 | C141: SINAPI | D141: DIVISORIA SANITÁRIA, EM GRANITO CINZA POLIDO, ESP = 3CM, ASSENTADO COM ARGAMASSA COLANTE AC III-E. AF_10/2025 | E141: m² | F141: 7.5470468 | G141: 732.7 | H141: 930.01 | I141: 7018.82 | J141: 0.0072232976
A142: 7 | D142: MANUTENÇÃO DE IMPERMEABILIZAÇÕES E PROTEÇÕES DIVERSAS | I142: 30350.13 | J142: 0.031234313
A143: 7.1 | B143: 98555 | C143: SINAPI | D143: IMPERMEABILIZAÇÃO DE SUPERFÍCIE COM ARGAMASSA POLIMÉRICA / MEMBRANA ACRÍLICA, 3 DEMÃOS. AF_09/2023 | E143: m² | F143: 128.7041 | G143: 33.07 | H143: 41.97 | I143: 5401.71 | J143: 0.0055590767
A144: 7.2 | B144: 98547 | C144: SINAPI | D144: IMPERMEABILIZAÇÃO DE SUPERFÍCIE COM MANTA ASFÁLTICA, DUAS CAMADAS, INCLUSIVE APLICAÇÃO DE PRIMER ASFÁLTICO, E=3MM E E=4MM. AF_09/2023 | E144: m² | F144: 49.762 | G144: 194 | H144: 246.24 | I144: 12253.39 | J144: 0.012610365
A145: 7.3 | B145: 98575 | C145: SINAPI | D145: TRATAMENTO DE JUNTA DE DILATAÇÃO, COM TARUGO DE POLIETILENO E SELANTE PU, INCLUSO PREENCHIMENTO COM ESPUMA EXPANSIVA PU. AF_09/2023 | E145: M | F145: 61.993598 | G145: 72.28 | H145: 91.74 | I145: 5687.29 | J145: 0.0058529765
A146: 7.4 | B146: 98565 | C146: SINAPI | D146: PROTEÇÃO MECÂNICA DE SUPERFICIE HORIZONTAL COM ARGAMASSA DE CIMENTO E AREIA, TRAÇO 1:3, E=3CM. AF_09/2023 | E146: m² | F146: 92.316554 | G146: 59.81 | H146: 75.91 | I146: 7007.74 | J146: 0.0072118948
A147: 8 | D147: MANUTENÇÃO DE ESQUADRIAS / FERRAGENS / VIDROS | I147: 129791.24 | J147: 0.13357242
A148: 8.1 | B148: 90841 | C148: SINAPI | D148: KIT DE PORTA DE MADEIRA PARA PINTURA, SEMI-OCA (LEVE OU MÉDIA), PADRÃO MÉDIO, 60X210CM, ESPESSURA DE 3,5CM, ITENS INCLUSOS: DOBRADIÇAS, MONTAGEM E INSTALAÇÃO DO BATENTE, FECHADURA COM EXECUÇÃO DO FURO - FORNECIMENTO E INSTALAÇÃO. AF_10/2025 | E148: UN | F148: 8.759965 | G148: 1111.7 | H148: 1411.08 | I148: 12361.01 | J148: 0.01272112
A149: 8.2 | B149: 90842 | C149: SINAPI | D149: KIT DE PORTA DE MADEIRA PARA PINTURA, SEMI-OCA (LEVE OU MÉDIA), PADRÃO MÉDIO, 70X210CM, ESPESSURA DE 3,5CM, ITENS INCLUSOS: DOBRADIÇAS, MONTAGEM E INSTALAÇÃO DO BATENTE, FECHADURA COM EXECUÇÃO DO FURO - FORNECIMENTO E INSTALAÇÃO. AF_10/2025 | E149: UN | F149: 8.759965 | G149: 1123.71 | H149: 1426.32 | I149: 12494.51 | J149: 0.01285851
A150: 8.3 | B150: 90843 | C150: SINAPI | D150: KIT DE PORTA DE MADEIRA PARA PINTURA, SEMI-OCA (LEVE OU MÉDIA), PADRÃO MÉDIO, 80X210CM, ESPESSURA DE 3,5CM, ITENS INCLUSOS: DOBRADIÇAS, MONTAGEM E INSTALAÇÃO DO BATENTE, FECHADURA COM EXECUÇÃO DO FURO - FORNECIMENTO E INSTALAÇÃO. AF_10/2025 | E150: UN | F150: 8.759965 | G150: 1177.86 | H150: 1495.05 | I150: 13096.58 | J150: 0.01347812
A151: 8.4 | B151: 90844 | C151: SINAPI | D151: KIT DE PORTA DE MADEIRA PARA PINTURA, SEMI-OCA (LEVE OU MÉDIA), PADRÃO MÉDIO, 90X210CM, ESPESSURA DE 3,5CM, ITENS INCLUSOS: DOBRADIÇAS, MONTAGEM E INSTALAÇÃO DO BATENTE, FECHADURA COM EXECUÇÃO DO FURO - FORNECIMENTO E INSTALAÇÃO. AF_10/2025 | E151: UN | F151: 8.759965 | G151: 1256.25 | H151: 1594.55 | I151: 13968.2 | J151: 0.014375132
A152: 8.5 | B152: 90831 | C152: SINAPI | D152: FECHADURA DE EMBUTIR SEM CILINDRO, PARA PORTA DE BANHEIRO, COMPLETA, ACABAMENTO PADRÃO MÉDIO, INCLUSO EXECUÇÃO DE FURO - FORNECIMENTO E INSTALAÇÃO. AF_10/2025 | E152: UN | F152: 9.5685771 | G152: 167.16 | H152: 212.17 | I152: 2030.16 | J152: 0.0020893042
A153: 8.6 | B153: 91307 | C153: SINAPI | D153: FECHADURA DE EMBUTIR SEM CILINDRO, PARA PORTAS INTERNAS, COMPLETA, ACABAMENTO PADRÃO POPULAR, COM EXECUÇÃO DE FURO - FORNECIMENTO E INSTALAÇÃO. AF_10/2025 | E153: UN | F153: 11.859645 | G153: 106.44 | H153: 135.1 | I153: 1602.23 | J153: 0.0016489074
A154: 8.7 | B154: 90830 | C154: SINAPI | D154: FECHADURA DE EMBUTIR COM CILINDRO, EXTERNA, COMPLETA, ACABAMENTO PADRÃO MÉDIO, INCLUSO EXECUÇÃO DE FURO - FORNECIMENTO E INSTALAÇÃO. AF_10/2025 | E154: UN | F154: 6.4688972 | G154: 193.83 | H154: 246.02 | I154: 1591.47 | J154: 0.0016378339
A155: 8.8 | B155: 100701 | C155: SINAPI | D155: PORTA DE FERRO, DE ABRIR, TIPO GRADE COM CHAPA, COM GUARNIÇÕES. AF_10/2025 | E155: m² | F155: 11.859645 | G155: 571.26 | H155: 725.1 | I155: 8599.42 | J155: 0.0088499449
A156: 8.9 | B156: 105813 | C156: SINAPI | D156: JANELA DE AÇO GALVANIZADO TIPO MAXIMO-AR, PINT. ANTICORROSIVA, COM BATENTE/REQUADRO DE 6 A 14 CM, SEM VIDRO, COM GRADE, 1 FL, 60 X 80 CM (A X L), FIXAÇÃO COM ARGAMASSA, EXCLUSIVE CONTRAMARCO - FORNECIMENTO E INSTALAÇÃO. AF_11/2024 | E156: m² | F156: 6.0645912 | G156: 932.69 | H156: 1183.86 | I156: 7179.62 | J156: 0.0073887822
A157: 8.10 | B157: 94559 | C157: SINAPI | D157: JANELA DE AÇO TIPO BASCULANTE, PARA VIDROS (VIDROS NÃO INCLUSOS), BATENTE/ REQUADRO INCLUSO (6,5 A 14 CM), DIMENSÕES 60X60 CM, COM COM PINTURA ANTICORROSIVA, SEM ACABAMENTO, COM FERRAGENS, FIXAÇÃO COM ARGAMASSA, EXCLUSIVE CONTRAMARCO - FORNECIMENTO E INSTALAÇÃO. AF_11/2024 | E157: m² | F157: 8.3556589 | G157: 664.41 | H157: 843.33 | I157: 7046.57 | J157: 0.007251856
A158: 8.11 | B158: 94805 | C158: SINAPI | D158: PORTA DE ALUMÍNIO DE ABRIR PARA VIDRO SEM GUARNIÇÃO, 87X210CM, FIXAÇÃO COM PARAFUSOS, INCLUSIVE VIDROS - FORNECIMENTO E INSTALAÇÃO. AF_10/2025 | E158: UN | F158: 8.3556589 | G158: 902.84 | H158: 1145.97 | I158: 9575.33 | J158: 0.0098542858
A159: 8.12 | B159: 91338 | C159: SINAPI | D159: PORTA DE ALUMÍNIO DE ABRIR COM LAMBRI, COM GUARNIÇÃO, FIXAÇÃO COM PARAFUSOS - FORNECIMENTO E INSTALAÇÃO. AF_12/2019 | E159: m² | F159: 6.0645912 | G159: 874.09 | H159: 1109.48 | I159: 6728.54 | J159: 0.006924561
... A167: 8.20 | B167: 102188 | C167: SINAPI | D167: MOLA HIDRAULICA DE PISO PARA PORTA DE VIDRO TEMPERADO. AF_11/2025 | E167: UN | F167: 4.7169042 | G167: 919.28 | H167: 1166.84 | I167: 5503.87 | J167: 0.0056642129
A168: 9 | D168: MANUTENÇÃO DE PISOS / SOLEIRAS / RODAPÉS | I168: 44335.33 | J168: 0.045626941
A169: 9.1 | B169: 87765 | C169: SINAPI | D169: CONTRAPISO EM ARGAMASSA TRAÇO 1:4 (CIMENTO E AREIA), PREPARO MECÂNICO COM BETONEIRA 400 L, APLICADO EM ÁREAS MOLHADAS SOBRE IMPERMEABILIZAÇÃO, ACABAMENTO NÃO REFORÇADO, ESPESSURA 4CM. AF_07/2021 | E169: m² | F169: 145.95 | G169: 65.77 | H169: 83.48 | I169: 12183.9 | J169: 0.012538851
A170: 9.2 | B170: 87263 | C170: SINAPI | D170: REVESTIMENTO CERÂMICO PARA PISO COM PLACAS TIPO PORCELANATO DE DIMENSÕES 60X60 CM APLICADA EM AMBIENTES DE ÁREA MAIOR QUE 10 M². AF_02/2023_PE | E170: m² | F170: 79.008146 | G170: 110.52 | H170: 140.28 | I170: 11083.26 | J170: 0.011406146
A171: 9.3 | B171: 104605 | C171: SINAPI | D171: REVESTIMENTO CERÂMICO PARA PISO COM PLACAS TIPO ESMALTADA DE DIMENSÕES 45X45 CM APLICADA EM DIAGONAL EM AMBIENTES DE ÁREA MENOR QUE 5 M². AF_02/2023_PE | E171: m² | F171: 118.1361 | G171: 105.54 | H171: 133.96 | I171: 15825.51 | J171: 0.016286551
A172: 9.4 | B172: 88650 | C172: SINAPI | D172: RODAPÉ CERÂMICO DE 7CM DE ALTURA COM PLACAS TIPO ESMALTADA DE DIMENSÕES 60X60CM. AF_02/2023 | E172: M | F172: 109.83648 | G172: 11.84 | H172: 15.02 | I172: 1649.74 | J172: 0.0016978015
A173: 9.5 | B173: 98689 | C173: SINAPI | D173: SOLEIRA EM GRANITO, LARGURA 15 CM, ESPESSURA 2,0 CM. AF_09/2020 | E173: M | F173: 11.859645 | G173: 108.35 | H173: 137.52 | I173: 1630.93 | J173: 0.0016784435
A174: 9.6 | B174: 101965 | C174: SINAPI | D174: PEITORIL LINEAR EM GRANITO OU MÁRMORE, L = 15CM, ASSENTADO COM ARGAMASSA 1:6 COM ADITIVO. AF_11/2020 | E174: M | F174: 14.150713 | G174: 109.24 | H174: 138.65 | I174: 1961.99 | J174: 0.0020191482
A175: 10 | D175: MANUTENÇÃO DE PINTURAS | I175: 96466.58 | J175: 0.099276918
A176: 10.1 | B176: 88495 | C176: SINAPI | D176: EMASSAMENTO COM MASSA LÁTEX, APLICAÇÃO EM PAREDE, UMA DEMÃO, LIXAMENTO MANUAL. AF_04/2023 | E176: m² | F176: 493.7836 | G176: 13.06 | H176: 16.57 | I176: 8181.99 | J176: 0.008420354
A177: 10.2 | B177: 88489 | C177: SINAPI | D177: PINTURA LÁTEX ACRÍLICA PREMIUM, APLICAÇÃO MANUAL EM PAREDES, DUAS DEMÃOS. AF_04/2023 | E177: m² | F177: 1666.6517 | G177: 14.38 | H177: 18.25 | I177: 30416.39 | J177: 0.031302503
A178: 10.3 | B178: 88485 | C178: SINAPI | D178: FUNDO SELADOR ACRÍLICO, APLICAÇÃO MANUAL EM PAREDE, UMA DEMÃO. AF_04/2023 | E178: m² | F178: 1666.6517 | G178: 4.87 | H178: 6.18 | I178: 10299.9 | J178: 0.010599965
A179: 10.4 | B179: 88496 | C179: SINAPI | D179: EMASSAMENTO COM MASSA LÁTEX, APLICAÇÃO EM TETO, DUAS DEMÃOS, LIXAMENTO MANUAL. AF_04/2023 | E179: m² | F179: 138.2077 | G179: 35.99 | H179: 45.68 | I179: 6313.32 | J179: 0.0064972445
A180: 10.5 | B180: 88488 | C180: SINAPI | D180: PINTURA LÁTEX ACRÍLICA PREMIUM, APLICAÇÃO MANUAL EM TETO, DUAS DEMÃOS. AF_04/2023 | E180: m² | F180: 436.6963 | G180: 17.01 | H180: 21.59 | I180: 9428.27 | J180: 0.0097029415
A181: 10.6 | B181: 88484 | C181: SINAPI | D181: FUNDO SELADOR ACRÍLICO, APLICAÇÃO MANUAL EM TETO, UMA DEMÃO. AF_04/2023 | E181: m² | F181: 436.6963 | G181: 5.94 | H181: 7.53 | I181: 3288.32 | J181: 0.0033841178
A182: 10.7 | B182: 102193 | C182: SINAPI | D182: LIXAMENTO DE MADEIRA PARA APLICAÇÃO DE FUNDO OU PINTURA. AF_01/2021 | E182: m² | F182: 130.18656 | G182: 2.33 | H182: 2.95 | I182: 384.05 | J182: 0.00039523844
A183: 10.8 | B183: 102195 | C183: SINAPI | D183: PINTURA FUNDO NIVELADOR ALQUÍDICO INCOLOR EM MADEIRA. AF_01/2021 | E183: m² | F183: 130.18656 | G183: 20.59 | H183: 26.13 | I183: 3401.77 | J183: 0.003500873
A184: 10.9 | B184: 102215 | C184: SINAPI | D184: PINTURA VERNIZ (INCOLOR) POLIURETÂNICO (RESINA ALQUÍDICA MODIFICADA) EM MADEIRA, 2 DEMÃOS. AF_01/2021 | E184: m² | F184: 130.18656 | G184: 22.11 | H184: 28.06 | I184: 3653.03 | J184: 0.0037594529
A185: 10.10 | B185: 102234 | C185: SINAPI | D185: PINTURA IMUNIZANTE PARA MADEIRA, 2 DEMÃOS. AF_01/2021 | E185: m² | F185: 205.3864 | G185: 23.33 | H185: 29.61 | I185: 6081.49 | J185: 0.0062586606
A186: 10.11 | B186: 100717 | C186: SINAPI | D186: LIXAMENTO MANUAL EM SUPERFÍCIES METÁLICAS EM OBRA. AF_01/2020 | E186: m² | F186: 168.46087 | G186: 11.16 | H186: 14.16 | I186: 2385.4 | J186: 0.0024548933
...

Sheet Cambuquira
D1: Obra | E1: Bancos | G1: B.D.I. | I1: Encargos Sociais
D2: MANUTENÇÃO PREDIAL CIMAG - CAMBUQUIRA - MG | E2: SINAPI - 02/2026 - Minas Gerais | G2: 26,93% | I2: Desonerado: embutido nos preços unitário dos insumos de mão de obra, de acordo com as bases.
A3: Orçamento Sintético
A4: Item | B4: Código | C4: Banco | D4: Descrição | E4: Und | F4: Quant. | G4: Valor Unit | H4: Valor Unit com BDI | I4: Total | J4: Peso (%)
A5: 1 | D5: ACOMPANHAMENTO DE MANUTENÇÕES | I5: 190965.62 | J5: 0.080881248
A6: 1.1 | B6: 90778 | C6: SINAPI | D6: ENGENHEIRO CIVIL DE OBRA PLENO COM ENCARGOS COMPLEMENTARES | E6: H | F6: 557.8352 | G6: 136.69 | H6: 173.5 | I6: 96784.4 | J6: 0.040991897
A7: 1.2 | B7: 90776 | C7: SINAPI | D7: ENCARREGADO GERAL COM ENCARGOS COMPLEMENTARES | E7: H | F7: 1191.112 | G7: 62.3 | H7: 79.07 | I7: 94181.22 | J7: 0.039889351
A8: 2 | D8: SERVIÇOS PRELIMINARES (DEMOLIÇÕES / RETIRADAS) | I8: 194850.5 | J8: 0.082526643
A9: 2.1 | B9: 97633 | C9: SINAPI | D9: DEMOLIÇÃO DE REVESTIMENTO CERÂMICO, DE FORMA MANUAL, SEM REAPROVEITAMENTO. AF_09/2023 | E9: m² | F9: 575.51299 | G9: 25.97 | H9: 32.96 | I9: 18968.9 | J9: 0.0080340551
A10: 2.2 | B10: 97663 | C10: SINAPI | D10: REMOÇÃO DE LOUÇAS, DE FORMA MANUAL, SEM REAPROVEITAMENTO. AF_09/2023 | E10: UN | F10: 180.91297 | G10: 14.14 | H10: 17.94 | I10: 3245.57 | J10: 0.0013746231
A11: 2.3 | B11: 97664 | C11: SINAPI | D11: REMOÇÃO DE ACESSÓRIOS, DE FORMA MANUAL, SEM REAPROVEITAMENTO. AF_09/2023 | E11: UN | F11: 216.63672 | G11: 1.76 | H11: 2.23 | I11: 483.09 | J11: 0.0002046071
A12: 2.4 | B12: 90447 | C12: SINAPI | D12: RASGO LINEAR MANUAL EM ALVENARIA, PARA ELETRODUTOS, DIÂMETROS MENORES OU IGUAIS A 40 MM. AF_09/2023 | E12: M | F12: 463.4256 | G12: 9.28 | H12: 11.77 | I12: 5454.51 | J12: 0.0023101937
A13: 2.5 | B13: 97660 | C13: SINAPI | D13: REMOÇÃO DE INTERRUPTORES/TOMADAS ELÉTRICAS, DE FORMA MANUAL, SEM REAPROVEITAMENTO. AF_09/2023 | E13: UN | F13: 1365.6962 | G13: 0.74 | H13: 0.93 | I13: 1270.09 | J13: 0.00053793172
A14: 2.6 | B14: 97661 | C14: SINAPI | D14: REMOÇÃO DE CABOS ELÉTRICOS, COM SEÇÃO DE 10 MM², FORMA MANUAL, SEM REAPROVEITAMENTO. AF_09/2023 | E14: M | F14: 20590.976 | G14: 0.8 | H14: 1.01 | I14: 20796.88 | J14: 0.0088082745
A15: 2.7 | B15: 97665 | C15: SINAPI | D15: REMOÇÃO DE LUMINÁRIAS, DE FORMA MANUAL, SEM REAPROVEITAMENTO. AF_09/2023 | E15: UN | F15: 270.38623 | G15: 2.01 | H15: 2.55 | I15: 689.48 | J15: 0.00029202117
A16: 2.8 | B16: 97644 | C16: SINAPI | D16: REMOÇÃO DE PORTAS, DE FORMA MANUAL, SEM REAPROVEITAMENTO. AF_09/2023 | E16: m² | F16: 268.41978 | G16: 10.69 | H16: 13.56 | I16: 3639.77 | J16: 0.0015415819
A17: 2.9 | B17: 97645 | C17: SINAPI | D17: REMOÇÃO DE JANELAS, DE FORMA MANUAL, SEM REAPROVEITAMENTO. AF_09/2023 | E17: m² | F17: 587.96714 | G17: 27.59 | H17: 35.01 | I17: 20584.72 | J17: 0.0087184167
A18: 2.10 | B18: 90441 | C18: SINAPI | D18: FURO MECANIZADO EM CONCRETO, COM MARTELO DEMOLIDOR, PARA INSTALAÇÕES HIDRÁULICAS, DIÂMETROS MAIORES QUE 75 MM E MENORES OU IGUAIS A 150 MM. AF_09/2023 | E18: UN | F18: 144.86147 | G18: 10.13 | H18: 12.85 | I18: 1861.46 | J18: 0.00078839954
A19: 2.11 | B19: 97631 | C19: SINAPI | D19: DEMOLIÇÃO DE ARGAMASSAS, DE FORMA MANUAL, SEM REAPROVEITAMENTO. AF_09/2023 | E19: m² | F19: 292.67261 | G19: 12.77 | H19: 16.2 | I19: 4741.29 | J19: 0.0020081178
A20: 2.12 | B20: 97643 | C20: SINAPI | D20: REMOÇÃO DE PISO DE MADEIRA (ASSOALHO E BARROTE), DE FORMA MANUAL, SEM REAPROVEITAMENTO. AF_09/2023 | E20: m² | F20: 136.01247 | G20: 28.2 | H20: 35.79 | I20: 4867.88 | J20: 0.0020617335
... A28: 2.20 | B28: 97062 | C28: SINAPI | D28: COLOCAÇÃO DE TELA EM ANDAIME FACHADEIRO. AF_03/2024 | E28: m² | F28: 718.40801 | G28: 6.4 | H28: 8.12 | I28: 5833.47 | J28: 0.0024706978
A29: 3 | D29: CARGA, DESCARGA E / OU TRANSPORTE DE MATERIAIS PROVENIENTES DAS MANUTENÇÕES | I29: 37781.28 | J29: 0.016001818
A30: 3.1 | B30: 100984 | C30: SINAPI | D30: CARGA, MANOBRA E DESCARGA DE ENTULHO EM CAMINHÃO BASCULANTE 18 M³ - CARGA COM ESCAVADEIRA HIDRÁULICA (CAÇAMBA DE 0,80 M³ / 111 HP) E DESCARGA LIVRE (UNIDADE: M3). AF_07/2020 | E30: m³ | F30: 767.89688 | G30: 9.03 | H30: 11.46 | I30: 8800.09 | J30: 0.0037271749
A31: 3.2 | B31: 95875 | C31: SINAPI | D31: TRANSPORTE COM CAMINHÃO BASCULANTE DE 10 M³, EM VIA URBANA PAVIMENTADA, DMT ATÉ 30 KM (UNIDADE: M3XKM). AF_07/2020 | E31: M3XKM | F31: 1825.7133 | G31: 2.61 | H31: 3.31 | I31: 6043.11 | J31: 0.0025594883
A32: 3.3 | B32: 93358 | C32: SINAPI | D32: ESCAVAÇÃO MANUAL DE VALA. AF_09/2024 | E32: m³ | F32: 147.4834 | G32: 93.27 | H32: 118.38 | I32: 17459.08 | J32: 0.0073945885
A33: 3.4 | B33: 93382 | C33: SINAPI | D33: REATERRO MANUAL DE VALAS, COM COMPACTADOR DE SOLOS DE PERCUSSÃO. AF_08/2023 | E33: m³ | F33: 147.4834 | G33: 29.27 | H33: 37.15 | I33: 5479 | J33: 0.0023205662
A34: 4 | D34: MANUTENÇÃO DE INSTALAÇÕES HIDROSSANITÁRIAS | I34: 385972.25 | J34: 0.16347402
A35: 4.1 | B35: 89714 | C35: SINAPI | D35: TUBO PVC, SERIE NORMAL, ESGOTO PREDIAL, DN 100 MM, FORNECIDO E INSTALADO EM RAMAL DE DESCARGA OU RAMAL DE ESGOTO SANITÁRIO. AF_08/2022 | E35: M | F35: 188.45101 | G35: 41.27 | H35: 52.38 | I35: 9871.06 | J35: 0.0041807717
A36: 4.2 | B36: 89713 | C36: SINAPI | D36: TUBO PVC, SERIE NORMAL, ESGOTO PREDIAL, DN 75 MM, FORNECIDO E INSTALADO EM RAMAL DE DESCARGA OU RAMAL DE ESGOTO SANITÁRIO. AF_08/2022 | E36: M | F36: 439.50052 | G36: 36.84 | H36: 46.76 | I36: 20551.04 | J36: 0.0087041519
A37: 4.3 | B37: 89712 | C37: SINAPI | D37: TUBO PVC, SERIE NORMAL, ESGOTO PREDIAL, DN 50 MM, FORNECIDO E INSTALADO EM RAMAL DE DESCARGA OU RAMAL DE ESGOTO SANITÁRIO. AF_08/2022 | E37: M | F37: 439.50052 | G37: 29.64 | H37: 37.62 | I37: 16534 | J37: 0.0070027817
