Workbook

Sheet Planilha Orçamentária
A1: SECRETARIA MUNICIPAL DE EDUCAÇÃO DE JANUÁRIA - MG
A2: Prefeitura Municipal de Januária
A3: Secretaria Municipal de Educação de Januária | E3: BDI= | F3: ='Composição BDI'!D11 -> 0.2704
A4: Obra: Construção Cemei Jove da Mata
A5: Preço base: Sicor-out/25, Sinapi-dez/25, Orse-jan/25
A6: Local: Januária-MG
A7: Item | B7: Fonte / Código | C7: Descriçao do item | D7: Valor Unitário sem BDI | E7: Valor unitário com BDI | F7: Unidade | H7: Quantidade | I7: Valor Total
A8: 1 | C8: SERVIÇOS PRELIMINARES | I8: =SUM(I9:I14) -> 74808.63
A9: 1.1 | B9: SICOR - ED-28427 | C9: FORNECIMENTO E COLOCAÇÃO DE PLACA DE OBRA EM CHAPA GALVANIZADA #26, ESP. 0,45MM, DIMENSÃO (3X1,5)M, PLOTADA COM ADESIVO VINÍLICO, AFIXADA COM REBITES 4,8X40MM, EM ESTRUTURA METÁLICA DE METALON 20X20MM, ESP. 1,25MM, INCLUSIVE SUPORTE EM EUCALIPTO AUTOCLAVADO PINTADO COM TINTA PVA DUAS (2) DEMÃOS | D9: 1187.1 | E9: =ROUND(D9+$F$3*D9,2) -> 1508.09 | F9: UNID. | G9: =ROUND(1,2) -> 1 | H9: =ROUND(G9,2) -> 1 | I9: =ROUND(H9*E9,2) -> 1508.09
A10: 1.2 | B10: ORSE - 04177 | C10: LOCAÇÃO DE CONSTRUÇÃO DE EDIFICAÇÃO ACIMA DE 1000 M2, INCLUSIVE EXECUÇÃO DE GABARITO DE MADEIRA | D10: 5.91 | E10: =ROUND(D10+$F$3*D10,2) -> 7.51 | F10: M2 | G10: =1988.97+4.07 -> 1993.04 | H10: =ROUND(G10,2) -> 1993.04 | I10: =ROUND(H10*E10,2) -> 14967.73
A11: 1.3 | B11: SICOR - ED-29823 | C11: TAPUME FIXO DE PROTEÇÃO PARA FECHAMENTO DE OBRA EM TELHA METÁLICA GALVANIZADA, TIPO TRAPEZOIDAL, ESP. 0,5MM, COM MÓDULO NA DIMENSÃO DE (300X220)CM, COM REAPROVEITAMENTO, EXCLUSIVE PINTURA ESMALTE, INCLUSIVE PONTALETE E FIXAÇÃO | D11: 66.72 | E11: =ROUND(D11+$F$3*D11,2) -> 84.76 | F11: M2 | G11: =2.2*240 -> 528 | H11: =ROUND(G11,2) -> 528 | I11: =ROUND(H11*E11,2) -> 44753.28
A12: 1.4 | B12: SICOR - ED-50128 | C12: BARRACÃO DE OBRA PARA DEPÓSITO E FERRAMENTARIA TIPO-I, ÁREA INTERNA 14,52M2, EM CHAPA DE COMPENSADO RESINADO, INCLUSIVE MOBILIÁRIO (OBRA DE PEQUENO PORTE, EFETIVO ATÉ 30 HOMENS), PADRÃO DER-MG | D12: 9161.71 | E12: =ROUND(D12+$F$3*D12,2) -> 11639.04 | F12: UNID. | G12: =ROUND(1,2) -> 1 | H12: =ROUND(G12,2) -> 1 | I12: =ROUND(H12*E12,2) -> 11639.04
A13: 1.5 | B13: SICOR - ED-50150 | C13: LIGAÇÃO DE ÁGUA PROVISÓRIA PARA CANTEIRO, INCLUSIVE HIDRÔMETRO E CAVALETE PARA MEDIÇÃO DE ÁGUA - ENTRADA PRINCIPAL, EM AÇO GALVANIZADO DN 20MM (1/2") - PADRÃO CONCESSIONÁRIA | D13: 600.2 | E13: =ROUND(D13+$F$3*D13,2) -> 762.49 | F13: UNID. | G13: =ROUND(1,2) -> 1 | H13: =ROUND(G13,2) -> 1 | I13: =ROUND(H13*E13,2) -> 762.49
A14: 1.6 | B14: SICOR - ED-50151 | C14: LIGAÇÃO PROVISÓRIA COM ENTRADA DE ENERGIA AÉREA, PADRÃO CEMIG, CARGA INSTALADA DE 15,1KVA ATÉ 30KVA, TRIFÁSICO, COM SAÍDA SUBTERRÂNEA, INCLUSIVE POSTE, CAIXA PARA MEDIDOR, DISJUNTOR, BARRAMENTO, ATERRAMENTO E ACESSÓRIOS | D14: 927.27 | E14: =ROUND(D14+$F$3*D14,2) -> 1178 | F14: UNID. | G14: =ROUND(1,2) -> 1 | H14: =ROUND(G14,2) -> 1 | I14: =ROUND(H14*E14,2) -> 1178
A15: 2 | C15: MOVIMENTO DE TERRA | I15: =SUM(I16:I21) -> 62387.97
A16: 2.1 | B16: SICOR - ED-51107 | C16: ESCAVAÇÃO MANUAL DE VALA COM PROFUNDIDADE MENOR OU IGUAL A 1,5M, INCLUSIVE DESCARGA LATERAL | D16: 80.46 | E16: =ROUND(D16+$F$3*D16,2) -> 102.22 | F16: M3 | G16: =((1*1*1)*90+(46.07*0.15*0.4)*4+(44.95*0.15*0.4)*2+(12.85*0.15*0.4)*2+(6*0.15*0.4)*29+(2.5*0.15*0.4)*5+(2.57*0.15*0.4)*2+((2.6+1.6)*0.15*0.4)+(19.46*0.15*0.4)+(4*0.15*0.4)+(3.75*0.15*0.4)+(2.9*0.15*0.4)) -> 121.5498 | H16: =ROUND(G16,2) -> 121.55 | I16: =ROUND(H16*E16,2) -> 12424.84
A17: 2.2 | B17: SICOR - ED-29230 | C17: TRANSPORTE DE MATERIAL DE QUALQUER NATUREZA EM CAMINHÃO, DISTÂNCIA MAIOR QUE 1KM E MENOR OU IGUAL A 2KM, DENTRO DO PERÍMETRO URBANO, EXCLUSIVE CARGA, INCLUSIVE DESCARGA | D17: 3.87 | E17: =ROUND(D17+$F$3*D17,2) -> 4.92 | F17: M3xKM | G17: =G18*2 -> 3980.87 | H17: =ROUND(G17,2) -> 3980.87 | I17: =ROUND(H17*E17,2) -> 19585.88
A18: 2.3 | B18: SICOR - ED-51132 | C18: CARGA MECÂNICA DE MATERIAL DE QUALQUER NATUREZA SOBRE CAMINHÃO, EXCLUSIVE TRANSPORTE | D18: 3.35 | E18: =ROUND(D18+$F$3*D18,2) -> 4.26 | F18: M3 | G18: =(3980.87)*0.5 -> 1990.435 | H18: =ROUND(G18,2) -> 1990.44 | I18: =ROUND(H18*E18,2) -> 8479.27
A19: 2.4 | B19: SICOR - ED-29190 | C19: COMPACTAÇÃO MECÂNICA DE ATERRO COM ROLO VIBRATÓRIO A 100% DO PROCTOR INTERMEDIÁRIO, INCLUSIVE ESPALHAMENTO - ELEVAÇÃO DA CONSTRUÇÃO , DO PISO INTERTRAVADO E DO PASSEIO INTERNO | D19: 5.95 | E19: =ROUND(D19+$F$3*D19,2) -> 7.56 | F19: M3 | G19: =G18 -> 1990.435 | H19: =ROUND(G19,2) -> 1990.44 | I19: =ROUND(H19*E19,2) -> 15047.73
A20: 2.5 | B20: SICOR - ED-51093 | C20: APILOAMENTO MANUAL EM FUNDO DE VALA COM SOQUETE, EXCLUSIVE ESCAVAÇÃO | D20: 27.13 | E20: =ROUND(D20+$F$3*D20,2) -> 34.47 | F20: M2 | G20: =((46.07)*4+(44.95)*2+(12.85)*2+(6)*29+(2.5)*5+(2.57)*2+(2.6+1.6)+(19.46)+(4)+(3.75)+(2.9))*0.2 -> 105.166 | H20: =ROUND(G20,2) -> 105.17 | I20: =ROUND(H20*E20,2) -> 3625.21
A21: 2.6 | B21: SICOR - ED-51120 | C21: REATERRO MANUAL DE VALA, INCLUSIVE ESPALHAMENTO E COMPACTAÇÃO MANUAL COM SOQUETE - REDES HIDROSSANITÁRIAS | D21: 80.46 | E21: =ROUND(D21+$F$3*D21,2) -> 102.22 | F21: M3 | G21: =G20*0.3 -> 31.5498 | H21: =ROUND(G21,2) -> 31.55 | I21: =ROUND(H21*E21,2) -> 3225.04
A22: 3 | C22: FUNDAÇÃO | I22: =SUM(I23:I33) -> 192586.42
A23: 3.1 | B23: SICOR - ED-49812 | C23: LASTRO DE CONCRETO MAGRO, INCLUSIVE TRANSPORTE, LANÇAMENTO E ADENSAMENTO - SAPATAS (H = 5 CM) | D23: 630.36 | E23: =ROUND(D23+$F$3*D23,2) -> 800.81 | F23: M3 | G23: =(0.6*0.7*0.05)*131 -> 2.751 | H23: =ROUND(G23,2) -> 2.75 | I23: =ROUND(H23*E23,2) -> 2202.23
A24: 3.2 | B24: SICOR - ED-49787 | C24: FORNECIMENTO DE CONCRETO ESTRUTURAL, PREPARADO EM OBRA COM BETONEIRA, COM FCK 25MPA, INCLUSIVE LANÇAMENTO, ADENSAMENTO E ACABAMENTO (FUNDAÇÃO) - SAPATAS E PESCOÇO | D24: 816.03 | E24: =ROUND(D24+$F$3*D24,2) -> 1036.68 | F24: M3 | G24: 17.9 | H24: =ROUND(G24,2) -> 17.9 | I24: =ROUND(H24*E24,2) -> 18556.57
A25: 3.3 | B25: SICOR - ED-49810 | C25: FÔRMA E DESFORMA PARA VIGA-CINTA/BLOCO COM TÁBUA E SARRAFO, REAPROVEITAMENTO (3X) (FUNDAÇÃO) - SAPATAS | D25: 80.98 | E25: =ROUND(D25+$F$3*D25,2) -> 102.88 | F25: M2 | G25: 88.1 | H25: =ROUND(G25,2) -> 88.1 | I25: =ROUND(H25*E25,2) -> 9063.73
A26: 3.4 | B26: SINAPI - 96545 | C26: ARMAÇÃO DE BLOCO UTILIZANDO AÇO CA-50 DE 8 MM - MONTAGEM. AF_01/2024 (SAPATAS) | D26: 15.78 | E26: =ROUND(D26+$F$3*D26,2) -> 20.05 | F26: KG | G26: 687.5 | H26: =ROUND(G26,2) -> 687.5 | I26: =ROUND(H26*E26,2) -> 13784.38
A27: 3.5 | B27: SICOR - ED-49787 | C27: FORNECIMENTO DE CONCRETO ESTRUTURAL, PREPARADO EM OBRA COM BETONEIRA, COM FCK 25MPA, INCLUSIVE LANÇAMENTO, ADENSAMENTO E ACABAMENTO (FUNDAÇÃO) - VIGAS BALDRAME | D27: 816.03 | E27: =ROUND(D27+$F$3*D27,2) -> 1036.68 | F27: M3 | G27: 31.6 | H27: =ROUND(G27,2) -> 31.6 | I27: =ROUND(H27*E27,2) -> 32759.09
A28: 3.6 | B28: SICOR - ED-49810 | C28: FÔRMA E DESFORMA PARA VIGA-CINTA/BLOCO COM TÁBUA E SARRAFO, REAPROVEITAMENTO (3X) (FUNDAÇÃO) - VIGAS BALDRAME | D28: 80.98 | E28: =ROUND(D28+$F$3*D28,2) -> 102.88 | F28: M2 | G28: 533.4 | H28: =ROUND(G28,2) -> 533.4 | I28: =ROUND(H28*E28,2) -> 54876.19
A29: 3.7 | B29: SINAPI - 104108 | C29: ARMAÇÃO DE PILAR OU VIGA DE ESTRUTURA DE CONCRETO ARMADO EMBUTIDA EM ALVENARIA DE VEDAÇÃO UTILIZANDO AÇO CA-50 DE 12,5 MM - MONTAGEM. AF_06/2022 | D29: 10.25 | E29: =ROUND(D29+$F$3*D29,2) -> 13.02 | F29: KG | G29: =14.8+44.5 -> 59.3 | H29: =ROUND(G29,2) -> 59.3 | I29: =ROUND(H29*E29,2) -> 772.09
A30: 3.8 | B30: SINAPI - 104107 | C30: ARMAÇÃO DE PILAR OU VIGA DE ESTRUTURA DE CONCRETO ARMADO EMBUTIDA EM ALVENARIA DE VEDAÇÃO UTILIZANDO AÇO CA-50 DE 10,0 MM - MONTAGEM | D30: 12.24 | E30: =ROUND(D30+$F$3*D30,2) -> 15.55 | F30: KG | G30: =119.2+953 -> 1072.2 | H30: =ROUND(G30,2) -> 1072.2 | I30: =ROUND(H30*E30,2) -> 16672.71
A31: 3.9 | B31: SINAPI - 104109 | C31: ARMAÇÃO DE PILAR OU VIGA DE ESTRUTURA DE CONCRETO ARMADO EMBUTIDA EM ALVENARIA DE VEDAÇÃO UTILIZANDO AÇO CA-50 DE 8,0 MM - MONTAGEM. AF_06/2022 | D31: 15.4 | E31: =ROUND(D31+$F$3*D31,2) -> 19.56 | F31: KG | G31: 1177.3 | H31: =ROUND(G31,2) -> 1177.3 | I31: =ROUND(H31*E31,2) -> 23027.99
A32: 3.10 | B32: SINAPI - 104110 | C32: ARMAÇÃO DE PILAR OU VIGA DE ESTRUTURA DE CONCRETO ARMADO EMBUTIDA EM ALVENARIA DE VEDAÇÃO UTILIZANDO AÇO CA-50 DE 6,3 MM - MONTAGEM. AF_06/2022 | D32: 18 | E32: =ROUND(D32+$F$3*D32,2) -> 22.87 | F32: KG | G32: 1.1 | H32: =ROUND(G32,2) -> 1.1 | I32: =ROUND(H32*E32,2) -> 25.16
A33: 3.11 | B33: SINAPI - 104111 | C33: ARMAÇÃO DE PILAR OU VIGA DE ESTRUTURA DE CONCRETO ARMADO EMBUTIDA EM ALVENARIA DE VEDAÇÃO UTILIZANDO AÇO CA-60 DE 5,0 MM - MONTAGEM | D33: 21.06 | E33: =ROUND(D33+$F$3*D33,2) -> 26.75 | F33: KG | G33: =467.4+311.9 -> 779.3 | H33: =ROUND(G33,2) -> 779.3 | I33: =ROUND(H33*E33,2) -> 20846.28
A34: 4 | C34: ESTRUTURA | I34: =SUM(I35:I48) -> 833659
A35: 4.1 | B35: SICOR - ED-49619 | C35: FORNECIMENTO DE CONCRETO ESTRUTURAL, PREPARADO EM OBRA, COM FCK 25MPA, INCLUSIVE LANÇAMENTO, ADENSAMENTO E ACABAMENTO - PILARES E PILARES DA PLATIBANDA | D35: 853.68 | E35: =ROUND(D35+$F$3*D35,2) -> 1084.52 | F35: M3 | G35: =25+4.4 -> 29.4 | H35: =ROUND(G35,2) -> 29.4 | I35: =ROUND(H35*E35,2) -> 31884.89
A36: 4.2 | B36: SINAPI - 92263 | C36: FABRICAÇÃO DE FÔRMA PARA PILARES E ESTRUTURAS SIMILARES, EM CHAPA DE MADEIRA COMPENSADA RESINADA, E = 17 MM | D36: 166.45 | E36: =ROUND(D36+$F$3*D36,2) -> 211.46 | F36: M2 | G36: =445.8+80.1 -> 525.9 | H36: =ROUND(G36,2) -> 525.9 | I36: =ROUND(H36*E36,2) -> 111206.81
A37: 4.3 | B37: SICOR - ED-49619 | C37: FORNECIMENTO DE CONCRETO ESTRUTURAL, PREPARADO EM OBRA, COM FCK 25MPA, INCLUSIVE LANÇAMENTO, ADENSAMENTO E ACABAMENTO - VIGAS AÉREAS E VIGAS DA PLATIBANDA | D37: 853.68 | E37: =ROUND(D37+$F$3*D37,2) -> 1084.52 | F37: M3 | G37: =46.1+11.7 -> 57.8 | H37: =ROUND(G37,2) -> 57.8 | I37: =ROUND(H37*E37,2) -> 62685.26
A38: 4.4 | B38: SINAPI - 92265 | C38: FABRICAÇÃO DE FÔRMA PARA VIGAS, EM CHAPA DE MADEIRA COMPENSADA RESINADA, E = 17 MM | D38: 123.13 | E38: =ROUND(D38+$F$3*D38,2) -> 156.42 | F38: M2 | G38: =622.8+206.6 -> 829.4 | H38: =ROUND(G38,2) -> 829.4 | I38: =ROUND(H38*E38,2) -> 129734.75
A39: 4.5 | B39: SINAPI - 104108 | C39: ARMAÇÃO DE PILAR OU VIGA DE ESTRUTURA DE CONCRETO ARMADO EMBUTIDA EM ALVENARIA DE VEDAÇÃO UTILIZANDO AÇO CA-50 DE 12,5 MM - MONTAGEM. AF_06/2022 | D39: 10.25 | E39: =ROUND(D39+$F$3*D39,2) -> 13.02 | F39: KG | G39: =182+78.6 -> 260.6 | H39: =ROUND(G39,2) -> 260.6 | I39: =ROUND(H39*E39,2) -> 3393.01
A40: 4.6 | B40: SINAPI - 104107 | C40: ARMAÇÃO DE PILAR OU VIGA DE ESTRUTURA DE CONCRETO ARMADO EMBUTIDA EM ALVENARIA DE VEDAÇÃO UTILIZANDO AÇO CA-50 DE 10,0 MM - MONTAGEM | D40: 12.24 | E40: =ROUND(D40+$F$3*D40,2) -> 15.55 | F40: KG | G40: =574.8+2131.5 -> 2706.3 | H40: =ROUND(G40,2) -> 2706.3 | I40: =ROUND(H40*E40,2) -> 42082.97
...

Sheet Cronograma Fisico Financeiro
A1: SECRETARIA MUNICIPAL DE EDUCAÇÃO DE JANUÁRIA - MG
A2: DESCRIÇÃO | B2: FÍSICO | C2: FINANCEIRO | D2: 1º Mês | E2: 2º Mês | F2: 3º Mês | G2: 4º Mês | H2: 5º Mês | I2: 6º Mês | J2: 7º Mês | K2: 8º Mês | L2: 9º Mês | M2: 10º Mês | N2: 11º Mês | O2: 12º Mês | P2: Total
A3: ='Planilha Orçamentária'!C8 -> SERVIÇOS PRELIMINARES | B3: =C3/$C$26 -> 0.015844903 | C3: ='Planilha Orçamentária'!I8 -> 74808.63 | D3: =C3 -> 74808.63 | P3: =SUM(D3:O3) -> 74808.63
A4: ='Planilha Orçamentária'!C15 -> MOVIMENTO DE TERRA | B4: =C4/$C$26 -> 0.013214135 | C4: ='Planilha Orçamentária'!I15 -> 62387.97 | E4: =1*C4 -> 62387.97 | P4: =SUM(D4:O4) -> 62387.97
A5: ='Planilha Orçamentária'!C22 -> FUNDAÇÃO | B5: =C5/$C$26 -> 0.040790925 | C5: ='Planilha Orçamentária'!I22 -> 192586.42 | E5: =C5 -> 192586.42 | P5: =SUM(D5:N5) -> 192586.42
A6: ='Planilha Orçamentária'!C34 -> ESTRUTURA | B6: =C6/$C$26 -> 0.17657383 | C6: ='Planilha Orçamentária'!I34 -> 833659 | F6: =0.5*C6 -> 416829.5 | G6: =0.5*C6 -> 416829.5 | P6: =SUM(D6:N6) -> 833659
A7: ='Planilha Orçamentária'!C49 -> PAREDES E DIVISÓRIAS | B7: =C7/$C$26 -> 0.056721551 | C7: ='Planilha Orçamentária'!I49 -> 267799.77 | H7: =C7 -> 267799.77 | P7: =SUM(D7:N7) -> 267799.77
A8: ='Planilha Orçamentária'!C53 -> COBERTURA | B8: =C8/$C$26 -> 0.079029677 | C8: ='Planilha Orçamentária'!I53 -> 373123.25 | H8: =0.75*C8 -> 279842.44 | I8: =0.25*C8 -> 93280.813 | P8: =SUM(D8:N8) -> 373123.25
A9: ='Planilha Orçamentária'!C60 -> ESQUADRIAS | B9: =C9/$C$26 -> 0.028944674 | C9: ='Planilha Orçamentária'!I60 -> 136656.65 | I9: =C9 -> 136656.65 | P9: =SUM(D9:N9) -> 136656.65
A10: ='Planilha Orçamentária'!C68 -> PAVIMENTAÇÃO | B10: =C10/$C$26 -> 0.14326337 | C10: ='Planilha Orçamentária'!I68 -> 676390.15 | I10: =0.5*C10 -> 338195.07 | J10: =0.5*C10 -> 338195.07 | P10: =SUM(D10:N10) -> 676390.15
A11: ='Planilha Orçamentária'!C79 -> REVESTIMENTOS | B11: =C11/$C$26 -> 0.08594885 | C11: ='Planilha Orçamentária'!I79 -> 405790.78 | J11: =0.75*C11 -> 304343.09 | K11: =0.25*C11 -> 101447.7 | P11: =SUM(D11:N11) -> 405790.78
A12: ='Planilha Orçamentária'!C84 -> INSTALAÇÕES ELÉTRICAS | B12: =C12/$C$26 -> 0.04182311 | C12: ='Planilha Orçamentária'!I84 -> 197459.68 | K12: =C12 -> 197459.68 | P12: =SUM(D12:N12) -> 197459.68
A13: ='Planilha Orçamentária'!C121 -> REDE LÓGICA | B13: =C13/$C$26 -> 0.0017483872 | C13: ='Planilha Orçamentária'!I121 -> 8254.67 | O13: =1*C13 -> 8254.67 | P13: =SUM(D13:O13) -> 8254.67
A14: ='Planilha Orçamentária'!C126 -> INSTALAÇÕES HIDROSSANITÁRIAS | B14: =C14/$C$26 -> 0.049383936 | C14: ='Planilha Orçamentária'!I126 -> 233156.65 | L14: =C14 -> 233156.65 | P14: =SUM(D14:N14) -> 233156.65
A15: ='Planilha Orçamentária'!C149 -> DRENAGEM | B15: =C15/$C$26 -> 0.011237659 | C15: ='Planilha Orçamentária'!I149 -> 53056.42 | E15: =0.5*C15 -> 26528.21 | F15: =0.5*C15 -> 26528.21 | P15: =SUM(D15:N15) -> 53056.42
A16: ='Planilha Orçamentária'!C155 -> PINTURA | B16: =C16/$C$26 -> 0.069234863 | C16: ='Planilha Orçamentária'!I155 -> 326878.94 | L16: =0.5*C16 -> 163439.47 | M16: =0.5*C16 -> 163439.47 | P16: =SUM(D16:N16) -> 326878.94
A17: ='Planilha Orçamentária'!C164 -> RODAPÉ | B17: =C17/$C$26 -> 0.0073466481 | C17: ='Planilha Orçamentária'!I164 -> 34685.77 | M17: =C17 -> 34685.77 | P17: =SUM(D17:N17) -> 34685.77
A18: ='Planilha Orçamentária'!C166 -> METAIS E LOUÇAS | B18: =C18/$C$26 -> 0.010077509 | C18: ='Planilha Orçamentária'!I166 -> 47579 | M18: =C18 -> 47579 | P18: =SUM(D18:N18) -> 47579
A19: ='Planilha Orçamentária'!C177 -> BANCADAS E PEITORIL | B19: =C19/$C$26 -> 0.011063963 | C19: ='Planilha Orçamentária'!I177 -> 52236.35 | M19: =C19 -> 52236.35 | P19: =SUM(D19:N19) -> 52236.35
A20: ='Planilha Orçamentária'!C182 -> MURO DE FECHAMENTO | B20: =C20/$C$26 -> 0.051013915 | C20: ='Planilha Orçamentária'!I182 -> 240852.28 | D20: =0.3*C20 -> 72255.684 | E20: =0.35*C20 -> 84298.298 | O20: =0.35*C20 -> 84298.298 | P20: =SUM(D20:O20) -> 240852.28
A21: ='Planilha Orçamentária'!C186 -> DEPÓSITO DE GÁS | B21: =C21/$C$26 -> 0.0010256358 | C21: ='Planilha Orçamentária'!I186 -> 4842.34 | J21: =1*C21 -> 4842.34 | P21: =SUM(D21:O21) -> 4842.34
A22: ='Planilha Orçamentária'!C189 -> QUADRA | B22: =C22/$C$26 -> 0.094797689 | C22: ='Planilha Orçamentária'!I189 -> 447568.85 | F22: =$C$22/10 -> 44756.885 | G22: =$C$22/10 -> 44756.885 | H22: =$C$22/10 -> 44756.885 | I22: =$C$22/10 -> 44756.885 | J22: =$C$22/10 -> 44756.885 | K22: =$C$22/10 -> 44756.885 | L22: =$C$22/10 -> 44756.885 | M22: =$C$22/10 -> 44756.885 | ... O22: =$C$22/10 -> 44756.885 | P22: =SUM(D22:O22) -> 447568.85
A23: ='Planilha Orçamentária'!C215 -> PROJETOS COMPLEMENTARES | B23: =C23/$C$26 -> 0.00049580778 | C23: ='Planilha Orçamentária'!I215 -> 2340.86 | D23: =1*C23 -> 2340.86 | P23: =SUM(D23:O23) -> 2340.86
A24: ='Planilha Orçamentária'!C217 -> ACESSIBILIDADE | B24: =C24/$C$26 -> 0.001076609 | C24: ='Planilha Orçamentária'!I217 -> 5083 | O24: =C24 -> 5083 | P24: =SUM(D24:O24) -> 5083
A25: ='Planilha Orçamentária'!C220 -> SERVIÇOS COMPLEMENTARES | B25: =C25/$C$26 -> 0.0093423503 | C25: ='Planilha Orçamentária'!I220 -> 44108.09 | O25: =C25 -> 44108.09 | P25: =SUM(D25:O25) -> 44108.09
A26: SOMA | B26: =SUM(B3:B25) -> 1 | C26: =SUM(C3:C25) -> 4721305.5 | D26: =SUM(D3:D25) -> 149405.17 | E26: =SUM(E3:E25) -> 365800.9 | F26: =SUM(F3:F25) -> 488114.6 | G26: =SUM(G3:G25) -> 461586.39 | H26: =SUM(H3:H25) -> 592399.09 | I26: =SUM(I3:I25) -> 612889.42 | ... P26: =SUM(P3:P25) -> 4721305.5
A27: PORCENTAGEM | D27: =D26/$C$26 -> 0.031644886 | E27: =E26/$C$26 -> 0.07747876 | F27: =F26/$C$26 -> 0.10338551 | G27: =G26/$C$26 -> 0.097766684 | H27: =H26/$C$26 -> 0.12547358 | I27: =I26/$C$26 -> 0.12981355 | J27: =J26/$C$26 -> 0.14659873 | K27: =K26/$C$26 -> 0.072790091 | ... O27: =O26/$C$26 -> 0.039501986 | P27: =SUM(D27:O27) -> 1
A28: PORCENTAGEM ACUMULADA | D28: =D27 -> 0.031644886 | E28: =D28+E27 -> 0.10912365 | F28: =E28+F27 -> 0.21250916 | G28: =F28+G27 -> 0.31027584 | H28: =G28+H27 -> 0.43574942 | I28: =H28+I27 -> 0.56556297 | J28: =I28+J27 -> 0.7121617 | K28: =J28+K27 -> 0.78495179 | L28: =K28+L27 -> 0.87843292 | ... O28: =N28+O27 -> 1 | P28: =O28 -> 1
A29: FINANCEIRO ACUMULADO | D29: =D26 -> 149405.17 | E29: =D29+E26 -> 515206.07 | F29: =E29+F26 -> 1003320.7 | G29: =F29+G26 -> 1464907.1 | H29: =G29+H26 -> 2057306.1 | I29: =H29+I26 -> 2670195.6 | J29: =I29+J26 -> 3362333 | K29: =J29+K26 -> 3705997.2 | L29: =K29+L26 -> 4147350.2 | ... O29: =N29+O26 -> 4721305.5 | P29: =O29 -> 4721305.5
A33: ='Planilha Orçamentária'!A224 -> ______________________________________________________ | H33: ='Planilha Orçamentária'!D224 -> ______________________________________________________
A34: ='Planilha Orçamentária'!A226 -> Weslei Júnior Guedes de Jesus | H34: ='Planilha Orçamentária'!D226 -> Helisson Fidélis Porto de Moura
A35: ='Planilha Orçamentária'!A227 -> Secretário Municipal de Educação de Januária - Mg | H35: ='Planilha Orçamentária'!D227 -> Engenheiro Civil - Secretário Municipal de Educação de Januária - Mg

Sheet Composição BDI
B1: SECRETARIA MUNICIPAL DE EDUCAÇÃO DE JANUÁRIA - MG
B2: ITENS | C2: SIGLAS | D2: % ADOTADO
B3: Administração Central | C3: AC | D3: 0.055
B4: Seguro e Garantia | C4: SG | D4: 0.01
B5: Risco | C5: R | D5: 0.0127
B6: Despesas Financeiras | C6: DF | D6: 0.0105
B7: Lucro | C7: L | D7: 0.075
B8: Tributos (impostos COFINS 3% e PIS 0,65%) | C8: CP | D8: 0.0365
B9: Tributos (ISS, variável de acordo com o município) | C9: ISS | D9: 0.015
B10: Tributos (Contribuição Previdenciária sobre a Receita Bruta - 0% (sem desoneração) ou 4,5% (com desoneração) | C10: CPRB | D10: 0.027
B11: BDI COM DESONERAÇÃO | C11: BDI DES | D11: =ROUND((((1+D3+D4+D5)*(1+D6)*(1+D7))/(1-D8-D9-D10))-1,4) -> 0.2704
B14: Conforme legislação tributária municipal, definir estimativa de percentual da base de cálculo para o ISS | C14: 0.5
B15: Sobre a base de cálculo, definir a respectiva alíquota do ISS (entre 2% e 5%) | C15: 0.03
B17: Os valores de BDI foram calculados com o emprego da fórmula:
B18: BDI = ( ( ( 1 +AC + S + R + G ) * ( 1 + DF ) * ( 1 + L ) ) / ( 1 - CP - ISS - CPRB ) ) - 1
B23: ='Planilha Orçamentária'!A224 -> ______________________________________________________
B24: ='Planilha Orçamentária'!A226 -> Weslei Júnior Guedes de Jesus
B25: ='Planilha Orçamentária'!A227 -> Secretário Municipal de Educação de Januária - Mg
B31: __________________________________________
B32: ='Planilha Orçamentária'!D226 -> Helisson Fidélis Porto de Moura
B33: ='Planilha Orçamentária'!D227 -> Engenheiro Civil - Secretário Municipal de Educação de Januária - Mg
