Workbook

Sheet Planilha1
A1: PREFEITURA MUNICIPAL DE JANUÁRIA- MG Avenida Aeroporto, 250. Bairro: Aeroporto - CEP 39480-000 - Januária/MG CNPJ 21.461.546/0001-10 Telefax: 0xx (38) 3621-2656 SECRETARIA MUNICIPAL DE OBRAS E SERVIÇOS URBANOS | J1: MEDIÇÃO 01 | S1: MEDIÇÃO 02 | AB1: MEDIÇÃO 03
A9: PLANILHA ORÇAMENTÁRIA DE CUSTOS
A10: PREFEITURA MUNICIPAL DE JANUÁRIA
A11: OBRA:CONSTRUÇÃO DA PRAÇA LIBERADE
A12: LOCAL: JANUÁRIA - MG
A13: REGIÃO/MÊS DE REFERÊNCIA: SETOP REGIÃO NORTE AGOSTO/2023 - SINAPI DEZEMBRO/2023
A14: PRAZO DE EXECUÇÃO: 4 MESES | J14: FISÍCO | M14: FINANCEIRO | S14: FISÍCO | V14: FINANCEIRO | AB14: FISÍCO | AE14: FINANCEIRO
A15: ITEM | B15: CÓDIGO | C15: DESCRIÇÃO | D15: UNIDADE | E15: QUANTIDADE | F15: VALOR UNIT. | G15: VALOR UNIT. C/ BDI | H15: VALOR TOTAL | J15: ANTERIOR | K15: ATUAL | L15: ACUMULADO | M15: ANTERIOR | N15: ATUAL | O15: ACUMULADO | S15: ANTERIOR | T15: ATUAL | U15: ACUMULADO | V15: ANTERIOR | W15: ATUAL | X15: ACUMULADO | AB15: ANTERIOR | AC15: ATUAL | AD15: ACUMULADO | AE15: ANTERIOR | AF15: ATUAL | AG15: ACUMULADO
A16: 1 | B16: SERVIÇOS INICIAIS | H16: =SUM(H17:H20) -> 37626.63
A17: 1.1 | B17: ED-28427 | C17: FORNECIMENTO E COLOCAÇÃO DE PLACA DE OBRA EM CHAPA GALVANIZADA #26, ESP. 0,45MM, DIMENSÃO (3X1,5)M, PLOTADA COM ADESIVO VINÍLICO, AFIXADA COM REBITES 4,8X40MM, EM ESTRUTURA METÁLICA DE METALON 20X20MM, ESP. 1,25MM,INCLUSIVE SUPORTE EM EUCALIPTO AUTOCLAVADO PINTADO COM TINTA PVA DUAS (2) DEMÃOS | D17: UNID | E17: 1 | F17: 1627 | G17: =F17+F17*$G$12 -> 1627 | H17: 1627 | K17: =Q17 -> 1 | L17: =J17+K17 -> 1 | N17: =K17*G17 -> 1627 | O17: =M17+N17 -> 1627 | P17: 1 | Q17: =ROUND(E17*P17,2) -> 1 | S17: =K17 -> 1 | T17: =Z17 -> 0 | U17: =S17+T17 -> 1 | V17: =S17*G17 -> 1627 | W17: =T17*G17 -> 0 | X17: =V17+W17 -> 1627 | Y17: 1 | Z17: =ROUND((E17-L17)*Y17,2) -> 0 | AB17: =U17 -> 1 | AC17: =AI17 -> 0 | AD17: =AB17+AC17 -> 1 | AE17: =AB17*G17 -> 1627 | AF17: =AC17*G17 -> 0 | AG17: =AE17+AF17 -> 1627 | AH17: 0 | AI17: =ROUND(E17*AH17,2) -> 0
A18: 1.2 | B18: ED-28427 | C18: BARRACÃO DE OBRA, EM CHAPA DE COMPENSADO RESINADO,INCLUSIVE INSTALAÇÕES SANITÁRIAS E MOBILIÁRIO - PADRÃO DER-MG | D18: M² | E18: 8 | F18: 489.45 | G18: =F18+F18*$G$12 -> 489.45 | H18: 3915.6 | K18: =Q18 -> 8 | L18: =J18+K18 -> 8 | N18: =K18*G18 -> 3915.6 | O18: =M18+N18 -> 3915.6 | P18: 1 | Q18: =ROUND(E18*P18,2) -> 8 | S18: =K18 -> 8 | T18: =Z18 -> 0 | U18: =S18+T18 -> 8 | V18: =S18*G18 -> 3915.6 | W18: =T18*G18 -> 0 | X18: =V18+W18 -> 3915.6 | Y18: 1 | Z18: =ROUND((E18-L18)*Y18,2) -> 0 | AB18: =U18 -> 8 | AC18: =AI18 -> 0 | AD18: =AB18+AC18 -> 8 | AE18: =AB18*G18 -> 3915.6 | AF18: =AC18*G18 -> 0 | AG18: =AE18+AF18 -> 3915.6 | AH18: 0 | AI18: =ROUND(E18*AH18,2) -> 0
A19: 1.3 | B19: ED-50159 | C19: TAPUME FIXO DE PROTEÇÃO PARA FECHAMENTO DE OBRA EM CHAPA DE COMPENSADO, ESP. 12MM, COM MÓDULO NA DIMENSÃO DE (110X220)CM, INCLUSIVE PINTURA LÁTEX (PVA) COM DUAS (2) DEMÃOS, EXCLUSIVE ABERTURA PARA PORTÃO | D19: M | E19: 160 | F19: 198.29 | G19: =F19+F19*$G$12 -> 198.29 | H19: 31726.4 | K19: =Q19 -> 160 | L19: =J19+K19 -> 160 | N19: =K19*G19 -> 31726.4 | O19: =M19+N19 -> 31726.4 | P19: 1 | Q19: =ROUND(E19*P19,2) -> 160 | S19: =K19 -> 160 | T19: =Z19 -> 0 | U19: =S19+T19 -> 160 | V19: =S19*G19 -> 31726.4 | W19: =T19*G19 -> 0 | X19: =V19+W19 -> 31726.4 | Y19: 1 | Z19: =ROUND((E19-L19)*Y19,2) -> 0 | AB19: =U19 -> 160 | AC19: =AI19 -> 0 | AD19: =AB19+AC19 -> 160 | AE19: =AB19*G19 -> 31726.4 | AF19: =AC19*G19 -> 0 | AG19: =AE19+AF19 -> 31726.4 | AH19: 0 | AI19: =ROUND(E19*AH19,2) -> 0
A20: 1.4 | B20: ED-50162 | C20: PORTÃO PARA TAPUME FIXO DE PROTEÇÃO COM FECHAMENTO DE OBRA EM CHAPA DE COMPENSADO, ESP. 12MM, COM MÓDULO NA DIMENSÃO DE (110X220)CM, INCLUSIVE FERRAGENS E PINTURA LÁTEX (PVA) COM DUAS (2) DEMÃOS | D20: M² | E20: =2.1*0.9 -> 1.89 | F20: 189.22 | G20: =F20+F20*$G$12 -> 189.22 | H20: 357.63 | K20: =Q20 -> 1.89 | L20: =J20+K20 -> 1.89 | N20: =K20*G20 -> 357.6258 | O20: =M20+N20 -> 357.6258 | P20: 1 | Q20: =ROUND(E20*P20,2) -> 1.89 | S20: =K20 -> 1.89 | T20: =Z20 -> 0 | U20: =S20+T20 -> 1.89 | V20: =S20*G20 -> 357.6258 | W20: =T20*G20 -> 0 | X20: =V20+W20 -> 357.6258 | Y20: 1 | Z20: =ROUND((E20-L20)*Y20,2) -> 0 | AB20: =U20 -> 1.89 | AC20: =AI20 -> 0 | AD20: =AB20+AC20 -> 1.89 | AE20: =AB20*G20 -> 357.6258 | AF20: =AC20*G20 -> 0 | AG20: =AE20+AF20 -> 357.6258 | AH20: 0 | AI20: =ROUND(E20*AH20,2) -> 0
A21: 2 | B21: MOVIMENTAÇÃO DE TERRA | H21: =SUM(H22:H24) -> 12272.13 | N21: =SUM(N17:N20) -> 37626.626 | O21: =SUM(O17:O20) -> 37626.626 | V21: =SUM(V17:V20) -> 37626.626 | W21: =SUM(W17:W20) -> 0 | X21: =V21+W21 -> 37626.626 | AE21: =SUM(AE17:AE20) -> 37626.626 | AF21: =SUM(AF17:AF20) -> 0 | AG21: =AE21+AF21 -> 37626.626
A22: 2.2 | B22: ED-51107 | C22: ESCAVAÇÃO MANUAL DE VALA COM PROFUNDIDADE MENOR OU IGUAL A 1,5M, INCLUSIVE DESCARGA LATERAL | D22: M³ | E22: 35.46 | F22: 84.57 | G22: =F22+F22*$G$12 -> 84.57 | H22: 2998.85 | K22: =Q22 -> 1.77 | L22: =J22+K22 -> 1.77 | N22: =K22*G22 -> 149.6889 | O22: =M22+N22 -> 149.6889 | P22: 0.05 | Q22: =ROUND(E22*P22,2) -> 1.77 | S22: =K22 -> 1.77 | T22: =Z22 -> 26.95 | U22: =S22+T22 -> 28.72 | V22: =S22*G22 -> 149.6889 | W22: =T22*G22 -> 2279.1615 | X22: =V22+W22 -> 2428.8504 | Y22: 0.8 | Z22: =ROUND((E22-L22)*Y22,2) -> 26.95 | AB22: =U22 -> 28.72 | AC22: =AI22 -> 6.74 | AD22: =AB22+AC22 -> 35.46 | AE22: =AB22*G22 -> 2428.8504 | AF22: =AC22*G22 -> 570.0018 | AG22: =AE22+AF22 -> 2998.8522 | AH22: 0.19 | AI22: =ROUND(E22*AH22,2) -> 6.74 | AJ22: 4514
A23: 2.3 | B23: ED-51120 | C23: REATERRO MANUAL DE VALA, INCLUSIVE ESPALHAMENTO E COMPACTAÇÃO MANUAL COM SOQUETE | D23: M³ | E23: 14.11 | F23: 84.57 | G23: =F23+F23*$G$12 -> 84.57 | H23: 1193.28 | K23: =Q23 -> 0.71 | L23: =J23+K23 -> 0.71 | N23: =K23*G23 -> 60.0447 | O23: =M23+N23 -> 60.0447 | P23: 0.05 | Q23: =ROUND(E23*P23,2) -> 0.71 | S23: =K23 -> 0.71 | T23: =Z23 -> 10.72 | U23: =S23+T23 -> 11.43 | V23: =S23*G23 -> 60.0447 | W23: =T23*G23 -> 906.5904 | X23: =V23+W23 -> 966.6351 | Y23: 0.8 | Z23: =ROUND((E23-L23)*Y23,2) -> 10.72 | AB23: =U23 -> 11.43 | AC23: =AI23 -> 2.68 | AD23: =AB23+AC23 -> 14.11 | AE23: =AB23*G23 -> 966.6351 | AF23: =AC23*G23 -> 226.6476 | AG23: =AE23+AF23 -> 1193.2827 | AH23: 0.19 | AI23: =ROUND(E23*AH23,2) -> 2.68 | AJ23: 4514
A24: 2.4 | B24: ED-51124 | C24: REGULARIZAÇÃO E COMPACTAÇÃO MECÂNICA DE TERRENO COM ROLO VIBRATÓRIO, EXCLUSIVE DESMATAMENTO, DESTOCAMENTO, LIMPEZA/ROÇADA DO TERRENO | D24: M² | E24: =40*50 -> 2000 | F24: 4.04 | G24: =F24+F24*$G$12 -> 4.04 | H24: 8080 | K24: =Q24 -> 100 | L24: =J24+K24 -> 100 | N24: =K24*G24 -> 404 | O24: =M24+N24 -> 404 | P24: 0.05 | Q24: =ROUND(E24*P24,2) -> 100 | S24: =K24 -> 100 | T24: =Z24 -> 1710 | U24: =S24+T24 -> 1810 | V24: =S24*G24 -> 404 | W24: =T24*G24 -> 6908.4 | X24: =V24+W24 -> 7312.4 | Y24: 0.9 | Z24: =ROUND((E24-L24)*Y24,2) -> 1710 | AB24: =U24 -> 1810 | AC24: =AI24 -> 190 | AD24: =AB24+AC24 -> 2000 | AE24: =AB24*G24 -> 7312.4 | AF24: =AC24*G24 -> 767.6 | AG24: =AE24+AF24 -> 8080 | AH24: 0.095 | AI24: =ROUND(E24*AH24,2) -> 190 | AJ24: 4514
A25: 3 | B25: PAVIMENTAÇÃO | H25: =SUM(H26:H32) -> 148519.67 | N25: =SUM(N22:N24) -> 613.7336 | O25: =SUM(O22:O24) -> 613.7336 | V25: =SUM(V22:V24) -> 613.7336 | W25: =SUM(W22:W24) -> 10094.152 | X25: =V25+W25 -> 10707.885 | AE25: =SUM(AE22:AE24) -> 10707.886 | AF25: =SUM(AF22:AF24) -> 1564.2494 | AG25: =AE25+AF25 -> 12272.135
A26: 3.1 | B26: ED-15227 | C26: PISO PODOTÁTIL DE CONCRETO, DIRECIONAL, APLICADO EM PISO (20X20CM) COM JUNTA SECA, COR VERMELHO/AMARELO, ASSENTAMENTO COM ARGAMASSA INDUSTRIALIZADA, INCLUSIVE FORNECIMENTO E INSTALAÇÃO | D26: M² | E26: 59 | F26: 62.75 | G26: =F26+F26*$G$12 -> 62.75 | H26: 3702.25 | K26: =Q26 -> 0 | L26: =J26+K26 -> 0 | N26: =K26*G26 -> 0 | O26: =M26+N26 -> 0 | P26: 0 | Q26: =ROUND(E26*P26,2) -> 0 | S26: =K26 -> 0 | T26: =Z26 -> 26.55 | U26: =S26+T26 -> 26.55 | V26: =S26*G26 -> 0 | W26: =T26*G26 -> 1666.0125 | X26: =V26+W26 -> 1666.0125 | Y26: 0.45 | Z26: =ROUND((E26-L26)*Y26,2) -> 26.55 | AB26: =U26 -> 26.55 | AC26: =AI26 -> 10.03 | AD26: =AB26+AC26 -> 36.58 | AE26: =AB26*G26 -> 1666.0125 | AF26: =AC26*G26 -> 629.3825 | AG26: =AE26+AF26 -> 2295.395 | AH26: 0.17 | AI26: =ROUND(E26*AH26,2) -> 10.03 | AJ26: 4514
A27: 3.2 | B27: ED-15226 | C27: PISO PODOTÁTIL DE CONCRETO, ALERTA, APLICADO EM PISO (20X20CM) COM JUNTA SECA, COR VERMELHO/AMARELO, ASSENTAMENTO COM ARGAMASSA INDUSTRIALIZADA, INCLUSIVE FORNECIMENTO E INSTALAÇÃO | D27: M² | E27: 5.04 | F27: 100.4 | G27: =F27+F27*$G$12 -> 100.4 | H27: 506.02 | K27: =Q27 -> 0 | L27: =J27+K27 -> 0 | N27: =K27*G27 -> 0 | O27: =M27+N27 -> 0 | P27: 0 | Q27: =ROUND(E27*P27,2) -> 0 | S27: =K27 -> 0 | T27: =Z27 -> 2.02 | U27: =S27+T27 -> 2.02 | V27: =S27*G27 -> 0 | W27: =T27*G27 -> 202.808 | X27: =V27+W27 -> 202.808 | Y27: 0.4 | Z27: =ROUND((E27-L27)*Y27,2) -> 2.02 | AB27: =U27 -> 2.02 | AC27: =AI27 -> 1.51 | AD27: =AB27+AC27 -> 3.53 | AE27: =AB27*G27 -> 202.808 | AF27: =AC27*G27 -> 151.604 | AG27: =AE27+AF27 -> 354.412 | AH27: 0.3 | AI27: =ROUND(E27*AH27,2) -> 1.51 | AJ27: 4514
A28: 3.3 | B28: ED-50417 | C28: EXECUÇÃO DE PAVIMENTO INTERTRAVADO, ESPESSURA 6CM, FCK 35MPA, INCLUINDO FORNECIMENTO E TRANSPORTE DE TODOS OS MATERIAIS E COLCHÃO DE ASSENTAMENTO COM ESPESSURA 6CM (CINZA) | D28: M² | E28: 655 | F28: 67.77 | G28: =F28+F28*$G$12 -> 67.77 | H28: 44389.35 | K28: =Q28 -> 0 | L28: =J28+K28 -> 0 | N28: =K28*G28 -> 0 | O28: =M28+N28 -> 0 | P28: 0 | Q28: =ROUND(E28*P28,2) -> 0 | S28: =K28 -> 0 | T28: =Z28 -> 0 | U28: =S28+T28 -> 0 | V28: =S28*G28 -> 0 | W28: =T28*G28 -> 0 | X28: =V28+W28 -> 0 | Y28: 0 | Z28: =ROUND((E28-L28)*Y28,2) -> 0 | AB28: =U28 -> 0 | AC28: =AI28 -> 655 | AD28: =AB28+AC28 -> 655 | AE28: =AB28*G28 -> 0 | AF28: =AC28*G28 -> 44389.35 | AG28: =AE28+AF28 -> 44389.35 | AH28: 1 | AI28: =ROUND(E28*AH28,2) -> 655 | AJ28: 4514
A29: 3.4 | B29: 93680 | C29: EXECUÇÃO DE PAVIMENTO EM PISO INTERTRAVADO, COM BLOCO RETANGULAR COLORIDO DE 20 X 10 CM, ESPESSURA 6 CM. AF_10/2022 (VERMELHO) | D29: M² | E29: 455 | F29: 79.07 | G29: =F29+F29*$G$12 -> 79.07 | H29: 35976.85 | K29: =Q29 -> 0 | L29: =J29+K29 -> 0 | N29: =K29*G29 -> 0 | O29: =M29+N29 -> 0 | P29: 0 | Q29: =ROUND(E29*P29,2) -> 0 | S29: =K29 -> 0 | T29: =Z29 -> 0 | U29: =S29+T29 -> 0 | V29: =S29*G29 -> 0 | W29: =T29*G29 -> 0 | X29: =V29+W29 -> 0 | Y29: 0 | Z29: =ROUND((E29-L29)*Y29,2) -> 0 | AB29: =U29 -> 0 | AC29: =AI29 -> 0 | AD29: =AB29+AC29 -> 0 | AE29: =AB29*G29 -> 0 | AF29: =AC29*G29 -> 0 | AG29: =AE29+AF29 -> 0 | AH29: 0 | AI29: =ROUND(E29*AH29,2) -> 0
A30: 3.5 | B30: 93680 | C30: EXECUÇÃO DE PAVIMENTO EM PISO INTERTRAVADO, COM BLOCO RETANGULAR COLORIDO DE 20 X 10 CM, ESPESSURA 6 CM. AF_10/2022 (AMARELO) | D30: M² | E30: 630 | F30: 71.54 | G30: =F30+F30*$G$12 -> 71.54 | H30: 45070.2 | K30: =Q30 -> 0 | L30: =J30+K30 -> 0 | N30: =K30*G30 -> 0 | O30: =M30+N30 -> 0 | P30: 0 | Q30: =ROUND(E30*P30,2) -> 0 | S30: =K30 -> 0 | T30: =Z30 -> 0 | U30: =S30+T30 -> 0 | V30: =S30*G30 -> 0 | W30: =T30*G30 -> 0 | X30: =V30+W30 -> 0 | Y30: 0 | Z30: =ROUND((E30-L30)*Y30,2) -> 0 | AB30: =U30 -> 0 | AC30: =AI30 -> 0 | AD30: =AB30+AC30 -> 0 | AE30: =AB30*G30 -> 0 | AF30: =AC30*G30 -> 0 | AG30: =AE30+AF30 -> 0 | AH30: 0 | AI30: =ROUND(E30*AH30,2) -> 0
A31: 3.6 | B31: ED-51145 | C31: PASSEIOS DE CONCRETO E = 6 CM, FCK = 10 MPA, JUNTA SECA | D31: M² | E31: 330 | F31: 53.97 | G31: =F31+F31*$G$12 -> 53.97 | H31: 17810.1 | K31: =Q31 -> 0 | L31: =J31+K31 -> 0 | N31: =K31*G31 -> 0 | O31: =M31+N31 -> 0 | P31: 0 | Q31: =ROUND(E31*P31,2) -> 0 | S31: =K31 -> 0 | T31: =Z31 -> 267.3 | U31: =S31+T31 -> 267.3 | V31: =S31*G31 -> 0 | W31: =T31*G31 -> 14426.181 | X31: =V31+W31 -> 14426.181 | Y31: 0.81 | Z31: =ROUND((E31-L31)*Y31,2) -> 267.3 | AB31: =U31 -> 267.3 | AC31: =AI31 -> 62.7 | AD31: =AB31+AC31 -> 330 | AE31: =AB31*G31 -> 14426.181 | AF31: =AC31*G31 -> 3383.919 | AG31: =AE31+AF31 -> 17810.1 | AH31: 0.19 | AI31: =ROUND(E31*AH31,2) -> 62.7 | AJ31: 4515
A32: 3.7 | B32: ED-51148 | C32: RAMPA PARA ACESSO DE DEFICIENTE, EM CONCRETO SIMPLES FCK = 25MPA, DESEMPENADA, COM PINTURA INDICATIVA, 02 DEMÃOS | D32: UND | E32: 2 | F32: 532.45 | G32: =F32+F32*$G$12 -> 532.45 | H32: 1064.9 | K32: =Q32 -> 0 | L32: =J32+K32 -> 0 | N32: =K32*G32 -> 0 | O32: =M32+N32 -> 0 | P32: 0 | Q32: =ROUND(E32*P32,2) -> 0 | S32: =K32 -> 0 | T32: =Z32 -> 2 | U32: =S32+T32 -> 2 | V32: =S32*G32 -> 0 | W32: =T32*G32 -> 1064.9 | X32: =V32+W32 -> 1064.9 | Y32: 1 | Z32: =ROUND((E32-L32)*Y32,2) -> 2 | AB32: =U32 -> 2 | AC32: =AI32 -> 0 | AD32: =AB32+AC32 -> 2 | AE32: =AB32*G32 -> 1064.9 | AF32: =AC32*G32 -> 0 | AG32: =AE32+AF32 -> 1064.9 | AH32: 0 | AI32: =ROUND(E32*AH32,2) -> 0
A33: 4 | B33: INFRAESTRUTURA (MURO, CANTEIROS E PALCO) | H33: =SUM(H34:H44) -> 89831.52 | N33: =SUM(N26:N32) -> 0 | O33: =SUM(O26:O32) -> 0 | V33: =SUM(V26:V32) -> 0 | W33: =SUM(W26:W32) -> 17359.901 | X33: =V33+W33 -> 17359.901 | AE33: =SUM(AE26:AE32) -> 17359.901 | AF33: =SUM(AF26:AF32) -> 48554.255 | AG33: =AE33+AF33 -> 65914.157
A34: 4.1 | B34: ED-50408 | C34: MURO DIVISÓRIO TIJOLO FURADO E = 10 CM, REBOCADO E PINTADO A LATEX H = 2,20 A 2,50 M, INCLUSIVE SAPATA DECONCRETO ARMADO FCK = 15MPA, 50x55 CM. | D34: M | E34: 25 | F34: 878.5 | G34: =F34+F34*$G$12 -> 878.5 | H34: 21962.5 | K34: =Q34 -> 20 | L34: =J34+K34 -> 20 | N34: =K34*G34 -> 17570 | O34: =M34+N34 -> 17570 | P34: 0.8 | Q34: =ROUND(E34*P34,2) -> 20 | S34: =K34 -> 20 | T34: =Z34 -> 12.5 | U34: =S34+T34 -> 32.5 | V34: =S34*G34 -> 17570 | W34: =T34*G34 -> 10981.25 | X34: =V34+W34 -> 28551.25 | Y34: 2.5 | Z34: =ROUND((E34-L34)*Y34,2) -> 12.5 | AB34: =U34 -> 32.5 | AC34: =AI34 -> 0 | AD34: =AB34+AC34 -> 32.5 | AE34: =AB34*G34 -> 28551.25 | AF34: =AC34*G34 -> 0 | AG34: =AE34+AF34 -> 28551.25 | AH34: 0 | AI34: =ROUND(E34*AH34,2) -> 0
A35: 4.2 | B35: ED-48192 | C35: ALVENARIA DE VEDAÇÃO COM BLOCO DE CONCRETO, ESP. 14CM, PARA REVESTIMENTO, INCLUSIVE ARGAMASSA PARA ASSENTAMENTO | D35: M² | E35: 148.71 | F35: 70.28 | G35: =F35+F35*$G$12 -> 70.28 | H35: 10451.34 | K35: =Q35 -> 14.87 | L35: =J35+K35 -> 14.87 | N35: =K35*G35 -> 1045.0636 | O35: =M35+N35 -> 1045.0636 | P35: 0.1 | Q35: =ROUND(E35*P35,2) -> 14.87 | S35: =K35 -> 14.87 | T35: =Z35 -> 107.07 | U35: =S35+T35 -> 121.94 | V35: =S35*G35 -> 1045.0636 | W35: =T35*G35 -> 7524.8796 | X35: =V35+W35 -> 8569.9432 | Y35: 0.8 | Z35: =ROUND((E35-L35)*Y35,2) -> 107.07 | AB35: =U35 -> 121.94 | AC35: =AI35 -> 26.77 | AD35: =AB35+AC35 -> 148.71 | AE35: =AB35*G35 -> 8569.9432 | AF35: =AC35*G35 -> 1881.3956 | AG35: =AE35+AF35 -> 10451.339 | AH35: 0.18 | AI35: =ROUND(E35*AH35,2) -> 26.77 | AJ35: 4515
A36: 4.3 | B36: 87894 | C36: CHAPISCO APLICADO EM ALVENARIA (SEM PRESENÇA DE VÃOS) E ESTRUTURAS DE CONCRETO DE FACHADA, COM COLHER DE PEDREIRO. ARGAMASSA TRAÇO 1:3 COM PREPARO EM BETONEIRA 400L. AF_10/2022 | D36: M² | E36: 340 | F36: 8.33 | G36: =F36+F36*$G$12 -> 8.33 | H36: 2832.2 | K36: =Q36 -> 34 | L36: =J36+K36 -> 34 | N36: =K36*G36 -> 283.22 | O36: =M36+N36 -> 283.22 | P36: 0.1 | Q36: =ROUND(E36*P36,2) -> 34 | S36: =K36 -> 34 | T36: =Z36 -> 244.8 | U36: =S36+T36 -> 278.8 | V36: =S36*G36 -> 283.22 | W36: =T36*G36 -> 2039.184 | X36: =V36+W36 -> 2322.404 | Y36: 0.8 | Z36: =ROUND((E36-L36)*Y36,2) -> 244.8 | AB36: =U36 -> 278.8 | AC36: =AI36 -> 61.2 | AD36: =AB36+AC36 -> 340 | AE36: =AB36*G36 -> 2322.404 | AF36: =AC36*G36 -> 509.796 | AG36: =AE36+AF36 -> 2832.2 | AH36: 0.18 | AI36: =ROUND(E36*AH36,2) -> 61.2 | AJ36: 4515
A37: 4.4 | B37: ED-50761 | C37: REBOCO COM ARGAMASSA, TRAÇO 1:2:8 (CIMENTO, CAL E AREIA, ESP. 20MM, APLICAÇÃO MANUAL, PREPARO MECÂNICO | D37: M² | E37: =E36 -> 340 | F37: 44.18 | G37: =F37+F37*$G$12 -> 44.18 | H37: 15021.2 | K37: =Q37 -> 34 | L37: =J37+K37 -> 34 | N37: =K37*G37 -> 1502.12 | O37: =M37+N37 -> 1502.12 | P37: 0.1 | Q37: =ROUND(E37*P37,2) -> 34 | S37: =K37 -> 34 | T37: =Z37 -> 244.8 | U37: =S37+T37 -> 278.8 | V37: =S37*G37 -> 1502.12 | W37: =T37*G37 -> 10815.264 | X37: =V37+W37 -> 12317.384 | Y37: 0.8 | Z37: =ROUND((E37-L37)*Y37,2) -> 244.8 | AB37: =U37 -> 278.8 | AC37: =AI37 -> 61.2 | AD37: =AB37+AC37 -> 340 | AE37: =AB37*G37 -> 12317.384 | AF37: =AC37*G37 -> 2703.816 | AG37: =AE37+AF37 -> 15021.2 | AH37: 0.18 | AI37: =ROUND(E37*AH37,2) -> 61.2 | AJ37: 4515
A38: 4.5 | B38: ED-50514 | C38: PREPARAÇÃO PARA EMASSAMENTO OU PINTURA (LÁTEX/ACRÍLICA) EM PAREDE, INCLUSIVE UMA (1) DEMÃO DE SELADOR ACRÍLICO | D38: M² | E38: 460 | F38: 6.28 | G38: =F38+F38*$G$12 -> 6.28 | H38: 2888.8 | K38: =Q38 -> 0 | L38: =J38+K38 -> 0 | N38: =K38*G38 -> 0 | O38: =M38+N38 -> 0 | P38: 0 | Q38: =ROUND(E38*P38,2) -> 0 | S38: =K38 -> 0 | T38: =Z38 -> 0 | U38: =S38+T38 -> 0 | V38: =S38*G38 -> 0 | W38: =T38*G38 -> 0 | X38: =V38+W38 -> 0 | Y38: 0 | Z38: =ROUND((E38-L38)*Y38,2) -> 0 | AB38: =U38 -> 0 | AC38: =AI38 -> 0 | AD38: =AB38+AC38 -> 0 | AE38: =AB38*G38 -> 0 | AF38: =AC38*G38 -> 0 | AG38: =AE38+AF38 -> 0 | AH38: 0 | AI38: =ROUND(E38*AH38,2) -> 0
A39: 4.6 | B39: ED-50459 | C39: PINTURA ACRÍLICA PARA PISO EM PASSEIO/SUPERFÍCIE CIMENTADA, DUAS (2) DEMÃOS | D39: M² | E39: 460 | F39: 7.91 | G39: =F39+F39*$G$12 -> 7.91 | H39: 3638.6 | K39: =Q39 -> 0 | L39: =J39+K39 -> 0 | N39: =K39*G39 -> 0 | O39: =M39+N39 -> 0 | P39: 0 | Q39: =ROUND(E39*P39,2) -> 0 | S39: =K39 -> 0 | T39: =Z39 -> 0 | U39: =S39+T39 -> 0 | V39: =S39*G39 -> 0 | W39: =T39*G39 -> 0 | X39: =V39+W39 -> 0 | Y39: 0 | Z39: =ROUND((E39-L39)*Y39,2) -> 0 | AB39: =U39 -> 0 | AC39: =AI39 -> 0 | AD39: =AB39+AC39 -> 0 | AE39: =AB39*G39 -> 0 | AF39: =AC39*G39 -> 0 | AG39: =AE39+AF39 -> 0 | AH39: 0 | AI39: =ROUND(E39*AH39,2) -> 0
A40: 4.7 | B40: ED-48388 | C40: CINTA DE AMARRAÇÃO DE ALVENARIA COM BLOCO DE CONCRETO ESTRUTURAL, CANALETA TIPO "U", ESP. 14CM, (FBK 4,5MPA), PARA REVESTIMENTO, INCLUSIVE ARGAMASSA PARA ASSENTAMENTO, EXCLUSIVE GRAUTE E ARMAÇÃO | D40: M | E40: 171 | F40: 24.71 | G40: =F40+F40*$G$12 -> 24.71 | H40: 4225.41 | K40: =Q40 -> 8.55 | L40: =J40+K40 -> 8.55 | N40: =K40*G40 -> 211.2705 | O40: =M40+N40 -> 211.2705 | P40: 0.05 | Q40: =ROUND(E40*P40,2) -> 8.55 | S40: =K40 -> 8.55 | T40: =Z40 -> 162.45 | U40: =S40+T40 -> 171 | V40: =S40*G40 -> 211.2705 | W40: =T40*G40 -> 4014.1395 | X40: =V40+W40 -> 4225.41 | Y40: 1 | Z40: =ROUND((E40-L40)*Y40,2) -> 162.45 | AB40: =U40 -> 171 | AC40: =AI40 -> 0 | AD40: =AB40+AC40 -> 171 | AE40: =AB40*G40 -> 4225.41 | AF40: =AC40*G40 -> 0 | AG40: =AE40+AF40 -> 4225.41 | AH40: 0 | AI40: =ROUND(E40*AH40,2) -> 0
A41: 4.8 | B41: ED-49619 | C41: FORNECIMENTO DE CONCRETO ESTRUTURAL, PREPARADO EM OBRA, COM FCK 25MPA, INCLUSIVE LANÇAMENTO, ADENSAMENTO E ACABAMENTO | D41: M³ | E41: 28.87 | F41: 878.5 | G41: =F41+F41*$G$12 -> 878.5 | H41: 25362.3 | K41: =Q41 -> 1.44 | L41: =J41+K41 -> 1.44 | N41: =K41*G41 -> 1265.04 | O41: =M41+N41 -> 1265.04 | P41: 0.05 | Q41: =ROUND(E41*P41,2) -> 1.44 | S41: =K41 -> 1.44 | T41: =Z41 -> 27.43 | U41: =S41+T41 -> 28.87 | V41: =S41*G41 -> 1265.04 | W41: =T41*G41 -> 24097.255 | X41: =V41+W41 -> 25362.295 | Y41: 1 | Z41: =ROUND((E41-L41)*Y41,2) -> 27.43 | AB41: =U41 -> 28.87 | AC41: =AI41 -> 0 | AD41: =AB41+AC41 -> 28.87 | AE41: =AB41*G41 -> 25362.295 | AF41: =AC41*G41 -> 0 | AG41: =AE41+AF41 -> 25362.295 | AH41: 0 | AI41: =ROUND(E41*AH41,2) -> 0
A42: 4.9 | B42: ED-48297 | C42: CORTE, DOBRA E MONTAGEM DE AÇO CA-60, DIÂMETRO (4,2MM A 5,0MM), INCLUSIVE ESPAÇADOR | D42: KG | E42: 132.66 | F42: 14.98 | G42: =F42+F42*$G$12 -> 14.98 | H42: 1987.25 | K42: =Q42 -> 6.63 | L42: =J42+K42 -> 6.63 | N42: =K42*G42 -> 99.3174 | O42: =M42+N42 -> 99.3174 | P42: 0.05 | Q42: =ROUND(E42*P42,2) -> 6.63 | S42: =K42 -> 6.63 | T42: =Z42 -> 126.03 | U42: =S42+T42 -> 132.66 | V42: =S42*G42 -> 99.3174 | W42: =T42*G42 -> 1887.9294 | X42: =V42+W42 -> 1987.2468 | Y42: 1 | Z42: =ROUND((E42-L42)*Y42,2) -> 126.03 | AB42: =U42 -> 132.66 | AC42: =AI42 -> 0 | AD42: =AB42+AC42 -> 132.66 | AE42: =AB42*G42 -> 1987.2468 | AF42: =AC42*G42 -> 0 | AG42: =AE42+AF42 -> 1987.2468 | AH42: 0 | AI42: =ROUND(E42*AH42,2) -> 0
A43: 4.10 | B43: ED-48295 | C43: CORTE, DOBRA E MONTAGEM DE AÇO CA-50, DIÂMETRO (6,3MM A 12,5MM), INCLUSIVE ESPAÇADOR | D43: KG | E43: 73.5 | F43: 15.06 | G43: =F43+F43*$G$12 -> 15.06 | H43: 1106.91 | K43: =Q43 -> 3.68 | L43: =J43+K43 -> 3.68 | N43: =K43*G43 -> 55.4208 | O43: =M43+N43 -> 55.4208 | P43: 0.05 | Q43: =ROUND(E43*P43,2) -> 3.68 | S43: =K43 -> 3.68 | T43: =Z43 -> 69.82 | U43: =S43+T43 -> 73.5 | V43: =S43*G43 -> 55.4208 | W43: =T43*G43 -> 1051.4892 | X43: =V43+W43 -> 1106.91 | Y43: 1 | Z43: =ROUND((E43-L43)*Y43,2) -> 69.82 | AB43: =U43 -> 73.5 | AC43: =AI43 -> 0 | AD43: =AB43+AC43 -> 73.5 | AE43: =AB43*G43 -> 1106.91 | AF43: =AC43*G43 -> 0 | AG43: =AE43+AF43 -> 1106.91 | AH43: 0 | AI43: =ROUND(E43*AH43,2) -> 0
A44: 4.11 | B44: ED-49643 | C44: FÔRMA E DESFORMA DE TÁBUA E SARRAFO, REAPROVEITAMENTO (3X), EXCLUSIVE ESCORAMENTO | D44: M² | E44: 4.9 | F44: 72.4573 | G44: =F44+F44*$G$12 -> 72.4573 | H44: 355.01 | K44: =Q44 -> 0.25 | L44: =J44+K44 -> 0.25 | N44: =K44*G44 -> 18.114325 | O44: =M44+N44 -> 18.114325 | P44: 0.05 | Q44: =ROUND(E44*P44,2) -> 0.25 | S44: =K44 -> 0.25 | T44: =Z44 -> 4.65 | U44: =S44+T44 -> 4.9 | V44: =S44*G44 -> 18.114325 | W44: =T44*G44 -> 336.92645 | X44: =V44+W44 -> 355.04077 | Y44: 1 | Z44: =ROUND((E44-L44)*Y44,2) -> 4.65 | AB44: =U44 -> 4.9 | AC44: =AI44 -> 0 | AD44: =AB44+AC44 -> 4.9 | AE44: =AB44*G44 -> 355.04077 | AF44: =AC44*G44 -> 0 | AG44: =AE44+AF44 -> 355.04077 | AH44: 0 | AI44: =ROUND(E44*AH44,2) -> 0
A45: 5 | B45: ILUMINAÇÃO | H45: =SUM(H46:H83) -> 44622.27 | N45: =SUM(N34:N44) -> 22049.567 | O45: =SUM(O34:O44) -> 22049.567 | V45: =SUM(V34:V44) -> 22049.567 | W45: =SUM(W34:W44) -> 62748.317 | X45: =V45+W45 -> 84797.884 | AE45: =SUM(AE34:AE44) -> 84797.884 | AF45: =SUM(AF34:AF44) -> 5095.0076 | AG45: =AE45+AF45 -> 89892.891
A46: 5.1 | B46: =[1]COMPOSIÇÃO!B4 -> COMPOSIÇÃO 01 | C46: SUPORTE NÚCLEO GALVANIZADO PARA FIXAÇÃO DE 4 PÉTALAS LUMINÁRIA PÚBLICA DE POSTE | D46: UNID | E46: 5 | F46: 426.45 | G46: =F46+F46*$G$12 -> 426.45 | H46: 2132.25 | K46: =Q46 -> 0 | L46: =J46+K46 -> 0 | N46: =K46*G46 -> 0 | O46: =M46+N46 -> 0 | P46: 0 | Q46: =ROUND(E46*P46,2) -> 0 | S46: =K46 -> 0 | T46: =Z46 -> 0 | U46: =S46+T46 -> 0 | V46: =S46*G46 -> 0 | W46: =T46*G46 -> 0 | X46: =V46+W46 -> 0 | Y46: 0 | Z46: =ROUND((E46-L46)*Y46,2) -> 0 | AB46: =U46 -> 0 | AC46: =AI46 -> 0 | AD46: =AB46+AC46 -> 0 | AE46: =AB46*G46 -> 0 | AF46: =AC46*G46 -> 0 | AG46: =AE46+AF46 -> 0 | AH46: 0 | AI46: =ROUND(E46*AH46,2) -> 0
A47: 5.2 | B47: =[1]COMPOSIÇÃO!B11 -> COMPOSIÇÃO 02 | C47: POSTE DE CONCRETO CÔNICO DE 11 METROS(ILUMINAÇÃO PÚBLICA) - 150 A 200 Dan | D47: UNID | E47: 5 | F47: 2127.11 | G47: =F47+F47*$G$12 -> 2127.11 | H47: 10635.55 | K47: =Q47 -> 0 | L47: =J47+K47 -> 0 | N47: =K47*G47 -> 0 | O47: =M47+N47 -> 0 | P47: 0 | Q47: =ROUND(E47*P47,2) -> 0 | S47: =K47 -> 0 | T47: =Z47 -> 0 | U47: =S47+T47 -> 0 | V47: =S47*G47 -> 0 | W47: =T47*G47 -> 0 | X47: =V47+W47 -> 0 | Y47: 0 | Z47: =ROUND((E47-L47)*Y47,2) -> 0 | AB47: =U47 -> 0 | AC47: =AI47 -> 5 | AD47: =AB47+AC47 -> 5 | AE47: =AB47*G47 -> 0 | AF47: =AC47*G47 -> 10635.55 | AG47: =AE47+AF47 -> 10635.55 | AH47: 1 | AI47: =ROUND(E47*AH47,2) -> 5 | AJ47: 4518
...

Sheet PANILHA 
A1: PREFEITURA MUNICIPAL DE JANUÁRIA- MG Avenida Aeroporto, 250. Bairro: Aeroporto - CEP 39480-000 - Januária/MG CNPJ 21.461.546/0001-10 Telefax: 0xx (38) 3621-2656 SECRETARIA MUNICIPAL DE OBRAS E SERVIÇOS URBANOS | K1: MEDIÇÃO 01 | T1: MEDIÇÃO 02 | AC1: MEDIÇÃO 03 | AL1: MEDIÇÃO FINAL
A8: PLANILHA ORÇAMENTÁRIA DE CUSTOS
A9: PREFEITURA MUNICIPAL DE JANUÁRIA
A10: OBRA:CONSTRUÇÃO DA PRAÇA DA PREVIDÊNCIA | H10: DATA: | I10: 46064
A11: LOCAL: JANUÁRIA - MG | G11: BDI= | H11: 0.2764
A12: REGIÃO/MÊS DE REFERÊNCIA: SETOP REGIÃO NORTE OUTUBRO/2025 - SINAPI DEZEMBRO/2025
A13: PRAZO DE EXECUÇÃO: 3 MESES | K13: FISÍCO | N13: FINANCEIRO | T13: FISÍCO | W13: FINANCEIRO | AC13: FISÍCO | AF13: FINANCEIRO | AL13: FISÍCO | AO13: FINANCEIRO
A14: ITEM | B14: CÓDIGO | D14: DESCRIÇÃO | E14: UNIDADE | F14: QUANTIDADE | G14: VALOR UNIT. | H14: VALOR UNIT. C/ BDI | I14: VALOR TOTAL | K14: ANTERIOR | L14: ATUAL | M14: ACUMULADO | N14: ANTERIOR | O14: ATUAL | P14: ACUMULADO | T14: ANTERIOR | U14: ATUAL | V14: ACUMULADO | W14: ANTERIOR | X14: ATUAL | Y14: ACUMULADO | AC14: ANTERIOR | AD14: ATUAL | AE14: ACUMULADO | AF14: ANTERIOR | AG14: ATUAL | AH14: ACUMULADO | AL14: ANTERIOR | AM14: ATUAL | AN14: ACUMULADO | AO14: ANTERIOR | AP14: ATUAL | AQ14: ACUMULADO
A15: 1 | B15: SERVIÇOS INICIAIS | I15: =SUM(I16:I18) -> 56067.69
A16: 1.1 | B16: ED-28427 | C16: SETOP | D16: FORNECIMENTO E COLOCAÇÃO DE PLACA DE OBRA EM CHAPA GALVANIZADA #26, ESP. 0,45MM, DIMENSÃO (3X1,5)M, PLOTADA COM ADESIVO VINÍLICO, AFIXADA COM REBITES 4,8X40MM, EM ESTRUTURA METÁLICA DE METALON 20X20MM, ESP. 1,25MM,INCLUSIVE SUPORTE EM EUCALIPTO AUTOCLAVADO PINTADO COM TINTA PVA DUAS (2) DEMÃOS | E16: UNID | F16: 1 | G16: 1153.26 | H16: =G16+G16*$H$11 -> 1472.0211 | I16: 1472.02 | L16: =R16 -> 1 | M16: =K16+L16 -> 1 | O16: =L16*H16 -> 1472.0211 | P16: =N16+O16 -> 1472.0211 | Q16: 1 | R16: =ROUND(F16*Q16,2) -> 1 | T16: =L16 -> 1 | U16: =AA16 -> 0 | V16: =T16+U16 -> 1 | W16: =T16*H16 -> 1472.0211 | X16: =U16*H16 -> 0 | Y16: =W16+X16 -> 1472.0211 | Z16: 1 | AA16: =ROUND((F16-M16)*Z16,2) -> 0 | AC16: =V16 -> 1 | AD16: =AJ16 -> 0 | AE16: =AC16+AD16 -> 1 | AF16: =AC16*H16 -> 1472.0211 | AG16: =AD16*H16 -> 0 | AH16: =AF16+AG16 -> 1472.0211 | AI16: 0 | AJ16: =ROUND(F16*AI16,2) -> 0 | AL16: =AE16 -> 1 | AM16: =AS16 -> 0 | AN16: =AL16+AM16 -> 1 | AO16: =AL16*H16 -> 1472.0211 | AP16: =AM16*H16 -> 0 | AQ16: =AO16+AP16 -> 1472.0211 | AR16: 0 | AS16: =ROUND(F16*AR16,2) -> 0
A17: 1.2 | B17: ED-50135 | C17: SETOP | D17: BARRACÃO DE OBRA, EM CHAPA DE COMPENSADO RESINADO,INCLUSIVE INSTALAÇÕES SANITÁRIAS E MOBILIÁRIO - PADRÃO DER-MG | E17: M² | F17: 8 | G17: 640.96 | H17: =G17+G17*$H$11 -> 818.12134 | I17: 6544.96 | L17: =R17 -> 8 | M17: =K17+L17 -> 8 | O17: =L17*H17 -> 6544.9708 | P17: =N17+O17 -> 6544.9708 | Q17: 1 | R17: =ROUND(F17*Q17,2) -> 8 | T17: =L17 -> 8 | U17: =AA17 -> 0 | V17: =T17+U17 -> 8 | W17: =T17*H17 -> 6544.9708 | X17: =U17*H17 -> 0 | Y17: =W17+X17 -> 6544.9708 | Z17: 1 | AA17: =ROUND((F17-M17)*Z17,2) -> 0 | AC17: =V17 -> 8 | AD17: =AJ17 -> 0 | AE17: =AC17+AD17 -> 8 | AF17: =AC17*H17 -> 6544.9708 | AG17: =AD17*H17 -> 0 | AH17: =AF17+AG17 -> 6544.9708 | AI17: 0 | AJ17: =ROUND(F17*AI17,2) -> 0 | AL17: =AE17 -> 8 | AM17: =AS17 -> 0 | AN17: =AL17+AM17 -> 8 | AO17: =AL17*H17 -> 6544.9708 | AP17: =AM17*H17 -> 0 | AQ17: =AO17+AP17 -> 6544.9708 | AR17: 0 | AS17: =ROUND(F17*AR17,2) -> 0
A18: 1.3 | B18: ED-29823 | C18: SETOP | D18: TAPUME FIXO DE PROTEÇÃO PARA FECHAMENTO DE OBRA EM TELHA METÁLICA GALVANIZADA, TIPO TRAPEZOIDAL, ESP. 0,5MM, COM MÓDULO NA DIMENSÃO DE (300X220)CM, COM REAPROVEITAMENTO, EXCLUSIVE PINTURA ESMALTE, INCLUSIVE PONTALETE E FIXAÇÃO( INCLUSO PORTÃO) | E18: M² | F18: 576.77 | G18: 65.27 | H18: =G18+G18*$H$11 -> 83.310628 | I18: 48050.71 | L18: =R18 -> 576.77 | M18: =K18+L18 -> 576.77 | O18: =L18*H18 -> 48051.071 | P18: =N18+O18 -> 48051.071 | Q18: 1 | R18: =ROUND(F18*Q18,2) -> 576.77 | T18: =L18 -> 576.77 | U18: =AA18 -> 0 | V18: =T18+U18 -> 576.77 | W18: =T18*H18 -> 48051.071 | X18: =U18*H18 -> 0 | Y18: =W18+X18 -> 48051.071 | Z18: 1 | AA18: =ROUND((F18-M18)*Z18,2) -> 0 | AC18: =V18 -> 576.77 | AD18: =AJ18 -> 0 | AE18: =AC18+AD18 -> 576.77 | AF18: =AC18*H18 -> 48051.071 | AG18: =AD18*H18 -> 0 | AH18: =AF18+AG18 -> 48051.071 | AI18: 0 | AJ18: =ROUND(F18*AI18,2) -> 0 | AL18: =AE18 -> 576.77 | AM18: =AS18 -> 0 | AN18: =AL18+AM18 -> 576.77 | AO18: =AL18*H18 -> 48051.071 | AP18: =AM18*H18 -> 0 | AQ18: =AO18+AP18 -> 48051.071 | AR18: 0 | AS18: =ROUND(F18*AR18,2) -> 0
A19: 2 | B19: MOVIMENTAÇÃO DE TERRA | I19: =SUM(I20:I24) -> 8030.01 | O19: =SUM(O16:O18) -> 56068.063 | P19: =SUM(P16:P18) -> 56068.063 | W19: =SUM(W16:W18) -> 56068.063 | X19: =SUM(X16:X18) -> 0 | Y19: =W19+X19 -> 56068.063 | AF19: =SUM(AF16:AF18) -> 56068.063 | AG19: =SUM(AG16:AG18) -> 0 | AH19: =AF19+AG19 -> 56068.063 | AO19: =SUM(AO16:AO18) -> 56068.063 | AP19: =SUM(AP16:AP18) -> 0 | AQ19: =AO19+AP19 -> 56068.063
A20: 2.1 | B20: ED-51124 | C20: SETOP | D20: REGULARIZAÇÃO E COMPACTAÇÃO MECÂNICA DE TERRENO COM ROLO VIBRATÓRIO, EXCLUSIVE DESMATAMENTO, DESTOCAMENTO, LIMPEZA/ROÇADA DO TERRENO | E20: M² | F20: 897.66 | G20: 2.75 | H20: =G20+G20*$H$11 -> 3.5101 | I20: 3150.79 | L20: =R20 -> 44.88 | M20: =K20+L20 -> 44.88 | O20: =L20*H20 -> 157.53329 | P20: =N20+O20 -> 157.53329 | Q20: 0.05 | R20: =ROUND(F20*Q20,2) -> 44.88 | T20: =L20 -> 44.88 | U20: =AA20 -> 767.5 | V20: =T20+U20 -> 812.38 | W20: =T20*H20 -> 157.53329 | X20: =U20*H20 -> 2694.0017 | Y20: =W20+X20 -> 2851.535 | Z20: 0.9 | AA20: =ROUND((F20-M20)*Z20,2) -> 767.5 | AC20: =V20 -> 812.38 | AD20: =AJ20 -> 85.28 | AE20: =AC20+AD20 -> 897.66 | AF20: =AC20*H20 -> 2851.535 | AG20: =AD20*H20 -> 299.34133 | AH20: =AF20+AG20 -> 3150.8764 | AI20: 0.095 | AJ20: =ROUND(F20*AI20,2) -> 85.28 | AL20: =AE20 -> 897.66 | AM20: =AS20 -> 0 | AN20: =AL20+AM20 -> 897.66 | AO20: =AL20*H20 -> 3150.8764 | AP20: =AM20*H20 -> 0 | AQ20: =AO20+AP20 -> 3150.8764 | AR20: 0 | AS20: =ROUND(F20*AR20,2) -> 0 | AT20: 1867
A21: 2.2 | B21: ED-51131 | C21: SETOP | D21: CARGA MANUAL DE MATERIAL DE QUALQUER NATUREZA SOBRE CAMINHÃO, EXCLUSIVE TRANSPORTE | E21: m3 | F21: 46.2 | G21: 41.88 | H21: =G21+G21*$H$11 -> 53.455632 | I21: 2469.85
A22: 2.3 | B22: ED-29232 | C22: SETOP | D22: TRANSPORTE DE MATERIAL DE QUALQUER NATUREZA EM CAMINHÃO, DISTÂNCIA MAIOR QUE 5KM E MENOR OU IGUAL A 10KM, DENTRO DO PERÍMETRO URBANO, EXCLUSIVE CARGA, INCLUSIVE DESCARGA | E22: M3xKM | F22: 138.9 | G22: 1.99 | H22: =G22+G22*$H$11 -> 2.540036 | I22: 352.81
A23: 2.4 | B23: ED-51107 | C23: SETOP | D23: ESCAVAÇÃO MANUAL DE VALA COM PROFUNDIDADE MENOR OU IGUAL A 1,5M, INCLUSIVE DESCARGA LATERAL | E23: M³ | F23: 11.28 | G23: 71.42 | H23: =G23+G23*$H$11 -> 91.160488 | I23: 1028.28 | L23: =R23 -> 0.56 | M23: =K23+L23 -> 0.56 | O23: =L23*H23 -> 51.049873 | P23: =N23+O23 -> 51.049873 | Q23: 0.05 | R23: =ROUND(F23*Q23,2) -> 0.56 | T23: =L23 -> 0.56 | U23: =AA23 -> 8.58 | V23: =T23+U23 -> 9.14 | W23: =T23*H23 -> 51.049873 | X23: =U23*H23 -> 782.15699 | Y23: =W23+X23 -> 833.20686 | Z23: 0.8 | AA23: =ROUND((F23-M23)*Z23,2) -> 8.58 | AC23: =V23 -> 9.14 | AD23: =AJ23 -> 2.14 | AE23: =AC23+AD23 -> 11.28 | AF23: =AC23*H23 -> 833.20686 | AG23: =AD23*H23 -> 195.08344 | AH23: =AF23+AG23 -> 1028.2903 | AI23: 0.19 | AJ23: =ROUND(F23*AI23,2) -> 2.14 | AL23: =AE23 -> 11.28 | AM23: =AS23 -> 0 | AN23: =AL23+AM23 -> 11.28 | AO23: =AL23*H23 -> 1028.2903 | AP23: =AM23*H23 -> 0 | AQ23: =AO23+AP23 -> 1028.2903 | AR23: 0 | AS23: =ROUND(F23*AR23,2) -> 0 | AT23: 1867
A24: 2.5 | B24: ED-51120 | C24: SETOP | D24: REATERRO MANUAL DE VALA, INCLUSIVE ESPALHAMENTO E COMPACTAÇÃO MANUAL COM SOQUETE | E24: M³ | F24: 11.28 | G24: 71.42 | H24: =G24+G24*$H$11 -> 91.160488 | I24: 1028.28 | L24: =R24 -> 0.56 | M24: =K24+L24 -> 0.56 | O24: =L24*H24 -> 51.049873 | P24: =N24+O24 -> 51.049873 | Q24: 0.05 | R24: =ROUND(F24*Q24,2) -> 0.56 | T24: =L24 -> 0.56 | U24: =AA24 -> 8.58 | V24: =T24+U24 -> 9.14 | W24: =T24*H24 -> 51.049873 | X24: =U24*H24 -> 782.15699 | Y24: =W24+X24 -> 833.20686 | Z24: 0.8 | AA24: =ROUND((F24-M24)*Z24,2) -> 8.58 | AC24: =V24 -> 9.14 | AD24: =AJ24 -> 2.14 | AE24: =AC24+AD24 -> 11.28 | AF24: =AC24*H24 -> 833.20686 | AG24: =AD24*H24 -> 195.08344 | AH24: =AF24+AG24 -> 1028.2903 | AI24: 0.19 | AJ24: =ROUND(F24*AI24,2) -> 2.14 | AL24: =AE24 -> 11.28 | AM24: =AS24 -> 0 | AN24: =AL24+AM24 -> 11.28 | AO24: =AL24*H24 -> 1028.2903 | AP24: =AM24*H24 -> 0 | AQ24: =AO24+AP24 -> 1028.2903 | AR24: 0 | AS24: =ROUND(F24*AR24,2) -> 0 | AT24: 1867
A25: 3 | B25: PAVIMENTAÇÃO | I25: =SUM(I26:I34) -> 107641.02 | O25: =SUM(O23:O24) -> 102.09975 | P25: =SUM(P23:P24) -> 102.09975 | W25: =SUM(W23:W24) -> 102.09975 | X25: =SUM(X23:X24) -> 1564.314 | Y25: =W25+X25 -> 1666.4137 | AF25: =SUM(AF23:AF24) -> 1666.4137 | AG25: =SUM(AG23:AG24) -> 390.16689 | AH25: =AF25+AG25 -> 2056.5806 | AO25: =SUM(AO23:AO24) -> 2056.5806 | AP25: =SUM(AP23:AP24) -> 0 | AQ25: =AO25+AP25 -> 2056.5806
A26: 3.1 | B26: ED-51145 | C26: SETOP | D26: PASSEIOS DE CONCRETO E = 6 CM, FCK = 10 MPA, JUNTA SECA (RAMPA DE ACESSIBILIDADE) | E26: M² | F26: 27.67 | G26: 67.76 | H26: =G26+G26*$H$11 -> 86.488864 | I26: 2393.18 | L26: =R26 -> 0 | M26: =K26+L26 -> 0 | O26: =L26*H26 -> 0 | P26: =N26+O26 -> 0 | Q26: 0 | R26: =ROUND(F26*Q26,2) -> 0 | T26: =L26 -> 0 | U26: =AA26 -> 22.41 | V26: =T26+U26 -> 22.41 | W26: =T26*H26 -> 0 | X26: =U26*H26 -> 1938.2154 | Y26: =W26+X26 -> 1938.2154 | Z26: 0.81 | AA26: =ROUND((F26-M26)*Z26,2) -> 22.41 | AC26: =V26 -> 22.41 | AD26: =AJ26 -> 5.26 | AE26: =AC26+AD26 -> 27.67 | AF26: =AC26*H26 -> 1938.2154 | AG26: =AD26*H26 -> 454.93142 | AH26: =AF26+AG26 -> 2393.1469 | AI26: 0.19 | AJ26: =ROUND(F26*AI26,2) -> 5.26 | AL26: =AE26 -> 27.67 | AM26: =AS26 -> 0 | AN26: =AL26+AM26 -> 27.67 | AO26: =AL26*H26 -> 2393.1469 | AP26: =AM26*H26 -> 0 | AQ26: =AO26+AP26 -> 2393.1469 | AR26: 0 | AS26: =ROUND(F26*AR26,2) -> 0 | AT26: 1863
A27: 3.2 | B27: ED-8915 | C27: SETOP | D27: EXECUÇÃO DE PAVIMENTO COM PISO INTERTRAVADO, TIPO RETANGULAR, ESP. 6CM, COM FCK DE 35MPA, INCLUSIVE COLCHÃO DE AREIA, ESP. 6CM, PARA ASSENTAMENTO,COMPACTAÇÃO MECANIZADA, CARGA E DESCARGA MECÂNICA EM CAMINHÃO, EXCLUSIVE TRANSPORTE DE PISO INTERTRAVADO | E27: M² | F27: 657 | G27: 89.88 | H27: =G27+G27*$H$11 -> 114.72283 | I27: 75371.04 | L27: =R27 -> 0 | M27: =K27+L27 -> 0 | O27: =L27*H27 -> 0 | P27: =N27+O27 -> 0 | Q27: 0 | R27: =ROUND(F27*Q27,2) -> 0 | T27: =L27 -> 0 | U27: =AA27 -> 0 | V27: =T27+U27 -> 0 | W27: =T27*H27 -> 0 | X27: =U27*H27 -> 0 | Y27: =W27+X27 -> 0 | Z27: 0 | AA27: =ROUND((F27-M27)*Z27,2) -> 0 | AC27: =V27 -> 0 | AD27: =AJ27 -> 657 | AE27: =AC27+AD27 -> 657 | AF27: =AC27*H27 -> 0 | AG27: =AD27*H27 -> 75372.901 | AH27: =AF27+AG27 -> 75372.901 | AI27: 1 | AJ27: =ROUND(F27*AI27,2) -> 657 | AL27: =AE27 -> 657 | AM27: =AS27 -> 0 | AN27: =AL27+AM27 -> 657 | AO27: =AL27*H27 -> 75372.901 | AP27: =AM27*H27 -> 0 | AQ27: =AO27+AP27 -> 75372.901 | AR27: 0 | AS27: =ROUND(F27*AR27,2) -> 0 | AT27: 1867
A28: 3.3 | B28: ED-48212 | C28: SETOP | D28: ALVENARIA DE BLOCO DE CONCRETO CHEIO COM ARMAÇÃO, EM CONCRETO COM FCK 15MPA , ESP. 9CM, PARA REVESTIMENTO,INCLUSIVE ARGAMASSA PARA ASSENTAMENTO (DETALHE D -CADERNO SEDS) | E28: M² | F28: 38.58 | G28: 178.99 | H28: =G28+G28*$H$11 -> 228.46284 | I28: 8813.99
A29: 3.4 | B29: ED-50729 | C29: SETOP | D29: CHAPISCO COM ARGAMASSA, TRAÇO 1:3 (CIMENTO E AREIA), ESP. 5MM, APLICADO EM ALVENARIA COM PENEIRA, INCLUSIVE ARGAMASSA COM PREPARO MECANIZADO | E29: M² | F29: 77.16 | G29: 13.7 | H29: =G29+G29*$H$11 -> 17.48668 | I29: 1349.53 | L29: =R29 -> 7.72 | M29: =K29+L29 -> 7.72 | O29: =L29*H29 -> 134.99717 | P29: =N29+O29 -> 134.99717 | Q29: 0.1 | R29: =ROUND(F29*Q29,2) -> 7.72 | T29: =L29 -> 7.72 | U29: =AA29 -> 55.55 | V29: =T29+U29 -> 63.27 | W29: =T29*H29 -> 134.99717 | X29: =U29*H29 -> 971.38507 | Y29: =W29+X29 -> 1106.3822 | Z29: 0.8 | AA29: =ROUND((F29-M29)*Z29,2) -> 55.55 | AC29: =V29 -> 63.27 | AD29: =AJ29 -> 13.89 | AE29: =AC29+AD29 -> 77.16 | AF29: =AC29*H29 -> 1106.3822 | AG29: =AD29*H29 -> 242.88999 | AH29: =AF29+AG29 -> 1349.2722 | AI29: 0.18 | AJ29: =ROUND(F29*AI29,2) -> 13.89 | AL29: =AE29 -> 77.16 | AM29: =AS29 -> 0 | AN29: =AL29+AM29 -> 77.16 | AO29: =AL29*H29 -> 1349.2722 | AP29: =AM29*H29 -> 0 | AQ29: =AO29+AP29 -> 1349.2722 | AR29: 0 | AS29: =ROUND(F29*AR29,2) -> 0 | AT29: 1863
A30: 3.5 | B30: ED-50761 | C30: SETOP | D30: REBOCO COM ARGAMASSA, TRAÇO 1:2:8 (CIMENTO, CAL E AREIA), ESP. 20MM, APLICAÇÃO MANUAL, INCLUSIVE ARGAMASSA COM PREPARO MECANIZADO, EXCLUSIVE CHAPISCO | E30: M² | F30: 77.16 | G30: 37.78 | H30: =G30+G30*$H$11 -> 48.222392 | I30: 3720.66 | L30: =R30 -> 7.72 | M30: =K30+L30 -> 7.72 | O30: =L30*H30 -> 372.27687 | P30: =N30+O30 -> 372.27687 | Q30: 0.1 | R30: =ROUND(F30*Q30,2) -> 7.72 | T30: =L30 -> 7.72 | U30: =AA30 -> 55.55 | V30: =T30+U30 -> 63.27 | W30: =T30*H30 -> 372.27687 | X30: =U30*H30 -> 2678.7539 | Y30: =W30+X30 -> 3051.0307 | Z30: 0.8 | AA30: =ROUND((F30-M30)*Z30,2) -> 55.55 | AC30: =V30 -> 63.27 | AD30: =AJ30 -> 13.89 | AE30: =AC30+AD30 -> 77.16 | AF30: =AC30*H30 -> 3051.0307 | AG30: =AD30*H30 -> 669.80902 | AH30: =AF30+AG30 -> 3720.8398 | AI30: 0.18 | AJ30: =ROUND(F30*AI30,2) -> 13.89 | AL30: =AE30 -> 77.16 | AM30: =AS30 -> 0 | AN30: =AL30+AM30 -> 77.16 | AO30: =AL30*H30 -> 3720.8398 | AP30: =AM30*H30 -> 0 | AQ30: =AO30+AP30 -> 3720.8398 | AR30: 0 | AS30: =ROUND(F30*AR30,2) -> 0 | AT30: 1863
A31: 3.6 | B31: ED-50459 | C31: SETOP | D31: PINTURA ACRÍLICA PARA PISO EM PASSEIO/SUPERFÍCIE CIMENTADA, DUAS (2) DEMÃOS, COM APLICAÇÃO MANUAL | E31: M² | F31: 833.62 | G31: 12.77 | H31: =G31+G31*$H$11 -> 16.299628 | I31: 13588.01
A32: 3.7 | B32: ED-50381 | C32: SETOP | D32: PEDREIRO COM ENCARGOS COMPLEMENTARES(MEIO FIO) | E32: hora | F32: 33 | G32: 28.61 | H32: =G32+G32*$H$11 -> 36.517804 | I32: 1205.16
A33: 3.8 | B33: ED-50367 | C33: SETOP | D33: SERVENTE COM ENCARGOS COMPLEMENTARES (MEIO FIO) | E33: hora | F33: 33 | G33: 20.94 | H33: =G33+G33*$H$11 -> 26.727816 | I33: 882.09
A34: 3.9 | B34: ED-48306 | C34: SETOP | D34: ARGAMASSA, TRAÇO 1:7 (CIMENTO E AREIA), COM PREPARO MECANIZADO | E34: M³ | F34: 0.5 | G34: 497.27 | H34: =G34+G34*$H$11 -> 634.71543 | I34: 317.36
A35: 4 | B35: INFRAESTRUTURA (PERGOLADO) | I35: =SUM(I36:I47) -> 56830.31 | O35: =SUM(O25:O26) -> 102.09975 | P35: =SUM(P25:P26) -> 102.09975 | W35: =SUM(W25:W26) -> 102.09975 | X35: =SUM(X25:X26) -> 3502.5294 | Y35: =W35+X35 -> 3604.6292 | AF35: =SUM(AF25:AF26) -> 3604.6292 | AG35: =SUM(AG25:AG26) -> 845.09831 | AH35: =AF35+AG35 -> 4449.7275 | AO35: =SUM(AO25:AO26) -> 4449.7275 | AP35: =SUM(AP25:AP26) -> 0 | AQ35: =AO35+AP35 -> 4449.7275
A36: 4.1 | B36: ED-49786 | C36: SETOP | D36: FORNECIMENTO DE CONCRETO ESTRUTURAL, PREPARADO EM OBRA COM BETONEIRA, COM FCK 20MPA, INCLUSIVE LANÇAMENTO, ADENSAMENTO E ACABAMENTO (FUNDAÇÃO) | E36: M³ | F36: 14.73 | G36: 773.51 | H36: =G36+G36*$H$11 -> 987.30816 | I36: 14543.08 | L36: =R36 -> 0.74 | M36: =K36+L36 -> 0.74 | O36: =L36*H36 -> 730.60804 | P36: =N36+O36 -> 730.60804 | Q36: 0.05 | R36: =ROUND(F36*Q36,2) -> 0.74 | T36: =L36 -> 0.74 | U36: =AA36 -> 11.19 | V36: =T36+U36 -> 11.93 | W36: =T36*H36 -> 730.60804 | X36: =U36*H36 -> 11047.978 | Y36: =W36+X36 -> 11778.586 | Z36: 0.8 | AA36: =ROUND((F36-M36)*Z36,2) -> 11.19 | AC36: =V36 -> 11.93 | AD36: =AJ36 -> 2.8 | AE36: =AC36+AD36 -> 14.73 | AF36: =AC36*H36 -> 11778.586 | AG36: =AD36*H36 -> 2764.4629 | AH36: =AF36+AG36 -> 14543.049 | AI36: 0.19 | AJ36: =ROUND(F36*AI36,2) -> 2.8 | AL36: =AE36 -> 14.73 | AM36: =AS36 -> 0 | AN36: =AL36+AM36 -> 14.73 | AO36: =AL36*H36 -> 14543.049 | AP36: =AM36*H36 -> 0 | AQ36: =AO36+AP36 -> 14543.049 | AR36: 0 | AS36: =ROUND(F36*AR36,2) -> 0 | AT36: 1867
A37: 4.2 | B37: ED-48295 | C37: SETOP | D37: CORTE, DOBRA E MONTAGEM DE AÇO CA-50, DIÂMETRO (6,3MM A 12,5MM), INCLUSIVE ESPAÇADOR | E37: KG | F37: 664.38 | G37: 13.2 | H37: =G37+G37*$H$11 -> 16.84848 | I37: 11194.8
A38: 4.3 | B38: ED-49643 | C38: SETOP | D38: FÔRMA E DESFORMA DE TÁBUA E SARRAFO,REAPROVEITAMENTO (3X), EXCLUSIVE ESCORAMENTO | E38: M² | F38: 52.91 | G38: 75.79 | H38: =G38+G38*$H$11 -> 96.738356 | I38: 5118.51
A39: 4.4 | B39: 10749 | C39: SINAPI | D39: LOCACAO DE ESCORA METALICA TELESCOPICA, COM ALTURA REGULAVEL DE*1,80* A *3,20* M, COM CAPACIDADE DE CARGA DE NO MINIMO 1000 KGF (10KN), INCLUSO TRIPE E FORCADO | E39: UNXMES | F39: 96 | G39: 19.52 | H39: =G39+G39*$H$11 -> 24.915328 | I39: 2392.32
A40: 4.5 | B40: ED-50730 | C40: SETOP | D40: CHAPISCO COM ARGAMASSA, TRAÇO 1:2:3 (CIMENTO, AREIA E PEDRISCO), APLICADO COM COLHER, ESP. 5MM, INCLUSIVE ARGAMASSA COM PREPARO MECANIZADO | E40: M² | F40: 128.6 | G40: 14.89 | H40: =G40+G40*$H$11 -> 19.005596 | I40: 2444.69
A41: 4.6 | B41: ED-50761 | C41: SETOP | D41: REBOCO COM ARGAMASSA, TRAÇO 1:2:8 (CIMENTO, CAL E AREIA), ESP. 20MM, APLICAÇÃO MANUAL, INCLUSIVE ARGAMASSA COM PREPARO MECANIZADO, EXCLUSIVE CHAPISCO | E41: M² | F41: 128.6 | G41: 37.78 | H41: =G41+G41*$H$11 -> 48.222392 | I41: 6201.09
A42: 4.7 | B42: ED-27079 | C42: SETOP | D42: LUMINÁRIA COMERCIAL COM ALETAS DE EMBUTIR, PARA DUAS (2) LÂMPADAS TUBULARES LED 2X9W-ØT8, FORNECIMENTO E INSTALAÇÃO, EXCLUSIVE BASE E LÂMPADA | E42: UNID | F42: 6 | G42: 154.3 | H42: =G42+G42*$H$11 -> 196.94852 | I42: 1181.7
A43: 4.8 | B43: ED-49523 | C43: SETOP | D43: RELÉ FOTOELÉTRICO, TENSÃO 120V COM CAPACIDADE DE CARGA 1200VA, INCLUSIVE BASE E INSTALAÇÃO | E43: UNID | F43: 1 | G43: 49.75 | H43: =G43+G43*$H$11 -> 63.5009 | I43: 63.5
A44: 4.9 | B44: ED-48951 | C44: SETOP | D44: CABO ISOLADO DE COBRE FLEXÍVEL, CLASSE 5, ISOLAMENTO TIPO LSHF/ATOX, NÃO HALOGENADO E ANTICHAMA, DIÂMETRO DA SEÇÃO DE 2,5MM2, TEMPERATURA DE TRABALHO 70°C, TENSÃO NOMINAL DE OPERAÇÃO 450/750V | E44: M | F44: 63 | G44: 4.26 | H44: =G44+G44*$H$11 -> 5.437464 | I44: 342.72
A45: 4.10 | B45: ED-17952 | C45: SETOP | D45: ELETRODUTO FLEXÍVEL CORRUGADO, PVC, ANTI-CHAMA, DN 25MM (3/4"), APLICADO EM ALVENARIA, EXCLUSIVE RASGO | E45: M | F45: 31.5 | G45: 5.2 | H45: =G45+G45*$H$11 -> 6.63728 | I45: 209.16
A46: 4.11 | B46: ED-49189 | C46: SETOP | D46: CAIXA DE LIGAÇÃO/PASSAGEM EM PVC RÍGIDO PARA ELETRODUTO, OCTOGONAL COM FUNDO MÓVEL, DIMENSÃO 4"X4 , EMBUTIDA EM LAJE, INCLUSIVE FIXAÇÃO | E46: UNID | F46: 12 | G46: 10.58 | H46: =G46+G46*$H$11 -> 13.504312 | I46: 162
...

Sheet CRONOGRAMA
A1: PREFEITURA MUNICIPAL DE JANUÁRIA- MG Avenida Aeroporto, 250. Bairro: Aeroporto - CEP 39480-000 - Januária/MG CNPJ 21.461.546/0001-10 Telefax: 0xx (38) 3621-2656 SECRETARIA MUNICIPAL DE OBRAS E SERVIÇOS URBANOS
A9: CRONOGRAMA FÍSICO FINANCEIRO
A10: PREFEITURA MUNICIPAL DE JANUÁRIA
A11: OBRA:CONSTRUÇÃO DA PRAÇA DA PREVIDÊNCIA | G11: DATA: 11/02/2026
A12: LOCAL: JANUÁRIA - MG | G12: BDI: | H12: 0.27643
A13: ='PANILHA '!A12:I12 -> REGIÃO/MÊS DE REFERÊNCIA: SETOP REGIÃO NORTE OUTUBRO/2025 - SINAPI DEZEMBRO/2025
A14: PRAZO DE EXECUÇÃO: 3 MESES
A15: ITEM | B15: ETAPA | C15: VALOR/ETAPA | D15: PESO(%) | E15: MÊS 1 | F15: MÊS 2 | G15: MÊS 3 | H15: TOTAL (R$)
A16: 1 | B16: ='PANILHA '!B15:H15 -> SERVIÇOS INICIAIS | C16: ='PANILHA '!I15 -> 56067.69 | D16: =C16/C35 -> 0.14896375 | E16: 1 | H16: =SUM(E16) -> 1
E17: =E16*$C$16 -> 56067.69 | H17: =SUM(E17) -> 56067.69
A18: 2 | B18: ='PANILHA '!B19:H19 -> MOVIMENTAÇÃO DE TERRA | C18: ='PANILHA '!I19 -> 8030.01 | D18: =C18/C35 -> 0.021334576 | E18: 1 | H18: =SUM(E18) -> 1
E19: =E18*$C$18 -> 8030.01 | H19: =SUM(E19) -> 8030.01
A20: 3 | B20: ='PANILHA '!B25:H25 -> PAVIMENTAÇÃO | C20: ='PANILHA '!I25 -> 107641.02 | D20: =C20/C35 -> 0.28598664 | E20: 0.5 | F20: 0.25 | G20: 0.25 | H20: =SUM(E20+F20+G20) -> 1
E21: =E20*C20 -> 53820.51 | F21: =F20*$C$20 -> 26910.255 | G21: =G20*$C$20 -> 26910.255 | H21: =SUM(E21:G21) -> 107641.02
A22: 4 | B22: ='PANILHA '!B35:H35 -> INFRAESTRUTURA (PERGOLADO) | C22: ='PANILHA '!I35 -> 56830.31 | D22: =C22/C35 -> 0.15098992 | E22: 0.2 | F22: 0.6 | G22: 0.2 | H22: =SUM(E22:G22) -> 1
E23: =E22*$C$22 -> 11366.062 | F23: =F22*$C$22 -> 34098.186 | G23: =G22*$C$22 -> 11366.062 | H23: =SUM(E23:G23) -> 56830.31
A24: 5 | B24: ='PANILHA '!B48:H48 -> INFRAESTRUTURA (PÓRTICO) | C24: ='PANILHA '!I48 -> 16442.15 | D24: =C24/C35 -> 0.043684417 | F24: 0.5 | G24: 0.5 | H24: =SUM(F24:G24) -> 1
F25: =F24*$C$24 -> 8221.075 | G25: =G24*$C$24 -> 8221.075 | H25: =SUM(F25:G25) -> 16442.15
A26: 6 | B26: ='PANILHA '!B57:H57 -> ILUMINAÇÃO DA PRAÇA | C26: ='PANILHA '!I57 -> 49593.35 | D26: =C26/C35 -> 0.13176236 | F26: 0.5 | G26: 0.5 | H26: =SUM(F26:G26) -> 1
F27: =F26*$C$26 -> 24796.675 | G27: =G26*$C$26 -> 24796.675 | H27: =SUM(F27:G27) -> 49593.35
A28: 7 | B28: ='PANILHA '!B75:H75 -> PAISAGISMO | C28: ='PANILHA '!I75 -> 39327.43 | D28: =C28/C35 -> 0.1044873 | F28: 0.5 | G28: 0.5 | H28: =SUM(F28:G28) -> 1
F29: =F28*C28 -> 19663.715 | G29: =G28*C28 -> 19663.715 | H29: =SUM(F29:G29) -> 39327.43
A30: 8 | B30: ='PANILHA '!B89:H89 -> PLAYGROUND | C30: ='PANILHA '!I89 -> 38398.37 | D30: =C30/C35 -> 0.10201892 | F30: 0.5 | G30: 0.5 | H30: =SUM(F30:G30) -> 1
F31: =F30*C30 -> 19199.185 | G31: =G30*C30 -> 19199.185 | H31: =SUM(F31:G31) -> 38398.37
A32: 9 | B32: ='PANILHA '!B94:H94 -> SERVIÇOS FINAIS | C32: ='PANILHA '!I94 -> 4054.46 | D32: =C32/C35 -> 0.010772114 | G32: 1 | H32: =SUM(G32:G32) -> 1
G33: =C32*G32 -> 4054.46 | H33: =SUM(E33:G33) -> 4054.46
A34: SOMA | C34: =SUM(C16:C33) -> 376384.79 | D34: =SUM(D16:D33) -> 1 | E34: =SUM(E17+E19+E21+E23) -> 129284.27 | F34: =SUM(F21+F23+F25+F27+F29+F31) -> 132889.09 | G34: =SUM(G21+G23+G25+G27+G29+G31+G33) -> 114211.43 | H34: =SUM(H17+H19+H21+H23+H25+H27+H29+H31+H33) -> 376384.79
A35: TOTAL ACUMULADO (R$) | C35: =SUM(C16:C33) -> 376384.79 | E35: =E34 -> 129284.27 | F35: =E35+F34 -> 262173.36 | G35: =F35+G34 -> 376384.79 | H35: 01/01
B40: FERNANDA GONÇALVE COSTA- ENGENHEIRA CIVIL CREA-MG 247.206/D | E40: FRANCIELLE A. LOPES PIMENTA - ARQUITETA E URBANISTA-CAU-MG A144799-8
B42: ANTÔNIO HENRIQUE DE SOUZA SANTANA - SECRETÁRIO MUNICIPAL DE OBRAS E SERVIÇOS URBANOS

Sheet BDI
A1: PREFEITURA MUNICIPAL DE JANUÁRIA- MG Avenida Aeroporto, 250- CEP 39480-000 - Januária/MG CNPJ 21.461.546/0001-10 (38) 3621-2656 QUADRO DE COMPOSIÇÃO DO BDI OBRA: CONSTRUÇÃO DA PRAÇA DA PREVIDÊNCIA ISS: 3% MUNICIPIO: JANUÁRIA / MG
A2: ITENS | B2: SIGLAS | C2: % ADOTADO
A3: Administração Central | B3: AC | C3: 0.04
A4: Seguro e Garantia | B4: SG | C4: 0.008
A5: Risco | B5: R | C5: 0.0127
A6: Despesas Financeiras | B6: DF | C6: 0.0123
A7: Lucro | B7: L | C7: 0.074
A8: Tributos (impostos COFINS 3% e PIS 0,65%) | B8: CP | C8: 0.0365
A9: Tributos (ISS, variável de acordo com o município) | B9: ISS | C9: =B12*B13 -> 0.015
A10: Tributos (Contribuição Previdenciária sobre a Receita Bruta - 0% (sem desoneração) ou 4,5% (com desoneração) | B10: CPRB | C10: 0.045
A11: BDI COM DESONERAÇÃO | B11: BDI DES | C11: =(((1+C3+C4+C5)*(1+C6)*(1+C7))/(1-C8-C9-C10))-1 -> 0.27637394
A12: Conforme legislação tributária municipal, definir estimativa de percentual da base de cálculo para o ISS | B12: 0.5
A13: Sobre a base de cálculo, definir a respectiva alíquota do ISS (entre 2% e 5%) | B13: 0.03
A14: Os valores de BDI foram calculados com o emprego da fórmula:
A15: BDI = ( ( ( 1 +AC + S + R + G ) * ( 1 + DF ) * ( 1 + L ) ) / ( 1 - CP - ISS - CPRB ) ) - 1
A17: Januária - MG, 27 de Novembro de 2025
A21: ____________________________________________
A22: Responsável Técnico
A26: ____________________________________________
A27: Responsável Setor de Tributos - Prefeitura Municipal de Januária - MG

Sheet COTAÇÕES
A2: PLAYGROUND | D2: BICICLETÁRIO
A3: CASINHA TARZAN | D3: MERCADO LIVRE | E3: 382 | F3: https://www.mercadolivre.com.br/bicicletario-paraciclo-u-invertido-para-chumbar-altmayer/up/MLBU1739110580#polycard_client=recommendations_vpp-pdp-v2p-pom&reco_backend=ranker_retrieval_system_vpp_v2p&reco_model=coldstart_high_exposition&reco_client=vpp-pdp-v2p-pom&reco_item_pos=0&reco_backend_type=low_level&reco_id=031d4a48-2d1b-451f-9942-9c3b23c348c3&wid=MLB3658879267&sid=recos
A4: SANTOS E SÁ | B4: 21350 | D4: MERCADO LIVRE | E4: 280 | F4: https://www.mercadolivre.com.br/bicicletario-paraciclo-u-invertido-para-chumbar/up/MLBU3433985656#polycard_client=recommendations_vpp-v2p-pom&reco_backend=ranker_retrieval_system_vpp_v2p&reco_model=ranker_entity_v2_retrieval_system_vpp_v2p&reco_client=vpp-v2p-pom&reco_item_pos=1&reco_backend_type=low_level&reco_id=0eb295d1-f48d-4185-b581-fa29bbf18b2e&wid=MLB4211666701&sid=recos
A5: RECANTO EUCALIPTOS | B5: 18200 | D5: altmayer sport | E5: 459.75 | F5: https://www.altmayer.com.br/produtos/ver/385/bicicletario-u-invertido-p-chumbar-galvanizado-tracking-google-shopping?gad_source=4&gad_campaignid=19279963601&gbraid=0AAAAAoLul3weeheiBZ_kxxyMZ0L6Jw0AV&gclid=EAIaIQobChMIqbKQqYDNkgMVX2pIAB2wwxnzEAQYCiABEgKrefD_BwE
A6: MARCENARIA TELES | B6: 20850 | E6: =AVERAGE(E3:E5) -> 373.91667
B7: =AVERAGE(B4:B6) -> 20133.333
A9: GANGORRA DUPLA | D9: PINTURA TEXTURIZADA
A10: SANTOS E SÁ LDTA | B10: 3150 | D10: PLINIO PINTOR | E10: 9800
A11: RECANTO EUCALIPTOS | B11: 2300 | D11: MATHEUS PINTOR | E11: 10200
A12: MARCENARIA TELES | B12: 2910 | D12: HENRIQUE PINTURAS | E12: 10500
B13: =AVERAGE(B10:B12) -> 2786.6667 | E13: =AVERAGE(E10:E12) -> 10166.667
A15: ESCADA HORIZONTAL
A16: SANTOS E SÁ LDTA | B16: 4250
A17: RECANTO EUCALITOS | B17: 2700
A18: MARCENARIA TELES | B18: 3940
B19: =AVERAGE(B16:B18) -> 3630
A22: BALANÇO DUPLO
A23: RECANTO EUCALIPTOS | B23: 2650
A24: SANTOS E SÁ | B24: 4100
A25: MARCENARIA TELES | B25: 3850
B26: =AVERAGE(B23:B25) -> 3533.3333
