Workbook

Sheet Planilha Orçamentária
A1: PLANILHA ORÇAMENTÁRIA | J1: 50
A2: Prefeitura Municipal de Januária | G2: Data: 14/11/2025 | J2: 145
E3: BDI= | F3: 0.2764 | J3: 129.3
A4: Obra: Construção de 01 campos em grama sintética - Society 30X50 mt - | J4: 2.64
A5: CONSTRUÇÃO CAMPO SINTETICO NO RIACHINHO
A6: Preço base: Setop 07-2025,SINAP 07-2025 - orse Setembro 2025
A7: Local : Januária- MG | J7: 11.12
A8: Item | B8: Fonte / Código | C8: Descriçao do item | D8: Valor Unitário sem BDI | E8: Valor unitário com BDI | F8: Unidade | G8: Quantidade | H8: Valor Total | I8: Valor Unitário
A9: 1 | C9: SERVIÇOS PRELIMINARES | H9: =SUM(H11+H10) -> 7974.8834 | J9: 29.22
A10: 1.1 | B10: ED-28427 | C10: FORNECIMENTO E COLOCAÇÃO DE PLACA DE OBRA EM CHAPA GALVANIZADA #26, ESP. 0,45MM, DIMENSÃO (3X1,5)M, PLOTADA COM ADESIVO VINÍLICO, AFIXADA COM REBITES 4,8X40MM, EM ESTRUTURA METÁLICA DE METALON 20X20MM, ESP. 1,25MM, INCLUSIVE SUPORTE EM EUCALIPTO AUTOCLAVADO PINTADO COM TINTA PVA DUAS (2) DEMÃOS | D10: 1130.67 | E10: =(D10*$F$3)+ D10 -> 1443.1872 | F10: UNID. | G10: 1 | H10: =G10*E10 -> 1443.1872
A11: 1.2 | B11: ED-50135 | C11: BARRACÃO DE OBRA, EM CHAPA DE COMPENSADO RESINADO, INCLUSIVE INSTALAÇÕES SANITÁRIAS E MOBILIÁRIO - PADRÃO DER-MG | D11: 639.66 | E11: =(D11*$F$3)+ D11 -> 816.46202 | F11: M2 | G11: 8 | H11: =G11*E11 -> 6531.6962
A12: 2 | C12: ALAMBRADO | H12: =SUM(H13:H19) -> 165597.72 | L12: ;
A13: 2.1 | B13: ED-9100 | C13: ALAMBRADO PARA QUADRA ESPORTIVA, EM TELA DE ARAME GALVANIZADO COM TRAMA LOSANGULAR DE 2" (50,8MM) E FIO BWG12 (2,77MM), EXCLUSIVE PINTURA, INCLUSIVE FIXAÇÃO E FORNECIMENTO EM QUADROS DE TUBOS DE AÇO CARBONO GALVANIZADO DIÂMETRO DE 50MM (2") | D13: 149.16 | E13: =(D13*$F$3)+ D13 -> 190.38782 | F13: M2 | G13: 215.2 | H13: =G13*E13 -> 40971.46
A14: 2.2 | B14: ED-50922 | C14: ALAMBRADO PARA QUADRA ESPORTIVA, EM TELA DE ARAME GALVANIZADO COM TRAMA LOSANGULAR DE 2" (50,8MM) E FIO BWG12 (2,77MM), ALTURA 6M, EXCLUSIVE PINTURA, INCLUSIVE FIXAÇÃO E FORNECIMENTO EM QUADROS DE TUBOS DE AÇO CARBONO GALVANIZADO DIÂMETRO DE 50MM (2") | D14: 857.85 | E14: =(D14*$F$3)+ D14 -> 1094.9597 | F14: M | G14: 65.2 | H14: =G14*E14 -> 71391.375
A15: 2.3 | B15: INSUMO SINAP 007694 | C15: TUBO ACO GALVANIZADO COM COSTURA, CLASSE MEDIA, DN 3", E = *4,05* MM,PESO *8,47* KG/M (NBR 5580) | D15: 176.46 | E15: =(D15*$F$3)+ D15 -> 225.23354 | F15: M | G15: 144 | H15: =G15*E15 -> 32433.63
A16: 2.4 | B16: ED-7830 | C16: SERRALHEIRO COM ENCARGOS COMPLEMENTARES | D16: 28.4 | E16: =(D16*$F$3)+ D16 -> 36.24976 | F16: HORA | G16: 25 | H16: =G16*E16 -> 906.244
A17: 2.5 | B17: RO-17519 | C17: Solda tipo MIG/MAG semiautomática | D17: 74.29 | E17: =(D17*$F$3)+ D17 -> 94.823756 | F17: KG | G17: 10 | H17: =G17*E17 -> 948.23756
A18: 2.6 | B18: ED-50492 | C18: PINTURA ESMALTE EM ESTRUTURA DE AÇO CARBONO, DUAS (2) DEMÃOS, EXCLUSIVE FUNDO ANTICORROSIVO. | D18: 21.13 | E18: =(D18*$F$3)+ D18 -> 26.970332 | F18: M2 | G18: 109 | H18: =G18*E18 -> 2939.7662
A19: 2.7 | B19: ED-50986 | C19: PORTÃO EM TUBO GALVANIZADO 1 1/2" COM TELA FIO 12 # 1/2" E CADEADO | D19: 580.59 | E19: =(D19*$F$3)+ D19 -> 741.06508 | F19: M2 | G19: 21.6 | H19: =G19*E19 -> 16007.006 | J19: 29.22
A20: 3 | C20: ILUMINAÇÃO | H20: =SUM(H21:H29) -> 33309.062
A21: 3.1 | B21: 13895/ORSE | C21: Poste de concreto duplo T (DT) 12/600 - fornecimento e assentamento | D21: 2099.13 | E21: =(D21*$F$3)+ D21 -> 2679.3295 | F21: UND | G21: 4 | H21: =G21*E21 -> 10717.318
A22: 3.2 | B22: ED-20580 | C22: ENTRADA DE ENERGIA AÉREA, TIPO B2, PADRÃO CEMIG, CARGA INSTALADA DE 10,1KW ATÉ 15KW, BIFÁSICO, COM SAÍDA SUBTERRÂNEA, INCLUSIVE POSTE, CAIXA PARA MEDIDOR, DISJUNTOR, BARRAMENTO, ATERRAMENTO E ACESSÓRIOS | D22: 2641.16 | E22: =(D22*$F$3)+ D22 -> 3371.1766 | F22: um | G22: 1 | H22: =G22*E22 -> 3371.1766
A23: 3.3 | B23: ED-48966 | C23: CABO ISOLADO DE COBRE FLEXÍVEL, CLASSE 5, ISOLAMENTO TIPO LSHF/ATOX, NÃO HALOGENADO E ANTICHAMA, DIÂMETRO DA SEÇÃO DE 10MM2, TEMPERATURA DE TRABALHO 70°C, TENSÃO NOMINAL DE OPERAÇÃO 450/750V | D23: 14.95 | E23: =(D23*$F$3)+ D23 -> 19.08218 | F23: M | G23: 320 | H23: =G23*E23 -> 6106.2976
A24: 3.4 | B24: ED-7252 | C24: ELETRODUTO FLEXÍVEL, EM AÇO GALVANIZADO, DIÂMETRO DE 50MM (2"), REVESTIDO EXTERNAMENTE COM PVC, NA COR PRETA, INCLUSIVE ACESSÓRIOS PARA FIXAÇÃO E CONEXÕES | D24: 42.62 | E24: =(D24*$F$3)+ D24 -> 54.400168 | F24: M | G24: 180 | H24: =G24*E24 -> 9792.0302
A25: 3.5 | B25: ORSE - 13524 | C25: REFLETOR SLIM LED 200W DE POTÊNCIA, BRANCO FRIO, 6500K, AUTOVOLT, MARCA G-LIGHT OU SIMILAR - INCLUSO FIAÇÃO (SUBTERRANEA) E INSTALAÇÃO. Sendo 04 (QUATRO) Refletores por poste. | D25: 125.99 | E25: =(D25*$F$3)+ D25 -> 160.81364 | F25: UND | G25: 16 | H25: =G25*E25 -> 2573.0182
A26: 3.6 | B26: SINAPI - 101876 | C26: QUADRO DE DISTRIBUIÇÃO DE ENERGIA EM PVC, DE EMBUTIR, SEM BARRAMENTO, PARA 6 DISJUNTORES - FORNECIMENTO E INSTALAÇÃO. AF_10/2020 | D26: 119.06 | E26: =(D26*$F$3)+ D26 -> 151.96818 | F26: UND | G26: 1 | H26: =G26*E26 -> 151.96818
A27: 3.7 | B27: ED-5443 | C27: DISJUNTOR DE PROTEÇÃO DIFERENCIAL RESIDUAL (DR), TETRAPOLAR TIPO DIN, CORRENTE NOMINAL DE 100A, SENSIBILIDADE DE 30MA, FORNECIMENTO E INSTALAÇÃO, INCLUSIVE TERMINAL ILHÓS | D27: 278.57 | E27: =(D27*$F$3)+ D27 -> 355.56675 | F27: UND | G27: 1 | H27: =G27*E27 -> 355.56675
A28: 3.8 | B28: ED-34480 | C28: DISJUNTOR BIPOLAR TIPO DIN, CORRENTE NOMINAL DE 63A, FORNECIMENTO E INSTALAÇÃO, INCLUSIVE TERMINAL ILHÓS | D28: 50.2 | E28: =(D28*$F$3)+ D28 -> 64.07528 | F28: UND | G28: 2 | H28: =G28*E28 -> 128.15056
A29: 3.9 | B29: SINAPI - 93666 | C29: DISJUNTOR BIPOLAR TIPO DIN, CORRENTE NOMINAL DE 50A - FORNECIMENTO E INSTALAÇÃO. AF_04/2016 | D29: 88.95 | E29: =(D29*$F$3)+ D29 -> 113.53578 | F29: UND | G29: 1 | H29: =G29*E29 -> 113.53578 | J29: 29.22
A30: 4 | C30: CAMPO DE JOGO | H30: =SUM(+H31+H32+H33+H34+H35+H36+H37+H38+H39+H40+H41) -> 283413.43
A31: 4.1 | B31: ORSE - 10505 | C31: FORNECIMENTO E INSTALAÇÃO DE GRAMA SINTÉTICA 42MM, ALTA DURABILIDADE, COR VERDE, PROTEÇÃO RAIOS UV E LUZ SOLAR, INCLUSO COLA, TYPE, AREIA TRATADA, BORRACHA E MÃO DE OBRA ESPECIALIZADA | D31: 61.9 | E31: =(D31*$F$3)+ D31 -> 79.00916 | F31: M2 | G31: 1750 | H31: =G31*E31 -> 138266.03
A32: 4.2 | B32: ED-50842 | C32: PILAR EM CONCRETO APARENTE 20 MPa, INCLUSIVE ARMAÇÃO, FÔRMA PLASTIFICADA E DESFORMA | D32: 3197.22 | E32: =(D32*$F$3)+ D32 -> 4080.9316 | F32: M3 | G32: 1.95 | H32: =G32*E32 -> 7957.8166
A33: 4.3 | B33: ED-48336 | C33: VIGA 0,10 A 0,20 M DE LARGURA, CONCRETO 1:2:4 COM ARMAÇÃOE FORMA RESINADA | D33: 2483.28 | E33: =(D33*$F$3)+ D33 -> 3169.6586 | F33: M3 | G33: 7.2 | H33: =G33*E33 -> 22821.542
A34: 4.4 | B34: ED-48195 | C34: ALVENARIA DE VEDAÇÃO COM BLOCO DE CONCRETO, ESP. 14CM, INCLUSIVE ARGAMASSA PARA ASSENTAMENTO | D34: 74.86 | E34: =(D34*$F$3)+ D34 -> 95.551304 | F34: M2 | G34: 220 | H34: =G34*E34 -> 21021.287
A35: 4.5 | B35: ED-50451 | C35: PINTURA ACRÍLICA EM PAREDE, DUAS (2) DEMÃOS, COM APLICAÇÃO MANUAL, EXCLUSIVE SELADOR ACRÍLICO E MASSA ACRÍLICA/CORRIDA (PVA) | D35: 15.43 | E35: =(D35*$F$3)+ D35 -> 19.694852 | F35: M3 | G35: 440 | H35: =G35*E35 -> 8665.7349
A36: 4.6 | B36: ED-50761 | C36: REBOCO COM ARGAMASSA, TRAÇO 1:2:8 (CIMENTO, CAL E AREIA), ESP. 20MM, APLICAÇÃO MANUAL, INCLUSIVE ARGAMASSA COM PREPARO MECANIZADO, EXCLUSIVE CHAPISCO | D36: 36.59 | E36: =(D36*$F$3)+ D36 -> 46.703476 | F36: m2 | G36: 440 | H36: =G36*E36 -> 20549.529
A37: 4.7 | B37: 102693 | C37: DRENO ESPINHA DE PEIXE (SEÇÃO 0,40 X 0,40 M), COM TUBO DE PVC CORRUGADO RÍGIDO PERFURADO, DN 100 MM, ENCHIMENTO COM BRITA, ENVOLVIDO COM MANTA GEOTÊXTIL, INCLUSIVE CONEXÕES. AF_07/2021 | D37: 126.98 | E37: =(D37*$F$3)+ D37 -> 162.07727 | F37: M | G37: 120 | H37: =G37*E37 -> 19449.273
A38: 4.8 | B38: SINAPI - 96622 | C38: LASTRO COM MATERIAL GRANULAR, APLICADO EM PISOS OU LAJES SOBRE SOLO, ESPESSURA DE *5 CM*. AF_08/2017 | D38: 254.3 | E38: =(D38*$F$3)+ D38 -> 324.58852 | F38: M3 | G38: 87 | H38: =G38*E38 -> 28239.201
A39: 4.9 | B39: ED-49570 | C39: TRAVE DE FUTEBOL DE CAMPO OFICIAL COM REDE, EM TUBO DE AÇO, DIÂMETRO DE 3", COMPRIMENTO 732CM, ALTURA 244CM, INCLUSIVE TRATAMENTO ANTICORROSIVO E PINTURA | D39: 3689.17 | E39: =(D39*$F$3)+ D39 -> 4708.8566 | F39: UND | G39: 2 | H39: =G39*E39 -> 9417.7132 | J39: 29.22
A40: 4.10 | B40: ED-51124 | C40: REGULARIZAÇÃO E COMPACTAÇÃO MECÂNICA DE TERRENO COM ROLO VIBRATÓRIO, EXCLUSIVE DESMATAMENTO, DESTOCAMENTO, LIMPEZA/ROÇADA DO TERRENO | D40: 2.74 | E40: =(D40*$F$3)+ D40 -> 3.497336 | F40: M2 | G40: 1750 | H40: =G40*E40 -> 6120.338
A41: 4.11 | B41: ED-50266 | C41: LIMPEZA FINAL PARA ENTREGA DA OBRA | D41: 7.09 | E41: =(D41*$F$3)+ D41 -> 9.049676 | F41: M2 | G41: 100 | H41: =G41*E41 -> 904.9676
C42: TOTAL | H42: =H30+H20+H12+H9 -> 490295.1
C43: ____________________________________ | D43: ____________________________________________
C45: Vladimir Caldeira de Souza | D45: Engenheiro Civil
C46: Secretário Municipal DE ESPORTE | D46: Breno rodrigues de matos CREA: 330.781/D

Sheet Cronograma Fisico Financeiro
A1: CRONOGRAMA FÍSICO FINANCEIRO - CAMPO DE GRAMA SINTÉTICA - 30X50 MT
A2: DESCRIÇÃO | B2: FÍSICO | C2: FINANCEIRO | D2: 1º Mês | E2: 2º Mês | F2: 3º Mês | G2: 4º Mês | H2: Total
A3: ='Planilha Orçamentária'!C9 -> SERVIÇOS PRELIMINARES | B3: 0.0041 | C3: ='Planilha Orçamentária'!H9 -> 7974.8834 | D3: =C3 -> 7974.8834 | H3: =SUM(D3:G3) -> 7974.8834
A4: ='Planilha Orçamentária'!C12 -> ALAMBRADO | B4: 0.4292 | C4: ='Planilha Orçamentária'!H12 -> 165597.72 | F4: ='Planilha Orçamentária'!$H$12/2 -> 82798.859 | G4: ='Planilha Orçamentária'!$H$12/2 -> 82798.859 | H4: =SUM(D4:G4) -> 165597.72
A5: ='Planilha Orçamentária'!C20 -> ILUMINAÇÃO | B5: 0.0719 | C5: ='Planilha Orçamentária'!H20 -> 33309.062 | F5: ='Planilha Orçamentária'!$H$20/2 -> 16654.531 | G5: ='Planilha Orçamentária'!$H$20/2 -> 16654.531 | H5: =SUM(D5:G5) -> 33309.062
A6: ='Planilha Orçamentária'!C30 -> CAMPO DE JOGO | B6: 0.4948 | C6: ='Planilha Orçamentária'!H30 -> 283413.43 | D6: ='Planilha Orçamentária'!$H$30*0.1 -> 28341.343 | E6: =('Planilha Orçamentária'!$H$30-$D$6)/3 -> 85024.03 | F6: =('Planilha Orçamentária'!$H$30-$D$6)/3 -> 85024.03 | G6: =('Planilha Orçamentária'!$H$30-$D$6)/3 -> 85024.03 | H6: =SUM(D6:G6) -> 283413.43
A7: SOMA | B7: =SUM(B3:B6) -> 1 | C7: =C3+C4+C5+C6 -> 490295.1 | D7: =SUM(D3:D6) -> 36316.227 | E7: =SUM(E3:E6) -> 85024.03 | F7: =SUM(F3:F6) -> 184477.42 | G7: =SUM(G3:G6) -> 184477.42 | H7: =SUM(H3:H6) -> 490295.1
A8: PORCENTAGEM | D8: =D7/$H$7 -> 0.07407014 | E8: =E7/$H$7 -> 0.17341399 | F8: =F7/$H$7 -> 0.37625793 | G8: =G7/$H$7 -> 0.37625793 | H8: =H7/$H$7 -> 1
A9: PORCENTAGEM ACUMULADA | D9: =D8 -> 0.07407014 | E9: =D9+E8 -> 0.24748413 | F9: =E9+F8 -> 0.62374207 | G9: =F9+G8 -> 1 | H9: =G9 -> 1
A10: FINANCEIRO ACUMULADO | D10: =D7 -> 36316.227 | E10: =D10+E7 -> 121340.26 | F10: =E10+F7 -> 305817.68 | G10: =F10+G7 -> 490295.1 | H10: =G10 -> 490295.1
A11: ____________________________________
D12: ____________________________________________
A13: Vladimir Caldeira de Souza | D13: Engenheiro Civil
A14: Secretária Municipal DE ESPORTE | D14: Breno Rodrigues de matos Crea 330.781/D MG
C16: =C3+C4+C5+C6 -> 490295.1
