Workbook
Name Fonte: 'MM CALC'!#REF!
Name Fonte: 'PLAN ORÇ'!$I1
Name nao: #REF!
Name nao: #REF!

Sheet PLAN ORÇ
A1: PREFEITURA MUNICIPAL DE MINAS NOVAS Praça Sebastião Leme do Prado, 15 - Centro CEP: 39.650-000 – Minas Novas (MG) Fone: (33) 3764-1147 – (33) 3764-2641 E-mail: pmmn@uai.com.br / conveniosminasnovas@yahoo.com.br
A3: PLANILHA ORÇAMENTÁRIA DE CUSTOS - MÃO DE OBRA
A5: ='MM CALC'!A4 -> PREFEITURA MUNICIPAL DE MINAS NOVAS | E5: ='MM CALC'!E4 -> DATA:28/07/2025
A6: ='MM CALC'!A5 -> OBRA: CONSTRUÇÃO DE ESCOLA MUNICIPAL DE PALMITAL
A7: ='MM CALC'!A6 -> LOCAL: POVOADO DE PALMITAL - DIST. BAIXA QUENTE - MINAS NOVAS/MG | E7: FORMA DE EXECUÇÃO: | I7: ISS 3,00%
A8: REGIÃO/MÊS DE REFERÊNCIA: SICOR ABRIL/2025, NÃO DESONERADO | E8: ( ) | F8: DIRETA
E9: ( X ) | F9: INDIRETA | G9: BDI = | H9: 0.2823
A10: -
A11: ITEM | B11: FONTE | C11: CÓDIGO | D11: DESCRIÇÃO | E11: UND. | F11: QUANT. | G11: UNITÁRIO S/ BDI | H11: UNITÁRIO C/ BDI | I11: TOTAL
A12: ='MM CALC'!A10 -> 1 | D12: ='MM CALC'!D10 -> SERVIÇOS PRELIMINARES | I12: =SUM(I15:I19) -> 59203.03
A13: ='MM CALC'!A11 -> 1.1 | B13: ='MM CALC'!B11 -> SICOR-MG | C13: ='MM CALC'!C11 -> RO-01091 | D13: ='MM CALC'!D11 -> Limpeza mecanizada da camada vegetal | E13: ='MM CALC'!E11 -> m² | F13: ='MM CALC'!F11 -> a cargo do municipio
A14: ='MM CALC'!A12 -> 1.2 | B14: ='MM CALC'!B12 -> SICOR-MG | C14: ='MM CALC'!C12 -> RO-00232 | D14: ='MM CALC'!D12 -> Regularização de superfície com motoniveladora | E14: ='MM CALC'!E12 -> m² | F14: ='MM CALC'!F12 -> a cargo do municipio
A15: ='MM CALC'!A13 -> 1.3 | B15: ='MM CALC'!B13 -> SICOR-MG | C15: ='MM CALC'!C13 -> ED-28427 | D15: ='MM CALC'!D13 -> FORNECIMENTO E COLOCAÇÃO DE PLACA DE OBRA EM CHAPA GALVANIZADA #26, ESP. 0,45MM, DIMENSÃO (3X1,5)M, PLOTADA COM ADESIVO VINÍLICO, AFIXADA COM REBITES 4,8X40MM, EM ESTRUTURA METÁLICA DE METALON 20X20MM, ESP. 1,25MM, INCLUSIVE SUPORTE EM EUCALIPTO AUTOCLAVADO PINTADO COM TINTA PVA DUAS (2) DEMÃOS | E15: ='MM CALC'!E13 -> und | F15: ='MM CALC'!F13 -> 1 | G15: 1130.27 | H15: =ROUND((1+$H$9)*G15,2) -> 1449.35 | I15: =+ROUND((H15*F15),2) -> 1449.35
A16: ='MM CALC'!A14 -> 1.4 | B16: ='MM CALC'!B14 -> SICOR-MG | C16: ='MM CALC'!C14 -> ED-50135 | D16: ='MM CALC'!D14 -> BARRACÃO DE OBRA, EM CHAPA DE COMPENSADO RESINADO, INCLUSIVE INSTALAÇÕES SANITÁRIAS E MOBILIÁRIO - PADRÃO DER-MG | E16: ='MM CALC'!E14 -> m² | F16: ='MM CALC'!F14 -> 32 | G16: 641.74 | H16: =ROUND((1+$H$9)*G16,2) -> 822.9 | I16: =+ROUND((H16*F16),2) -> 26332.8
A17: ='MM CALC'!A15 -> 1.5 | B17: ='MM CALC'!B15 -> SICOR-MG | C17: ='MM CALC'!C15 -> ED-17989 | D17: ='MM CALC'!D15 -> LOCAÇÃO DE OBRA COM GABARITO DE TÁBUAS CORRIDAS PONTALETADAS A CADA 2,00M, REAPROVEITAMENTO (2X), INCLUSIVE ACOMPANHAMENTO DE EQUIPE TOPOGRÁFICA PARA MARCAÇÃO DE PONTO TOPOGRÁFICO | E17: ='MM CALC'!E15 -> m | F17: ='MM CALC'!F15 -> 328.27 | G17: 60.94 | H17: =ROUND((1+$H$9)*G17,2) -> 78.14 | I17: =+ROUND((H17*F17),2) -> 25651.02
A18: ='MM CALC'!A16 -> 1.6 | B18: ='MM CALC'!B16 -> SICOR-MG | C18: ='MM CALC'!C16 -> ED-29823 | D18: ='MM CALC'!D16 -> TAPUME FIXO DE PROTEÇÃO PARA FECHAMENTO DE OBRA EM TELHA METÁLICA GALVANIZADA, TIPO TRAPEZOIDAL, ESP. 0,5MM, COM MÓDULO NA DIMENSÃO DE (300X220)CM, COM REAPROVEITAMENTO, EXCLUSIVE PINTURA ESMALTE, INCLUSIVE PONTALETE E FIXAÇÃO | E18: ='MM CALC'!E16 -> m² | F18: ='MM CALC'!F16 -> 28.4 | G18: 68.74 | H18: =ROUND((1+$H$9)*G18,2) -> 88.15 | I18: =+ROUND((H18*F18),2) -> 2503.46
A19: ='MM CALC'!A17 -> 1.7 | B19: ='MM CALC'!B17 -> SICOR-MG | C19: ='MM CALC'!C17 -> ED-20579 | D19: ='MM CALC'!D17 -> ENTRADA DE ENERGIA AÉREA, TIPO B1, PADRÃO CEMIG, CARGA INSTALADA DE ATÉ 10KW, BIFÁSICO, COM SAÍDA SUBTERRÂNEA, INCLUSIVE POSTE, CAIXA PARA MEDIDOR, DISJUNTOR, BARRAMENTO, ATERRAMENTO E ACESSÓRIOS | E19: ='MM CALC'!E17 -> und | F19: ='MM CALC'!F17 -> 1 | G19: 2547.3 | H19: =ROUND((1+$H$9)*G19,2) -> 3266.4 | I19: =+ROUND((H19*F19),2) -> 3266.4
A20: ='MM CALC'!A18 -> 2 | D20: ='MM CALC'!D18 -> TRABALHOS EM TERRA | I20: =SUM(I21:I23) -> 13739.1
A21: ='MM CALC'!A19 -> 2.1 | B21: ='MM CALC'!B19 -> SICOR-MG | C21: ='MM CALC'!C19 -> ED-51107 | D21: ='MM CALC'!D19 -> ESCAVAÇÃO MANUAL DE VALA COM PROFUNDIDADE MENOR OU IGUAL A 1,5M, INCLUSIVE DESCARGA LATERAL | E21: ='MM CALC'!E19 -> m³ | F21: ='MM CALC'!F19 -> 45.98 | G21: 71.42 | H21: =ROUND((1+$H$9)*G21,2) -> 91.58 | I21: =+ROUND((H21*F21),2) -> 4210.85
A22: ='MM CALC'!A20 -> 2.2 | B22: ='MM CALC'!B20 -> SICOR-MG | C22: ='MM CALC'!C20 -> ED-51093 | D22: ='MM CALC'!D20 -> APILOAMENTO MANUAL EM FUNDO DE VALA COM SOQUETE, EXCLUSIVE ESCAVAÇÃO | E22: ='MM CALC'!E20 -> m² | F22: ='MM CALC'!F20 -> 135.05 | G22: 24.08 | H22: =ROUND((1+$H$9)*G22,2) -> 30.88 | I22: =+ROUND((H22*F22),2) -> 4170.34
A23: ='MM CALC'!A21 -> 2.3 | B23: ='MM CALC'!B21 -> SICOR-MG | C23: ='MM CALC'!C21 -> ED-51096 | D23: ='MM CALC'!D21 -> COMPACTAÇÃO MECANIZADA DE ATERRO COM PLACA VIBRATÓRIA, INCLUSIVE ESPALHAMENTO MANUAL | E23: ='MM CALC'!E21 -> m³ | F23: ='MM CALC'!F21 -> 80.57 | G23: 51.86 | H23: =ROUND((1+$H$9)*G23,2) -> 66.5 | I23: =+ROUND((H23*F23),2) -> 5357.91
A24: ='MM CALC'!A22 -> 3 | D24: ='MM CALC'!D22 -> FUNDAÇÕES | I24: =SUM(I25:I30) -> 126486.72
A25: ='MM CALC'!A23 -> 3.1 | B25: ='MM CALC'!B23 -> SICOR-MG | C25: ='MM CALC'!C23 -> ED-29801 | D25: ='MM CALC'!D23 -> PERFURAÇÃO MANUAL DE ESTACA TIPO BROCA A TRADO, INCLUSIVE AFASTAMENTO, EXCLUSIVE ARMAÇÃO, CONCRETO ESTRUTURAL, TRANSPORTE E RETIRADA DO MATERIAL ESCAVADO | E25: ='MM CALC'!E23 -> m³ | F25: ='MM CALC'!F23 -> 6.78 | G25: 232.76 | H25: =ROUND((1+$H$9)*G25,2) -> 298.47 | I25: =+ROUND((H25*F25),2) -> 2023.63
A26: ='MM CALC'!A24 -> 3.2 | B26: ='MM CALC'!B24 -> SICOR-MG | C26: ='MM CALC'!C24 -> ED-49811 | D26: ='MM CALC'!D24 -> FÔRMA E DESFORMA PARA VIGA-CINTA/BLOCO COM COMPENSADO RESINADO, ESP. 12MM, REAPROVEITAMENTO (3X) (FUNDAÇÃO) | E26: ='MM CALC'!E24 -> m² | F26: ='MM CALC'!F24 -> 161.96 | G26: 70.94 | H26: =ROUND((1+$H$9)*G26,2) -> 90.97 | I26: =+ROUND((H26*F26),2) -> 14733.5
A27: ='MM CALC'!A25 -> 3.3 | B27: ='MM CALC'!B25 -> SICOR-MG | C27: ='MM CALC'!C25 -> ED-48298 | D27: ='MM CALC'!D25 -> CORTE, DOBRA E MONTAGEM DE AÇO CA-50/60, INCLUSIVE ESPAÇADOR | E27: ='MM CALC'!E25 -> kg | F27: ='MM CALC'!F25 -> 2757.6 | G27: 14.1 | H27: =ROUND((1+$H$9)*G27,2) -> 18.08 | I27: =+ROUND((H27*F27),2) -> 49857.41
A28: ='MM CALC'!A26 -> 3.4 | B28: ='MM CALC'!B26 -> SICOR-MG | C28: ='MM CALC'!C26 -> ED-49812 | D28: ='MM CALC'!D26 -> LASTRO DE CONCRETO MAGRO, INCLUSIVE TRANSPORTE, LANÇAMENTO E ADENSAMENTO | E28: ='MM CALC'!E26 -> m³ | F28: ='MM CALC'!F26 -> 6.21 | G28: 577.64 | H28: =ROUND((1+$H$9)*G28,2) -> 740.71 | I28: =+ROUND((H28*F28),2) -> 4599.81
A29: ='MM CALC'!A27 -> 3.5 | B29: ='MM CALC'!B27 -> SICOR-MG | C29: ='MM CALC'!C27 -> ED-49799 | D29: ='MM CALC'!D27 -> FORNECIMENTO DE CONCRETO ESTRUTURAL, USINADO, COM FCK 30MPA, INCLUSIVE LANÇAMENTO, ADENSAMENTO E ACABAMENTO (FUNDAÇÃO) | E29: ='MM CALC'!E27 -> m³ | F29: ='MM CALC'!F27 -> 45.98 | G29: 757.64 | H29: =ROUND((1+$H$9)*G29,2) -> 971.52 | I29: =+ROUND((H29*F29),2) -> 44670.49
A30: ='MM CALC'!A28 -> 3.6 | B30: ='MM CALC'!B28 -> SICOR-MG | C30: ='MM CALC'!C28 -> ED-50174 | D30: ='MM CALC'!D28 -> IMPERMEABILIZAÇÃO COM EMULSÃO ASFÁLTICA, DUAS (2) DEMÃOS | E30: ='MM CALC'!E28 -> m² | F30: ='MM CALC'!F28 -> 268.47 | G30: 30.8 | H30: =ROUND((1+$H$9)*G30,2) -> 39.49 | I30: =+ROUND((H30*F30),2) -> 10601.88
A31: ='MM CALC'!A29 -> 4 | D31: ='MM CALC'!D29 -> ESTRUTURA | I31: =SUM(I32:I40) -> 551139.86
A32: ='MM CALC'!A30 -> 4.1 | B32: ='MM CALC'!B30 -> SICOR-MG | C32: ='MM CALC'!C30 -> ED-16319 | D32: ='MM CALC'!D30 -> MURO DIVISÓRIO DE TIJOLO FURADO COM ALTURA 220CM, COM PILARETES DE 16X9CM A CADA 250CM, SAPATA DE CONCRETO ARMADO 30X20CM E PINGADEIRA, REBOCADO E PINTADO A LÁTEX, INCLUSIVE ESCAVAÇÃO, APILOAMENTO E LASTRO | E32: ='MM CALC'!E30 -> m | F32: ='MM CALC'!F30 -> 149.3 | G32: 654.86 | H32: =ROUND((1+$H$9)*G32,2) -> 839.73 | I32: =+ROUND((H32*F32),2) -> 125371.69
A33: ='MM CALC'!A31 -> 4.2 | B33: ='MM CALC'!B31 -> SICOR-MG | C33: ='MM CALC'!C31 -> ED-49647 | D33: ='MM CALC'!D31 -> FÔRMA E DESFORMA DE COMPENSADO PLASTIFICADO, ESP. 12MM, REAPROVEITAMENTO (5X), EXCLUSIVE ESCORAMENTO | E33: ='MM CALC'!E31 -> m² | F33: ='MM CALC'!F31 -> 727.43 | G33: 56.34 | H33: =ROUND((1+$H$9)*G33,2) -> 72.24 | I33: =+ROUND((H33*F33),2) -> 52549.54
A34: ='MM CALC'!A32 -> 4.3 | B34: ='MM CALC'!B32 -> SICOR-MG | C34: ='MM CALC'!C32 -> ED-48298 | D34: ='MM CALC'!D32 -> CORTE, DOBRA E MONTAGEM DE AÇO CA-50/60, INCLUSIVE ESPAÇADOR | E34: ='MM CALC'!E32 -> kg | F34: ='MM CALC'!F32 -> 3683.55 | G34: 14.1 | H34: =ROUND((1+$H$9)*G34,2) -> 18.08 | I34: =+ROUND((H34*F34),2) -> 66598.58
A35: ='MM CALC'!A33 -> 4.4 | B35: ='MM CALC'!B33 -> SICOR-MG | C35: ='MM CALC'!C33 -> ED-49638 | D35: ='MM CALC'!D33 -> FORNECIMENTO DE CONCRETO ESTRUTURAL, USINADO BOMBEADO, COM FCK 25MPA, INCLUSIVE LANÇAMENTO, ADENSAMENTO E ACABAMENTO | E35: ='MM CALC'!E33 -> m³ | F35: ='MM CALC'!F33 -> 56.67 | G35: 752.59 | H35: =ROUND((1+$H$9)*G35,2) -> 965.05 | I35: =+ROUND((H35*F35),2) -> 54689.38
A36: ='MM CALC'!A34 -> 4.5 | B36: ='MM CALC'!B34 -> SICOR-MG | C36: ='MM CALC'!C34 -> ED-50253 | D36: ='MM CALC'!D34 -> LAJE PRÉ-MOLDADA UNIDIRECIONAL COM ENCHIMENTO EM POLIESTIRENO EXPANDIDO (EPS), CAPEAMENTO DE 4CM, SOBRECARGA DE 100KG/M2, ALTURA TOTAL DE 11CM E VÃO LIVRE MÁXIMO DE 4M, INCLUSIVE CONCRETO ESTRUTURAL, USINADO BOMBEADO COM FCK DE 20MPA, EXCLUSIVE TELA ARMADA E CIMBRAMENTO | E36: ='MM CALC'!E34 -> m² | F36: ='MM CALC'!F34 -> 767.07 | G36: 134.61 | H36: =ROUND((1+$H$9)*G36,2) -> 172.61 | I36: =+ROUND((H36*F36),2) -> 132403.95
A37: ='MM CALC'!A35 -> 4.6 | B37: ='MM CALC'!B35 -> SICOR-MG | C37: ='MM CALC'!C35 -> ED-29563 | D37: ='MM CALC'!D35 -> ARMADURA DE TELA DE AÇO CA-60, SOLDADA TIPO Q-61, DIÂMETRO Ø3,4MM, TRAMA COM DIMENSÃO (150X150)MM, INCLUSIVE ESPAÇADOR, EXCLUSIVE CONCRETO | E37: ='MM CALC'!E35 -> m² | F37: ='MM CALC'!F35 -> 843.77 | G37: 15.04 | H37: =ROUND((1+$H$9)*G37,2) -> 19.29 | I37: =+ROUND((H37*F37),2) -> 16276.32
A38: ='MM CALC'!A36 -> 4.7 | B38: ='MM CALC'!B36 -> SICOR-MG | C38: ='MM CALC'!C36 -> ED-19637 | D38: ='MM CALC'!D36 -> CIMBRAMENTO PARA LAJE PRÉ-MOLDADA COM ESCORAMENTO METÁLICO, TIPO "A", ALTURA DE (200 ATÉ 310)CM, INCLUSIVE DESCARGA, MONTAGEM, DESMONTAGEM E CARGA | E38: ='MM CALC'!E36 -> m2xmês | F38: ='MM CALC'!F36 -> 3068.28 | G38: 22.53 | H38: =ROUND((1+$H$9)*G38,2) -> 28.89 | I38: =+ROUND((H38*F38),2) -> 88642.61
A39: ='MM CALC'!A37 -> 4.8 | B39: ='MM CALC'!B37 -> SICOR-MG | C39: ='MM CALC'!C37 -> ED-9906 | D39: ='MM CALC'!D37 -> VERGA OU CONTRAVERGA EM CONCRETO ESTRUTURAL PARA VÃOS ACIMA DE 150CM, PREPARADO EM OBRA COM BETONEIRA, CONTROLE "A", COM FCK 20 MPA, MOLDADA IN LOCO, INCLUSIVE ARMAÇÃO | E39: ='MM CALC'!E37 -> m³ | F39: ='MM CALC'!F37 -> 0.54 | G39: 3555.62 | H39: =ROUND((1+$H$9)*G39,2) -> 4559.37 | I39: =+ROUND((H39*F39),2) -> 2462.06
A40: ='MM CALC'!A38 -> 4.9 | B40: ='MM CALC'!B38 -> SICOR-MG | C40: ='MM CALC'!C38 -> ED-9903 | D40: ='MM CALC'!D38 -> VERGA OU CONTRAVERGA EM CONCRETO ESTRUTURAL PARA VÃOS DE ATÉ 150CM, PREPARADO EM OBRA COM BETONEIRA, CONTROLE "A", COM FCK 20 MPA, MOLDADA IN LOCO, INCLUSIVE ARMAÇÃO | E40: ='MM CALC'!E38 -> m³ | F40: ='MM CALC'!F38 -> 2.86 | G40: 3311.83 | H40: =ROUND((1+$H$9)*G40,2) -> 4246.76 | I40: =+ROUND((H40*F40),2) -> 12145.73
A41: ='MM CALC'!A39 -> 5 | D41: ='MM CALC'!D39 -> ALVENARIA | I41: =SUM(I42:I43) -> 83646.25
A42: ='MM CALC'!A40 -> 5.1 | B42: ='MM CALC'!B40 -> SICOR-MG | C42: ='MM CALC'!C40 -> ED-48232 | D42: ='MM CALC'!D40 -> ALVENARIA DE VEDAÇÃO COM TIJOLO CERÂMICO FURADO, ESP. 14CM, PARA REVESTIMENTO, INCLUSIVE ARGAMASSA PARA ASSENTAMENTO | E42: ='MM CALC'!E40 -> m² | F42: ='MM CALC'!F40 -> 946.62 | G42: 68 | H42: =ROUND((1+$H$9)*G42,2) -> 87.2 | I42: =+ROUND((H42*F42),2) -> 82545.26
...

Sheet MM CALC
A1: PREFEITURA MUNICIPAL DE MINAS NOVAS Praça Sebastião Leme do Prado, 15 - Centro CEP: 39.650-000 – Minas Novas (MG) Fone: (33) 3764-1147 – (33) 3764-2641 E-mail: convenios@minasnovas.mg.gov.br
A2: MEMÓRIA DE CÁLCULO DE QUANTITATIVOS
A4: PREFEITURA MUNICIPAL DE MINAS NOVAS | E4: DATA:28/07/2025
A5: OBRA: CONSTRUÇÃO DE ESCOLA MUNICIPAL DE PALMITAL
A6: LOCAL: POVOADO DE PALMITAL - DIST. BAIXA QUENTE - MINAS NOVAS/MG
A8: ITEM | B8: FONTE | C8: CÓDIGO | D8: DESCRIÇÃO | E8: UND. | F8: QUANT. | G8: FÓRMULA/MEMÓRIA
A9: - | B9: - | C9: - | D9: - | E9: - | F9: - | G9: -
A10: 1 | D10: SERVIÇOS PRELIMINARES
A11: 1.1 | B11: SICOR-MG | C11: RO-01091 | D11: Limpeza mecanizada da camada vegetal | E11: m² | F11: a cargo do municipio
A12: 1.2 | B12: SICOR-MG | C12: RO-00232 | D12: Regularização de superfície com motoniveladora | E12: m² | F12: a cargo do municipio
A13: 1.3 | B13: SICOR-MG | C13: ED-28427 | D13: FORNECIMENTO E COLOCAÇÃO DE PLACA DE OBRA EM CHAPA GALVANIZADA #26, ESP. 0,45MM, DIMENSÃO (3X1,5)M, PLOTADA COM ADESIVO VINÍLICO, AFIXADA COM REBITES 4,8X40MM, EM ESTRUTURA METÁLICA DE METALON 20X20MM, ESP. 1,25MM, INCLUSIVE SUPORTE EM EUCALIPTO AUTOCLAVADO PINTADO COM TINTA PVA DUAS (2) DEMÃOS | E13: und | F13: 1 | G13: Placa de obra: 1 unid
A14: 1.4 | B14: SICOR-MG | C14: ED-50135 | D14: BARRACÃO DE OBRA, EM CHAPA DE COMPENSADO RESINADO, INCLUSIVE INSTALAÇÕES SANITÁRIAS E MOBILIÁRIO - PADRÃO DER-MG | E14: m² | F14: 32 | G14: Barracão de obra: 4,00 x 8,00 = 32,00m²
A15: 1.5 | B15: SICOR-MG | C15: ED-17989 | D15: LOCAÇÃO DE OBRA COM GABARITO DE TÁBUAS CORRIDAS PONTALETADAS A CADA 2,00M, REAPROVEITAMENTO (2X), INCLUSIVE ACOMPANHAMENTO DE EQUIPE TOPOGRÁFICA PARA MARCAÇÃO DE PONTO TOPOGRÁFICO | E15: m | F15: 328.27 | G15: Bloco Administrativo: (6,25 + 6,25 + 1,00 + 1,00) + ( 17,30 + 17,30 + 1,00 + 1,00) = 51,10m Bloco de Serviço:(6,25 + 6,25 + 1,00 + 1,00) + ( 16,20 + 16,20 + 1,00 + 1,00) = 48,85m Pátio Coberto: (6,56 x 4) + ( 2,14 x 2) + (7,80 x 2) = 46,12m Bloco Pedagógico: (7,80 + 7,80 + 1,00 + 1,00) + ( 35,75 + 35,75 + 1,00 + 1,00) = 91,10m Bloco Multiuso: (7,80 + 7,80 + 1,00 + 1,00) + ( 35,75 + 35,75 + 1,00 + 1,00) = 91,10m
A16: 1.6 | B16: SICOR-MG | C16: ED-29823 | D16: TAPUME FIXO DE PROTEÇÃO PARA FECHAMENTO DE OBRA EM TELHA METÁLICA GALVANIZADA, TIPO TRAPEZOIDAL, ESP. 0,5MM, COM MÓDULO NA DIMENSÃO DE (300X220)CM, COM REAPROVEITAMENTO, EXCLUSIVE PINTURA ESMALTE, INCLUSIVE PONTALETE E FIXAÇÃO | E16: m² | F16: 28.4 | G16: 12,90 x 2,20 = 28,40m²
A17: 1.7 | B17: SICOR-MG | C17: ED-20579 | D17: ENTRADA DE ENERGIA AÉREA, TIPO B1, PADRÃO CEMIG, CARGA INSTALADA DE ATÉ 10KW, BIFÁSICO, COM SAÍDA SUBTERRÂNEA, INCLUSIVE POSTE, CAIXA PARA MEDIDOR, DISJUNTOR, BARRAMENTO, ATERRAMENTO E ACESSÓRIOS | E17: und | F17: 1 | G17: 1 unidade
A18: 2 | D18: TRABALHOS EM TERRA
A19: 2.1 | B19: SICOR-MG | C19: ED-51107 | D19: ESCAVAÇÃO MANUAL DE VALA COM PROFUNDIDADE MENOR OU IGUAL A 1,5M, INCLUSIVE DESCARGA LATERAL | E19: m³ | F19: 45.98 | G19: Vigas Baldrames Bloco Administrativo: (6,25 x 6) + (17,30 x 3) x 0,15 x 0,30 = 4,02m³ Bloco de Serviço: (6,25 x 6) + (16,20 x 3) x 0,15 x 0,30 = 3,87m³ Pátio Coberto: (42,74 + 14,92 + 15,82) x 0,15 x 0,30 = 3,31m³ Bloco Pedagógico: (7,80 x 11) + ( 35,75 x 3) x 0,15 x 0,30 = 8,69m³ Bloco Multiuso: (7,80 x 10) + ( 35,75 x 3) x 0,15 x 0,30 = 8,34m³ Passarelas: (11,70 x 2) + ( 8,00 x 2) + (7,57 x 2) x 0,15 x 0,20 = 1,64m³ Lixeira: 5,30 x 0,15 x 0,20 = 0,11m³ Blocos de fundação Bloco Administrativo: 18 und x 0,50 x 0,50 x 0,50 = 2,25m³ Bloco de Serviço: 18 und x 0,50 x 0,50 x 0,50 = 2,25m³ Pátio Coberto: 18 und x 0,50 x 0,50 x 0,50 = 2,25m³ Bloco Pedagógico: 38 und x 0,50 x 0,50 x 0,50 = 4,75m³ Bloco Multiuso: 36 und x 0,50 x 0,50 x 0,50 = 4,50m³
A20: 2.2 | B20: SICOR-MG | C20: ED-51093 | D20: APILOAMENTO MANUAL EM FUNDO DE VALA COM SOQUETE, EXCLUSIVE ESCAVAÇÃO | E20: m² | F20: 135.05 | G20: Vigas Baldrames Bloco Administrativo: (6,25 x 6) + (17,30 x 3) x 0,15 = 13,41m² Bloco de Serviço: (6,25 x 6) + (16,20 x 3) x 0,15 = 12,91m² Pátio Coberto: (42,74 + 14,92 + 15,82) x 0,15 = 11,02m² Bloco Pedagógico: (7,80 x 11) + ( 35,75 x 3) x 0,15 = 28,96m² Bloco Multiuso: (7,80 x 10) + ( 35,75 x 3) x 0,15 =27,78m² Passarelas: (11,70 x 2) + ( 8,00 x 2) + (7,57 x 2) x 0,15 = 8,18m² Lixeira: 5,30 x 0,15 = 0,79m² Blocos de fundação Bloco Administrativo: 18 und x 0,50 x 0,50 = 4,50m² Bloco de Serviço: 18 und x 0,50 x 0,50 = 4,50m² Pátio Coberto: 18 und x 0,50 x 0,50 = 4,50m² Bloco Pedagógico: 38 und x 0,50 x 0,50 = 9,50m² Bloco Multiuso: 36 und x 0,50 x 0,50 = 9,00m²
A21: 2.3 | B21: SICOR-MG | C21: ED-51096 | D21: COMPACTAÇÃO MECANIZADA DE ATERRO COM PLACA VIBRATÓRIA, INCLUSIVE ESPALHAMENTO MANUAL | E21: m³ | F21: 80.57 | G21: Bloco Administrativo: 5,95 x 16,40 x 0,10 = 9,75m³ Bloco de Serviço: 5,95 x 15,30 x 0,10 = 9,10m³ Pátio Coberto: 134,42m² x 0,10 = 13,44m³ Bloco Pedagógico: 7,35 x 32,85 x 0,10 = 24,14m³ Bloco Multiuso: 7,35 x 32,85 x 0,10 = 24,14m³
A22: 3 | D22: FUNDAÇÕES
A23: 3.1 | B23: SICOR-MG | C23: ED-29801 | D23: PERFURAÇÃO MANUAL DE ESTACA TIPO BROCA A TRADO, INCLUSIVE AFASTAMENTO, EXCLUSIVE ARMAÇÃO, CONCRETO ESTRUTURAL, TRANSPORTE E RETIRADA DO MATERIAL ESCAVADO | E23: m³ | F23: 6.78 | G23: Bloco Administrativo: 18 und x 1 x 1,50 = 27,00m Bloco de Serviço: 18 und x 1 x 1,50 = 27,00m Pátio Coberto: 18 und x 1 x 1,50 = 27,00m Bloco Pedagógico: 38 und x 1 x 1,50 = 57,00m Bloco Multiuso: 36 und x 1 x 1,50 = 54,00m Passarelas: 24 unid x 1 = 24,00m Total: 216m x (π x 0,10²) = 6,78m³
A24: 3.2 | B24: SICOR-MG | C24: ED-49811 | D24: FÔRMA E DESFORMA PARA VIGA-CINTA/BLOCO COM COMPENSADO RESINADO, ESP. 12MM, REAPROVEITAMENTO (3X) (FUNDAÇÃO) | E24: m² | F24: 161.96 | G24: Vigas Baldrames: Bloco Administrativo: (6,25 x 6) + (17,30 x 3) x (0,10 + 0,10) = 17,88m² Bloco de Serviço: (6,25 x 6) + (16,20 x 3) x (0,10 + 0,10) = 17,22m² Pátio Coberto: (42,74 + 14,92 + 15,82) x (0,10 + 0,10) = 14,69m² Bloco Pedagógico: (7,80 x 11) + ( 35,75 x 3) x (0,10 + 0,10) = 38,61m² Bloco Multiuso: (7,80 x 10) + ( 35,75 x 3) x (0,10 + 0,10) = 37,05m² Passarelas: (11,70 x 2) + ( 8,00 x 2) + (7,57 x 2) x (0,10 + 0,10) = 10,91m² Blocos de fundação: Bloco Administrativo: 18 und x (0,50 + 0,50 + 0,50 + 0,50) x 0,10 = 3,60m² Bloco de Serviço: 18 und x (0,50 + 0,50 + 0,50 + 0,50) x 0,10 = 3,60m² Pátio Coberto: 18 und x (0,50 + 0,50 + 0,50 + 0,50) x 0,10 = 3,60m² Bloco Pedagógico: 38 und x (0,50 + 0,50 + 0,50 + 0,50) x 0,10 = 7,60m² Bloco Multiuso: 36 undx (0,50 + 0,50 + 0,50 + 0,50) x 0,10 = 7,20m²
A25: 3.3 | B25: SICOR-MG | C25: ED-48298 | D25: CORTE, DOBRA E MONTAGEM DE AÇO CA-50/60, INCLUSIVE ESPAÇADOR | E25: kg | F25: 2757.6 | G25: Vigas Baldrames Bloco Administrativo: (6,25 x 6) + (17,30 x 3) x 0,15 x 0,30 = 4,02m³ Bloco de Serviço: (6,25 x 6) + (16,20 x 3) x 0,15 x 0,30 = 3,87m³ Pátio Coberto: (42,74 + 14,92 + 15,82) x 0,15 x 0,30 = 3,31m³ Bloco Pedagógico: (7,80 x 11) + ( 35,75 x 3) x 0,15 x 0,30 = 8,69m³ Bloco Multiuso: (7,80 x 10) + ( 35,75 x 3) x 0,15 x 0,30 = 8,34m³ Passarelas: (11,70 x 2) + ( 8,00 x 2) + (7,57 x 2) x 0,15 x 0,20 = 1,64m³ Lixeira: 5,30 x 0,15 x 0,20 = 0,11m³ Blocos de fundação Bloco Administrativo: 18 und x 0,50 x 0,50 x 0,50 = 2,25m³ Bloco de Serviço: 18 und x 0,50 x 0,50 x 0,50 = 2,25m³ Pátio Coberto: 18 und x 0,50 x 0,50 x 0,50 = 2,25m³ Bloco Pedagógico: 38 und x 0,50 x 0,50 x 0,50 = 4,75m³ Bloco Multiuso: 36 und x 0,50 x 0,50 x 0,50 = 4,50m³ Total: 45,96 x 60kg/m³ = 2757,60kg
A26: 3.4 | B26: SICOR-MG | C26: ED-49812 | D26: LASTRO DE CONCRETO MAGRO, INCLUSIVE TRANSPORTE, LANÇAMENTO E ADENSAMENTO | E26: m³ | F26: 6.21 | G26: Vigas Baldrames Bloco Administrativo: (6,25 x 6) + (17,30 x 3) x 0,15 x 0,05 = 0,67m³ Bloco de Serviço: (6,25 x 6) + (16,20 x 3) x 0,15 x 0,05 = 0,65m³ Pátio Coberto: (42,74 + 14,92 + 15,82) x 0,15 x 0,05 = 0,55m³ Bloco Pedagógico: (7,80 x 11) + ( 35,75 x 3) x 0,15 x 0,05 = 1,45m³ Bloco Multiuso: (7,80 x 10) + ( 35,75 x 3) x 0,15 x 0,05 = 0,86m³ Passarelas: (11,70 x 2) + ( 8,00 x 2) + (7,57 x 2) x 0,15 x 0,05 = 0,41m³ Lixeira: 5,30 x 0,15 x 0,05 = 0,04m³ Blocos de fundação Bloco Administrativo: 18 und x 0,50 x 0,50 x 0,05 = 0,22m³ Bloco de Serviço: 18 und x 0,50 x 0,50 x 0,05 = 0,22m³ Pátio Coberto: 18 und x 0,50 x 0,50 x 0,05 = 0,22m³ Bloco Pedagógico: 38 und x 0,50 x 0,50 x 0,05 = 0,47m³ Bloco Multiuso: 36 und x 0,50 x 0,50 x 0,05 = 0,45m³
A27: 3.5 | B27: SICOR-MG | C27: ED-49799 | D27: FORNECIMENTO DE CONCRETO ESTRUTURAL, USINADO, COM FCK 30MPA, INCLUSIVE LANÇAMENTO, ADENSAMENTO E ACABAMENTO (FUNDAÇÃO) | E27: m³ | F27: 45.98 | G27: Vigas Baldrames Bloco Administrativo: (6,25 x 6) + (17,30 x 3) x 0,15 x 0,30 = 4,02m³ Bloco de Serviço: (6,25 x 6) + (16,20 x 3) x 0,15 x 0,30 = 3,87m³ Pátio Coberto: (42,74 + 14,92 + 15,82) x 0,15 x 0,30 = 3,31m³ Bloco Pedagógico: (7,80 x 11) + ( 35,75 x 3) x 0,15 x 0,30 = 8,69m³ Bloco Multiuso: (7,80 x 10) + ( 35,75 x 3) x 0,15 x 0,30 = 8,34m³ Passarelas: (11,70 x 2) + ( 8,00 x 2) + (7,57 x 2) x 0,15 x 0,20 = 1,64m³ Lixeira: 5,30 x 0,15 x 0,20 = 0,11m³ Blocos de fundação Bloco Administrativo: 18 und x 0,50 x 0,50 x 0,50 = 2,25m³ Bloco de Serviço: 18 und x 0,50 x 0,50 x 0,50 = 2,25m³ Pátio Coberto: 18 und x 0,50 x 0,50 x 0,50 = 2,25m³ Bloco Pedagógico: 38 und x 0,50 x 0,50 x 0,50 = 4,75m³ Bloco Multiuso: 36 und x 0,50 x 0,50 x 0,50 = 4,50m³
A28: 3.6 | B28: SICOR-MG | C28: ED-50174 | D28: IMPERMEABILIZAÇÃO COM EMULSÃO ASFÁLTICA, DUAS (2) DEMÃOS | E28: m² | F28: 268.47 | G28: Vigas Baldrames: Bloco Administrativo: (6,25 x 6) + (17,30 x 3) x (0,10 + 0,10 + 0,15) = 31,29m² Bloco de Serviço: (6,25 x 6) + (16,20 x 3) x (0,10 + 0,10 + 0,15) = 30,13m² Pátio Coberto: (42,74 + 14,92 + 15,82) x (0,10 + 0,10 + 0,15) = 25,71m² Bloco Pedagógico: (7,80 x 11) + ( 35,75 x 3) x (0,10 + 0,10 + 0,15) = 67,56m² Bloco Multiuso: (7,80 x 10) + ( 35,75 x 3) x (0,10 + 0,10 + 0,15) = 64,84m² Passarelas: (11,70 x 2) + ( 8,00 x 2) + (7,57 x 2) x (0,10 + 0,10 +0,15) = 19,09m² Blocos de fundação: Bloco Administrativo: 18 und x (0,50 + 0,50 + 0,50 + 0,50) x 0,10 + ( 0,50 x 0,50) = 3,85m² Bloco de Serviço: 18 und x (0,50 + 0,50 + 0,50 + 0,50) x 0,10 + ( 0,50 x 0,50) = 3,85m² Pátio Coberto: 18 und x (0,50 + 0,50 + 0,50 + 0,50) x 0,10 + ( 0,50 x 0,50) = 3,85m² Bloco Pedagógico: 38 und x (0,50 + 0,50 + 0,50 + 0,50) x 0,10 + ( 0,50 x 0,50) = 7,85m² Bloco Multiuso: 36 und x (0,50 + 0,50 + 0,50 + 0,50) x 0,10 + ( 0,50 x 0,50) = 7,45m²
A29: 4 | D29: ESTRUTURA
A30: 4.1 | B30: SICOR-MG | C30: ED-16319 | D30: MURO DIVISÓRIO DE TIJOLO FURADO COM ALTURA 220CM, COM PILARETES DE 16X9CM A CADA 250CM, SAPATA DE CONCRETO ARMADO 30X20CM E PINGADEIRA, REBOCADO E PINTADO A LÁTEX, INCLUSIVE ESCAVAÇÃO, APILOAMENTO E LASTRO | E30: m | F30: 149.3 | G30: 149,30m
A31: 4.2 | B31: SICOR-MG | C31: ED-49647 | D31: FÔRMA E DESFORMA DE COMPENSADO PLASTIFICADO, ESP. 12MM, REAPROVEITAMENTO (5X), EXCLUSIVE ESCORAMENTO | E31: m² | F31: 727.43 | G31: Pilares Bloco Administrativo: ( 8 x 0,45 x 2,90) + ( 4 x 0,60 x 2,90) + ( 2 x 3,14 x 0,10 x 6 x 2,90) = 28,33m² Bloco de Serviço: ( 8 x 0,45 x 2,90) + ( 8 x 0,60 x 2,90) + ( 2 x 3,14 x 0,10 x 6 x 2,90) = 28,33m² Pátio Coberto: ( 2 x 3,14 x 0,15 x 12 x 2,90) + ( 2 x 3,14 x 0,15 x 6 x 5,90) = 66,16m² Bloco Pedagógico: ( 4 x 0,45 x 2,90) + ( 13 x 0,60 x 2,90) + ( 6 x 0,45 x 2,90) + ( 2 x 3,14 x 0,10 x 15 x 2,90) = 63,00m² Bloco Multiuso: ( 4 x 0,45 x 2,90) + ( 14 x 0,60 x 2,90) + ( 8 x 0,45 x 2,90) + ( 2 x 3,14 x 0,10 x 10 x 2,90) = 58,24m² Passarelas: ( 2 x 3,14 x 0,10 x 24 x 2,50) = 37,70m² Vigas Bloco Administrativo: (5 x 4,45 x 0,60) + ( 4,45 x 0,75) + ( 2 x 8,00 x 0,60) + (2 x 7,30 x 0,60) + (2 x 2,00 x 0,75) + ( 6 x 1,50 x 0,75) + ( 17,30 x 0,75) = 57,77m² Bloco de Serviço: (4 x 4,45 x 0,60) + ( 2 x 4,45 x 0,75) + ( 2 x 16,20 x 0,60) + ( 6 x 1,50 x 0,75) + ( 16,20 x 0,75) = 55,69m² Pátio Coberto: (42,74 + 14,23) x (1,00) + (2 x 14,23 x 0,75) = 78,31m² Bloco Pedagógico: (5 x 6,30 x 0,60) + ( 4 x 6,30 x 1,00) + ( 2 x 32,75 x 0,60) + (2 x 7,80 x 0,75) + (35,75 x 0,75) + (6 x 1,50 x 0,75) = 128,66m² Bloco Multiuso: ( 6 x 6,30 x 0,60) + ( 4 x 6,30 x 1,00) + (2 x 32,75 x 0,60) + (10 x 1,50 x 0,75) + (35,75 x 0,75) = 125,24m²
A32: 4.3 | B32: SICOR-MG | C32: ED-48298 | D32: CORTE, DOBRA E MONTAGEM DE AÇO CA-50/60, INCLUSIVE ESPAÇADOR | E32: kg | F32: 3683.55 | G32: Pilares Bloco Administrativo: ( 12 x 0,15 x 0,30 x 2,90) + ( 3,14 x 0,10² x 6 x 2,90) = 2,11m³ Bloco de Serviço: ( 12 x 0,15 x 0,30 x 2,90) + ( 3,14 x 0,10² x 6 x 2,90) = 2,11m³ Pátio Coberto: ( 3,14 x 0,15² x 12 x 2,90) + ( 3,14 x 0,15² x 6 x 5,90) = 4,96m³ Bloco Pedagógico: ( 23 x 0,15 x 0,30 x 2,90) + ( 3,14 x 0,10² x 15 x 2,90) =4,09m³ Bloco Multiuso:( 25 x 0,15 x 0,30 x 2,90) + ( 3,14 x 0,10² x 10 x 2,90) = 4,17m³ Passarelas: ( 3,14 x 0,10² x 24 x 2,50) = 1,88m³ Vigas Bloco Administrativo: (6,25 x 6) + (17,30 x 3) x 0,15 x 0,30 = 4,02m³ Bloco de Serviço: (6,25 x 6) + (16,20 x 3) x 0,15 x 0,30 = 3,87m³ Pátio Coberto: (42,74 + 14,23) x 0,20 x 040 + (2 x 14,23) x 0,15 x 0,30 = 5,83m³ Bloco Pedagógico: (7,80 x 7 x 0,15 x 0,30) + (35,75 x 3 x 0,15 x 0,30) + (6,30 x 4 x 0,20 x 0,40) + (4 x 1,50 x 0,15 x 0,30) = 11,99m³ Bloco Multiuso: (7,80 x 6 x 0,15 x 0,30) + (35,75 x 3 x 0,15 x 0,30) + (6,30 x 4 x 0,20 x 0,40) + (4 x 1,50 x 0,15 x 0,30) = 11,64m³ Total: 56,67m³ x 65kg = 3683,55kg
A33: 4.4 | B33: SICOR-MG | C33: ED-49638 | D33: FORNECIMENTO DE CONCRETO ESTRUTURAL, USINADO BOMBEADO, COM FCK 25MPA, INCLUSIVE LANÇAMENTO, ADENSAMENTO E ACABAMENTO | E33: m³ | F33: 56.67 | G33: Pilares Bloco Administrativo: ( 12 x 0,15 x 0,30 x 2,90) + ( 3,14 x 0,10² x 6 x 2,90) = 2,11m³ Bloco de Serviço: ( 12 x 0,15 x 0,30 x 2,90) + ( 3,14 x 0,10² x 6 x 2,90) = 2,11m³ Pátio Coberto: ( 3,14 x 0,15² x 12 x 2,90) + ( 3,14 x 0,15² x 6 x 5,90) = 4,96m³ Bloco Pedagógico: ( 23 x 0,15 x 0,30 x 2,90) + ( 3,14 x 0,10² x 15 x 2,90) =4,09m³ Bloco Multiuso:( 25 x 0,15 x 0,30 x 2,90) + ( 3,14 x 0,10² x 10 x 2,90) = 4,17m³ Passarelas: ( 3,14 x 0,10² x 24 x 2,50) = 1,88m³ Vigas Bloco Administrativo: (6,25 x 6) + (17,30 x 3) x 0,15 x 0,30 = 4,02m³ Bloco de Serviço: (6,25 x 6) + (16,20 x 3) x 0,15 x 0,30 = 3,87m³ Pátio Coberto: (42,74 + 14,23) x 0,20 x 040 + (2 x 14,23) x 0,15 x 0,30 = 5,83m³ Bloco Pedagógico: (7,80 x 7 x 0,15 x 0,30) + (35,75 x 3 x 0,15 x 0,30) + (6,30 x 4 x 0,20 x 0,40) + (4 x 1,50 x 0,15 x 0,30) = 11,99m³ Bloco Multiuso: (7,80 x 6 x 0,15 x 0,30) + (35,75 x 3 x 0,15 x 0,30) + (6,30 x 4 x 0,20 x 0,40) + (4 x 1,50 x 0,15 x 0,30) = 11,64m³ Total: 56,67m³
A34: 4.5 | B34: SICOR-MG | C34: ED-50253 | D34: LAJE PRÉ-MOLDADA UNIDIRECIONAL COM ENCHIMENTO EM POLIESTIRENO EXPANDIDO (EPS), CAPEAMENTO DE 4CM, SOBRECARGA DE 100KG/M2, ALTURA TOTAL DE 11CM E VÃO LIVRE MÁXIMO DE 4M, INCLUSIVE CONCRETO ESTRUTURAL, USINADO BOMBEADO COM FCK DE 20MPA, EXCLUSIVE TELA ARMADA E CIMBRAMENTO | E34: m² | F34: 767.07 | G34: Bloco Administrativo: 6,25 x 17,30 = 108,12m² Bloco de Serviço: 6,25 x 16,20 = 101,25m² Bloco Pedagógico: 7,80 x 35,75 = 278,85m² Bloco Multiuso: 7,80 x 35,75 = 278,85m²
A35: 4.6 | B35: SICOR-MG | C35: ED-29563 | D35: ARMADURA DE TELA DE AÇO CA-60, SOLDADA TIPO Q-61, DIÂMETRO Ø3,4MM, TRAMA COM DIMENSÃO (150X150)MM, INCLUSIVE ESPAÇADOR, EXCLUSIVE CONCRETO | E35: m² | F35: 843.77 | G35: Bloco Administrativo: 6,25 x 17,30 = 108,12m² Bloco de Serviço: 6,25 x 16,20 = 101,25m² Bloco Pedagógico: 7,80 x 35,75 = 278,85m² Bloco Multiuso: 7,80 x 35,75 = 278,85m² 767,07m² + 10% traspasse = 843,77m²
A36: 4.7 | B36: SICOR-MG | C36: ED-19637 | D36: CIMBRAMENTO PARA LAJE PRÉ-MOLDADA COM ESCORAMENTO METÁLICO, TIPO "A", ALTURA DE (200 ATÉ 310)CM, INCLUSIVE DESCARGA, MONTAGEM, DESMONTAGEM E CARGA | E36: m2xmês | F36: 3068.28 | G36: 767,07m² x 4 = 3068,28m²xmês
A37: 4.8 | B37: SICOR-MG | C37: ED-9906 | D37: VERGA OU CONTRAVERGA EM CONCRETO ESTRUTURAL PARA VÃOS ACIMA DE 150CM, PREPARADO EM OBRA COM BETONEIRA, CONTROLE "A", COM FCK 20 MPA, MOLDADA IN LOCO, INCLUSIVE ARMAÇÃO | E37: m³ | F37: 0.54 | G37: Portas: Bloco administrativo: (5 x 1,00) + (2 x 0,80) x 0,15 x 0,10 = 0,09m³ Bloco serviço: (4 x 1,10) + (1 x 1,00) + ( 1 x 0,80) x 0,15 x 0,10 = 0,09m³ Bloco pedagógico: 4 x 1,00 x 0,15 x 0,10 = 0,06m³ Bloco multiuso: 4 x 1,00 x 0,15 x 0,10 = 0,06m³ Janelas: Bloco serviço: (1 x 1,10) x 0,15 x 0,10 = 0,02m³ x 2 =0,04m³ Bloco serviço: (5 x 1,10) + (1 x 0,70) x 0,15 x 0,10 = 0,10m³ x 2 = 0,20m³
A38: 4.9 | B38: SICOR-MG | C38: ED-9903 | D38: VERGA OU CONTRAVERGA EM CONCRETO ESTRUTURAL PARA VÃOS DE ATÉ 150CM, PREPARADO EM OBRA COM BETONEIRA, CONTROLE "A", COM FCK 20 MPA, MOLDADA IN LOCO, INCLUSIVE ARMAÇÃO | E38: m³ | F38: 2.86 | G38: Porta: Bloco serviço: (1 x 1,60) x 0,15 x 0,10 = 0,02m³ Janelas: Bloco administrativo: (4 x 1,70) + (1 x 2,10) x 0,15 x 0,10 = 0,13m³ x 2 = 0,26m³ Bloco serviço: (4 x 1,70) x 0,15 x 0,10 = 0,05m³ x 2 = 0,10m³ Bloco pedagógico: 16 x 2,5 x 0,15 x 0,10 = 0,6m³ x 2 = 1,20m³ Bloco multiuso: 17 x 2,5 x 0,15 x 0,10 = 0,64m³ x 2 = 1,28m³
A39: 5 | D39: ALVENARIA
A40: 5.1 | B40: SICOR-MG | C40: ED-48232 | D40: ALVENARIA DE VEDAÇÃO COM TIJOLO CERÂMICO FURADO, ESP. 14CM, PARA REVESTIMENTO, INCLUSIVE ARGAMASSA PARA ASSENTAMENTO | E40: m² | F40: 946.62 | G40: Bloco administrativo: (6 x 4,45) + (2 x 15,30) + 2,65 + 1,65 + 3,60 x 2,90 = 189,08m² Bloco serviço: (4 x 4,45) + (2 x 16,20) + 2,30 + 2,30 + 2,30 + 5,65 x 2,90 = 181,97m² Pátio coberto: 14,23 x 1,50 = 21,35m² Bloco pedagógico: (5 x 6,00) + ( 2 x 32,75) x 2,90 = 276,95m² Desconto vãos janela: (16 x 2,2 x 1,10)/2 - 19,36m² 276,95 - 19,36 = 257,59m² Bloco multiuso: (6 x 6,00) + ( 2 x 35,75) x 2,90 = 311,75m² Desconto vãos janela: (16 x 2,2 x 1,10)/2 - 19,36m² 311,75 - 19,36 = 292,39m² Lixeira: 2,65 x 1,60 = 4,24m²
A41: 5.2 | B41: SICOR-MG | C41: ED-48231 | D41: ALVENARIA DE VEDAÇÃO COM TIJOLO CERÂMICO FURADO, ESP. 9CM, PARA REVESTIMENTO, INCLUSIVE ARGAMASSA PARA ASSENTAMENTO | E41: m² | F41: 15.3 | G41: Divisórias banheiros: (3,15 + 1,35) x 1,70 x 2 = 15,30m²
A42: 6 | D42: COBERTURA E FORRO
...

Sheet CRON
A1: PREFEITURA MUNICIPAL DE MINAS NOVAS Praça Sebastião Leme do Prado, 15 - Centro CEP: 39.650-000 – Minas Novas (MG) Fone: (33) 3764-1147 – (33) 3764-2641 E-mail: pmmn@uai.com.br / conveniosminasnovas@yahoo.com.br
A3: CRONOGRAMA FÍSICO-FINANCEIRO
A5: ='PLAN ORÇ'!A5 -> PREFEITURA MUNICIPAL DE MINAS NOVAS | C5: VALOR TOTAL: | D5: =C47 -> 2488831.3 | N5: ='MM CALC'!E4 -> DATA:28/07/2025
A6: ='MM CALC'!A5 -> OBRA: CONSTRUÇÃO DE ESCOLA MUNICIPAL DE PALMITAL
A7: ='MM CALC'!A6 -> LOCAL: POVOADO DE PALMITAL - DIST. BAIXA QUENTE - MINAS NOVAS/MG
A8: ITEM | B8: DESCRIÇÃO | C8: FÍSICO/ FINANCEIRO | D8: MÊS 01 | E8: MÊS 02 | F8: MÊS 03 | G8: MÊS 04 | H8: MÊS 05 | I8: MÊS 06 | J8: MÊS 07 | K8: MÊS 08 | L8: MÊS 09 | M8: MÊS 10 | N8: TOTAL
A10: 1 | B10: ='PLAN ORÇ'!D12 -> SERVIÇOS PRELIMINARES | C10: =+C11/$C$47 -> 0.023787482 | D10: 1 | N10: =SUM(D10:M10) -> 1 | O10: 1 | P10: =+N10-O10 -> 0
C11: ='PLAN ORÇ'!I12 -> 59203.03 | D11: =D10*$C$11 -> 59203.03 | N11: =ROUND(SUM(D11:M11),2) -> 59203.03 | O11: =+N11-C11 -> 0
A12: 2 | B12: ='PLAN ORÇ'!D20 -> TRABALHOS EM TERRA | C12: =+C13/$C$47 -> 0.0055203019 | D12: 1 | N12: =SUM(D12:M12) -> 1 | O12: 1 | P12: =+N12-O12 -> 0
C13: ='PLAN ORÇ'!I20 -> 13739.1 | D13: =D12*$C$13 -> 13739.1 | N13: =ROUND(SUM(D13:M13),2) -> 13739.1 | O13: =+N13-C13 -> 0
A14: 3 | B14: ='PLAN ORÇ'!D24 -> FUNDAÇÕES | C14: =+C15/$C$47 -> 0.050821734 | D14: 1 | N14: =SUM(D14:M14) -> 1 | O14: 1 | P14: =+N14-O14 -> 0
C15: ='PLAN ORÇ'!I24 -> 126486.72 | D15: =D14*$C$15 -> 126486.72 | N15: =ROUND(SUM(D15:M15),2) -> 126486.72 | O15: =+N15-C15 -> 0
A16: 4 | B16: ='PLAN ORÇ'!D31 -> ESTRUTURA | C16: =+C17/$C$47 -> 0.22144525 | D16: 0.1 | E16: 0.45 | F16: 0.45 | N16: =SUM(D16:M16) -> 1 | O16: 1 | P16: =+N16-O16 -> 0
C17: ='PLAN ORÇ'!I31 -> 551139.86 | D17: =D16*$C$17 -> 55113.986 | E17: =E16*$C$17 -> 248012.94 | F17: =F16*$C$17 -> 248012.94 | N17: =ROUND(SUM(D17:M17),2) -> 551139.86 | O17: =+N17-C17 -> 0
A18: 5 | B18: ='PLAN ORÇ'!D41 -> ALVENARIA | C18: =+C19/$C$47 -> 0.033608646 | G18: 0.6 | H18: 0.4 | N18: =SUM(D18:M18) -> 1 | O18: 1 | P18: =+N18-O18 -> 0
C19: ='PLAN ORÇ'!I41 -> 83646.25 | G19: =G18*$C$19 -> 50187.75 | H19: =H18*$C$19 -> 33458.5 | N19: =ROUND(SUM(D19:M19),2) -> 83646.25 | O19: =+N19-C19 -> 0
A20: 6 | B20: ='PLAN ORÇ'!D44 -> COBERTURA E FORRO | C20: =+C21/$C$47 -> 0.14902193 | G20: 0.3 | H20: 0.4 | I20: 0.3 | N20: =SUM(D20:M20) -> 1 | O20: 1 | P20: =+N20-O20 -> 0
C21: ='PLAN ORÇ'!I44 -> 370890.44 | G21: =G20*$C$21 -> 111267.13 | H21: =H20*$C$21 -> 148356.18 | I21: =I20*$C$21 -> 111267.13 | N21: =ROUND(SUM(D21:M21),2) -> 370890.44 | O21: =+N21-C21 -> 0
A22: 7 | B22: ='PLAN ORÇ'!D50 -> INSTALAÇÕES HIDROSSANITÁRIAS | C22: =+C23/$C$47 -> 0.031594456 | J22: 0.25 | K22: 0.25 | L22: 0.25 | M22: 0.25 | N22: =SUM(D22:M22) -> 1 | O22: 1 | P22: =+N22-O22 -> 0
C23: ='PLAN ORÇ'!I50 -> 78633.27 | J23: =J22*$C$23 -> 19658.318 | K23: =K22*$C$23 -> 19658.318 | L23: =L22*$C$23 -> 19658.318 | M23: =M22*$C$23 -> 19658.318 | N23: =ROUND(SUM(D23:M23),2) -> 78633.27 | O23: =+N23-C23 -> 0
A24: 8 | B24: ='PLAN ORÇ'!D68 -> INSTALAÇÃO ELÉTRICA | C24: =+C25/$C$47 -> 0.019658211 | J24: 0.25 | K24: 0.25 | L24: 0.25 | M24: 0.25 | N24: =SUM(D24:M24) -> 1 | O24: 1 | P24: =+N24-O24 -> 0
C25: ='PLAN ORÇ'!I68 -> 48925.97 | J25: =J24*$C$25 -> 12231.493 | K25: =K24*$C$25 -> 12231.493 | L25: =L24*$C$25 -> 12231.493 | M25: =M24*$C$25 -> 12231.493 | N25: =ROUND(SUM(D25:M25),2) -> 48925.97 | O25: =+N25-C25 -> 0
A26: 9 | B26: ='PLAN ORÇ'!D102 -> LOUÇAS E METAIS | C26: =+C27/$C$47 -> 0.011881231 | M26: 1 | N26: =SUM(D26:M26) -> 1 | O26: 1 | P26: =+N26-O26 -> 0
C27: ='PLAN ORÇ'!I102 -> 29570.38 | M27: =M26*$C$27 -> 29570.38 | N27: =ROUND(SUM(D27:M27),2) -> 29570.38 | O27: =+N27-C27 -> 0
A28: 10 | B28: ='PLAN ORÇ'!D127 -> ESQUADRIAS DE MADEIRA | C28: =+C29/$C$47 -> 0.022963505 | I28: 0.5 | J28: 0.5 | N28: =SUM(D28:M28) -> 1 | O28: 1 | P28: =+N28-O28 -> 0
C29: ='PLAN ORÇ'!I127 -> 57152.29 | I29: =I28*$C$29 -> 28576.145 | J29: =J28*$C$29 -> 28576.145 | N29: =ROUND(SUM(D29:M29),2) -> 57152.29 | O29: =+N29-C29 -> 0
A30: 11 | B30: ='PLAN ORÇ'!D131 -> ESQUADRIAS METÁLICAS | C30: =+C31/$C$47 -> 0.046526585 | K30: 0.8 | L30: 0.2 | N30: =SUM(D30:M30) -> 1 | O30: 1 | P30: =+N30-O30 -> 0
C31: ='PLAN ORÇ'!I131 -> 115796.82 | K31: =K30*$C$31 -> 92637.456 | L31: =L30*$C$31 -> 23159.364 | N31: =ROUND(SUM(D31:M31),2) -> 115796.82 | O31: =+N31-C31 -> 0
A32: 12 | B32: ='PLAN ORÇ'!D138 -> REVESTIMENTO | C32: =+C33/$C$47 -> 0.096646837 | G32: 0.3 | H32: 0.1 | I32: 0.2 | J32: 0.25 | K32: 0.15 | N32: =SUM(D32:M32) -> 1 | O32: 1 | P32: =+N32-O32 -> 0
C33: ='PLAN ORÇ'!I138 -> 240537.67 | G33: =G32*$C$33 -> 72161.301 | H33: =H32*$C$33 -> 24053.767 | I33: =I32*$C$33 -> 48107.534 | J33: =J32*$C$33 -> 60134.418 | K33: =K32*$C$33 -> 36080.651 | L33: =L32*$C$33 -> 0 | N33: =ROUND(SUM(D33:M33),2) -> 240537.67 | O33: =+N33-C33 -> 0
A34: 13 | B34: ='PLAN ORÇ'!D146 -> PISOS E RODAPÉS | C34: =+C35/$C$47 -> 0.19456489 | H34: 0.1 | I34: 0.15 | J34: 0.25 | K34: 0.1 | L34: 0.3 | M34: 0.1 | N34: =SUM(D34:M34) -> 1 | O34: 1 | P34: =+N34-O34 -> 0
C35: ='PLAN ORÇ'!I146 -> 484239.18 | H35: =H34*$C$35 -> 48423.918 | I35: =I34*$C$35 -> 72635.877 | J35: =J34*$C$35 -> 121059.8 | K35: =K34*$C$35 -> 48423.918 | L35: =L34*$C$35 -> 145271.75 | M35: =M34*$C$35 -> 48423.918 | N35: =ROUND(SUM(D35:M35),2) -> 484239.18 | O35: =+N35-C35 -> 0
A36: 14 | B36: ='PLAN ORÇ'!D156 -> VIDROS E ESPELHOS | C36: =+C37/$C$47 -> 0.0012121151 | M36: 1 | N36: =SUM(D36:M36) -> 1 | O36: 1 | P36: =+N36-O36 -> 0
C37: ='PLAN ORÇ'!I156 -> 3016.75 | M37: =M36*$C$37 -> 3016.75 | N37: =ROUND(SUM(D37:M37),2) -> 3016.75
A38: 15 | B38: ='PLAN ORÇ'!D158 -> PINTURA | C38: =+C39/$C$47 -> 0.067765181 | K38: 0.3 | L38: 0.2 | M38: 0.5 | N38: =SUM(D38:M38) -> 1 | O38: 1 | P38: =+N38-O38 -> 0
C39: ='PLAN ORÇ'!I158 -> 168656.1 | K39: =K38*$C$39 -> 50596.83 | L39: =L38*$C$39 -> 33731.22 | M39: =M38*$C$39 -> 84328.05 | N39: =ROUND(SUM(D39:M39),2) -> 168656.1
A40: 16 | B40: ='PLAN ORÇ'!D170 -> BANCADAS, PRATELEIRAS E DIVISÓRIAS | C40: =+C41/$C$47 -> 0.010514397 | M40: 1 | N40: =SUM(D40:M40) -> 1 | O40: 1 | P40: =+N40-O40 -> 0
C41: ='PLAN ORÇ'!I170 -> 26168.56 | M41: =M40*$C$41 -> 26168.56 | N41: =ROUND(SUM(D41:M41),2) -> 26168.56
A42: 17 | B42: ='PLAN ORÇ'!D177 -> DIVERSOS | C42: =+C43/$C$47 -> 0.0094545502 | D42: 0.1 | E42: 0.1 | F42: 0.1 | G42: 0.1 | H42: 0.1 | I42: 0.1 | J42: 0.1 | K42: 0.1 | L42: 0.1 | M42: 0.1 | N42: =SUM(D42:M42) -> 1 | O42: 1 | P42: =+N42-O42 -> 0
C43: ='PLAN ORÇ'!I177 -> 23530.78 | D43: =D42*$C$43 -> 2353.078 | E43: =E42*$C$43 -> 2353.078 | F43: =F42*$C$43 -> 2353.078 | G43: =G42*$C$43 -> 2353.078 | H43: =H42*$C$43 -> 2353.078 | I43: =I42*$C$43 -> 2353.078 | J43: =J42*$C$43 -> 2353.078 | K43: =K42*$C$43 -> 2353.078 | ... M43: =M42*$C$43 -> 2353.078 | N43: =ROUND(SUM(D43:M43),2) -> 23530.78
...
