Workbook
Name Fonte: 'MM CALC'!#REF!
Name Fonte: 'PLAN ORÇ'!$I1
Name nao: #REF!
Name nao: #REF!

Sheet PLAN ORÇ
A1: PREFEITURA MUNICIPAL DE MINAS NOVAS Praça Sebastião Leme do Prado, 15 - Centro CEP: 39.650-000 – Minas Novas (MG) Fone: (33) 3764-1147 – (33) 3764-2641 E-mail: pmmn@uai.com.br / conveniosminasnovas@yahoo.com.br
A3: PLANILHA ORÇAMENTÁRIA DE CUSTOS - MÃO DE OBRA
A5: ='MM CALC'!A4 -> PREFEITURA MUNICIPAL DE MINAS NOVAS | E5: ='MM CALC'!E4 -> DATA:28/07/2025
A6: ='MM CALC'!A5 -> OBRA: CONSTRUÇÃO DE ESCOLA MUNICIPAL DE PALMITAL
A7: ='MM CALC'!A6 -> LOCAL: POVOADO DE PALMITAL - DIST. BAIXA QUENTE - MINAS NOVAS/MG | E7: FORMA DE EXECUÇÃO: | I7: ISS 3,00%
A8: REGIÃO/MÊS DE REFERÊNCIA: SICOR ABRIL/2025, NÃO DESONERADO | E8: ( ) | F8: DIRETA
E9: ( X ) | F9: INDIRETA | G9: BDI = | H9: 0.2823
A10: -
A11: ITEM | B11: FONTE | C11: CÓDIGO | D11: DESCRIÇÃO | E11: UND. | F11: QUANT. | G11: UNITÁRIO S/ BDI | H11: UNITÁRIO C/ BDI | I11: TOTAL
A12: ='MM CALC'!A10 -> 1 | D12: ='MM CALC'!D10 -> SERVIÇOS PRELIMINARES | I12: =SUM(I15:I19) -> 59203.03
A13: ='MM CALC'!A11 -> 1.1 | B13: ='MM CALC'!B11 -> SICOR-MG | C13: ='MM CALC'!C11 -> RO-01091 | D13: ='MM CALC'!D11 -> Limpeza mecanizada da camada vegetal | E13: ='MM CALC'!E11 -> m² | F13: ='MM CALC'!F11 -> a cargo do municipio
A14: ='MM CALC'!A12 -> 1.2 | B14: ='MM CALC'!B12 -> SICOR-MG | C14: ='MM CALC'!C12 -> RO-00232 | D14: ='MM CALC'!D12 -> Regularização de superfície com motoniveladora | E14: ='MM CALC'!E12 -> m² | F14: ='MM CALC'!F12 -> a cargo do municipio
A15: ='MM CALC'!A13 -> 1.3 | B15: ='MM CALC'!B13 -> SICOR-MG | C15: ='MM CALC'!C13 -> ED-28427 | D15: ='MM CALC'!D13 -> FORNECIMENTO E COLOCAÇÃO DE PLACA DE OBRA EM CHAPA GALVANIZADA #26, ESP. 0,45MM, DIMENSÃO (3X1,5)M, PLOTADA COM ADESIVO VINÍLICO, AFIXADA COM REBITES 4,8X40MM, EM ESTRUTURA METÁLICA DE METALON 20X20MM, ESP. 1,25MM, INCLUSIVE SUPORTE EM EUCALIPTO AUTOCLAVADO PINTADO COM TINTA PVA DUAS (2) DEMÃOS | E15: ='MM CALC'!E13 -> und | F15: ='MM CALC'!F13 -> 1 | G15: 1130.27 | H15: =ROUND((1+$H$9)*G15,2) -> 1449.35 | I15: =+ROUND((H15*F15),2) -> 1449.35
A16: ='MM CALC'!A14 -> 1.4 | B16: ='MM CALC'!B14 -> SICOR-MG | C16: ='MM CALC'!C14 -> ED-50135 | D16: ='MM CALC'!D14 -> BARRACÃO DE OBRA, EM CHAPA DE COMPENSADO RESINADO, INCLUSIVE INSTALAÇÕES SANITÁRIAS E MOBILIÁRIO - PADRÃO DER-MG | E16: ='MM CALC'!E14 -> m² | F16: ='MM CALC'!F14 -> 32 | G16: 641.74 | H16: =ROUND((1+$H$9)*G16,2) -> 822.9 | I16: =+ROUND((H16*F16),2) -> 26332.8
A17: ='MM CALC'!A15 -> 1.5 | B17: ='MM CALC'!B15 -> SICOR-MG | C17: ='MM CALC'!C15 -> ED-17989 | D17: ='MM CALC'!D15 -> LOCAÇÃO DE OBRA COM GABARITO DE TÁBUAS CORRIDAS PONTALETADAS A CADA 2,00M, REAPROVEITAMENTO (2X), INCLUSIVE ACOMPANHAMENTO DE EQUIPE TOPOGRÁFICA PARA MARCAÇÃO DE PONTO TOPOGRÁFICO | E17: ='MM CALC'!E15 -> m | F17: ='MM CALC'!F15 -> 328.27 | G17: 60.94 | H17: =ROUND((1+$H$9)*G17,2) -> 78.14 | I17: =+ROUND((H17*F17),2) -> 25651.02
A18: ='MM CALC'!A16 -> 1.6 | B18: ='MM CALC'!B16 -> SICOR-MG | C18: ='MM CALC'!C16 -> ED-29823 | D18: ='MM CALC'!D16 -> TAPUME FIXO DE PROTEÇÃO PARA FECHAMENTO DE OBRA EM TELHA METÁLICA GALVANIZADA, TIPO TRAPEZOIDAL, ESP. 0,5MM, COM MÓDULO NA DIMENSÃO DE (300X220)CM, COM REAPROVEITAMENTO, EXCLUSIVE PINTURA ESMALTE, INCLUSIVE PONTALETE E FIXAÇÃO | E18: ='MM CALC'!E16 -> m² | F18: ='MM CALC'!F16 -> 28.4 | G18: 68.74 | H18: =ROUND((1+$H$9)*G18,2) -> 88.15 | I18: =+ROUND((H18*F18),2) -> 2503.46
A19: ='MM CALC'!A17 -> 1.7 | B19: ='MM CALC'!B17 -> SICOR-MG | C19: ='MM CALC'!C17 -> ED-20579 | D19: ='MM CALC'!D17 -> ENTRADA DE ENERGIA AÉREA, TIPO B1, PADRÃO CEMIG, CARGA INSTALADA DE ATÉ 10KW, BIFÁSICO, COM SAÍDA SUBTERRÂNEA, INCLUSIVE POSTE, CAIXA PARA MEDIDOR, DISJUNTOR, BARRAMENTO, ATERRAMENTO E ACESSÓRIOS | E19: ='MM CALC'!E17 -> und | F19: ='MM CALC'!F17 -> 1 | G19: 2547.3 | H19: =ROUND((1+$H$9)*G19,2) -> 3266.4 | I19: =+ROUND((H19*F19),2) -> 3266.4
A20: ='MM CALC'!A18 -> 2 | D20: ='MM CALC'!D18 -> TRABALHOS EM TERRA | I20: =SUM(I21:I23) -> 13739.1
A21: ='MM CALC'!A19 -> 2.1 | B21: ='MM CALC'!B19 -> SICOR-MG | C21: ='MM CALC'!C19 -> ED-51107 | D21: ='MM CALC'!D19 -> ESCAVAÇÃO MANUAL DE VALA COM PROFUNDIDADE MENOR OU IGUAL A 1,5M, INCLUSIVE DESCARGA LATERAL | E21: ='MM CALC'!E19 -> m³ | F21: ='MM CALC'!F19 -> 45.98 | G21: 71.42 | H21: =ROUND((1+$H$9)*G21,2) -> 91.58 | I21: =+ROUND((H21*F21),2) -> 4210.85
A22: ='MM CALC'!A20 -> 2.2 | B22: ='MM CALC'!B20 -> SICOR-MG | C22: ='MM CALC'!C20 -> ED-51093 | D22: ='MM CALC'!D20 -> APILOAMENTO MANUAL EM FUNDO DE VALA COM SOQUETE, EXCLUSIVE ESCAVAÇÃO | E22: ='MM CALC'!E20 -> m² | F22: ='MM CALC'!F20 -> 135.05 | G22: 24.08 | H22: =ROUND((1+$H$9)*G22,2) -> 30.88 | I22: =+ROUND((H22*F22),2) -> 4170.34
A23: ='MM CALC'!A21 -> 2.3 | B23: ='MM CALC'!B21 -> SICOR-MG | C23: ='MM CALC'!C21 -> ED-51096 | D23: ='MM CALC'!D21 -> COMPACTAÇÃO MECANIZADA DE ATERRO COM PLACA VIBRATÓRIA, INCLUSIVE ESPALHAMENTO MANUAL | E23: ='MM CALC'!E21 -> m³ | F23: ='MM CALC'!F21 -> 80.57 | G23: 51.86 | H23: =ROUND((1+$H$9)*G23,2) -> 66.5 | I23: =+ROUND((H23*F23),2) -> 5357.91
A24: ='MM CALC'!A22 -> 3 | D24: ='MM CALC'!D22 -> FUNDAÇÕES | I24: =SUM(I25:I30) -> 126486.72
A25: ='MM CALC'!A23 -> 3.1 | B25: ='MM CALC'!B23 -> SICOR-MG | C25: ='MM CALC'!C23 -> ED-29801 | D25: ='MM CALC'!D23 -> PERFURAÇÃO MANUAL DE ESTACA TIPO BROCA A TRADO, INCLUSIVE AFASTAMENTO, EXCLUSIVE ARMAÇÃO, CONCRETO ESTRUTURAL, TRANSPORTE E RETIRADA DO MATERIAL ESCAVADO | E25: ='MM CALC'!E23 -> m³ | F25: ='MM CALC'!F23 -> 6.78 | G25: 232.76 | H25: =ROUND((1+$H$9)*G25,2) -> 298.47 | I25: =+ROUND((H25*F25),2) -> 2023.63
A26: ='MM CALC'!A24 -> 3.2 | B26: ='MM CALC'!B24 -> SICOR-MG | C26: ='MM CALC'!C24 -> ED-49811 | D26: ='MM CALC'!D24 -> FÔRMA E DESFORMA PARA VIGA-CINTA/BLOCO COM COMPENSADO RESINADO, ESP. 12MM, REAPROVEITAMENTO (3X) (FUNDAÇÃO) | E26: ='MM CALC'!E24 -> m² | F26: ='MM CALC'!F24 -> 161.96 | G26: 70.94 | H26: =ROUND((1+$H$9)*G26,2) -> 90.97 | I26: =+ROUND((H26*F26),2) -> 14733.5
A27: ='MM CALC'!A25 -> 3.3 | B27: ='MM CALC'!B25 -> SICOR-MG | C27: ='MM CALC'!C25 -> ED-48298 | D27: ='MM CALC'!D25 -> CORTE, DOBRA E MONTAGEM DE AÇO CA-50/60, INCLUSIVE ESPAÇADOR | E27: ='MM CALC'!E25 -> kg | F27: ='MM CALC'!F25 -> 2757.6 | G27: 14.1 | H27: =ROUND((1+$H$9)*G27,2) -> 18.08 | I27: =+ROUND((H27*F27),2) -> 49857.41
A28: ='MM CALC'!A26 -> 3.4 | B28: ='MM CALC'!B26 -> SICOR-MG | C28: ='MM CALC'!C26 -> ED-49812 | D28: ='MM CALC'!D26 -> LASTRO DE CONCRETO MAGRO, INCLUSIVE TRANSPORTE, LANÇAMENTO E ADENSAMENTO | E28: ='MM CALC'!E26 -> m³ | F28: ='MM CALC'!F26 -> 6.21 | G28: 577.64 | H28: =ROUND((1+$H$9)*G28,2) -> 740.71 | I28: =+ROUND((H28*F28),2) -> 4599.81
A29: ='MM CALC'!A27 -> 3.5 | B29: ='MM CALC'!B27 -> SICOR-MG | C29: ='MM CALC'!C27 -> ED-49799 | D29: ='MM CALC'!D27 -> FORNECIMENTO DE CONCRETO ESTRUTURAL, USINADO, COM FCK 30MPA, INCLUSIVE LANÇAMENTO, ADENSAMENTO E ACABAMENTO (FUNDAÇÃO) | E29: ='MM CALC'!E27 -> m³ | F29: ='MM CALC'!F27 -> 45.98 | G29: 757.64 | H29: =ROUND((1+$H$9)*G29,2) -> 971.52 | I29: =+ROUND((H29*F29),2) -> 44670.49
A30: ='MM CALC'!A28 -> 3.6 | B30: ='MM CALC'!B28 -> SICOR-MG | C30: ='MM CALC'!C28 -> ED-50174 | D30: ='MM CALC'!D28 -> IMPERMEABILIZAÇÃO COM EMULSÃO ASFÁLTICA, DUAS (2) DEMÃOS | E30: ='MM CALC'!E28 -> m² | F30: ='MM CALC'!F28 -> 268.47 | G30: 30.8 | H30: =ROUND((1+$H$9)*G30,2) -> 39.49 | I30: =+ROUND((H30*F30),2) -> 10601.88
A31: ='MM CALC'!A29 -> 4 | D31: ='MM CALC'!D29 -> ESTRUTURA | I31: =SUM(I32:I40) -> 551139.86
A32: ='MM CALC'!A30 -> 4.1 | B32: ='MM CALC'!B30 -> SICOR-MG | C32: ='MM CALC'!C30 -> ED-16319 | D32: ='MM CALC'!D30 -> MURO DIVISÓRIO DE TIJOLO FURADO COM ALTURA 220CM, COM PILARETES DE 16X9CM A CADA 250CM, SAPATA DE CONCRETO ARMADO 30X20CM E PINGADEIRA, REBOCADO E PINTADO A LÁTEX, INCLUSIVE ESCAVAÇÃO, APILOAMENTO E LASTRO | E32: ='MM CALC'!E30 -> m | F32: ='MM CALC'!F30 -> 149.3 | G32: 654.86 | H32: =ROUND((1+$H$9)*G32,2) -> 839.73 | I32: =+ROUND((H32*F32),2) -> 125371.69
A33: ='MM CALC'!A31 -> 4.2 | B33: ='MM CALC'!B31 -> SICOR-MG | C33: ='MM CALC'!C31 -> ED-49647 | D33: ='MM CALC'!D31 -> FÔRMA E DESFORMA DE COMPENSADO PLASTIFICADO, ESP. 12MM, REAPROVEITAMENTO (5X), EXCLUSIVE ESCORAMENTO | E33: ='MM CALC'!E31 -> m² | F33: ='MM CALC'!F31 -> 727.43 | G33: 56.34 | H33: =ROUND((1+$H$9)*G33,2) -> 72.24 | I33: =+ROUND((H33*F33),2) -> 52549.54
A34: ='MM CALC'!A32 -> 4.3 | B34: ='MM CALC'!B32 -> SICOR-MG | C34: ='MM CALC'!C32 -> ED-48298 | D34: ='MM CALC'!D32 -> CORTE, DOBRA E MONTAGEM DE AÇO CA-50/60, INCLUSIVE ESPAÇADOR | E34: ='MM CALC'!E32 -> kg | F34: ='MM CALC'!F32 -> 3683.55 | G34: 14.1 | H34: =ROUND((1+$H$9)*G34,2) -> 18.08 | I34: =+ROUND((H34*F34),2) -> 66598.58
A35: ='MM CALC'!A33 -> 4.4 | B35: ='MM CALC'!B33 -> SICOR-MG | C35: ='MM CALC'!C33 -> ED-49638 | D35: ='MM CALC'!D33 -> FORNECIMENTO DE CONCRETO ESTRUTURAL, USINADO BOMBEADO, COM FCK 25MPA, INCLUSIVE LANÇAMENTO, ADENSAMENTO E ACABAMENTO | E35: ='MM CALC'!E33 -> m³ | F35: ='MM CALC'!F33 -> 56.67 | G35: 752.59 | H35: =ROUND((1+$H$9)*G35,2) -> 965.05 | I35: =+ROUND((H35*F35),2) -> 54689.38
A36: ='MM CALC'!A34 -> 4.5 | B36: ='MM CALC'!B34 -> SICOR-MG | C36: ='MM CALC'!C34 -> ED-50253 | D36: ='MM CALC'!D34 -> LAJE PRÉ-MOLDADA UNIDIRECIONAL COM ENCHIMENTO EM POLIESTIRENO EXPANDIDO (EPS), CAPEAMENTO DE 4CM, SOBRECARGA DE 100KG/M2, ALTURA TOTAL DE 11CM E VÃO LIVRE MÁXIMO DE 4M, INCLUSIVE CONCRETO ESTRUTURAL, USINADO BOMBEADO COM FCK DE 20MPA, EXCLUSIVE TELA ARMADA E CIMBRAMENTO | E36: ='MM CALC'!E34 -> m² | F36: ='MM CALC'!F34 -> 767.07 | G36: 134.61 | H36: =ROUND((1+$H$9)*G36,2) -> 172.61 | I36: =+ROUND((H36*F36),2) -> 132403.95
A37: ='MM CALC'!A35 -> 4.6 | B37: ='MM CALC'!B35 -> SICOR-MG | C37: ='MM CALC'!C35 -> ED-29563 | D37: ='MM CALC'!D35 -> ARMADURA DE TELA DE AÇO CA-60, SOLDADA TIPO Q-61, DIÂMETRO Ø3,4MM, TRAMA COM DIMENSÃO (150X150)MM, INCLUSIVE ESPAÇADOR, EXCLUSIVE CONCRETO | E37: ='MM CALC'!E35 -> m² | F37: ='MM CALC'!F35 -> 843.77 | G37: 15.04 | H37: =ROUND((1+$H$9)*G37,2) -> 19.29 | I37: =+ROUND((H37*F37),2) -> 16276.32
A38: ='MM CALC'!A36 -> 4.7 | B38: ='MM CALC'!B36 -> SICOR-MG | C38: ='MM CALC'!C36 -> ED-19637 | D38: ='MM CALC'!D36 -> CIMBRAMENTO PARA LAJE PRÉ-MOLDADA COM ESCORAMENTO METÁLICO, TIPO "A", ALTURA DE (200 ATÉ 310)CM, INCLUSIVE DESCARGA, MONTAGEM, DESMONTAGEM E CARGA | E38: ='MM CALC'!E36 -> m2xmês | F38: ='MM CALC'!F36 -> 3068.28 | G38: 22.53 | H38: =ROUND((1+$H$9)*G38,2) -> 28.89 | I38: =+ROUND((H38*F38),2) -> 88642.61
A39: ='MM CALC'!A37 -> 4.8 | B39: ='MM CALC'!B37 -> SICOR-MG | C39: ='MM CALC'!C37 -> ED-9906 | D39: ='MM CALC'!D37 -> VERGA OU CONTRAVERGA EM CONCRETO ESTRUTURAL PARA VÃOS ACIMA DE 150CM, PREPARADO EM OBRA COM BETONEIRA, CONTROLE "A", COM FCK 20 MPA, MOLDADA IN LOCO, INCLUSIVE ARMAÇÃO | E39: ='MM CALC'!E37 -> m³ | F39: ='MM CALC'!F37 -> 0.54 | G39: 3555.62 | H39: =ROUND((1+$H$9)*G39,2) -> 4559.37 | I39: =+ROUND((H39*F39),2) -> 2462.06
A40: ='MM CALC'!A38 -> 4.9 | B40: ='MM CALC'!B38 -> SICOR-MG | C40: ='MM CALC'!C38 -> ED-9903 | D40: ='MM CALC'!D38 -> VERGA OU CONTRAVERGA EM CONCRETO ESTRUTURAL PARA VÃOS DE ATÉ 150CM, PREPARADO EM OBRA COM BETONEIRA, CONTROLE "A", COM FCK 20 MPA, MOLDADA IN LOCO, INCLUSIVE ARMAÇÃO | E40: ='MM CALC'!E38 -> m³ | F40: ='MM CALC'!F38 -> 2.86 | G40: 3311.83 | H40: =ROUND((1+$H$9)*G40,2) -> 4246.76 | I40: =+ROUND((H40*F40),2) -> 12145.73
A41: ='MM CALC'!A39 -> 5 | D41: ='MM CALC'!D39 -> ALVENARIA | I41: =SUM(I42:I43) -> 83646.25
A42: ='MM CALC'!A40 -> 5.1 | B42: ='MM CALC'!B40 -> SICOR-MG | C42: ='MM CALC'!C40 -> ED-48232 | D42: ='MM CALC'!D40 -> ALVENARIA DE VEDAÇÃO COM TIJOLO CERÂMICO FURADO, ESP. 14CM, PARA REVESTIMENTO, INCLUSIVE ARGAMASSA PARA ASSENTAMENTO | E42: ='MM CALC'!E40 -> m² | F42: ='MM CALC'!F40 -> 946.62 | G42: 68 | H42: =ROUND((1+$H$9)*G42,2) -> 87.2 | I42: =+ROUND((H42*F42),2) -> 82545.26
A43: ='MM CALC'!A41 -> 5.2 | B43: ='MM CALC'!B41 -> SICOR-MG | C43: ='MM CALC'!C41 -> ED-48231 | D43: ='MM CALC'!D41 -> ALVENARIA DE VEDAÇÃO COM TIJOLO CERÂMICO FURADO, ESP. 9CM, PARA REVESTIMENTO, INCLUSIVE ARGAMASSA PARA ASSENTAMENTO | E43: ='MM CALC'!E41 -> m² | F43: ='MM CALC'!F41 -> 15.3 | G43: 56.12 | H43: =ROUND((1+$H$9)*G43,2) -> 71.96 | I43: =+ROUND((H43*F43),2) -> 1100.99
A44: ='MM CALC'!A42 -> 6 | D44: ='MM CALC'!D42 -> COBERTURA E FORRO | I44: =SUM(I45:I49) -> 370890.44
A45: ='MM CALC'!A43 -> 6.1 | B45: ='MM CALC'!B43 -> SICOR-MG | C45: ='MM CALC'!C43 -> ED-48407 | D45: ='MM CALC'!D43 -> ENGRADAMENTO EM MADEIRA PARAJU OU EQUIVALENTE, PARA TELHAS CERÂMICAS OU DE CONCRETO, EXCLUSIVE TELHAS | E45: ='MM CALC'!E43 -> m² | F45: ='MM CALC'!F43 -> 1154.36 | G45: 104.29 | H45: =ROUND((1+$H$9)*G45,2) -> 133.73 | I45: =+ROUND((H45*F45),2) -> 154372.56
A46: ='MM CALC'!A44 -> 6.2 | B46: ='MM CALC'!B44 -> SICOR-MG | C46: ='MM CALC'!C44 -> ED-48420 | D46: ='MM CALC'!D44 -> COBERTURA EM TELHA CERÂMICA, TIPO PLAN, INCLUSIVE FIXAÇÃO, EXCLUSIVE ENGRADAMENTO E MANTA ISOLANTE/ TÉRMICA | E46: ='MM CALC'!E44 -> m² | F46: ='MM CALC'!F44 -> 1292.88 | G46: 104.48 | H46: =ROUND((1+$H$9)*G46,2) -> 133.97 | I46: =+ROUND((H46*F46),2) -> 173207.13
A47: ='MM CALC'!A45 -> 6.3 | B47: ='MM CALC'!B45 -> SICOR-MG | C47: ='MM CALC'!C45 -> ED-48400 | D47: ='MM CALC'!D45 -> CUMEEIRA PARA TELHA CERÂMICA, INCLUSIVE EMBOÇAMENTO COM ARGAMASSA, TRAÇO 1:2:9 (CIMENTO, CAL E AREIA), COM PREPARO MECANIZADO | E47: ='MM CALC'!E45 -> m | F47: ='MM CALC'!F45 -> 9.5 | G47: 43.6 | H47: =ROUND((1+$H$9)*G47,2) -> 55.91 | I47: =+ROUND((H47*F47),2) -> 531.15
A48: ='MM CALC'!A46 -> 6.4 | B48: ='MM CALC'!B46 -> SICOR-MG | C48: ='MM CALC'!C46 -> ED-50663 | D48: ='MM CALC'!D46 -> CALHA EM CHAPA GALVANIZADA, ESP. 0,5MM (GSG-26), COM DESENVOLVIMENTO DE 50CM, INCLUSIVE IÇAMENTO MANUAL VERTICAL | E48: ='MM CALC'!E46 -> m | F48: ='MM CALC'!F46 -> 336.4 | G48: 58.2 | H48: =ROUND((1+$H$9)*G48,2) -> 74.63 | I48: =+ROUND((H48*F48),2) -> 25105.53
A49: ='MM CALC'!A47 -> 6.5 | B49: ='MM CALC'!B47 -> SICOR-MG | C49: ='MM CALC'!C47 -> ED-50669 | D49: ='MM CALC'!D47 -> CONDUTOR CIRCULAR DE ÁGUA PLUVIAL PARA DO TELHADO EM TUBO DE PVC, DIÂMETRO DE 75MM, INCLUSIVE CONEXÕES E SUPORTES | E49: ='MM CALC'!E47 -> m | F49: ='MM CALC'!F47 -> 151.8 | G49: 90.8 | H49: =ROUND((1+$H$9)*G49,2) -> 116.43 | I49: =+ROUND((H49*F49),2) -> 17674.07
A50: ='MM CALC'!A48 -> 7 | D50: ='MM CALC'!D48 -> INSTALAÇÕES HIDROSSANITÁRIAS | I50: =SUM(I51:I67) -> 78633.27
A51: ='MM CALC'!A49 -> 7.1 | B51: ='MM CALC'!B49 -> SICOR-MG | C51: ='MM CALC'!C49 -> ED-50221 | D51: ='MM CALC'!D49 -> PONTO DE EMBUTIR PARA ÁGUA FRIA EM TUBO DE PVC RÍGIDO SOLDÁVEL, DN 20MM (1/2"), EMBUTIDO NA ALVENARIA COM DISTÂNCIA DE ATÉ CINCO (5) METROS DA TOMADA DE ÁGUA, INCLUSIVE CONEXÕES E FIXAÇÃO DO TUBO COM ENCHIMENTO DO RASGO NA ALVENARIA/CONCRETO COM ARGAMASSA | E51: ='MM CALC'!E49 -> und | F51: ='MM CALC'!F49 -> 30 | G51: 137.85 | H51: =ROUND((1+$H$9)*G51,2) -> 176.77 | I51: =+ROUND((H51*F51),2) -> 5303.1
A52: ='MM CALC'!A50 -> 7.2 | B52: ='MM CALC'!B50 -> SICOR-MG | C52: ='MM CALC'!C50 -> ED-50223 | D52: ='MM CALC'!D50 -> PONTO DE EMBUTIR PARA ESGOTO EM TUBO PVC RÍGIDO, PB - SÉRIE NORMAL, DN 40MM (1.1/2"), EMBUTIDO NA ALVENARIA/PISO, COM ALTURA (SAÍDA) DE 50CM DO PISO, COM DISTÂNCIA DE ATÉ CINCO (5) METROS DO RAMAL DE ESGOTO, EXCLUSIVE ESCAVAÇÃO, INCLUSIVE CONEXÕES E FIXAÇÃO DO TUBO COM ENCHIMENTO DO RASGO NA ALVENARIA/CONCRETO COM ARGAMASSA | E52: ='MM CALC'!E50 -> und | F52: ='MM CALC'!F50 -> 20 | G52: 166.6 | H52: =ROUND((1+$H$9)*G52,2) -> 213.63 | I52: =+ROUND((H52*F52),2) -> 4272.6
A53: ='MM CALC'!A51 -> 7.3 | B53: ='MM CALC'!B51 -> SICOR-MG | C53: ='MM CALC'!C51 -> ED-50225 | D53: ='MM CALC'!D51 -> PONTO DE EMBUTIR PARA ESGOTO EM TUBO PVC RÍGIDO, PBV - SÉRIE NORMAL, DN 100MM (4"), EMBUTIDO EM PISO COM DISTÂNCIA DE ATÉ CINCO (5) METROS DO RAMAL DE ESGOTO, INCLUSIVE CONEXÕES E FIXAÇÃO DO TUBO COM ENCHIMENTO DO RASGO NO CONCRETO COM ARGAMASSA | E53: ='MM CALC'!E51 -> und | F53: ='MM CALC'!F51 -> 16 | G53: 306.1 | H53: =ROUND((1+$H$9)*G53,2) -> 392.51 | I53: =+ROUND((H53*F53),2) -> 6280.16
A54: ='MM CALC'!A52 -> 7.4 | B54: ='MM CALC'!B52 -> SICOR-MG | C54: ='MM CALC'!C52 -> ED-50105 | D54: ='MM CALC'!D52 -> FORNECIMENTO E ASSENTAMENTO DE TUBO PVC RÍGIDO, COLETOR DE ESGOTO LISO (JEI), DN 100 MM (4"), INCLUSIVE CONEXÕES | E54: ='MM CALC'!E52 -> m | F54: ='MM CALC'!F52 -> 70 | G54: 33.64 | H54: =ROUND((1+$H$9)*G54,2) -> 43.14 | I54: =+ROUND((H54*F54),2) -> 3019.8
A55: ='MM CALC'!A53 -> 7.5 | B55: ='MM CALC'!B53 -> SICOR-MG | C55: ='MM CALC'!C53 -> ED-50106 | D55: ='MM CALC'!D53 -> FORNECIMENTO E ASSENTAMENTO DE TUBO PVC RÍGIDO, COLETOR DE ESGOTO LISO (JEI), DN 150 MM (6"), INCLUSIVE CONEXÕES | E55: ='MM CALC'!E53 -> m | F55: ='MM CALC'!F53 -> 24 | G55: 68.11 | H55: =ROUND((1+$H$9)*G55,2) -> 87.34 | I55: =+ROUND((H55*F55),2) -> 2096.16
A56: ='MM CALC'!A54 -> 7.6 | B56: ='MM CALC'!B54 -> SICOR-MG | C56: ='MM CALC'!C54 -> ED-50018 | D56: ='MM CALC'!D54 -> FORNECIMENTO E ASSENTAMENTO DE TUBO PVC RÍGIDO SOLDÁVEL, ÁGUA FRIA, DN 20 MM (1/2"), INCLUSIVE CONEXÕES | E56: ='MM CALC'!E54 -> m | F56: ='MM CALC'!F54 -> 75 | G56: 21.14 | H56: =ROUND((1+$H$9)*G56,2) -> 27.11 | I56: =+ROUND((H56*F56),2) -> 2033.25
A57: ='MM CALC'!A55 -> 7.7 | B57: ='MM CALC'!B55 -> SICOR-MG | C57: ='MM CALC'!C55 -> ED-50019 | D57: ='MM CALC'!D55 -> FORNECIMENTO E ASSENTAMENTO DE TUBO PVC RÍGIDO SOLDÁVEL, ÁGUA FRIA, DN 25 MM (1/2"), INCLUSIVE CONEXÕES | E57: ='MM CALC'!E55 -> m | F57: ='MM CALC'!F55 -> 75 | G57: 23.28 | H57: =ROUND((1+$H$9)*G57,2) -> 29.85 | I57: =+ROUND((H57*F57),2) -> 2238.75
A58: ='MM CALC'!A56 -> 7.8 | B58: ='MM CALC'!B56 -> SICOR-MG | C58: ='MM CALC'!C56 -> ED-50021 | D58: ='MM CALC'!D56 -> FORNECIMENTO E ASSENTAMENTO DE TUBO PVC RÍGIDO SOLDÁVEL, ÁGUA FRIA, DN 40 MM (1.1/4"), INCLUSIVE CONEXÕES | E58: ='MM CALC'!E56 -> m | F58: ='MM CALC'!F56 -> 35 | G58: 37.44 | H58: =ROUND((1+$H$9)*G58,2) -> 48.01 | I58: =+ROUND((H58*F58),2) -> 1680.35
A59: ='MM CALC'!A57 -> 7.9 | B59: ='MM CALC'!B57 -> SICOR-MG | C59: ='MM CALC'!C57 -> ED-49879 | D59: ='MM CALC'!D57 -> CAIXA DE ESGOTO DE INSPEÇÃO/PASSAGEM EM ALVENARIA ( 50X50X60CM), REVESTIMENTO EM ARGAMASSA COM ADITIVO IMPERMEABILIZANTE, COM TAMPA DE CONCRETO, INCLUSIVE ESCAVAÇÃO, REATERRO E TRANSPORTE COM RETIRADA DO MATERIAL ESCAVADO (EM CAÇAMBA) | E59: ='MM CALC'!E57 -> und | F59: ='MM CALC'!F57 -> 7 | G59: 473.55 | H59: =ROUND((1+$H$9)*G59,2) -> 607.23 | I59: =+ROUND((H59*F59),2) -> 4250.61
A60: ='MM CALC'!A58 -> 7.10 | B60: ='MM CALC'!B58 -> SICOR-MG | C60: ='MM CALC'!C58 -> ED-49909 | D60: ='MM CALC'!D58 -> CAIXA DE DRENAGEM DE INSPEÇÃO/PASSAGEM EM ALVENARIA ( 40X40X60CM), REVESTIMENTO EM ARGAMASSA COM ADITIVO IMPERMEABILIZANTE, COM TAMPA EM GRELHA, INCLUSIVE ESCAVAÇÃO, REATERRO E TRANSPORTE COM RETIRADA DO MATERIAL ESCAVADO (EM CAÇAMBA) | E60: ='MM CALC'!E58 -> und | F60: ='MM CALC'!F58 -> 10 | G60: 495.47 | H60: =ROUND((1+$H$9)*G60,2) -> 635.34 | I60: =+ROUND((H60*F60),2) -> 6353.4
A61: ='MM CALC'!A59 -> 7.11 | B61: ='MM CALC'!B59 -> SICOR-MG | C61: ='MM CALC'!C59 -> ED-49935 | D61: ='MM CALC'!D59 -> CAIXA D'ÁGUA DE POLIETILENO, CAPACIDADE DE 500L, INCLUSIVE TAMPA, TORNEIRA DE BOIA, EXTRAVASOR, TUBO DE LIMPEZA E ACESSÓRIOS, EXCLUSIVE TUBULAÇÃO DE ENTRADA/SAÍDA DE ÁGUA | E61: ='MM CALC'!E59 -> und | F61: ='MM CALC'!F59 -> 6 | G61: 982.09 | H61: =ROUND((1+$H$9)*G61,2) -> 1259.33 | I61: =+ROUND((H61*F61),2) -> 7555.98
A62: ='MM CALC'!A60 -> 7.12 | B62: ='MM CALC'!B60 -> SINAPI | C62: ='MM CALC'!C60 -> 102623 | D62: ='MM CALC'!D60 -> CAIXA D´ÁGUA EM POLIETILENO, 1000 LITROS (INCLUSOS TUBOS, CONEXÕES E TORNEIRA DE BÓIA) - FORNECIMENTO E INSTALAÇÃO. AF_06/2021 | E62: ='MM CALC'!E60 -> und | F62: ='MM CALC'!F60 -> 1 | G62: 806.79 | H62: =ROUND((1+$H$9)*G62,2) -> 1034.55 | I62: =+ROUND((H62*F62),2) -> 1034.55
... A67: ='MM CALC'!A65 -> 7.17 | B67: ='MM CALC'!B65 -> SICOR-MG | C67: ='MM CALC'!C65 -> ED-48554 | D67: ='MM CALC'!D65 -> CANALETA PARA DRENAGEM, PRÉ-MOLDADA, TIPO MEIA CANA, DIÂMETRO 50CM, EXCLUSIVE TAMPA, INCLUSIVE ASSENTAMENTO EM ARGAMASSA, TRAÇO 1:3 (CIMENTO E AREIA), ESCAVAÇÃO, TRANSPORTE E RETIRADA DO MATERIAL ESCAVADO (EM CAÇAMBA) | E67: ='MM CALC'!E65 -> m | F67: ='MM CALC'!F65 -> 63 | G67: 171.76 | H67: =ROUND((1+$H$9)*G67,2) -> 220.25 | I67: =+ROUND((H67*F67),2) -> 13875.75
A68: ='MM CALC'!A66 -> 8 | D68: ='MM CALC'!D66 -> INSTALAÇÃO ELÉTRICA | I68: =SUM(I69:I101) -> 48925.97
A69: ='MM CALC'!A67 -> 8.1 | B69: ='MM CALC'!B67 -> SICOR-MG | C69: ='MM CALC'!C67 -> ED-50227 | D69: ='MM CALC'!D67 -> PONTO DE EMBUTIR PARA UM (1) INTERRUPTOR SIMPLES (10A- 250V), COM PLACA 4"X2" DE UM (1) POSTO, COM ELETRODUTO FLEXÍVEL CORRUGADO, ANTI-CHAMA, DN 25MM (3/4"), EMBUTIDO NA ALVENARIA E CABO DE COBRE FLEXÍVEL, CLASSE 5, ISOLAMENTO TIPO LSHF/ATOX, NÃO HALOGENADO, SEÇÃO 1, 5MM2 (70°C-450/750V), COM DISTÂNCIA DE ATÉ DEZ (10) METROS DO PONTO DE DERIVAÇÃO, INCLUSIVE CAIXA DE LIGAÇÃO, SUPORTE E FIXAÇÃO DO ELETRODUTO COM ENCHIMENTO DO RASGO NA ALVENARIA/CONCRETO COM ARGAMASSA | E69: ='MM CALC'!E67 -> und | F69: ='MM CALC'!F67 -> 89 | G69: 30.8 | H69: =ROUND((1+$H$9)*G69,2) -> 39.49 | I69: =+ROUND((H69*F69),2) -> 3514.61
A70: ='MM CALC'!A68 -> 8.2 | B70: ='MM CALC'!B68 -> SICOR-MG | C70: ='MM CALC'!C68 -> ED-50228 | D70: ='MM CALC'!D68 -> PONTO DE EMBUTIR PARA UMA (1) LUMINÁRIA,COM ELETRODUTO DE PVC RÍGIDO ROSCÁVEL, DN 20MM (3/4"), EMBUTIDO NA LAJE E CABO DE COBRE FLEXÍVEL, CLASSE 5, ISOLAMENTO TIPO LSHF/ ATOX, NÃO HALOGENADO, SEÇÃO 1,5MM2 (70°C-450/750V), COM DISTÂNCIA DE ATÉ CINCO (5) METROS DO PONTO DE DERIVAÇÃO, EXCLUSIVE LUMINÁRIA, INCLUSIVE CAIXA DE LIGAÇÃO OCTOGONAL, SUPORTE E FIXAÇÃO DO ELETRODUTO | E70: ='MM CALC'!E68 -> und | F70: ='MM CALC'!F68 -> 95 | G70: 30.8 | H70: =ROUND((1+$H$9)*G70,2) -> 39.49 | I70: =+ROUND((H70*F70),2) -> 3751.55
A71: ='MM CALC'!A69 -> 8.3 | B71: ='MM CALC'!B69 -> SICOR-MG | C71: ='MM CALC'!C69 -> ED-50232 | D71: ='MM CALC'!D69 -> PONTO DE EMBUTIR PARA UMA (1) TOMADA PADRÃO, TRÊS (3) POLOS (2P+T/10A-250V), COM PLACA 4"X2" DE UM (1) POSTO, COM ELETRODUTO FLEXÍVEL CORRUGADO, ANTI-CHAMA, DN 25MM (3/ 4"), EMBUTIDO NA ALVENARIA E CABO DE COBRE FLEXÍVEL, CLASSE 5, ISOLAMENTO TIPO LSHF/ATOX, NÃO HALOGENADO, SEÇÃO 2,5MM2 (70°C-450/750V), COM DISTÂNCIA DE ATÉ DEZ (10) METROS DO PONTO DE DERIVAÇÃO, INCLUSIVE CAIXA DE LIGAÇÃO, SUPORTE E FIXAÇÃO DO ELETRODUTO COM ENCHIMENTO DO RASGO NA ALVENARIA/CONCRETO COM ARGAMASSA | E71: ='MM CALC'!E69 -> und | F71: ='MM CALC'!F69 -> 101 | G71: 30.8 | H71: =ROUND((1+$H$9)*G71,2) -> 39.49 | I71: =+ROUND((H71*F71),2) -> 3988.49
A72: ='MM CALC'!A70 -> 8.4 | B72: ='MM CALC'!B70 -> SICOR-MG | C72: ='MM CALC'!C70 -> ED-13338 | D72: ='MM CALC'!D70 -> LUMINÁRIA COMERCIAL CHANFRADA DE SOBREPOR COMPLETA, PARA DUAS (2) LÂMPADAS TUBULARES LED 2X18W-ØT8, TEMPERATURA DA COR 6500K, FORNECIMENTO E INSTALAÇÃO, INCLUSIVE BASE E LÂMPADAS | E72: ='MM CALC'!E70 -> und | F72: ='MM CALC'!F70 -> 95 | G72: 30.8 | H72: =ROUND((1+$H$9)*G72,2) -> 39.49 | I72: =+ROUND((H72*F72),2) -> 3751.55
A73: ='MM CALC'!A71 -> 8.5 | B73: ='MM CALC'!B71 -> SICOR-MG | C73: ='MM CALC'!C71 -> ED-14181 | D73: ='MM CALC'!D71 -> QUADRO DE DISTRIBUIÇÃO DE EMBUTIR EM PVC, PARA 12 DISJUNTORES DIN, INCLUSIVE BARRAMENTOS NEUTRO/TERRA, EXCLUSIVE BARRAMENTO DE FASE | E73: ='MM CALC'!E71 -> und | F73: ='MM CALC'!F71 -> 4 | G73: 30.8 | H73: =ROUND((1+$H$9)*G73,2) -> 39.49 | I73: =+ROUND((H73*F73),2) -> 157.96
A74: ='MM CALC'!A72 -> 8.6 | B74: ='MM CALC'!B72 -> SICOR-MG | C74: ='MM CALC'!C72 -> ED-49402 | D74: ='MM CALC'!D72 -> LUMINÁRIA ARANDELA TIPO TARTARUGA, PARA UMA (1) LÂMPADA BASE E-27, POTÊNCIA MÁXIMA 60W, FORNECIMENTO E INSTALAÇÃO, EXCLUSIVE BASE E LÂMPADA | E74: ='MM CALC'!E72 -> und | F74: ='MM CALC'!F72 -> 10 | G74: 36.93 | H74: =ROUND((1+$H$9)*G74,2) -> 47.36 | I74: =+ROUND((H74*F74),2) -> 473.6
A75: ='MM CALC'!A73 -> 8.7 | B75: ='MM CALC'!B73 -> SICOR-MG | C75: ='MM CALC'!C73 -> ED-20580 | D75: ='MM CALC'!D73 -> ENTRADA DE ENERGIA AÉREA, TIPO B2, PADRÃO CEMIG, CARGA INSTALADA DE 10,1KW ATÉ 15KW, BIFÁSICO, COM SAÍDA SUBTERRÂNEA, INCLUSIVE POSTE, CAIXA PARA MEDIDOR, DISJUNTOR, BARRAMENTO, ATERRAMENTO E ACESSÓRIOS | E75: ='MM CALC'!E73 -> und | F75: ='MM CALC'!F73 -> 1 | G75: 2627.48 | H75: =ROUND((1+$H$9)*G75,2) -> 3369.22 | I75: =+ROUND((H75*F75),2) -> 3369.22
A76: ='MM CALC'!A74 -> 8.8 | B76: ='MM CALC'!B74 -> SICOR-MG | C76: ='MM CALC'!C74 -> ED-15752 | D76: ='MM CALC'!D74 -> CONJUNTO DE UMA (1) TOMADA DE DADOS (CONECTOR RJ45 CAT .6E), COM PLACA 4"X2" DE UM (1) POSTO, INCLUSIVE FORNECIMENTO, INSTALAÇÃO, SUPORTE, MÓDULO E PLACA | E76: ='MM CALC'!E74 -> und | F76: ='MM CALC'!F74 -> 25 | G76: 78.98 | H76: =ROUND((1+$H$9)*G76,2) -> 101.28 | I76: =+ROUND((H76*F76),2) -> 2532
A77: ='MM CALC'!A75 -> 8.9 | B77: ='MM CALC'!B75 -> SICOR-MG | C77: ='MM CALC'!C75 -> ED-9194 | D77: ='MM CALC'!D75 -> CABO UTP COM QUATRO (4) PARES, CATEGORIA 6, CLASSIFICAÇÃO LSZH, COM ISOLAMENTO NÃO HALOGENADO E ANTICHAMA, EXCLUSIVE CONECTOR/PLUG MACHO RJ45 E CRIMPAGEM | E77: ='MM CALC'!E75 -> m | F77: ='MM CALC'!F75 -> 500 | G77: 5.75 | H77: =ROUND((1+$H$9)*G77,2) -> 7.37 | I77: =+ROUND((H77*F77),2) -> 3685
A78: ='MM CALC'!A76 -> 8.10 | B78: ='MM CALC'!B76 -> SICOR-MG | C78: ='MM CALC'!C76 -> ED-34460 | D78: ='MM CALC'!D76 -> DISJUNTOR MONOPOLAR TIPO DIN, CORRENTE NOMINAL DE 10A, FORNECIMENTO E INSTALAÇÃO, INCLUSIVE TERMINAL ILHÓS | E78: ='MM CALC'!E76 -> und | F78: ='MM CALC'!F76 -> 2 | G78: 17.78 | H78: =ROUND((1+$H$9)*G78,2) -> 22.8 | I78: =+ROUND((H78*F78),2) -> 45.6
A79: ='MM CALC'!A77 -> 8.11 | B79: ='MM CALC'!B77 -> SICOR-MG | C79: ='MM CALC'!C77 -> ED-34461 | D79: ='MM CALC'!D77 -> DISJUNTOR MONOPOLAR TIPO DIN, CORRENTE NOMINAL DE 16A, FORNECIMENTO E INSTALAÇÃO, INCLUSIVE TERMINAL ILHÓS | E79: ='MM CALC'!E77 -> und | F79: ='MM CALC'!F77 -> 2 | G79: 17.89 | H79: =ROUND((1+$H$9)*G79,2) -> 22.94 | I79: =+ROUND((H79*F79),2) -> 45.88
A80: ='MM CALC'!A78 -> 8.12 | B80: ='MM CALC'!B78 -> SICOR-MG | C80: ='MM CALC'!C78 -> ED-34462 | D80: ='MM CALC'!D78 -> DISJUNTOR MONOPOLAR TIPO DIN, CORRENTE NOMINAL DE 20A, FORNECIMENTO E INSTALAÇÃO, INCLUSIVE TERMINAL ILHÓS | E80: ='MM CALC'!E78 -> und | F80: ='MM CALC'!F78 -> 2 | G80: 17.52 | H80: =ROUND((1+$H$9)*G80,2) -> 22.47 | I80: =+ROUND((H80*F80),2) -> 44.94
... A101: ='MM CALC'!A99 -> 8.33 | B101: ='MM CALC'!B99 -> SICOR-MG | C101: ='MM CALC'!C99 -> ED-49312 | D101: ='MM CALC'!D99 -> ELETRODUTO DE PVC RÍGIDO ROSCÁVEL, DN 50 MM (2"), INCLUSIVE CONEXÕES, SUPORTES E FIXAÇÃO | E101: ='MM CALC'!E99 -> m | F101: ='MM CALC'!F99 -> 200 | G101: 39.52 | H101: =ROUND((1+$H$9)*G101,2) -> 50.68 | I101: =+ROUND((H101*F101),2) -> 10136
A102: ='MM CALC'!A105 -> 9 | D102: ='MM CALC'!D105 -> LOUÇAS E METAIS | I102: =SUM(I103:I126) -> 29570.38
A103: ='MM CALC'!A106 -> 9.1 | B103: ='MM CALC'!B106 -> SICOR-MG | C103: ='MM CALC'!C106 -> ED-50277 | D103: ='MM CALC'!D106 -> CUBA EM AÇO INOXIDÁVEL DE EMBUTIR, AISI 304, APLICAÇÃO PARA PIA (465X330X115)MM, NÚMERO 1, ASSENTAMENTO EM BANCADA, INCLUSIVE VÁLVULA DE ESCOAMENTO DE METAL COM ACABAMENTO CROMADO, SIFÃO DE METAL TIPO COPO COM ACABAMENTO CROMADO | E103: ='MM CALC'!E106 -> und | F103: ='MM CALC'!F106 -> 3 | G103: 415.56 | H103: =ROUND((1+$H$9)*G103,2) -> 532.87 | I103: =+ROUND((H103*F103),2) -> 1598.61
A104: ='MM CALC'!A107 -> 9.2 | B104: ='MM CALC'!B107 -> SICOR-MG | C104: ='MM CALC'!C107 -> ED-50278 | D104: ='MM CALC'!D107 -> CUBA EM AÇO INOXIDÁVEL DE EMBUTIR, AISI 304, APLICAÇÃO PARA PIA (560X330X115)MM, NÚMERO 2, ASSENTAMENTO EM BANCADA, INCLUSIVE VÁLVULA DE ESCOAMENTO DE METAL COM ACABAMENTO CROMADO, SIFÃO DE METAL TIPO COPO COM ACABAMENTO CROMADO | E104: ='MM CALC'!E107 -> und | F104: ='MM CALC'!F107 -> 1 | G104: 474.45 | H104: =ROUND((1+$H$9)*G104,2) -> 608.39 | I104: =+ROUND((H104*F104),2) -> 608.39
A105: ='MM CALC'!A108 -> 9.3 | B105: ='MM CALC'!B108 -> SICOR-MG | C105: ='MM CALC'!C108 -> ED-50279 | D105: ='MM CALC'!D108 -> CUBA DE LOUÇA BRANCA DE EMBUTIR, FORMATO OVAL, INCLUSIVE VÁLVULA DE ESCOAMENTO DE METAL COM ACABAMENTO CROMADO, SIFÃO DE METAL TIPO COPO COM ACABAMENTO CROMADO | E105: ='MM CALC'!E108 -> und | F105: ='MM CALC'!F108 -> 6 | G105: 445.35 | H105: =ROUND((1+$H$9)*G105,2) -> 571.07 | I105: =+ROUND((H105*F105),2) -> 3426.42
A106: ='MM CALC'!A109 -> 9.4 | B106: ='MM CALC'!B109 -> SICOR-MG | C106: ='MM CALC'!C109 -> ED-50290 | D106: ='MM CALC'!D109 -> TANQUE DE LOUÇA BRANCA COM COLUNA, CAPACIDADE 22 LITROS, INCLUSIVE ACESSÓRIOS DE FIXAÇÃO, VÁLVULA DE ESCOAMENTO DE METAL COM ACABAMENTO CROMADO, SIFÃO DE METAL TIPO COPO COM ACABAMENTO CROMADO E REJUNTAMENTO, EXCLUSIVE TORNEIRA | E106: ='MM CALC'!E109 -> und | F106: ='MM CALC'!F109 -> 1 | G106: 918.33 | H106: =ROUND((1+$H$9)*G106,2) -> 1177.57 | I106: =+ROUND((H106*F106),2) -> 1177.57
A107: ='MM CALC'!A110 -> 9.5 | B107: ='MM CALC'!B110 -> SICOR-MG | C107: ='MM CALC'!C110 -> ED-50282 | D107: ='MM CALC'!D110 -> LAVATÓRIO DE LOUÇA BRANCA COM COLUNA, TAMANHO MÉDIO, INCLUSIVE ACESSÓRIOS DE FIXAÇÃO, VÁLVULA DE ESCOAMENTO DE METAL COM ACABAMENTO CROMADO, SIFÃO DE METAL TIPO COPO COM ACABAMENTO CROMADO E REJUNTAMENTO, EXCLUSIVE TORNEIRA E ENGATE FLEXÍVEL | E107: ='MM CALC'!E110 -> und | F107: ='MM CALC'!F110 -> 4 | G107: 607.89 | H107: =ROUND((1+$H$9)*G107,2) -> 779.5 | I107: =+ROUND((H107*F107),2) -> 3118
A108: ='MM CALC'!A111 -> 9.6 | B108: ='MM CALC'!B111 -> SICOR-MG | C108: ='MM CALC'!C111 -> ED-50283 | D108: ='MM CALC'!D111 -> LAVATÓRIO DE LOUÇA BRANCA SEM COLUNA, TAMANHO MÉDIO, INCLUSIVE ACESSÓRIOS DE FIXAÇÃO, VÁLVULA DE ESCOAMENTO DE METAL COM ACABAMENTO CROMADO, SIFÃO DE METAL TIPO COPO COM ACABAMENTO CROMADO E REJUNTAMENTO, EXCLUSIVE TORNEIRA E ENGATE FLEXÍVE | E108: ='MM CALC'!E111 -> und | F108: ='MM CALC'!F111 -> 2 | G108: 519.75 | H108: =ROUND((1+$H$9)*G108,2) -> 666.48 | I108: =+ROUND((H108*F108),2) -> 1332.96
A109: ='MM CALC'!A112 -> 9.7 | B109: ='MM CALC'!B112 -> SICOR-MG | C109: ='MM CALC'!C112 -> ED-50330 | D109: ='MM CALC'!D112 -> TORNEIRA METÁLICA PARA LAVATÓRIO, ABERTURA 1/4 DE VOLTA, ACABAMENTO CROMADO, COM AREJADOR, APLICAÇÃO DE MESA , INCLUSIVE ENGATE FLEXÍVEL METÁLICO | E109: ='MM CALC'!E112 -> und | F109: ='MM CALC'!F112 -> 6 | G109: 107.81 | H109: =ROUND((1+$H$9)*G109,2) -> 138.24 | I109: =+ROUND((H109*F109),2) -> 829.44
A110: ='MM CALC'!A113 -> 9.8 | B110: ='MM CALC'!B113 -> SICOR-MG | C110: ='MM CALC'!C113 -> ED-50324 | D110: ='MM CALC'!D113 -> TORNEIRA METÁLICA PARA PIA, BICA MÓVEL, ABERTURA 1/4 DE VOLTA, ACABAMENTO CROMADO, COM AREJADOR, APLICAÇÃO DE MESA, INCLUSIVE ENGATE FLEXÍVEL METÁLICO | E110: ='MM CALC'!E113 -> und | F110: ='MM CALC'!F113 -> 4 | G110: 182.75 | H110: =ROUND((1+$H$9)*G110,2) -> 234.34 | I110: =+ROUND((H110*F110),2) -> 937.36
A111: ='MM CALC'!A114 -> 9.9 | B111: ='MM CALC'!B114 -> SICOR-MG | C111: ='MM CALC'!C114 -> ED-50323 | D111: ='MM CALC'!D114 -> TORNEIRA METÁLICA PARA IRRIGAÇÃO/JARDIM, ACABAMENTO CROMADO, APLICAÇÃO DE PAREDE | E111: ='MM CALC'!E114 -> und | F111: ='MM CALC'!F114 -> 10 | G111: 53.44 | H111: =ROUND((1+$H$9)*G111,2) -> 68.53 | I111: =+ROUND((H111*F111),2) -> 685.3
A112: ='MM CALC'!A115 -> 9.10 | B112: ='MM CALC'!B115 -> SICOR-MG | C112: ='MM CALC'!C115 -> ED-50331 | D112: ='MM CALC'!D115 -> TORNEIRA METÁLICA PARA TANQUE, ACABAMENTO CROMADO, BICO COM ROSCA | E112: ='MM CALC'!E115 -> und | F112: ='MM CALC'!F115 -> 1 | G112: 66.44 | H112: =ROUND((1+$H$9)*G112,2) -> 85.2 | I112: =+ROUND((H112*F112),2) -> 85.2
A113: ='MM CALC'!A116 -> 9.11 | B113: ='MM CALC'!B116 -> SICOR-MG | C113: ='MM CALC'!C116 -> ED-50297 | D113: ='MM CALC'!D116 -> BACIA SANITÁRIA (VASO) DE LOUÇA COM CAIXA ACOPLADA, COR BRANCA, INCLUSIVE ACESSÓRIOS DE FIXAÇÃO/VEDAÇÃO, ENGATE FLEXÍVEL METÁLICO E REJUNTAMENTO, EXCLUSIVE ASSENTO | E113: ='MM CALC'!E116 -> und | F113: ='MM CALC'!F116 -> 3 | G113: 568.38 | H113: =ROUND((1+$H$9)*G113,2) -> 728.83 | I113: =+ROUND((H113*F113),2) -> 2186.49
A114: ='MM CALC'!A117 -> 9.12 | B114: ='MM CALC'!B117 -> SICOR-MG | C114: ='MM CALC'!C117 -> ED-50298 | D114: ='MM CALC'!D117 -> BACIA SANITÁRIA (VASO) DE LOUÇA CONVENCIONAL, COR BRANCA, INCLUSIVE ACESSÓRIOS DE FIXAÇÃO/VEDAÇÃO, VÁLVULA DE DESCARGA METÁLICA COM ACIONAMENTO DUPLO, TUBO DE LIGAÇÃO DE LATÃO COM CANOPLA E REJUNTAMENTO, EXCLUSIVE ASSENTO | E114: ='MM CALC'!E117 -> und | F114: ='MM CALC'!F117 -> 4 | G114: 1042.49 | H114: =ROUND((1+$H$9)*G114,2) -> 1336.78 | I114: =+ROUND((H114*F114),2) -> 5347.12
... A126: ='MM CALC'!A129 -> 9.24 | B126: ='MM CALC'!B129 -> SICOR-MG | C126: ='MM CALC'!C129 -> ED-48164 | D126: ='MM CALC'!D129 -> BARRA DE APOIO EM AÇO INOX POLIDO RETA, DIÂMETRO DE 1.1/ 4", PARA ACESSIBILIDADE (PMR/PCR), COMPRIMENTO 70CM, INSTALADO EM PAREDE, INCLUSIVE ACESSÓRIOS PARA FIXAÇÃO | E126: ='MM CALC'!E129 -> und | F126: ='MM CALC'!F129 -> 2 | G126: 237.31 | H126: =ROUND((1+$H$9)*G126,2) -> 304.3 | I126: =+ROUND((H126*F126),2) -> 608.6
A127: ='MM CALC'!A130 -> 10 | D127: ='MM CALC'!D130 -> ESQUADRIAS DE MADEIRA | I127: =SUM(I128:I130) -> 57152.29
A128: ='MM CALC'!A131 -> 10.1 | B128: ='MM CALC'!B131 -> SINAPI | C128: ='MM CALC'!C131 -> 100693 | D128: ='MM CALC'!D131 -> KIT DE PORTA DE MADEIRA TIPO MEXICANA, MACIÇA (PESADA OU SUPERPESADA), PADRÃO MÉDIO, 80X210CM, ESPESSURA DE 3,5CM, ITENS INCLUSOS: DOBRADIÇAS, MONTAGEM E INSTALAÇÃO DE BATENTE, FECHADURA COM EXECUÇÃO DO FURO - FORNECIMENTO E INSTALAÇÃO. AF_12/2019 | E128: ='MM CALC'!E131 -> und | F128: ='MM CALC'!F131 -> 15 | G128: 2596.15 | H128: =ROUND((1+$H$9)*G128,2) -> 3329.04 | I128: =+ROUND((H128*F128),2) -> 49935.6
A129: ='MM CALC'!A132 -> 10.2 | B129: ='MM CALC'!B132 -> SINAPI | C129: ='MM CALC'!C132 -> 90825 | D129: ='MM CALC'!D132 -> PORTA DE MADEIRA, MACIÇA (PESADA OU SUPERPESADA), 90X210CM, ESPESSURA DE 3,5CM, INCLUSO DOBRADIÇAS - FORNECIMENTO E INSTALAÇÃO. AF_12/2019 | E129: ='MM CALC'!E132 -> und | F129: ='MM CALC'!F132 -> 4 | G129: 651.29 | H129: =ROUND((1+$H$9)*G129,2) -> 835.15 | I129: =+ROUND((H129*F129),2) -> 3340.6
A130: ='MM CALC'!A133 -> 10.3 | B130: ='MM CALC'!B133 -> SICOR-MG | C130: ='MM CALC'!C133 -> ED-49600 | D130: ='MM CALC'!D133 -> PORTA DE MADEIRA COMPLETA, DIMENSÃO (60X210)CM, TIPO DE ABRIR, UMA (1) FOLHA, ACABAMENTO NATURAL PARA PINTURA/ VERNIZ, TIPO PRANCHETA/SARRAFEADA, INCLUSIVE MARCO, ALIZAR E FERRAGENS, EXCLUSIVE PINTURA/VERNIZ | E130: ='MM CALC'!E133 -> und | F130: ='MM CALC'!F133 -> 3 | G130: 1007.59 | H130: =ROUND((1+$H$9)*G130,2) -> 1292.03 | I130: =+ROUND((H130*F130),2) -> 3876.09
A131: ='MM CALC'!A134 -> 11 | D131: ='MM CALC'!D134 -> ESQUADRIAS METÁLICAS | I131: =SUM(I132:I137) -> 115796.82
A132: ='MM CALC'!A135 -> 11.1 | B132: ='MM CALC'!B135 -> SICOR-MG | C132: ='MM CALC'!C135 -> ED-29484 | D132: ='MM CALC'!D135 -> JANELA EM ALUMÍNIO DE CORRER COM 2 FOLHAS, LINHA 25/ SUPREMA, ACABAMENTO ANODIZADO NATURAL, INCLUSIVE PERFIS, VIDRO 4MM E INSTALAÇÃO, EXCLUSIVE FERRAGENS PARA JANELA DE ALUMÍNIO DE CORRER | E132: ='MM CALC'!E135 -> m² | F132: ='MM CALC'!F135 -> 3.64 | G132: 858.28 | H132: =ROUND((1+$H$9)*G132,2) -> 1100.57 | I132: =+ROUND((H132*F132),2) -> 4006.07
A133: ='MM CALC'!A136 -> 11.2 | B133: ='MM CALC'!B136 -> SICOR-MG | C133: ='MM CALC'!C136 -> ED-29483 | D133: ='MM CALC'!D136 -> JANELA EM ALUMÍNIO FIXA COMPLETA, LINHA 25/SUPREMA, ACABAMENTO ANODIZADO NATURAL, INCLUSIVE PERFIS E VIDRO LISO 4MM E INSTALAÇÃO | E133: ='MM CALC'!E136 -> m² | F133: ='MM CALC'!F136 -> 98.32 | G133: 588.47 | H133: =ROUND((1+$H$9)*G133,2) -> 754.6 | I133: =+ROUND((H133*F133),2) -> 74192.27
A134: ='MM CALC'!A137 -> 11.3 | B134: ='MM CALC'!B137 -> SICOR-MG | C134: ='MM CALC'!C137 -> ED-29485 | D134: ='MM CALC'!D137 -> PORTA EM ALUMÍNIO COMPLETA, DIMENSÃO (120X210)CM, TIPO DE CORRER, COM DUAS (2) FOLHAS, LINHA 25/SUPREMA, ACABAMENTO ANODIZADO NATURAL, INCLUSIVE PERFIS, VIDRO, FERRAGENS E INSTALAÇÃO | E134: ='MM CALC'!E137 -> und | F134: ='MM CALC'!F137 -> 1 | G134: 1932.84 | H134: =ROUND((1+$H$9)*G134,2) -> 2478.48 | I134: =+ROUND((H134*F134),2) -> 2478.48
A135: ='MM CALC'!A138 -> 11.4 | B135: ='MM CALC'!B138 -> SICOR-MG | C135: ='MM CALC'!C138 -> ED-29477 | D135: ='MM CALC'!D138 -> PORTA VENEZIANA EM ALUMÍNIO COMPLETA, DIMENSÃO (60X210) CM, TIPO DE ABRIR, COM UMA (1) FOLHA, LINHA 25/SUPREMA, ACABAMENTO ANODIZADO NATURAL, INCLUSIVE PERFIS, FERRAGENS E INSTALAÇÃO | E135: ='MM CALC'!E138 -> und | F135: ='MM CALC'!F138 -> 5 | G135: 1529.75 | H135: =ROUND((1+$H$9)*G135,2) -> 1961.6 | I135: =+ROUND((H135*F135),2) -> 9808
A136: ='MM CALC'!A139 -> 11.5 | B136: ='MM CALC'!B139 -> SICOR-MG | C136: ='MM CALC'!C139 -> ED-50983 | D136: ='MM CALC'!D139 -> PORTÃO DE GRADE EM BARRA REDONDA 1/2" E REQUADRO EM BARRA CHATA 1.1/4"X3/16", EXCLUSIVE CADEADO E PINTURA | E136: ='MM CALC'!E139 -> m² | F136: ='MM CALC'!F139 -> 46.31 | G136: 397.44 | H136: =ROUND((1+$H$9)*G136,2) -> 509.64 | I136: =+ROUND((H136*F136),2) -> 23601.43
A137: ='MM CALC'!A140 -> 11.6 | B137: ='MM CALC'!B140 -> 0 | C137: ='MM CALC'!C140 -> ED-50985 | D137: ='MM CALC'!D140 -> PORTÃO EM CHAPA DE AÇO, TIPO DIAMANTE, ESP. 1,20MM (MSG- 18), COM REQUADRO EM CANTONEIRA DE AÇO 1.1/4¿X1/8¿, EXCLUSIVE CADEADO E PINTURA | E137: ='MM CALC'!E140 -> m² | F137: ='MM CALC'!F140 -> 2.55 | G137: 523.13 | H137: =ROUND((1+$H$9)*G137,2) -> 670.81 | I137: =+ROUND((H137*F137),2) -> 1710.57
...

Sheet MM CALC
A1: PREFEITURA MUNICIPAL DE MINAS NOVAS Praça Sebastião Leme do Prado, 15 - Centro CEP: 39.650-000 – Minas Novas (MG) Fone: (33) 3764-1147 – (33) 3764-2641 E-mail: convenios@minasnovas.mg.gov.br
A2: MEMÓRIA DE CÁLCULO DE QUANTITATIVOS
A4: PREFEITURA MUNICIPAL DE MINAS NOVAS | E4: DATA:28/07/2025
A5: OBRA: CONSTRUÇÃO DE ESCOLA MUNICIPAL DE PALMITAL
A6: LOCAL: POVOADO DE PALMITAL - DIST. BAIXA QUENTE - MINAS NOVAS/MG
A8: ITEM | B8: FONTE | C8: CÓDIGO | D8: DESCRIÇÃO | E8: UND. | F8: QUANT. | G8: FÓRMULA/MEMÓRIA
A9: - | B9: - | C9: - | D9: - | E9: - | F9: - | G9: -
A10: 1 | D10: SERVIÇOS PRELIMINARES
A11: 1.1 | B11: SICOR-MG | C11: RO-01091 | D11: Limpeza mecanizada da camada vegetal | E11: m² | F11: a cargo do municipio
A12: 1.2 | B12: SICOR-MG | C12: RO-00232 | D12: Regularização de superfície com motoniveladora | E12: m² | F12: a cargo do municipio
A13: 1.3 | B13: SICOR-MG | C13: ED-28427 | D13: FORNECIMENTO E COLOCAÇÃO DE PLACA DE OBRA EM CHAPA GALVANIZADA #26, ESP. 0,45MM, DIMENSÃO (3X1,5)M, PLOTADA COM ADESIVO VINÍLICO, AFIXADA COM REBITES 4,8X40MM, EM ESTRUTURA METÁLICA DE METALON 20X20MM, ESP. 1,25MM, INCLUSIVE SUPORTE EM EUCALIPTO AUTOCLAVADO PINTADO COM TINTA PVA DUAS (2) DEMÃOS | E13: und | F13: 1 | G13: Placa de obra: 1 unid
A14: 1.4 | B14: SICOR-MG | C14: ED-50135 | D14: BARRACÃO DE OBRA, EM CHAPA DE COMPENSADO RESINADO, INCLUSIVE INSTALAÇÕES SANITÁRIAS E MOBILIÁRIO - PADRÃO DER-MG | E14: m² | F14: 32 | G14: Barracão de obra: 4,00 x 8,00 = 32,00m²
A15: 1.5 | B15: SICOR-MG | C15: ED-17989 | D15: LOCAÇÃO DE OBRA COM GABARITO DE TÁBUAS CORRIDAS PONTALETADAS A CADA 2,00M, REAPROVEITAMENTO (2X), INCLUSIVE ACOMPANHAMENTO DE EQUIPE TOPOGRÁFICA PARA MARCAÇÃO DE PONTO TOPOGRÁFICO | E15: m | F15: 328.27 | G15: Bloco Administrativo: (6,25 + 6,25 + 1,00 + 1,00) + ( 17,30 + 17,30 + 1,00 + 1,00) = 51,10m Bloco de Serviço:(6,25 + 6,25 + 1,00 + 1,00) + ( 16,20 + 16,20 + 1,00 + 1,00) = 48,85m Pátio Coberto: (6,56 x 4) + ( 2,14 x 2) + (7,80 x 2) = 46,12m Bloco Pedagógico: (7,80 + 7,80 + 1,00 + 1,00) + ( 35,75 + 35,75 + 1,00 + 1,00) = 91,10m Bloco Multiuso: (7,80 + 7,80 + 1,00 + 1,00) + ( 35,75 + 35,75 + 1,00 + 1,00) = 91,10m
A16: 1.6 | B16: SICOR-MG | C16: ED-29823 | D16: TAPUME FIXO DE PROTEÇÃO PARA FECHAMENTO DE OBRA EM TELHA METÁLICA GALVANIZADA, TIPO TRAPEZOIDAL, ESP. 0,5MM, COM MÓDULO NA DIMENSÃO DE (300X220)CM, COM REAPROVEITAMENTO, EXCLUSIVE PINTURA ESMALTE, INCLUSIVE PONTALETE E FIXAÇÃO | E16: m² | F16: 28.4 | G16: 12,90 x 2,20 = 28,40m²
A17: 1.7 | B17: SICOR-MG | C17: ED-20579 | D17: ENTRADA DE ENERGIA AÉREA, TIPO B1, PADRÃO CEMIG, CARGA INSTALADA DE ATÉ 10KW, BIFÁSICO, COM SAÍDA SUBTERRÂNEA, INCLUSIVE POSTE, CAIXA PARA MEDIDOR, DISJUNTOR, BARRAMENTO, ATERRAMENTO E ACESSÓRIOS | E17: und | F17: 1 | G17: 1 unidade
A18: 2 | D18: TRABALHOS EM TERRA
A19: 2.1 | B19: SICOR-MG | C19: ED-51107 | D19: ESCAVAÇÃO MANUAL DE VALA COM PROFUNDIDADE MENOR OU IGUAL A 1,5M, INCLUSIVE DESCARGA LATERAL | E19: m³ | F19: 45.98 | G19: Vigas Baldrames Bloco Administrativo: (6,25 x 6) + (17,30 x 3) x 0,15 x 0,30 = 4,02m³ Bloco de Serviço: (6,25 x 6) + (16,20 x 3) x 0,15 x 0,30 = 3,87m³ Pátio Coberto: (42,74 + 14,92 + 15,82) x 0,15 x 0,30 = 3,31m³ Bloco Pedagógico: (7,80 x 11) + ( 35,75 x 3) x 0,15 x 0,30 = 8,69m³ Bloco Multiuso: (7,80 x 10) + ( 35,75 x 3) x 0,15 x 0,30 = 8,34m³ Passarelas: (11,70 x 2) + ( 8,00 x 2) + (7,57 x 2) x 0,15 x 0,20 = 1,64m³ Lixeira: 5,30 x 0,15 x 0,20 = 0,11m³ Blocos de fundação Bloco Administrativo: 18 und x 0,50 x 0,50 x 0,50 = 2,25m³ Bloco de Serviço: 18 und x 0,50 x 0,50 x 0,50 = 2,25m³ Pátio Coberto: 18 und x 0,50 x 0,50 x 0,50 = 2,25m³ Bloco Pedagógico: 38 und x 0,50 x 0,50 x 0,50 = 4,75m³ Bloco Multiuso: 36 und x 0,50 x 0,50 x 0,50 = 4,50m³
A20: 2.2 | B20: SICOR-MG | C20: ED-51093 | D20: APILOAMENTO MANUAL EM FUNDO DE VALA COM SOQUETE, EXCLUSIVE ESCAVAÇÃO | E20: m² | F20: 135.05 | G20: Vigas Baldrames Bloco Administrativo: (6,25 x 6) + (17,30 x 3) x 0,15 = 13,41m² Bloco de Serviço: (6,25 x 6) + (16,20 x 3) x 0,15 = 12,91m² Pátio Coberto: (42,74 + 14,92 + 15,82) x 0,15 = 11,02m² Bloco Pedagógico: (7,80 x 11) + ( 35,75 x 3) x 0,15 = 28,96m² Bloco Multiuso: (7,80 x 10) + ( 35,75 x 3) x 0,15 =27,78m² Passarelas: (11,70 x 2) + ( 8,00 x 2) + (7,57 x 2) x 0,15 = 8,18m² Lixeira: 5,30 x 0,15 = 0,79m² Blocos de fundação Bloco Administrativo: 18 und x 0,50 x 0,50 = 4,50m² Bloco de Serviço: 18 und x 0,50 x 0,50 = 4,50m² Pátio Coberto: 18 und x 0,50 x 0,50 = 4,50m² Bloco Pedagógico: 38 und x 0,50 x 0,50 = 9,50m² Bloco Multiuso: 36 und x 0,50 x 0,50 = 9,00m²
A21: 2.3 | B21: SICOR-MG | C21: ED-51096 | D21: COMPACTAÇÃO MECANIZADA DE ATERRO COM PLACA VIBRATÓRIA, INCLUSIVE ESPALHAMENTO MANUAL | E21: m³ | F21: 80.57 | G21: Bloco Administrativo: 5,95 x 16,40 x 0,10 = 9,75m³ Bloco de Serviço: 5,95 x 15,30 x 0,10 = 9,10m³ Pátio Coberto: 134,42m² x 0,10 = 13,44m³ Bloco Pedagógico: 7,35 x 32,85 x 0,10 = 24,14m³ Bloco Multiuso: 7,35 x 32,85 x 0,10 = 24,14m³
A22: 3 | D22: FUNDAÇÕES
A23: 3.1 | B23: SICOR-MG | C23: ED-29801 | D23: PERFURAÇÃO MANUAL DE ESTACA TIPO BROCA A TRADO, INCLUSIVE AFASTAMENTO, EXCLUSIVE ARMAÇÃO, CONCRETO ESTRUTURAL, TRANSPORTE E RETIRADA DO MATERIAL ESCAVADO | E23: m³ | F23: 6.78 | G23: Bloco Administrativo: 18 und x 1 x 1,50 = 27,00m Bloco de Serviço: 18 und x 1 x 1,50 = 27,00m Pátio Coberto: 18 und x 1 x 1,50 = 27,00m Bloco Pedagógico: 38 und x 1 x 1,50 = 57,00m Bloco Multiuso: 36 und x 1 x 1,50 = 54,00m Passarelas: 24 unid x 1 = 24,00m Total: 216m x (π x 0,10²) = 6,78m³
A24: 3.2 | B24: SICOR-MG | C24: ED-49811 | D24: FÔRMA E DESFORMA PARA VIGA-CINTA/BLOCO COM COMPENSADO RESINADO, ESP. 12MM, REAPROVEITAMENTO (3X) (FUNDAÇÃO) | E24: m² | F24: 161.96 | G24: Vigas Baldrames: Bloco Administrativo: (6,25 x 6) + (17,30 x 3) x (0,10 + 0,10) = 17,88m² Bloco de Serviço: (6,25 x 6) + (16,20 x 3) x (0,10 + 0,10) = 17,22m² Pátio Coberto: (42,74 + 14,92 + 15,82) x (0,10 + 0,10) = 14,69m² Bloco Pedagógico: (7,80 x 11) + ( 35,75 x 3) x (0,10 + 0,10) = 38,61m² Bloco Multiuso: (7,80 x 10) + ( 35,75 x 3) x (0,10 + 0,10) = 37,05m² Passarelas: (11,70 x 2) + ( 8,00 x 2) + (7,57 x 2) x (0,10 + 0,10) = 10,91m² Blocos de fundação: Bloco Administrativo: 18 und x (0,50 + 0,50 + 0,50 + 0,50) x 0,10 = 3,60m² Bloco de Serviço: 18 und x (0,50 + 0,50 + 0,50 + 0,50) x 0,10 = 3,60m² Pátio Coberto: 18 und x (0,50 + 0,50 + 0,50 + 0,50) x 0,10 = 3,60m² Bloco Pedagógico: 38 und x (0,50 + 0,50 + 0,50 + 0,50) x 0,10 = 7,60m² Bloco Multiuso: 36 undx (0,50 + 0,50 + 0,50 + 0,50) x 0,10 = 7,20m²
A25: 3.3 | B25: SICOR-MG | C25: ED-48298 | D25: CORTE, DOBRA E MONTAGEM DE AÇO CA-50/60, INCLUSIVE ESPAÇADOR | E25: kg | F25: 2757.6 | G25: Vigas Baldrames Bloco Administrativo: (6,25 x 6) + (17,30 x 3) x 0,15 x 0,30 = 4,02m³ Bloco de Serviço: (6,25 x 6) + (16,20 x 3) x 0,15 x 0,30 = 3,87m³ Pátio Coberto: (42,74 + 14,92 + 15,82) x 0,15 x 0,30 = 3,31m³ Bloco Pedagógico: (7,80 x 11) + ( 35,75 x 3) x 0,15 x 0,30 = 8,69m³ Bloco Multiuso: (7,80 x 10) + ( 35,75 x 3) x 0,15 x 0,30 = 8,34m³ Passarelas: (11,70 x 2) + ( 8,00 x 2) + (7,57 x 2) x 0,15 x 0,20 = 1,64m³ Lixeira: 5,30 x 0,15 x 0,20 = 0,11m³ Blocos de fundação Bloco Administrativo: 18 und x 0,50 x 0,50 x 0,50 = 2,25m³ Bloco de Serviço: 18 und x 0,50 x 0,50 x 0,50 = 2,25m³ Pátio Coberto: 18 und x 0,50 x 0,50 x 0,50 = 2,25m³ Bloco Pedagógico: 38 und x 0,50 x 0,50 x 0,50 = 4,75m³ Bloco Multiuso: 36 und x 0,50 x 0,50 x 0,50 = 4,50m³ Total: 45,96 x 60kg/m³ = 2757,60kg
A26: 3.4 | B26: SICOR-MG | C26: ED-49812 | D26: LASTRO DE CONCRETO MAGRO, INCLUSIVE TRANSPORTE, LANÇAMENTO E ADENSAMENTO | E26: m³ | F26: 6.21 | G26: Vigas Baldrames Bloco Administrativo: (6,25 x 6) + (17,30 x 3) x 0,15 x 0,05 = 0,67m³ Bloco de Serviço: (6,25 x 6) + (16,20 x 3) x 0,15 x 0,05 = 0,65m³ Pátio Coberto: (42,74 + 14,92 + 15,82) x 0,15 x 0,05 = 0,55m³ Bloco Pedagógico: (7,80 x 11) + ( 35,75 x 3) x 0,15 x 0,05 = 1,45m³ Bloco Multiuso: (7,80 x 10) + ( 35,75 x 3) x 0,15 x 0,05 = 0,86m³ Passarelas: (11,70 x 2) + ( 8,00 x 2) + (7,57 x 2) x 0,15 x 0,05 = 0,41m³ Lixeira: 5,30 x 0,15 x 0,05 = 0,04m³ Blocos de fundação Bloco Administrativo: 18 und x 0,50 x 0,50 x 0,05 = 0,22m³ Bloco de Serviço: 18 und x 0,50 x 0,50 x 0,05 = 0,22m³ Pátio Coberto: 18 und x 0,50 x 0,50 x 0,05 = 0,22m³ Bloco Pedagógico: 38 und x 0,50 x 0,50 x 0,05 = 0,47m³ Bloco Multiuso: 36 und x 0,50 x 0,50 x 0,05 = 0,45m³
A27: 3.5 | B27: SICOR-MG | C27: ED-49799 | D27: FORNECIMENTO DE CONCRETO ESTRUTURAL, USINADO, COM FCK 30MPA, INCLUSIVE LANÇAMENTO, ADENSAMENTO E ACABAMENTO (FUNDAÇÃO) | E27: m³ | F27: 45.98 | G27: Vigas Baldrames Bloco Administrativo: (6,25 x 6) + (17,30 x 3) x 0,15 x 0,30 = 4,02m³ Bloco de Serviço: (6,25 x 6) + (16,20 x 3) x 0,15 x 0,30 = 3,87m³ Pátio Coberto: (42,74 + 14,92 + 15,82) x 0,15 x 0,30 = 3,31m³ Bloco Pedagógico: (7,80 x 11) + ( 35,75 x 3) x 0,15 x 0,30 = 8,69m³ Bloco Multiuso: (7,80 x 10) + ( 35,75 x 3) x 0,15 x 0,30 = 8,34m³ Passarelas: (11,70 x 2) + ( 8,00 x 2) + (7,57 x 2) x 0,15 x 0,20 = 1,64m³ Lixeira: 5,30 x 0,15 x 0,20 = 0,11m³ Blocos de fundação Bloco Administrativo: 18 und x 0,50 x 0,50 x 0,50 = 2,25m³ Bloco de Serviço: 18 und x 0,50 x 0,50 x 0,50 = 2,25m³ Pátio Coberto: 18 und x 0,50 x 0,50 x 0,50 = 2,25m³ Bloco Pedagógico: 38 und x 0,50 x 0,50 x 0,50 = 4,75m³ Bloco Multiuso: 36 und x 0,50 x 0,50 x 0,50 = 4,50m³
A28: 3.6 | B28: SICOR-MG | C28: ED-50174 | D28: IMPERMEABILIZAÇÃO COM EMULSÃO ASFÁLTICA, DUAS (2) DEMÃOS | E28: m² | F28: 268.47 | G28: Vigas Baldrames: Bloco Administrativo: (6,25 x 6) + (17,30 x 3) x (0,10 + 0,10 + 0,15) = 31,29m² Bloco de Serviço: (6,25 x 6) + (16,20 x 3) x (0,10 + 0,10 + 0,15) = 30,13m² Pátio Coberto: (42,74 + 14,92 + 15,82) x (0,10 + 0,10 + 0,15) = 25,71m² Bloco Pedagógico: (7,80 x 11) + ( 35,75 x 3) x (0,10 + 0,10 + 0,15) = 67,56m² Bloco Multiuso: (7,80 x 10) + ( 35,75 x 3) x (0,10 + 0,10 + 0,15) = 64,84m² Passarelas: (11,70 x 2) + ( 8,00 x 2) + (7,57 x 2) x (0,10 + 0,10 +0,15) = 19,09m² Blocos de fundação: Bloco Administrativo: 18 und x (0,50 + 0,50 + 0,50 + 0,50) x 0,10 + ( 0,50 x 0,50) = 3,85m² Bloco de Serviço: 18 und x (0,50 + 0,50 + 0,50 + 0,50) x 0,10 + ( 0,50 x 0,50) = 3,85m² Pátio Coberto: 18 und x (0,50 + 0,50 + 0,50 + 0,50) x 0,10 + ( 0,50 x 0,50) = 3,85m² Bloco Pedagógico: 38 und x (0,50 + 0,50 + 0,50 + 0,50) x 0,10 + ( 0,50 x 0,50) = 7,85m² Bloco Multiuso: 36 und x (0,50 + 0,50 + 0,50 + 0,50) x 0,10 + ( 0,50 x 0,50) = 7,45m²
A29: 4 | D29: ESTRUTURA
A30: 4.1 | B30: SICOR-MG | C30: ED-16319 | D30: MURO DIVISÓRIO DE TIJOLO FURADO COM ALTURA 220CM, COM PILARETES DE 16X9CM A CADA 250CM, SAPATA DE CONCRETO ARMADO 30X20CM E PINGADEIRA, REBOCADO E PINTADO A LÁTEX, INCLUSIVE ESCAVAÇÃO, APILOAMENTO E LASTRO | E30: m | F30: 149.3 | G30: 149,30m
A31: 4.2 | B31: SICOR-MG | C31: ED-49647 | D31: FÔRMA E DESFORMA DE COMPENSADO PLASTIFICADO, ESP. 12MM, REAPROVEITAMENTO (5X), EXCLUSIVE ESCORAMENTO | E31: m² | F31: 727.43 | G31: Pilares Bloco Administrativo: ( 8 x 0,45 x 2,90) + ( 4 x 0,60 x 2,90) + ( 2 x 3,14 x 0,10 x 6 x 2,90) = 28,33m² Bloco de Serviço: ( 8 x 0,45 x 2,90) + ( 8 x 0,60 x 2,90) + ( 2 x 3,14 x 0,10 x 6 x 2,90) = 28,33m² Pátio Coberto: ( 2 x 3,14 x 0,15 x 12 x 2,90) + ( 2 x 3,14 x 0,15 x 6 x 5,90) = 66,16m² Bloco Pedagógico: ( 4 x 0,45 x 2,90) + ( 13 x 0,60 x 2,90) + ( 6 x 0,45 x 2,90) + ( 2 x 3,14 x 0,10 x 15 x 2,90) = 63,00m² Bloco Multiuso: ( 4 x 0,45 x 2,90) + ( 14 x 0,60 x 2,90) + ( 8 x 0,45 x 2,90) + ( 2 x 3,14 x 0,10 x 10 x 2,90) = 58,24m² Passarelas: ( 2 x 3,14 x 0,10 x 24 x 2,50) = 37,70m² Vigas Bloco Administrativo: (5 x 4,45 x 0,60) + ( 4,45 x 0,75) + ( 2 x 8,00 x 0,60) + (2 x 7,30 x 0,60) + (2 x 2,00 x 0,75) + ( 6 x 1,50 x 0,75) + ( 17,30 x 0,75) = 57,77m² Bloco de Serviço: (4 x 4,45 x 0,60) + ( 2 x 4,45 x 0,75) + ( 2 x 16,20 x 0,60) + ( 6 x 1,50 x 0,75) + ( 16,20 x 0,75) = 55,69m² Pátio Coberto: (42,74 + 14,23) x (1,00) + (2 x 14,23 x 0,75) = 78,31m² Bloco Pedagógico: (5 x 6,30 x 0,60) + ( 4 x 6,30 x 1,00) + ( 2 x 32,75 x 0,60) + (2 x 7,80 x 0,75) + (35,75 x 0,75) + (6 x 1,50 x 0,75) = 128,66m² Bloco Multiuso: ( 6 x 6,30 x 0,60) + ( 4 x 6,30 x 1,00) + (2 x 32,75 x 0,60) + (10 x 1,50 x 0,75) + (35,75 x 0,75) = 125,24m²
A32: 4.3 | B32: SICOR-MG | C32: ED-48298 | D32: CORTE, DOBRA E MONTAGEM DE AÇO CA-50/60, INCLUSIVE ESPAÇADOR | E32: kg | F32: 3683.55 | G32: Pilares Bloco Administrativo: ( 12 x 0,15 x 0,30 x 2,90) + ( 3,14 x 0,10² x 6 x 2,90) = 2,11m³ Bloco de Serviço: ( 12 x 0,15 x 0,30 x 2,90) + ( 3,14 x 0,10² x 6 x 2,90) = 2,11m³ Pátio Coberto: ( 3,14 x 0,15² x 12 x 2,90) + ( 3,14 x 0,15² x 6 x 5,90) = 4,96m³ Bloco Pedagógico: ( 23 x 0,15 x 0,30 x 2,90) + ( 3,14 x 0,10² x 15 x 2,90) =4,09m³ Bloco Multiuso:( 25 x 0,15 x 0,30 x 2,90) + ( 3,14 x 0,10² x 10 x 2,90) = 4,17m³ Passarelas: ( 3,14 x 0,10² x 24 x 2,50) = 1,88m³ Vigas Bloco Administrativo: (6,25 x 6) + (17,30 x 3) x 0,15 x 0,30 = 4,02m³ Bloco de Serviço: (6,25 x 6) + (16,20 x 3) x 0,15 x 0,30 = 3,87m³ Pátio Coberto: (42,74 + 14,23) x 0,20 x 040 + (2 x 14,23) x 0,15 x 0,30 = 5,83m³ Bloco Pedagógico: (7,80 x 7 x 0,15 x 0,30) + (35,75 x 3 x 0,15 x 0,30) + (6,30 x 4 x 0,20 x 0,40) + (4 x 1,50 x 0,15 x 0,30) = 11,99m³ Bloco Multiuso: (7,80 x 6 x 0,15 x 0,30) + (35,75 x 3 x 0,15 x 0,30) + (6,30 x 4 x 0,20 x 0,40) + (4 x 1,50 x 0,15 x 0,30) = 11,64m³ Total: 56,67m³ x 65kg = 3683,55kg
A33: 4.4 | B33: SICOR-MG | C33: ED-49638 | D33: FORNECIMENTO DE CONCRETO ESTRUTURAL, USINADO BOMBEADO, COM FCK 25MPA, INCLUSIVE LANÇAMENTO, ADENSAMENTO E ACABAMENTO | E33: m³ | F33: 56.67 | G33: Pilares Bloco Administrativo: ( 12 x 0,15 x 0,30 x 2,90) + ( 3,14 x 0,10² x 6 x 2,90) = 2,11m³ Bloco de Serviço: ( 12 x 0,15 x 0,30 x 2,90) + ( 3,14 x 0,10² x 6 x 2,90) = 2,11m³ Pátio Coberto: ( 3,14 x 0,15² x 12 x 2,90) + ( 3,14 x 0,15² x 6 x 5,90) = 4,96m³ Bloco Pedagógico: ( 23 x 0,15 x 0,30 x 2,90) + ( 3,14 x 0,10² x 15 x 2,90) =4,09m³ Bloco Multiuso:( 25 x 0,15 x 0,30 x 2,90) + ( 3,14 x 0,10² x 10 x 2,90) = 4,17m³ Passarelas: ( 3,14 x 0,10² x 24 x 2,50) = 1,88m³ Vigas Bloco Administrativo: (6,25 x 6) + (17,30 x 3) x 0,15 x 0,30 = 4,02m³ Bloco de Serviço: (6,25 x 6) + (16,20 x 3) x 0,15 x 0,30 = 3,87m³ Pátio Coberto: (42,74 + 14,23) x 0,20 x 040 + (2 x 14,23) x 0,15 x 0,30 = 5,83m³ Bloco Pedagógico: (7,80 x 7 x 0,15 x 0,30) + (35,75 x 3 x 0,15 x 0,30) + (6,30 x 4 x 0,20 x 0,40) + (4 x 1,50 x 0,15 x 0,30) = 11,99m³ Bloco Multiuso: (7,80 x 6 x 0,15 x 0,30) + (35,75 x 3 x 0,15 x 0,30) + (6,30 x 4 x 0,20 x 0,40) + (4 x 1,50 x 0,15 x 0,30) = 11,64m³ Total: 56,67m³
A34: 4.5 | B34: SICOR-MG | C34: ED-50253 | D34: LAJE PRÉ-MOLDADA UNIDIRECIONAL COM ENCHIMENTO EM POLIESTIRENO EXPANDIDO (EPS), CAPEAMENTO DE 4CM, SOBRECARGA DE 100KG/M2, ALTURA TOTAL DE 11CM E VÃO LIVRE MÁXIMO DE 4M, INCLUSIVE CONCRETO ESTRUTURAL, USINADO BOMBEADO COM FCK DE 20MPA, EXCLUSIVE TELA ARMADA E CIMBRAMENTO | E34: m² | F34: 767.07 | G34: Bloco Administrativo: 6,25 x 17,30 = 108,12m² Bloco de Serviço: 6,25 x 16,20 = 101,25m² Bloco Pedagógico: 7,80 x 35,75 = 278,85m² Bloco Multiuso: 7,80 x 35,75 = 278,85m²
A35: 4.6 | B35: SICOR-MG | C35: ED-29563 | D35: ARMADURA DE TELA DE AÇO CA-60, SOLDADA TIPO Q-61, DIÂMETRO Ø3,4MM, TRAMA COM DIMENSÃO (150X150)MM, INCLUSIVE ESPAÇADOR, EXCLUSIVE CONCRETO | E35: m² | F35: 843.77 | G35: Bloco Administrativo: 6,25 x 17,30 = 108,12m² Bloco de Serviço: 6,25 x 16,20 = 101,25m² Bloco Pedagógico: 7,80 x 35,75 = 278,85m² Bloco Multiuso: 7,80 x 35,75 = 278,85m² 767,07m² + 10% traspasse = 843,77m²
A36: 4.7 | B36: SICOR-MG | C36: ED-19637 | D36: CIMBRAMENTO PARA LAJE PRÉ-MOLDADA COM ESCORAMENTO METÁLICO, TIPO "A", ALTURA DE (200 ATÉ 310)CM, INCLUSIVE DESCARGA, MONTAGEM, DESMONTAGEM E CARGA | E36: m2xmês | F36: 3068.28 | G36: 767,07m² x 4 = 3068,28m²xmês
A37: 4.8 | B37: SICOR-MG | C37: ED-9906 | D37: VERGA OU CONTRAVERGA EM CONCRETO ESTRUTURAL PARA VÃOS ACIMA DE 150CM, PREPARADO EM OBRA COM BETONEIRA, CONTROLE "A", COM FCK 20 MPA, MOLDADA IN LOCO, INCLUSIVE ARMAÇÃO | E37: m³ | F37: 0.54 | G37: Portas: Bloco administrativo: (5 x 1,00) + (2 x 0,80) x 0,15 x 0,10 = 0,09m³ Bloco serviço: (4 x 1,10) + (1 x 1,00) + ( 1 x 0,80) x 0,15 x 0,10 = 0,09m³ Bloco pedagógico: 4 x 1,00 x 0,15 x 0,10 = 0,06m³ Bloco multiuso: 4 x 1,00 x 0,15 x 0,10 = 0,06m³ Janelas: Bloco serviço: (1 x 1,10) x 0,15 x 0,10 = 0,02m³ x 2 =0,04m³ Bloco serviço: (5 x 1,10) + (1 x 0,70) x 0,15 x 0,10 = 0,10m³ x 2 = 0,20m³
A38: 4.9 | B38: SICOR-MG | C38: ED-9903 | D38: VERGA OU CONTRAVERGA EM CONCRETO ESTRUTURAL PARA VÃOS DE ATÉ 150CM, PREPARADO EM OBRA COM BETONEIRA, CONTROLE "A", COM FCK 20 MPA, MOLDADA IN LOCO, INCLUSIVE ARMAÇÃO | E38: m³ | F38: 2.86 | G38: Porta: Bloco serviço: (1 x 1,60) x 0,15 x 0,10 = 0,02m³ Janelas: Bloco administrativo: (4 x 1,70) + (1 x 2,10) x 0,15 x 0,10 = 0,13m³ x 2 = 0,26m³ Bloco serviço: (4 x 1,70) x 0,15 x 0,10 = 0,05m³ x 2 = 0,10m³ Bloco pedagógico: 16 x 2,5 x 0,15 x 0,10 = 0,6m³ x 2 = 1,20m³ Bloco multiuso: 17 x 2,5 x 0,15 x 0,10 = 0,64m³ x 2 = 1,28m³
A39: 5 | D39: ALVENARIA
A40: 5.1 | B40: SICOR-MG | C40: ED-48232 | D40: ALVENARIA DE VEDAÇÃO COM TIJOLO CERÂMICO FURADO, ESP. 14CM, PARA REVESTIMENTO, INCLUSIVE ARGAMASSA PARA ASSENTAMENTO | E40: m² | F40: 946.62 | G40: Bloco administrativo: (6 x 4,45) + (2 x 15,30) + 2,65 + 1,65 + 3,60 x 2,90 = 189,08m² Bloco serviço: (4 x 4,45) + (2 x 16,20) + 2,30 + 2,30 + 2,30 + 5,65 x 2,90 = 181,97m² Pátio coberto: 14,23 x 1,50 = 21,35m² Bloco pedagógico: (5 x 6,00) + ( 2 x 32,75) x 2,90 = 276,95m² Desconto vãos janela: (16 x 2,2 x 1,10)/2 - 19,36m² 276,95 - 19,36 = 257,59m² Bloco multiuso: (6 x 6,00) + ( 2 x 35,75) x 2,90 = 311,75m² Desconto vãos janela: (16 x 2,2 x 1,10)/2 - 19,36m² 311,75 - 19,36 = 292,39m² Lixeira: 2,65 x 1,60 = 4,24m²
A41: 5.2 | B41: SICOR-MG | C41: ED-48231 | D41: ALVENARIA DE VEDAÇÃO COM TIJOLO CERÂMICO FURADO, ESP. 9CM, PARA REVESTIMENTO, INCLUSIVE ARGAMASSA PARA ASSENTAMENTO | E41: m² | F41: 15.3 | G41: Divisórias banheiros: (3,15 + 1,35) x 1,70 x 2 = 15,30m²
A42: 6 | D42: COBERTURA E FORRO
A43: 6.1 | B43: SICOR-MG | C43: ED-48407 | D43: ENGRADAMENTO EM MADEIRA PARAJU OU EQUIVALENTE, PARA TELHAS CERÂMICAS OU DE CONCRETO, EXCLUSIVE TELHAS | E43: m² | F43: 1154.36 | G43: Bloco administrativo: 7,45 x 18,50 = 137,83m² Bloco serviço: 7,45 x 17,40 = 129,63m² Pátio coberto: 171,86m² Bloco pedagógico: 9,00 x 36,95 = 332,55m² Bloco multiuso: 9,00 x 36,95 = 332,55m² Passarelas: 8,50 x 3,90 x 2 = 66,30m² 2,30 x 2,90 x 2 = 13,34m² 2,30 x 2,70 x 2 = 12,42m²
A44: 6.2 | B44: SICOR-MG | C44: ED-48420 | D44: COBERTURA EM TELHA CERÂMICA, TIPO PLAN, INCLUSIVE FIXAÇÃO, EXCLUSIVE ENGRADAMENTO E MANTA ISOLANTE/ TÉRMICA | E44: m² | F44: 1292.88 | G44: Bloco administrativo: 7,45 x 18,50 = 137,83m² Bloco serviço: 7,45 x 17,40 = 129,63m² Pátio coberto: 171,86m² Bloco pedagógico: 9,00 x 36,95 = 332,55m² Bloco multiuso: 9,00 x 36,95 = 332,55m² Passarelas: 3,10 x 3,90 x 2 = 24,18m² 2,30 x 2,90 x 2 = 13,34m² 2,30 x 2,70 x 2 = 12,42m² Total: 1154,36m² x 12% inclinação telha = 1292,88m²
A45: 6.3 | B45: SICOR-MG | C45: ED-48400 | D45: CUMEEIRA PARA TELHA CERÂMICA, INCLUSIVE EMBOÇAMENTO COM ARGAMASSA, TRAÇO 1:2:9 (CIMENTO, CAL E AREIA), COM PREPARO MECANIZADO | E45: m | F45: 9.5 | G45: Bloco administrativo: 31,60m Bloco serviço: 30,40m Pátio coberto: 30,36 + 18,36 = 48,72m Bloco pedagógico: 53,00m Bloco multiuso:53,00m Passarelas: 3,90 + 2,90 + 2,70 = 9,50m
A46: 6.4 | B46: SICOR-MG | C46: ED-50663 | D46: CALHA EM CHAPA GALVANIZADA, ESP. 0,5MM (GSG-26), COM DESENVOLVIMENTO DE 50CM, INCLUSIVE IÇAMENTO MANUAL VERTICAL | E46: m | F46: 336.4 | G46: Bloco administrativo: (7,45 + 18,50) x 2 = 51,90m Bloco serviço: (7,45 + 18,50) x 2 = 51,90m Pátio coberto: 48,80m Bloco pedagógico: (9,00 + 36,95) x 2 = 91,90m Bloco multiuso: (9,00 + 36,95) x 2 = 91,90m
A47: 6.5 | B47: SICOR-MG | C47: ED-50669 | D47: CONDUTOR CIRCULAR DE ÁGUA PLUVIAL PARA DO TELHADO EM TUBO DE PVC, DIÂMETRO DE 75MM, INCLUSIVE CONEXÕES E SUPORTES | E47: m | F47: 151.8 | G47: Bloco administrativo: 8und x 2,90 = 23,20m Bloco serviço: 8und x 2,90 = 23,20m Pátio coberto: 6 x 2,90 = 17,40m Bloco pedagógico: 10und x 2,90 = 29,00m Bloco multiuso: 10und x 2,90 = 29,00m
A48: 7 | D48: INSTALAÇÕES HIDROSSANITÁRIAS
A49: 7.1 | B49: SICOR-MG | C49: ED-50221 | D49: PONTO DE EMBUTIR PARA ÁGUA FRIA EM TUBO DE PVC RÍGIDO SOLDÁVEL, DN 20MM (1/2"), EMBUTIDO NA ALVENARIA COM DISTÂNCIA DE ATÉ CINCO (5) METROS DA TOMADA DE ÁGUA, INCLUSIVE CONEXÕES E FIXAÇÃO DO TUBO COM ENCHIMENTO DO RASGO NA ALVENARIA/CONCRETO COM ARGAMASSA | E49: und | F49: 30 | G49: Bloco administrativo: 4 und Bloco serviço: 23 unid Pátio coberto: 1 Bloco multiuso: 2 unid
A50: 7.2 | B50: SICOR-MG | C50: ED-50223 | D50: PONTO DE EMBUTIR PARA ESGOTO EM TUBO PVC RÍGIDO, PB - SÉRIE NORMAL, DN 40MM (1.1/2"), EMBUTIDO NA ALVENARIA/PISO, COM ALTURA (SAÍDA) DE 50CM DO PISO, COM DISTÂNCIA DE ATÉ CINCO (5) METROS DO RAMAL DE ESGOTO, EXCLUSIVE ESCAVAÇÃO, INCLUSIVE CONEXÕES E FIXAÇÃO DO TUBO COM ENCHIMENTO DO RASGO NA ALVENARIA/CONCRETO COM ARGAMASSA | E50: und | F50: 20 | G50: Bloco administrativo: 2 und Bloco serviço: 15 unid Pátio coberto: 1 und Bloco multiuso: 2 unid
A51: 7.3 | B51: SICOR-MG | C51: ED-50225 | D51: PONTO DE EMBUTIR PARA ESGOTO EM TUBO PVC RÍGIDO, PBV - SÉRIE NORMAL, DN 100MM (4"), EMBUTIDO EM PISO COM DISTÂNCIA DE ATÉ CINCO (5) METROS DO RAMAL DE ESGOTO, INCLUSIVE CONEXÕES E FIXAÇÃO DO TUBO COM ENCHIMENTO DO RASGO NO CONCRETO COM ARGAMASSA | E51: und | F51: 16 | G51: Bloco administrativo: 4 und Bloco serviço: 12 unid
A52: 7.4 | B52: SICOR-MG | C52: ED-50105 | D52: FORNECIMENTO E ASSENTAMENTO DE TUBO PVC RÍGIDO, COLETOR DE ESGOTO LISO (JEI), DN 100 MM (4"), INCLUSIVE CONEXÕES | E52: m | F52: 70 | G52: Rede de esgoto: 70m
A53: 7.5 | B53: SICOR-MG | C53: ED-50106 | D53: FORNECIMENTO E ASSENTAMENTO DE TUBO PVC RÍGIDO, COLETOR DE ESGOTO LISO (JEI), DN 150 MM (6"), INCLUSIVE CONEXÕES | E53: m | F53: 24 | G53: Rede de esgoto: 24m
A54: 7.6 | B54: SICOR-MG | C54: ED-50018 | D54: FORNECIMENTO E ASSENTAMENTO DE TUBO PVC RÍGIDO SOLDÁVEL, ÁGUA FRIA, DN 20 MM (1/2"), INCLUSIVE CONEXÕES | E54: m | F54: 75 | G54: Abastecimento e distribuição
A55: 7.7 | B55: SICOR-MG | C55: ED-50019 | D55: FORNECIMENTO E ASSENTAMENTO DE TUBO PVC RÍGIDO SOLDÁVEL, ÁGUA FRIA, DN 25 MM (1/2"), INCLUSIVE CONEXÕES | E55: m | F55: 75 | G55: Abastecimento e distribuição
A56: 7.8 | B56: SICOR-MG | C56: ED-50021 | D56: FORNECIMENTO E ASSENTAMENTO DE TUBO PVC RÍGIDO SOLDÁVEL, ÁGUA FRIA, DN 40 MM (1.1/4"), INCLUSIVE CONEXÕES | E56: m | F56: 35 | G56: Abastecimento e distribuição
A57: 7.9 | B57: SICOR-MG | C57: ED-49879 | D57: CAIXA DE ESGOTO DE INSPEÇÃO/PASSAGEM EM ALVENARIA ( 50X50X60CM), REVESTIMENTO EM ARGAMASSA COM ADITIVO IMPERMEABILIZANTE, COM TAMPA DE CONCRETO, INCLUSIVE ESCAVAÇÃO, REATERRO E TRANSPORTE COM RETIRADA DO MATERIAL ESCAVADO (EM CAÇAMBA) | E57: und | F57: 7 | G57: Esgoto
A58: 7.10 | B58: SICOR-MG | C58: ED-49909 | D58: CAIXA DE DRENAGEM DE INSPEÇÃO/PASSAGEM EM ALVENARIA ( 40X40X60CM), REVESTIMENTO EM ARGAMASSA COM ADITIVO IMPERMEABILIZANTE, COM TAMPA EM GRELHA, INCLUSIVE ESCAVAÇÃO, REATERRO E TRANSPORTE COM RETIRADA DO MATERIAL ESCAVADO (EM CAÇAMBA) | E58: und | F58: 10 | G58: Drenagem
A59: 7.11 | B59: SICOR-MG | C59: ED-49935 | D59: CAIXA D'ÁGUA DE POLIETILENO, CAPACIDADE DE 500L, INCLUSIVE TAMPA, TORNEIRA DE BOIA, EXTRAVASOR, TUBO DE LIMPEZA E ACESSÓRIOS, EXCLUSIVE TUBULAÇÃO DE ENTRADA/SAÍDA DE ÁGUA | E59: und | F59: 6 | G59: Bloco administrativo: 1 und Bloco de serviço: 4 und Bloco multiuso: 1 unid
A60: 7.12 | B60: SINAPI | C60: 102623 | D60: CAIXA D´ÁGUA EM POLIETILENO, 1000 LITROS (INCLUSOS TUBOS, CONEXÕES E TORNEIRA DE BÓIA) - FORNECIMENTO E INSTALAÇÃO. AF_06/2021 | E60: und | F60: 1 | G60: Bloco de serviço
A61: 7.13 | B61: SICOR-MG | C61: ED-50302 | D61: TORNEIRA CHAVE BOIA AUTOMÁTICA PARA RESERVATÓRIO | E61: und | F61: 6 | G61: Bloco administrativo: 1 und Bloco de serviço: 4 und Bloco multiuso: 1 unid
A62: 7.14 | B62: SICOR-MG | C62: ED-48670 | D62: FORNECIMENTO E ASSENTAMENTO DE TUBO PVC RÍGIDO, DRENAGEM/PLUVIAL, PBV - SÉRIE NORMAL, DN 150 MM (6"), INCLUSIVE CONEXÕES | E62: m | F62: 200 | G62: Drenagem
A63: 7.15 | B63: SICOR-MG | C63: ED-50007 | D63: CAIXA SIFONADA EM PVC COM GRELHA QUADRADA150 X 150 X 50 MM | E63: und | F63: 9 | G63: Bloco administrativo: 2 und Bloco de serviço: 7 und
A64: 7.16 | B64: SICOR-MG | C64: ED-49939 | D64: CAIXA DE GORDURA SIMPLES (CGS), CIRCULAR, EM CONCRETO PRÉ-MOLDADO, CAPACIDADE DE 31L, INCLUSIVE ESCAVAÇÃO, REATERRO, TRANSPORTE E RETIRADA DO MATERIAL ESCAVADO (EM CAÇAMBA) | E64: und | F64: 2 | G64: Bloco de serviço
A65: 7.17 | B65: SICOR-MG | C65: ED-48554 | D65: CANALETA PARA DRENAGEM, PRÉ-MOLDADA, TIPO MEIA CANA, DIÂMETRO 50CM, EXCLUSIVE TAMPA, INCLUSIVE ASSENTAMENTO EM ARGAMASSA, TRAÇO 1:3 (CIMENTO E AREIA), ESCAVAÇÃO, TRANSPORTE E RETIRADA DO MATERIAL ESCAVADO (EM CAÇAMBA) | E65: m | F65: 63 | G65: Drenagem externa: 63,00m
A66: 8 | D66: INSTALAÇÃO ELÉTRICA
A67: 8.1 | B67: SICOR-MG | C67: ED-50227 | D67: PONTO DE EMBUTIR PARA UM (1) INTERRUPTOR SIMPLES (10A- 250V), COM PLACA 4"X2" DE UM (1) POSTO, COM ELETRODUTO FLEXÍVEL CORRUGADO, ANTI-CHAMA, DN 25MM (3/4"), EMBUTIDO NA ALVENARIA E CABO DE COBRE FLEXÍVEL, CLASSE 5, ISOLAMENTO TIPO LSHF/ATOX, NÃO HALOGENADO, SEÇÃO 1, 5MM2 (70°C-450/750V), COM DISTÂNCIA DE ATÉ DEZ (10) METROS DO PONTO DE DERIVAÇÃO, INCLUSIVE CAIXA DE LIGAÇÃO, SUPORTE E FIXAÇÃO DO ELETRODUTO COM ENCHIMENTO DO RASGO NA ALVENARIA/CONCRETO COM ARGAMASSA | E67: und | F67: 89 | G67: Bloco administrativo: 13 und Bloco de serviço: 16und Pátio coberto: 6 unid Bloco pedagógico: 28 unid Bloco multiuso: 26 unid
A68: 8.2 | B68: SICOR-MG | C68: ED-50228 | D68: PONTO DE EMBUTIR PARA UMA (1) LUMINÁRIA,COM ELETRODUTO DE PVC RÍGIDO ROSCÁVEL, DN 20MM (3/4"), EMBUTIDO NA LAJE E CABO DE COBRE FLEXÍVEL, CLASSE 5, ISOLAMENTO TIPO LSHF/ ATOX, NÃO HALOGENADO, SEÇÃO 1,5MM2 (70°C-450/750V), COM DISTÂNCIA DE ATÉ CINCO (5) METROS DO PONTO DE DERIVAÇÃO, EXCLUSIVE LUMINÁRIA, INCLUSIVE CAIXA DE LIGAÇÃO OCTOGONAL, SUPORTE E FIXAÇÃO DO ELETRODUTO | E68: und | F68: 95 | G68: Bloco administrativo: 13 und Bloco de serviço: 16und Pátio coberto: 6 unid Bloco pedagógico: 28 unid Bloco multiuso: 26 unid Passarelas: 6 und
A69: 8.3 | B69: SICOR-MG | C69: ED-50232 | D69: PONTO DE EMBUTIR PARA UMA (1) TOMADA PADRÃO, TRÊS (3) POLOS (2P+T/10A-250V), COM PLACA 4"X2" DE UM (1) POSTO, COM ELETRODUTO FLEXÍVEL CORRUGADO, ANTI-CHAMA, DN 25MM (3/ 4"), EMBUTIDO NA ALVENARIA E CABO DE COBRE FLEXÍVEL, CLASSE 5, ISOLAMENTO TIPO LSHF/ATOX, NÃO HALOGENADO, SEÇÃO 2,5MM2 (70°C-450/750V), COM DISTÂNCIA DE ATÉ DEZ (10) METROS DO PONTO DE DERIVAÇÃO, INCLUSIVE CAIXA DE LIGAÇÃO, SUPORTE E FIXAÇÃO DO ELETRODUTO COM ENCHIMENTO DO RASGO NA ALVENARIA/CONCRETO COM ARGAMASSA | E69: und | F69: 101 | G69: Bloco administrativo: 18 und Bloco de serviço: 11und Pátio coberto: 4 unid Bloco pedagógico: 43 unid Bloco multiuso: 25 unid
A70: 8.4 | B70: SICOR-MG | C70: ED-13338 | D70: LUMINÁRIA COMERCIAL CHANFRADA DE SOBREPOR COMPLETA, PARA DUAS (2) LÂMPADAS TUBULARES LED 2X18W-ØT8, TEMPERATURA DA COR 6500K, FORNECIMENTO E INSTALAÇÃO, INCLUSIVE BASE E LÂMPADAS | E70: und | F70: 95 | G70: Bloco administrativo: 13 und Bloco de serviço: 16und Pátio coberto: 6 unid Bloco pedagógico: 28 unid Bloco multiuso: 26 unid Passarelas: 6 und
A71: 8.5 | B71: SICOR-MG | C71: ED-14181 | D71: QUADRO DE DISTRIBUIÇÃO DE EMBUTIR EM PVC, PARA 12 DISJUNTORES DIN, INCLUSIVE BARRAMENTOS NEUTRO/TERRA, EXCLUSIVE BARRAMENTO DE FASE | E71: und | F71: 4 | G71: Bloco administrativo: 1 und Bloco de serviço: 1 und Bloco pedagógico: 1 und Bloco multiuso:1 und
A72: 8.6 | B72: SICOR-MG | C72: ED-49402 | D72: LUMINÁRIA ARANDELA TIPO TARTARUGA, PARA UMA (1) LÂMPADA BASE E-27, POTÊNCIA MÁXIMA 60W, FORNECIMENTO E INSTALAÇÃO, EXCLUSIVE BASE E LÂMPADA | E72: und | F72: 10 | G72: Pátio externo: 8 und Bloco de serviço: 2 und
A73: 8.7 | B73: SICOR-MG | C73: ED-20580 | D73: ENTRADA DE ENERGIA AÉREA, TIPO B2, PADRÃO CEMIG, CARGA INSTALADA DE 10,1KW ATÉ 15KW, BIFÁSICO, COM SAÍDA SUBTERRÂNEA, INCLUSIVE POSTE, CAIXA PARA MEDIDOR, DISJUNTOR, BARRAMENTO, ATERRAMENTO E ACESSÓRIOS | E73: und | F73: 1 | G73: Padrão de entrada
A74: 8.8 | B74: SICOR-MG | C74: ED-15752 | D74: CONJUNTO DE UMA (1) TOMADA DE DADOS (CONECTOR RJ45 CAT .6E), COM PLACA 4"X2" DE UM (1) POSTO, INCLUSIVE FORNECIMENTO, INSTALAÇÃO, SUPORTE, MÓDULO E PLACA | E74: und | F74: 25 | G74: 25 unid
A75: 8.9 | B75: SICOR-MG | C75: ED-9194 | D75: CABO UTP COM QUATRO (4) PARES, CATEGORIA 6, CLASSIFICAÇÃO LSZH, COM ISOLAMENTO NÃO HALOGENADO E ANTICHAMA, EXCLUSIVE CONECTOR/PLUG MACHO RJ45 E CRIMPAGEM | E75: m | F75: 500 | G75: 500m
A76: 8.10 | B76: SICOR-MG | C76: ED-34460 | D76: DISJUNTOR MONOPOLAR TIPO DIN, CORRENTE NOMINAL DE 10A, FORNECIMENTO E INSTALAÇÃO, INCLUSIVE TERMINAL ILHÓS | E76: und | F76: 2 | G76: 2 und
A77: 8.11 | B77: SICOR-MG | C77: ED-34461 | D77: DISJUNTOR MONOPOLAR TIPO DIN, CORRENTE NOMINAL DE 16A, FORNECIMENTO E INSTALAÇÃO, INCLUSIVE TERMINAL ILHÓS | E77: und | F77: 2 | G77: 2 und
A78: 8.12 | B78: SICOR-MG | C78: ED-34462 | D78: DISJUNTOR MONOPOLAR TIPO DIN, CORRENTE NOMINAL DE 20A, FORNECIMENTO E INSTALAÇÃO, INCLUSIVE TERMINAL ILHÓS | E78: und | F78: 2 | G78: 2 und
... A99: 8.33 | B99: SICOR-MG | C99: ED-49312 | D99: ELETRODUTO DE PVC RÍGIDO ROSCÁVEL, DN 50 MM (2"), INCLUSIVE CONEXÕES, SUPORTES E FIXAÇÃO | E99: m | F99: 200 | G99: Distribuição
A105: 9 | D105: LOUÇAS E METAIS
A106: 9.1 | B106: SICOR-MG | C106: ED-50277 | D106: CUBA EM AÇO INOXIDÁVEL DE EMBUTIR, AISI 304, APLICAÇÃO PARA PIA (465X330X115)MM, NÚMERO 1, ASSENTAMENTO EM BANCADA, INCLUSIVE VÁLVULA DE ESCOAMENTO DE METAL COM ACABAMENTO CROMADO, SIFÃO DE METAL TIPO COPO COM ACABAMENTO CROMADO | E106: und | F106: 3 | G106: Bloco de serviço: Cozinha: 2 und Área de serviço: 1 und
A107: 9.2 | B107: SICOR-MG | C107: ED-50278 | D107: CUBA EM AÇO INOXIDÁVEL DE EMBUTIR, AISI 304, APLICAÇÃO PARA PIA (560X330X115)MM, NÚMERO 2, ASSENTAMENTO EM BANCADA, INCLUSIVE VÁLVULA DE ESCOAMENTO DE METAL COM ACABAMENTO CROMADO, SIFÃO DE METAL TIPO COPO COM ACABAMENTO CROMADO | E107: und | F107: 1 | G107: Bloco de serviço: Cozinha: 1 und
A108: 9.3 | B108: SICOR-MG | C108: ED-50279 | D108: CUBA DE LOUÇA BRANCA DE EMBUTIR, FORMATO OVAL, INCLUSIVE VÁLVULA DE ESCOAMENTO DE METAL COM ACABAMENTO CROMADO, SIFÃO DE METAL TIPO COPO COM ACABAMENTO CROMADO | E108: und | F108: 6 | G108: Bloco de serviço: 6 und
A109: 9.4 | B109: SICOR-MG | C109: ED-50290 | D109: TANQUE DE LOUÇA BRANCA COM COLUNA, CAPACIDADE 22 LITROS, INCLUSIVE ACESSÓRIOS DE FIXAÇÃO, VÁLVULA DE ESCOAMENTO DE METAL COM ACABAMENTO CROMADO, SIFÃO DE METAL TIPO COPO COM ACABAMENTO CROMADO E REJUNTAMENTO, EXCLUSIVE TORNEIRA | E109: und | F109: 1 | G109: Bloco de serviço: 1 und
A110: 9.5 | B110: SICOR-MG | C110: ED-50282 | D110: LAVATÓRIO DE LOUÇA BRANCA COM COLUNA, TAMANHO MÉDIO, INCLUSIVE ACESSÓRIOS DE FIXAÇÃO, VÁLVULA DE ESCOAMENTO DE METAL COM ACABAMENTO CROMADO, SIFÃO DE METAL TIPO COPO COM ACABAMENTO CROMADO E REJUNTAMENTO, EXCLUSIVE TORNEIRA E ENGATE FLEXÍVEL | E110: und | F110: 4 | G110: Bloco administrativo: 2 und Bloco de serviço: 2 und
A111: 9.6 | B111: SICOR-MG | C111: ED-50283 | D111: LAVATÓRIO DE LOUÇA BRANCA SEM COLUNA, TAMANHO MÉDIO, INCLUSIVE ACESSÓRIOS DE FIXAÇÃO, VÁLVULA DE ESCOAMENTO DE METAL COM ACABAMENTO CROMADO, SIFÃO DE METAL TIPO COPO COM ACABAMENTO CROMADO E REJUNTAMENTO, EXCLUSIVE TORNEIRA E ENGATE FLEXÍVE | E111: und | F111: 2 | G111: Bloco de serviço: 2 und
A112: 9.7 | B112: SICOR-MG | C112: ED-50330 | D112: TORNEIRA METÁLICA PARA LAVATÓRIO, ABERTURA 1/4 DE VOLTA, ACABAMENTO CROMADO, COM AREJADOR, APLICAÇÃO DE MESA , INCLUSIVE ENGATE FLEXÍVEL METÁLICO | E112: und | F112: 6 | G112: Bloco de serviço: 6 und
A113: 9.8 | B113: SICOR-MG | C113: ED-50324 | D113: TORNEIRA METÁLICA PARA PIA, BICA MÓVEL, ABERTURA 1/4 DE VOLTA, ACABAMENTO CROMADO, COM AREJADOR, APLICAÇÃO DE MESA, INCLUSIVE ENGATE FLEXÍVEL METÁLICO | E113: und | F113: 4 | G113: Bloco de serviço: Cozinha: 3 und Área de serviço: 1 und
A114: 9.9 | B114: SICOR-MG | C114: ED-50323 | D114: TORNEIRA METÁLICA PARA IRRIGAÇÃO/JARDIM, ACABAMENTO CROMADO, APLICAÇÃO DE PAREDE | E114: und | F114: 10 | G114: Circulação externa
A115: 9.10 | B115: SICOR-MG | C115: ED-50331 | D115: TORNEIRA METÁLICA PARA TANQUE, ACABAMENTO CROMADO, BICO COM ROSCA | E115: und | F115: 1 | G115: Bloco de serviço: 1 und
A116: 9.11 | B116: SICOR-MG | C116: ED-50297 | D116: BACIA SANITÁRIA (VASO) DE LOUÇA COM CAIXA ACOPLADA, COR BRANCA, INCLUSIVE ACESSÓRIOS DE FIXAÇÃO/VEDAÇÃO, ENGATE FLEXÍVEL METÁLICO E REJUNTAMENTO, EXCLUSIVE ASSENTO | E116: und | F116: 3 | G116: Bloco administrativo: 2 und Bloco de serviço: 1 und
A117: 9.12 | B117: SICOR-MG | C117: ED-50298 | D117: BACIA SANITÁRIA (VASO) DE LOUÇA CONVENCIONAL, COR BRANCA, INCLUSIVE ACESSÓRIOS DE FIXAÇÃO/VEDAÇÃO, VÁLVULA DE DESCARGA METÁLICA COM ACIONAMENTO DUPLO, TUBO DE LIGAÇÃO DE LATÃO COM CANOPLA E REJUNTAMENTO, EXCLUSIVE ASSENTO | E117: und | F117: 4 | G117: Bloco de serviço: 4 und
... A122: 9.17 | B122: SICOR-MG | C122: ED-48183 | D122: DISTRIBUIDOR/DISPENSER PARA PAPEL HIGIÊNICO EM PLÁSTICO, TIPO SOBREPOR, INCLUSIVE ACESSÓRIOS DE FIXAÇÃO | E122: und | F122: 4 | G122: Bloco de serviço: 4 und
A123: 9.18 | B123: SINAPI | C123: 95544 | D123: PAPELEIRA DE PAREDE EM METAL CROMADO SEM TAMPA, INCLUSO FIXAÇÃO. AF_01/2020 | E123: und | F123: 3 | G123: Bloco adm: 2 unid Bloco serviço: 1 und
A124: 9.19 | B124: SICOR-MG | C124: ED-48187 | D124: SABONETEIRA EM AÇO INOX, ACABAMENTO POLIDO, TIPO CONCHA, DE SOBREPOR, INCLUSIVE ACESSÓRIOS PARA FIXAÇÃO | E124: und | F124: 1 | G124: Bloco de serviço: 1 und
A125: 9.20 | B125: SICOR-MG | C125: ED-48189 | D125: DISTRIBUIDOR/DISPENSER PARA ÁLCOOL EM GEL OU SABONETE LÍQUIDO, EM PLÁSTICO, CAPACIDADE RESERVATÓRIO 1500ML, INCLUSIVE ACESSÓRIOS PARA FIXAÇÃO | E125: und | F125: 8 | G125: Bloco administrativo: 2 unid Bloco de serviço: 6 und
A126: 9.21 | B126: SICOR-MG | C126: ED-48182 | D126: DISTRIBUIDOR/DISPENSER PARA PORTA PAPEL TOALHA PARA INTERFOLHAS DE DUAS (2) OU TRÊS (3) DOBRAS, EM PLÁSTICO, INCLUSIVE ACESSÓRIOS PARA FIXAÇÃO | E126: und | F126: 8 | G126: Bloco administrativo: 2 unid Bloco de serviço: 6 und
A127: 9.22 | B127: SICOR-MG | C127: ED-48160 | D127: BARRA DE APOIO EM AÇO INOX POLIDO RETA, DIÂMETRO DE 1.1/ 4", PARA ACESSIBILIDADE (PMR/PCR), COMPRIMENTO 80CM, INSTALADO EM PAREDE, INCLUSIVE ACESSÓRIOS PARA FIXAÇÃO | E127: und | F127: 4 | G127: Bloco de serviço: 4 unid ( 2 und p cado bacia)
A128: 9.23 | B128: SICOR-MG | C128: ED-48163 | D128: BARRA DE APOIO EM AÇO INOX POLIDO RETA, DIÂMETRO DE 1.1/ 4", PARA ACESSIBILIDADE (PMR/PCR), COMPRIMENTO 40CM, INSTALADO EM PORTA/PAREDE, INCLUSIVE ACESSÓRIOS PARA FIXAÇÃO | E128: und | F128: 2 | G128: Lavatório: 2 unid
A129: 9.24 | B129: SICOR-MG | C129: ED-48164 | D129: BARRA DE APOIO EM AÇO INOX POLIDO RETA, DIÂMETRO DE 1.1/ 4", PARA ACESSIBILIDADE (PMR/PCR), COMPRIMENTO 70CM, INSTALADO EM PAREDE, INCLUSIVE ACESSÓRIOS PARA FIXAÇÃO | E129: und | F129: 2 | G129: Bloco de serviço: 2 unid ( 1 und p cado bacia)
A130: 10 | D130: ESQUADRIAS DE MADEIRA
A131: 10.1 | B131: SINAPI | C131: 100693 | D131: KIT DE PORTA DE MADEIRA TIPO MEXICANA, MACIÇA (PESADA OU SUPERPESADA), PADRÃO MÉDIO, 80X210CM, ESPESSURA DE 3,5CM, ITENS INCLUSOS: DOBRADIÇAS, MONTAGEM E INSTALAÇÃO DE BATENTE, FECHADURA COM EXECUÇÃO DO FURO - FORNECIMENTO E INSTALAÇÃO. AF_12/2019 | E131: und | F131: 15 | G131: Bloco administrativo: 5 und Bloco de serviço: 1 und Bloco pedagógico: 4 und Bloco multiuso: 5 und
...

Sheet CRON
A1: PREFEITURA MUNICIPAL DE MINAS NOVAS Praça Sebastião Leme do Prado, 15 - Centro CEP: 39.650-000 – Minas Novas (MG) Fone: (33) 3764-1147 – (33) 3764-2641 E-mail: pmmn@uai.com.br / conveniosminasnovas@yahoo.com.br
A3: CRONOGRAMA FÍSICO-FINANCEIRO
A5: ='PLAN ORÇ'!A5 -> PREFEITURA MUNICIPAL DE MINAS NOVAS | C5: VALOR TOTAL: | D5: =C47 -> 2488831.3 | N5: ='MM CALC'!E4 -> DATA:28/07/2025
A6: ='MM CALC'!A5 -> OBRA: CONSTRUÇÃO DE ESCOLA MUNICIPAL DE PALMITAL
A7: ='MM CALC'!A6 -> LOCAL: POVOADO DE PALMITAL - DIST. BAIXA QUENTE - MINAS NOVAS/MG
A8: ITEM | B8: DESCRIÇÃO | C8: FÍSICO/ FINANCEIRO | D8: MÊS 01 | E8: MÊS 02 | F8: MÊS 03 | G8: MÊS 04 | H8: MÊS 05 | I8: MÊS 06 | J8: MÊS 07 | K8: MÊS 08 | L8: MÊS 09 | M8: MÊS 10 | N8: TOTAL
A10: 1 | B10: ='PLAN ORÇ'!D12 -> SERVIÇOS PRELIMINARES | C10: =+C11/$C$47 -> 0.023787482 | D10: 1 | N10: =SUM(D10:M10) -> 1 | O10: 1 | P10: =+N10-O10 -> 0
C11: ='PLAN ORÇ'!I12 -> 59203.03 | D11: =D10*$C$11 -> 59203.03 | N11: =ROUND(SUM(D11:M11),2) -> 59203.03 | O11: =+N11-C11 -> 0
A12: 2 | B12: ='PLAN ORÇ'!D20 -> TRABALHOS EM TERRA | C12: =+C13/$C$47 -> 0.0055203019 | D12: 1 | N12: =SUM(D12:M12) -> 1 | O12: 1 | P12: =+N12-O12 -> 0
C13: ='PLAN ORÇ'!I20 -> 13739.1 | D13: =D12*$C$13 -> 13739.1 | N13: =ROUND(SUM(D13:M13),2) -> 13739.1 | O13: =+N13-C13 -> 0
A14: 3 | B14: ='PLAN ORÇ'!D24 -> FUNDAÇÕES | C14: =+C15/$C$47 -> 0.050821734 | D14: 1 | N14: =SUM(D14:M14) -> 1 | O14: 1 | P14: =+N14-O14 -> 0
C15: ='PLAN ORÇ'!I24 -> 126486.72 | D15: =D14*$C$15 -> 126486.72 | N15: =ROUND(SUM(D15:M15),2) -> 126486.72 | O15: =+N15-C15 -> 0
A16: 4 | B16: ='PLAN ORÇ'!D31 -> ESTRUTURA | C16: =+C17/$C$47 -> 0.22144525 | D16: 0.1 | E16: 0.45 | F16: 0.45 | N16: =SUM(D16:M16) -> 1 | O16: 1 | P16: =+N16-O16 -> 0
C17: ='PLAN ORÇ'!I31 -> 551139.86 | D17: =D16*$C$17 -> 55113.986 | E17: =E16*$C$17 -> 248012.94 | F17: =F16*$C$17 -> 248012.94 | N17: =ROUND(SUM(D17:M17),2) -> 551139.86 | O17: =+N17-C17 -> 0
A18: 5 | B18: ='PLAN ORÇ'!D41 -> ALVENARIA | C18: =+C19/$C$47 -> 0.033608646 | G18: 0.6 | H18: 0.4 | N18: =SUM(D18:M18) -> 1 | O18: 1 | P18: =+N18-O18 -> 0
C19: ='PLAN ORÇ'!I41 -> 83646.25 | G19: =G18*$C$19 -> 50187.75 | H19: =H18*$C$19 -> 33458.5 | N19: =ROUND(SUM(D19:M19),2) -> 83646.25 | O19: =+N19-C19 -> 0
A20: 6 | B20: ='PLAN ORÇ'!D44 -> COBERTURA E FORRO | C20: =+C21/$C$47 -> 0.14902193 | G20: 0.3 | H20: 0.4 | I20: 0.3 | N20: =SUM(D20:M20) -> 1 | O20: 1 | P20: =+N20-O20 -> 0
C21: ='PLAN ORÇ'!I44 -> 370890.44 | G21: =G20*$C$21 -> 111267.13 | H21: =H20*$C$21 -> 148356.18 | I21: =I20*$C$21 -> 111267.13 | N21: =ROUND(SUM(D21:M21),2) -> 370890.44 | O21: =+N21-C21 -> 0
A22: 7 | B22: ='PLAN ORÇ'!D50 -> INSTALAÇÕES HIDROSSANITÁRIAS | C22: =+C23/$C$47 -> 0.031594456 | J22: 0.25 | K22: 0.25 | L22: 0.25 | M22: 0.25 | N22: =SUM(D22:M22) -> 1 | O22: 1 | P22: =+N22-O22 -> 0
C23: ='PLAN ORÇ'!I50 -> 78633.27 | J23: =J22*$C$23 -> 19658.318 | K23: =K22*$C$23 -> 19658.318 | L23: =L22*$C$23 -> 19658.318 | M23: =M22*$C$23 -> 19658.318 | N23: =ROUND(SUM(D23:M23),2) -> 78633.27 | O23: =+N23-C23 -> 0
A24: 8 | B24: ='PLAN ORÇ'!D68 -> INSTALAÇÃO ELÉTRICA | C24: =+C25/$C$47 -> 0.019658211 | J24: 0.25 | K24: 0.25 | L24: 0.25 | M24: 0.25 | N24: =SUM(D24:M24) -> 1 | O24: 1 | P24: =+N24-O24 -> 0
C25: ='PLAN ORÇ'!I68 -> 48925.97 | J25: =J24*$C$25 -> 12231.493 | K25: =K24*$C$25 -> 12231.493 | L25: =L24*$C$25 -> 12231.493 | M25: =M24*$C$25 -> 12231.493 | N25: =ROUND(SUM(D25:M25),2) -> 48925.97 | O25: =+N25-C25 -> 0
A26: 9 | B26: ='PLAN ORÇ'!D102 -> LOUÇAS E METAIS | C26: =+C27/$C$47 -> 0.011881231 | M26: 1 | N26: =SUM(D26:M26) -> 1 | O26: 1 | P26: =+N26-O26 -> 0
C27: ='PLAN ORÇ'!I102 -> 29570.38 | M27: =M26*$C$27 -> 29570.38 | N27: =ROUND(SUM(D27:M27),2) -> 29570.38 | O27: =+N27-C27 -> 0
A28: 10 | B28: ='PLAN ORÇ'!D127 -> ESQUADRIAS DE MADEIRA | C28: =+C29/$C$47 -> 0.022963505 | I28: 0.5 | J28: 0.5 | N28: =SUM(D28:M28) -> 1 | O28: 1 | P28: =+N28-O28 -> 0
C29: ='PLAN ORÇ'!I127 -> 57152.29 | I29: =I28*$C$29 -> 28576.145 | J29: =J28*$C$29 -> 28576.145 | N29: =ROUND(SUM(D29:M29),2) -> 57152.29 | O29: =+N29-C29 -> 0
A30: 11 | B30: ='PLAN ORÇ'!D131 -> ESQUADRIAS METÁLICAS | C30: =+C31/$C$47 -> 0.046526585 | K30: 0.8 | L30: 0.2 | N30: =SUM(D30:M30) -> 1 | O30: 1 | P30: =+N30-O30 -> 0
C31: ='PLAN ORÇ'!I131 -> 115796.82 | K31: =K30*$C$31 -> 92637.456 | L31: =L30*$C$31 -> 23159.364 | N31: =ROUND(SUM(D31:M31),2) -> 115796.82 | O31: =+N31-C31 -> 0
A32: 12 | B32: ='PLAN ORÇ'!D138 -> REVESTIMENTO | C32: =+C33/$C$47 -> 0.096646837 | G32: 0.3 | H32: 0.1 | I32: 0.2 | J32: 0.25 | K32: 0.15 | N32: =SUM(D32:M32) -> 1 | O32: 1 | P32: =+N32-O32 -> 0
C33: ='PLAN ORÇ'!I138 -> 240537.67 | G33: =G32*$C$33 -> 72161.301 | H33: =H32*$C$33 -> 24053.767 | I33: =I32*$C$33 -> 48107.534 | J33: =J32*$C$33 -> 60134.418 | K33: =K32*$C$33 -> 36080.651 | L33: =L32*$C$33 -> 0 | N33: =ROUND(SUM(D33:M33),2) -> 240537.67 | O33: =+N33-C33 -> 0
A34: 13 | B34: ='PLAN ORÇ'!D146 -> PISOS E RODAPÉS | C34: =+C35/$C$47 -> 0.19456489 | H34: 0.1 | I34: 0.15 | J34: 0.25 | K34: 0.1 | L34: 0.3 | M34: 0.1 | N34: =SUM(D34:M34) -> 1 | O34: 1 | P34: =+N34-O34 -> 0
C35: ='PLAN ORÇ'!I146 -> 484239.18 | H35: =H34*$C$35 -> 48423.918 | I35: =I34*$C$35 -> 72635.877 | J35: =J34*$C$35 -> 121059.8 | K35: =K34*$C$35 -> 48423.918 | L35: =L34*$C$35 -> 145271.75 | M35: =M34*$C$35 -> 48423.918 | N35: =ROUND(SUM(D35:M35),2) -> 484239.18 | O35: =+N35-C35 -> 0
A36: 14 | B36: ='PLAN ORÇ'!D156 -> VIDROS E ESPELHOS | C36: =+C37/$C$47 -> 0.0012121151 | M36: 1 | N36: =SUM(D36:M36) -> 1 | O36: 1 | P36: =+N36-O36 -> 0
C37: ='PLAN ORÇ'!I156 -> 3016.75 | M37: =M36*$C$37 -> 3016.75 | N37: =ROUND(SUM(D37:M37),2) -> 3016.75
A38: 15 | B38: ='PLAN ORÇ'!D158 -> PINTURA | C38: =+C39/$C$47 -> 0.067765181 | K38: 0.3 | L38: 0.2 | M38: 0.5 | N38: =SUM(D38:M38) -> 1 | O38: 1 | P38: =+N38-O38 -> 0
C39: ='PLAN ORÇ'!I158 -> 168656.1 | K39: =K38*$C$39 -> 50596.83 | L39: =L38*$C$39 -> 33731.22 | M39: =M38*$C$39 -> 84328.05 | N39: =ROUND(SUM(D39:M39),2) -> 168656.1
A40: 16 | B40: ='PLAN ORÇ'!D170 -> BANCADAS, PRATELEIRAS E DIVISÓRIAS | C40: =+C41/$C$47 -> 0.010514397 | M40: 1 | N40: =SUM(D40:M40) -> 1 | O40: 1 | P40: =+N40-O40 -> 0
C41: ='PLAN ORÇ'!I170 -> 26168.56 | M41: =M40*$C$41 -> 26168.56 | N41: =ROUND(SUM(D41:M41),2) -> 26168.56
A42: 17 | B42: ='PLAN ORÇ'!D177 -> DIVERSOS | C42: =+C43/$C$47 -> 0.0094545502 | D42: 0.1 | E42: 0.1 | F42: 0.1 | G42: 0.1 | H42: 0.1 | I42: 0.1 | J42: 0.1 | K42: 0.1 | L42: 0.1 | M42: 0.1 | N42: =SUM(D42:M42) -> 1 | O42: 1 | P42: =+N42-O42 -> 0
C43: ='PLAN ORÇ'!I177 -> 23530.78 | D43: =D42*$C$43 -> 2353.078 | E43: =E42*$C$43 -> 2353.078 | F43: =F42*$C$43 -> 2353.078 | G43: =G42*$C$43 -> 2353.078 | H43: =H42*$C$43 -> 2353.078 | I43: =I42*$C$43 -> 2353.078 | J43: =J42*$C$43 -> 2353.078 | K43: =K42*$C$43 -> 2353.078 | ... M43: =M42*$C$43 -> 2353.078 | N43: =ROUND(SUM(D43:M43),2) -> 23530.78
A44: 18 | B44: ='PLAN ORÇ'!D188 -> LIMPEZA | C44: =+C45/$C$47 -> 0.0030126952 | M44: 1 | N44: =SUM(D44:M44) -> 1 | O44: 1 | P44: =+N44-O44 -> 0
C45: ='PLAN ORÇ'!I188 -> 7498.09 | M45: =M44*$C$45 -> 7498.09 | N45: =ROUND(SUM(D45:M45),2) -> 7498.09 | O45: =+N45+N43+N41+N39+N37+N35+N33+N31+N29+N27+N25+N23+N21+N19+N17+N15+N13+N11 -> 2488831.3
A46: TOTAL | C46: =+C44+C42+C40+C38+C36+C34+C32+C30+C28+C26+C24+C22+C20+C18+C16+C14+C12+C10 -> 1 | D46: =D47/$C$47 -> 0.1032195 | E46: =E47/$C$47 -> 0.10059582 | F46: =F47/$C$47 -> 0.10059582 | G46: =G47/$C$47 -> 0.094811273 | H46: =H47/$C$47 -> 0.10311886 | I46: =I47/$C$47 -> 0.10564789 | J46: =J47/$C$47 -> 0.098043306 | K46: =K47/$C$47 -> 0.10526296 | ... M46: =M47/$C$47 -> 0.09371814 | N46: =SUM(D46:M46) -> 1 | O46: =+O45/C47 -> 1
C47: =+C45+C43+C41+C39+C37+C35+C33+C31+C29+C27+C25+C23+C21+C19+C17+C15+C13+C11 -> 2488831.3 | D47: =+D45+D43+D41+D39+D37+D35+D33+D31+D29+D27+D25+D23+D21+D19+D17+D15+D13+D11 -> 256895.91 | E47: =+E45+E43+E41+E39+E37+E35+E33+E31+E29+E27+E25+E23+E21+E19+E17+E15+E13+E11 -> 250366.02 | F47: =+F45+F43+F41+F39+F37+F35+F33+F31+F29+F27+F25+F23+F21+F19+F17+F15+F13+F11 -> 250366.02 | G47: =+G45+G43+G41+G39+G37+G35+G33+G31+G29+G27+G25+G23+G21+G19+G17+G15+G13+G11 -> 235969.26 | H47: =+H45+H43+H41+H39+H37+H35+H33+H31+H29+H27+H25+H23+H21+H19+H17+H15+H13+H11 -> 256645.44 | I47: =+I45+I43+I41+I39+I37+I35+I33+I31+I29+I27+I25+I23+I21+I19+I17+I15+I13+I11 -> 262939.77 | J47: =+J45+J43+J41+J39+J37+J35+J33+J31+J29+J27+J25+J23+J21+J19+J17+J15+J13+J11 -> 244013.25 | ... M47: =+M45+M43+M41+M39+M37+M35+M33+M31+M29+M27+M25+M23+M21+M19+M17+M15+M13+M11 -> 233248.64 | N47: =ROUND(SUM(D47:M47),2) -> 2488831.3
B52: ='MM CALC'!C198 -> Josiane Ferreira Soares | E52: ='MM CALC'!E198 -> Alessandro Mota Barbosa
B53: ='MM CALC'!C199 -> Engenheira Civil - CREA MG 48289 | E53: ='MM CALC'!E199 -> Prefeito Municipal de Minas Novas
