Workbook
Name Fonte: 'MM CALC'!#REF!
Name Fonte: 'PLAN ORÇ'!$I1
Name nao: #REF!
Name nao: #REF!

Sheet PLAN ORÇ
A1: PREFEITURA MUNICIPAL DE MINAS NOVAS Praça Sebastião Leme do Prado, 15 - Centro CEP: 39.650-000 – Minas Novas (MG) Fone: (33) 3764-1147 – (33) 3764-2641 E-mail: pmmn@uai.com.br / conveniosminasnovas@yahoo.com.br
A3: PLANILHA ORÇAMENTÁRIA DE CUSTOS - MÃO DE OBRA
A5: ='MM CALC'!A4 -> PREFEITURA MUNICIPAL DE MINAS NOVAS | E5: ='MM CALC'!E4 -> DATA: 17/11/2025
A6: ='MM CALC'!A5 -> OBRA: REFORMA E CONSTRUÇÃO DA ESCOLA MUNICIPAL PADRE SACRAMENTO NO POVOADO DE SANTIAGO
A7: ='MM CALC'!A6 -> LOCAL: POVOADO DE SANTIAGO - MINAS NOVAS/MG | E7: FORMA DE EXECUÇÃO: | I7: ISS 3,00%
A8: REGIÃO/MÊS DE REFERÊNCIA: SICOR ABRIL/2025, COM DESONERAÇÃO | E8: ( ) | F8: DIRETA
E9: ( X ) | F9: INDIRETA | G9: BDI = | H9: 0.2829
A10: -
A11: ITEM | B11: FONTE | C11: CÓDIGO | D11: DESCRIÇÃO | E11: UND. | F11: QUANT. | G11: UNITÁRIO S/ BDI | H11: UNITÁRIO C/ BDI | I11: TOTAL
A12: ='MM CALC'!A10 -> 1 | D12: ='MM CALC'!D10 -> SERVIÇOS PRELIMINARES | I12: =SUM(I20:I23) -> 38743.36
A13: ='MM CALC'!A11 -> 1.1 | B13: ='MM CALC'!B11 -> SICOR-MG | C13: ED-48514 | D13: ='MM CALC'!D11 -> REMOÇÃO MANUAL DE TELHA CERÂMICA, COM REAPROVEITAMENTO, INCLUSIVE AFASTAMENTO EEMPILHAMENTO, EXCLUSIVE TRANSPORTE E RETIRADA DOMATERIAL REMOVIDO NÃO REAPROVEITÁVEL | E13: m² | G13: ='MM CALC'!G11 -> a cargo do municipio
A14: ='MM CALC'!A12 -> 1.2 | B14: ='MM CALC'!B12 -> SICOR-MG | C14: ED-48457 | D14: ='MM CALC'!D12 -> REMOÇÃO MANUAL DE ENGRADAMENTO PARA TELHA TIPOCERÂMICA OU CONCRETO, INCLUSIVE AFASTAMENTO EEMPILHAMENTO, EXCLUSIVE TRANSPORTE E RETIRADA DOMATERIAL REMOVIDO NÃO REAPROVEITÁVEL | E14: m² | G14: ='MM CALC'!G12 -> a cargo do municipio
A15: ='MM CALC'!A13 -> 1.3 | B15: ='MM CALC'!B13 -> SICOR-MG | C15: ED-28338 | D15: ='MM CALC'!D13 -> DEMOLIÇÃO MANUAL DE CONSTRUÇÃO EM ALVENARIAS DEVEDAÇÃO, COM ESPESSURA MÁXIMA DE 15CM, INCLUSIVEREMOÇÃO COM REAPROVEITAMENTO DE ESQUADRIAS,AFASTAMENTO E EMPILHAMENTO, EXCLUSIVE TRANSPORTE ERETIRADA DO MATERIAL DEMOLIDO/REMOVIDO NÃO REAPROVEITÁVEL | E15: m² | G15: ='MM CALC'!G13 -> a cargo do municipio
A16: ='MM CALC'!A14 -> 1.4 | B16: ='MM CALC'!B14 -> SICOR-MG | C16: ED-48467 | D16: ='MM CALC'!D14 -> REMOÇÃO DE LOUÇAS (LAVATÓRIO, BANHEIRA, PIA, VASOSANITÁRIO, TANQUE), COM REAPROVEITAMENTO, INCLUSIVEAFASTAMENTO E EMPILHAMENTO, EXCLUSIVE TRANSPORTE ERETIRADA DO MATERIAL REMOVIDO NÃO REAPROVEITÁVEL | E16: uni | G16: ='MM CALC'!G14 -> a cargo do municipio
A17: ='MM CALC'!A15 -> 1.5 | B17: ='MM CALC'!B15 -> SICOR-MG | C17: ED-48479 | D17: ='MM CALC'!D15 -> DEMOLIÇÃO MANUAL DE PISO CIMENTADO OU CONTRAPISO DEARGAMASSA, COM ESPESSURA MÁXIMA DE 10CM, INCLUSIVEAFASTAMENTO E EMPILHAMENTO, EXCLUSIVE TRANSPORTE ERETIRADA DO MATERIAL DEMOLIDO | E17: m² | G17: ='MM CALC'!G15 -> a cargo do municipio
A18: ='MM CALC'!A16 -> 1.6 | B18: ='MM CALC'!B16 -> SICOR-MG | C18: ='MM CALC'!C16 -> RO-01091 | D18: ='MM CALC'!D16 -> Limpeza mecanizada da camada vegetal | E18: ='MM CALC'!E16 -> m² | G18: ='MM CALC'!G16 -> a cargo do municipio
A19: ='MM CALC'!A17 -> 1.7 | B19: ='MM CALC'!B17 -> SICOR-MG | C19: ='MM CALC'!C17 -> RO-00232 | D19: ='MM CALC'!D17 -> Regularização de superfície com motoniveladora | E19: ='MM CALC'!E17 -> m² | G19: ='MM CALC'!G17 -> a cargo do municipio
A20: ='MM CALC'!A18 -> 1.8 | B20: ='MM CALC'!B18 -> SICOR-MG | C20: ='MM CALC'!C18 -> ED-28427 | D20: ='MM CALC'!D18 -> FORNECIMENTO E COLOCAÇÃO DE PLACA DE OBRA EM CHAPA GALVANIZADA #26, ESP. 0,45MM, DIMENSÃO (3X1,5)M, PLOTADA COM ADESIVO VINÍLICO, AFIXADA COM REBITES 4,8X40MM, EM ESTRUTURA METÁLICA DE METALON 20X20MM, ESP. 1,25MM, INCLUSIVE SUPORTE EM EUCALIPTO AUTOCLAVADO PINTADO COM TINTA PVA DUAS (2) DEMÃOS | E20: ='MM CALC'!E18 -> und | F20: ='MM CALC'!F18 -> 1 | G20: 1130.67 | H20: =ROUND((1+$H$9)*G20,2) -> 1450.54 | I20: =+ROUND((H20*F20),2) -> 1450.54
A21: ='MM CALC'!A19 -> 1.9 | B21: ='MM CALC'!B19 -> SICOR-MG | C21: ='MM CALC'!C19 -> ED-50135 | D21: ='MM CALC'!D19 -> BARRACÃO DE OBRA, EM CHAPA DE COMPENSADO RESINADO, INCLUSIVE INSTALAÇÕES SANITÁRIAS E MOBILIÁRIO - PADRÃO DER-MG | E21: ='MM CALC'!E19 -> m² | F21: ='MM CALC'!F19 -> 32 | G21: 640.18 | H21: =ROUND((1+$H$9)*G21,2) -> 821.29 | I21: =+ROUND((H21*F21),2) -> 26281.28
A22: ='MM CALC'!A20 -> 1.10 | B22: ='MM CALC'!B20 -> SICOR-MG | C22: ='MM CALC'!C20 -> ED-17989 | D22: ='MM CALC'!D20 -> LOCAÇÃO DE OBRA COM GABARITO DE TÁBUAS CORRIDAS PONTALETADAS A CADA 2,00M, REAPROVEITAMENTO (2X), INCLUSIVE ACOMPANHAMENTO DE EQUIPE TOPOGRÁFICA PARA MARCAÇÃO DE PONTO TOPOGRÁFICO | E22: ='MM CALC'!E20 -> m | F22: ='MM CALC'!F20 -> 99.2 | G22: 60.7 | H22: =ROUND((1+$H$9)*G22,2) -> 77.87 | I22: =+ROUND((H22*F22),2) -> 7724.7
A23: ='MM CALC'!A21 -> 1.11 | B23: ='MM CALC'!B21 -> SICOR-MG | C23: ='MM CALC'!C21 -> ED-20579 | D23: ='MM CALC'!D21 -> ENTRADA DE ENERGIA AÉREA, TIPO B1, PADRÃO CEMIG, CARGA INSTALADA DE ATÉ 10KW, BIFÁSICO, COM SAÍDA SUBTERRÂNEA, INCLUSIVE POSTE, CAIXA PARA MEDIDOR, DISJUNTOR, BARRAMENTO, ATERRAMENTO E ACESSÓRIOS | E23: ='MM CALC'!E21 -> und | F23: ='MM CALC'!F21 -> 1 | G23: 2562.04 | H23: =ROUND((1+$H$9)*G23,2) -> 3286.84 | I23: =+ROUND((H23*F23),2) -> 3286.84
A24: ='MM CALC'!A22 -> 2 | D24: ='MM CALC'!D22 -> TRABALHOS EM TERRA | I24: =SUM(I25:I27) -> 29525.5
A25: ='MM CALC'!A23 -> 2.1 | B25: ='MM CALC'!B23 -> SICOR-MG | C25: ='MM CALC'!C23 -> ED-51107 | D25: ='MM CALC'!D23 -> ESCAVAÇÃO MANUAL DE VALA COM PROFUNDIDADE MENOR OU IGUAL A 1,5M, INCLUSIVE DESCARGA LATERAL | E25: ='MM CALC'!E23 -> m³ | F25: ='MM CALC'!F23 -> 19.15 | G25: 71.42 | H25: =ROUND((1+$H$9)*G25,2) -> 91.62 | I25: =+ROUND((H25*F25),2) -> 1754.52
A26: ='MM CALC'!A24 -> 2.2 | B26: ='MM CALC'!B24 -> SICOR-MG | C26: ='MM CALC'!C24 -> ED-51093 | D26: ='MM CALC'!D24 -> APILOAMENTO MANUAL EM FUNDO DE VALA COM SOQUETE, EXCLUSIVE ESCAVAÇÃO | E26: ='MM CALC'!E24 -> m² | F26: ='MM CALC'!F24 -> 51.79 | G26: 24.08 | H26: 24.08 | I26: =+ROUND((H26*F26),2) -> 1247.1
A27: ='MM CALC'!A25 -> 2.3 | B27: ='MM CALC'!B25 -> SICOR-MG | C27: ='MM CALC'!C25 -> ED-51096 | D27: ='MM CALC'!D25 -> COMPACTAÇÃO MECANIZADA DE ATERRO COM PLACA VIBRATÓRIA, INCLUSIVE ESPALHAMENTO MANUAL | E27: ='MM CALC'!E25 -> m³ | F27: ='MM CALC'!F25 -> 400.3 | G27: 51.65 | H27: =ROUND((1+$H$9)*G27,2) -> 66.26 | I27: =+ROUND((H27*F27),2) -> 26523.88
A28: ='MM CALC'!A26 -> 3 | D28: ='MM CALC'!D26 -> FUNDAÇÕES | I28: =SUM(I29:I34) -> 77948.36
A29: ='MM CALC'!A27 -> 3.1 | B29: ='MM CALC'!B27 -> SICOR-MG | C29: ='MM CALC'!C27 -> ED-29801 | D29: ='MM CALC'!D27 -> PERFURAÇÃO MANUAL DE ESTACA TIPO BROCA A TRADO, INCLUSIVE AFASTAMENTO, EXCLUSIVE ARMAÇÃO, CONCRETO ESTRUTURAL, TRANSPORTE E RETIRADA DO MATERIAL ESCAVADO | E29: ='MM CALC'!E27 -> m³ | F29: ='MM CALC'!F27 -> 3.39 | G29: 232.76 | H29: =ROUND((1+$H$9)*G29,2) -> 298.61 | I29: =+ROUND((H29*F29),2) -> 1012.29
A30: ='MM CALC'!A28 -> 3.2 | B30: ='MM CALC'!B28 -> SICOR-MG | C30: ='MM CALC'!C28 -> ED-49811 | D30: ='MM CALC'!D28 -> FÔRMA E DESFORMA PARA VIGA-CINTA/BLOCO COM COMPENSADO RESINADO, ESP. 12MM, REAPROVEITAMENTO (3X) (FUNDAÇÃO) | E30: ='MM CALC'!E28 -> m² | F30: ='MM CALC'!F28 -> 167.99 | G30: 70.81 | H30: =ROUND((1+$H$9)*G30,2) -> 90.84 | I30: =+ROUND((H30*F30),2) -> 15260.21
A31: ='MM CALC'!A29 -> 3.3 | B31: ='MM CALC'!B29 -> SICOR-MG | C31: ='MM CALC'!C29 -> ED-48298 | D31: ='MM CALC'!D29 -> CORTE, DOBRA E MONTAGEM DE AÇO CA-50/60, INCLUSIVE ESPAÇADOR | E31: ='MM CALC'!E29 -> kg | F31: ='MM CALC'!F29 -> 1502.15 | G31: 13.67 | H31: =ROUND((1+$H$9)*G31,2) -> 17.54 | I31: =+ROUND((H31*F31),2) -> 26347.71
A32: ='MM CALC'!A30 -> 3.4 | B32: ='MM CALC'!B30 -> SICOR-MG | C32: ='MM CALC'!C30 -> ED-49812 | D32: ='MM CALC'!D30 -> LASTRO DE CONCRETO MAGRO, INCLUSIVE TRANSPORTE, LANÇAMENTO E ADENSAMENTO | E32: ='MM CALC'!E30 -> m³ | F32: ='MM CALC'!F30 -> 2.61 | G32: 569.26 | H32: =ROUND((1+$H$9)*G32,2) -> 730.3 | I32: =+ROUND((H32*F32),2) -> 1906.08
A33: ='MM CALC'!A31 -> 3.5 | B33: ='MM CALC'!B31 -> SICOR-MG | C33: ='MM CALC'!C31 -> ED-49799 | D33: ='MM CALC'!D31 -> FORNECIMENTO DE CONCRETO ESTRUTURAL, USINADO, COM FCK 30MPA, INCLUSIVE LANÇAMENTO, ADENSAMENTO E ACABAMENTO (FUNDAÇÃO) | E33: ='MM CALC'!E31 -> m³ | F33: ='MM CALC'!F31 -> 26.27 | G33: 757.64 | H33: =ROUND((1+$H$9)*G33,2) -> 971.98 | I33: =+ROUND((H33*F33),2) -> 25533.91
A34: ='MM CALC'!A32 -> 3.6 | B34: ='MM CALC'!B32 -> SICOR-MG | C34: ='MM CALC'!C32 -> ED-50174 | D34: ='MM CALC'!D32 -> IMPERMEABILIZAÇÃO COM EMULSÃO ASFÁLTICA, DUAS (2) DEMÃOS | E34: ='MM CALC'!E32 -> m² | F34: ='MM CALC'!F32 -> 193.86 | G34: 31.72 | H34: =ROUND((1+$H$9)*G34,2) -> 40.69 | I34: =+ROUND((H34*F34),2) -> 7888.16
A35: ='MM CALC'!A33 -> 4 | D35: ='MM CALC'!D33 -> ESTRUTURA | I35: =SUM(I36:I44) -> 262883.68
A36: ='MM CALC'!A34 -> 4.1 | B36: ='MM CALC'!B34 -> SICOR-MG | C36: ='MM CALC'!C34 -> ED-16319 | D36: ='MM CALC'!D34 -> MURO DIVISÓRIO DE TIJOLO FURADO COM ALTURA 220CM, COM PILARETES DE 16X9CM A CADA 250CM, SAPATA DE CONCRETO ARMADO 30X20CM E PINGADEIRA, REBOCADO E PINTADO A LÁTEX, INCLUSIVE ESCAVAÇÃO, APILOAMENTO E LASTRO | E36: ='MM CALC'!E34 -> m | F36: ='MM CALC'!F34 -> 94.9 | G36: 646.84 | H36: =ROUND((1+$H$9)*G36,2) -> 829.83 | I36: =+ROUND((H36*F36),2) -> 78750.87
A37: ='MM CALC'!A35 -> 4.2 | B37: ='MM CALC'!B35 -> SICOR-MG | C37: ='MM CALC'!C35 -> ED-49647 | D37: ='MM CALC'!D35 -> FÔRMA E DESFORMA DE COMPENSADO PLASTIFICADO, ESP. 12MM, REAPROVEITAMENTO (5X), EXCLUSIVE ESCORAMENTO | E37: ='MM CALC'!E35 -> m² | F37: ='MM CALC'!F35 -> 337.02 | G37: 56.22 | H37: =ROUND((1+$H$9)*G37,2) -> 72.12 | I37: =+ROUND((H37*F37),2) -> 24305.88
A38: ='MM CALC'!A36 -> 4.3 | B38: ='MM CALC'!B36 -> SICOR-MG | C38: ='MM CALC'!C36 -> ED-48298 | D38: ='MM CALC'!D36 -> CORTE, DOBRA E MONTAGEM DE AÇO CA-50/60, INCLUSIVE ESPAÇADOR | E38: ='MM CALC'!E36 -> kg | F38: ='MM CALC'!F36 -> 1545.05 | G38: 13.67 | H38: =ROUND((1+$H$9)*G38,2) -> 17.54 | I38: =+ROUND((H38*F38),2) -> 27100.18
A39: ='MM CALC'!A37 -> 4.4 | B39: ='MM CALC'!B37 -> SICOR-MG | C39: ='MM CALC'!C37 -> ED-49638 | D39: ='MM CALC'!D37 -> FORNECIMENTO DE CONCRETO ESTRUTURAL, USINADO BOMBEADO, COM FCK 25MPA, INCLUSIVE LANÇAMENTO, ADENSAMENTO E ACABAMENTO | E39: ='MM CALC'!E37 -> m³ | F39: ='MM CALC'!F37 -> 23.77 | G39: 752.59 | H39: =ROUND((1+$H$9)*G39,2) -> 965.5 | I39: =+ROUND((H39*F39),2) -> 22949.94
A40: ='MM CALC'!A38 -> 4.5 | B40: ='MM CALC'!B38 -> SICOR-MG | C40: ='MM CALC'!C38 -> ED-50253 | D40: ='MM CALC'!D38 -> LAJE PRÉ-MOLDADA UNIDIRECIONAL COM ENCHIMENTO EM POLIESTIRENO EXPANDIDO (EPS), CAPEAMENTO DE 4CM, SOBRECARGA DE 100KG/M2, ALTURA TOTAL DE 11CM E VÃO LIVRE MÁXIMO DE 4M, INCLUSIVE CONCRETO ESTRUTURAL, USINADO BOMBEADO COM FCK DE 20MPA, EXCLUSIVE TELA ARMADA E CIMBRAMENTO | E40: ='MM CALC'!E38 -> m² | F40: ='MM CALC'!F38 -> 430.65 | G40: 129.24 | H40: =ROUND((1+$H$9)*G40,2) -> 165.8 | I40: =+ROUND((H40*F40),2) -> 71401.77
A41: ='MM CALC'!A39 -> 4.6 | B41: ='MM CALC'!B39 -> SICOR-MG | C41: ='MM CALC'!C39 -> ED-29563 | D41: ='MM CALC'!D39 -> ARMADURA DE TELA DE AÇO CA-60, SOLDADA TIPO Q-61, DIÂMETRO Ø3,4MM, TRAMA COM DIMENSÃO (150X150)MM, INCLUSIVE ESPAÇADOR, EXCLUSIVE CONCRETO | E41: ='MM CALC'!E39 -> m² | F41: ='MM CALC'!F39 -> 473.72 | G41: 14.31 | H41: =ROUND((1+$H$9)*G41,2) -> 18.36 | I41: =+ROUND((H41*F41),2) -> 8697.5
A42: ='MM CALC'!A40 -> 4.7 | B42: ='MM CALC'!B40 -> SICOR-MG | C42: ='MM CALC'!C40 -> ED-19637 | D42: ='MM CALC'!D40 -> CIMBRAMENTO PARA LAJE PRÉ-MOLDADA COM ESCORAMENTO METÁLICO, TIPO "A", ALTURA DE (200 ATÉ 310)CM, INCLUSIVE DESCARGA, MONTAGEM, DESMONTAGEM E CARGA | E42: ='MM CALC'!E40 -> m2xmês | F42: ='MM CALC'!F40 -> 861.3 | G42: 22.69 | H42: =ROUND((1+$H$9)*G42,2) -> 29.11 | I42: =+ROUND((H42*F42),2) -> 25072.44
...

Sheet MM CALC
A1: PREFEITURA MUNICIPAL DE MINAS NOVAS Praça Sebastião Leme do Prado, 15 - Centro CEP: 39.650-000 – Minas Novas (MG) Fone: (33) 3764-1147 – (33) 3764-2641 E-mail: convenios@minasnovas.mg.gov.br
A2: MEMÓRIA DE CÁLCULO DE QUANTITATIVOS
A4: PREFEITURA MUNICIPAL DE MINAS NOVAS | E4: DATA: 17/11/2025
A5: OBRA: REFORMA E CONSTRUÇÃO DA ESCOLA MUNICIPAL PADRE SACRAMENTO NO POVOADO DE SANTIAGO
A6: LOCAL: POVOADO DE SANTIAGO - MINAS NOVAS/MG
A8: ITEM | B8: FONTE | C8: CÓDIGO | D8: DESCRIÇÃO | E8: UND. | F8: QUANT. | G8: FÓRMULA/MEMÓRIA
A9: - | B9: - | C9: - | D9: - | E9: - | F9: - | G9: -
A10: 1 | D10: SERVIÇOS PRELIMINARES
A11: 1.1 | B11: SICOR-MG | C11: ED-48514 | D11: REMOÇÃO MANUAL DE TELHA CERÂMICA, COM REAPROVEITAMENTO, INCLUSIVE AFASTAMENTO EEMPILHAMENTO, EXCLUSIVE TRANSPORTE E RETIRADA DOMATERIAL REMOVIDO NÃO REAPROVEITÁVEL | E11: m² | F11: 342.45 | G11: a cargo do municipio
A12: 1.2 | B12: SICOR-MG | C12: ED-48457 | D12: REMOÇÃO MANUAL DE ENGRADAMENTO PARA TELHA TIPOCERÂMICA OU CONCRETO, INCLUSIVE AFASTAMENTO EEMPILHAMENTO, EXCLUSIVE TRANSPORTE E RETIRADA DOMATERIAL REMOVIDO NÃO REAPROVEITÁVEL | E12: m² | F12: 305.76 | G12: a cargo do municipio
A13: 1.3 | B13: SICOR-MG | C13: ED-28338 | D13: DEMOLIÇÃO MANUAL DE CONSTRUÇÃO EM ALVENARIAS DEVEDAÇÃO, COM ESPESSURA MÁXIMA DE 15CM, INCLUSIVEREMOÇÃO COM REAPROVEITAMENTO DE ESQUADRIAS,AFASTAMENTO E EMPILHAMENTO, EXCLUSIVE TRANSPORTE ERETIRADA DO MATERIAL DEMOLIDO/REMOVIDO NÃO REAPROVEITÁVEL | E13: m² | F13: 258 | G13: a cargo do municipio
A14: 1.4 | B14: SICOR-MG | C14: ED-48467 | D14: REMOÇÃO DE LOUÇAS (LAVATÓRIO, BANHEIRA, PIA, VASOSANITÁRIO, TANQUE), COM REAPROVEITAMENTO, INCLUSIVEAFASTAMENTO E EMPILHAMENTO, EXCLUSIVE TRANSPORTE ERETIRADA DO MATERIAL REMOVIDO NÃO REAPROVEITÁVEL | E14: uni | F14: 6 | G14: a cargo do municipio
A15: 1.5 | B15: SICOR-MG | C15: ED-48479 | D15: DEMOLIÇÃO MANUAL DE PISO CIMENTADO OU CONTRAPISO DEARGAMASSA, COM ESPESSURA MÁXIMA DE 10CM, INCLUSIVEAFASTAMENTO E EMPILHAMENTO, EXCLUSIVE TRANSPORTE ERETIRADA DO MATERIAL DEMOLIDO | E15: m² | F15: 258 | G15: a cargo do municipio
A16: 1.6 | B16: SICOR-MG | C16: RO-01091 | D16: Limpeza mecanizada da camada vegetal | E16: m² | F16: 2778.94 | G16: a cargo do municipio
A17: 1.7 | B17: SICOR-MG | C17: RO-00232 | D17: Regularização de superfície com motoniveladora | E17: m² | F17: 2778.94 | G17: a cargo do municipio
A18: 1.8 | B18: SICOR-MG | C18: ED-28427 | D18: FORNECIMENTO E COLOCAÇÃO DE PLACA DE OBRA EM CHAPA GALVANIZADA #26, ESP. 0,45MM, DIMENSÃO (3X1,5)M, PLOTADA COM ADESIVO VINÍLICO, AFIXADA COM REBITES 4,8X40MM, EM ESTRUTURA METÁLICA DE METALON 20X20MM, ESP. 1,25MM, INCLUSIVE SUPORTE EM EUCALIPTO AUTOCLAVADO PINTADO COM TINTA PVA DUAS (2) DEMÃOS | E18: und | F18: 1 | G18: Placa de obra: 1 unid
A19: 1.9 | B19: SICOR-MG | C19: ED-50135 | D19: BARRACÃO DE OBRA, EM CHAPA DE COMPENSADO RESINADO, INCLUSIVE INSTALAÇÕES SANITÁRIAS E MOBILIÁRIO - PADRÃO DER-MG | E19: m² | F19: 32 | G19: Barracão de obra: 4,00 x 8,00 = 32,00m²
A20: 1.10 | B20: SICOR-MG | C20: ED-17989 | D20: LOCAÇÃO DE OBRA COM GABARITO DE TÁBUAS CORRIDAS PONTALETADAS A CADA 2,00M, REAPROVEITAMENTO (2X), INCLUSIVE ACOMPANHAMENTO DE EQUIPE TOPOGRÁFICA PARA MARCAÇÃO DE PONTO TOPOGRÁFICO | E20: m | F20: 99.2 | G20: (31,85 + 2,00) x 2 + (13,90 + 2,00) x 2 = 99,50
A21: 1.11 | B21: SICOR-MG | C21: ED-20579 | D21: ENTRADA DE ENERGIA AÉREA, TIPO B1, PADRÃO CEMIG, CARGA INSTALADA DE ATÉ 10KW, BIFÁSICO, COM SAÍDA SUBTERRÂNEA, INCLUSIVE POSTE, CAIXA PARA MEDIDOR, DISJUNTOR, BARRAMENTO, ATERRAMENTO E ACESSÓRIOS | E21: und | F21: 1 | G21: 1 unidade
A22: 2 | D22: TRABALHOS EM TERRA
A23: 2.1 | B23: SICOR-MG | C23: ED-51107 | D23: ESCAVAÇÃO MANUAL DE VALA COM PROFUNDIDADE MENOR OU IGUAL A 1,5M, INCLUSIVE DESCARGA LATERAL | E23: m³ | F23: 19.15 | G23: Blocos de fundação: Bloco multiuso: 30 uni x 0,50m x 0,5m x 0,50m = 3,75m³ Bloco pedagógico: 27 uni x 0,50m x 0,50m x 0,50m = 3,38m³ Muro de arrimo atrás da escola: 15 uni x 0,50m x 0,50m x 0,50m= 1,88m³ Vigas Baldrames: Bloco multiuso: ((31,85m x 2) + (4,85m x 12) + 1,50m + 16,80m) x 0,15m x 0,30m = 6,31m³ Bloco pedagógico+refeitório: (31,85m + 9,05m +9,05m) x 0,15m x 0,30m = 2,25m³ Muro de arrimo atrás da escola: 35,05m x 0,15 x 0,30 = 1,58 m³ TOTAL: 19,15 m³
A24: 2.2 | B24: SICOR-MG | C24: ED-51093 | D24: APILOAMENTO MANUAL EM FUNDO DE VALA COM SOQUETE, EXCLUSIVE ESCAVAÇÃO | E24: m² | F24: 51.79 | G24: Blocos de fundação: Bloco multiuso: 30 uni x 0,50m x 0,50m = 7,5m² Bloco pedagógico: 27 uni x 0,50m x 0,50m = 6,75m² Muro de arrimo atrás da escola: 15 uni x 0,50m x 0,50m = 3,75m² Vigas Baldrames: Bloco multiuso: ((31,85m x 2) + (4,85m x 12) + 1,50m + 16,80m) x 0,15m = 21,03 m² Bloco pedagógico+refeitório: (31,85m + 9,05m +9,05m) x 0,15m = 7,50 m² Muro de arrimo atrás da escola: 35,05m x 0,15 = 5,26 m² TOTAL: 51,79 m³
A25: 2.3 | B25: SICOR-MG | C25: ED-51096 | D25: COMPACTAÇÃO MECANIZADA DE ATERRO COM PLACA VIBRATÓRIA, INCLUSIVE ESPALHAMENTO MANUAL | E25: m³ | F25: 400.3 | G25: Bloco multiuso: (9,36m² + 2,47m² + 14,58m² + 4,32m² + 1,02m² + 2,14m² + 2,55m² + 7,56m² + 3,12m² + 7,56m² + 14,40m² + 2,39m² + 7,29m² + 13,88m² + 16,65m² + 23,76m²) x 0,10m = 13,31 m³ Bloco pedagógico: (23,76m² x 4) x 1,50m = 142,56m³ Refeitório + circulação: (78,52m² + 84,43m²) x 1,50m= 244,43m³ TOTAL: 400,30m³
A26: 3 | D26: FUNDAÇÕES
A27: 3.1 | B27: SICOR-MG | C27: ED-29801 | D27: PERFURAÇÃO MANUAL DE ESTACA TIPO BROCA A TRADO, INCLUSIVE AFASTAMENTO, EXCLUSIVE ARMAÇÃO, CONCRETO ESTRUTURAL, TRANSPORTE E RETIRADA DO MATERIAL ESCAVADO | E27: m³ | F27: 3.39 | G27: Bloco multiuso: 30 uni x 1,50m = 45,00m Bloco pedagógico: 27 uni x 1,50m = 40,50m Muro de arrimo atrás da escola: 15 uni x 1,50m = 22,50 TOTAL: (45,00m + 40,50m + 22,50m) x (π x 0,10²) = 3,39m³
A28: 3.2 | B28: SICOR-MG | C28: ED-49811 | D28: FÔRMA E DESFORMA PARA VIGA-CINTA/BLOCO COM COMPENSADO RESINADO, ESP. 12MM, REAPROVEITAMENTO (3X) (FUNDAÇÃO) | E28: m² | F28: 167.99 | G28: Blocos de fundação: Bloco multiuso: 30 uni x (0,50m + 0,50m + 0,50m + 0,50m) x 0,10m = 6,00m² Bloco pedagógico: 27 uni x (0,50m + 0,50m + 0,50m + 0,50m) x 0,10m = 5,40m² muro de arrimo atrás da escola: 15 uni x (0,50m + 0,50m + 0,50m + 0,50m) x 0,10m= 3,00m² Vigas Baldrames: Bloco multiuso: (4,35m x 0,20m) + (4,35m x 0,60m)+(4,35m x 0,75m) + ((31,85m x 2) + (4,85m x 12) + 1,50m + 16,80m) x 0,20m) = 34,78m² Bloco pedagógico: ((22,5m + 4,70m) x 0,20m) + ((22,5m + 4,70m) x 0,60m) + ((4,70m x 6) +22,50m)x0,75m = 59,79m² Refeitório: ((9,35m + 9,05m) x 0,20m) + ((9,35m + 9,05m) x 0,60m) + ((9,05m + 4,35m + 9,35m) x 0,75m)= 31,78m² muro de arrimo atrás da escola: (35,05m x 0,20m) + (35,05m x 0,60m) = 27,24m² TOTAL: 167,99 m²
A29: 3.3 | B29: SICOR-MG | C29: ED-48298 | D29: CORTE, DOBRA E MONTAGEM DE AÇO CA-50/60, INCLUSIVE ESPAÇADOR | E29: kg | F29: 1502.15 | G29: Blocos de fundação: Bloco multiuso: 30 uni x 0,50m x 0,5m0 x 0,50m = 3,75m³ Bloco pedagógico: 27 uni x 0,50m x 0,50m x 0,50m = 3,38m³ Muro de arrimo atrás da escola: 15 uni x 0,50m x 0,50m x 0,50m= 1,88m³ Vigas Baldrames: Bloco multiuso: ((31,85m x 2) + (4,85m x 12) + 1,50m + 16,80m) + (4,35m x 3) x 0,15m x 0,30m = 6,90m³ Bloco pedagógico: ((22,50m x 3) + (4,70m x 7)) x 0,15m x 0,30m = 4,52m³ Refeitório: ((9,35m x 3) + (9,05m x 3) + 4,35) x 0,15m x 0,30m = 2,68m³ Total: 23,11m³ TOTAL: 23,11m³ x 65kg/m³ = 1502,15kg
A30: 3.4 | B30: SICOR-MG | C30: ED-49812 | D30: LASTRO DE CONCRETO MAGRO, INCLUSIVE TRANSPORTE, LANÇAMENTO E ADENSAMENTO | E30: m³ | F30: 2.61 | G30: Blocos de fundação: Bloco multiuso: 30 uni x 0,50m x 0,50m x 0,05m = 0,38m³ Bloco pedagógico: 27 uni x 0,50m x 0,50m x 0,05m = 0,34m³ Muro de arrimo atrás da escola: 15 uni x 0,50m x 0,50m x 0,05m= 0,19m³ Vigas Baldrames: Bloco multiuso: ((31,85m x 2) + (4,85m x 12) + 4,35m + 1,50m + 16,80m) x 0,15m x 0,05m = 1,09m³ Bloco pedagógico: (22,50m + 4,70m) x 0,15m x 0,05m = 0,21m³ Refeitório: ((9,35m + 9,05m) x 0,15m x 0,05m = 0,14m³ Muro de arrimo atrás da escola: (35,05m x 0,15m x 0,05m) = 0,26m³ TOTAL: 2,61m³
A31: 3.5 | B31: SICOR-MG | C31: ED-49799 | D31: FORNECIMENTO DE CONCRETO ESTRUTURAL, USINADO, COM FCK 30MPA, INCLUSIVE LANÇAMENTO, ADENSAMENTO E ACABAMENTO (FUNDAÇÃO) | E31: m³ | F31: 26.27 | G31: Blocos de fundação: Bloco multiuso: 30 uni x 0,50m x 0,5m0 x 0,50m = 3,75m³ Bloco pedagógico: 27 uni x 0,50m x 0,50m x 0,50m = 3,38m³ Muro de arrimo atrás da escola: 15 uni x 0,50m x 0,50m x 0,50m= 1,88m³ Vigas Baldrames: Bloco multiuso: ((31,85m x 2) + (4,85m x 12) + (4,35m x 3) + 1,50m + 16,80m) x 0,15m x 0,30m = 6,90m³ Bloco pedagógico: ((22,50m x 3) + (4,70m x 7)) x 0,15m x 0,30m = 4,52m³ Refeitório: ((9,35m x 3) + (9,05m x 3) + 4,35) x 0,15m x 0,30m = 2,68m³ Muro de arrimo atrás da escola: (35,05m x 0,15m x 0,30m) x 2 = 3,16m³ TOTAL: 26,27 m³
A32: 3.6 | B32: SICOR-MG | C32: ED-50174 | D32: IMPERMEABILIZAÇÃO COM EMULSÃO ASFÁLTICA, DUAS (2) DEMÃOS | E32: m² | F32: 193.86 | G32: Blocos de fundação: Bloco multiuso: 30 uni x (0,50m x4 ) x 0,10m + (0,50m x 0,50m) = 6,25m² Bloco pedagógico: 27uni x (0,50m x 4) x 0,10m + (0,50m x 0,50m) = 5,65m² Vigas Baldrames: Bloco multiuso: ((31,85m x 2) + (4,85m x 12) + (4,35m + 1,50m + 16,80m) x (0,10m + 0,10m + 0,15m)) + (4,35m x 0,75m) + (4,35m x 0,90m) = 57,77m² Bloco pedagógico: ((22,50m + 4,70m) x 0,35m) + ((22,50m + 4,70m) x 0,75m) + ((5 x 4,40m) x 0,90m) + (22,50m x 0,90m) = 69,97m² Pilares aterrados: (9 x 0,90m x 1,50m) = 12,15m² Refeitório: ((9,35m +9,05m)x 0,35m) + ((9,35m + 9,05m) x 0,75m) + ((9,05m + 4,35m + 9,35m) x 0,90m) = 40,72m² Pilares aterrados: 1 x 0,90m x 1,50m = 1,35m² TOTAL: 193,86m²
A33: 4 | D33: ESTRUTURA
A34: 4.1 | B34: SICOR-MG | C34: ED-16319 | D34: MURO DIVISÓRIO DE TIJOLO FURADO COM ALTURA 220CM, COM PILARETES DE 16X9CM A CADA 250CM, SAPATA DE CONCRETO ARMADO 30X20CM E PINGADEIRA, REBOCADO E PINTADO A LÁTEX, INCLUSIVE ESCAVAÇÃO, APILOAMENTO E LASTRO | E34: m | F34: 94.9 | G34: 35,05m + 27,25m + 32,60m = 94,90m
A35: 4.2 | B35: SICOR-MG | C35: ED-49647 | D35: FÔRMA E DESFORMA DE COMPENSADO PLASTIFICADO, ESP. 12MM, REAPROVEITAMENTO (5X), EXCLUSIVE ESCORAMENTO | E35: m² | F35: 337.02 | G35: Pilares Bloco multiuso: (10uni x 0,45m x 2,90m) + (11uni x 0,60m x 2,90m) + (4uni x 0,75m x 2,90m) + (0,45m x (2,9m+1,50m)) +(0,60m x ((2,9m+1,50m)) + (3 x1,50m x 0,60m) = 48,11 m² Bloco pedagógico: (6uni x 0,45m x (2,90m + 1,50m)) + (4uni x 0,60m x (2,90m+1,50m))+(5uni x 0,45m x (2,90m +1,50m))+ (3uni x 0,60m x (1,50m + 2,90m) + (1uni x 0,60m x 1,50m) + (7uni x 0,45m x 1,50m))+(1uni x 0,90m x 1,50m) + (4 uni x 2 x 3,14 x 0,10m x 2,90m) = 54,53 m² Muro de arrimo atrás da escola: 15uni x 0,45m x 1,50m =10,13m² Vigas Bloco multiuso: ((31,85m x 2) + (4,85m x 12) + (4,35m)) x 0,60m) + (4,35m x 1,05m) + (4,85m x 1,05m) = 85,41 m² Bloco pedagógico: (((22,50m x 2uni) + (4,70m x 6uni)) x 0,60m) + (4uni x 4,70m x 1,05m)= 63,66 m² Refeitório: ((9,35m x 2) + (9,03m x 2)) x 1,05m) + (8uni x 4,35m x 1,05m) = 75,18 m² TOTAL: 337,02m²
A36: 4.3 | B36: SICOR-MG | C36: ED-48298 | D36: CORTE, DOBRA E MONTAGEM DE AÇO CA-50/60, INCLUSIVE ESPAÇADOR | E36: kg | F36: 1545.05 | G36: Pilares Bloco multiuso: (27uni x 0,15m x 0,30m x 2,90m) + (3uni x 0,15m x 0,30m x 1,50m) = 3,72m³ Bloco pedagógico: (18uni x 0,15m x 0,30m x 2,90m) + (3,14 x 0,10² x 4uni x 2,90m) + (27uni x 0,15m x 0,3m x 1,50m)= 4,54 m³ Vigas Bloco multiuso: (4,85m x 12uni x 0,15m x 0,30m) + ( 4,85m x 0,15m x 0,45m) + (31,85m x 2uni x 0,15m x 0,30m) + (4,35m x 0,15m x 0,30m) + (4,35m x 0,15m x 0,45m) = 6,31 m³ Bloco pedagógico: (4,70m x 0,15m x 0,30m x 6uni) + (4,70m x 0,15m x 0,45m x 4uni) + (22,50m x 0,15m x 0,30m) + (18,20m x 0,15m x 0,30m) = 4,37m³ Refeitório + circulação = (4,35m x 0,15m x 0,45m x 8uni) + (9,35m x 0,15m x 0,45m x 2uni) + (9,05m x 0,15m x 0,45m x 2uni) = 4,83 m³ Total:23,77 m³ x 65kg/m³ = 1545,05 kg
A37: 4.4 | B37: SICOR-MG | C37: ED-49638 | D37: FORNECIMENTO DE CONCRETO ESTRUTURAL, USINADO BOMBEADO, COM FCK 25MPA, INCLUSIVE LANÇAMENTO, ADENSAMENTO E ACABAMENTO | E37: m³ | F37: 23.77 | G37: Pilares Bloco multiuso: (27uni x 0,15m x 0,30m x 2,90m) + (3uni x 0,15m x 0,30m x 1,50m) = 3,72m³ Bloco pedagógico: (18uni x 0,15m x 0,30m x 2,90m) + (3,14 x 0,10² x 4uni x 2,90m) + (27uni x 0,15m x 0,3m x 1,50m)= 4,54 m³ Vigas Bloco multiuso: (4,85m x 12uni x 0,15m x 0,30m) + ( 4,85m x 0,15m x 0,45m) + (31,85m x 2uni x 0,15m x 0,30m) + (4,35m x 0,15m x 0,30m) + (4,35m x 0,15m x 0,45m) = 6,31 m³ Bloco pedagógico: (4,70m x 0,15m x 0,30m x 6uni) + (4,70m x 0,15m x 0,45m x 4uni) + (22,50m x 0,15m x 0,30m) + (18,20m x 0,15m x 0,30m) = 4,37m³ Refeitório + circulação = (4,35m x 0,15m x 0,45m x 8uni) + (9,35m x 0,15m x 0,45m x 2uni) + (9,05m x 0,15m x 0,45m x 2uni) = 4,83 m³ Total:23,77 m³
A38: 4.5 | B38: SICOR-MG | C38: ED-50253 | D38: LAJE PRÉ-MOLDADA UNIDIRECIONAL COM ENCHIMENTO EM POLIESTIRENO EXPANDIDO (EPS), CAPEAMENTO DE 4CM, SOBRECARGA DE 100KG/M2, ALTURA TOTAL DE 11CM E VÃO LIVRE MÁXIMO DE 4M, INCLUSIVE CONCRETO ESTRUTURAL, USINADO BOMBEADO COM FCK DE 20MPA, EXCLUSIVE TELA ARMADA E CIMBRAMENTO | E38: m² | F38: 430.65 | G38: 13,90m x 31,85m = 442,72 m² - 12,07m² = 430,65m²
A39: 4.6 | B39: SICOR-MG | C39: ED-29563 | D39: ARMADURA DE TELA DE AÇO CA-60, SOLDADA TIPO Q-61, DIÂMETRO Ø3,4MM, TRAMA COM DIMENSÃO (150X150)MM, INCLUSIVE ESPAÇADOR, EXCLUSIVE CONCRETO | E39: m² | F39: 473.72 | G39: 13,90m x 31,85m = 442,72 m² - 12,07m² = 430,65m² 430,65m²+ 10% traspasse = 473,72 m²
A40: 4.7 | B40: SICOR-MG | C40: ED-19637 | D40: CIMBRAMENTO PARA LAJE PRÉ-MOLDADA COM ESCORAMENTO METÁLICO, TIPO "A", ALTURA DE (200 ATÉ 310)CM, INCLUSIVE DESCARGA, MONTAGEM, DESMONTAGEM E CARGA | E40: m2xmês | F40: 861.3 | G40: 430,65m² x 2 = 861,30m²xmês
A41: 4.8 | B41: SICOR-MG | C41: ED-9906 | D41: VERGA OU CONTRAVERGA EM CONCRETO ESTRUTURAL PARA VÃOS ACIMA DE 150CM, PREPARADO EM OBRA COM BETONEIRA, CONTROLE "A", COM FCK 20 MPA, MOLDADA IN LOCO, INCLUSIVE ARMAÇÃO | E41: m³ | F41: 0.6 | G41: Janelas: Bloco multiuso: ((6uni x 2,40m) x 0,15m x 0,10m) = 0,22m³ Blcoo pedagógico: ((11m x 2,40m) x 0,15m x 0,10m) = 0,40m³ TOTAL: 0,62 m³
A42: 4.9 | B42: SICOR-MG | C42: ED-9903 | D42: VERGA OU CONTRAVERGA EM CONCRETO ESTRUTURAL PARA VÃOS DE ATÉ 150CM, PREPARADO EM OBRA COM BETONEIRA, CONTROLE "A", COM FCK 20 MPA, MOLDADA IN LOCO, INCLUSIVE ARMAÇÃO | E42: m³ | F42: 0.45 | G42: Portas: Bloco multiuso: ((9uni x 1,00m) + (3uni x 1,10m) + 1,40m) x 0,15m x 0,10m = 0,21m³ Bloco pedagógico: 4uni x 1,00m x 0,15m x 0,10m = 0,06m³ Janelas: Bloco multiuso: ((7uni x 1,20m x 0,15m x 0,10m) + (2uni x 1,60m x 0,15m x 0,10m)) = 0,18 m³ TOTAL: 0,45 m³
...

Sheet CRON
A1: PREFEITURA MUNICIPAL DE MINAS NOVAS Praça Sebastião Leme do Prado, 15 - Centro CEP: 39.650-000 – Minas Novas (MG) Fone: (33) 3764-1147 – (33) 3764-2641 E-mail: pmmn@uai.com.br / conveniosminasnovas@yahoo.com.br
A3: CRONOGRAMA FÍSICO-FINANCEIRO
A5: ='PLAN ORÇ'!A5 -> PREFEITURA MUNICIPAL DE MINAS NOVAS | C5: VALOR TOTAL: | D5: =C47 -> 1362162.7 | N5: ='MM CALC'!E4 -> DATA: 17/11/2025
A6: ='MM CALC'!A5 -> OBRA: REFORMA E CONSTRUÇÃO DA ESCOLA MUNICIPAL PADRE SACRAMENTO NO POVOADO DE SANTIAGO
A7: ='MM CALC'!A6 -> LOCAL: POVOADO DE SANTIAGO - MINAS NOVAS/MG
A8: ITEM | B8: DESCRIÇÃO | C8: FÍSICO/ FINANCEIRO | D8: MÊS 01 | E8: MÊS 02 | F8: MÊS 03 | G8: MÊS 04 | H8: MÊS 05 | I8: MÊS 06 | J8: MÊS 07 | K8: MÊS 08 | L8: MÊS 09 | M8: MÊS 10 | N8: TOTAL
A10: 1 | B10: ='PLAN ORÇ'!D12 -> SERVIÇOS PRELIMINARES | C10: =+C11/$C$47 -> 0.028442535 | D10: 1 | N10: =SUM(D10:M10) -> 1 | O10: 1 | P10: =+N10-O10 -> 0
C11: ='PLAN ORÇ'!I12 -> 38743.36 | D11: =D10*$C$11 -> 38743.36 | N11: =ROUND(SUM(D11:M11),2) -> 38743.36 | O11: =+N11-C11 -> 0
A12: 2 | B12: ='PLAN ORÇ'!D24 -> TRABALHOS EM TERRA | C12: =+C13/$C$47 -> 0.021675458 | D12: 1 | N12: =SUM(D12:M12) -> 1 | O12: 1 | P12: =+N12-O12 -> 0
C13: ='PLAN ORÇ'!I24 -> 29525.5 | D13: =D12*$C$13 -> 29525.5 | N13: =ROUND(SUM(D13:M13),2) -> 29525.5 | O13: =+N13-C13 -> 0
A14: 3 | B14: ='PLAN ORÇ'!D28 -> FUNDAÇÕES | C14: =+C15/$C$47 -> 0.057223972 | D14: 1 | N14: =SUM(D14:M14) -> 1 | O14: 1 | P14: =+N14-O14 -> 0
C15: ='PLAN ORÇ'!I28 -> 77948.36 | D15: =D14*$C$15 -> 77948.36 | N15: =ROUND(SUM(D15:M15),2) -> 77948.36 | O15: =+N15-C15 -> 0
A16: 4 | B16: ='PLAN ORÇ'!D35 -> ESTRUTURA | C16: =+C17/$C$47 -> 0.19298993 | D16: 0.1 | E16: 0.45 | F16: 0.45 | N16: =SUM(D16:M16) -> 1 | O16: 1 | P16: =+N16-O16 -> 0
C17: ='PLAN ORÇ'!I35 -> 262883.68 | D17: =D16*$C$17 -> 26288.368 | E17: =E16*$C$17 -> 118297.66 | F17: =F16*$C$17 -> 118297.66 | N17: =ROUND(SUM(D17:M17),2) -> 262883.68 | O17: =+N17-C17 -> 0
A18: 5 | B18: ='PLAN ORÇ'!D46 -> ALVENARIA | C18: =+C19/$C$47 -> 0.050253483 | G18: 0.6 | H18: 0.4 | N18: =SUM(D18:M18) -> 1 | O18: 1 | P18: =+N18-O18 -> 0
C19: ='PLAN ORÇ'!I46 -> 68453.42 | G19: =G18*$C$19 -> 41072.052 | H19: =H18*$C$19 -> 27381.368 | N19: =ROUND(SUM(D19:M19),2) -> 68453.42 | O19: =+N19-C19 -> 0
A20: 6 | B20: ='PLAN ORÇ'!D49 -> COBERTURA E FORRO | C20: =+C21/$C$47 -> 0.11441104 | G20: 0.3 | H20: 0.4 | I20: 0.3 | N20: =SUM(D20:M20) -> 1 | O20: 1 | P20: =+N20-O20 -> 0
C21: ='PLAN ORÇ'!I49 -> 155846.45 | G21: =G20*$C$21 -> 46753.935 | H21: =H20*$C$21 -> 62338.58 | I21: =I20*$C$21 -> 46753.935 | N21: =ROUND(SUM(D21:M21),2) -> 155846.45 | O21: =+N21-C21 -> 0
A22: 7 | B22: ='PLAN ORÇ'!D55 -> INSTALAÇÕES HIDROSSANITÁRIAS | C22: =+C23/$C$47 -> 0.06028989 | J22: 0.25 | K22: 0.25 | L22: 0.25 | M22: 0.25 | N22: =SUM(D22:M22) -> 1 | O22: 1 | P22: =+N22-O22 -> 0
C23: ='PLAN ORÇ'!I55 -> 82124.64 | J23: =J22*$C$23 -> 20531.16 | K23: =K22*$C$23 -> 20531.16 | L23: =L22*$C$23 -> 20531.16 | M23: =M22*$C$23 -> 20531.16 | N23: =ROUND(SUM(D23:M23),2) -> 82124.64 | O23: =+N23-C23 -> 0
A24: 8 | B24: ='PLAN ORÇ'!D74 -> INSTALAÇÃO ELÉTRICA | C24: =+C25/$C$47 -> 0.064405339 | J24: 0.25 | K24: 0.25 | L24: 0.25 | M24: 0.25 | N24: =SUM(D24:M24) -> 1 | O24: 1 | P24: =+N24-O24 -> 0
C25: ='PLAN ORÇ'!I74 -> 87730.55 | J25: =J24*$C$25 -> 21932.637 | K25: =K24*$C$25 -> 21932.637 | L25: =L24*$C$25 -> 21932.637 | M25: =M24*$C$25 -> 21932.637 | N25: =ROUND(SUM(D25:M25),2) -> 87730.55 | O25: =+N25-C25 -> 0
A26: 9 | B26: ='PLAN ORÇ'!D108 -> LOUÇAS E METAIS | C26: =+C27/$C$47 -> 0.013581718 | M26: 1 | N26: =SUM(D26:M26) -> 1 | O26: 1 | P26: =+N26-O26 -> 0
C27: ='PLAN ORÇ'!I108 -> 18500.51 | M27: =M26*$C$27 -> 18500.51 | N27: =ROUND(SUM(D27:M27),2) -> 18500.51 | O27: =+N27-C27 -> 0
A28: 10 | B28: ='PLAN ORÇ'!D133 -> ESQUADRIAS DE MADEIRA | C28: =+C29/$C$47 -> 0.031794557 | I28: 0.5 | J28: 0.5 | N28: =SUM(D28:M28) -> 1 | O28: 1 | P28: =+N28-O28 -> 0
C29: ='PLAN ORÇ'!I133 -> 43309.36 | I29: =I28*$C$29 -> 21654.68 | J29: =J28*$C$29 -> 21654.68 | N29: =ROUND(SUM(D29:M29),2) -> 43309.36 | O29: =+N29-C29 -> 0
A30: 11 | B30: ='PLAN ORÇ'!D136 -> ESQUADRIAS METÁLICAS | C30: =+C31/$C$47 -> 0.035173434 | K30: 0.8 | L30: 0.2 | N30: =SUM(D30:M30) -> 1 | O30: 1 | P30: =+N30-O30 -> 0
C31: ='PLAN ORÇ'!I136 -> 47911.94 | K31: =K30*$C$31 -> 38329.552 | L31: =L30*$C$31 -> 9582.388 | N31: =ROUND(SUM(D31:M31),2) -> 47911.94 | O31: =+N31-C31 -> 0
A32: 12 | B32: ='PLAN ORÇ'!D143 -> REVESTIMENTO | C32: =+C33/$C$47 -> 0.11004695 | G32: 0.3 | H32: 0.1 | I32: 0.2 | J32: 0.25 | K32: 0.15 | N32: =SUM(D32:M32) -> 1 | O32: 1 | P32: =+N32-O32 -> 0
C33: ='PLAN ORÇ'!I143 -> 149901.85 | G33: =G32*$C$33 -> 44970.555 | H33: =H32*$C$33 -> 14990.185 | I33: =I32*$C$33 -> 29980.37 | J33: =J32*$C$33 -> 37475.463 | K33: =K32*$C$33 -> 22485.278 | L33: =L32*$C$33 -> 0 | N33: =ROUND(SUM(D33:M33),2) -> 149901.85 | O33: =+N33-C33 -> 0
A34: 13 | B34: ='PLAN ORÇ'!D151 -> PISOS E RODAPÉS | C34: =+C35/$C$47 -> 0.1250842 | H34: 0.1 | I34: 0.15 | J34: 0.25 | K34: 0.1 | L34: 0.3 | M34: 0.1 | N34: =SUM(D34:M34) -> 1 | O34: 1 | P34: =+N34-O34 -> 0
C35: ='PLAN ORÇ'!I151 -> 170385.03 | H35: =H34*$C$35 -> 17038.503 | I35: =I34*$C$35 -> 25557.754 | J35: =J34*$C$35 -> 42596.257 | K35: =K34*$C$35 -> 17038.503 | L35: =L34*$C$35 -> 51115.509 | M35: =M34*$C$35 -> 17038.503 | N35: =ROUND(SUM(D35:M35),2) -> 170385.03 | O35: =+N35-C35 -> 0
A36: 14 | B36: ='PLAN ORÇ'!D161 -> VIDROS E ESPELHOS | C36: =+C37/$C$47 -> 0.00093627582 | M36: 1 | N36: =SUM(D36:M36) -> 1 | O36: 1 | P36: =+N36-O36 -> 0
C37: ='PLAN ORÇ'!I161 -> 1275.36 | M37: =M36*$C$37 -> 1275.36 | N37: =ROUND(SUM(D37:M37),2) -> 1275.36
A38: 15 | B38: ='PLAN ORÇ'!D163 -> PINTURA | C38: =+C39/$C$47 -> 0.071634695 | J38: 0.1 | K38: 0.2 | L38: 0.3 | M38: 0.4 | N38: =SUM(D38:M38) -> 1 | O38: 1 | P38: =+N38-O38 -> 0
C39: ='PLAN ORÇ'!I163 -> 97578.11 | J39: =J38*$C$39 -> 9757.811 | K39: =K38*$C$39 -> 19515.622 | L39: =L38*$C$39 -> 29273.433 | M39: =M38*$C$39 -> 39031.244 | N39: =ROUND(SUM(D39:M39),2) -> 97578.11
A40: 16 | B40: ='PLAN ORÇ'!D173 -> BANCADAS, PRATELEIRAS E DIVISÓRIAS | C40: =+C41/$C$47 -> 0.012508219 | M40: 1 | N40: =SUM(D40:M40) -> 1 | O40: 1 | P40: =+N40-O40 -> 0
C41: ='PLAN ORÇ'!I173 -> 17038.23 | M41: =M40*$C$41 -> 17038.23 | N41: =ROUND(SUM(D41:M41),2) -> 17038.23
A42: 17 | B42: ='PLAN ORÇ'!D178 -> DIVERSOS | C42: =+C43/$C$47 -> 0.0063199939 | D42: 0.1 | E42: 0.1 | F42: 0.1 | G42: 0.1 | H42: 0.1 | I42: 0.1 | J42: 0.1 | K42: 0.1 | L42: 0.1 | M42: 0.1 | N42: =SUM(D42:M42) -> 1 | O42: 1 | P42: =+N42-O42 -> 0
C43: ='PLAN ORÇ'!I178 -> 8608.86 | D43: =D42*$C$43 -> 860.886 | E43: =E42*$C$43 -> 860.886 | F43: =F42*$C$43 -> 860.886 | G43: =G42*$C$43 -> 860.886 | H43: =H42*$C$43 -> 860.886 | I43: =I42*$C$43 -> 860.886 | J43: =J42*$C$43 -> 860.886 | K43: =K42*$C$43 -> 860.886 | ... M43: =M42*$C$43 -> 860.886 | N43: =ROUND(SUM(D43:M43),2) -> 8608.86
...
