Workbook
Name Fonte: 'MM CALC'!#REF!
Name Fonte: 'PLAN ORÇ'!$I1
Name nao: #REF!
Name nao: #REF!

Sheet PLAN ORÇ
A1: PREFEITURA MUNICIPAL DE MINAS NOVAS Praça Sebastião Leme do Prado, 15 - Centro CEP: 39.650-000 – Minas Novas (MG) Fone: (33) 3764-1147 – (33) 3764-2641 E-mail: pmmn@uai.com.br / conveniosminasnovas@yahoo.com.br
A3: PLANILHA ORÇAMENTÁRIA DE CUSTOS - MÃO DE OBRA
A5: ='MM CALC'!A4 -> PREFEITURA MUNICIPAL DE MINAS NOVAS | E5: ='MM CALC'!E4 -> DATA: 17/11/2025
A6: ='MM CALC'!A5 -> OBRA: REFORMA E CONSTRUÇÃO DA ESCOLA MUNICIPAL PADRE SACRAMENTO NO POVOADO DE SANTIAGO
A7: ='MM CALC'!A6 -> LOCAL: POVOADO DE SANTIAGO - MINAS NOVAS/MG | E7: FORMA DE EXECUÇÃO: | I7: ISS 3,00%
A8: REGIÃO/MÊS DE REFERÊNCIA: SICOR ABRIL/2025, COM DESONERAÇÃO | E8: ( ) | F8: DIRETA
E9: ( X ) | F9: INDIRETA | G9: BDI = | H9: 0.2829
A10: -
A11: ITEM | B11: FONTE | C11: CÓDIGO | D11: DESCRIÇÃO | E11: UND. | F11: QUANT. | G11: UNITÁRIO S/ BDI | H11: UNITÁRIO C/ BDI | I11: TOTAL
A12: ='MM CALC'!A10 -> 1 | D12: ='MM CALC'!D10 -> SERVIÇOS PRELIMINARES | I12: =SUM(I20:I23) -> 38743.36
A13: ='MM CALC'!A11 -> 1.1 | B13: ='MM CALC'!B11 -> SICOR-MG | C13: ED-48514 | D13: ='MM CALC'!D11 -> REMOÇÃO MANUAL DE TELHA CERÂMICA, COM REAPROVEITAMENTO, INCLUSIVE AFASTAMENTO EEMPILHAMENTO, EXCLUSIVE TRANSPORTE E RETIRADA DOMATERIAL REMOVIDO NÃO REAPROVEITÁVEL | E13: m² | G13: ='MM CALC'!G11 -> a cargo do municipio
A14: ='MM CALC'!A12 -> 1.2 | B14: ='MM CALC'!B12 -> SICOR-MG | C14: ED-48457 | D14: ='MM CALC'!D12 -> REMOÇÃO MANUAL DE ENGRADAMENTO PARA TELHA TIPOCERÂMICA OU CONCRETO, INCLUSIVE AFASTAMENTO EEMPILHAMENTO, EXCLUSIVE TRANSPORTE E RETIRADA DOMATERIAL REMOVIDO NÃO REAPROVEITÁVEL | E14: m² | G14: ='MM CALC'!G12 -> a cargo do municipio
A15: ='MM CALC'!A13 -> 1.3 | B15: ='MM CALC'!B13 -> SICOR-MG | C15: ED-28338 | D15: ='MM CALC'!D13 -> DEMOLIÇÃO MANUAL DE CONSTRUÇÃO EM ALVENARIAS DEVEDAÇÃO, COM ESPESSURA MÁXIMA DE 15CM, INCLUSIVEREMOÇÃO COM REAPROVEITAMENTO DE ESQUADRIAS,AFASTAMENTO E EMPILHAMENTO, EXCLUSIVE TRANSPORTE ERETIRADA DO MATERIAL DEMOLIDO/REMOVIDO NÃO REAPROVEITÁVEL | E15: m² | G15: ='MM CALC'!G13 -> a cargo do municipio
A16: ='MM CALC'!A14 -> 1.4 | B16: ='MM CALC'!B14 -> SICOR-MG | C16: ED-48467 | D16: ='MM CALC'!D14 -> REMOÇÃO DE LOUÇAS (LAVATÓRIO, BANHEIRA, PIA, VASOSANITÁRIO, TANQUE), COM REAPROVEITAMENTO, INCLUSIVEAFASTAMENTO E EMPILHAMENTO, EXCLUSIVE TRANSPORTE ERETIRADA DO MATERIAL REMOVIDO NÃO REAPROVEITÁVEL | E16: uni | G16: ='MM CALC'!G14 -> a cargo do municipio
A17: ='MM CALC'!A15 -> 1.5 | B17: ='MM CALC'!B15 -> SICOR-MG | C17: ED-48479 | D17: ='MM CALC'!D15 -> DEMOLIÇÃO MANUAL DE PISO CIMENTADO OU CONTRAPISO DEARGAMASSA, COM ESPESSURA MÁXIMA DE 10CM, INCLUSIVEAFASTAMENTO E EMPILHAMENTO, EXCLUSIVE TRANSPORTE ERETIRADA DO MATERIAL DEMOLIDO | E17: m² | G17: ='MM CALC'!G15 -> a cargo do municipio
A18: ='MM CALC'!A16 -> 1.6 | B18: ='MM CALC'!B16 -> SICOR-MG | C18: ='MM CALC'!C16 -> RO-01091 | D18: ='MM CALC'!D16 -> Limpeza mecanizada da camada vegetal | E18: ='MM CALC'!E16 -> m² | G18: ='MM CALC'!G16 -> a cargo do municipio
A19: ='MM CALC'!A17 -> 1.7 | B19: ='MM CALC'!B17 -> SICOR-MG | C19: ='MM CALC'!C17 -> RO-00232 | D19: ='MM CALC'!D17 -> Regularização de superfície com motoniveladora | E19: ='MM CALC'!E17 -> m² | G19: ='MM CALC'!G17 -> a cargo do municipio
A20: ='MM CALC'!A18 -> 1.8 | B20: ='MM CALC'!B18 -> SICOR-MG | C20: ='MM CALC'!C18 -> ED-28427 | D20: ='MM CALC'!D18 -> FORNECIMENTO E COLOCAÇÃO DE PLACA DE OBRA EM CHAPA GALVANIZADA #26, ESP. 0,45MM, DIMENSÃO (3X1,5)M, PLOTADA COM ADESIVO VINÍLICO, AFIXADA COM REBITES 4,8X40MM, EM ESTRUTURA METÁLICA DE METALON 20X20MM, ESP. 1,25MM, INCLUSIVE SUPORTE EM EUCALIPTO AUTOCLAVADO PINTADO COM TINTA PVA DUAS (2) DEMÃOS | E20: ='MM CALC'!E18 -> und | F20: ='MM CALC'!F18 -> 1 | G20: 1130.67 | H20: =ROUND((1+$H$9)*G20,2) -> 1450.54 | I20: =+ROUND((H20*F20),2) -> 1450.54
A21: ='MM CALC'!A19 -> 1.9 | B21: ='MM CALC'!B19 -> SICOR-MG | C21: ='MM CALC'!C19 -> ED-50135 | D21: ='MM CALC'!D19 -> BARRACÃO DE OBRA, EM CHAPA DE COMPENSADO RESINADO, INCLUSIVE INSTALAÇÕES SANITÁRIAS E MOBILIÁRIO - PADRÃO DER-MG | E21: ='MM CALC'!E19 -> m² | F21: ='MM CALC'!F19 -> 32 | G21: 640.18 | H21: =ROUND((1+$H$9)*G21,2) -> 821.29 | I21: =+ROUND((H21*F21),2) -> 26281.28
A22: ='MM CALC'!A20 -> 1.10 | B22: ='MM CALC'!B20 -> SICOR-MG | C22: ='MM CALC'!C20 -> ED-17989 | D22: ='MM CALC'!D20 -> LOCAÇÃO DE OBRA COM GABARITO DE TÁBUAS CORRIDAS PONTALETADAS A CADA 2,00M, REAPROVEITAMENTO (2X), INCLUSIVE ACOMPANHAMENTO DE EQUIPE TOPOGRÁFICA PARA MARCAÇÃO DE PONTO TOPOGRÁFICO | E22: ='MM CALC'!E20 -> m | F22: ='MM CALC'!F20 -> 99.2 | G22: 60.7 | H22: =ROUND((1+$H$9)*G22,2) -> 77.87 | I22: =+ROUND((H22*F22),2) -> 7724.7
A23: ='MM CALC'!A21 -> 1.11 | B23: ='MM CALC'!B21 -> SICOR-MG | C23: ='MM CALC'!C21 -> ED-20579 | D23: ='MM CALC'!D21 -> ENTRADA DE ENERGIA AÉREA, TIPO B1, PADRÃO CEMIG, CARGA INSTALADA DE ATÉ 10KW, BIFÁSICO, COM SAÍDA SUBTERRÂNEA, INCLUSIVE POSTE, CAIXA PARA MEDIDOR, DISJUNTOR, BARRAMENTO, ATERRAMENTO E ACESSÓRIOS | E23: ='MM CALC'!E21 -> und | F23: ='MM CALC'!F21 -> 1 | G23: 2562.04 | H23: =ROUND((1+$H$9)*G23,2) -> 3286.84 | I23: =+ROUND((H23*F23),2) -> 3286.84
A24: ='MM CALC'!A22 -> 2 | D24: ='MM CALC'!D22 -> TRABALHOS EM TERRA | I24: =SUM(I25:I27) -> 29525.5
A25: ='MM CALC'!A23 -> 2.1 | B25: ='MM CALC'!B23 -> SICOR-MG | C25: ='MM CALC'!C23 -> ED-51107 | D25: ='MM CALC'!D23 -> ESCAVAÇÃO MANUAL DE VALA COM PROFUNDIDADE MENOR OU IGUAL A 1,5M, INCLUSIVE DESCARGA LATERAL | E25: ='MM CALC'!E23 -> m³ | F25: ='MM CALC'!F23 -> 19.15 | G25: 71.42 | H25: =ROUND((1+$H$9)*G25,2) -> 91.62 | I25: =+ROUND((H25*F25),2) -> 1754.52
A26: ='MM CALC'!A24 -> 2.2 | B26: ='MM CALC'!B24 -> SICOR-MG | C26: ='MM CALC'!C24 -> ED-51093 | D26: ='MM CALC'!D24 -> APILOAMENTO MANUAL EM FUNDO DE VALA COM SOQUETE, EXCLUSIVE ESCAVAÇÃO | E26: ='MM CALC'!E24 -> m² | F26: ='MM CALC'!F24 -> 51.79 | G26: 24.08 | H26: 24.08 | I26: =+ROUND((H26*F26),2) -> 1247.1
A27: ='MM CALC'!A25 -> 2.3 | B27: ='MM CALC'!B25 -> SICOR-MG | C27: ='MM CALC'!C25 -> ED-51096 | D27: ='MM CALC'!D25 -> COMPACTAÇÃO MECANIZADA DE ATERRO COM PLACA VIBRATÓRIA, INCLUSIVE ESPALHAMENTO MANUAL | E27: ='MM CALC'!E25 -> m³ | F27: ='MM CALC'!F25 -> 400.3 | G27: 51.65 | H27: =ROUND((1+$H$9)*G27,2) -> 66.26 | I27: =+ROUND((H27*F27),2) -> 26523.88
A28: ='MM CALC'!A26 -> 3 | D28: ='MM CALC'!D26 -> FUNDAÇÕES | I28: =SUM(I29:I34) -> 77948.36
A29: ='MM CALC'!A27 -> 3.1 | B29: ='MM CALC'!B27 -> SICOR-MG | C29: ='MM CALC'!C27 -> ED-29801 | D29: ='MM CALC'!D27 -> PERFURAÇÃO MANUAL DE ESTACA TIPO BROCA A TRADO, INCLUSIVE AFASTAMENTO, EXCLUSIVE ARMAÇÃO, CONCRETO ESTRUTURAL, TRANSPORTE E RETIRADA DO MATERIAL ESCAVADO | E29: ='MM CALC'!E27 -> m³ | F29: ='MM CALC'!F27 -> 3.39 | G29: 232.76 | H29: =ROUND((1+$H$9)*G29,2) -> 298.61 | I29: =+ROUND((H29*F29),2) -> 1012.29
A30: ='MM CALC'!A28 -> 3.2 | B30: ='MM CALC'!B28 -> SICOR-MG | C30: ='MM CALC'!C28 -> ED-49811 | D30: ='MM CALC'!D28 -> FÔRMA E DESFORMA PARA VIGA-CINTA/BLOCO COM COMPENSADO RESINADO, ESP. 12MM, REAPROVEITAMENTO (3X) (FUNDAÇÃO) | E30: ='MM CALC'!E28 -> m² | F30: ='MM CALC'!F28 -> 167.99 | G30: 70.81 | H30: =ROUND((1+$H$9)*G30,2) -> 90.84 | I30: =+ROUND((H30*F30),2) -> 15260.21
A31: ='MM CALC'!A29 -> 3.3 | B31: ='MM CALC'!B29 -> SICOR-MG | C31: ='MM CALC'!C29 -> ED-48298 | D31: ='MM CALC'!D29 -> CORTE, DOBRA E MONTAGEM DE AÇO CA-50/60, INCLUSIVE ESPAÇADOR | E31: ='MM CALC'!E29 -> kg | F31: ='MM CALC'!F29 -> 1502.15 | G31: 13.67 | H31: =ROUND((1+$H$9)*G31,2) -> 17.54 | I31: =+ROUND((H31*F31),2) -> 26347.71
A32: ='MM CALC'!A30 -> 3.4 | B32: ='MM CALC'!B30 -> SICOR-MG | C32: ='MM CALC'!C30 -> ED-49812 | D32: ='MM CALC'!D30 -> LASTRO DE CONCRETO MAGRO, INCLUSIVE TRANSPORTE, LANÇAMENTO E ADENSAMENTO | E32: ='MM CALC'!E30 -> m³ | F32: ='MM CALC'!F30 -> 2.61 | G32: 569.26 | H32: =ROUND((1+$H$9)*G32,2) -> 730.3 | I32: =+ROUND((H32*F32),2) -> 1906.08
A33: ='MM CALC'!A31 -> 3.5 | B33: ='MM CALC'!B31 -> SICOR-MG | C33: ='MM CALC'!C31 -> ED-49799 | D33: ='MM CALC'!D31 -> FORNECIMENTO DE CONCRETO ESTRUTURAL, USINADO, COM FCK 30MPA, INCLUSIVE LANÇAMENTO, ADENSAMENTO E ACABAMENTO (FUNDAÇÃO) | E33: ='MM CALC'!E31 -> m³ | F33: ='MM CALC'!F31 -> 26.27 | G33: 757.64 | H33: =ROUND((1+$H$9)*G33,2) -> 971.98 | I33: =+ROUND((H33*F33),2) -> 25533.91
A34: ='MM CALC'!A32 -> 3.6 | B34: ='MM CALC'!B32 -> SICOR-MG | C34: ='MM CALC'!C32 -> ED-50174 | D34: ='MM CALC'!D32 -> IMPERMEABILIZAÇÃO COM EMULSÃO ASFÁLTICA, DUAS (2) DEMÃOS | E34: ='MM CALC'!E32 -> m² | F34: ='MM CALC'!F32 -> 193.86 | G34: 31.72 | H34: =ROUND((1+$H$9)*G34,2) -> 40.69 | I34: =+ROUND((H34*F34),2) -> 7888.16
A35: ='MM CALC'!A33 -> 4 | D35: ='MM CALC'!D33 -> ESTRUTURA | I35: =SUM(I36:I44) -> 262883.68
A36: ='MM CALC'!A34 -> 4.1 | B36: ='MM CALC'!B34 -> SICOR-MG | C36: ='MM CALC'!C34 -> ED-16319 | D36: ='MM CALC'!D34 -> MURO DIVISÓRIO DE TIJOLO FURADO COM ALTURA 220CM, COM PILARETES DE 16X9CM A CADA 250CM, SAPATA DE CONCRETO ARMADO 30X20CM E PINGADEIRA, REBOCADO E PINTADO A LÁTEX, INCLUSIVE ESCAVAÇÃO, APILOAMENTO E LASTRO | E36: ='MM CALC'!E34 -> m | F36: ='MM CALC'!F34 -> 94.9 | G36: 646.84 | H36: =ROUND((1+$H$9)*G36,2) -> 829.83 | I36: =+ROUND((H36*F36),2) -> 78750.87
A37: ='MM CALC'!A35 -> 4.2 | B37: ='MM CALC'!B35 -> SICOR-MG | C37: ='MM CALC'!C35 -> ED-49647 | D37: ='MM CALC'!D35 -> FÔRMA E DESFORMA DE COMPENSADO PLASTIFICADO, ESP. 12MM, REAPROVEITAMENTO (5X), EXCLUSIVE ESCORAMENTO | E37: ='MM CALC'!E35 -> m² | F37: ='MM CALC'!F35 -> 337.02 | G37: 56.22 | H37: =ROUND((1+$H$9)*G37,2) -> 72.12 | I37: =+ROUND((H37*F37),2) -> 24305.88
A38: ='MM CALC'!A36 -> 4.3 | B38: ='MM CALC'!B36 -> SICOR-MG | C38: ='MM CALC'!C36 -> ED-48298 | D38: ='MM CALC'!D36 -> CORTE, DOBRA E MONTAGEM DE AÇO CA-50/60, INCLUSIVE ESPAÇADOR | E38: ='MM CALC'!E36 -> kg | F38: ='MM CALC'!F36 -> 1545.05 | G38: 13.67 | H38: =ROUND((1+$H$9)*G38,2) -> 17.54 | I38: =+ROUND((H38*F38),2) -> 27100.18
A39: ='MM CALC'!A37 -> 4.4 | B39: ='MM CALC'!B37 -> SICOR-MG | C39: ='MM CALC'!C37 -> ED-49638 | D39: ='MM CALC'!D37 -> FORNECIMENTO DE CONCRETO ESTRUTURAL, USINADO BOMBEADO, COM FCK 25MPA, INCLUSIVE LANÇAMENTO, ADENSAMENTO E ACABAMENTO | E39: ='MM CALC'!E37 -> m³ | F39: ='MM CALC'!F37 -> 23.77 | G39: 752.59 | H39: =ROUND((1+$H$9)*G39,2) -> 965.5 | I39: =+ROUND((H39*F39),2) -> 22949.94
A40: ='MM CALC'!A38 -> 4.5 | B40: ='MM CALC'!B38 -> SICOR-MG | C40: ='MM CALC'!C38 -> ED-50253 | D40: ='MM CALC'!D38 -> LAJE PRÉ-MOLDADA UNIDIRECIONAL COM ENCHIMENTO EM POLIESTIRENO EXPANDIDO (EPS), CAPEAMENTO DE 4CM, SOBRECARGA DE 100KG/M2, ALTURA TOTAL DE 11CM E VÃO LIVRE MÁXIMO DE 4M, INCLUSIVE CONCRETO ESTRUTURAL, USINADO BOMBEADO COM FCK DE 20MPA, EXCLUSIVE TELA ARMADA E CIMBRAMENTO | E40: ='MM CALC'!E38 -> m² | F40: ='MM CALC'!F38 -> 430.65 | G40: 129.24 | H40: =ROUND((1+$H$9)*G40,2) -> 165.8 | I40: =+ROUND((H40*F40),2) -> 71401.77
A41: ='MM CALC'!A39 -> 4.6 | B41: ='MM CALC'!B39 -> SICOR-MG | C41: ='MM CALC'!C39 -> ED-29563 | D41: ='MM CALC'!D39 -> ARMADURA DE TELA DE AÇO CA-60, SOLDADA TIPO Q-61, DIÂMETRO Ø3,4MM, TRAMA COM DIMENSÃO (150X150)MM, INCLUSIVE ESPAÇADOR, EXCLUSIVE CONCRETO | E41: ='MM CALC'!E39 -> m² | F41: ='MM CALC'!F39 -> 473.72 | G41: 14.31 | H41: =ROUND((1+$H$9)*G41,2) -> 18.36 | I41: =+ROUND((H41*F41),2) -> 8697.5
A42: ='MM CALC'!A40 -> 4.7 | B42: ='MM CALC'!B40 -> SICOR-MG | C42: ='MM CALC'!C40 -> ED-19637 | D42: ='MM CALC'!D40 -> CIMBRAMENTO PARA LAJE PRÉ-MOLDADA COM ESCORAMENTO METÁLICO, TIPO "A", ALTURA DE (200 ATÉ 310)CM, INCLUSIVE DESCARGA, MONTAGEM, DESMONTAGEM E CARGA | E42: ='MM CALC'!E40 -> m2xmês | F42: ='MM CALC'!F40 -> 861.3 | G42: 22.69 | H42: =ROUND((1+$H$9)*G42,2) -> 29.11 | I42: =+ROUND((H42*F42),2) -> 25072.44
A43: ='MM CALC'!A41 -> 4.8 | B43: ='MM CALC'!B41 -> SICOR-MG | C43: ='MM CALC'!C41 -> ED-9906 | D43: ='MM CALC'!D41 -> VERGA OU CONTRAVERGA EM CONCRETO ESTRUTURAL PARA VÃOS ACIMA DE 150CM, PREPARADO EM OBRA COM BETONEIRA, CONTROLE "A", COM FCK 20 MPA, MOLDADA IN LOCO, INCLUSIVE ARMAÇÃO | E43: ='MM CALC'!E41 -> m³ | F43: ='MM CALC'!F41 -> 0.6 | G43: 3519.96 | H43: =ROUND((1+$H$9)*G43,2) -> 4515.76 | I43: =+ROUND((H43*F43),2) -> 2709.46
A44: ='MM CALC'!A42 -> 4.9 | B44: ='MM CALC'!B42 -> SICOR-MG | C44: ='MM CALC'!C42 -> ED-9903 | D44: ='MM CALC'!D42 -> VERGA OU CONTRAVERGA EM CONCRETO ESTRUTURAL PARA VÃOS DE ATÉ 150CM, PREPARADO EM OBRA COM BETONEIRA, CONTROLE "A", COM FCK 20 MPA, MOLDADA IN LOCO, INCLUSIVE ARMAÇÃO | E44: ='MM CALC'!E42 -> m³ | F44: ='MM CALC'!F42 -> 0.45 | G44: 3283.6 | H44: =ROUND((1+$H$9)*G44,2) -> 4212.53 | I44: =+ROUND((H44*F44),2) -> 1895.64
A45: ='MM CALC'!A43 -> 4.10 | B45: ='MM CALC'!B43 -> SICOR-MG | C45: ='MM CALC'!C43 -> ED-51148 | D45: ='MM CALC'!D43 -> RAMPA PARA ACESSO DE DEFICIENTE, EM CONCRETO SIMPLES FCK = 25 MPA, DESEMPENADA, COM PINTURA INDICATIVA, 02 DEMÃOS | E45: ='MM CALC'!E43 -> u | F45: ='MM CALC'!F43 -> 4 | G45: 440.99 | H45: =ROUND((1+$H$9)*G45,2) -> 565.75 | I45: =+ROUND((H45*F45),2) -> 2263
A46: ='MM CALC'!A44 -> 5 | D46: ='MM CALC'!D44 -> ALVENARIA | I46: =SUM(I47:I48) -> 68453.42
A47: ='MM CALC'!A45 -> 5.1 | B47: ='MM CALC'!B45 -> SICOR-MG | C47: ='MM CALC'!C45 -> ED-48232 | D47: ='MM CALC'!D45 -> ALVENARIA DE VEDAÇÃO COM TIJOLO CERÂMICO FURADO, ESP. 14CM, PARA REVESTIMENTO, INCLUSIVE ARGAMASSA PARA ASSENTAMENTO | E47: ='MM CALC'!E45 -> m² | F47: ='MM CALC'!F45 -> 771.59 | G47: 67.86 | H47: =ROUND((1+$H$9)*G47,2) -> 87.06 | I47: =+ROUND((H47*F47),2) -> 67174.63
A48: ='MM CALC'!A46 -> 5.2 | B48: ='MM CALC'!B46 -> SICOR-MG | C48: ='MM CALC'!C46 -> ED-48231 | D48: ='MM CALC'!D46 -> ALVENARIA DE VEDAÇÃO COM TIJOLO CERÂMICO FURADO, ESP. 9CM, PARA REVESTIMENTO, INCLUSIVE ARGAMASSA PARA ASSENTAMENTO | E48: ='MM CALC'!E46 -> m² | F48: ='MM CALC'!F46 -> 17.68 | G48: 56.38 | H48: =ROUND((1+$H$9)*G48,2) -> 72.33 | I48: =+ROUND((H48*F48),2) -> 1278.79
A49: ='MM CALC'!A47 -> 6 | D49: ='MM CALC'!D47 -> COBERTURA E FORRO | I49: =SUM(I50:I54) -> 155846.45
A50: ='MM CALC'!A48 -> 6.1 | B50: ='MM CALC'!B48 -> SICOR-MG | C50: ='MM CALC'!C48 -> ED-48407 | D50: ='MM CALC'!D48 -> ENGRADAMENTO EM MADEIRA PARAJU OU EQUIVALENTE, PARA TELHAS CERÂMICAS OU DE CONCRETO, EXCLUSIVE TELHAS | E50: ='MM CALC'!E48 -> m² | F50: ='MM CALC'!F48 -> 499.06 | G50: 108.76 | H50: =ROUND((1+$H$9)*G50,2) -> 139.53 | I50: =+ROUND((H50*F50),2) -> 69633.84
A51: ='MM CALC'!A49 -> 6.2 | B51: ='MM CALC'!B49 -> SICOR-MG | C51: ='MM CALC'!C49 -> ED-48420 | D51: ='MM CALC'!D49 -> COBERTURA EM TELHA CERÂMICA, TIPO PLAN, INCLUSIVE FIXAÇÃO, EXCLUSIVE ENGRADAMENTO E MANTA ISOLANTE/ TÉRMICA | E51: ='MM CALC'!E49 -> m² | F51: ='MM CALC'!F49 -> 558.94 | G51: 96.8 | H51: =ROUND((1+$H$9)*G51,2) -> 124.18 | I51: =+ROUND((H51*F51),2) -> 69409.17
A52: ='MM CALC'!A50 -> 6.3 | B52: ='MM CALC'!B50 -> SICOR-MG | C52: ='MM CALC'!C50 -> ED-48400 | D52: ='MM CALC'!D50 -> CUMEEIRA PARA TELHA CERÂMICA, INCLUSIVE EMBOÇAMENTO COM ARGAMASSA, TRAÇO 1:2:9 (CIMENTO, CAL E AREIA), COM PREPARO MECANIZADO | E52: ='MM CALC'!E50 -> m | F52: ='MM CALC'!F50 -> 60.67 | G52: 37.37 | H52: =ROUND((1+$H$9)*G52,2) -> 47.94 | I52: =+ROUND((H52*F52),2) -> 2908.52
A53: ='MM CALC'!A51 -> 6.4 | B53: ='MM CALC'!B51 -> SICOR-MG | C53: ='MM CALC'!C51 -> ED-50663 | D53: ='MM CALC'!D51 -> CALHA EM CHAPA GALVANIZADA, ESP. 0,5MM (GSG-26), COM DESENVOLVIMENTO DE 50CM, INCLUSIVE IÇAMENTO MANUAL VERTICAL | E53: ='MM CALC'!E51 -> m | F53: ='MM CALC'!F51 -> 96.3 | G53: 57.84 | H53: =ROUND((1+$H$9)*G53,2) -> 74.2 | I53: =+ROUND((H53*F53),2) -> 7145.46
A54: ='MM CALC'!A52 -> 6.5 | B54: ='MM CALC'!B52 -> SICOR-MG | C54: ='MM CALC'!C52 -> ED-50669 | D54: ='MM CALC'!D52 -> CONDUTOR CIRCULAR DE ÁGUA PLUVIAL PARA DO TELHADO EM TUBO DE PVC, DIÂMETRO DE 75MM, INCLUSIVE CONEXÕES E SUPORTES | E54: ='MM CALC'!E52 -> m | F54: ='MM CALC'!F52 -> 58 | G54: 90.71 | H54: =ROUND((1+$H$9)*G54,2) -> 116.37 | I54: =+ROUND((H54*F54),2) -> 6749.46
A55: ='MM CALC'!A53 -> 7 | D55: ='MM CALC'!D53 -> INSTALAÇÕES HIDROSSANITÁRIAS | I55: =SUM(I56:I73) -> 82124.64
A56: ='MM CALC'!A54 -> 7.1 | B56: ='MM CALC'!B54 -> SICOR-MG | C56: ='MM CALC'!C54 -> ED-50221 | D56: ='MM CALC'!D54 -> PONTO DE EMBUTIR PARA ÁGUA FRIA EM TUBO DE PVC RÍGIDO SOLDÁVEL, DN 20MM (1/2"), EMBUTIDO NA ALVENARIA COM DISTÂNCIA DE ATÉ CINCO (5) METROS DA TOMADA DE ÁGUA, INCLUSIVE CONEXÕES E FIXAÇÃO DO TUBO COM ENCHIMENTO DO RASGO NA ALVENARIA/CONCRETO COM ARGAMASSA | E56: ='MM CALC'!E54 -> und | F56: ='MM CALC'!F54 -> 19 | G56: 137.85 | H56: =ROUND((1+$H$9)*G56,2) -> 176.85 | I56: =+ROUND((H56*F56),2) -> 3360.15
A57: ='MM CALC'!A55 -> 7.2 | B57: ='MM CALC'!B55 -> SICOR-MG | C57: ='MM CALC'!C55 -> ED-50223 | D57: ='MM CALC'!D55 -> PONTO DE EMBUTIR PARA ESGOTO EM TUBO PVC RÍGIDO, PB - SÉRIE NORMAL, DN 40MM (1.1/2"), EMBUTIDO NA ALVENARIA/PISO, COM ALTURA (SAÍDA) DE 50CM DO PISO, COM DISTÂNCIA DE ATÉ CINCO (5) METROS DO RAMAL DE ESGOTO, EXCLUSIVE ESCAVAÇÃO, INCLUSIVE CONEXÕES E FIXAÇÃO DO TUBO COM ENCHIMENTO DO RASGO NA ALVENARIA/CONCRETO COM ARGAMASSA | E57: ='MM CALC'!E55 -> und | F57: ='MM CALC'!F55 -> 10 | G57: 166.4 | H57: =ROUND((1+$H$9)*G57,2) -> 213.47 | I57: =+ROUND((H57*F57),2) -> 2134.7
A58: ='MM CALC'!A56 -> 7.3 | B58: ='MM CALC'!B56 -> SICOR-MG | C58: ='MM CALC'!C56 -> ED-50225 | D58: ='MM CALC'!D56 -> PONTO DE EMBUTIR PARA ESGOTO EM TUBO PVC RÍGIDO, PBV - SÉRIE NORMAL, DN 100MM (4"), EMBUTIDO EM PISO COM DISTÂNCIA DE ATÉ CINCO (5) METROS DO RAMAL DE ESGOTO, INCLUSIVE CONEXÕES E FIXAÇÃO DO TUBO COM ENCHIMENTO DO RASGO NO CONCRETO COM ARGAMASSA | E58: ='MM CALC'!E56 -> und | F58: ='MM CALC'!F56 -> 12 | G58: 313.35 | H58: =ROUND((1+$H$9)*G58,2) -> 402 | I58: =+ROUND((H58*F58),2) -> 4824
A59: ='MM CALC'!A57 -> 7.4 | B59: ='MM CALC'!B57 -> SICOR-MG | C59: ='MM CALC'!C57 -> ED-50105 | D59: ='MM CALC'!D57 -> FORNECIMENTO E ASSENTAMENTO DE TUBO PVC RÍGIDO, COLETOR DE ESGOTO LISO (JEI), DN 100 MM (4"), INCLUSIVE CONEXÕES | E59: ='MM CALC'!E57 -> m | F59: ='MM CALC'!F57 -> 100 | G59: 38.39 | H59: =ROUND((1+$H$9)*G59,2) -> 49.25 | I59: =+ROUND((H59*F59),2) -> 4925
A60: ='MM CALC'!A58 -> 7.5 | B60: ='MM CALC'!B58 -> SICOR-MG | C60: ='MM CALC'!C58 -> ED-50106 | D60: ='MM CALC'!D58 -> FORNECIMENTO E ASSENTAMENTO DE TUBO PVC RÍGIDO, COLETOR DE ESGOTO LISO (JEI), DN 150 MM (6"), INCLUSIVE CONEXÕES | E60: ='MM CALC'!E58 -> m | F60: ='MM CALC'!F58 -> 50 | G60: 70.9 | H60: =ROUND((1+$H$9)*G60,2) -> 90.96 | I60: =+ROUND((H60*F60),2) -> 4548
A61: ='MM CALC'!A59 -> 7.6 | B61: ='MM CALC'!B59 -> SICOR-MG | C61: ='MM CALC'!C59 -> ED-50018 | D61: ='MM CALC'!D59 -> FORNECIMENTO E ASSENTAMENTO DE TUBO PVC RÍGIDO SOLDÁVEL, ÁGUA FRIA, DN 20 MM (1/2"), INCLUSIVE CONEXÕES | E61: ='MM CALC'!E59 -> m | F61: ='MM CALC'!F59 -> 60 | G61: 21.15 | H61: =ROUND((1+$H$9)*G61,2) -> 27.13 | I61: =+ROUND((H61*F61),2) -> 1627.8
A62: ='MM CALC'!A60 -> 7.7 | B62: ='MM CALC'!B60 -> SICOR-MG | C62: ='MM CALC'!C60 -> ED-50019 | D62: ='MM CALC'!D60 -> FORNECIMENTO E ASSENTAMENTO DE TUBO PVC RÍGIDO SOLDÁVEL, ÁGUA FRIA, DN 25 MM (1/2"), INCLUSIVE CONEXÕES | E62: ='MM CALC'!E60 -> m | F62: ='MM CALC'!F60 -> 60 | G62: 23.29 | H62: =ROUND((1+$H$9)*G62,2) -> 29.88 | I62: =+ROUND((H62*F62),2) -> 1792.8
A63: ='MM CALC'!A61 -> 7.8 | B63: ='MM CALC'!B61 -> SICOR-MG | C63: ='MM CALC'!C61 -> ED-50021 | D63: ='MM CALC'!D61 -> FORNECIMENTO E ASSENTAMENTO DE TUBO PVC RÍGIDO SOLDÁVEL, ÁGUA FRIA, DN 40 MM (1.1/4"), INCLUSIVE CONEXÕES | E63: ='MM CALC'!E61 -> m | F63: ='MM CALC'!F61 -> 30 | G63: 37.45 | H63: =ROUND((1+$H$9)*G63,2) -> 48.04 | I63: =+ROUND((H63*F63),2) -> 1441.2
A64: ='MM CALC'!A62 -> 7.9 | B64: ='MM CALC'!B62 -> SICOR-MG | C64: ='MM CALC'!C62 -> ED-49879 | D64: ='MM CALC'!D62 -> CAIXA DE ESGOTO DE INSPEÇÃO/PASSAGEM EM ALVENARIA ( 50X50X60CM), REVESTIMENTO EM ARGAMASSA COM ADITIVO IMPERMEABILIZANTE, COM TAMPA DE CONCRETO, INCLUSIVE ESCAVAÇÃO, REATERRO E TRANSPORTE COM RETIRADA DO MATERIAL ESCAVADO (EM CAÇAMBA) | E64: ='MM CALC'!E62 -> und | F64: ='MM CALC'!F62 -> 7 | G64: 471.11 | H64: =ROUND((1+$H$9)*G64,2) -> 604.39 | I64: =+ROUND((H64*F64),2) -> 4230.73
A65: ='MM CALC'!A63 -> 7.10 | B65: ='MM CALC'!B63 -> SICOR-MG | C65: ='MM CALC'!C63 -> ED-49909 | D65: ='MM CALC'!D63 -> CAIXA DE DRENAGEM DE INSPEÇÃO/PASSAGEM EM ALVENARIA ( 40X40X60CM), REVESTIMENTO EM ARGAMASSA COM ADITIVO IMPERMEABILIZANTE, COM TAMPA EM GRELHA, INCLUSIVE ESCAVAÇÃO, REATERRO E TRANSPORTE COM RETIRADA DO MATERIAL ESCAVADO (EM CAÇAMBA) | E65: ='MM CALC'!E63 -> und | F65: ='MM CALC'!F63 -> 10 | G65: 503.64 | H65: =ROUND((1+$H$9)*G65,2) -> 646.12 | I65: =+ROUND((H65*F65),2) -> 6461.2
A66: ='MM CALC'!A64 -> 7.11 | B66: ='MM CALC'!B64 -> SICOR-MG | C66: ='MM CALC'!C64 -> ED-49935 | D66: ='MM CALC'!D64 -> CAIXA D'ÁGUA DE POLIETILENO, CAPACIDADE DE 500L, INCLUSIVE TAMPA, TORNEIRA DE BOIA, EXTRAVASOR, TUBO DE LIMPEZA E ACESSÓRIOS, EXCLUSIVE TUBULAÇÃO DE ENTRADA/SAÍDA DE ÁGUA | E66: ='MM CALC'!E64 -> und | F66: ='MM CALC'!F64 -> 4 | G66: 723.91 | H66: =ROUND((1+$H$9)*G66,2) -> 928.7 | I66: =+ROUND((H66*F66),2) -> 3714.8
A67: ='MM CALC'!A65 -> 7.12 | B67: ='MM CALC'!B65 -> SICOR-MG | C67: ='MM CALC'!C65 -> ED-29742 | D67: ='MM CALC'!D65 -> CAIXA D'ÁGUA DE POLIETILENO, CAPACIDADE DE 5.000L, INCLUSIVE TAMPA, TORNEIRA DE BOIA, EXTRAVASOR, TUBO DE LIMPEZA E ACESSÓRIOS, EXCLUSIVE TUBULAÇÃO DE ENTRADA/ SAÍDA DE ÁGUA | E67: ='MM CALC'!E65 -> und | F67: ='MM CALC'!F65 -> 4 | G67: 3617.11 | H67: =ROUND((1+$H$9)*G67,2) -> 4640.39 | I67: =+ROUND((H67*F67),2) -> 18561.56
... A73: ='MM CALC'!A71 -> 7.18 | B73: ='MM CALC'!B71 -> SICOR-MG | C73: ='MM CALC'!C71 -> ED-32207 | D73: ='MM CALC'!D71 -> FILTRO ANAERÓBICO CIRCULAR DE CONCRETO PRÉ-MOLDADO, DIÂMETRO 250CM E PROFUNDIDADE DE 150CM, EXCLUSIVE ESCAVAÇÃO | E73: ='MM CALC'!E71 -> und | F73: ='MM CALC'!F71 -> 1 | G73: 4118.3 | H73: =ROUND((1+$H$9)*G73,2) -> 5283.37 | I73: =+ROUND((H73*F73),2) -> 5283.37
A74: ='MM CALC'!A72 -> 8 | D74: ='MM CALC'!D72 -> INSTALAÇÃO ELÉTRICA | I74: =SUM(I75:I107) -> 87730.55
A75: ='MM CALC'!A73 -> 8.1 | B75: ='MM CALC'!B73 -> SICOR-MG | C75: ='MM CALC'!C73 -> ED-50227 | D75: ='MM CALC'!D73 -> PONTO DE EMBUTIR PARA UM (1) INTERRUPTOR SIMPLES (10A- 250V), COM PLACA 4"X2" DE UM (1) POSTO, COM ELETRODUTO FLEXÍVEL CORRUGADO, ANTI-CHAMA, DN 25MM (3/4"), EMBUTIDO NA ALVENARIA E CABO DE COBRE FLEXÍVEL, CLASSE 5, ISOLAMENTO TIPO LSHF/ATOX, NÃO HALOGENADO, SEÇÃO 1, 5MM2 (70°C-450/750V), COM DISTÂNCIA DE ATÉ DEZ (10) METROS DO PONTO DE DERIVAÇÃO, INCLUSIVE CAIXA DE LIGAÇÃO, SUPORTE E FIXAÇÃO DO ELETRODUTO COM ENCHIMENTO DO RASGO NA ALVENARIA/CONCRETO COM ARGAMASSA | E75: ='MM CALC'!E73 -> und | F75: ='MM CALC'!F73 -> 52 | G75: 245.13 | H75: =ROUND((1+$H$9)*G75,2) -> 314.48 | I75: =+ROUND((H75*F75),2) -> 16352.96
A76: ='MM CALC'!A74 -> 8.2 | B76: ='MM CALC'!B74 -> SICOR-MG | C76: ='MM CALC'!C74 -> ED-50228 | D76: ='MM CALC'!D74 -> PONTO DE EMBUTIR PARA UMA (1) LUMINÁRIA,COM ELETRODUTO DE PVC RÍGIDO ROSCÁVEL, DN 20MM (3/4"), EMBUTIDO NA LAJE E CABO DE COBRE FLEXÍVEL, CLASSE 5, ISOLAMENTO TIPO LSHF/ ATOX, NÃO HALOGENADO, SEÇÃO 1,5MM2 (70°C-450/750V), COM DISTÂNCIA DE ATÉ CINCO (5) METROS DO PONTO DE DERIVAÇÃO, EXCLUSIVE LUMINÁRIA, INCLUSIVE CAIXA DE LIGAÇÃO OCTOGONAL, SUPORTE E FIXAÇÃO DO ELETRODUTO | E76: ='MM CALC'!E74 -> und | F76: ='MM CALC'!F74 -> 66 | G76: 144.97 | H76: =ROUND((1+$H$9)*G76,2) -> 185.98 | I76: =+ROUND((H76*F76),2) -> 12274.68
A77: ='MM CALC'!A75 -> 8.3 | B77: ='MM CALC'!B75 -> SICOR-MG | C77: ='MM CALC'!C75 -> ED-50232 | D77: ='MM CALC'!D75 -> PONTO DE EMBUTIR PARA UMA (1) TOMADA PADRÃO, TRÊS (3) POLOS (2P+T/10A-250V), COM PLACA 4"X2" DE UM (1) POSTO, COM ELETRODUTO FLEXÍVEL CORRUGADO, ANTI-CHAMA, DN 25MM (3/ 4"), EMBUTIDO NA ALVENARIA E CABO DE COBRE FLEXÍVEL, CLASSE 5, ISOLAMENTO TIPO LSHF/ATOX, NÃO HALOGENADO, SEÇÃO 2,5MM2 (70°C-450/750V), COM DISTÂNCIA DE ATÉ DEZ (10) METROS DO PONTO DE DERIVAÇÃO, INCLUSIVE CAIXA DE LIGAÇÃO, SUPORTE E FIXAÇÃO DO ELETRODUTO COM ENCHIMENTO DO RASGO NA ALVENARIA/CONCRETO COM ARGAMASSA | E77: ='MM CALC'!E75 -> und | F77: ='MM CALC'!F75 -> 60 | G77: 288.46 | H77: =ROUND((1+$H$9)*G77,2) -> 370.07 | I77: =+ROUND((H77*F77),2) -> 22204.2
A78: ='MM CALC'!A76 -> 8.4 | B78: ='MM CALC'!B76 -> SICOR-MG | C78: ='MM CALC'!C76 -> ED-13338 | D78: ='MM CALC'!D76 -> LUMINÁRIA COMERCIAL CHANFRADA DE SOBREPOR COMPLETA, PARA DUAS (2) LÂMPADAS TUBULARES LED 2X18W-ØT8, TEMPERATURA DA COR 6500K, FORNECIMENTO E INSTALAÇÃO, INCLUSIVE BASE E LÂMPADAS | E78: ='MM CALC'!E76 -> und | F78: ='MM CALC'!F76 -> 66 | G78: 168.24 | H78: =ROUND((1+$H$9)*G78,2) -> 215.84 | I78: =+ROUND((H78*F78),2) -> 14245.44
A79: ='MM CALC'!A77 -> 8.5 | B79: ='MM CALC'!B77 -> SICOR-MG | C79: ='MM CALC'!C77 -> ED-14181 | D79: ='MM CALC'!D77 -> QUADRO DE DISTRIBUIÇÃO DE EMBUTIR EM PVC, PARA 12 DISJUNTORES DIN, INCLUSIVE BARRAMENTOS NEUTRO/TERRA, EXCLUSIVE BARRAMENTO DE FASE | E79: ='MM CALC'!E77 -> und | F79: ='MM CALC'!F77 -> 3 | G79: 184.53 | H79: =ROUND((1+$H$9)*G79,2) -> 236.73 | I79: =+ROUND((H79*F79),2) -> 710.19
A80: ='MM CALC'!A78 -> 8.6 | B80: ='MM CALC'!B78 -> SICOR-MG | C80: ='MM CALC'!C78 -> ED-49402 | D80: ='MM CALC'!D78 -> LUMINÁRIA ARANDELA TIPO TARTARUGA, PARA UMA (1) LÂMPADA BASE E-27, POTÊNCIA MÁXIMA 60W, FORNECIMENTO E INSTALAÇÃO, EXCLUSIVE BASE E LÂMPADA | E80: ='MM CALC'!E78 -> und | F80: ='MM CALC'!F78 -> 9 | G80: 39.64 | H80: =ROUND((1+$H$9)*G80,2) -> 50.85 | I80: =+ROUND((H80*F80),2) -> 457.65
A81: ='MM CALC'!A79 -> 8.7 | B81: ='MM CALC'!B79 -> SICOR-MG | C81: ='MM CALC'!C79 -> ED-20580 | D81: ='MM CALC'!D79 -> ENTRADA DE ENERGIA AÉREA, TIPO B2, PADRÃO CEMIG, CARGA INSTALADA DE 10,1KW ATÉ 15KW, BIFÁSICO, COM SAÍDA SUBTERRÂNEA, INCLUSIVE POSTE, CAIXA PARA MEDIDOR, DISJUNTOR, BARRAMENTO, ATERRAMENTO E ACESSÓRIOS | E81: ='MM CALC'!E79 -> und | F81: ='MM CALC'!F79 -> 1 | G81: 2642.22 | H81: =ROUND((1+$H$9)*G81,2) -> 3389.7 | I81: =+ROUND((H81*F81),2) -> 3389.7
A82: ='MM CALC'!A80 -> 8.8 | B82: ='MM CALC'!B80 -> SICOR-MG | C82: ='MM CALC'!C80 -> ED-15752 | D82: ='MM CALC'!D80 -> CONJUNTO DE UMA (1) TOMADA DE DADOS (CONECTOR RJ45 CAT .6E), COM PLACA 4"X2" DE UM (1) POSTO, INCLUSIVE FORNECIMENTO, INSTALAÇÃO, SUPORTE, MÓDULO E PLACA | E82: ='MM CALC'!E80 -> und | F82: ='MM CALC'!F80 -> 14 | G82: 71.55 | H82: =ROUND((1+$H$9)*G82,2) -> 91.79 | I82: =+ROUND((H82*F82),2) -> 1285.06
A83: ='MM CALC'!A81 -> 8.9 | B83: ='MM CALC'!B81 -> SICOR-MG | C83: ='MM CALC'!C81 -> ED-9194 | D83: ='MM CALC'!D81 -> CABO UTP COM QUATRO (4) PARES, CATEGORIA 6, CLASSIFICAÇÃO LSZH, COM ISOLAMENTO NÃO HALOGENADO E ANTICHAMA, EXCLUSIVE CONECTOR/PLUG MACHO RJ45 E CRIMPAGEM | E83: ='MM CALC'!E81 -> m | F83: ='MM CALC'!F81 -> 300 | G83: 5.93 | H83: =ROUND((1+$H$9)*G83,2) -> 7.61 | I83: =+ROUND((H83*F83),2) -> 2283
A84: ='MM CALC'!A82 -> 8.10 | B84: ='MM CALC'!B82 -> SICOR-MG | C84: ='MM CALC'!C82 -> ED-34460 | D84: ='MM CALC'!D82 -> DISJUNTOR MONOPOLAR TIPO DIN, CORRENTE NOMINAL DE 10A, FORNECIMENTO E INSTALAÇÃO, INCLUSIVE TERMINAL ILHÓS | E84: ='MM CALC'!E82 -> und | F84: ='MM CALC'!F82 -> 1 | G84: 17.78 | H84: =ROUND((1+$H$9)*G84,2) -> 22.81 | I84: =+ROUND((H84*F84),2) -> 22.81
A85: ='MM CALC'!A83 -> 8.11 | B85: ='MM CALC'!B83 -> SICOR-MG | C85: ='MM CALC'!C83 -> ED-34461 | D85: ='MM CALC'!D83 -> DISJUNTOR MONOPOLAR TIPO DIN, CORRENTE NOMINAL DE 16A, FORNECIMENTO E INSTALAÇÃO, INCLUSIVE TERMINAL ILHÓS | E85: ='MM CALC'!E83 -> und | F85: ='MM CALC'!F83 -> 1 | G85: 17.89 | H85: =ROUND((1+$H$9)*G85,2) -> 22.95 | I85: =+ROUND((H85*F85),2) -> 22.95
A86: ='MM CALC'!A84 -> 8.12 | B86: ='MM CALC'!B84 -> SICOR-MG | C86: ='MM CALC'!C84 -> ED-34462 | D86: ='MM CALC'!D84 -> DISJUNTOR MONOPOLAR TIPO DIN, CORRENTE NOMINAL DE 20A, FORNECIMENTO E INSTALAÇÃO, INCLUSIVE TERMINAL ILHÓS | E86: ='MM CALC'!E84 -> und | F86: ='MM CALC'!F84 -> 1 | G86: 16 | H86: =ROUND((1+$H$9)*G86,2) -> 20.53 | I86: =+ROUND((H86*F86),2) -> 20.53
... A107: ='MM CALC'!A105 -> 8.33 | B107: ='MM CALC'!B105 -> SICOR-MG | C107: ='MM CALC'!C105 -> ED-49312 | D107: ='MM CALC'!D105 -> ELETRODUTO DE PVC RÍGIDO ROSCÁVEL, DN 50 MM (2"), INCLUSIVE CONEXÕES, SUPORTES E FIXAÇÃO | E107: ='MM CALC'!E105 -> m | F107: ='MM CALC'!F105 -> 90 | G107: 39.52 | H107: =ROUND((1+$H$9)*G107,2) -> 50.7 | I107: =+ROUND((H107*F107),2) -> 4563
A108: ='MM CALC'!A111 -> 9 | D108: ='MM CALC'!D111 -> LOUÇAS E METAIS | I108: =SUM(I109:I132) -> 18500.51
A109: ='MM CALC'!A112 -> 9.1 | B109: ='MM CALC'!B112 -> SICOR-MG | C109: ='MM CALC'!C112 -> ED-50277 | D109: ='MM CALC'!D112 -> CUBA EM AÇO INOXIDÁVEL DE EMBUTIR, AISI 304, APLICAÇÃO PARA PIA (465X330X115)MM, NÚMERO 1, ASSENTAMENTO EM BANCADA, INCLUSIVE VÁLVULA DE ESCOAMENTO DE METAL COM ACABAMENTO CROMADO, SIFÃO DE METAL TIPO COPO COM ACABAMENTO CROMADO | E109: ='MM CALC'!E112 -> uni | F109: ='MM CALC'!F112 -> 2 | G109: 462.09 | H109: =ROUND((1+$H$9)*G109,2) -> 592.82 | I109: =+ROUND((H109*F109),2) -> 1185.64
A110: ='MM CALC'!A113 -> 9.2 | B110: ='MM CALC'!B113 -> SICOR-MG | C110: ='MM CALC'!C113 -> ED-50278 | D110: ='MM CALC'!D113 -> CUBA EM AÇO INOXIDÁVEL DE EMBUTIR, AISI 304, APLICAÇÃO PARA PIA (560X330X115)MM, NÚMERO 2, ASSENTAMENTO EM BANCADA, INCLUSIVE VÁLVULA DE ESCOAMENTO DE METAL COM ACABAMENTO CROMADO, SIFÃO DE METAL TIPO COPO COM ACABAMENTO CROMADO | E110: ='MM CALC'!E113 -> uni | F110: ='MM CALC'!F113 -> 1 | G110: 476.04 | H110: =ROUND((1+$H$9)*G110,2) -> 610.71 | I110: =+ROUND((H110*F110),2) -> 610.71
A111: ='MM CALC'!A114 -> 9.3 | B111: ='MM CALC'!B114 -> SICOR-MG | C111: ='MM CALC'!C114 -> ED-50279 | D111: ='MM CALC'!D114 -> CUBA DE LOUÇA BRANCA DE EMBUTIR, FORMATO OVAL, INCLUSIVE VÁLVULA DE ESCOAMENTO DE METAL COM ACABAMENTO CROMADO, SIFÃO DE METAL TIPO COPO COM ACABAMENTO CROMADO | E111: ='MM CALC'!E114 -> uni | F111: ='MM CALC'!F114 -> 4 | G111: 375.01 | H111: =ROUND((1+$H$9)*G111,2) -> 481.1 | I111: =+ROUND((H111*F111),2) -> 1924.4
A112: ='MM CALC'!A115 -> 9.4 | B112: ='MM CALC'!B115 -> SICOR-MG | C112: ='MM CALC'!C115 -> ED-50290 | D112: ='MM CALC'!D115 -> TANQUE DE LOUÇA BRANCA COM COLUNA, CAPACIDADE 22 LITROS, INCLUSIVE ACESSÓRIOS DE FIXAÇÃO, VÁLVULA DE ESCOAMENTO DE METAL COM ACABAMENTO CROMADO, SIFÃO DE METAL TIPO COPO COM ACABAMENTO CROMADO E REJUNTAMENTO, EXCLUSIVE TORNEIRA | E112: ='MM CALC'!E115 -> uni | F112: ='MM CALC'!F115 -> 1 | G112: 899.61 | H112: =ROUND((1+$H$9)*G112,2) -> 1154.11 | I112: =+ROUND((H112*F112),2) -> 1154.11
A113: ='MM CALC'!A116 -> 9.5 | B113: ='MM CALC'!B116 -> SICOR-MG | C113: ='MM CALC'!C116 -> ED-50282 | D113: ='MM CALC'!D116 -> LAVATÓRIO DE LOUÇA BRANCA COM COLUNA, TAMANHO MÉDIO, INCLUSIVE ACESSÓRIOS DE FIXAÇÃO, VÁLVULA DE ESCOAMENTO DE METAL COM ACABAMENTO CROMADO, SIFÃO DE METAL TIPO COPO COM ACABAMENTO CROMADO E REJUNTAMENTO, EXCLUSIVE TORNEIRA E ENGATE FLEXÍVEL | E113: ='MM CALC'!E116 -> uni | F113: ='MM CALC'!F116 -> 1 | G113: 515.6 | H113: =ROUND((1+$H$9)*G113,2) -> 661.46 | I113: =+ROUND((H113*F113),2) -> 661.46
A114: ='MM CALC'!A117 -> 9.6 | B114: ='MM CALC'!B117 -> SICOR-MG | C114: ='MM CALC'!C117 -> ED-50283 | D114: ='MM CALC'!D117 -> LAVATÓRIO DE LOUÇA BRANCA SEM COLUNA, TAMANHO MÉDIO, INCLUSIVE ACESSÓRIOS DE FIXAÇÃO, VÁLVULA DE ESCOAMENTO DE METAL COM ACABAMENTO CROMADO, SIFÃO DE METAL TIPO COPO COM ACABAMENTO CROMADO E REJUNTAMENTO, EXCLUSIVE TORNEIRA E ENGATE FLEXÍVE | E114: ='MM CALC'!E117 -> uni | F114: ='MM CALC'!F117 -> 1 | G114: 427.46 | H114: =ROUND((1+$H$9)*G114,2) -> 548.39 | I114: =+ROUND((H114*F114),2) -> 548.39
A115: ='MM CALC'!A118 -> 9.7 | B115: ='MM CALC'!B118 -> SICOR-MG | C115: ='MM CALC'!C118 -> ED-50330 | D115: ='MM CALC'!D118 -> TORNEIRA METÁLICA PARA LAVATÓRIO, ABERTURA 1/4 DE VOLTA, ACABAMENTO CROMADO, COM AREJADOR, APLICAÇÃO DE MESA , INCLUSIVE ENGATE FLEXÍVEL METÁLICO | E115: ='MM CALC'!E118 -> uni | F115: ='MM CALC'!F118 -> 6 | G115: 118.43 | H115: =ROUND((1+$H$9)*G115,2) -> 151.93 | I115: =+ROUND((H115*F115),2) -> 911.58
A116: ='MM CALC'!A119 -> 9.8 | B116: ='MM CALC'!B119 -> SICOR-MG | C116: ='MM CALC'!C119 -> ED-50324 | D116: ='MM CALC'!D119 -> TORNEIRA METÁLICA PARA PIA, BICA MÓVEL, ABERTURA 1/4 DE VOLTA, ACABAMENTO CROMADO, COM AREJADOR, APLICAÇÃO DE MESA, INCLUSIVE ENGATE FLEXÍVEL METÁLICO | E116: ='MM CALC'!E119 -> uni | F116: ='MM CALC'!F119 -> 2 | G116: 184.3 | H116: =ROUND((1+$H$9)*G116,2) -> 236.44 | I116: =+ROUND((H116*F116),2) -> 472.88
A117: ='MM CALC'!A120 -> 9.9 | B117: ='MM CALC'!B120 -> SICOR-MG | C117: ='MM CALC'!C120 -> ED-50323 | D117: ='MM CALC'!D120 -> TORNEIRA METÁLICA PARA IRRIGAÇÃO/JARDIM, ACABAMENTO CROMADO, APLICAÇÃO DE PAREDE | E117: ='MM CALC'!E120 -> uni | F117: ='MM CALC'!F120 -> 4 | G117: 64.73 | H117: =ROUND((1+$H$9)*G117,2) -> 83.04 | I117: =+ROUND((H117*F117),2) -> 332.16
A118: ='MM CALC'!A121 -> 9.10 | B118: ='MM CALC'!B121 -> SICOR-MG | C118: ='MM CALC'!C121 -> ED-50331 | D118: ='MM CALC'!D121 -> TORNEIRA METÁLICA PARA TANQUE, ACABAMENTO CROMADO, BICO COM ROSCA | E118: ='MM CALC'!E121 -> uni | F118: ='MM CALC'!F121 -> 1 | G118: 68.37 | H118: =ROUND((1+$H$9)*G118,2) -> 87.71 | I118: =+ROUND((H118*F118),2) -> 87.71
A119: ='MM CALC'!A122 -> 9.11 | B119: ='MM CALC'!B122 -> SICOR-MG | C119: ='MM CALC'!C122 -> ED-50297 | D119: ='MM CALC'!D122 -> BACIA SANITÁRIA (VASO) DE LOUÇA COM CAIXA ACOPLADA, COR BRANCA, INCLUSIVE ACESSÓRIOS DE FIXAÇÃO/VEDAÇÃO, ENGATE FLEXÍVEL METÁLICO E REJUNTAMENTO, EXCLUSIVE ASSENTO | E119: ='MM CALC'!E122 -> uni | F119: ='MM CALC'!F122 -> 1 | G119: 570.43 | H119: =ROUND((1+$H$9)*G119,2) -> 731.8 | I119: =+ROUND((H119*F119),2) -> 731.8
A120: ='MM CALC'!A123 -> 9.12 | B120: ='MM CALC'!B123 -> SICOR-MG | C120: ='MM CALC'!C123 -> ED-50298 | D120: ='MM CALC'!D123 -> BACIA SANITÁRIA (VASO) DE LOUÇA CONVENCIONAL, COR BRANCA, INCLUSIVE ACESSÓRIOS DE FIXAÇÃO/VEDAÇÃO, VÁLVULA DE DESCARGA METÁLICA COM ACIONAMENTO DUPLO, TUBO DE LIGAÇÃO DE LATÃO COM CANOPLA E REJUNTAMENTO, EXCLUSIVE ASSENTO | E120: ='MM CALC'!E123 -> uni | F120: ='MM CALC'!F123 -> 4 | G120: 1065.29 | H120: =ROUND((1+$H$9)*G120,2) -> 1366.66 | I120: =+ROUND((H120*F120),2) -> 5466.64
... A132: ='MM CALC'!A135 -> 9.24 | B132: ='MM CALC'!B135 -> SICOR-MG | C132: ='MM CALC'!C135 -> ED-48164 | D132: ='MM CALC'!D135 -> BARRA DE APOIO EM AÇO INOX POLIDO RETA, DIÂMETRO DE 1.1/ 4", PARA ACESSIBILIDADE (PMR/PCR), COMPRIMENTO 70CM, INSTALADO EM PAREDE, INCLUSIVE ACESSÓRIOS PARA FIXAÇÃO | E132: ='MM CALC'!E135 -> uni | F132: ='MM CALC'!F135 -> 1 | G132: 237.31 | H132: =ROUND((1+$H$9)*G132,2) -> 304.44 | I132: =+ROUND((H132*F132),2) -> 304.44
A133: ='MM CALC'!A136 -> 10 | D133: ='MM CALC'!D136 -> ESQUADRIAS DE MADEIRA | I133: =SUM(I134:I135) -> 43309.36
A134: ='MM CALC'!A137 -> 10.1 | B134: ='MM CALC'!B137 -> SINAPI | C134: ='MM CALC'!C137 -> 100693 | D134: ='MM CALC'!D137 -> KIT DE PORTA DE MADEIRA TIPO MEXICANA, MACIÇA (PESADA OU SUPERPESADA), PADRÃO MÉDIO, 80X210CM, ESPESSURA DE 3,5CM, ITENS INCLUSOS: DOBRADIÇAS, MONTAGEM E INSTALAÇÃO DE BATENTE, FECHADURA COM EXECUÇÃO DO FURO - FORNECIMENTO E INSTALAÇÃO. AF_12/2019 | E134: ='MM CALC'!E137 -> uni | F134: ='MM CALC'!F137 -> 12 | G134: 2596.15 | H134: =ROUND((1+$H$9)*G134,2) -> 3330.6 | I134: =+ROUND((H134*F134),2) -> 39967.2
A135: ='MM CALC'!A138 -> 10.2 | B135: ='MM CALC'!B138 -> SINAPI | C135: ='MM CALC'!C138 -> 90825 | D135: ='MM CALC'!D138 -> PORTA DE MADEIRA, MACIÇA (PESADA OU SUPERPESADA), 90X210CM, ESPESSURA DE 3,5CM, INCLUSO DOBRADIÇAS - FORNECIMENTO E INSTALAÇÃO. AF_12/2019 | E135: ='MM CALC'!E138 -> uni | F135: ='MM CALC'!F138 -> 4 | G135: 651.29 | H135: =ROUND((1+$H$9)*G135,2) -> 835.54 | I135: =+ROUND((H135*F135),2) -> 3342.16
A136: ='MM CALC'!A139 -> 11 | D136: ='MM CALC'!D139 -> ESQUADRIAS METÁLICAS | I136: =SUM(I137:I140) -> 47911.94
A137: ='MM CALC'!A140 -> 11.1 | B137: ='MM CALC'!B140 -> SICOR-MG | C137: ='MM CALC'!C140 -> ED-29484 | D137: ='MM CALC'!D140 -> JANELA EM ALUMÍNIO DE CORRER COM 2 FOLHAS, LINHA 25/ SUPREMA, ACABAMENTO ANODIZADO NATURAL, INCLUSIVE PERFIS, VIDRO 4MM E INSTALAÇÃO, EXCLUSIVE FERRAGENS PARA JANELA DE ALUMÍNIO DE CORRER | E137: ='MM CALC'!E140 -> m² | F137: ='MM CALC'!F140 -> 1.82 | G137: 870.11 | H137: =ROUND((1+$H$9)*G137,2) -> 1116.26 | I137: =+ROUND((H137*F137),2) -> 2031.59
A138: ='MM CALC'!A141 -> 11.2 | B138: ='MM CALC'!B141 -> SICOR-MG | C138: ='MM CALC'!C141 -> ED-29483 | D138: ='MM CALC'!D141 -> JANELA EM ALUMÍNIO FIXA COMPLETA, LINHA 25/SUPREMA, ACABAMENTO ANODIZADO NATURAL, INCLUSIVE PERFIS E VIDRO LISO 4MM E INSTALAÇÃO | E138: ='MM CALC'!E141 -> m² | F138: ='MM CALC'!F141 -> 42.58 | G138: 609.85 | H138: =ROUND((1+$H$9)*G138,2) -> 782.38 | I138: =+ROUND((H138*F138),2) -> 33313.74
...

Sheet MM CALC
A1: PREFEITURA MUNICIPAL DE MINAS NOVAS Praça Sebastião Leme do Prado, 15 - Centro CEP: 39.650-000 – Minas Novas (MG) Fone: (33) 3764-1147 – (33) 3764-2641 E-mail: convenios@minasnovas.mg.gov.br
A2: MEMÓRIA DE CÁLCULO DE QUANTITATIVOS
A4: PREFEITURA MUNICIPAL DE MINAS NOVAS | E4: DATA: 17/11/2025
A5: OBRA: REFORMA E CONSTRUÇÃO DA ESCOLA MUNICIPAL PADRE SACRAMENTO NO POVOADO DE SANTIAGO
A6: LOCAL: POVOADO DE SANTIAGO - MINAS NOVAS/MG
A8: ITEM | B8: FONTE | C8: CÓDIGO | D8: DESCRIÇÃO | E8: UND. | F8: QUANT. | G8: FÓRMULA/MEMÓRIA
A9: - | B9: - | C9: - | D9: - | E9: - | F9: - | G9: -
A10: 1 | D10: SERVIÇOS PRELIMINARES
A11: 1.1 | B11: SICOR-MG | C11: ED-48514 | D11: REMOÇÃO MANUAL DE TELHA CERÂMICA, COM REAPROVEITAMENTO, INCLUSIVE AFASTAMENTO EEMPILHAMENTO, EXCLUSIVE TRANSPORTE E RETIRADA DOMATERIAL REMOVIDO NÃO REAPROVEITÁVEL | E11: m² | F11: 342.45 | G11: a cargo do municipio
A12: 1.2 | B12: SICOR-MG | C12: ED-48457 | D12: REMOÇÃO MANUAL DE ENGRADAMENTO PARA TELHA TIPOCERÂMICA OU CONCRETO, INCLUSIVE AFASTAMENTO EEMPILHAMENTO, EXCLUSIVE TRANSPORTE E RETIRADA DOMATERIAL REMOVIDO NÃO REAPROVEITÁVEL | E12: m² | F12: 305.76 | G12: a cargo do municipio
A13: 1.3 | B13: SICOR-MG | C13: ED-28338 | D13: DEMOLIÇÃO MANUAL DE CONSTRUÇÃO EM ALVENARIAS DEVEDAÇÃO, COM ESPESSURA MÁXIMA DE 15CM, INCLUSIVEREMOÇÃO COM REAPROVEITAMENTO DE ESQUADRIAS,AFASTAMENTO E EMPILHAMENTO, EXCLUSIVE TRANSPORTE ERETIRADA DO MATERIAL DEMOLIDO/REMOVIDO NÃO REAPROVEITÁVEL | E13: m² | F13: 258 | G13: a cargo do municipio
A14: 1.4 | B14: SICOR-MG | C14: ED-48467 | D14: REMOÇÃO DE LOUÇAS (LAVATÓRIO, BANHEIRA, PIA, VASOSANITÁRIO, TANQUE), COM REAPROVEITAMENTO, INCLUSIVEAFASTAMENTO E EMPILHAMENTO, EXCLUSIVE TRANSPORTE ERETIRADA DO MATERIAL REMOVIDO NÃO REAPROVEITÁVEL | E14: uni | F14: 6 | G14: a cargo do municipio
A15: 1.5 | B15: SICOR-MG | C15: ED-48479 | D15: DEMOLIÇÃO MANUAL DE PISO CIMENTADO OU CONTRAPISO DEARGAMASSA, COM ESPESSURA MÁXIMA DE 10CM, INCLUSIVEAFASTAMENTO E EMPILHAMENTO, EXCLUSIVE TRANSPORTE ERETIRADA DO MATERIAL DEMOLIDO | E15: m² | F15: 258 | G15: a cargo do municipio
A16: 1.6 | B16: SICOR-MG | C16: RO-01091 | D16: Limpeza mecanizada da camada vegetal | E16: m² | F16: 2778.94 | G16: a cargo do municipio
A17: 1.7 | B17: SICOR-MG | C17: RO-00232 | D17: Regularização de superfície com motoniveladora | E17: m² | F17: 2778.94 | G17: a cargo do municipio
A18: 1.8 | B18: SICOR-MG | C18: ED-28427 | D18: FORNECIMENTO E COLOCAÇÃO DE PLACA DE OBRA EM CHAPA GALVANIZADA #26, ESP. 0,45MM, DIMENSÃO (3X1,5)M, PLOTADA COM ADESIVO VINÍLICO, AFIXADA COM REBITES 4,8X40MM, EM ESTRUTURA METÁLICA DE METALON 20X20MM, ESP. 1,25MM, INCLUSIVE SUPORTE EM EUCALIPTO AUTOCLAVADO PINTADO COM TINTA PVA DUAS (2) DEMÃOS | E18: und | F18: 1 | G18: Placa de obra: 1 unid
A19: 1.9 | B19: SICOR-MG | C19: ED-50135 | D19: BARRACÃO DE OBRA, EM CHAPA DE COMPENSADO RESINADO, INCLUSIVE INSTALAÇÕES SANITÁRIAS E MOBILIÁRIO - PADRÃO DER-MG | E19: m² | F19: 32 | G19: Barracão de obra: 4,00 x 8,00 = 32,00m²
A20: 1.10 | B20: SICOR-MG | C20: ED-17989 | D20: LOCAÇÃO DE OBRA COM GABARITO DE TÁBUAS CORRIDAS PONTALETADAS A CADA 2,00M, REAPROVEITAMENTO (2X), INCLUSIVE ACOMPANHAMENTO DE EQUIPE TOPOGRÁFICA PARA MARCAÇÃO DE PONTO TOPOGRÁFICO | E20: m | F20: 99.2 | G20: (31,85 + 2,00) x 2 + (13,90 + 2,00) x 2 = 99,50
A21: 1.11 | B21: SICOR-MG | C21: ED-20579 | D21: ENTRADA DE ENERGIA AÉREA, TIPO B1, PADRÃO CEMIG, CARGA INSTALADA DE ATÉ 10KW, BIFÁSICO, COM SAÍDA SUBTERRÂNEA, INCLUSIVE POSTE, CAIXA PARA MEDIDOR, DISJUNTOR, BARRAMENTO, ATERRAMENTO E ACESSÓRIOS | E21: und | F21: 1 | G21: 1 unidade
A22: 2 | D22: TRABALHOS EM TERRA
A23: 2.1 | B23: SICOR-MG | C23: ED-51107 | D23: ESCAVAÇÃO MANUAL DE VALA COM PROFUNDIDADE MENOR OU IGUAL A 1,5M, INCLUSIVE DESCARGA LATERAL | E23: m³ | F23: 19.15 | G23: Blocos de fundação: Bloco multiuso: 30 uni x 0,50m x 0,5m x 0,50m = 3,75m³ Bloco pedagógico: 27 uni x 0,50m x 0,50m x 0,50m = 3,38m³ Muro de arrimo atrás da escola: 15 uni x 0,50m x 0,50m x 0,50m= 1,88m³ Vigas Baldrames: Bloco multiuso: ((31,85m x 2) + (4,85m x 12) + 1,50m + 16,80m) x 0,15m x 0,30m = 6,31m³ Bloco pedagógico+refeitório: (31,85m + 9,05m +9,05m) x 0,15m x 0,30m = 2,25m³ Muro de arrimo atrás da escola: 35,05m x 0,15 x 0,30 = 1,58 m³ TOTAL: 19,15 m³
A24: 2.2 | B24: SICOR-MG | C24: ED-51093 | D24: APILOAMENTO MANUAL EM FUNDO DE VALA COM SOQUETE, EXCLUSIVE ESCAVAÇÃO | E24: m² | F24: 51.79 | G24: Blocos de fundação: Bloco multiuso: 30 uni x 0,50m x 0,50m = 7,5m² Bloco pedagógico: 27 uni x 0,50m x 0,50m = 6,75m² Muro de arrimo atrás da escola: 15 uni x 0,50m x 0,50m = 3,75m² Vigas Baldrames: Bloco multiuso: ((31,85m x 2) + (4,85m x 12) + 1,50m + 16,80m) x 0,15m = 21,03 m² Bloco pedagógico+refeitório: (31,85m + 9,05m +9,05m) x 0,15m = 7,50 m² Muro de arrimo atrás da escola: 35,05m x 0,15 = 5,26 m² TOTAL: 51,79 m³
A25: 2.3 | B25: SICOR-MG | C25: ED-51096 | D25: COMPACTAÇÃO MECANIZADA DE ATERRO COM PLACA VIBRATÓRIA, INCLUSIVE ESPALHAMENTO MANUAL | E25: m³ | F25: 400.3 | G25: Bloco multiuso: (9,36m² + 2,47m² + 14,58m² + 4,32m² + 1,02m² + 2,14m² + 2,55m² + 7,56m² + 3,12m² + 7,56m² + 14,40m² + 2,39m² + 7,29m² + 13,88m² + 16,65m² + 23,76m²) x 0,10m = 13,31 m³ Bloco pedagógico: (23,76m² x 4) x 1,50m = 142,56m³ Refeitório + circulação: (78,52m² + 84,43m²) x 1,50m= 244,43m³ TOTAL: 400,30m³
A26: 3 | D26: FUNDAÇÕES
A27: 3.1 | B27: SICOR-MG | C27: ED-29801 | D27: PERFURAÇÃO MANUAL DE ESTACA TIPO BROCA A TRADO, INCLUSIVE AFASTAMENTO, EXCLUSIVE ARMAÇÃO, CONCRETO ESTRUTURAL, TRANSPORTE E RETIRADA DO MATERIAL ESCAVADO | E27: m³ | F27: 3.39 | G27: Bloco multiuso: 30 uni x 1,50m = 45,00m Bloco pedagógico: 27 uni x 1,50m = 40,50m Muro de arrimo atrás da escola: 15 uni x 1,50m = 22,50 TOTAL: (45,00m + 40,50m + 22,50m) x (π x 0,10²) = 3,39m³
A28: 3.2 | B28: SICOR-MG | C28: ED-49811 | D28: FÔRMA E DESFORMA PARA VIGA-CINTA/BLOCO COM COMPENSADO RESINADO, ESP. 12MM, REAPROVEITAMENTO (3X) (FUNDAÇÃO) | E28: m² | F28: 167.99 | G28: Blocos de fundação: Bloco multiuso: 30 uni x (0,50m + 0,50m + 0,50m + 0,50m) x 0,10m = 6,00m² Bloco pedagógico: 27 uni x (0,50m + 0,50m + 0,50m + 0,50m) x 0,10m = 5,40m² muro de arrimo atrás da escola: 15 uni x (0,50m + 0,50m + 0,50m + 0,50m) x 0,10m= 3,00m² Vigas Baldrames: Bloco multiuso: (4,35m x 0,20m) + (4,35m x 0,60m)+(4,35m x 0,75m) + ((31,85m x 2) + (4,85m x 12) + 1,50m + 16,80m) x 0,20m) = 34,78m² Bloco pedagógico: ((22,5m + 4,70m) x 0,20m) + ((22,5m + 4,70m) x 0,60m) + ((4,70m x 6) +22,50m)x0,75m = 59,79m² Refeitório: ((9,35m + 9,05m) x 0,20m) + ((9,35m + 9,05m) x 0,60m) + ((9,05m + 4,35m + 9,35m) x 0,75m)= 31,78m² muro de arrimo atrás da escola: (35,05m x 0,20m) + (35,05m x 0,60m) = 27,24m² TOTAL: 167,99 m²
A29: 3.3 | B29: SICOR-MG | C29: ED-48298 | D29: CORTE, DOBRA E MONTAGEM DE AÇO CA-50/60, INCLUSIVE ESPAÇADOR | E29: kg | F29: 1502.15 | G29: Blocos de fundação: Bloco multiuso: 30 uni x 0,50m x 0,5m0 x 0,50m = 3,75m³ Bloco pedagógico: 27 uni x 0,50m x 0,50m x 0,50m = 3,38m³ Muro de arrimo atrás da escola: 15 uni x 0,50m x 0,50m x 0,50m= 1,88m³ Vigas Baldrames: Bloco multiuso: ((31,85m x 2) + (4,85m x 12) + 1,50m + 16,80m) + (4,35m x 3) x 0,15m x 0,30m = 6,90m³ Bloco pedagógico: ((22,50m x 3) + (4,70m x 7)) x 0,15m x 0,30m = 4,52m³ Refeitório: ((9,35m x 3) + (9,05m x 3) + 4,35) x 0,15m x 0,30m = 2,68m³ Total: 23,11m³ TOTAL: 23,11m³ x 65kg/m³ = 1502,15kg
A30: 3.4 | B30: SICOR-MG | C30: ED-49812 | D30: LASTRO DE CONCRETO MAGRO, INCLUSIVE TRANSPORTE, LANÇAMENTO E ADENSAMENTO | E30: m³ | F30: 2.61 | G30: Blocos de fundação: Bloco multiuso: 30 uni x 0,50m x 0,50m x 0,05m = 0,38m³ Bloco pedagógico: 27 uni x 0,50m x 0,50m x 0,05m = 0,34m³ Muro de arrimo atrás da escola: 15 uni x 0,50m x 0,50m x 0,05m= 0,19m³ Vigas Baldrames: Bloco multiuso: ((31,85m x 2) + (4,85m x 12) + 4,35m + 1,50m + 16,80m) x 0,15m x 0,05m = 1,09m³ Bloco pedagógico: (22,50m + 4,70m) x 0,15m x 0,05m = 0,21m³ Refeitório: ((9,35m + 9,05m) x 0,15m x 0,05m = 0,14m³ Muro de arrimo atrás da escola: (35,05m x 0,15m x 0,05m) = 0,26m³ TOTAL: 2,61m³
A31: 3.5 | B31: SICOR-MG | C31: ED-49799 | D31: FORNECIMENTO DE CONCRETO ESTRUTURAL, USINADO, COM FCK 30MPA, INCLUSIVE LANÇAMENTO, ADENSAMENTO E ACABAMENTO (FUNDAÇÃO) | E31: m³ | F31: 26.27 | G31: Blocos de fundação: Bloco multiuso: 30 uni x 0,50m x 0,5m0 x 0,50m = 3,75m³ Bloco pedagógico: 27 uni x 0,50m x 0,50m x 0,50m = 3,38m³ Muro de arrimo atrás da escola: 15 uni x 0,50m x 0,50m x 0,50m= 1,88m³ Vigas Baldrames: Bloco multiuso: ((31,85m x 2) + (4,85m x 12) + (4,35m x 3) + 1,50m + 16,80m) x 0,15m x 0,30m = 6,90m³ Bloco pedagógico: ((22,50m x 3) + (4,70m x 7)) x 0,15m x 0,30m = 4,52m³ Refeitório: ((9,35m x 3) + (9,05m x 3) + 4,35) x 0,15m x 0,30m = 2,68m³ Muro de arrimo atrás da escola: (35,05m x 0,15m x 0,30m) x 2 = 3,16m³ TOTAL: 26,27 m³
A32: 3.6 | B32: SICOR-MG | C32: ED-50174 | D32: IMPERMEABILIZAÇÃO COM EMULSÃO ASFÁLTICA, DUAS (2) DEMÃOS | E32: m² | F32: 193.86 | G32: Blocos de fundação: Bloco multiuso: 30 uni x (0,50m x4 ) x 0,10m + (0,50m x 0,50m) = 6,25m² Bloco pedagógico: 27uni x (0,50m x 4) x 0,10m + (0,50m x 0,50m) = 5,65m² Vigas Baldrames: Bloco multiuso: ((31,85m x 2) + (4,85m x 12) + (4,35m + 1,50m + 16,80m) x (0,10m + 0,10m + 0,15m)) + (4,35m x 0,75m) + (4,35m x 0,90m) = 57,77m² Bloco pedagógico: ((22,50m + 4,70m) x 0,35m) + ((22,50m + 4,70m) x 0,75m) + ((5 x 4,40m) x 0,90m) + (22,50m x 0,90m) = 69,97m² Pilares aterrados: (9 x 0,90m x 1,50m) = 12,15m² Refeitório: ((9,35m +9,05m)x 0,35m) + ((9,35m + 9,05m) x 0,75m) + ((9,05m + 4,35m + 9,35m) x 0,90m) = 40,72m² Pilares aterrados: 1 x 0,90m x 1,50m = 1,35m² TOTAL: 193,86m²
A33: 4 | D33: ESTRUTURA
A34: 4.1 | B34: SICOR-MG | C34: ED-16319 | D34: MURO DIVISÓRIO DE TIJOLO FURADO COM ALTURA 220CM, COM PILARETES DE 16X9CM A CADA 250CM, SAPATA DE CONCRETO ARMADO 30X20CM E PINGADEIRA, REBOCADO E PINTADO A LÁTEX, INCLUSIVE ESCAVAÇÃO, APILOAMENTO E LASTRO | E34: m | F34: 94.9 | G34: 35,05m + 27,25m + 32,60m = 94,90m
A35: 4.2 | B35: SICOR-MG | C35: ED-49647 | D35: FÔRMA E DESFORMA DE COMPENSADO PLASTIFICADO, ESP. 12MM, REAPROVEITAMENTO (5X), EXCLUSIVE ESCORAMENTO | E35: m² | F35: 337.02 | G35: Pilares Bloco multiuso: (10uni x 0,45m x 2,90m) + (11uni x 0,60m x 2,90m) + (4uni x 0,75m x 2,90m) + (0,45m x (2,9m+1,50m)) +(0,60m x ((2,9m+1,50m)) + (3 x1,50m x 0,60m) = 48,11 m² Bloco pedagógico: (6uni x 0,45m x (2,90m + 1,50m)) + (4uni x 0,60m x (2,90m+1,50m))+(5uni x 0,45m x (2,90m +1,50m))+ (3uni x 0,60m x (1,50m + 2,90m) + (1uni x 0,60m x 1,50m) + (7uni x 0,45m x 1,50m))+(1uni x 0,90m x 1,50m) + (4 uni x 2 x 3,14 x 0,10m x 2,90m) = 54,53 m² Muro de arrimo atrás da escola: 15uni x 0,45m x 1,50m =10,13m² Vigas Bloco multiuso: ((31,85m x 2) + (4,85m x 12) + (4,35m)) x 0,60m) + (4,35m x 1,05m) + (4,85m x 1,05m) = 85,41 m² Bloco pedagógico: (((22,50m x 2uni) + (4,70m x 6uni)) x 0,60m) + (4uni x 4,70m x 1,05m)= 63,66 m² Refeitório: ((9,35m x 2) + (9,03m x 2)) x 1,05m) + (8uni x 4,35m x 1,05m) = 75,18 m² TOTAL: 337,02m²
A36: 4.3 | B36: SICOR-MG | C36: ED-48298 | D36: CORTE, DOBRA E MONTAGEM DE AÇO CA-50/60, INCLUSIVE ESPAÇADOR | E36: kg | F36: 1545.05 | G36: Pilares Bloco multiuso: (27uni x 0,15m x 0,30m x 2,90m) + (3uni x 0,15m x 0,30m x 1,50m) = 3,72m³ Bloco pedagógico: (18uni x 0,15m x 0,30m x 2,90m) + (3,14 x 0,10² x 4uni x 2,90m) + (27uni x 0,15m x 0,3m x 1,50m)= 4,54 m³ Vigas Bloco multiuso: (4,85m x 12uni x 0,15m x 0,30m) + ( 4,85m x 0,15m x 0,45m) + (31,85m x 2uni x 0,15m x 0,30m) + (4,35m x 0,15m x 0,30m) + (4,35m x 0,15m x 0,45m) = 6,31 m³ Bloco pedagógico: (4,70m x 0,15m x 0,30m x 6uni) + (4,70m x 0,15m x 0,45m x 4uni) + (22,50m x 0,15m x 0,30m) + (18,20m x 0,15m x 0,30m) = 4,37m³ Refeitório + circulação = (4,35m x 0,15m x 0,45m x 8uni) + (9,35m x 0,15m x 0,45m x 2uni) + (9,05m x 0,15m x 0,45m x 2uni) = 4,83 m³ Total:23,77 m³ x 65kg/m³ = 1545,05 kg
A37: 4.4 | B37: SICOR-MG | C37: ED-49638 | D37: FORNECIMENTO DE CONCRETO ESTRUTURAL, USINADO BOMBEADO, COM FCK 25MPA, INCLUSIVE LANÇAMENTO, ADENSAMENTO E ACABAMENTO | E37: m³ | F37: 23.77 | G37: Pilares Bloco multiuso: (27uni x 0,15m x 0,30m x 2,90m) + (3uni x 0,15m x 0,30m x 1,50m) = 3,72m³ Bloco pedagógico: (18uni x 0,15m x 0,30m x 2,90m) + (3,14 x 0,10² x 4uni x 2,90m) + (27uni x 0,15m x 0,3m x 1,50m)= 4,54 m³ Vigas Bloco multiuso: (4,85m x 12uni x 0,15m x 0,30m) + ( 4,85m x 0,15m x 0,45m) + (31,85m x 2uni x 0,15m x 0,30m) + (4,35m x 0,15m x 0,30m) + (4,35m x 0,15m x 0,45m) = 6,31 m³ Bloco pedagógico: (4,70m x 0,15m x 0,30m x 6uni) + (4,70m x 0,15m x 0,45m x 4uni) + (22,50m x 0,15m x 0,30m) + (18,20m x 0,15m x 0,30m) = 4,37m³ Refeitório + circulação = (4,35m x 0,15m x 0,45m x 8uni) + (9,35m x 0,15m x 0,45m x 2uni) + (9,05m x 0,15m x 0,45m x 2uni) = 4,83 m³ Total:23,77 m³
A38: 4.5 | B38: SICOR-MG | C38: ED-50253 | D38: LAJE PRÉ-MOLDADA UNIDIRECIONAL COM ENCHIMENTO EM POLIESTIRENO EXPANDIDO (EPS), CAPEAMENTO DE 4CM, SOBRECARGA DE 100KG/M2, ALTURA TOTAL DE 11CM E VÃO LIVRE MÁXIMO DE 4M, INCLUSIVE CONCRETO ESTRUTURAL, USINADO BOMBEADO COM FCK DE 20MPA, EXCLUSIVE TELA ARMADA E CIMBRAMENTO | E38: m² | F38: 430.65 | G38: 13,90m x 31,85m = 442,72 m² - 12,07m² = 430,65m²
A39: 4.6 | B39: SICOR-MG | C39: ED-29563 | D39: ARMADURA DE TELA DE AÇO CA-60, SOLDADA TIPO Q-61, DIÂMETRO Ø3,4MM, TRAMA COM DIMENSÃO (150X150)MM, INCLUSIVE ESPAÇADOR, EXCLUSIVE CONCRETO | E39: m² | F39: 473.72 | G39: 13,90m x 31,85m = 442,72 m² - 12,07m² = 430,65m² 430,65m²+ 10% traspasse = 473,72 m²
A40: 4.7 | B40: SICOR-MG | C40: ED-19637 | D40: CIMBRAMENTO PARA LAJE PRÉ-MOLDADA COM ESCORAMENTO METÁLICO, TIPO "A", ALTURA DE (200 ATÉ 310)CM, INCLUSIVE DESCARGA, MONTAGEM, DESMONTAGEM E CARGA | E40: m2xmês | F40: 861.3 | G40: 430,65m² x 2 = 861,30m²xmês
A41: 4.8 | B41: SICOR-MG | C41: ED-9906 | D41: VERGA OU CONTRAVERGA EM CONCRETO ESTRUTURAL PARA VÃOS ACIMA DE 150CM, PREPARADO EM OBRA COM BETONEIRA, CONTROLE "A", COM FCK 20 MPA, MOLDADA IN LOCO, INCLUSIVE ARMAÇÃO | E41: m³ | F41: 0.6 | G41: Janelas: Bloco multiuso: ((6uni x 2,40m) x 0,15m x 0,10m) = 0,22m³ Blcoo pedagógico: ((11m x 2,40m) x 0,15m x 0,10m) = 0,40m³ TOTAL: 0,62 m³
A42: 4.9 | B42: SICOR-MG | C42: ED-9903 | D42: VERGA OU CONTRAVERGA EM CONCRETO ESTRUTURAL PARA VÃOS DE ATÉ 150CM, PREPARADO EM OBRA COM BETONEIRA, CONTROLE "A", COM FCK 20 MPA, MOLDADA IN LOCO, INCLUSIVE ARMAÇÃO | E42: m³ | F42: 0.45 | G42: Portas: Bloco multiuso: ((9uni x 1,00m) + (3uni x 1,10m) + 1,40m) x 0,15m x 0,10m = 0,21m³ Bloco pedagógico: 4uni x 1,00m x 0,15m x 0,10m = 0,06m³ Janelas: Bloco multiuso: ((7uni x 1,20m x 0,15m x 0,10m) + (2uni x 1,60m x 0,15m x 0,10m)) = 0,18 m³ TOTAL: 0,45 m³
A43: 4.10 | B43: SICOR-MG | C43: ED-51148 | D43: RAMPA PARA ACESSO DE DEFICIENTE, EM CONCRETO SIMPLES FCK = 25 MPA, DESEMPENADA, COM PINTURA INDICATIVA, 02 DEMÃOS | E43: u | F43: 4 | G43: Lances totais: 3 no acesso aos blocos pedagócgico e multiuso + 1 para acesso ao bloco a ser reformado.
A44: 5 | D44: ALVENARIA
A45: 5.1 | B45: SICOR-MG | C45: ED-48232 | D45: ALVENARIA DE VEDAÇÃO COM TIJOLO CERÂMICO FURADO, ESP. 14CM, PARA REVESTIMENTO, INCLUSIVE ARGAMASSA PARA ASSENTAMENTO | E45: m² | F45: 771.59 | G45: Bloco multiuso: (12 x 4,85m x 2,9m) + (1,50m x 2,90m) + (16,80m x 2,90m) + (31,85m x 2,90m x 2) + (2 x 4,35m x 2,90m) = 431,81 m² Bloco pedagógico: (6 x 4,70m x 2,90m) + (2 x 22,50m x 2,90m) = 212,28 m² Muro de arrimo: (31,85m + 9,05m + 9,05m + 35,05m) x 1,50m = 127,50m² TOTAL:771,59m²
A46: 5.2 | B46: SICOR-MG | C46: ED-48231 | D46: ALVENARIA DE VEDAÇÃO COM TIJOLO CERÂMICO FURADO, ESP. 9CM, PARA REVESTIMENTO, INCLUSIVE ARGAMASSA PARA ASSENTAMENTO | E46: m² | F46: 17.68 | G46: Divisórias banheiros: (2,90 + 1,15 + 1,15) x 2 x 1,70 = 17,68m²
A47: 6 | D47: COBERTURA E FORRO
A48: 6.1 | B48: SICOR-MG | C48: ED-48407 | D48: ENGRADAMENTO EM MADEIRA PARAJU OU EQUIVALENTE, PARA TELHAS CERÂMICAS OU DE CONCRETO, EXCLUSIVE TELHAS | E48: m² | F48: 499.06 | G48: 15,10m x 33,05m = 499,06m² ( considerando 60cm de beiral)
A49: 6.2 | B49: SICOR-MG | C49: ED-48420 | D49: COBERTURA EM TELHA CERÂMICA, TIPO PLAN, INCLUSIVE FIXAÇÃO, EXCLUSIVE ENGRADAMENTO E MANTA ISOLANTE/ TÉRMICA | E49: m² | F49: 558.94 | G49: 15,10m x 33,05m = 499,06 m² Total: 499,06m²x 12% inclinação telha = 558,94m²
A50: 6.3 | B50: SICOR-MG | C50: ED-48400 | D50: CUMEEIRA PARA TELHA CERÂMICA, INCLUSIVE EMBOÇAMENTO COM ARGAMASSA, TRAÇO 1:2:9 (CIMENTO, CAL E AREIA), COM PREPARO MECANIZADO | E50: m | F50: 60.67 | G50: (10,68m x 4) + 17,95m = 60,67m
A51: 6.4 | B51: SICOR-MG | C51: ED-50663 | D51: CALHA EM CHAPA GALVANIZADA, ESP. 0,5MM (GSG-26), COM DESENVOLVIMENTO DE 50CM, INCLUSIVE IÇAMENTO MANUAL VERTICAL | E51: m | F51: 96.3 | G51: (33,05m x 2) + (15,10m x 2) = 96,30m
A52: 6.5 | B52: SICOR-MG | C52: ED-50669 | D52: CONDUTOR CIRCULAR DE ÁGUA PLUVIAL PARA DO TELHADO EM TUBO DE PVC, DIÂMETRO DE 75MM, INCLUSIVE CONEXÕES E SUPORTES | E52: m | F52: 58 | G52: Tubos para ligação de água pluvial: 12 descidas no bloco multiuso e pedagógico + 8 descidas no bloco a ser reformado (pátio coberto).
A53: 7 | D53: INSTALAÇÕES HIDROSSANITÁRIAS
A54: 7.1 | B54: SICOR-MG | C54: ED-50221 | D54: PONTO DE EMBUTIR PARA ÁGUA FRIA EM TUBO DE PVC RÍGIDO SOLDÁVEL, DN 20MM (1/2"), EMBUTIDO NA ALVENARIA COM DISTÂNCIA DE ATÉ CINCO (5) METROS DA TOMADA DE ÁGUA, INCLUSIVE CONEXÕES E FIXAÇÃO DO TUBO COM ENCHIMENTO DO RASGO NA ALVENARIA/CONCRETO COM ARGAMASSA | E54: und | F54: 19 | G54: Bloco multiuso: 19 und (17 para o bloco multiuso + 2 espalhadas do lado externo para limpeza dos pátios)
A55: 7.2 | B55: SICOR-MG | C55: ED-50223 | D55: PONTO DE EMBUTIR PARA ESGOTO EM TUBO PVC RÍGIDO, PB - SÉRIE NORMAL, DN 40MM (1.1/2"), EMBUTIDO NA ALVENARIA/PISO, COM ALTURA (SAÍDA) DE 50CM DO PISO, COM DISTÂNCIA DE ATÉ CINCO (5) METROS DO RAMAL DE ESGOTO, EXCLUSIVE ESCAVAÇÃO, INCLUSIVE CONEXÕES E FIXAÇÃO DO TUBO COM ENCHIMENTO DO RASGO NA ALVENARIA/CONCRETO COM ARGAMASSA | E55: und | F55: 10 | G55: Bloco multiuso: 10 und
A56: 7.3 | B56: SICOR-MG | C56: ED-50225 | D56: PONTO DE EMBUTIR PARA ESGOTO EM TUBO PVC RÍGIDO, PBV - SÉRIE NORMAL, DN 100MM (4"), EMBUTIDO EM PISO COM DISTÂNCIA DE ATÉ CINCO (5) METROS DO RAMAL DE ESGOTO, INCLUSIVE CONEXÕES E FIXAÇÃO DO TUBO COM ENCHIMENTO DO RASGO NO CONCRETO COM ARGAMASSA | E56: und | F56: 12 | G56: Bloco multiuso: 12 und
A57: 7.4 | B57: SICOR-MG | C57: ED-50105 | D57: FORNECIMENTO E ASSENTAMENTO DE TUBO PVC RÍGIDO, COLETOR DE ESGOTO LISO (JEI), DN 100 MM (4"), INCLUSIVE CONEXÕES | E57: m | F57: 100 | G57: Rede de esgoto: 100m
A58: 7.5 | B58: SICOR-MG | C58: ED-50106 | D58: FORNECIMENTO E ASSENTAMENTO DE TUBO PVC RÍGIDO, COLETOR DE ESGOTO LISO (JEI), DN 150 MM (6"), INCLUSIVE CONEXÕES | E58: m | F58: 50 | G58: Rede de esgoto: 50m
A59: 7.6 | B59: SICOR-MG | C59: ED-50018 | D59: FORNECIMENTO E ASSENTAMENTO DE TUBO PVC RÍGIDO SOLDÁVEL, ÁGUA FRIA, DN 20 MM (1/2"), INCLUSIVE CONEXÕES | E59: m | F59: 60 | G59: Abastecimento e distribuição
A60: 7.7 | B60: SICOR-MG | C60: ED-50019 | D60: FORNECIMENTO E ASSENTAMENTO DE TUBO PVC RÍGIDO SOLDÁVEL, ÁGUA FRIA, DN 25 MM (1/2"), INCLUSIVE CONEXÕES | E60: m | F60: 60 | G60: Abastecimento e distribuição
A61: 7.8 | B61: SICOR-MG | C61: ED-50021 | D61: FORNECIMENTO E ASSENTAMENTO DE TUBO PVC RÍGIDO SOLDÁVEL, ÁGUA FRIA, DN 40 MM (1.1/4"), INCLUSIVE CONEXÕES | E61: m | F61: 30 | G61: Abastecimento e distribuição
A62: 7.9 | B62: SICOR-MG | C62: ED-49879 | D62: CAIXA DE ESGOTO DE INSPEÇÃO/PASSAGEM EM ALVENARIA ( 50X50X60CM), REVESTIMENTO EM ARGAMASSA COM ADITIVO IMPERMEABILIZANTE, COM TAMPA DE CONCRETO, INCLUSIVE ESCAVAÇÃO, REATERRO E TRANSPORTE COM RETIRADA DO MATERIAL ESCAVADO (EM CAÇAMBA) | E62: und | F62: 7 | G62: Esgoto
A63: 7.10 | B63: SICOR-MG | C63: ED-49909 | D63: CAIXA DE DRENAGEM DE INSPEÇÃO/PASSAGEM EM ALVENARIA ( 40X40X60CM), REVESTIMENTO EM ARGAMASSA COM ADITIVO IMPERMEABILIZANTE, COM TAMPA EM GRELHA, INCLUSIVE ESCAVAÇÃO, REATERRO E TRANSPORTE COM RETIRADA DO MATERIAL ESCAVADO (EM CAÇAMBA) | E63: und | F63: 10 | G63: Drenagem
A64: 7.11 | B64: SICOR-MG | C64: ED-49935 | D64: CAIXA D'ÁGUA DE POLIETILENO, CAPACIDADE DE 500L, INCLUSIVE TAMPA, TORNEIRA DE BOIA, EXTRAVASOR, TUBO DE LIMPEZA E ACESSÓRIOS, EXCLUSIVE TUBULAÇÃO DE ENTRADA/SAÍDA DE ÁGUA | E64: und | F64: 4 | G64: Bloco multiuso: 4 unid
A65: 7.12 | B65: SICOR-MG | C65: ED-29742 | D65: CAIXA D'ÁGUA DE POLIETILENO, CAPACIDADE DE 5.000L, INCLUSIVE TAMPA, TORNEIRA DE BOIA, EXTRAVASOR, TUBO DE LIMPEZA E ACESSÓRIOS, EXCLUSIVE TUBULAÇÃO DE ENTRADA/ SAÍDA DE ÁGUA | E65: und | F65: 4 | G65: Abastecimento e reservatório pluvial
... A71: 7.18 | B71: SICOR-MG | C71: ED-32207 | D71: FILTRO ANAERÓBICO CIRCULAR DE CONCRETO PRÉ-MOLDADO, DIÂMETRO 250CM E PROFUNDIDADE DE 150CM, EXCLUSIVE ESCAVAÇÃO | E71: und | F71: 1 | G71: Filtro anaeróbico
A72: 8 | D72: INSTALAÇÃO ELÉTRICA
A73: 8.1 | B73: SICOR-MG | C73: ED-50227 | D73: PONTO DE EMBUTIR PARA UM (1) INTERRUPTOR SIMPLES (10A- 250V), COM PLACA 4"X2" DE UM (1) POSTO, COM ELETRODUTO FLEXÍVEL CORRUGADO, ANTI-CHAMA, DN 25MM (3/4"), EMBUTIDO NA ALVENARIA E CABO DE COBRE FLEXÍVEL, CLASSE 5, ISOLAMENTO TIPO LSHF/ATOX, NÃO HALOGENADO, SEÇÃO 1, 5MM2 (70°C-450/750V), COM DISTÂNCIA DE ATÉ DEZ (10) METROS DO PONTO DE DERIVAÇÃO, INCLUSIVE CAIXA DE LIGAÇÃO, SUPORTE E FIXAÇÃO DO ELETRODUTO COM ENCHIMENTO DO RASGO NA ALVENARIA/CONCRETO COM ARGAMASSA | E73: und | F73: 52 | G73: Bloco multiuso: 32und Bloco pedagógico: 16 und Circulação/refeitório: 4und
A74: 8.2 | B74: SICOR-MG | C74: ED-50228 | D74: PONTO DE EMBUTIR PARA UMA (1) LUMINÁRIA,COM ELETRODUTO DE PVC RÍGIDO ROSCÁVEL, DN 20MM (3/4"), EMBUTIDO NA LAJE E CABO DE COBRE FLEXÍVEL, CLASSE 5, ISOLAMENTO TIPO LSHF/ ATOX, NÃO HALOGENADO, SEÇÃO 1,5MM2 (70°C-450/750V), COM DISTÂNCIA DE ATÉ CINCO (5) METROS DO PONTO DE DERIVAÇÃO, EXCLUSIVE LUMINÁRIA, INCLUSIVE CAIXA DE LIGAÇÃO OCTOGONAL, SUPORTE E FIXAÇÃO DO ELETRODUTO | E74: und | F74: 66 | G74: Bloco multiuso: 32und Bloco pedagógico: 16 und Circulação/refeitório: 18 und
A75: 8.3 | B75: SICOR-MG | C75: ED-50232 | D75: PONTO DE EMBUTIR PARA UMA (1) TOMADA PADRÃO, TRÊS (3) POLOS (2P+T/10A-250V), COM PLACA 4"X2" DE UM (1) POSTO, COM ELETRODUTO FLEXÍVEL CORRUGADO, ANTI-CHAMA, DN 25MM (3/ 4"), EMBUTIDO NA ALVENARIA E CABO DE COBRE FLEXÍVEL, CLASSE 5, ISOLAMENTO TIPO LSHF/ATOX, NÃO HALOGENADO, SEÇÃO 2,5MM2 (70°C-450/750V), COM DISTÂNCIA DE ATÉ DEZ (10) METROS DO PONTO DE DERIVAÇÃO, INCLUSIVE CAIXA DE LIGAÇÃO, SUPORTE E FIXAÇÃO DO ELETRODUTO COM ENCHIMENTO DO RASGO NA ALVENARIA/CONCRETO COM ARGAMASSA | E75: und | F75: 60 | G75: Bloco multiuso: 40 und Bloco pedagógico: 16 und Circulação/refeitório: 4und
A76: 8.4 | B76: SICOR-MG | C76: ED-13338 | D76: LUMINÁRIA COMERCIAL CHANFRADA DE SOBREPOR COMPLETA, PARA DUAS (2) LÂMPADAS TUBULARES LED 2X18W-ØT8, TEMPERATURA DA COR 6500K, FORNECIMENTO E INSTALAÇÃO, INCLUSIVE BASE E LÂMPADAS | E76: und | F76: 66 | G76: Bloco multiuso: 32und Bloco pedagógico: 16 und Circulação/refeitório: 18 und
A77: 8.5 | B77: SICOR-MG | C77: ED-14181 | D77: QUADRO DE DISTRIBUIÇÃO DE EMBUTIR EM PVC, PARA 12 DISJUNTORES DIN, INCLUSIVE BARRAMENTOS NEUTRO/TERRA, EXCLUSIVE BARRAMENTO DE FASE | E77: und | F77: 3 | G77: Bloco multiuso: 2 und Bloco pedagógico: 1 und
A78: 8.6 | B78: SICOR-MG | C78: ED-49402 | D78: LUMINÁRIA ARANDELA TIPO TARTARUGA, PARA UMA (1) LÂMPADA BASE E-27, POTÊNCIA MÁXIMA 60W, FORNECIMENTO E INSTALAÇÃO, EXCLUSIVE BASE E LÂMPADA | E78: und | F78: 9 | G78: Pátio externo: 9 und
A79: 8.7 | B79: SICOR-MG | C79: ED-20580 | D79: ENTRADA DE ENERGIA AÉREA, TIPO B2, PADRÃO CEMIG, CARGA INSTALADA DE 10,1KW ATÉ 15KW, BIFÁSICO, COM SAÍDA SUBTERRÂNEA, INCLUSIVE POSTE, CAIXA PARA MEDIDOR, DISJUNTOR, BARRAMENTO, ATERRAMENTO E ACESSÓRIOS | E79: und | F79: 1 | G79: Padrão de entrada
A80: 8.8 | B80: SICOR-MG | C80: ED-15752 | D80: CONJUNTO DE UMA (1) TOMADA DE DADOS (CONECTOR RJ45 CAT .6E), COM PLACA 4"X2" DE UM (1) POSTO, INCLUSIVE FORNECIMENTO, INSTALAÇÃO, SUPORTE, MÓDULO E PLACA | E80: und | F80: 14 | G80: 14 uni
A81: 8.9 | B81: SICOR-MG | C81: ED-9194 | D81: CABO UTP COM QUATRO (4) PARES, CATEGORIA 6, CLASSIFICAÇÃO LSZH, COM ISOLAMENTO NÃO HALOGENADO E ANTICHAMA, EXCLUSIVE CONECTOR/PLUG MACHO RJ45 E CRIMPAGEM | E81: m | F81: 300 | G81: 300m
A82: 8.10 | B82: SICOR-MG | C82: ED-34460 | D82: DISJUNTOR MONOPOLAR TIPO DIN, CORRENTE NOMINAL DE 10A, FORNECIMENTO E INSTALAÇÃO, INCLUSIVE TERMINAL ILHÓS | E82: und | F82: 1 | G82: 1 und
A83: 8.11 | B83: SICOR-MG | C83: ED-34461 | D83: DISJUNTOR MONOPOLAR TIPO DIN, CORRENTE NOMINAL DE 16A, FORNECIMENTO E INSTALAÇÃO, INCLUSIVE TERMINAL ILHÓS | E83: und | F83: 1 | G83: 1 und
A84: 8.12 | B84: SICOR-MG | C84: ED-34462 | D84: DISJUNTOR MONOPOLAR TIPO DIN, CORRENTE NOMINAL DE 20A, FORNECIMENTO E INSTALAÇÃO, INCLUSIVE TERMINAL ILHÓS | E84: und | F84: 1 | G84: 1 und
... A105: 8.33 | B105: SICOR-MG | C105: ED-49312 | D105: ELETRODUTO DE PVC RÍGIDO ROSCÁVEL, DN 50 MM (2"), INCLUSIVE CONEXÕES, SUPORTES E FIXAÇÃO | E105: m | F105: 90 | G105: Distribuição
A111: 9 | D111: LOUÇAS E METAIS
A112: 9.1 | B112: SICOR-MG | C112: ED-50277 | D112: CUBA EM AÇO INOXIDÁVEL DE EMBUTIR, AISI 304, APLICAÇÃO PARA PIA (465X330X115)MM, NÚMERO 1, ASSENTAMENTO EM BANCADA, INCLUSIVE VÁLVULA DE ESCOAMENTO DE METAL COM ACABAMENTO CROMADO, SIFÃO DE METAL TIPO COPO COM ACABAMENTO CROMADO | E112: uni | F112: 2 | G112: Bloco multiuso: Cozinha: 1 uni Bloco a ser reformado: Cozinha: 1 uni
A113: 9.2 | B113: SICOR-MG | C113: ED-50278 | D113: CUBA EM AÇO INOXIDÁVEL DE EMBUTIR, AISI 304, APLICAÇÃO PARA PIA (560X330X115)MM, NÚMERO 2, ASSENTAMENTO EM BANCADA, INCLUSIVE VÁLVULA DE ESCOAMENTO DE METAL COM ACABAMENTO CROMADO, SIFÃO DE METAL TIPO COPO COM ACABAMENTO CROMADO | E113: uni | F113: 1 | G113: Bloco multiuso: Cozinha: 1 uni
A114: 9.3 | B114: SICOR-MG | C114: ED-50279 | D114: CUBA DE LOUÇA BRANCA DE EMBUTIR, FORMATO OVAL, INCLUSIVE VÁLVULA DE ESCOAMENTO DE METAL COM ACABAMENTO CROMADO, SIFÃO DE METAL TIPO COPO COM ACABAMENTO CROMADO | E114: uni | F114: 4 | G114: Bloco multiuso: 4 uni
A115: 9.4 | B115: SICOR-MG | C115: ED-50290 | D115: TANQUE DE LOUÇA BRANCA COM COLUNA, CAPACIDADE 22 LITROS, INCLUSIVE ACESSÓRIOS DE FIXAÇÃO, VÁLVULA DE ESCOAMENTO DE METAL COM ACABAMENTO CROMADO, SIFÃO DE METAL TIPO COPO COM ACABAMENTO CROMADO E REJUNTAMENTO, EXCLUSIVE TORNEIRA | E115: uni | F115: 1 | G115: Bloco multiuso: 1 uni
A116: 9.5 | B116: SICOR-MG | C116: ED-50282 | D116: LAVATÓRIO DE LOUÇA BRANCA COM COLUNA, TAMANHO MÉDIO, INCLUSIVE ACESSÓRIOS DE FIXAÇÃO, VÁLVULA DE ESCOAMENTO DE METAL COM ACABAMENTO CROMADO, SIFÃO DE METAL TIPO COPO COM ACABAMENTO CROMADO E REJUNTAMENTO, EXCLUSIVE TORNEIRA E ENGATE FLEXÍVEL | E116: uni | F116: 1 | G116: Bloco multiuso: 1 uni
A117: 9.6 | B117: SICOR-MG | C117: ED-50283 | D117: LAVATÓRIO DE LOUÇA BRANCA SEM COLUNA, TAMANHO MÉDIO, INCLUSIVE ACESSÓRIOS DE FIXAÇÃO, VÁLVULA DE ESCOAMENTO DE METAL COM ACABAMENTO CROMADO, SIFÃO DE METAL TIPO COPO COM ACABAMENTO CROMADO E REJUNTAMENTO, EXCLUSIVE TORNEIRA E ENGATE FLEXÍVE | E117: uni | F117: 1 | G117: Bloco multiuso: 1 uni
A118: 9.7 | B118: SICOR-MG | C118: ED-50330 | D118: TORNEIRA METÁLICA PARA LAVATÓRIO, ABERTURA 1/4 DE VOLTA, ACABAMENTO CROMADO, COM AREJADOR, APLICAÇÃO DE MESA , INCLUSIVE ENGATE FLEXÍVEL METÁLICO | E118: uni | F118: 6 | G118: Bloco multiuso: 6 uni
A119: 9.8 | B119: SICOR-MG | C119: ED-50324 | D119: TORNEIRA METÁLICA PARA PIA, BICA MÓVEL, ABERTURA 1/4 DE VOLTA, ACABAMENTO CROMADO, COM AREJADOR, APLICAÇÃO DE MESA, INCLUSIVE ENGATE FLEXÍVEL METÁLICO | E119: uni | F119: 2 | G119: Bloco multiuso: 2 uni
A120: 9.9 | B120: SICOR-MG | C120: ED-50323 | D120: TORNEIRA METÁLICA PARA IRRIGAÇÃO/JARDIM, ACABAMENTO CROMADO, APLICAÇÃO DE PAREDE | E120: uni | F120: 4 | G120: Circulação externa
A121: 9.10 | B121: SICOR-MG | C121: ED-50331 | D121: TORNEIRA METÁLICA PARA TANQUE, ACABAMENTO CROMADO, BICO COM ROSCA | E121: uni | F121: 1 | G121: Bloco multiuso: 1 uni
A122: 9.11 | B122: SICOR-MG | C122: ED-50297 | D122: BACIA SANITÁRIA (VASO) DE LOUÇA COM CAIXA ACOPLADA, COR BRANCA, INCLUSIVE ACESSÓRIOS DE FIXAÇÃO/VEDAÇÃO, ENGATE FLEXÍVEL METÁLICO E REJUNTAMENTO, EXCLUSIVE ASSENTO | E122: uni | F122: 1 | G122: Bloco multiuso: 1 uni
A123: 9.12 | B123: SICOR-MG | C123: ED-50298 | D123: BACIA SANITÁRIA (VASO) DE LOUÇA CONVENCIONAL, COR BRANCA, INCLUSIVE ACESSÓRIOS DE FIXAÇÃO/VEDAÇÃO, VÁLVULA DE DESCARGA METÁLICA COM ACIONAMENTO DUPLO, TUBO DE LIGAÇÃO DE LATÃO COM CANOPLA E REJUNTAMENTO, EXCLUSIVE ASSENTO | E123: uni | F123: 4 | G123: Bloco multiuso: 4 uni
... A128: 9.17 | B128: SICOR-MG | C128: ED-48183 | D128: DISTRIBUIDOR/DISPENSER PARA PAPEL HIGIÊNICO EM PLÁSTICO, TIPO SOBREPOR, INCLUSIVE ACESSÓRIOS DE FIXAÇÃO | E128: uni | F128: 4 | G128: Bloco multiuso: 4 und
A129: 9.18 | B129: SINAPI | C129: 95544 | D129: PAPELEIRA DE PAREDE EM METAL CROMADO SEM TAMPA, INCLUSO FIXAÇÃO. AF_01/2020 | E129: uni | F129: 1 | G129: Sanit funcionários: 1 uni
A130: 9.19 | B130: SICOR-MG | C130: ED-48187 | D130: SABONETEIRA EM AÇO INOX, ACABAMENTO POLIDO, TIPO CONCHA, DE SOBREPOR, INCLUSIVE ACESSÓRIOS PARA FIXAÇÃO | E130: uni | F130: 1 | G130: Sanit funcionários: 1 uni
A131: 9.20 | B131: SICOR-MG | C131: ED-48189 | D131: DISTRIBUIDOR/DISPENSER PARA ÁLCOOL EM GEL OU SABONETE LÍQUIDO, EM PLÁSTICO, CAPACIDADE RESERVATÓRIO 1500ML, INCLUSIVE ACESSÓRIOS PARA FIXAÇÃO | E131: uni | F131: 4 | G131: Bloco multiuso: 4 uni
A132: 9.21 | B132: SICOR-MG | C132: ED-48182 | D132: DISTRIBUIDOR/DISPENSER PARA PORTA PAPEL TOALHA PARA INTERFOLHAS DE DUAS (2) OU TRÊS (3) DOBRAS, EM PLÁSTICO, INCLUSIVE ACESSÓRIOS PARA FIXAÇÃO | E132: uni | F132: 4 | G132: Bloco multiuso: 4 uni
A133: 9.22 | B133: SICOR-MG | C133: ED-48160 | D133: BARRA DE APOIO EM AÇO INOX POLIDO RETA, DIÂMETRO DE 1.1/ 4", PARA ACESSIBILIDADE (PMR/PCR), COMPRIMENTO 80CM, INSTALADO EM PAREDE, INCLUSIVE ACESSÓRIOS PARA FIXAÇÃO | E133: uni | F133: 2 | G133: Bloco multiuso: 2 uni( 2 uni p cada bacia)
A134: 9.23 | B134: SICOR-MG | C134: ED-48163 | D134: BARRA DE APOIO EM AÇO INOX POLIDO RETA, DIÂMETRO DE 1.1/ 4", PARA ACESSIBILIDADE (PMR/PCR), COMPRIMENTO 40CM, INSTALADO EM PORTA/PAREDE, INCLUSIVE ACESSÓRIOS PARA FIXAÇÃO | E134: uni | F134: 1 | G134: Bloco multiuso Lavatório: 1 uni
A135: 9.24 | B135: SICOR-MG | C135: ED-48164 | D135: BARRA DE APOIO EM AÇO INOX POLIDO RETA, DIÂMETRO DE 1.1/ 4", PARA ACESSIBILIDADE (PMR/PCR), COMPRIMENTO 70CM, INSTALADO EM PAREDE, INCLUSIVE ACESSÓRIOS PARA FIXAÇÃO | E135: uni | F135: 1 | G135: Bloco multiuso: 1 unib( 1 uni p cada bacia)
A136: 10 | D136: ESQUADRIAS DE MADEIRA
...

Sheet CRON
A1: PREFEITURA MUNICIPAL DE MINAS NOVAS Praça Sebastião Leme do Prado, 15 - Centro CEP: 39.650-000 – Minas Novas (MG) Fone: (33) 3764-1147 – (33) 3764-2641 E-mail: pmmn@uai.com.br / conveniosminasnovas@yahoo.com.br
A3: CRONOGRAMA FÍSICO-FINANCEIRO
A5: ='PLAN ORÇ'!A5 -> PREFEITURA MUNICIPAL DE MINAS NOVAS | C5: VALOR TOTAL: | D5: =C47 -> 1362162.7 | N5: ='MM CALC'!E4 -> DATA: 17/11/2025
A6: ='MM CALC'!A5 -> OBRA: REFORMA E CONSTRUÇÃO DA ESCOLA MUNICIPAL PADRE SACRAMENTO NO POVOADO DE SANTIAGO
A7: ='MM CALC'!A6 -> LOCAL: POVOADO DE SANTIAGO - MINAS NOVAS/MG
A8: ITEM | B8: DESCRIÇÃO | C8: FÍSICO/ FINANCEIRO | D8: MÊS 01 | E8: MÊS 02 | F8: MÊS 03 | G8: MÊS 04 | H8: MÊS 05 | I8: MÊS 06 | J8: MÊS 07 | K8: MÊS 08 | L8: MÊS 09 | M8: MÊS 10 | N8: TOTAL
A10: 1 | B10: ='PLAN ORÇ'!D12 -> SERVIÇOS PRELIMINARES | C10: =+C11/$C$47 -> 0.028442535 | D10: 1 | N10: =SUM(D10:M10) -> 1 | O10: 1 | P10: =+N10-O10 -> 0
C11: ='PLAN ORÇ'!I12 -> 38743.36 | D11: =D10*$C$11 -> 38743.36 | N11: =ROUND(SUM(D11:M11),2) -> 38743.36 | O11: =+N11-C11 -> 0
A12: 2 | B12: ='PLAN ORÇ'!D24 -> TRABALHOS EM TERRA | C12: =+C13/$C$47 -> 0.021675458 | D12: 1 | N12: =SUM(D12:M12) -> 1 | O12: 1 | P12: =+N12-O12 -> 0
C13: ='PLAN ORÇ'!I24 -> 29525.5 | D13: =D12*$C$13 -> 29525.5 | N13: =ROUND(SUM(D13:M13),2) -> 29525.5 | O13: =+N13-C13 -> 0
A14: 3 | B14: ='PLAN ORÇ'!D28 -> FUNDAÇÕES | C14: =+C15/$C$47 -> 0.057223972 | D14: 1 | N14: =SUM(D14:M14) -> 1 | O14: 1 | P14: =+N14-O14 -> 0
C15: ='PLAN ORÇ'!I28 -> 77948.36 | D15: =D14*$C$15 -> 77948.36 | N15: =ROUND(SUM(D15:M15),2) -> 77948.36 | O15: =+N15-C15 -> 0
A16: 4 | B16: ='PLAN ORÇ'!D35 -> ESTRUTURA | C16: =+C17/$C$47 -> 0.19298993 | D16: 0.1 | E16: 0.45 | F16: 0.45 | N16: =SUM(D16:M16) -> 1 | O16: 1 | P16: =+N16-O16 -> 0
C17: ='PLAN ORÇ'!I35 -> 262883.68 | D17: =D16*$C$17 -> 26288.368 | E17: =E16*$C$17 -> 118297.66 | F17: =F16*$C$17 -> 118297.66 | N17: =ROUND(SUM(D17:M17),2) -> 262883.68 | O17: =+N17-C17 -> 0
A18: 5 | B18: ='PLAN ORÇ'!D46 -> ALVENARIA | C18: =+C19/$C$47 -> 0.050253483 | G18: 0.6 | H18: 0.4 | N18: =SUM(D18:M18) -> 1 | O18: 1 | P18: =+N18-O18 -> 0
C19: ='PLAN ORÇ'!I46 -> 68453.42 | G19: =G18*$C$19 -> 41072.052 | H19: =H18*$C$19 -> 27381.368 | N19: =ROUND(SUM(D19:M19),2) -> 68453.42 | O19: =+N19-C19 -> 0
A20: 6 | B20: ='PLAN ORÇ'!D49 -> COBERTURA E FORRO | C20: =+C21/$C$47 -> 0.11441104 | G20: 0.3 | H20: 0.4 | I20: 0.3 | N20: =SUM(D20:M20) -> 1 | O20: 1 | P20: =+N20-O20 -> 0
C21: ='PLAN ORÇ'!I49 -> 155846.45 | G21: =G20*$C$21 -> 46753.935 | H21: =H20*$C$21 -> 62338.58 | I21: =I20*$C$21 -> 46753.935 | N21: =ROUND(SUM(D21:M21),2) -> 155846.45 | O21: =+N21-C21 -> 0
A22: 7 | B22: ='PLAN ORÇ'!D55 -> INSTALAÇÕES HIDROSSANITÁRIAS | C22: =+C23/$C$47 -> 0.06028989 | J22: 0.25 | K22: 0.25 | L22: 0.25 | M22: 0.25 | N22: =SUM(D22:M22) -> 1 | O22: 1 | P22: =+N22-O22 -> 0
C23: ='PLAN ORÇ'!I55 -> 82124.64 | J23: =J22*$C$23 -> 20531.16 | K23: =K22*$C$23 -> 20531.16 | L23: =L22*$C$23 -> 20531.16 | M23: =M22*$C$23 -> 20531.16 | N23: =ROUND(SUM(D23:M23),2) -> 82124.64 | O23: =+N23-C23 -> 0
A24: 8 | B24: ='PLAN ORÇ'!D74 -> INSTALAÇÃO ELÉTRICA | C24: =+C25/$C$47 -> 0.064405339 | J24: 0.25 | K24: 0.25 | L24: 0.25 | M24: 0.25 | N24: =SUM(D24:M24) -> 1 | O24: 1 | P24: =+N24-O24 -> 0
C25: ='PLAN ORÇ'!I74 -> 87730.55 | J25: =J24*$C$25 -> 21932.637 | K25: =K24*$C$25 -> 21932.637 | L25: =L24*$C$25 -> 21932.637 | M25: =M24*$C$25 -> 21932.637 | N25: =ROUND(SUM(D25:M25),2) -> 87730.55 | O25: =+N25-C25 -> 0
A26: 9 | B26: ='PLAN ORÇ'!D108 -> LOUÇAS E METAIS | C26: =+C27/$C$47 -> 0.013581718 | M26: 1 | N26: =SUM(D26:M26) -> 1 | O26: 1 | P26: =+N26-O26 -> 0
C27: ='PLAN ORÇ'!I108 -> 18500.51 | M27: =M26*$C$27 -> 18500.51 | N27: =ROUND(SUM(D27:M27),2) -> 18500.51 | O27: =+N27-C27 -> 0
A28: 10 | B28: ='PLAN ORÇ'!D133 -> ESQUADRIAS DE MADEIRA | C28: =+C29/$C$47 -> 0.031794557 | I28: 0.5 | J28: 0.5 | N28: =SUM(D28:M28) -> 1 | O28: 1 | P28: =+N28-O28 -> 0
C29: ='PLAN ORÇ'!I133 -> 43309.36 | I29: =I28*$C$29 -> 21654.68 | J29: =J28*$C$29 -> 21654.68 | N29: =ROUND(SUM(D29:M29),2) -> 43309.36 | O29: =+N29-C29 -> 0
A30: 11 | B30: ='PLAN ORÇ'!D136 -> ESQUADRIAS METÁLICAS | C30: =+C31/$C$47 -> 0.035173434 | K30: 0.8 | L30: 0.2 | N30: =SUM(D30:M30) -> 1 | O30: 1 | P30: =+N30-O30 -> 0
C31: ='PLAN ORÇ'!I136 -> 47911.94 | K31: =K30*$C$31 -> 38329.552 | L31: =L30*$C$31 -> 9582.388 | N31: =ROUND(SUM(D31:M31),2) -> 47911.94 | O31: =+N31-C31 -> 0
A32: 12 | B32: ='PLAN ORÇ'!D143 -> REVESTIMENTO | C32: =+C33/$C$47 -> 0.11004695 | G32: 0.3 | H32: 0.1 | I32: 0.2 | J32: 0.25 | K32: 0.15 | N32: =SUM(D32:M32) -> 1 | O32: 1 | P32: =+N32-O32 -> 0
C33: ='PLAN ORÇ'!I143 -> 149901.85 | G33: =G32*$C$33 -> 44970.555 | H33: =H32*$C$33 -> 14990.185 | I33: =I32*$C$33 -> 29980.37 | J33: =J32*$C$33 -> 37475.463 | K33: =K32*$C$33 -> 22485.278 | L33: =L32*$C$33 -> 0 | N33: =ROUND(SUM(D33:M33),2) -> 149901.85 | O33: =+N33-C33 -> 0
A34: 13 | B34: ='PLAN ORÇ'!D151 -> PISOS E RODAPÉS | C34: =+C35/$C$47 -> 0.1250842 | H34: 0.1 | I34: 0.15 | J34: 0.25 | K34: 0.1 | L34: 0.3 | M34: 0.1 | N34: =SUM(D34:M34) -> 1 | O34: 1 | P34: =+N34-O34 -> 0
C35: ='PLAN ORÇ'!I151 -> 170385.03 | H35: =H34*$C$35 -> 17038.503 | I35: =I34*$C$35 -> 25557.754 | J35: =J34*$C$35 -> 42596.257 | K35: =K34*$C$35 -> 17038.503 | L35: =L34*$C$35 -> 51115.509 | M35: =M34*$C$35 -> 17038.503 | N35: =ROUND(SUM(D35:M35),2) -> 170385.03 | O35: =+N35-C35 -> 0
A36: 14 | B36: ='PLAN ORÇ'!D161 -> VIDROS E ESPELHOS | C36: =+C37/$C$47 -> 0.00093627582 | M36: 1 | N36: =SUM(D36:M36) -> 1 | O36: 1 | P36: =+N36-O36 -> 0
C37: ='PLAN ORÇ'!I161 -> 1275.36 | M37: =M36*$C$37 -> 1275.36 | N37: =ROUND(SUM(D37:M37),2) -> 1275.36
A38: 15 | B38: ='PLAN ORÇ'!D163 -> PINTURA | C38: =+C39/$C$47 -> 0.071634695 | J38: 0.1 | K38: 0.2 | L38: 0.3 | M38: 0.4 | N38: =SUM(D38:M38) -> 1 | O38: 1 | P38: =+N38-O38 -> 0
C39: ='PLAN ORÇ'!I163 -> 97578.11 | J39: =J38*$C$39 -> 9757.811 | K39: =K38*$C$39 -> 19515.622 | L39: =L38*$C$39 -> 29273.433 | M39: =M38*$C$39 -> 39031.244 | N39: =ROUND(SUM(D39:M39),2) -> 97578.11
A40: 16 | B40: ='PLAN ORÇ'!D173 -> BANCADAS, PRATELEIRAS E DIVISÓRIAS | C40: =+C41/$C$47 -> 0.012508219 | M40: 1 | N40: =SUM(D40:M40) -> 1 | O40: 1 | P40: =+N40-O40 -> 0
C41: ='PLAN ORÇ'!I173 -> 17038.23 | M41: =M40*$C$41 -> 17038.23 | N41: =ROUND(SUM(D41:M41),2) -> 17038.23
A42: 17 | B42: ='PLAN ORÇ'!D178 -> DIVERSOS | C42: =+C43/$C$47 -> 0.0063199939 | D42: 0.1 | E42: 0.1 | F42: 0.1 | G42: 0.1 | H42: 0.1 | I42: 0.1 | J42: 0.1 | K42: 0.1 | L42: 0.1 | M42: 0.1 | N42: =SUM(D42:M42) -> 1 | O42: 1 | P42: =+N42-O42 -> 0
C43: ='PLAN ORÇ'!I178 -> 8608.86 | D43: =D42*$C$43 -> 860.886 | E43: =E42*$C$43 -> 860.886 | F43: =F42*$C$43 -> 860.886 | G43: =G42*$C$43 -> 860.886 | H43: =H42*$C$43 -> 860.886 | I43: =I42*$C$43 -> 860.886 | J43: =J42*$C$43 -> 860.886 | K43: =K42*$C$43 -> 860.886 | ... M43: =M42*$C$43 -> 860.886 | N43: =ROUND(SUM(D43:M43),2) -> 8608.86
A44: 18 | B44: ='PLAN ORÇ'!D187 -> LIMPEZA | C44: =+C45/$C$47 -> 0.0032283148 | M44: 1 | N44: =SUM(D44:M44) -> 1 | O44: 1 | P44: =+N44-O44 -> 0
C45: ='PLAN ORÇ'!I187 -> 4397.49 | M45: =M44*$C$45 -> 4397.49 | N45: =ROUND(SUM(D45:M45),2) -> 4397.49 | O45: =+N45+N43+N41+N39+N37+N35+N33+N31+N29+N27+N25+N23+N21+N19+N17+N15+N13+N11 -> 1362162.7
A46: TOTAL | C46: =+C44+C42+C40+C38+C36+C34+C32+C30+C28+C26+C24+C22+C20+C18+C16+C14+C12+C10 -> 1 | D46: =D47/$C$47 -> 0.12727296 | E46: =E47/$C$47 -> 0.087477467 | F46: =F47/$C$47 -> 0.087477467 | G46: =G47/$C$47 -> 0.098121486 | H46: =H47/$C$47 -> 0.090010923 | I46: =I47/$C$47 -> 0.09162461 | J46: =J47/$C$47 -> 0.11364934 | K46: =K47/$C$47 -> 0.10328696 | ... M46: =M47/$C$47 -> 0.10322263 | N46: =SUM(D46:M46) -> 1 | O46: =+O45/C47 -> 1
C47: =+C45+C43+C41+C39+C37+C35+C33+C31+C29+C27+C25+C23+C21+C19+C17+C15+C13+C11 -> 1362162.7 | D47: =+D45+D43+D41+D39+D37+D35+D33+D31+D29+D27+D25+D23+D21+D19+D17+D15+D13+D11 -> 173366.47 | E47: =+E45+E43+E41+E39+E37+E35+E33+E31+E29+E27+E25+E23+E21+E19+E17+E15+E13+E11 -> 119158.54 | F47: =+F45+F43+F41+F39+F37+F35+F33+F31+F29+F27+F25+F23+F21+F19+F17+F15+F13+F11 -> 119158.54 | G47: =+G45+G43+G41+G39+G37+G35+G33+G31+G29+G27+G25+G23+G21+G19+G17+G15+G13+G11 -> 133657.43 | H47: =+H45+H43+H41+H39+H37+H35+H33+H31+H29+H27+H25+H23+H21+H19+H17+H15+H13+H11 -> 122609.52 | I47: =+I45+I43+I41+I39+I37+I35+I33+I31+I29+I27+I25+I23+I21+I19+I17+I15+I13+I11 -> 124807.63 | J47: =+J45+J43+J41+J39+J37+J35+J33+J31+J29+J27+J25+J23+J21+J19+J17+J15+J13+J11 -> 154808.89 | ... M47: =+M45+M43+M41+M39+M37+M35+M33+M31+M29+M27+M25+M23+M21+M19+M17+M15+M13+M11 -> 140606.02 | N47: =ROUND(SUM(D47:M47),2) -> 1362162.7
B52: ='MM CALC'!C206 -> Naiara de Oliveira Soares | E52: ='MM CALC'!E206 -> Alessandro Mota Barbosa
B53: ='MM CALC'!C207 -> Engenheira Civil - CREA MG 226188/D | E53: ='MM CALC'!E207 -> Prefeito Municipal de Minas Novas
