Workbook

Sheet Memória de Cálculo
C2: PREFEITURA MUNICIPAL DE MINAS NOVAS Praça Sebastião Leme do Prado, 15 – Centro. CEP: 39.650-000 – Minas Novas (MG) Fone: (33) 3764-1147 – (33) 3764-2641 E-mail: pmmn@uai.com.br / conveniosminasnovas@yahoo.com.br
A5: MEMÓRIA DE CÁLCULO DE QUANTITATIVOS
A7: PREFEITURA: PREFEITURA MUNICIPAL DE MINAS NOVAS | F7: FOLHA Nº: 01
A8: OBRA: Camelódromo | F8: DATA: 16/07/2026
A9: LOCAL: Praça Dr. Badaró - Centro - Minas Novas - MG
A10: REGIÃO/MÊS DE REFERÊNCIA: TABELA SEINFRA - REGIÃO JEQUITINHONHA E MUCURI - JANEIRO/2026 - COM DESONERAÇÃO
A11: PRAZO DE EXECUÇÃO: 06 meses
A13: ITEM | B13: CÓDIGO | C13: DESCRIÇÃO | D13: UNIDADE | E13: QUANTIDADE | F13: MEMÓRIA
A14: 1 - INSTALAÇÕES INICIAS DA OBRA
A15: 1.1 | B15: ED-16660 | C15: FORNECIMENTO E COLOCAÇÃO DE PLACA DE OBRA EM CHAPA GALVANIZADA #26, ESP. 0,45 MM, PLOTADA COM ADESIVO VINÍLICO, AFIXADA COM REBITES 4,8X40 MM, EM ESTRUTURA METÁLICA DE METALON 20X20 MM, ESP. 1,25 MM, INCLUSIVE SUPORTE EM EUCALIPTO AUTOCLAVADO PINTADO COM TINTA PVA DUAS (2) DEMÃOS | D15: m² | E15: 2.88 | F15: 1,20 x 2,40 = 2,88m²
A16: 1.2 | B16: ED-29823 | C16: TAPUME FIXO DE PROTEÇÃO PARA FECHAMENTO DE OBRA EM TELHA METÁLICA GALVANIZADA, TIPO TRAPEZOIDAL, ESP. 0,5MM, COM MÓDULO NA DIMENSÃO DE (300X220)CM, COM REAPROVEITAMENTO, EXCLUSIVE PINTURA ESMALTE, INCLUSIVE PONTALETE E FIXAÇÃO | D16: m² | E16: 92.4 | F16: Proteção/isolamento: 14,00 + 23,00 + 5,00 = 42,00m x 2,20 = 92,40
A17: 1.3 | B17: ED-17989 | C17: LOCAÇÃO DE OBRA COM GABARITO DE TÁBUAS CORRIDAS PONTALETADAS A CADA 2,00M, REAPROVEITAMENTO (2X), INCLUSIVE ACOMPANHAMENTO DE EQUIPE TOPOGRÁFICA PARA MARCAÇÃO DE PONTO TOPOGRÁFICO | D17: m | E17: 65.65 | F17: (22,00 + 0,50 + 0,50) + (7,70 + 0,50 + 0,50) + (3,30 + 0,50 + 0,50) x 2 (18,95 + 0,50 + 0,50) + (4,40 + 0,50 +0,50) = 66,71m
A18: 2 - FUNDAÇÃO
A19: 2.1 | B19: ED-51107 | C19: ESCAVAÇÃO MANUAL DE VALA COM PROFUNDIDADE MENOR OU IGUAL A 1,5M, INCLUSIVE DESCARGA LATERAL | D19: m³ | E19: 11.22 | F19: Blocos de fundação (0,60 x 1,00 x 0,60) x 20unid. = 7,20m³ Baldrame: ( 0,15 x 0,30 x 89,35 ) = 4,02m³
A20: 2.2 | B20: ED-51093 | C20: APILOAMENTO MANUAL EM FUNDO DE VALA COM SOQUETE, EXCLUSIVE ESCAVAÇÃO | D20: m² | E20: 25.4 | F20: Blocos de fundação (0,60 x 1,00 ) x 20unid. = 12,00m² Baldrame: ( 0,15 x 89,35 ) = 13,40 m²
A21: 2.3 | B21: ED-49812 | C21: LASTRO DE CONCRETO MAGRO, INCLUSIVE TRANSPORTE, LANÇAMENTO E ADENSAMENTO | D21: m³ | E21: 1.27 | F21: Blocos de fundação (0,60 x 1,00 X 0,05 ) x 20unid. = 0,60m³ Baldrame: Salas: ( 0,15 x 89,35 x 0,05 ) = 0,67m³
A22: 2.4 | B22: ED-29801 | C22: PERFURAÇÃO MANUAL DE ESTACA TIPO BROCA A TRADO, INCLUSIVE AFASTAMENTO, EXCLUSIVE ARMAÇÃO, CONCRETO ESTRUTURAL, TRANSPORTE E RETIRADA DO MATERIAL ESCAVADO | D22: m³ | E22: 0.96 | F22: Blocos de fundação (0,20 x 0,20 x 0,60) x 20 x 2 = 0,96m³
A23: 2.5 | B23: ED-8471 | C23: FÔRMA E DESFORMA DE TÁBUA E SARRAFO, REAPROVEITAMENTO (5X), EXCLUSIVE ESCORAMENTO | D23: m² | E23: 74.8 | F23: Blocos de fundação (1,00 x 0,60) x 4 x 20unid. = 48,00m² Baldrame: Salas: ( 0,15 x 89,35 ) x 2= 26,80m²
A24: 2.6 | B24: ED-48298 | C24: CORTE, DOBRA E MONTAGEM DE AÇO CA-50/60, INCLUSIVE ESPAÇADOR | D24: kg | E24: 729.3 | F24: Blocos de fundação (0,60 x 1,00 x 0,60) x 20unid. = 7,20m³ x 65kg = 468,00kg Baldrame: Salas: ( 0,15 x 0,30 x 89,35 ) = 4,02m³ x 65kg = 261,3kg
A25: 2.7 | B25: ED-49787 | C25: FORNECIMENTO DE CONCRETO ESTRUTURAL, PREPARADO EM OBRA COM BETONEIRA, COM FCK 25MPA, INCLUSIVE LANÇAMENTO, ADENSAMENTO E ACABAMENTO (FUNDAÇÃO) | D25: m³ | E25: 11.22 | F25: Blocos de fundação (0,60 x 1,00 x 0,60) x 20unid. = 7,20m³ Baldrame: Salas: ( 0,15 x 0,30 x 89,35 ) = 4,02m³
A26: 2.8 | B26: ED-50174 | C26: PINTURA COM EMULSÃO ASFÁLTICA, DUAS (2) DEMÃOS | D26: m² | E26: 113.61 | F26: Blocos de fundação Pátio coberto: 3,00 x 20unid. = 60,00m² Baldrame: Salas: (0,60 x 89,35 ) = 53,61m²
A27: 2.9 | B27: ED-51097 | C27: COMPACTAÇÃO MANUAL DE ATERRO COM SOQUETE, INCLUSIVE ESPALHAMENTO MANUAL | D27: m³ | E27: 17.16 | F27: Aterro entre baldrames: (74,27 x 0,20) = 14,85m³ Aterro jardim praça: (1,60 x 0,60 x 0,50) = 1,92m³ + ( 3,30 x 0,60 x 0,20) = 0,39. Total = 2,31
A28: 3 - ESTRUTURA
A29: 3.1 | B29: ED-8471 | C29: FÔRMA E DESFORMA DE TÁBUA E SARRAFO, REAPROVEITAMENTO (5X), EXCLUSIVE ESCORAMENTO | D29: m² | E29: 76.17 | F29: Pilar: (0,15 x 2,80) x 2 x 20unid. = 16,80m² Viga: ( 0,30 x 89,35 ) x 2 = 53,61m² + (0,30 x 9,60) x 2 = 5,76m²
A30: 3.2 | B30: ED-48298 | C30: CORTE, DOBRA E MONTAGEM DE AÇO CA-50/60, INCLUSIVE ESPAÇADOR | D30: kg | E30: 810.6 | F30: Pilar: (0,15 x 0,30 x 2,80) x 20unid. = 2,52 x 2 pav. = 5,04m³ x 60kg = 302,40kg Viga: (0,15 x 0,30 x 89,35) x 2 pav.= 8,04m³ + (0,15 x 0,30 x 9,60) = 0,43m³ = 8,47m³ x 60kg = 508,20kg
A31: 3.3 | B31: ED-49619 | C31: FORNECIMENTO DE CONCRETO ESTRUTURAL, PREPARADO EM OBRA, COM FCK 25MPA, INCLUSIVE LANÇAMENTO, ADENSAMENTO E ACABAMENTO | D31: m³ | E31: 13.51 | F31: Pilar: (0,15 x 0,30 x 2,80) x 20unid. = 2,52 x 2 pav. = 5,04m³ Viga: (0,15 x 0,30 x 89,35) x 2 pav.= 8,04m³ + (0,15 x 0,30 x 9,60) = 0,43m³ = 8,47m³
A32: 3.4 | B32: ED-50846 | C32: ESCADA DE CONCRETO 20 MPa, APARENTE, ESPELHO = 16,3 CM, ARMAÇÃO, FÔRMA PLASTIFICADA, ESCORAMENTO E DESFORMA | D32: m³ | E32: 0.82 | F32: Escada: patamar: (0,90m x 0,30m x 0,17m) x 12unid. + ( 0,40m² x 0,17) x 4unid. = 0,82m³
A33: 3.5 | B33: ED-50253 | C33: LAJE PRÉ-MOLDADA UNIDIRECIONAL COM ENCHIMENTO EM POLIESTIRENO EXPANDIDO (EPS), CAPEAMENTO DE 4CM, SOBRECARGA DE 100KG/M2, ALTURA TOTAL DE 11CM E VÃO LIVRE MÁXIMO DE 4M, INCLUSIVE CONCRETO ESTRUTURAL, USINADO BOMBEADO COM FCK DE 20MPA, EXCLUSIVE TELA ARMADA E CIMBRAMENTO | D33: m² | E33: 87.52 | F33: Laje de forro: 87,52m²
A34: 3.6 | B34: ED-50256 | C34: LAJE PRÉ-MOLDADA UNIDIRECIONAL COM ENCHIMENTO EM POLIESTIRENO EXPANDIDO (EPS), CAPEAMENTO DE 4CM, SOBRECARGA DE 200KG/M2, ALTURA TOTAL DE 11CM E VÃO LIVRE MÁXIMO DE 4M, INCLUSIVE CONCRETO ESTRUTURAL, USINADO BOMBEADO COM FCK DE 20MPA, EXCLUSIVE TELA ARMADA E CIMBRAMENTO | D34: m² | E34: 114.2 | F34: Laje de piso: 114,20m²
A35: 3.7 | B35: ED-29563 | C35: ARMADURA DE TELA DE AÇO CA-60, SOLDADA TIPO Q-61, DIÂMETRO Ø3,4MM, TRAMA COM DIMENSÃO (150X150)MM, INCLUSIVE ESPAÇADOR, EXCLUSIVE CONCRETO | D35: m² | E35: 204.03 | F35: Laje de piso: 114,20m² Laje de forro: 89,83m²
A36: 3.8 | B36: ED-19637 | C36: CIMBRAMENTO PARA LAJE PRÉ-MOLDADA COM ESCORAMENTO METÁLICO, TIPO "A", ALTURA DE (200 ATÉ 310)CM, INCLUSIVE DESCARGA, MONTAGEM, DESMONTAGEM E CARGA | D36: m²xmês | E36: 204.03 | F36: Laje de piso: 114,20m² Laje de forro: 89,83m²
A37: 3.9 | B37: ED-50579 | C37: APLICAÇÃO DE SELANTE, MASTIQUE ELÁSTICO, EM JUNTA DE DILAÇÃO, DIMENSÃO 20X10 MM, FATOR DE FORMA 1:2, EXCLUSIVE DELIMITADOR DE PROFUNDIDADE | D37: m | E37: 14.6 | F37: Ligação da construção: 14,60m
A38: 3.10 | B38: SINAPI 105061 | C38: PILAR DE MADEIRA SERRADA, MAÇARANDUBA OU EQUIVALENTE DA REGIÃO, NÃO APARELHADO, FIXADO COM VERGALHÃO, SEÇÃO QUADRADA 10 X 10 CM, APOIO ARTICULADO, COMPRIMENTO DE 3 M. AF_03/2024 | D38: m | E38: 24 | F38: Sacada: 3,00m x 8unid. = 24,00m
A39: 4 - ALVENARIA
A40: 4.1 | B40: ED-48232 | C40: ALVENARIA DE VEDAÇÃO COM TIJOLO CERÂMICO FURADO, ESP. 14CM, PARA REVESTIMENTO, INCLUSIVE ARGAMASSA PARA ASSENTAMENTO | D40: m² | E40: 498.12 | F40: (88,95 x 2,80) x 2 pav. = 498,12m²
A41: 4.2 | B41: ED-48200 | C41: ALVENARIA ESTRUTURAL COM BLOCO DE CONCRETO, ESP. 9CM, (FBK 4,5MPA), INCLUSIVE ARGAMASSA PARA ASSENTAMENTO | D41: m² | E41: 10.44 | F41: Jardim praça: (4,44 x 0,50) x 4 = 8,88m² + ( 7,80 x 0,20) = 1,56m². Total = 10,44m²
A42: 4.3 | B42: ED-9903 | C42: VERGA OU CONTRAVERGA EM CONCRETO ESTRUTURAL PARA VÃOS DE ATÉ 150CM, PREPARADO EM OBRA COM BETONEIRA, CONTROLE "A", COM FCK 20 MPA, MOLDADA IN LOCO, INCLUSIVE ARMAÇÃO | D42: m³ | E42: 1.05 | F42: ( 0,15 x 0,20 x 1,00 ) x 16unid.= 0,48m³ ( 0,15 x 0,20 x 1,60 ) x 12unid.= 0,57m³
A43: 5 - COBERTURA
A44: 5.1 | B44: ED-48407 | C44: ENGRADAMENTO PARA TELHAS CERÂMICA OU CONCRETO EM MADEIRA PARAJU | D44: m² | E44: 142 | F44: Cobertura predio camelódromo: 142,00m²
A45: 5.2 | B45: ED-48420 | C45: COBERTURA EM TELHA CERÂMICA, TIPO PLAN, INCLUSIVE FIXAÇÃO, EXCLUSIVE ENGRADAMENTO E MANTA ISOLANTE/ TÉRMICA | D45: m² | E45: 142 | F45: Cobertura predio camelódromo: 142,00m²
...

Sheet Planilha Orcamentaria 
D1: PREFEITURA MUNICIPAL DE MINAS NOVAS Praça Sebastião Leme do Prado, 15 – Centro. CEP: 39.650-000 – Minas Novas (MG) Fone: (33) 3764-1147 – (33) 3764-2641 E-mail: pmmn@uai.com.br / conveniosminasnovas@yahoo.com.br
A2: PLANILHA ORÇAMENTÁRIA DE CUSTOS
A3: PREFEITURA MUNICIPAL DE MINAS NOVAS | F3: FOLHA Nº: | H3: 01/01.
A4: OBRA: Camelódromo | F4: DATA: | H4: 46219
A5: LOCAL: Praça Dr. Badaró - Centro - Minas Novas - MG | F5: FORMA DE EXECUÇÃO:
A6: REGIÃO/MÊS DE REFERÊNCIA: TABELA SEINFRA - REGIÃO JEQUITINHONHA E MUCURI - JANEIRO/2026 - COM DESONERAÇÃO | F6: ( ) | G6: DIRETA | H6: ( X ) | I6: INDIRETA
A7: COMPOSIÇÃO/DEMONSTRATIVO DE BDI - EM ANEXO | F7: % ISS MUNICIPAL: | G7: 0.03 | H7: BDI: | I7: 0.2704
A9: ITEM | B9: FONTE | C9: CÓDIGO | D9: DESCRIÇÃO | E9: UNIDADE | F9: QUANTIDADE | G9: PREÇO UNITÁRIO S/ LDI | H9: PREÇO UNITÁRIO C/ LDI | I9: PREÇO TOTAL
A10: 1 | D10: INSTALAÇÕES INICIAIS | I10: =SUM(I11:I13) -> 14011.72
A11: ='Memória de Cálculo'!A15 -> 1.1 | B11: SEINFRA | C11: ='Memória de Cálculo'!B15 -> ED-16660 | D11: ='Memória de Cálculo'!C15 -> FORNECIMENTO E COLOCAÇÃO DE PLACA DE OBRA EM CHAPA GALVANIZADA #26, ESP. 0,45 MM, PLOTADA COM ADESIVO VINÍLICO, AFIXADA COM REBITES 4,8X40 MM, EM ESTRUTURA METÁLICA DE METALON 20X20 MM, ESP. 1,25 MM, INCLUSIVE SUPORTE EM EUCALIPTO AUTOCLAVADO PINTADO COM TINTA PVA DUAS (2) DEMÃOS | E11: ='Memória de Cálculo'!D15 -> m² | F11: ='Memória de Cálculo'!E15 -> 2.88 | G11: 263.8 | H11: =ROUND(G11+(G11*$I$7),2) -> 335.13 | I11: =ROUND((F11*H11),2) -> 965.17
A12: ='Memória de Cálculo'!A16 -> 1.2 | B12: SEINFRA | C12: ='Memória de Cálculo'!B16 -> ED-29823 | D12: ='Memória de Cálculo'!C16 -> TAPUME FIXO DE PROTEÇÃO PARA FECHAMENTO DE OBRA EM TELHA METÁLICA GALVANIZADA, TIPO TRAPEZOIDAL, ESP. 0,5MM, COM MÓDULO NA DIMENSÃO DE (300X220)CM, COM REAPROVEITAMENTO, EXCLUSIVE PINTURA ESMALTE, INCLUSIVE PONTALETE E FIXAÇÃO | E12: ='Memória de Cálculo'!D16 -> m² | F12: ='Memória de Cálculo'!E16 -> 92.4 | G12: 66.74 | H12: =ROUND(G12+(G12*$I$7),2) -> 84.79 | I12: =ROUND((F12*H12),2) -> 7834.6
A13: ='Memória de Cálculo'!A17 -> 1.3 | B13: SEINFRA | C13: ='Memória de Cálculo'!B17 -> ED-17989 | D13: ='Memória de Cálculo'!C17 -> LOCAÇÃO DE OBRA COM GABARITO DE TÁBUAS CORRIDAS PONTALETADAS A CADA 2,00M, REAPROVEITAMENTO (2X), INCLUSIVE ACOMPANHAMENTO DE EQUIPE TOPOGRÁFICA PARA MARCAÇÃO DE PONTO TOPOGRÁFICO | E13: ='Memória de Cálculo'!D17 -> m | F13: ='Memória de Cálculo'!E17 -> 65.65 | G13: 62.49 | H13: =ROUND(G13+(G13*$I$7),2) -> 79.39 | I13: =ROUND((F13*H13),2) -> 5211.95
A14: 2 | D14: FUNDAÇÃO | I14: =SUM(I15:I23) -> 40261.22
A15: ='Memória de Cálculo'!A19 -> 2.1 | B15: SEINFRA | C15: ='Memória de Cálculo'!B19 -> ED-51107 | D15: ='Memória de Cálculo'!C19 -> ESCAVAÇÃO MANUAL DE VALA COM PROFUNDIDADE MENOR OU IGUAL A 1,5M, INCLUSIVE DESCARGA LATERAL | E15: ='Memória de Cálculo'!D19 -> m³ | F15: ='Memória de Cálculo'!E19 -> 11.22 | G15: 80.46 | H15: =ROUND(G15+(G15*$I$7),2) -> 102.22 | I15: =ROUND((F15*H15),2) -> 1146.91
A16: ='Memória de Cálculo'!A20 -> 2.2 | B16: SEINFRA | C16: ='Memória de Cálculo'!B20 -> ED-51093 | D16: ='Memória de Cálculo'!C20 -> APILOAMENTO MANUAL EM FUNDO DE VALA COM SOQUETE, EXCLUSIVE ESCAVAÇÃO | E16: ='Memória de Cálculo'!D20 -> m² | F16: ='Memória de Cálculo'!E20 -> 25.4 | G16: 27.13 | H16: =ROUND(G16+(G16*$I$7),2) -> 34.47 | I16: =ROUND((F16*H16),2) -> 875.54
A17: ='Memória de Cálculo'!A21 -> 2.3 | B17: SEINFRA | C17: ='Memória de Cálculo'!B21 -> ED-49812 | D17: ='Memória de Cálculo'!C21 -> LASTRO DE CONCRETO MAGRO, INCLUSIVE TRANSPORTE, LANÇAMENTO E ADENSAMENTO | E17: ='Memória de Cálculo'!D21 -> m³ | F17: ='Memória de Cálculo'!E21 -> 1.27 | G17: 633.68 | H17: =ROUND(G17+(G17*$I$7),2) -> 805.03 | I17: =ROUND((F17*H17),2) -> 1022.39
A18: ='Memória de Cálculo'!A22 -> 2.4 | B18: SEINFRA | C18: ='Memória de Cálculo'!B22 -> ED-29801 | D18: ='Memória de Cálculo'!C22 -> PERFURAÇÃO MANUAL DE ESTACA TIPO BROCA A TRADO, INCLUSIVE AFASTAMENTO, EXCLUSIVE ARMAÇÃO, CONCRETO ESTRUTURAL, TRANSPORTE E RETIRADA DO MATERIAL ESCAVADO | E18: ='Memória de Cálculo'!D22 -> m³ | F18: ='Memória de Cálculo'!E22 -> 0.96 | G18: 262.22 | H18: =ROUND(G18+(G18*$I$7),2) -> 333.12 | I18: =ROUND((F18*H18),2) -> 319.8
A19: ='Memória de Cálculo'!A23 -> 2.5 | B19: SEINFRA | C19: ='Memória de Cálculo'!B23 -> ED-8471 | D19: ='Memória de Cálculo'!C23 -> FÔRMA E DESFORMA DE TÁBUA E SARRAFO, REAPROVEITAMENTO (5X), EXCLUSIVE ESCORAMENTO | E19: ='Memória de Cálculo'!D23 -> m² | F19: ='Memória de Cálculo'!E23 -> 74.8 | G19: 61.74 | H19: =ROUND(G19+(G19*$I$7),2) -> 78.43 | I19: =ROUND((F19*H19),2) -> 5866.56
A20: ='Memória de Cálculo'!A24 -> 2.6 | B20: SEINFRA | C20: ='Memória de Cálculo'!B24 -> ED-48298 | D20: ='Memória de Cálculo'!C24 -> CORTE, DOBRA E MONTAGEM DE AÇO CA-50/60, INCLUSIVE ESPAÇADOR | E20: ='Memória de Cálculo'!D24 -> kg | F20: ='Memória de Cálculo'!E24 -> 729.3 | G20: 13.76 | H20: =ROUND(G20+(G20*$I$7),2) -> 17.48 | I20: =ROUND((F20*H20),2) -> 12748.16
A21: ='Memória de Cálculo'!A25 -> 2.7 | B21: SEINFRA | C21: ='Memória de Cálculo'!B25 -> ED-49787 | D21: ='Memória de Cálculo'!C25 -> FORNECIMENTO DE CONCRETO ESTRUTURAL, PREPARADO EM OBRA COM BETONEIRA, COM FCK 25MPA, INCLUSIVE LANÇAMENTO, ADENSAMENTO E ACABAMENTO (FUNDAÇÃO) | E21: ='Memória de Cálculo'!D25 -> m³ | F21: ='Memória de Cálculo'!E25 -> 11.22 | G21: 818.15 | H21: =ROUND(G21+(G21*$I$7),2) -> 1039.38 | I21: =ROUND((F21*H21),2) -> 11661.84
A22: ='Memória de Cálculo'!A26 -> 2.8 | B22: SEINFRA | C22: ='Memória de Cálculo'!B26 -> ED-50174 | D22: ='Memória de Cálculo'!C26 -> PINTURA COM EMULSÃO ASFÁLTICA, DUAS (2) DEMÃOS | E22: ='Memória de Cálculo'!D26 -> m² | F22: ='Memória de Cálculo'!E26 -> 113.61 | G22: 33.71 | H22: =ROUND(G22+(G22*$I$7),2) -> 42.83 | I22: =ROUND((F22*H22),2) -> 4865.92
A23: ='Memória de Cálculo'!A27 -> 2.9 | B23: SEINFRA | C23: ='Memória de Cálculo'!B27 -> ED-51097 | D23: ='Memória de Cálculo'!C27 -> COMPACTAÇÃO MANUAL DE ATERRO COM SOQUETE, INCLUSIVE ESPALHAMENTO MANUAL | E23: ='Memória de Cálculo'!D27 -> m³ | F23: ='Memória de Cálculo'!E27 -> 17.16 | G23: 80.46 | H23: =ROUND(G23+(G23*$I$7),2) -> 102.22 | I23: =ROUND((F23*H23),2) -> 1754.1
A24: 3 | D24: ESTRUTURA | I24: =SUM(I25:I34) -> 88329.3
A25: ='Memória de Cálculo'!A29 -> 3.1 | B25: SEINFRA | C25: ='Memória de Cálculo'!B29 -> ED-8471 | D25: ='Memória de Cálculo'!C29 -> FÔRMA E DESFORMA DE TÁBUA E SARRAFO, REAPROVEITAMENTO (5X), EXCLUSIVE ESCORAMENTO | E25: ='Memória de Cálculo'!D29 -> m² | F25: ='Memória de Cálculo'!E29 -> 76.17 | G25: 61.74 | H25: =ROUND(G25+(G25*$I$7),2) -> 78.43 | I25: =ROUND((F25*H25),2) -> 5974.01
A26: ='Memória de Cálculo'!A30 -> 3.2 | B26: SEINFRA | C26: ='Memória de Cálculo'!B30 -> ED-48298 | D26: ='Memória de Cálculo'!C30 -> CORTE, DOBRA E MONTAGEM DE AÇO CA-50/60, INCLUSIVE ESPAÇADOR | E26: ='Memória de Cálculo'!D30 -> kg | F26: ='Memória de Cálculo'!E30 -> 810.6 | G26: 13.76 | H26: =ROUND(G26+(G26*$I$7),2) -> 17.48 | I26: =ROUND((F26*H26),2) -> 14169.29
A27: ='Memória de Cálculo'!A31 -> 3.3 | B27: SEINFRA | C27: ='Memória de Cálculo'!B31 -> ED-49619 | D27: ='Memória de Cálculo'!C31 -> FORNECIMENTO DE CONCRETO ESTRUTURAL, PREPARADO EM OBRA, COM FCK 25MPA, INCLUSIVE LANÇAMENTO, ADENSAMENTO E ACABAMENTO | E27: ='Memória de Cálculo'!D31 -> m³ | F27: ='Memória de Cálculo'!E31 -> 13.51 | G27: 855.79 | H27: =ROUND(G27+(G27*$I$7),2) -> 1087.2 | I27: =ROUND((F27*H27),2) -> 14688.07
A28: ='Memória de Cálculo'!A32 -> 3.4 | B28: SEINFRA | C28: ='Memória de Cálculo'!B32 -> ED-50846 | D28: ='Memória de Cálculo'!C32 -> ESCADA DE CONCRETO 20 MPa, APARENTE, ESPELHO = 16,3 CM, ARMAÇÃO, FÔRMA PLASTIFICADA, ESCORAMENTO E DESFORMA | E28: ='Memória de Cálculo'!D32 -> m³ | F28: ='Memória de Cálculo'!E32 -> 0.82 | G28: 2803.01 | H28: =ROUND(G28+(G28*$I$7),2) -> 3560.94 | I28: =ROUND((F28*H28),2) -> 2919.97
A29: ='Memória de Cálculo'!A33 -> 3.5 | B29: SEINFRA | C29: ='Memória de Cálculo'!B33 -> ED-50253 | D29: ='Memória de Cálculo'!C33 -> LAJE PRÉ-MOLDADA UNIDIRECIONAL COM ENCHIMENTO EM POLIESTIRENO EXPANDIDO (EPS), CAPEAMENTO DE 4CM, SOBRECARGA DE 100KG/M2, ALTURA TOTAL DE 11CM E VÃO LIVRE MÁXIMO DE 4M, INCLUSIVE CONCRETO ESTRUTURAL, USINADO BOMBEADO COM FCK DE 20MPA, EXCLUSIVE TELA ARMADA E CIMBRAMENTO | E29: ='Memória de Cálculo'!D33 -> m² | F29: ='Memória de Cálculo'!E33 -> 87.52 | G29: 137.41 | H29: =ROUND(G29+(G29*$I$7),2) -> 174.57 | I29: =ROUND((F29*H29),2) -> 15278.37
A30: ='Memória de Cálculo'!A34 -> 3.6 | B30: SEINFRA | C30: ='Memória de Cálculo'!B34 -> ED-50256 | D30: ='Memória de Cálculo'!C34 -> LAJE PRÉ-MOLDADA UNIDIRECIONAL COM ENCHIMENTO EM POLIESTIRENO EXPANDIDO (EPS), CAPEAMENTO DE 4CM, SOBRECARGA DE 200KG/M2, ALTURA TOTAL DE 11CM E VÃO LIVRE MÁXIMO DE 4M, INCLUSIVE CONCRETO ESTRUTURAL, USINADO BOMBEADO COM FCK DE 20MPA, EXCLUSIVE TELA ARMADA E CIMBRAMENTO | E30: ='Memória de Cálculo'!D34 -> m² | F30: ='Memória de Cálculo'!E34 -> 114.2 | G30: 145.73 | H30: =ROUND(G30+(G30*$I$7),2) -> 185.14 | I30: =ROUND((F30*H30),2) -> 21142.99
A31: ='Memória de Cálculo'!A35 -> 3.7 | B31: SEINFRA | C31: ='Memória de Cálculo'!B35 -> ED-29563 | D31: ='Memória de Cálculo'!C35 -> ARMADURA DE TELA DE AÇO CA-60, SOLDADA TIPO Q-61, DIÂMETRO Ø3,4MM, TRAMA COM DIMENSÃO (150X150)MM, INCLUSIVE ESPAÇADOR, EXCLUSIVE CONCRETO | E31: ='Memória de Cálculo'!D35 -> m² | F31: ='Memória de Cálculo'!E35 -> 204.03 | G31: 14.99 | H31: =ROUND(G31+(G31*$I$7),2) -> 19.04 | I31: =ROUND((F31*H31),2) -> 3884.73
A32: ='Memória de Cálculo'!A36 -> 3.8 | B32: SEINFRA | C32: ='Memória de Cálculo'!B36 -> ED-19637 | D32: ='Memória de Cálculo'!C36 -> CIMBRAMENTO PARA LAJE PRÉ-MOLDADA COM ESCORAMENTO METÁLICO, TIPO "A", ALTURA DE (200 ATÉ 310)CM, INCLUSIVE DESCARGA, MONTAGEM, DESMONTAGEM E CARGA | E32: ='Memória de Cálculo'!D36 -> m²xmês | F32: ='Memória de Cálculo'!E36 -> 204.03 | G32: 23.55 | H32: =ROUND(G32+(G32*$I$7),2) -> 29.92 | I32: =ROUND((F32*H32),2) -> 6104.58
A33: ='Memória de Cálculo'!A37 -> 3.9 | B33: SEINFRA | C33: ='Memória de Cálculo'!B37 -> ED-50579 | D33: ='Memória de Cálculo'!C37 -> APLICAÇÃO DE SELANTE, MASTIQUE ELÁSTICO, EM JUNTA DE DILAÇÃO, DIMENSÃO 20X10 MM, FATOR DE FORMA 1:2, EXCLUSIVE DELIMITADOR DE PROFUNDIDADE | E33: ='Memória de Cálculo'!D37 -> m | F33: ='Memória de Cálculo'!E37 -> 14.6 | G33: 37.69 | H33: =ROUND(G33+(G33*$I$7),2) -> 47.88 | I33: =ROUND((F33*H33),2) -> 699.05
A34: ='Memória de Cálculo'!A38 -> 3.10 | B34: SEINFRA | C34: ='Memória de Cálculo'!B38 -> SINAPI 105061 | D34: ='Memória de Cálculo'!C38 -> PILAR DE MADEIRA SERRADA, MAÇARANDUBA OU EQUIVALENTE DA REGIÃO, NÃO APARELHADO, FIXADO COM VERGALHÃO, SEÇÃO QUADRADA 10 X 10 CM, APOIO ARTICULADO, COMPRIMENTO DE 3 M. AF_03/2024 | E34: ='Memória de Cálculo'!D38 -> m | F34: ='Memória de Cálculo'!E38 -> 24 | G34: 113.75 | H34: =ROUND(G34+(G34*$I$7),2) -> 144.51 | I34: =ROUND((F34*H34),2) -> 3468.24
A35: 4 | C35: ='Memória de Cálculo'!B39 -> 0 | D35: ALVENARIA | E35: ='Memória de Cálculo'!D39 -> 0 | F35: ='Memória de Cálculo'!E39 -> 0 | I35: =SUM(I36:I38) -> 52630.48
A36: =+'Memória de Cálculo'!A40 -> 4.1 | B36: SEINFRA | C36: ='Memória de Cálculo'!B40 -> ED-48232 | D36: ='Memória de Cálculo'!C40 -> ALVENARIA DE VEDAÇÃO COM TIJOLO CERÂMICO FURADO, ESP. 14CM, PARA REVESTIMENTO, INCLUSIVE ARGAMASSA PARA ASSENTAMENTO | E36: ='Memória de Cálculo'!D40 -> m² | F36: ='Memória de Cálculo'!E40 -> 498.12 | G36: 74.29 | H36: =ROUND(G36+(G36*$I$7),2) -> 94.38 | I36: =ROUND((F36*H36),2) -> 47012.57
A37: =+'Memória de Cálculo'!A41 -> 4.2 | B37: SEINFRA | C37: ='Memória de Cálculo'!B41 -> ED-48200 | D37: ='Memória de Cálculo'!C41 -> ALVENARIA ESTRUTURAL COM BLOCO DE CONCRETO, ESP. 9CM, (FBK 4,5MPA), INCLUSIVE ARGAMASSA PARA ASSENTAMENTO | E37: ='Memória de Cálculo'!D41 -> m² | F37: ='Memória de Cálculo'!E41 -> 10.44 | G37: 70.13 | H37: =ROUND(G37+(G37*$I$7),2) -> 89.09 | I37: =ROUND((F37*H37),2) -> 930.1
A38: =+'Memória de Cálculo'!A42 -> 4.3 | B38: SEINFRA | C38: ='Memória de Cálculo'!B42 -> ED-9903 | D38: ='Memória de Cálculo'!C42 -> VERGA OU CONTRAVERGA EM CONCRETO ESTRUTURAL PARA VÃOS DE ATÉ 150CM, PREPARADO EM OBRA COM BETONEIRA, CONTROLE "A", COM FCK 20 MPA, MOLDADA IN LOCO, INCLUSIVE ARMAÇÃO | E38: ='Memória de Cálculo'!D42 -> m³ | F38: ='Memória de Cálculo'!E42 -> 1.05 | G38: 3514.31 | H38: =ROUND(G38+(G38*$I$7),2) -> 4464.58 | I38: =ROUND((F38*H38),2) -> 4687.81
A39: 5 | C39: ='Memória de Cálculo'!B43 -> 0 | D39: COBERTURA | E39: ='Memória de Cálculo'!D43 -> 0 | F39: ='Memória de Cálculo'!E43 -> 0 | I39: =SUM(I40:I43) -> 50921.06
A40: =+'Memória de Cálculo'!A44 -> 5.1 | B40: SEINFRA | C40: ='Memória de Cálculo'!B44 -> ED-48407 | D40: ='Memória de Cálculo'!C44 -> ENGRADAMENTO PARA TELHAS CERÂMICA OU CONCRETO EM MADEIRA PARAJU | E40: ='Memória de Cálculo'!D44 -> m² | F40: ='Memória de Cálculo'!E44 -> 142 | G40: 110.77 | H40: =ROUND(G40+(G40*$I$7),2) -> 140.72 | I40: =ROUND((F40*H40),2) -> 19982.24
A41: =+'Memória de Cálculo'!A45 -> 5.2 | B41: SEINFRA | C41: ='Memória de Cálculo'!B45 -> ED-48420 | D41: ='Memória de Cálculo'!C45 -> COBERTURA EM TELHA CERÂMICA, TIPO PLAN, INCLUSIVE FIXAÇÃO, EXCLUSIVE ENGRADAMENTO E MANTA ISOLANTE/ TÉRMICA | E41: ='Memória de Cálculo'!D45 -> m² | F41: ='Memória de Cálculo'!E45 -> 142 | G41: 109.31 | H41: =ROUND(G41+(G41*$I$7),2) -> 138.87 | I41: =ROUND((F41*H41),2) -> 19719.54
...

Sheet Cronograma
A2: CRONOGRAMA FÍSICO-FINANCEIRO
A3: ='Planilha Orcamentaria '!A3:E3 -> PREFEITURA MUNICIPAL DE MINAS NOVAS | E3: VALOR DO CONVÊNIO: | F3: =D42 -> 609170.54 | H3: DATA: | I3: 46219 | J3: FOLHA Nº: 01/01
A4: ='Planilha Orcamentaria '!A4:E4 -> OBRA: Camelódromo | H4: PREVISÃO DE EXECUÇÃO DAS OBRAS: 6 MESES
A5: ='Planilha Orcamentaria '!A5:E5 -> LOCAL: Praça Dr. Badaró - Centro - Minas Novas - MG
A6: ITENS | B6: ETAPAS/DESCRIÇÃO | C6: FÍSICO/ FINANCEIRO | D6: TOTAL ETAPAS | E6: MÊS 1 | F6: MÊS 2 | G6: MÊS 3 | H6: MÊS 4 | I6: MÊS 5 | J6: MÊS 6
A7: 1.0 | B7: ='Planilha Orcamentaria '!D10 -> INSTALAÇÕES INICIAIS | C7: Físico % | D7: =D8/$D$42 -> 0.023001309 | E7: 1 | F7: 0 | G7: 0 | H7: 0 | I7: 0 | J7: 0
C8: Financeiro | D8: ='Planilha Orcamentaria '!I10 -> 14011.72 | E8: =E7*$D$8 -> 14011.72 | F8: =F7*$D$8 -> 0 | G8: =G7*$D$8 -> 0 | H8: =H7*$D$8 -> 0 | I8: =I7*$D$8 -> 0 | J8: =J7*$D$8 -> 0
A9: 2.0 | B9: ='Planilha Orcamentaria '!D14 -> FUNDAÇÃO | C9: Físico % | D9: =D10/$D$42 -> 0.06609187 | E9: 0.8 | F9: 0.2 | G9: 0 | H9: 0 | I9: 0 | J9: 0
C10: Financeiro | D10: ='Planilha Orcamentaria '!I14 -> 40261.22 | E10: =E9*$D$10 -> 32208.976 | F10: =F9*$D$10 -> 8052.244 | G10: =G9*$D$8 -> 0 | H10: =H9*$D$8 -> 0 | I10: =I9*$D$8 -> 0 | J10: =J9*$D$8 -> 0
A11: 3.0 | B11: ='Planilha Orcamentaria '!D24 -> ESTRUTURA | C11: Físico % | D11: =D12/$D$42 -> 0.1449993 | E11: 0.3 | F11: 0.5 | G11: 0.2 | H11: 0 | I11: 0 | J11: 0
C12: Financeiro | D12: ='Planilha Orcamentaria '!I24 -> 88329.3 | E12: =E11*$D$12 -> 26498.79 | F12: =F11*$D$12 -> 44164.65 | G12: =G11*$D$12 -> 17665.86 | H12: =H11*$D$8 -> 0 | I12: =I11*$D$8 -> 0 | J12: =J11*$D$8 -> 0
A13: 4.0 | B13: ='Planilha Orcamentaria '!D35 -> ALVENARIA | C13: Físico % | D13: =D14/$D$42 -> 0.086396955 | E13: 0 | F13: 0.6 | G13: 0.3 | H13: 0.1 | I13: 0 | J13: 0
C14: Financeiro | D14: ='Planilha Orcamentaria '!I35 -> 52630.48 | E14: =E13*$D$14 -> 0 | F14: =F13*$D$14 -> 31578.288 | G14: =G13*$D$14 -> 15789.144 | H14: =H13*$D$14 -> 5263.048 | I14: =I13*$D$8 -> 0 | J14: =J13*$D$8 -> 0
A15: 5.0 | B15: ='Planilha Orcamentaria '!D39 -> COBERTURA | C15: Físico % | D15: =D16/$D$42 -> 0.083590812 | E15: 0 | F15: 0.2 | G15: 0.5 | H15: 0.3 | I15: 0 | J15: 0
C16: Financeiro | D16: ='Planilha Orcamentaria '!I39 -> 50921.06 | E16: =E15*$D$14 -> 0 | F16: =F15*$D$16 -> 10184.212 | G16: =G15*$D$16 -> 25460.53 | H16: =H15*$D$16 -> 15276.318 | I16: =I15*$D$8 -> 0 | J16: =J15*$D$8 -> 0
A17: 6.0 | B17: ='Planilha Orcamentaria '!D44 -> ACABAMENTO | C17: Físico % | D17: =D18/$D$42 -> 0.11786299 | E17: 0 | F17: 0 | G17: 0.5 | H17: 0.5 | I17: 0 | J17: 0
C18: Financeiro | D18: ='Planilha Orcamentaria '!I44 -> 71798.66 | E18: =E17*$D$14 -> 0 | F18: =F17*$D$18 -> 0 | G18: =G17*$D$18 -> 35899.33 | H18: =H17*$D$18 -> 35899.33 | I18: =I17*$D$18 -> 0 | J18: =J17*$D$8 -> 0
A19: 7.0 | B19: ='Planilha Orcamentaria '!D49 -> ESQUADRIAS/FERRAGENS | C19: Físico % | D19: =D20/$D$42 -> 0.17683706 | E19: 0 | F19: 0 | G19: 0.1 | H19: 0.3 | I19: 0.6 | J19: 0
C20: Financeiro | D20: ='Planilha Orcamentaria '!I49 -> 107723.93 | E20: =E19*$D$14 -> 0 | F20: =F19*$D$18 -> 0 | G20: =G19*$D$20 -> 10772.393 | H20: =H19*$D$20 -> 32317.179 | I20: =I19*$D$20 -> 64634.358 | J20: =J19*$D$8 -> 0
A21: 8.0 | B21: ='Planilha Orcamentaria '!D58 -> INSTALAÇÕES HIDRÁULICAS | C21: Físico % | D21: =D22/$D$42 -> 0.026789641 | E21: 0 | F21: 0 | G21: 0.4 | H21: 0.6 | I21: 0 | J21: 0
C22: Financeiro | D22: ='Planilha Orcamentaria '!I58 -> 16319.46 | E22: =E21*$D$14 -> 0 | F22: =F21*$D$18 -> 0 | G22: =G21*$D$22 -> 6527.784 | H22: =H21*$D$22 -> 9791.676 | I22: =I21*$D$22 -> 0 | J22: =J21*$D$8 -> 0
A23: 9.0 | B23: ='Planilha Orcamentaria '!D70 -> INSTALAÇÕES ELÉTRICAS | C23: Físico % | D23: =D24/$D$42 -> 0.052449762 | E23: 0 | F23: 0 | G23: 0.4 | H23: 0.6 | I23: 0 | J23: 0
C24: Financeiro | D24: ='Planilha Orcamentaria '!I70 -> 31950.85 | E24: =E23*$D$14 -> 0 | F24: =F23*$D$18 -> 0 | G24: =G23*$D$24 -> 12780.34 | H24: =H23*$D$24 -> 19170.51 | I24: =I23*$D$24 -> 0 | J24: =J23*$D$24 -> 0
A25: 10.0 | B25: ='Planilha Orcamentaria '!D89 -> PISO | C25: Físico % | D25: =D26/$D$42 -> 0.11457136 | E25: 0 | F25: 0 | G25: 0 | H25: 0 | I25: 0.6 | J25: 0.4
C26: Financeiro | D26: ='Planilha Orcamentaria '!I89 -> 69793.5 | E26: =E25*$D$14 -> 0 | F26: =F25*$D$18 -> 0 | G26: =G25*$D$22 -> 0 | H26: =H25*$D$26 -> 0 | I26: =I25*$D$26 -> 41876.1 | J26: =J25*$D$26 -> 27917.4
A27: 11.0 | B27: ='Planilha Orcamentaria '!D94 -> LOUÇAS E METAIS | C27: Físico % | D27: =D28/$D$42 -> 0.0081836196 | E27: 0 | F27: 0 | G27: 0 | H27: 0 | I27: 0 | J27: 1
C28: Financeiro | D28: ='Planilha Orcamentaria '!I94 -> 4985.22 | E28: =E27*$D$14 -> 0 | F28: =F27*$D$18 -> 0 | G28: =G27*$D$22 -> 0 | H28: =H27*$D$26 -> 0 | I28: =I27*$D$28 -> 0 | J28: =J27*$D$28 -> 4985.22
A29: 12.0 | B29: ='Planilha Orcamentaria '!D105 -> DIVERSOS | C29: Físico % | D29: =D30/$D$42 -> 0.011703406 | E29: 0 | F29: 0 | G29: 0 | H29: 0 | I29: 0 | J29: 1
C30: Financeiro | D30: ='Planilha Orcamentaria '!I105 -> 7129.37 | E30: =E29*$D$14 -> 0 | F30: =F29*$D$18 -> 0 | G30: =G29*$D$22 -> 0 | H30: =H29*$D$26 -> 0 | I30: =I29*$D$28 -> 0 | J30: =J29*$D$30 -> 7129.37
A31: 13.0 | B31: ='Planilha Orcamentaria '!D109 -> PINTURA | C31: Físico % | D31: =D32/$D$42 -> 0.082286694 | E31: 0 | F31: 0 | G31: 0 | H31: 0 | I31: 0 | J31: 1
C32: Financeiro | D32: ='Planilha Orcamentaria '!I109 -> 50126.63 | E32: =E31*$D$14 -> 0 | F32: =F31*$D$18 -> 0 | G32: =G31*$D$22 -> 0 | H32: =H31*$D$26 -> 0 | I32: =I31*$D$28 -> 0 | J32: =J31*$D$32 -> 50126.63
A33: 14.0 | B33: ='Planilha Orcamentaria '!D116 -> PREVENÇÃO E COMBATE A INCÊNDIO | C33: Físico % | D33: =D34/$D$42 -> 0.0021730532 | E33: 0 | F33: 0 | G33: 0 | H33: 0 | I33: 0 | J33: 1
C34: Financeiro | D34: ='Planilha Orcamentaria '!I116 -> 1323.76 | E34: =E33*$D$14 -> 0 | F34: =F33*$D$18 -> 0 | G34: =G33*$D$22 -> 0 | H34: =H33*$D$26 -> 0 | I34: =I33*$D$28 -> 0 | J34: =J33*$D$34 -> 1323.76
A35: 15.0 | B35: ='Planilha Orcamentaria '!D120 -> LIMPEZA | C35: Físico % | D35: =D36/$D$42 -> 0.0030621638 | E35: 0 | F35: 0 | G35: 0 | H35: 0 | I35: 0 | J35: 1
C36: Financeiro | D36: ='Planilha Orcamentaria '!I120 -> 1865.38 | E36: =E35*$D$14 -> 0 | F36: =F35*$D$18 -> 0 | G36: =G35*$D$22 -> 0 | H36: =H35*$D$26 -> 0 | I36: =I35*$D$28 -> 0 | J36: =J35*$D$36 -> 1865.38
A37: ='[1]Planilha Orcamentária'!A22 -> 4.0 | C37: Físico % | D37: =D38/$D$42 -> 0 | E37: 0 | F37: 0 | G37: 0 | H37: 0 | I37: 0 | J37: 0
C38: Financeiro | E38: =E37*$D$38 -> 0 | F38: =F37*$D$38 -> 0 | G38: =G37*$D$38 -> 0 | H38: =H37*$D$38 -> 0 | I38: =I37*$D$38 -> 0 | J38: =J37*$D$38 -> 0
A39: ='[1]Planilha Orcamentária'!A26 -> 5.0 | C39: Físico % | D39: =D40/$D$42 -> 0 | E39: 0 | F39: 0 | G39: 0 | H39: 0 | I39: 0 | J39: 0
C40: Financeiro | E40: =E39*$D$40 -> 0 | F40: =F39*$D$40 -> 0 | G40: =G39*$D$40 -> 0 | H40: =H39*$D$40 -> 0 | I40: =I39*$D$40 -> 0 | J40: =J39*$D$40 -> 0
A41: TOTAL | C41: Físico % | D41: =+D29+D27+D25+D23+D21+D19+D17+D15+D13+D11+D7+D9+D31+D35 -> 0.99782695 | E41: =E42/$D$42 -> 0.11937459 | F41: =F42/$D$42 -> 0.15427436 | G41: =G42/$D$42 -> 0.20502531 | H41: =H42/$D$42 -> 0.19324319 | I41: =I42/$D$42 -> 0.17484506 | J41: =J42/$D$42 -> 0.15323748
...

Sheet Plan1
B1: PREFEITURA MUNICIPAL DE MINAS NOVAS Rua Getúlio Vargas, 158 B – 2º Andar – Centro. CEP: 39.650-000 – Minas Novas (MG) Fone: (33) 3764-1147 – (33) 3764-2641 E-mail:pmmn@uai.com.br/conveniosminasnovas@yahoo.com.br
B6: BOLETIM DE MEDIÇÃO
B7: MINAS NOVAS - MINAS GERAIS
B8: PREFEITURA MUNICIPAL DE MINAS NOVAS | E8: Convênio nº. N/A | I8: MEDIÇÃO Nº: 05 | L8: Folha nº 1
B9: CONTRATADA: CAMARGOS MATERIAL DE CONSTRUÇÃO LTDA | G9: Data de emissão: 11/08/2025
B10: OBRA: Reforma e Ampliação Centro Educacional Proinfância Professora Neusa Sena Costa | G10: PERÍODO DE EXECUÇÃO: | I10: 45856 | J10: A | K10: 45880
B11: LOCAL: Rua Cleomar Machado nº 18 - Minas Novas - MG | G11: Valor CT/ TA: | I11: Saldo Anterior | L11: Esta medição: | M11: Saldo:
D12: Data O.S.: | E12: 45687 | G12: =J131 -> 474880 | I12: 311981.07 | L12: =+M132 -> 208002.46 | M12: =+I12-L12 -> 103978.61
B13: ITEM | C13: SERVIÇOS EXECUTADOS | D13: Quant. Prev. | E13: QUANTIDADES EXECUTADAS | H13: UNID | I13: VALOR UNIT. | J13: Financeiro Planilha | K13: VALORES EXECUTADOS R$ | M13: Executado(%)
E14: Anterior | F14: No período | G14: Acumulado | K14: No período | L14: Acumulado
D15: =+'[2]MM CALC'!#REF! -> #REF!
B16: ='Planilha Orcamentaria '!A10 -> 1 | C16: ='Planilha Orcamentaria '!D10 -> INSTALAÇÕES INICIAIS | D16: =+'[2]MM CALC'!#REF! -> #REF!
B17: ='Planilha Orcamentaria '!A11 -> 1.1 | C17: ='Planilha Orcamentaria '!D11 -> FORNECIMENTO E COLOCAÇÃO DE PLACA DE OBRA EM CHAPA GALVANIZADA #26, ESP. 0,45 MM, PLOTADA COM ADESIVO VINÍLICO, AFIXADA COM REBITES 4,8X40 MM, EM ESTRUTURA METÁLICA DE METALON 20X20 MM, ESP. 1,25 MM, INCLUSIVE SUPORTE EM EUCALIPTO AUTOCLAVADO PINTADO COM TINTA PVA DUAS (2) DEMÃOS | D17: 2.88 | E17: 2.88 | G17: =+F17+E17 -> 2.88 | H17: m² | I17: 265.44097 | J17: =+I17*D17 -> 764.47 | K17: =+F17*I17 -> 0 | L17: =+G17*I17 -> 764.47 | M17: =+(L17)/J17 -> 1
B18: ='Planilha Orcamentaria '!A12 -> 1.2 | C18: ='Planilha Orcamentaria '!D12 -> TAPUME FIXO DE PROTEÇÃO PARA FECHAMENTO DE OBRA EM TELHA METÁLICA GALVANIZADA, TIPO TRAPEZOIDAL, ESP. 0,5MM, COM MÓDULO NA DIMENSÃO DE (300X220)CM, COM REAPROVEITAMENTO, EXCLUSIVE PINTURA ESMALTE, INCLUSIVE PONTALETE E FIXAÇÃO | D18: 74.65 | E18: 74.65 | G18: =+F18+E18 -> 74.65 | H18: m | I18: 10.78004 | J18: =+I18*D18 -> 804.73 | K18: =+F18*I18 -> 0 | L18: =+G18*I18 -> 804.73 | M18: =+(L18)/J18 -> 1
B19: ='Planilha Orcamentaria '!A13 -> 1.3 | C19: ='Planilha Orcamentaria '!D13 -> LOCAÇÃO DE OBRA COM GABARITO DE TÁBUAS CORRIDAS PONTALETADAS A CADA 2,00M, REAPROVEITAMENTO (2X), INCLUSIVE ACOMPANHAMENTO DE EQUIPE TOPOGRÁFICA PARA MARCAÇÃO DE PONTO TOPOGRÁFICO | D19: 51.8 | E19: 51.8 | G19: =+F19+E19 -> 51.8 | H19: m | I19: 43.6 | J19: =+I19*D19 -> 2258.48 | K19: =+F19*I19 -> 0 | L19: =+G19*I19 -> 2258.48 | M19: =+(L19)/J19 -> 1
B20: ='Planilha Orcamentaria '!#REF! -> #REF! | C20: ='Planilha Orcamentaria '!#REF! -> #REF! | D20: =+'[2]MM CALC'!#REF! -> #REF!
B21: ='Planilha Orcamentaria '!#REF! -> #REF! | C21: ='Planilha Orcamentaria '!#REF! -> #REF! | D21: 35.55 | E21: 35.55 | G21: =+F21+E21 -> 35.55 | H21: ='Planilha Orcamentaria '!#REF! -> #REF! | I21: 17.360056 | J21: =+I21*D21 -> 617.15 | K21: =+F21*I21 -> 0 | L21: =+G21*I21 -> 617.15 | M21: =+(L21)/J21 -> 1
B22: ='Planilha Orcamentaria '!#REF! -> #REF! | C22: ='Planilha Orcamentaria '!#REF! -> #REF! | D22: 35.55 | E22: 35.55 | G22: =+F22+E22 -> 35.55 | H22: ='Planilha Orcamentaria '!#REF! -> #REF! | I22: 18.700141 | J22: =+I22*D22 -> 664.79 | K22: =+F22*I22 -> 0 | L22: =+G22*I22 -> 664.79 | M22: =+(L22)/J22 -> 1
B23: ='Planilha Orcamentaria '!#REF! -> #REF! | C23: ='Planilha Orcamentaria '!#REF! -> #REF! | D23: 13.5 | F23: 13.5 | G23: =+F23+E23 -> 13.5 | H23: ='Planilha Orcamentaria '!#REF! -> #REF! | I23: 6.9903704 | J23: =+I23*D23 -> 94.37 | K23: =+F23*I23 -> 94.37 | L23: =+G23*I23 -> 94.37 | M23: =+(L23)/J23 -> 1
B24: ='Planilha Orcamentaria '!#REF! -> #REF! | C24: ='Planilha Orcamentaria '!#REF! -> #REF! | D24: 1.68 | F24: 1.68 | G24: =+F24+E24 -> 1.68 | H24: ='Planilha Orcamentaria '!#REF! -> #REF! | I24: 12.85119 | J24: =+I24*D24 -> 21.59 | K24: =+F24*I24 -> 21.59 | L24: =+G24*I24 -> 21.59 | M24: =+(L24)/J24 -> 1
B25: ='Planilha Orcamentaria '!#REF! -> #REF! | C25: ='Planilha Orcamentaria '!#REF! -> #REF! | D25: 11.67 | E25: 1.41 | F25: 10.26 | G25: =+F25+E25 -> 11.67 | H25: ='Planilha Orcamentaria '!#REF! -> #REF! | I25: 264.42 | J25: =+I25*D25 -> 3085.7814 | K25: =+F25*I25 -> 2712.9492 | L25: =+G25*I25 -> 3085.7814 | M25: =+(L25)/J25 -> 1
B26: ='Planilha Orcamentaria '!#REF! -> #REF! | C26: ='Planilha Orcamentaria '!#REF! -> #REF! | D26: 133.31 | F26: 133.31 | G26: =+F26+E26 -> 133.31 | H26: ='Planilha Orcamentaria '!#REF! -> #REF! | I26: 13.71 | J26: =+I26*D26 -> 1827.6801 | K26: =+F26*I26 -> 1827.6801 | L26: =+G26*I26 -> 1827.6801 | M26: =+(L26)/J26 -> 1
B27: ='Planilha Orcamentaria '!#REF! -> #REF! | C27: ='Planilha Orcamentaria '!#REF! -> #REF! | D27: 10.5 | F27: 10.5 | G27: =+F27+E27 -> 10.5 | H27: ='Planilha Orcamentaria '!#REF! -> #REF! | I27: 16 | J27: =+I27*D27 -> 168 | K27: =+F27*I27 -> 168 | L27: =+G27*I27 -> 168 | M27: =+(L27)/J27 -> 1
B28: ='Planilha Orcamentaria '!A14 -> 2 | C28: ='Planilha Orcamentaria '!D14 -> FUNDAÇÃO
B29: ='Planilha Orcamentaria '!A15 -> 2.1 | C29: ='Planilha Orcamentaria '!D15 -> ESCAVAÇÃO MANUAL DE VALA COM PROFUNDIDADE MENOR OU IGUAL A 1,5M, INCLUSIVE DESCARGA LATERAL | D29: 38.73 | E29: 30.73 | F29: 8 | G29: =+F29+E29 -> 38.73 | H29: ='Planilha Orcamentaria '!E15 -> m³ | I29: 52.96 | J29: =+I29*D29 -> 2051.1408 | K29: =+F29*I29 -> 423.68 | L29: =+G29*I29 -> 2051.1408 | M29: =+(L29)/J29 -> 1
B30: ='Planilha Orcamentaria '!A16 -> 2.2 | C30: ='Planilha Orcamentaria '!D16 -> APILOAMENTO MANUAL EM FUNDO DE VALA COM SOQUETE, EXCLUSIVE ESCAVAÇÃO | D30: 53.33 | E30: 45.33 | F30: 8 | G30: =+F30+E30 -> 53.33 | H30: ='Planilha Orcamentaria '!E16 -> m² | I30: 17.85 | J30: =+I30*D30 -> 951.9405 | K30: =+F30*I30 -> 142.8 | L30: =+G30*I30 -> 951.9405 | M30: =+(L30)/J30 -> 1
B31: ='Planilha Orcamentaria '!A17 -> 2.3 | C31: ='Planilha Orcamentaria '!D17 -> LASTRO DE CONCRETO MAGRO, INCLUSIVE TRANSPORTE, LANÇAMENTO E ADENSAMENTO | D31: 2.66 | E31: 2.26 | F31: 0.4 | G31: =+F31+E31 -> 2.66 | H31: ='Planilha Orcamentaria '!E17 -> m³ | I31: 450.83 | J31: =+I31*D31 -> 1199.2078 | K31: =+F31*I31 -> 180.332 | L31: =+G31*I31 -> 1199.2078 | M31: =+(L31)/J31 -> 1
B32: ='Planilha Orcamentaria '!A18 -> 2.4 | C32: ='Planilha Orcamentaria '!D18 -> PERFURAÇÃO MANUAL DE ESTACA TIPO BROCA A TRADO, INCLUSIVE AFASTAMENTO, EXCLUSIVE ARMAÇÃO, CONCRETO ESTRUTURAL, TRANSPORTE E RETIRADA DO MATERIAL ESCAVADO | D32: 1.16 | E32: 0.84 | F32: 0.32 | G32: =+F32+E32 -> 1.16 | H32: ='Planilha Orcamentaria '!E18 -> m³ | I32: 128.75 | J32: =+I32*D32 -> 149.35 | K32: =+F32*I32 -> 41.2 | L32: =+G32*I32 -> 149.35 | M32: =+(L32)/J32 -> 1
B33: ='Planilha Orcamentaria '!A19 -> 2.5 | C33: ='Planilha Orcamentaria '!D19 -> FÔRMA E DESFORMA DE TÁBUA E SARRAFO, REAPROVEITAMENTO (5X), EXCLUSIVE ESCORAMENTO | D33: 101.66 | E33: 69.66 | F33: 32 | G33: =+F33+E33 -> 101.66 | H33: ='Planilha Orcamentaria '!E19 -> m² | I33: 37.61 | J33: =+I33*D33 -> 3823.4326 | K33: =+F33*I33 -> 1203.52 | L33: =+G33*I33 -> 3823.4326 | M33: =+(L33)/J33 -> 1
B34: ='Planilha Orcamentaria '!A20 -> 2.6 | C34: ='Planilha Orcamentaria '!D20 -> CORTE, DOBRA E MONTAGEM DE AÇO CA-50/60, INCLUSIVE ESPAÇADOR | D34: 2517.45 | E34: 1997.45 | F34: 520 | G34: =+F34+E34 -> 2517.45 | H34: ='Planilha Orcamentaria '!E20 -> kg | I34: 10.07 | J34: =+I34*D34 -> 25350.721 | K34: =+F34*I34 -> 5236.4 | L34: =+G34*I34 -> 25350.721 | M34: =+(L34)/J34 -> 1
B35: ='Planilha Orcamentaria '!A21 -> 2.7 | C35: ='Planilha Orcamentaria '!D21 -> FORNECIMENTO DE CONCRETO ESTRUTURAL, PREPARADO EM OBRA COM BETONEIRA, COM FCK 25MPA, INCLUSIVE LANÇAMENTO, ADENSAMENTO E ACABAMENTO (FUNDAÇÃO) | D35: 38.73 | E35: 30.73 | F35: 8 | G35: =+F35+E35 -> 38.73 | H35: ='Planilha Orcamentaria '!E21 -> m³ | I35: 608.97 | J35: =+I35*D35 -> 23585.408 | K35: =+F35*I35 -> 4871.76 | L35: =+G35*I35 -> 23585.408 | M35: =+(L35)/J35 -> 1
B36: ='Planilha Orcamentaria '!A22 -> 2.8 | C36: ='Planilha Orcamentaria '!D22 -> PINTURA COM EMULSÃO ASFÁLTICA, DUAS (2) DEMÃOS | D36: 159.99 | E36: 135.99 | F36: 24 | G36: =+F36+E36 -> 159.99 | H36: ='Planilha Orcamentaria '!E22 -> m² | I36: 20.41 | J36: =+I36*D36 -> 3265.3959 | K36: =+F36*I36 -> 489.84 | L36: =+G36*I36 -> 3265.3959 | M36: =+(L36)/J36 -> 1
B37: ='Planilha Orcamentaria '!A23 -> 2.9 | C37: ='Planilha Orcamentaria '!D23 -> COMPACTAÇÃO MANUAL DE ATERRO COM SOQUETE, INCLUSIVE ESPALHAMENTO MANUAL | D37: 52.49 | E37: 52.49 | G37: =+F37+E37 -> 52.49 | H37: ='Planilha Orcamentaria '!E23 -> m³ | I37: 52.96 | J37: =+I37*D37 -> 2779.8704 | K37: =+F37*I37 -> 0 | L37: =+G37*I37 -> 2779.8704 | M37: =+(L37)/J37 -> 1
B38: ='Planilha Orcamentaria '!A24 -> 3 | C38: ='Planilha Orcamentaria '!D24 -> ESTRUTURA
B39: ='Planilha Orcamentaria '!A25 -> 3.1 | C39: ='Planilha Orcamentaria '!D25 -> FÔRMA E DESFORMA DE TÁBUA E SARRAFO, REAPROVEITAMENTO (5X), EXCLUSIVE ESCORAMENTO | D39: 136.89 | E39: 136.89 | G39: =+F39+E39 -> 136.89 | H39: ='Planilha Orcamentaria '!E25 -> m² | I39: 37.609979 | J39: =+I39*D39 -> 5148.43 | K39: =+F39*I39 -> 0 | L39: =+G39*I39 -> 5148.43 | M39: =+(L39)/J39 -> 1
B40: ='Planilha Orcamentaria '!A26 -> 3.2 | C40: ='Planilha Orcamentaria '!D26 -> CORTE, DOBRA E MONTAGEM DE AÇO CA-50/60, INCLUSIVE ESPAÇADOR | D40: 530.4 | E40: 530.4 | G40: =+F40+E40 -> 530.4 | H40: ='Planilha Orcamentaria '!E26 -> kg | I40: 10.070004 | J40: =+I40*D40 -> 5341.13 | K40: =+F40*I40 -> 0 | L40: =+G40*I40 -> 5341.13 | M40: =+(L40)/J40 -> 1
B41: ='Planilha Orcamentaria '!A27 -> 3.3 | C41: ='Planilha Orcamentaria '!D27 -> FORNECIMENTO DE CONCRETO ESTRUTURAL, PREPARADO EM OBRA, COM FCK 25MPA, INCLUSIVE LANÇAMENTO, ADENSAMENTO E ACABAMENTO | D41: 8.84 | E41: 8.84 | G41: =+F41+E41 -> 8.84 | H41: ='Planilha Orcamentaria '!E27 -> m³ | I41: 634.0905 | J41: =+I41*D41 -> 5605.36 | K41: =+F41*I41 -> 0 | L41: =+G41*I41 -> 5605.36 | M41: =+(L41)/J41 -> 1
B42: ='Planilha Orcamentaria '!A29 -> 3.5 | C42: ='Planilha Orcamentaria '!D29 -> LAJE PRÉ-MOLDADA UNIDIRECIONAL COM ENCHIMENTO EM POLIESTIRENO EXPANDIDO (EPS), CAPEAMENTO DE 4CM, SOBRECARGA DE 100KG/M2, ALTURA TOTAL DE 11CM E VÃO LIVRE MÁXIMO DE 4M, INCLUSIVE CONCRETO ESTRUTURAL, USINADO BOMBEADO COM FCK DE 20MPA, EXCLUSIVE TELA ARMADA E CIMBRAMENTO | D42: 16.95 | E42: 16.95 | G42: =+F42+E42 -> 16.95 | H42: ='Planilha Orcamentaria '!E29 -> m² | I42: 27.100295 | J42: =+I42*D42 -> 459.35 | K42: =+F42*I42 -> 0 | L42: =+G42*I42 -> 459.35 | M42: =+(L42)/J42 -> 1
B43: ='Planilha Orcamentaria '!A35 -> 4 | C43: ='Planilha Orcamentaria '!D35 -> ALVENARIA
B44: ='Planilha Orcamentaria '!A36 -> 4.1 | C44: ='Planilha Orcamentaria '!D36 -> ALVENARIA DE VEDAÇÃO COM TIJOLO CERÂMICO FURADO, ESP. 14CM, PARA REVESTIMENTO, INCLUSIVE ARGAMASSA PARA ASSENTAMENTO | D44: 229.56 | E44: 227.4 | F44: 2.16 | G44: =+F44+E44 -> 229.56 | H44: ='Planilha Orcamentaria '!E36 -> m² | I44: 54.94 | J44: =+I44*D44 -> 12612.026 | K44: =+F44*I44 -> 118.6704 | L44: =+G44*I44 -> 12612.026 | M44: =+(L44)/J44 -> 1
...
