Workbook

Sheet Analitico

Sheet Banco
B1: BANCO DE CUSTOS - REFERÊNCIA 1.10 | I1: AS = ATRIBUÍDO SÃO PAULO
B2: DATA PREÇO / RT (SINAPI): | D2: LOCALIDADE / DATA EMISSÃO (SINAPI): | I2: CR = COEFICIENTE DE REPRESENTATIVIDADE
B3: 07/2024 | D3: BELO HORIZONTE | I3: C = COLETADO
B4: 14/08/2024 | I4: ORIGEM DO PREÇO
B5: FONTE | C5: CÓDIGO | D5: DESCRIÇÃO | E5: UNIDADE | F5: CUSTO UNITÁRIO DESONERADO | G5: CUSTO UNITÁRIO NÃO DESONERADO | J5: % MO DESONERADO | K5: % MO NÃO DESONERADO
A7: =CONCATENAR -> 0 0 | B7: =OFFSET(Composições!$A$1,MATCH(COUNTIF($H$1:$H7,"Composições"),Composições!$K:$K,0)-1,COLUMN(Banco!B$6)-1) -> 0 | C7: =OFFSET(Composições!$A$1,MATCH(COUNTIF($H$1:$H7,"Composições"),Composições!$K:$K,0)-1,COLUMN(Banco!C$6)-1) -> 0 | D7: =IF(COUNTIF(OFFSET(Banco!$A$6,1,0,NCOMPOSICOES),$A7)>1,"CÓDIGO REPETIDO",OFFSET(Composições!$A$1,MATCH(COUNTIF($H$1:$H7,"Composições"),Composições!$K:$K,0)-1,COLUMN(Banco!D$6)-1)) -> CÓDIGO REPETIDO | E7: =OFFSET(Composições!$A$1,MATCH(COUNTIF($H$1:$H7,"Composições"),Composições!$K:$K,0)-1,COLUMN(Banco!E$6)-1) -> 0 | F7: =OFFSET(Composições!$A$1,MATCH(COUNTIF($H$1:$H7,"Composições"),Composições!$K:$K,0)-1,COLUMN(Banco!F$6)-1) -> 0 | G7: =OFFSET(Composições!$A$1,MATCH(COUNTIF($H$1:$H7,"Composições"),Composições!$K:$K,0)-1,COLUMN(Banco!G$6)-1) -> 0 | H7: Composições
A8: =CONCATENAR -> 0 0 | B8: =OFFSET(Composições!$A$1,MATCH(COUNTIF($H$1:$H8,"Composições"),Composições!$K:$K,0)-1,COLUMN(Banco!B$6)-1) -> 0 | C8: =OFFSET(Composições!$A$1,MATCH(COUNTIF($H$1:$H8,"Composições"),Composições!$K:$K,0)-1,COLUMN(Banco!C$6)-1) -> 0 | D8: =IF(COUNTIF(OFFSET(Banco!$A$6,1,0,NCOMPOSICOES),$A8)>1,"CÓDIGO REPETIDO",OFFSET(Composições!$A$1,MATCH(COUNTIF($H$1:$H8,"Composições"),Composições!$K:$K,0)-1,COLUMN(Banco!D$6)-1)) -> CÓDIGO REPETIDO | E8: =OFFSET(Composições!$A$1,MATCH(COUNTIF($H$1:$H8,"Composições"),Composições!$K:$K,0)-1,COLUMN(Banco!E$6)-1) -> 0 | F8: =OFFSET(Composições!$A$1,MATCH(COUNTIF($H$1:$H8,"Composições"),Composições!$K:$K,0)-1,COLUMN(Banco!F$6)-1) -> 0 | G8: =OFFSET(Composições!$A$1,MATCH(COUNTIF($H$1:$H8,"Composições"),Composições!$K:$K,0)-1,COLUMN(Banco!G$6)-1) -> 0 | H8: Composições
A9: =CONCATENAR -> 0 0 | B9: =OFFSET(Composições!$A$1,MATCH(COUNTIF($H$1:$H9,"Composições"),Composições!$K:$K,0)-1,COLUMN(Banco!B$6)-1) -> 0 | C9: =OFFSET(Composições!$A$1,MATCH(COUNTIF($H$1:$H9,"Composições"),Composições!$K:$K,0)-1,COLUMN(Banco!C$6)-1) -> 0 | D9: =IF(COUNTIF(OFFSET(Banco!$A$6,1,0,NCOMPOSICOES),$A9)>1,"CÓDIGO REPETIDO",OFFSET(Composições!$A$1,MATCH(COUNTIF($H$1:$H9,"Composições"),Composições!$K:$K,0)-1,COLUMN(Banco!D$6)-1)) -> CÓDIGO REPETIDO | E9: =OFFSET(Composições!$A$1,MATCH(COUNTIF($H$1:$H9,"Composições"),Composições!$K:$K,0)-1,COLUMN(Banco!E$6)-1) -> 0 | F9: =OFFSET(Composições!$A$1,MATCH(COUNTIF($H$1:$H9,"Composições"),Composições!$K:$K,0)-1,COLUMN(Banco!F$6)-1) -> 0 | G9: =OFFSET(Composições!$A$1,MATCH(COUNTIF($H$1:$H9,"Composições"),Composições!$K:$K,0)-1,COLUMN(Banco!G$6)-1) -> 0 | H9: Composições
A10: =CONCATENAR -> 0 0 | B10: =OFFSET(Composições!$A$1,MATCH(COUNTIF($H$1:$H10,"Composições"),Composições!$K:$K,0)-1,COLUMN(Banco!B$6)-1) -> 0 | C10: =OFFSET(Composições!$A$1,MATCH(COUNTIF($H$1:$H10,"Composições"),Composições!$K:$K,0)-1,COLUMN(Banco!C$6)-1) -> 0 | D10: =IF(COUNTIF(OFFSET(Banco!$A$6,1,0,NCOMPOSICOES),$A10)>1,"CÓDIGO REPETIDO",OFFSET(Composições!$A$1,MATCH(COUNTIF($H$1:$H10,"Composições"),Composições!$K:$K,0)-1,COLUMN(Banco!D$6)-1)) -> CÓDIGO REPETIDO | E10: =OFFSET(Composições!$A$1,MATCH(COUNTIF($H$1:$H10,"Composições"),Composições!$K:$K,0)-1,COLUMN(Banco!E$6)-1) -> 0 | F10: =OFFSET(Composições!$A$1,MATCH(COUNTIF($H$1:$H10,"Composições"),Composições!$K:$K,0)-1,COLUMN(Banco!F$6)-1) -> 0 | G10: =OFFSET(Composições!$A$1,MATCH(COUNTIF($H$1:$H10,"Composições"),Composições!$K:$K,0)-1,COLUMN(Banco!G$6)-1) -> 0 | H10: Composições
A11: =CONCATENAR -> 0 0 | B11: =OFFSET(Composições!$A$1,MATCH(COUNTIF($H$1:$H11,"Composições"),Composições!$K:$K,0)-1,COLUMN(Banco!B$6)-1) -> 0 | C11: =OFFSET(Composições!$A$1,MATCH(COUNTIF($H$1:$H11,"Composições"),Composições!$K:$K,0)-1,COLUMN(Banco!C$6)-1) -> 0 | D11: =IF(COUNTIF(OFFSET(Banco!$A$6,1,0,NCOMPOSICOES),$A11)>1,"CÓDIGO REPETIDO",OFFSET(Composições!$A$1,MATCH(COUNTIF($H$1:$H11,"Composições"),Composições!$K:$K,0)-1,COLUMN(Banco!D$6)-1)) -> CÓDIGO REPETIDO | E11: =OFFSET(Composições!$A$1,MATCH(COUNTIF($H$1:$H11,"Composições"),Composições!$K:$K,0)-1,COLUMN(Banco!E$6)-1) -> 0 | F11: =OFFSET(Composições!$A$1,MATCH(COUNTIF($H$1:$H11,"Composições"),Composições!$K:$K,0)-1,COLUMN(Banco!F$6)-1) -> 0 | G11: =OFFSET(Composições!$A$1,MATCH(COUNTIF($H$1:$H11,"Composições"),Composições!$K:$K,0)-1,COLUMN(Banco!G$6)-1) -> 0 | H11: Composições
A12: =CONCATENAR -> 0 0 | B12: =OFFSET(Composições!$A$1,MATCH(COUNTIF($H$1:$H12,"Composições"),Composições!$K:$K,0)-1,COLUMN(Banco!B$6)-1) -> 0 | C12: =OFFSET(Composições!$A$1,MATCH(COUNTIF($H$1:$H12,"Composições"),Composições!$K:$K,0)-1,COLUMN(Banco!C$6)-1) -> 0 | D12: =IF(COUNTIF(OFFSET(Banco!$A$6,1,0,NCOMPOSICOES),$A12)>1,"CÓDIGO REPETIDO",OFFSET(Composições!$A$1,MATCH(COUNTIF($H$1:$H12,"Composições"),Composições!$K:$K,0)-1,COLUMN(Banco!D$6)-1)) -> CÓDIGO REPETIDO | E12: =OFFSET(Composições!$A$1,MATCH(COUNTIF($H$1:$H12,"Composições"),Composições!$K:$K,0)-1,COLUMN(Banco!E$6)-1) -> 0 | F12: =OFFSET(Composições!$A$1,MATCH(COUNTIF($H$1:$H12,"Composições"),Composições!$K:$K,0)-1,COLUMN(Banco!F$6)-1) -> 0 | G12: =OFFSET(Composições!$A$1,MATCH(COUNTIF($H$1:$H12,"Composições"),Composições!$K:$K,0)-1,COLUMN(Banco!G$6)-1) -> 0 | H12: Composições
A13: =CONCATENAR -> 0 0 | B13: =OFFSET(Composições!$A$1,MATCH(COUNTIF($H$1:$H13,"Composições"),Composições!$K:$K,0)-1,COLUMN(Banco!B$6)-1) -> 0 | C13: =OFFSET(Composições!$A$1,MATCH(COUNTIF($H$1:$H13,"Composições"),Composições!$K:$K,0)-1,COLUMN(Banco!C$6)-1) -> 0 | D13: =IF(COUNTIF(OFFSET(Banco!$A$6,1,0,NCOMPOSICOES),$A13)>1,"CÓDIGO REPETIDO",OFFSET(Composições!$A$1,MATCH(COUNTIF($H$1:$H13,"Composições"),Composições!$K:$K,0)-1,COLUMN(Banco!D$6)-1)) -> CÓDIGO REPETIDO | E13: =OFFSET(Composições!$A$1,MATCH(COUNTIF($H$1:$H13,"Composições"),Composições!$K:$K,0)-1,COLUMN(Banco!E$6)-1) -> 0 | F13: =OFFSET(Composições!$A$1,MATCH(COUNTIF($H$1:$H13,"Composições"),Composições!$K:$K,0)-1,COLUMN(Banco!F$6)-1) -> 0 | G13: =OFFSET(Composições!$A$1,MATCH(COUNTIF($H$1:$H13,"Composições"),Composições!$K:$K,0)-1,COLUMN(Banco!G$6)-1) -> 0 | H13: Composições
A14: =CONCATENAR -> 0 0 | B14: =OFFSET(Composições!$A$1,MATCH(COUNTIF($H$1:$H14,"Composições"),Composições!$K:$K,0)-1,COLUMN(Banco!B$6)-1) -> 0 | C14: =OFFSET(Composições!$A$1,MATCH(COUNTIF($H$1:$H14,"Composições"),Composições!$K:$K,0)-1,COLUMN(Banco!C$6)-1) -> 0 | D14: =IF(COUNTIF(OFFSET(Banco!$A$6,1,0,NCOMPOSICOES),$A14)>1,"CÓDIGO REPETIDO",OFFSET(Composições!$A$1,MATCH(COUNTIF($H$1:$H14,"Composições"),Composições!$K:$K,0)-1,COLUMN(Banco!D$6)-1)) -> CÓDIGO REPETIDO | E14: =OFFSET(Composições!$A$1,MATCH(COUNTIF($H$1:$H14,"Composições"),Composições!$K:$K,0)-1,COLUMN(Banco!E$6)-1) -> 0 | F14: =OFFSET(Composições!$A$1,MATCH(COUNTIF($H$1:$H14,"Composições"),Composições!$K:$K,0)-1,COLUMN(Banco!F$6)-1) -> 0 | G14: =OFFSET(Composições!$A$1,MATCH(COUNTIF($H$1:$H14,"Composições"),Composições!$K:$K,0)-1,COLUMN(Banco!G$6)-1) -> 0 | H14: Composições
A15: =CONCATENAR -> 0 0 | B15: =OFFSET(Composições!$A$1,MATCH(COUNTIF($H$1:$H15,"Composições"),Composições!$K:$K,0)-1,COLUMN(Banco!B$6)-1) -> 0 | C15: =OFFSET(Composições!$A$1,MATCH(COUNTIF($H$1:$H15,"Composições"),Composições!$K:$K,0)-1,COLUMN(Banco!C$6)-1) -> 0 | D15: =IF(COUNTIF(OFFSET(Banco!$A$6,1,0,NCOMPOSICOES),$A15)>1,"CÓDIGO REPETIDO",OFFSET(Composições!$A$1,MATCH(COUNTIF($H$1:$H15,"Composições"),Composições!$K:$K,0)-1,COLUMN(Banco!D$6)-1)) -> CÓDIGO REPETIDO | E15: =OFFSET(Composições!$A$1,MATCH(COUNTIF($H$1:$H15,"Composições"),Composições!$K:$K,0)-1,COLUMN(Banco!E$6)-1) -> 0 | F15: =OFFSET(Composições!$A$1,MATCH(COUNTIF($H$1:$H15,"Composições"),Composições!$K:$K,0)-1,COLUMN(Banco!F$6)-1) -> 0 | G15: =OFFSET(Composições!$A$1,MATCH(COUNTIF($H$1:$H15,"Composições"),Composições!$K:$K,0)-1,COLUMN(Banco!G$6)-1) -> 0 | H15: Composições
A16: =CONCATENAR -> 0 0 | B16: =OFFSET(Composições!$A$1,MATCH(COUNTIF($H$1:$H16,"Composições"),Composições!$K:$K,0)-1,COLUMN(Banco!B$6)-1) -> 0 | C16: =OFFSET(Composições!$A$1,MATCH(COUNTIF($H$1:$H16,"Composições"),Composições!$K:$K,0)-1,COLUMN(Banco!C$6)-1) -> 0 | D16: =IF(COUNTIF(OFFSET(Banco!$A$6,1,0,NCOMPOSICOES),$A16)>1,"CÓDIGO REPETIDO",OFFSET(Composições!$A$1,MATCH(COUNTIF($H$1:$H16,"Composições"),Composições!$K:$K,0)-1,COLUMN(Banco!D$6)-1)) -> CÓDIGO REPETIDO | E16: =OFFSET(Composições!$A$1,MATCH(COUNTIF($H$1:$H16,"Composições"),Composições!$K:$K,0)-1,COLUMN(Banco!E$6)-1) -> 0 | F16: =OFFSET(Composições!$A$1,MATCH(COUNTIF($H$1:$H16,"Composições"),Composições!$K:$K,0)-1,COLUMN(Banco!F$6)-1) -> 0 | G16: =OFFSET(Composições!$A$1,MATCH(COUNTIF($H$1:$H16,"Composições"),Composições!$K:$K,0)-1,COLUMN(Banco!G$6)-1) -> 0 | H16: Composições
A17: =CONCATENAR -> 0 0 | B17: =OFFSET(Composições!$A$1,MATCH(COUNTIF($H$1:$H17,"Composições"),Composições!$K:$K,0)-1,COLUMN(Banco!B$6)-1) -> 0 | C17: =OFFSET(Composições!$A$1,MATCH(COUNTIF($H$1:$H17,"Composições"),Composições!$K:$K,0)-1,COLUMN(Banco!C$6)-1) -> 0 | D17: =IF(COUNTIF(OFFSET(Banco!$A$6,1,0,NCOMPOSICOES),$A17)>1,"CÓDIGO REPETIDO",OFFSET(Composições!$A$1,MATCH(COUNTIF($H$1:$H17,"Composições"),Composições!$K:$K,0)-1,COLUMN(Banco!D$6)-1)) -> CÓDIGO REPETIDO | E17: =OFFSET(Composições!$A$1,MATCH(COUNTIF($H$1:$H17,"Composições"),Composições!$K:$K,0)-1,COLUMN(Banco!E$6)-1) -> 0 | F17: =OFFSET(Composições!$A$1,MATCH(COUNTIF($H$1:$H17,"Composições"),Composições!$K:$K,0)-1,COLUMN(Banco!F$6)-1) -> 0 | G17: =OFFSET(Composições!$A$1,MATCH(COUNTIF($H$1:$H17,"Composições"),Composições!$K:$K,0)-1,COLUMN(Banco!G$6)-1) -> 0 | H17: Composições
A18: =CONCATENAR -> 0 0 | B18: =OFFSET(Composições!$A$1,MATCH(COUNTIF($H$1:$H18,"Composições"),Composições!$K:$K,0)-1,COLUMN(Banco!B$6)-1) -> 0 | C18: =OFFSET(Composições!$A$1,MATCH(COUNTIF($H$1:$H18,"Composições"),Composições!$K:$K,0)-1,COLUMN(Banco!C$6)-1) -> 0 | D18: =IF(COUNTIF(OFFSET(Banco!$A$6,1,0,NCOMPOSICOES),$A18)>1,"CÓDIGO REPETIDO",OFFSET(Composições!$A$1,MATCH(COUNTIF($H$1:$H18,"Composições"),Composições!$K:$K,0)-1,COLUMN(Banco!D$6)-1)) -> CÓDIGO REPETIDO | E18: =OFFSET(Composições!$A$1,MATCH(COUNTIF($H$1:$H18,"Composições"),Composições!$K:$K,0)-1,COLUMN(Banco!E$6)-1) -> 0 | F18: =OFFSET(Composições!$A$1,MATCH(COUNTIF($H$1:$H18,"Composições"),Composições!$K:$K,0)-1,COLUMN(Banco!F$6)-1) -> 0 | G18: =OFFSET(Composições!$A$1,MATCH(COUNTIF($H$1:$H18,"Composições"),Composições!$K:$K,0)-1,COLUMN(Banco!G$6)-1) -> 0 | H18: Composições
... A21: =CONCATENAR -> 0 0 | B21: =OFFSET(Composições!$A$1,MATCH(COUNTIF($H$1:$H21,"Composições"),Composições!$K:$K,0)-1,COLUMN(Banco!B$6)-1) -> 0 | C21: =OFFSET(Composições!$A$1,MATCH(COUNTIF($H$1:$H21,"Composições"),Composições!$K:$K,0)-1,COLUMN(Banco!C$6)-1) -> 0 | D21: =IF(COUNTIF(OFFSET(Banco!$A$6,1,0,NCOMPOSICOES),$A21)>1,"CÓDIGO REPETIDO",OFFSET(Composições!$A$1,MATCH(COUNTIF($H$1:$H21,"Composições"),Composições!$K:$K,0)-1,COLUMN(Banco!D$6)-1)) -> CÓDIGO REPETIDO | E21: =OFFSET(Composições!$A$1,MATCH(COUNTIF($H$1:$H21,"Composições"),Composições!$K:$K,0)-1,COLUMN(Banco!E$6)-1) -> 0 | F21: =OFFSET(Composições!$A$1,MATCH(COUNTIF($H$1:$H21,"Composições"),Composições!$K:$K,0)-1,COLUMN(Banco!F$6)-1) -> 0 | G21: =OFFSET(Composições!$A$1,MATCH(COUNTIF($H$1:$H21,"Composições"),Composições!$K:$K,0)-1,COLUMN(Banco!G$6)-1) -> 0 | H21: Composições
A22: =CONCATENAR -> COTAÇÃO 0 | B22: =OFFSET(Cotações!$A$1,MATCH(COUNTIF($H$1:$H22,"Cotações"),Cotações!$J:$J,0)-1,COLUMN(Banco!B$6)-1) -> COTAÇÃO | C22: =OFFSET(Cotações!$A$1,MATCH(COUNTIF($H$1:$H22,"Cotações"),Cotações!$J:$J,0)-1,COLUMN(Banco!C$6)-1) -> 0 | D22: =IF(COUNTIF(OFFSET(Banco!$A$6,1+NCOMPOSICOES,0,NCOTACOES),$A22)>1,"CÓDIGO REPETIDO",OFFSET(Cotações!$A$1,MATCH(COUNTIF($H$1:$H22,"Cotações"),Cotações!$J:$J,0)-1,COLUMN(Banco!D$6)-1)) -> CÓDIGO REPETIDO | E22: =OFFSET(Cotações!$A$1,MATCH(COUNTIF($H$1:$H22,"Cotações"),Cotações!$J:$J,0)-1,COLUMN(Banco!E$6)-1) -> 0 | F22: =OFFSET(Cotações!$A$1,MATCH(COUNTIF($H$1:$H22,"Cotações"),Cotações!$J:$J,0)-1,COLUMN(Banco!F$6)-1) -> #NUM! | G22: =OFFSET(Cotações!$A$1,MATCH(COUNTIF($H$1:$H22,"Cotações"),Cotações!$J:$J,0)-1,COLUMN(Banco!F$6)-1) -> #NUM! | H22: Cotações
A23: =CONCATENAR -> COTAÇÃO 0 | B23: =OFFSET(Cotações!$A$1,MATCH(COUNTIF($H$1:$H23,"Cotações"),Cotações!$J:$J,0)-1,COLUMN(Banco!B$6)-1) -> COTAÇÃO | C23: =OFFSET(Cotações!$A$1,MATCH(COUNTIF($H$1:$H23,"Cotações"),Cotações!$J:$J,0)-1,COLUMN(Banco!C$6)-1) -> 0 | D23: =IF(COUNTIF(OFFSET(Banco!$A$6,1+NCOMPOSICOES,0,NCOTACOES),$A23)>1,"CÓDIGO REPETIDO",OFFSET(Cotações!$A$1,MATCH(COUNTIF($H$1:$H23,"Cotações"),Cotações!$J:$J,0)-1,COLUMN(Banco!D$6)-1)) -> CÓDIGO REPETIDO | E23: =OFFSET(Cotações!$A$1,MATCH(COUNTIF($H$1:$H23,"Cotações"),Cotações!$J:$J,0)-1,COLUMN(Banco!E$6)-1) -> 0 | F23: =OFFSET(Cotações!$A$1,MATCH(COUNTIF($H$1:$H23,"Cotações"),Cotações!$J:$J,0)-1,COLUMN(Banco!F$6)-1) -> #NUM! | G23: =OFFSET(Cotações!$A$1,MATCH(COUNTIF($H$1:$H23,"Cotações"),Cotações!$J:$J,0)-1,COLUMN(Banco!F$6)-1) -> #NUM! | H23: Cotações
A24: =CONCATENAR -> COTAÇÃO 0 | B24: =OFFSET(Cotações!$A$1,MATCH(COUNTIF($H$1:$H24,"Cotações"),Cotações!$J:$J,0)-1,COLUMN(Banco!B$6)-1) -> COTAÇÃO | C24: =OFFSET(Cotações!$A$1,MATCH(COUNTIF($H$1:$H24,"Cotações"),Cotações!$J:$J,0)-1,COLUMN(Banco!C$6)-1) -> 0 | D24: =IF(COUNTIF(OFFSET(Banco!$A$6,1+NCOMPOSICOES,0,NCOTACOES),$A24)>1,"CÓDIGO REPETIDO",OFFSET(Cotações!$A$1,MATCH(COUNTIF($H$1:$H24,"Cotações"),Cotações!$J:$J,0)-1,COLUMN(Banco!D$6)-1)) -> CÓDIGO REPETIDO | E24: =OFFSET(Cotações!$A$1,MATCH(COUNTIF($H$1:$H24,"Cotações"),Cotações!$J:$J,0)-1,COLUMN(Banco!E$6)-1) -> 0 | F24: =OFFSET(Cotações!$A$1,MATCH(COUNTIF($H$1:$H24,"Cotações"),Cotações!$J:$J,0)-1,COLUMN(Banco!F$6)-1) -> #NUM! | G24: =OFFSET(Cotações!$A$1,MATCH(COUNTIF($H$1:$H24,"Cotações"),Cotações!$J:$J,0)-1,COLUMN(Banco!F$6)-1) -> #NUM! | H24: Cotações
A25: =CONCATENAR -> COTAÇÃO 0 | B25: =OFFSET(Cotações!$A$1,MATCH(COUNTIF($H$1:$H25,"Cotações"),Cotações!$J:$J,0)-1,COLUMN(Banco!B$6)-1) -> COTAÇÃO | C25: =OFFSET(Cotações!$A$1,MATCH(COUNTIF($H$1:$H25,"Cotações"),Cotações!$J:$J,0)-1,COLUMN(Banco!C$6)-1) -> 0 | D25: =IF(COUNTIF(OFFSET(Banco!$A$6,1+NCOMPOSICOES,0,NCOTACOES),$A25)>1,"CÓDIGO REPETIDO",OFFSET(Cotações!$A$1,MATCH(COUNTIF($H$1:$H25,"Cotações"),Cotações!$J:$J,0)-1,COLUMN(Banco!D$6)-1)) -> CÓDIGO REPETIDO | E25: =OFFSET(Cotações!$A$1,MATCH(COUNTIF($H$1:$H25,"Cotações"),Cotações!$J:$J,0)-1,COLUMN(Banco!E$6)-1) -> 0 | F25: =OFFSET(Cotações!$A$1,MATCH(COUNTIF($H$1:$H25,"Cotações"),Cotações!$J:$J,0)-1,COLUMN(Banco!F$6)-1) -> #NUM! | G25: =OFFSET(Cotações!$A$1,MATCH(COUNTIF($H$1:$H25,"Cotações"),Cotações!$J:$J,0)-1,COLUMN(Banco!F$6)-1) -> #NUM! | H25: Cotações
A26: =CONCATENAR -> COTAÇÃO 0 | B26: =OFFSET(Cotações!$A$1,MATCH(COUNTIF($H$1:$H26,"Cotações"),Cotações!$J:$J,0)-1,COLUMN(Banco!B$6)-1) -> COTAÇÃO | C26: =OFFSET(Cotações!$A$1,MATCH(COUNTIF($H$1:$H26,"Cotações"),Cotações!$J:$J,0)-1,COLUMN(Banco!C$6)-1) -> 0 | D26: =IF(COUNTIF(OFFSET(Banco!$A$6,1+NCOMPOSICOES,0,NCOTACOES),$A26)>1,"CÓDIGO REPETIDO",OFFSET(Cotações!$A$1,MATCH(COUNTIF($H$1:$H26,"Cotações"),Cotações!$J:$J,0)-1,COLUMN(Banco!D$6)-1)) -> CÓDIGO REPETIDO | E26: =OFFSET(Cotações!$A$1,MATCH(COUNTIF($H$1:$H26,"Cotações"),Cotações!$J:$J,0)-1,COLUMN(Banco!E$6)-1) -> 0 | F26: =OFFSET(Cotações!$A$1,MATCH(COUNTIF($H$1:$H26,"Cotações"),Cotações!$J:$J,0)-1,COLUMN(Banco!F$6)-1) -> #NUM! | G26: =OFFSET(Cotações!$A$1,MATCH(COUNTIF($H$1:$H26,"Cotações"),Cotações!$J:$J,0)-1,COLUMN(Banco!F$6)-1) -> #NUM! | H26: Cotações
A27: =CONCATENAR -> COTAÇÃO 0 | B27: =OFFSET(Cotações!$A$1,MATCH(COUNTIF($H$1:$H27,"Cotações"),Cotações!$J:$J,0)-1,COLUMN(Banco!B$6)-1) -> COTAÇÃO | C27: =OFFSET(Cotações!$A$1,MATCH(COUNTIF($H$1:$H27,"Cotações"),Cotações!$J:$J,0)-1,COLUMN(Banco!C$6)-1) -> 0 | D27: =IF(COUNTIF(OFFSET(Banco!$A$6,1+NCOMPOSICOES,0,NCOTACOES),$A27)>1,"CÓDIGO REPETIDO",OFFSET(Cotações!$A$1,MATCH(COUNTIF($H$1:$H27,"Cotações"),Cotações!$J:$J,0)-1,COLUMN(Banco!D$6)-1)) -> CÓDIGO REPETIDO | E27: =OFFSET(Cotações!$A$1,MATCH(COUNTIF($H$1:$H27,"Cotações"),Cotações!$J:$J,0)-1,COLUMN(Banco!E$6)-1) -> 0 | F27: =OFFSET(Cotações!$A$1,MATCH(COUNTIF($H$1:$H27,"Cotações"),Cotações!$J:$J,0)-1,COLUMN(Banco!F$6)-1) -> #NUM! | G27: =OFFSET(Cotações!$A$1,MATCH(COUNTIF($H$1:$H27,"Cotações"),Cotações!$J:$J,0)-1,COLUMN(Banco!F$6)-1) -> #NUM! | H27: Cotações
A28: =CONCATENAR -> COTAÇÃO 0 | B28: =OFFSET(Cotações!$A$1,MATCH(COUNTIF($H$1:$H28,"Cotações"),Cotações!$J:$J,0)-1,COLUMN(Banco!B$6)-1) -> COTAÇÃO | C28: =OFFSET(Cotações!$A$1,MATCH(COUNTIF($H$1:$H28,"Cotações"),Cotações!$J:$J,0)-1,COLUMN(Banco!C$6)-1) -> 0 | D28: =IF(COUNTIF(OFFSET(Banco!$A$6,1+NCOMPOSICOES,0,NCOTACOES),$A28)>1,"CÓDIGO REPETIDO",OFFSET(Cotações!$A$1,MATCH(COUNTIF($H$1:$H28,"Cotações"),Cotações!$J:$J,0)-1,COLUMN(Banco!D$6)-1)) -> CÓDIGO REPETIDO | E28: =OFFSET(Cotações!$A$1,MATCH(COUNTIF($H$1:$H28,"Cotações"),Cotações!$J:$J,0)-1,COLUMN(Banco!E$6)-1) -> 0 | F28: =OFFSET(Cotações!$A$1,MATCH(COUNTIF($H$1:$H28,"Cotações"),Cotações!$J:$J,0)-1,COLUMN(Banco!F$6)-1) -> #NUM! | G28: =OFFSET(Cotações!$A$1,MATCH(COUNTIF($H$1:$H28,"Cotações"),Cotações!$J:$J,0)-1,COLUMN(Banco!F$6)-1) -> #NUM! | H28: Cotações
A29: =CONCATENAR -> COTAÇÃO 0 | B29: =OFFSET(Cotações!$A$1,MATCH(COUNTIF($H$1:$H29,"Cotações"),Cotações!$J:$J,0)-1,COLUMN(Banco!B$6)-1) -> COTAÇÃO | C29: =OFFSET(Cotações!$A$1,MATCH(COUNTIF($H$1:$H29,"Cotações"),Cotações!$J:$J,0)-1,COLUMN(Banco!C$6)-1) -> 0 | D29: =IF(COUNTIF(OFFSET(Banco!$A$6,1+NCOMPOSICOES,0,NCOTACOES),$A29)>1,"CÓDIGO REPETIDO",OFFSET(Cotações!$A$1,MATCH(COUNTIF($H$1:$H29,"Cotações"),Cotações!$J:$J,0)-1,COLUMN(Banco!D$6)-1)) -> CÓDIGO REPETIDO | E29: =OFFSET(Cotações!$A$1,MATCH(COUNTIF($H$1:$H29,"Cotações"),Cotações!$J:$J,0)-1,COLUMN(Banco!E$6)-1) -> 0 | F29: =OFFSET(Cotações!$A$1,MATCH(COUNTIF($H$1:$H29,"Cotações"),Cotações!$J:$J,0)-1,COLUMN(Banco!F$6)-1) -> #NUM! | G29: =OFFSET(Cotações!$A$1,MATCH(COUNTIF($H$1:$H29,"Cotações"),Cotações!$J:$J,0)-1,COLUMN(Banco!F$6)-1) -> #NUM! | H29: Cotações
A30: =CONCATENAR -> COTAÇÃO 0 | B30: =OFFSET(Cotações!$A$1,MATCH(COUNTIF($H$1:$H30,"Cotações"),Cotações!$J:$J,0)-1,COLUMN(Banco!B$6)-1) -> COTAÇÃO | C30: =OFFSET(Cotações!$A$1,MATCH(COUNTIF($H$1:$H30,"Cotações"),Cotações!$J:$J,0)-1,COLUMN(Banco!C$6)-1) -> 0 | D30: =IF(COUNTIF(OFFSET(Banco!$A$6,1+NCOMPOSICOES,0,NCOTACOES),$A30)>1,"CÓDIGO REPETIDO",OFFSET(Cotações!$A$1,MATCH(COUNTIF($H$1:$H30,"Cotações"),Cotações!$J:$J,0)-1,COLUMN(Banco!D$6)-1)) -> CÓDIGO REPETIDO | E30: =OFFSET(Cotações!$A$1,MATCH(COUNTIF($H$1:$H30,"Cotações"),Cotações!$J:$J,0)-1,COLUMN(Banco!E$6)-1) -> 0 | F30: =OFFSET(Cotações!$A$1,MATCH(COUNTIF($H$1:$H30,"Cotações"),Cotações!$J:$J,0)-1,COLUMN(Banco!F$6)-1) -> #NUM! | G30: =OFFSET(Cotações!$A$1,MATCH(COUNTIF($H$1:$H30,"Cotações"),Cotações!$J:$J,0)-1,COLUMN(Banco!F$6)-1) -> #NUM! | H30: Cotações
A31: =CONCATENAR -> COTAÇÃO 0 | B31: =OFFSET(Cotações!$A$1,MATCH(COUNTIF($H$1:$H31,"Cotações"),Cotações!$J:$J,0)-1,COLUMN(Banco!B$6)-1) -> COTAÇÃO | C31: =OFFSET(Cotações!$A$1,MATCH(COUNTIF($H$1:$H31,"Cotações"),Cotações!$J:$J,0)-1,COLUMN(Banco!C$6)-1) -> 0 | D31: =IF(COUNTIF(OFFSET(Banco!$A$6,1+NCOMPOSICOES,0,NCOTACOES),$A31)>1,"CÓDIGO REPETIDO",OFFSET(Cotações!$A$1,MATCH(COUNTIF($H$1:$H31,"Cotações"),Cotações!$J:$J,0)-1,COLUMN(Banco!D$6)-1)) -> CÓDIGO REPETIDO | E31: =OFFSET(Cotações!$A$1,MATCH(COUNTIF($H$1:$H31,"Cotações"),Cotações!$J:$J,0)-1,COLUMN(Banco!E$6)-1) -> 0 | F31: =OFFSET(Cotações!$A$1,MATCH(COUNTIF($H$1:$H31,"Cotações"),Cotações!$J:$J,0)-1,COLUMN(Banco!F$6)-1) -> #NUM! | G31: =OFFSET(Cotações!$A$1,MATCH(COUNTIF($H$1:$H31,"Cotações"),Cotações!$J:$J,0)-1,COLUMN(Banco!F$6)-1) -> #NUM! | H31: Cotações
A32: =CONCATENAR -> COTAÇÃO 0 | B32: =OFFSET(Cotações!$A$1,MATCH(COUNTIF($H$1:$H32,"Cotações"),Cotações!$J:$J,0)-1,COLUMN(Banco!B$6)-1) -> COTAÇÃO | C32: =OFFSET(Cotações!$A$1,MATCH(COUNTIF($H$1:$H32,"Cotações"),Cotações!$J:$J,0)-1,COLUMN(Banco!C$6)-1) -> 0 | D32: =IF(COUNTIF(OFFSET(Banco!$A$6,1+NCOMPOSICOES,0,NCOTACOES),$A32)>1,"CÓDIGO REPETIDO",OFFSET(Cotações!$A$1,MATCH(COUNTIF($H$1:$H32,"Cotações"),Cotações!$J:$J,0)-1,COLUMN(Banco!D$6)-1)) -> CÓDIGO REPETIDO | E32: =OFFSET(Cotações!$A$1,MATCH(COUNTIF($H$1:$H32,"Cotações"),Cotações!$J:$J,0)-1,COLUMN(Banco!E$6)-1) -> 0 | F32: =OFFSET(Cotações!$A$1,MATCH(COUNTIF($H$1:$H32,"Cotações"),Cotações!$J:$J,0)-1,COLUMN(Banco!F$6)-1) -> #NUM! | G32: =OFFSET(Cotações!$A$1,MATCH(COUNTIF($H$1:$H32,"Cotações"),Cotações!$J:$J,0)-1,COLUMN(Banco!F$6)-1) -> #NUM! | H32: Cotações
A33: =CONCATENAR -> COTAÇÃO 0 | B33: =OFFSET(Cotações!$A$1,MATCH(COUNTIF($H$1:$H33,"Cotações"),Cotações!$J:$J,0)-1,COLUMN(Banco!B$6)-1) -> COTAÇÃO | C33: =OFFSET(Cotações!$A$1,MATCH(COUNTIF($H$1:$H33,"Cotações"),Cotações!$J:$J,0)-1,COLUMN(Banco!C$6)-1) -> 0 | D33: =IF(COUNTIF(OFFSET(Banco!$A$6,1+NCOMPOSICOES,0,NCOTACOES),$A33)>1,"CÓDIGO REPETIDO",OFFSET(Cotações!$A$1,MATCH(COUNTIF($H$1:$H33,"Cotações"),Cotações!$J:$J,0)-1,COLUMN(Banco!D$6)-1)) -> CÓDIGO REPETIDO | E33: =OFFSET(Cotações!$A$1,MATCH(COUNTIF($H$1:$H33,"Cotações"),Cotações!$J:$J,0)-1,COLUMN(Banco!E$6)-1) -> 0 | F33: =OFFSET(Cotações!$A$1,MATCH(COUNTIF($H$1:$H33,"Cotações"),Cotações!$J:$J,0)-1,COLUMN(Banco!F$6)-1) -> #NUM! | G33: =OFFSET(Cotações!$A$1,MATCH(COUNTIF($H$1:$H33,"Cotações"),Cotações!$J:$J,0)-1,COLUMN(Banco!F$6)-1) -> #NUM! | H33: Cotações
A34: =CONCATENAR -> COTAÇÃO 0 | B34: =OFFSET(Cotações!$A$1,MATCH(COUNTIF($H$1:$H34,"Cotações"),Cotações!$J:$J,0)-1,COLUMN(Banco!B$6)-1) -> COTAÇÃO | C34: =OFFSET(Cotações!$A$1,MATCH(COUNTIF($H$1:$H34,"Cotações"),Cotações!$J:$J,0)-1,COLUMN(Banco!C$6)-1) -> 0 | D34: =IF(COUNTIF(OFFSET(Banco!$A$6,1+NCOMPOSICOES,0,NCOTACOES),$A34)>1,"CÓDIGO REPETIDO",OFFSET(Cotações!$A$1,MATCH(COUNTIF($H$1:$H34,"Cotações"),Cotações!$J:$J,0)-1,COLUMN(Banco!D$6)-1)) -> CÓDIGO REPETIDO | E34: =OFFSET(Cotações!$A$1,MATCH(COUNTIF($H$1:$H34,"Cotações"),Cotações!$J:$J,0)-1,COLUMN(Banco!E$6)-1) -> 0 | F34: =OFFSET(Cotações!$A$1,MATCH(COUNTIF($H$1:$H34,"Cotações"),Cotações!$J:$J,0)-1,COLUMN(Banco!F$6)-1) -> #NUM! | G34: =OFFSET(Cotações!$A$1,MATCH(COUNTIF($H$1:$H34,"Cotações"),Cotações!$J:$J,0)-1,COLUMN(Banco!F$6)-1) -> #NUM! | H34: Cotações
A35: =CONCATENAR -> SINAPI-I 38605 | B35: SINAPI-I | C35: 38605 | D35: ABERTURA PARA ENCAIXE DE CUBA OU LAVATORIO EM BANCADA DE MARMORE/ GRANITO OU OUTRO TIPO DE PEDRA NATURAL | E35: UN | F35: 115,31 | G35: 115,31 | H35: SINAPI-I - | I35: CR
A36: =CONCATENAR -> SINAPI-I 11270 | B36: SINAPI-I | C36: 11270 | D36: ABRACADEIRA DE LATAO PARA FIXACAO DE CABO PARA-RAIO, DIMENSOES 32 X 24 X 24 MM | E36: UN | F36: 3,54 | G36: 3,54 | I36: CR
A37: =CONCATENAR -> SINAPI-I 412 | B37: SINAPI-I | C37: 412 | D37: ABRACADEIRA DE NYLON PARA AMARRACAO DE CABOS, COMPRIMENTO DE *230* X *7,6* MM | E37: UN | F37: 0,97 | G37: 0,97 | I37: CR
A38: =CONCATENAR -> SINAPI-I 414 | B38: SINAPI-I | C38: 414 | D38: ABRACADEIRA DE NYLON PARA AMARRACAO DE CABOS, COMPRIMENTO DE 100 X 2,5 MM | E38: UN | F38: 0,06 | G38: 0,06 | I38: CR
A39: =CONCATENAR -> SINAPI-I 410 | B39: SINAPI-I | C39: 410 | D39: ABRACADEIRA DE NYLON PARA AMARRACAO DE CABOS, COMPRIMENTO DE 150 X *3,6* MM | E39: UN | F39: 0,15 | G39: 0,15 | I39: CR
A40: =CONCATENAR -> SINAPI-I 411 | B40: SINAPI-I | C40: 411 | D40: ABRACADEIRA DE NYLON PARA AMARRACAO DE CABOS, COMPRIMENTO DE 200 X *4,6* MM | E40: UN | F40: 0,19 | G40: 0,19 | I40: C
A41: =CONCATENAR -> SINAPI-I 408 | B41: SINAPI-I | C41: 408 | D41: ABRACADEIRA DE NYLON PARA AMARRACAO DE CABOS, COMPRIMENTO DE 390 X *4,6* MM | E41: UN | F41: 0,94 | G41: 0,94 | I41: CR
A42: =CONCATENAR -> SINAPI-I 39131 | B42: SINAPI-I | C42: 39131 | D42: ABRACADEIRA EM ACO PARA AMARRACAO DE ELETRODUTOS, TIPO D, COM 1 1/2" E CUNHA DE FIXACAO | E42: UN | F42: 3,16 | G42: 3,16 | I42: CR
A43: =CONCATENAR -> SINAPI-I 394 | B43: SINAPI-I | C43: 394 | D43: ABRACADEIRA EM ACO PARA AMARRACAO DE ELETRODUTOS, TIPO D, COM 1 1/2" E PARAFUSO DE FIXACAO | E43: UN | F43: 3,20 | G43: 3,20 | I43: CR
...

Sheet Planilha1
A1: 23.56
A2: 28.36

Sheet Composições
B1: COMPOSIÇÕES
I4: CUSTO UNIT | J4: CUSTO UNIT
B5: =OFFSET(Composições!$A$1,MATCH(COUNTIF($H$1:$H5,"Composições"),Composições!$K:$K,0)-1,COLUMN(Banco!B$6)-1) -> 0 | C5: =OFFSET(Composições!$A$1,MATCH(COUNTIF($H$1:$H5,"Composições"),Composições!$K:$K,0)-1,COLUMN(Banco!C$6)-1) -> 0 | D5: =IF(COUNTIF(OFFSET(Banco!$A$6,1,0,NCOMPOSICOES),$A5)>1,"CÓDIGO REPETIDO",OFFSET(Composições!$A$1,MATCH(COUNTIF($H$1:$H5,"Composições"),Composições!$K:$K,0)-1,COLUMN(Banco!D$6)-1)) -> 0 | E5: =OFFSET(Composições!$A$1,MATCH(COUNTIF($H$1:$H5,"Composições"),Composições!$K:$K,0)-1,COLUMN(Banco!E$6)-1) -> 0 | F5: =OFFSET(Composições!$A$1,MATCH(COUNTIF($H$1:$H5,"Composições"),Composições!$K:$K,0)-1,COLUMN(Banco!F$6)-1) -> 0 | G5: =OFFSET(Composições!$A$1,MATCH(COUNTIF($H$1:$H5,"Composições"),Composições!$K:$K,0)-1,COLUMN(Banco!G$6)-1) -> 0 | H5: Composições
A7: =CONCATENAR | F7: =IF($L7>0,SUM(OFFSET(F7,1,0,$L7),0)) -> 0 | G7: =IF($L7>0,SUM(OFFSET(G7,1,0,$L7),0)) -> 0 | I7: =IF(ISERROR(F7),0,F7) -> 0 | J7: =IF(ISERROR(G7),0,G7) -> 0 | K7: =COUNTA($A$1:$A7)-1 -> 0 | L7: =IF(MAX(K:K)=K7,MATCH(9999999,$K:$K)+1,MATCH(K7+1,K:K,0))-ROW(L7)-2 -> 2 | M7: =IF(AND(OR(I7<>0,J7<>0),N7="Sim"),"F","") | N7: Sim
D8: =IF(ISNUMBER($L8),OFFSET(Banco!$A$1,Composições!$L8-1,COLUMN(Composições!D8)-1),"") | E8: =IF(ISNUMBER($L8),OFFSET(Banco!$A$1,Composições!$L8-1,COLUMN(Composições!E8)-1),"") | F8: =TRUNC($H8*ROUND(I8,2),2) -> 0 | G8: =TRUNC($H8*ROUND(J8,2),2) -> 0 | I8: =IF(ISNUMBER($L8),VALUE(OFFSET(Banco!$A$1,Composições!$L8-1,COLUMN(Composições!I8)-4)),0) -> 0 | J8: =IF(ISNUMBER($L8),VALUE(OFFSET(Banco!$A$1,Composições!$L8-1,COLUMN(Composições!J8)-4)),0) -> 0 | K8: =COUNTA($A$1:$A8)-1 -> 0 | L8: =MATCH(Composições!CONCATENAR,Banco!$A:$A,0) -> #N/A | M8: =IF(OR(ISERROR(L8),H8="",H8=0),"",OFFSET($M$1,MATCH(K8,$K$1:$K8,0)-1,0))
K9: =COUNTA($A$1:$A9)-1 -> 0 | M9: =IF(OFFSET($M$1,MATCH(OFFSET(K9,-1,0),$K$1:$K9,0)-1,0)="F","F","")
B10: FONTE | C10: CÓDIGO | D10: DESCRIÇÃO | E10: UNIDADE | H10: COEFIC. | I10: DESONERADO | J10: NÃO DESONER. | M10: FILTRO | N10: IMPRIMIR
A11: =CONCATENAR | F11: =IF($L11>0,SUM(OFFSET(F11,1,0,$L11),0)) -> 0 | G11: =IF($L11>0,SUM(OFFSET(G11,1,0,$L11),0)) -> 0 | I11: =IF(ISERROR(F11),0,F11) -> 0 | J11: =IF(ISERROR(G11),0,G11) -> 0 | K11: =COUNTA($A$1:$A11)-1 -> 1 | L11: =IF(MAX(K:K)=K11,MATCH(9999999,$K:$K)+1,MATCH(K11+1,K:K,0))-ROW(L11)-2 -> 10 | M11: =IF(AND(OR(I11<>0,J11<>0),N11="Sim"),"F","") | N11: Sim
D12: =IF(ISNUMBER($L12),OFFSET(Banco!$A$1,Composições!$L12-1,COLUMN(Composições!D12)-1),"") | E12: =IF(ISNUMBER($L12),OFFSET(Banco!$A$1,Composições!$L12-1,COLUMN(Composições!E12)-1),"") | F12: =TRUNC($H12*ROUND(I12,2),2) -> 0 | G12: =TRUNC($H12*ROUND(J12,2),2) -> 0 | I12: =IF(ISNUMBER($L12),VALUE(OFFSET(Banco!$A$1,Composições!$L12-1,COLUMN(Composições!I12)-4)),0) -> 0 | J12: =IF(ISNUMBER($L12),VALUE(OFFSET(Banco!$A$1,Composições!$L12-1,COLUMN(Composições!J12)-4)),0) -> 0 | K12: =COUNTA($A$1:$A12)-1 -> 1 | L12: =MATCH(Composições!CONCATENAR,Banco!$A:$A,0) -> #N/A | M12: =IF(OR(ISERROR($L12),$H12="",$H12=0),"",OFFSET(M$1,MATCH($K12,$K$1:$K12,0)-1,0))
D13: =IF(ISNUMBER($L13),OFFSET(Banco!$A$1,Composições!$L13-1,COLUMN(Composições!D13)-1),"") | E13: =IF(ISNUMBER($L13),OFFSET(Banco!$A$1,Composições!$L13-1,COLUMN(Composições!E13)-1),"") | F13: =TRUNC($H13*ROUND(I13,2),2) -> 0 | G13: =TRUNC($H13*ROUND(J13,2),2) -> 0 | I13: =IF(ISNUMBER($L13),VALUE(OFFSET(Banco!$A$1,Composições!$L13-1,COLUMN(Composições!I13)-4)),0) -> 0 | J13: =IF(ISNUMBER($L13),VALUE(OFFSET(Banco!$A$1,Composições!$L13-1,COLUMN(Composições!J13)-4)),0) -> 0 | K13: =COUNTA($A$1:$A13)-1 -> 1 | L13: =MATCH(Composições!CONCATENAR,Banco!$A:$A,0) -> #N/A | M13: =IF(OR(ISERROR($L13),$H13="",$H13=0),"",OFFSET(M$1,MATCH($K13,$K$1:$K13,0)-1,0))
D14: =IF(ISNUMBER($L14),OFFSET(Banco!$A$1,Composições!$L14-1,COLUMN(Composições!D14)-1),"") | E14: =IF(ISNUMBER($L14),OFFSET(Banco!$A$1,Composições!$L14-1,COLUMN(Composições!E14)-1),"") | F14: =TRUNC($H14*ROUND(I14,2),2) -> 0 | G14: =TRUNC($H14*ROUND(J14,2),2) -> 0 | I14: =IF(ISNUMBER($L14),VALUE(OFFSET(Banco!$A$1,Composições!$L14-1,COLUMN(Composições!I14)-4)),0) -> 0 | J14: =IF(ISNUMBER($L14),VALUE(OFFSET(Banco!$A$1,Composições!$L14-1,COLUMN(Composições!J14)-4)),0) -> 0 | K14: =COUNTA($A$1:$A14)-1 -> 1 | L14: =MATCH(Composições!CONCATENAR,Banco!$A:$A,0) -> #N/A | M14: =IF(OR(ISERROR($L14),$H14="",$H14=0),"",OFFSET(M$1,MATCH($K14,$K$1:$K14,0)-1,0))
D15: =IF(ISNUMBER($L15),OFFSET(Banco!$A$1,Composições!$L15-1,COLUMN(Composições!D15)-1),"") | E15: =IF(ISNUMBER($L15),OFFSET(Banco!$A$1,Composições!$L15-1,COLUMN(Composições!E15)-1),"") | F15: =TRUNC($H15*ROUND(I15,2),2) -> 0 | G15: =TRUNC($H15*ROUND(J15,2),2) -> 0 | I15: =IF(ISNUMBER($L15),VALUE(OFFSET(Banco!$A$1,Composições!$L15-1,COLUMN(Composições!I15)-4)),0) -> 0 | J15: =IF(ISNUMBER($L15),VALUE(OFFSET(Banco!$A$1,Composições!$L15-1,COLUMN(Composições!J15)-4)),0) -> 0 | K15: =COUNTA($A$1:$A15)-1 -> 1 | L15: =MATCH(Composições!CONCATENAR,Banco!$A:$A,0) -> #N/A | M15: =IF(OR(ISERROR($L15),$H15="",$H15=0),"",OFFSET(M$1,MATCH($K15,$K$1:$K15,0)-1,0))
D16: =IF(ISNUMBER($L16),OFFSET(Banco!$A$1,Composições!$L16-1,COLUMN(Composições!D16)-1),"") | E16: =IF(ISNUMBER($L16),OFFSET(Banco!$A$1,Composições!$L16-1,COLUMN(Composições!E16)-1),"") | F16: =TRUNC($H16*ROUND(I16,2),2) -> 0 | G16: =TRUNC($H16*ROUND(J16,2),2) -> 0 | I16: =IF(ISNUMBER($L16),VALUE(OFFSET(Banco!$A$1,Composições!$L16-1,COLUMN(Composições!I16)-4)),0) -> 0 | J16: =IF(ISNUMBER($L16),VALUE(OFFSET(Banco!$A$1,Composições!$L16-1,COLUMN(Composições!J16)-4)),0) -> 0 | K16: =COUNTA($A$1:$A16)-1 -> 1 | L16: =MATCH(Composições!CONCATENAR,Banco!$A:$A,0) -> #N/A | M16: =IF(OR(ISERROR($L16),$H16="",$H16=0),"",OFFSET(M$1,MATCH($K16,$K$1:$K16,0)-1,0))
D17: =IF(ISNUMBER($L17),OFFSET(Banco!$A$1,Composições!$L17-1,COLUMN(Composições!D17)-1),"") | E17: =IF(ISNUMBER($L17),OFFSET(Banco!$A$1,Composições!$L17-1,COLUMN(Composições!E17)-1),"") | F17: =TRUNC($H17*ROUND(I17,2),2) -> 0 | G17: =TRUNC($H17*ROUND(J17,2),2) -> 0 | I17: =IF(ISNUMBER($L17),VALUE(OFFSET(Banco!$A$1,Composições!$L17-1,COLUMN(Composições!I17)-4)),0) -> 0 | J17: =IF(ISNUMBER($L17),VALUE(OFFSET(Banco!$A$1,Composições!$L17-1,COLUMN(Composições!J17)-4)),0) -> 0 | K17: =COUNTA($A$1:$A17)-1 -> 1 | L17: =MATCH(Composições!CONCATENAR,Banco!$A:$A,0) -> #N/A | M17: =IF(OR(ISERROR($L17),$H17="",$H17=0),"",OFFSET(M$1,MATCH($K17,$K$1:$K17,0)-1,0))
D18: =IF(ISNUMBER($L18),OFFSET(Banco!$A$1,Composições!$L18-1,COLUMN(Composições!D18)-1),"") | E18: =IF(ISNUMBER($L18),OFFSET(Banco!$A$1,Composições!$L18-1,COLUMN(Composições!E18)-1),"") | F18: =TRUNC($H18*ROUND(I18,2),2) -> 0 | G18: =TRUNC($H18*ROUND(J18,2),2) -> 0 | I18: =IF(ISNUMBER($L18),VALUE(OFFSET(Banco!$A$1,Composições!$L18-1,COLUMN(Composições!I18)-4)),0) -> 0 | J18: =IF(ISNUMBER($L18),VALUE(OFFSET(Banco!$A$1,Composições!$L18-1,COLUMN(Composições!J18)-4)),0) -> 0 | K18: =COUNTA($A$1:$A18)-1 -> 1 | L18: =MATCH(Composições!CONCATENAR,Banco!$A:$A,0) -> #N/A | M18: =IF(OR(ISERROR($L18),$H18="",$H18=0),"",OFFSET(M$1,MATCH($K18,$K$1:$K18,0)-1,0))
D19: =IF(ISNUMBER($L19),OFFSET(Banco!$A$1,Composições!$L19-1,COLUMN(Composições!D19)-1),"") | E19: =IF(ISNUMBER($L19),OFFSET(Banco!$A$1,Composições!$L19-1,COLUMN(Composições!E19)-1),"") | F19: =TRUNC($H19*ROUND(I19,2),2) -> 0 | G19: =TRUNC($H19*ROUND(J19,2),2) -> 0 | I19: =IF(ISNUMBER($L19),VALUE(OFFSET(Banco!$A$1,Composições!$L19-1,COLUMN(Composições!I19)-4)),0) -> 0 | J19: =IF(ISNUMBER($L19),VALUE(OFFSET(Banco!$A$1,Composições!$L19-1,COLUMN(Composições!J19)-4)),0) -> 0 | K19: =COUNTA($A$1:$A19)-1 -> 1 | L19: =MATCH(Composições!CONCATENAR,Banco!$A:$A,0) -> #N/A | M19: =IF(OR(ISERROR($L19),$H19="",$H19=0),"",OFFSET(M$1,MATCH($K19,$K$1:$K19,0)-1,0))
D20: =IF(ISNUMBER($L20),OFFSET(Banco!$A$1,Composições!$L20-1,COLUMN(Composições!D20)-1),"") | E20: =IF(ISNUMBER($L20),OFFSET(Banco!$A$1,Composições!$L20-1,COLUMN(Composições!E20)-1),"") | F20: =TRUNC($H20*ROUND(I20,2),2) -> 0 | G20: =TRUNC($H20*ROUND(J20,2),2) -> 0 | I20: =IF(ISNUMBER($L20),VALUE(OFFSET(Banco!$A$1,Composições!$L20-1,COLUMN(Composições!I20)-4)),0) -> 0 | J20: =IF(ISNUMBER($L20),VALUE(OFFSET(Banco!$A$1,Composições!$L20-1,COLUMN(Composições!J20)-4)),0) -> 0 | K20: =COUNTA($A$1:$A20)-1 -> 1 | L20: =MATCH(Composições!CONCATENAR,Banco!$A:$A,0) -> #N/A | M20: =IF(OR(ISERROR($L20),$H20="",$H20=0),"",OFFSET(M$1,MATCH($K20,$K$1:$K20,0)-1,0))
D21: =IF(ISNUMBER($L21),OFFSET(Banco!$A$1,Composições!$L21-1,COLUMN(Composições!D21)-1),"") | E21: =IF(ISNUMBER($L21),OFFSET(Banco!$A$1,Composições!$L21-1,COLUMN(Composições!E21)-1),"") | F21: =TRUNC($H21*ROUND(I21,2),2) -> 0 | G21: =TRUNC($H21*ROUND(J21,2),2) -> 0 | I21: =IF(ISNUMBER($L21),VALUE(OFFSET(Banco!$A$1,Composições!$L21-1,COLUMN(Composições!I21)-4)),0) -> 0 | J21: =IF(ISNUMBER($L21),VALUE(OFFSET(Banco!$A$1,Composições!$L21-1,COLUMN(Composições!J21)-4)),0) -> 0 | K21: =COUNTA($A$1:$A21)-1 -> 1 | L21: =MATCH(Composições!CONCATENAR,Banco!$A:$A,0) -> #N/A | M21: =IF(OR(ISERROR($L21),$H21="",$H21=0),"",OFFSET(M$1,MATCH($K21,$K$1:$K21,0)-1,0))
K22: =COUNTA($A$1:$A22)-1 -> 1 | M22: =IF(OFFSET($M$1,MATCH(OFFSET(K22,-1,0),$K$1:$K22,0)-1,0)="F","F","")
A23: =CONCATENAR | F23: =IF($L23>0,SUM(OFFSET(F23,1,0,$L23),0)) -> 0 | G23: =IF($L23>0,SUM(OFFSET(G23,1,0,$L23),0)) -> 0 | I23: =IF(ISERROR(F23),0,F23) -> 0 | J23: =IF(ISERROR(G23),0,G23) -> 0 | K23: =COUNTA($A$1:$A23)-1 -> 2 | L23: =IF(MAX(K:K)=K23,MATCH(9999999,$K:$K)+1,MATCH(K23+1,K:K,0))-ROW(L23)-2 -> 10 | M23: =IF(AND(OR(I23<>0,J23<>0),N23="Sim"),"F","") | N23: Sim
D24: =IF(ISNUMBER($L24),OFFSET(Banco!$A$1,Composições!$L24-1,COLUMN(Composições!D24)-1),"") | E24: =IF(ISNUMBER($L24),OFFSET(Banco!$A$1,Composições!$L24-1,COLUMN(Composições!E24)-1),"") | F24: =TRUNC($H24*ROUND(I24,2),2) -> 0 | G24: =TRUNC($H24*ROUND(J24,2),2) -> 0 | I24: =IF(ISNUMBER($L24),VALUE(OFFSET(Banco!$A$1,Composições!$L24-1,COLUMN(Composições!I24)-4)),0) -> 0 | J24: =IF(ISNUMBER($L24),VALUE(OFFSET(Banco!$A$1,Composições!$L24-1,COLUMN(Composições!J24)-4)),0) -> 0 | K24: =COUNTA($A$1:$A24)-1 -> 2 | L24: =MATCH(Composições!CONCATENAR,Banco!$A:$A,0) -> #N/A | M24: =IF(OR(ISERROR($L24),$H24="",$H24=0),"",OFFSET(M$1,MATCH($K24,$K$1:$K24,0)-1,0))
D25: =IF(ISNUMBER($L25),OFFSET(Banco!$A$1,Composições!$L25-1,COLUMN(Composições!D25)-1),"") | E25: =IF(ISNUMBER($L25),OFFSET(Banco!$A$1,Composições!$L25-1,COLUMN(Composições!E25)-1),"") | F25: =TRUNC($H25*ROUND(I25,2),2) -> 0 | G25: =TRUNC($H25*ROUND(J25,2),2) -> 0 | I25: =IF(ISNUMBER($L25),VALUE(OFFSET(Banco!$A$1,Composições!$L25-1,COLUMN(Composições!I25)-4)),0) -> 0 | J25: =IF(ISNUMBER($L25),VALUE(OFFSET(Banco!$A$1,Composições!$L25-1,COLUMN(Composições!J25)-4)),0) -> 0 | K25: =COUNTA($A$1:$A25)-1 -> 2 | L25: =MATCH(Composições!CONCATENAR,Banco!$A:$A,0) -> #N/A | M25: =IF(OR(ISERROR($L25),$H25="",$H25=0),"",OFFSET(M$1,MATCH($K25,$K$1:$K25,0)-1,0))
D26: =IF(ISNUMBER($L26),OFFSET(Banco!$A$1,Composições!$L26-1,COLUMN(Composições!D26)-1),"") | E26: =IF(ISNUMBER($L26),OFFSET(Banco!$A$1,Composições!$L26-1,COLUMN(Composições!E26)-1),"") | F26: =TRUNC($H26*ROUND(I26,2),2) -> 0 | G26: =TRUNC($H26*ROUND(J26,2),2) -> 0 | I26: =IF(ISNUMBER($L26),VALUE(OFFSET(Banco!$A$1,Composições!$L26-1,COLUMN(Composições!I26)-4)),0) -> 0 | J26: =IF(ISNUMBER($L26),VALUE(OFFSET(Banco!$A$1,Composições!$L26-1,COLUMN(Composições!J26)-4)),0) -> 0 | K26: =COUNTA($A$1:$A26)-1 -> 2 | L26: =MATCH(Composições!CONCATENAR,Banco!$A:$A,0) -> #N/A | M26: =IF(OR(ISERROR($L26),$H26="",$H26=0),"",OFFSET(M$1,MATCH($K26,$K$1:$K26,0)-1,0))
D27: =IF(ISNUMBER($L27),OFFSET(Banco!$A$1,Composições!$L27-1,COLUMN(Composições!D27)-1),"") | E27: =IF(ISNUMBER($L27),OFFSET(Banco!$A$1,Composições!$L27-1,COLUMN(Composições!E27)-1),"") | F27: =TRUNC($H27*ROUND(I27,2),2) -> 0 | G27: =TRUNC($H27*ROUND(J27,2),2) -> 0 | I27: =IF(ISNUMBER($L27),VALUE(OFFSET(Banco!$A$1,Composições!$L27-1,COLUMN(Composições!I27)-4)),0) -> 0 | J27: =IF(ISNUMBER($L27),VALUE(OFFSET(Banco!$A$1,Composições!$L27-1,COLUMN(Composições!J27)-4)),0) -> 0 | K27: =COUNTA($A$1:$A27)-1 -> 2 | L27: =MATCH(Composições!CONCATENAR,Banco!$A:$A,0) -> #N/A | M27: =IF(OR(ISERROR($L27),$H27="",$H27=0),"",OFFSET(M$1,MATCH($K27,$K$1:$K27,0)-1,0))
D28: =IF(ISNUMBER($L28),OFFSET(Banco!$A$1,Composições!$L28-1,COLUMN(Composições!D28)-1),"") | E28: =IF(ISNUMBER($L28),OFFSET(Banco!$A$1,Composições!$L28-1,COLUMN(Composições!E28)-1),"") | F28: =TRUNC($H28*ROUND(I28,2),2) -> 0 | G28: =TRUNC($H28*ROUND(J28,2),2) -> 0 | I28: =IF(ISNUMBER($L28),VALUE(OFFSET(Banco!$A$1,Composições!$L28-1,COLUMN(Composições!I28)-4)),0) -> 0 | J28: =IF(ISNUMBER($L28),VALUE(OFFSET(Banco!$A$1,Composições!$L28-1,COLUMN(Composições!J28)-4)),0) -> 0 | K28: =COUNTA($A$1:$A28)-1 -> 2 | L28: =MATCH(Composições!CONCATENAR,Banco!$A:$A,0) -> #N/A | M28: =IF(OR(ISERROR($L28),$H28="",$H28=0),"",OFFSET(M$1,MATCH($K28,$K$1:$K28,0)-1,0))
D29: =IF(ISNUMBER($L29),OFFSET(Banco!$A$1,Composições!$L29-1,COLUMN(Composições!D29)-1),"") | E29: =IF(ISNUMBER($L29),OFFSET(Banco!$A$1,Composições!$L29-1,COLUMN(Composições!E29)-1),"") | F29: =TRUNC($H29*ROUND(I29,2),2) -> 0 | G29: =TRUNC($H29*ROUND(J29,2),2) -> 0 | I29: =IF(ISNUMBER($L29),VALUE(OFFSET(Banco!$A$1,Composições!$L29-1,COLUMN(Composições!I29)-4)),0) -> 0 | J29: =IF(ISNUMBER($L29),VALUE(OFFSET(Banco!$A$1,Composições!$L29-1,COLUMN(Composições!J29)-4)),0) -> 0 | K29: =COUNTA($A$1:$A29)-1 -> 2 | L29: =MATCH(Composições!CONCATENAR,Banco!$A:$A,0) -> #N/A | M29: =IF(OR(ISERROR($L29),$H29="",$H29=0),"",OFFSET(M$1,MATCH($K29,$K$1:$K29,0)-1,0))
D30: =IF(ISNUMBER($L30),OFFSET(Banco!$A$1,Composições!$L30-1,COLUMN(Composições!D30)-1),"") | E30: =IF(ISNUMBER($L30),OFFSET(Banco!$A$1,Composições!$L30-1,COLUMN(Composições!E30)-1),"") | F30: =TRUNC($H30*ROUND(I30,2),2) -> 0 | G30: =TRUNC($H30*ROUND(J30,2),2) -> 0 | I30: =IF(ISNUMBER($L30),VALUE(OFFSET(Banco!$A$1,Composições!$L30-1,COLUMN(Composições!I30)-4)),0) -> 0 | J30: =IF(ISNUMBER($L30),VALUE(OFFSET(Banco!$A$1,Composições!$L30-1,COLUMN(Composições!J30)-4)),0) -> 0 | K30: =COUNTA($A$1:$A30)-1 -> 2 | L30: =MATCH(Composições!CONCATENAR,Banco!$A:$A,0) -> #N/A | M30: =IF(OR(ISERROR($L30),$H30="",$H30=0),"",OFFSET(M$1,MATCH($K30,$K$1:$K30,0)-1,0))
D31: =IF(ISNUMBER($L31),OFFSET(Banco!$A$1,Composições!$L31-1,COLUMN(Composições!D31)-1),"") | E31: =IF(ISNUMBER($L31),OFFSET(Banco!$A$1,Composições!$L31-1,COLUMN(Composições!E31)-1),"") | F31: =TRUNC($H31*ROUND(I31,2),2) -> 0 | G31: =TRUNC($H31*ROUND(J31,2),2) -> 0 | I31: =IF(ISNUMBER($L31),VALUE(OFFSET(Banco!$A$1,Composições!$L31-1,COLUMN(Composições!I31)-4)),0) -> 0 | J31: =IF(ISNUMBER($L31),VALUE(OFFSET(Banco!$A$1,Composições!$L31-1,COLUMN(Composições!J31)-4)),0) -> 0 | K31: =COUNTA($A$1:$A31)-1 -> 2 | L31: =MATCH(Composições!CONCATENAR,Banco!$A:$A,0) -> #N/A | M31: =IF(OR(ISERROR($L31),$H31="",$H31=0),"",OFFSET(M$1,MATCH($K31,$K$1:$K31,0)-1,0))
D32: =IF(ISNUMBER($L32),OFFSET(Banco!$A$1,Composições!$L32-1,COLUMN(Composições!D32)-1),"") | E32: =IF(ISNUMBER($L32),OFFSET(Banco!$A$1,Composições!$L32-1,COLUMN(Composições!E32)-1),"") | F32: =TRUNC($H32*ROUND(I32,2),2) -> 0 | G32: =TRUNC($H32*ROUND(J32,2),2) -> 0 | I32: =IF(ISNUMBER($L32),VALUE(OFFSET(Banco!$A$1,Composições!$L32-1,COLUMN(Composições!I32)-4)),0) -> 0 | J32: =IF(ISNUMBER($L32),VALUE(OFFSET(Banco!$A$1,Composições!$L32-1,COLUMN(Composições!J32)-4)),0) -> 0 | K32: =COUNTA($A$1:$A32)-1 -> 2 | L32: =MATCH(Composições!CONCATENAR,Banco!$A:$A,0) -> #N/A | M32: =IF(OR(ISERROR($L32),$H32="",$H32=0),"",OFFSET(M$1,MATCH($K32,$K$1:$K32,0)-1,0))
D33: =IF(ISNUMBER($L33),OFFSET(Banco!$A$1,Composições!$L33-1,COLUMN(Composições!D33)-1),"") | E33: =IF(ISNUMBER($L33),OFFSET(Banco!$A$1,Composições!$L33-1,COLUMN(Composições!E33)-1),"") | F33: =TRUNC($H33*ROUND(I33,2),2) -> 0 | G33: =TRUNC($H33*ROUND(J33,2),2) -> 0 | I33: =IF(ISNUMBER($L33),VALUE(OFFSET(Banco!$A$1,Composições!$L33-1,COLUMN(Composições!I33)-4)),0) -> 0 | J33: =IF(ISNUMBER($L33),VALUE(OFFSET(Banco!$A$1,Composições!$L33-1,COLUMN(Composições!J33)-4)),0) -> 0 | K33: =COUNTA($A$1:$A33)-1 -> 2 | L33: =MATCH(Composições!CONCATENAR,Banco!$A:$A,0) -> #N/A | M33: =IF(OR(ISERROR($L33),$H33="",$H33=0),"",OFFSET(M$1,MATCH($K33,$K$1:$K33,0)-1,0))
K34: =COUNTA($A$1:$A34)-1 -> 2 | M34: =IF(OFFSET($M$1,MATCH(OFFSET(K34,-1,0),$K$1:$K34,0)-1,0)="F","F","")
A35: =CONCATENAR | F35: =IF($L35>0,SUM(OFFSET(F35,1,0,$L35),0)) -> 0 | G35: =IF($L35>0,SUM(OFFSET(G35,1,0,$L35),0)) -> 0 | I35: =IF(ISERROR(F35),0,F35) -> 0 | J35: =IF(ISERROR(G35),0,G35) -> 0 | K35: =COUNTA($A$1:$A35)-1 -> 3 | L35: =IF(MAX(K:K)=K35,MATCH(9999999,$K:$K)+1,MATCH(K35+1,K:K,0))-ROW(L35)-2 -> 10 | M35: =IF(AND(OR(I35<>0,J35<>0),N35="Sim"),"F","") | N35: Sim
D36: =IF(ISNUMBER($L36),OFFSET(Banco!$A$1,Composições!$L36-1,COLUMN(Composições!D36)-1),"") | E36: =IF(ISNUMBER($L36),OFFSET(Banco!$A$1,Composições!$L36-1,COLUMN(Composições!E36)-1),"") | F36: =TRUNC($H36*ROUND(I36,2),2) -> 0 | G36: =TRUNC($H36*ROUND(J36,2),2) -> 0 | I36: =IF(ISNUMBER($L36),VALUE(OFFSET(Banco!$A$1,Composições!$L36-1,COLUMN(Composições!I36)-4)),0) -> 0 | J36: =IF(ISNUMBER($L36),VALUE(OFFSET(Banco!$A$1,Composições!$L36-1,COLUMN(Composições!J36)-4)),0) -> 0 | K36: =COUNTA($A$1:$A36)-1 -> 3 | L36: =MATCH(Composições!CONCATENAR,Banco!$A:$A,0) -> #N/A | M36: =IF(OR(ISERROR($L36),$H36="",$H36=0),"",OFFSET(M$1,MATCH($K36,$K$1:$K36,0)-1,0))
D37: =IF(ISNUMBER($L37),OFFSET(Banco!$A$1,Composições!$L37-1,COLUMN(Composições!D37)-1),"") | E37: =IF(ISNUMBER($L37),OFFSET(Banco!$A$1,Composições!$L37-1,COLUMN(Composições!E37)-1),"") | F37: =TRUNC($H37*ROUND(I37,2),2) -> 0 | G37: =TRUNC($H37*ROUND(J37,2),2) -> 0 | I37: =IF(ISNUMBER($L37),VALUE(OFFSET(Banco!$A$1,Composições!$L37-1,COLUMN(Composições!I37)-4)),0) -> 0 | J37: =IF(ISNUMBER($L37),VALUE(OFFSET(Banco!$A$1,Composições!$L37-1,COLUMN(Composições!J37)-4)),0) -> 0 | K37: =COUNTA($A$1:$A37)-1 -> 3 | L37: =MATCH(Composições!CONCATENAR,Banco!$A:$A,0) -> #N/A | M37: =IF(OR(ISERROR($L37),$H37="",$H37=0),"",OFFSET(M$1,MATCH($K37,$K$1:$K37,0)-1,0))
D38: =IF(ISNUMBER($L38),OFFSET(Banco!$A$1,Composições!$L38-1,COLUMN(Composições!D38)-1),"") | E38: =IF(ISNUMBER($L38),OFFSET(Banco!$A$1,Composições!$L38-1,COLUMN(Composições!E38)-1),"") | F38: =TRUNC($H38*ROUND(I38,2),2) -> 0 | G38: =TRUNC($H38*ROUND(J38,2),2) -> 0 | I38: =IF(ISNUMBER($L38),VALUE(OFFSET(Banco!$A$1,Composições!$L38-1,COLUMN(Composições!I38)-4)),0) -> 0 | J38: =IF(ISNUMBER($L38),VALUE(OFFSET(Banco!$A$1,Composições!$L38-1,COLUMN(Composições!J38)-4)),0) -> 0 | K38: =COUNTA($A$1:$A38)-1 -> 3 | L38: =MATCH(Composições!CONCATENAR,Banco!$A:$A,0) -> #N/A | M38: =IF(OR(ISERROR($L38),$H38="",$H38=0),"",OFFSET(M$1,MATCH($K38,$K$1:$K38,0)-1,0))
D39: =IF(ISNUMBER($L39),OFFSET(Banco!$A$1,Composições!$L39-1,COLUMN(Composições!D39)-1),"") | E39: =IF(ISNUMBER($L39),OFFSET(Banco!$A$1,Composições!$L39-1,COLUMN(Composições!E39)-1),"") | F39: =TRUNC($H39*ROUND(I39,2),2) -> 0 | G39: =TRUNC($H39*ROUND(J39,2),2) -> 0 | I39: =IF(ISNUMBER($L39),VALUE(OFFSET(Banco!$A$1,Composições!$L39-1,COLUMN(Composições!I39)-4)),0) -> 0 | J39: =IF(ISNUMBER($L39),VALUE(OFFSET(Banco!$A$1,Composições!$L39-1,COLUMN(Composições!J39)-4)),0) -> 0 | K39: =COUNTA($A$1:$A39)-1 -> 3 | L39: =MATCH(Composições!CONCATENAR,Banco!$A:$A,0) -> #N/A | M39: =IF(OR(ISERROR($L39),$H39="",$H39=0),"",OFFSET(M$1,MATCH($K39,$K$1:$K39,0)-1,0))
D40: =IF(ISNUMBER($L40),OFFSET(Banco!$A$1,Composições!$L40-1,COLUMN(Composições!D40)-1),"") | E40: =IF(ISNUMBER($L40),OFFSET(Banco!$A$1,Composições!$L40-1,COLUMN(Composições!E40)-1),"") | F40: =TRUNC($H40*ROUND(I40,2),2) -> 0 | G40: =TRUNC($H40*ROUND(J40,2),2) -> 0 | I40: =IF(ISNUMBER($L40),VALUE(OFFSET(Banco!$A$1,Composições!$L40-1,COLUMN(Composições!I40)-4)),0) -> 0 | J40: =IF(ISNUMBER($L40),VALUE(OFFSET(Banco!$A$1,Composições!$L40-1,COLUMN(Composições!J40)-4)),0) -> 0 | K40: =COUNTA($A$1:$A40)-1 -> 3 | L40: =MATCH(Composições!CONCATENAR,Banco!$A:$A,0) -> #N/A | M40: =IF(OR(ISERROR($L40),$H40="",$H40=0),"",OFFSET(M$1,MATCH($K40,$K$1:$K40,0)-1,0))
D41: =IF(ISNUMBER($L41),OFFSET(Banco!$A$1,Composições!$L41-1,COLUMN(Composições!D41)-1),"") | E41: =IF(ISNUMBER($L41),OFFSET(Banco!$A$1,Composições!$L41-1,COLUMN(Composições!E41)-1),"") | F41: =TRUNC($H41*ROUND(I41,2),2) -> 0 | G41: =TRUNC($H41*ROUND(J41,2),2) -> 0 | I41: =IF(ISNUMBER($L41),VALUE(OFFSET(Banco!$A$1,Composições!$L41-1,COLUMN(Composições!I41)-4)),0) -> 0 | J41: =IF(ISNUMBER($L41),VALUE(OFFSET(Banco!$A$1,Composições!$L41-1,COLUMN(Composições!J41)-4)),0) -> 0 | K41: =COUNTA($A$1:$A41)-1 -> 3 | L41: =MATCH(Composições!CONCATENAR,Banco!$A:$A,0) -> #N/A | M41: =IF(OR(ISERROR($L41),$H41="",$H41=0),"",OFFSET(M$1,MATCH($K41,$K$1:$K41,0)-1,0))
D42: =IF(ISNUMBER($L42),OFFSET(Banco!$A$1,Composições!$L42-1,COLUMN(Composições!D42)-1),"") | E42: =IF(ISNUMBER($L42),OFFSET(Banco!$A$1,Composições!$L42-1,COLUMN(Composições!E42)-1),"") | F42: =TRUNC($H42*ROUND(I42,2),2) -> 0 | G42: =TRUNC($H42*ROUND(J42,2),2) -> 0 | I42: =IF(ISNUMBER($L42),VALUE(OFFSET(Banco!$A$1,Composições!$L42-1,COLUMN(Composições!I42)-4)),0) -> 0 | J42: =IF(ISNUMBER($L42),VALUE(OFFSET(Banco!$A$1,Composições!$L42-1,COLUMN(Composições!J42)-4)),0) -> 0 | K42: =COUNTA($A$1:$A42)-1 -> 3 | L42: =MATCH(Composições!CONCATENAR,Banco!$A:$A,0) -> #N/A | M42: =IF(OR(ISERROR($L42),$H42="",$H42=0),"",OFFSET(M$1,MATCH($K42,$K$1:$K42,0)-1,0))
D43: =IF(ISNUMBER($L43),OFFSET(Banco!$A$1,Composições!$L43-1,COLUMN(Composições!D43)-1),"") | E43: =IF(ISNUMBER($L43),OFFSET(Banco!$A$1,Composições!$L43-1,COLUMN(Composições!E43)-1),"") | F43: =TRUNC($H43*ROUND(I43,2),2) -> 0 | G43: =TRUNC($H43*ROUND(J43,2),2) -> 0 | I43: =IF(ISNUMBER($L43),VALUE(OFFSET(Banco!$A$1,Composições!$L43-1,COLUMN(Composições!I43)-4)),0) -> 0 | J43: =IF(ISNUMBER($L43),VALUE(OFFSET(Banco!$A$1,Composições!$L43-1,COLUMN(Composições!J43)-4)),0) -> 0 | K43: =COUNTA($A$1:$A43)-1 -> 3 | L43: =MATCH(Composições!CONCATENAR,Banco!$A:$A,0) -> #N/A | M43: =IF(OR(ISERROR($L43),$H43="",$H43=0),"",OFFSET(M$1,MATCH($K43,$K$1:$K43,0)-1,0))
...

Sheet Cotações
B1: COTAÇÕES | K1: Mediana
K2: Média
K3: 1
B6: =OFFSET(Cotações!$A$1,MATCH(COUNTIF($H$1:$H6,"Cotações"),Cotações!$J:$J,0)-1,COLUMN(Banco!B$6)-1) -> COTAÇÃO | C6: =OFFSET(Cotações!$A$1,MATCH(COUNTIF($H$1:$H6,"Cotações"),Cotações!$J:$J,0)-1,COLUMN(Banco!C$6)-1) -> 0 | D6: =IF(COUNTIF(OFFSET(Banco!$A$6,1+NCOMPOSICOES,0,NCOTACOES),$A6)>1,"CÓDIGO REPETIDO",OFFSET(Cotações!$A$1,MATCH(COUNTIF($H$1:$H6,"Cotações"),Cotações!$J:$J,0)-1,COLUMN(Banco!D$6)-1)) -> 0 | E6: =OFFSET(Cotações!$A$1,MATCH(COUNTIF($H$1:$H6,"Cotações"),Cotações!$J:$J,0)-1,COLUMN(Banco!E$6)-1) -> 0 | F6: =OFFSET(Cotações!$A$1,MATCH(COUNTIF($H$1:$H6,"Cotações"),Cotações!$J:$J,0)-1,COLUMN(Banco!F$6)-1) -> #NUM! | G6: =OFFSET(Cotações!$A$1,MATCH(COUNTIF($H$1:$H6,"Cotações"),Cotações!$J:$J,0)-1,COLUMN(Banco!F$6)-1) -> #NUM! | H6: Cotações
B8: I001 | I8: =F8/H8 -> #DIV/0! | J8: I | L8: =IF(ISNUMBER(I8),IF(I8<>0,"F",""),"")
B10: E001 | J10: E | L10: =IF(COUNTA(C10:I10)>0,"F","")
B12: FONTE | C12: CÓDIGO | D12: DESCRIÇÃO | E12: UNIDADE | F12: =CHOOSE($K$3,"MEDIANA","MÉDIA")&IF(H13="",""," RETROAGIDA") -> MEDIANA | H12: ÍNDICE RETROAÇÃO | L12: =IF(AND(ISNUMBER(F13),M13="Sim"),"F","")
A13: =CONCATENAR -> COTAÇÃO | B13: COTAÇÃO | F13: =CHOOSE($K$3,MEDIAN(OFFSET(F14,1,0,ROW(C16)-ROW(C14)-1)),AVERAGE(OFFSET(F14,1,0,ROW(C16)-ROW(C14)-1)))*IF(H13="",1,VLOOKUP(H13,INDICES,8)) -> #NUM! | J13: =COUNTA($A$1:$A13)-1 -> 0 | K13: =ROW(C16)-ROW(C14)-1 -> 1 | L13: =IF(AND(ISNUMBER(F13),M13="Sim"),"F","") | M13: Sim
C14: EMPRESA | D14: NOME DA EMPRESA | F14: COTAÇÕES | H14: DATA COTAÇÃO | J14: C | L14: =IF(AND(ISNUMBER(F13),M13="Sim"),"F","")
D15: =IF(C15<>"",VLOOKUP(C15,EMPRESAS,3,FALSE),"") | J15: C | L15: =IF(AND(ISNUMBER(OFFSET($F$1,MATCH(MAX($J$1:$J15),$J$1:$J15,0)-1,0)),ISNUMBER(F15),INDEX($M$1:$M15,MATCH("ZZZZ",$M$1:$M15))="Sim"),"F","")
C16: OBSERVAÇÕES: | L16: =IF(AND(ISNUMBER(F13),M13="Sim"),"F","")
L17: =IF(AND(ISNUMBER(F13),M13="Sim"),"F","")
L18: FILTRO | M18: IMPRIMIR
B19: ÍNDICES DE RETROAÇÃO: | L19: =IF(NINDICES>0,"F","") -> F
B20: ÍNDICE | C20: NOME DO ÍNDICE | D20: DESCRIÇÃO | E20: DATA BASE | F20: ÍNDICE DT BASE | G20: DT COTAÇÃO | H20: ÍNDICE DT COT. | I20: COEFICIENTE | J20: I | L20: =IF(NINDICES>0,"F","") -> F
B21: I001 | I21: =F21/H21 -> #DIV/0! | J21: I | L21: =IF(ISNUMBER(I21),IF(I21<>0,"F",""),"")
B22: I002 | I22: =F22/H22 -> #DIV/0! | J22: I | L22: =IF(ISNUMBER(I22),IF(I22<>0,"F",""),"")
B23: I003 | I23: =F23/H23 -> #DIV/0! | J23: I | L23: =IF(ISNUMBER(I23),IF(I23<>0,"F",""),"")
B24: EMPRESAS FORNECEDORAS: | L24: =IF(NEMPRESAS>0,"F","") -> F
B25: EMPRESAS | C25: CNPJ | D25: NOME | F25: FONE | H25: CONTATO | J25: E | L25: =IF(NEMPRESAS>0,"F","") -> F
B26: E001 | J26: E | L26: =IF(COUNTA(C26:I26)>0,"F","")
B27: E002 | J27: E | L27: =IF(COUNTA(C27:I27)>0,"F","")
B28: E003 | J28: E | L28: =IF(COUNTA(C28:I28)>0,"F","")
B29: E004 | J29: E | L29: =IF(COUNTA(C29:I29)>0,"F","")
B30: E005 | J30: E | L30: =IF(COUNTA(C30:I30)>0,"F","")
B31: E006 | J31: E | L31: =IF(COUNTA(C31:I31)>0,"F","")
B32: E007 | J32: E | L32: =IF(COUNTA(C32:I32)>0,"F","")
B33: E008 | J33: E | L33: =IF(COUNTA(C33:I33)>0,"F","")
B34: E009 | J34: E | L34: =IF(COUNTA(C34:I34)>0,"F","")
B35: E010 | J35: E | L35: =IF(COUNTA(C35:I35)>0,"F","")
B36: E011 | J36: E | L36: =IF(COUNTA(C36:I36)>0,"F","")
B37: E012 | J37: E | L37: =IF(COUNTA(C37:I37)>0,"F","")
... B40: E015 | J40: E | L40: =IF(COUNTA(C40:I40)>0,"F","")
B41: COTAÇÕES: | L41: =IF(NCOTACOES>0,"F","") -> F
B42: FONTE | C42: CÓDIGO | D42: DESCRIÇÃO | E42: UNIDADE | F42: =CHOOSE($K$3,"MEDIANA","MÉDIA")&IF(H43="",""," RETROAGIDA") -> MEDIANA | H42: ÍNDICE RETROAÇÃO | L42: =IF(AND(ISNUMBER(F43),M43="Sim"),"F","")
A43: =CONCATENAR -> COTAÇÃO | B43: COTAÇÃO | F43: =CHOOSE($K$3,MEDIAN(OFFSET(F44,1,0,ROW(C50)-ROW(C44)-1)),AVERAGE(OFFSET(F44,1,0,ROW(C50)-ROW(C44)-1)))*IF(H43="",1,VLOOKUP(H43,INDICES,8)) -> #NUM! | J43: =COUNTA($A$1:$A43)-1 -> 1 | K43: =ROW(C50)-ROW(C44)-1 -> 5 | L43: =IF(AND(ISNUMBER(F43),M43="Sim"),"F","") | M43: Sim
C44: EMPRESA | D44: NOME DA EMPRESA | F44: COTAÇÕES | H44: DATA COTAÇÃO | J44: C | L44: =IF(AND(ISNUMBER(F43),M43="Sim"),"F","")
D45: =IF(C45<>"",VLOOKUP(C45,EMPRESAS,3,FALSE),"") | J45: C | L45: =IF(AND(ISNUMBER(OFFSET($F$1,MATCH(MAX($J$1:$J45),$J$1:$J45,0)-1,0)),ISNUMBER(F45),INDEX($M$1:$M45,MATCH("ZZZZ",$M$1:$M45))="Sim"),"F","")
D46: =IF(C46<>"",VLOOKUP(C46,EMPRESAS,3,FALSE),"") | J46: C | L46: =IF(AND(ISNUMBER(OFFSET($F$1,MATCH(MAX($J$1:$J46),$J$1:$J46,0)-1,0)),ISNUMBER(F46),INDEX($M$1:$M46,MATCH("ZZZZ",$M$1:$M46))="Sim"),"F","")
D47: =IF(C47<>"",VLOOKUP(C47,EMPRESAS,3,FALSE),"") | J47: C | L47: =IF(AND(ISNUMBER(OFFSET($F$1,MATCH(MAX($J$1:$J47),$J$1:$J47,0)-1,0)),ISNUMBER(F47),INDEX($M$1:$M47,MATCH("ZZZZ",$M$1:$M47))="Sim"),"F","")
...

Sheet Relatórios
A1: DADOS DOS RELATÓRIOS IMPORTADOS
A5: TIPO | B5: ENCARGOS SOCIAIS | C5: ABRANGÊNCIA | D5: LOCALIDADE | E5: VÍNCULO | F5: DATA PREÇOS | G5: DATA DE RT | H5: DATA EMISSÃO
A6: SINAPI-I | B6: HORISTA 108,90 MENSALISTA 67,79 | D6: BELO HORIZONTE | F6: 07/2024
A7: SINAPI-I | B7: NERADOS (%) HORISTA 81,79 MENSALISTA 45,83 | D7: BELO HORIZONTE | F7: 07/2024
A8: SINAPI | B8: SOBRE PREÇOS DA MÃO-DE-OBRA: 108,90%(HORA) 67,79%(MÊS) | C8: NACIONAL | D8: BELO HORIZONTE | E8: CAIXA REFERENCIAL | F8: 07/2024 | G8: 14/08/2024 | H8: 14/08/2024
A9: SINAPI | B9: DESONERADOS: 81,79%(HORA) 45,83%(MÊS) | C9: NACIONAL | D9: BELO HORIZONTE | E9: CAIXA REFERENCIAL | F9: 07/2024 | G9: 14/08/2024 | H9: 14/08/2024
A10: SETOP | D10: SUL | F10: 04/2024
A11: SETOP | D11: SUL | F11: 04/2024
A12: SETOP | D12: SUL | F12: 04/2024

Sheet Busca
B1: BUSCA
B2: CONTÉM:
B3: NÃO CONTÉM:
B4: RELATÓRIOS:
B5: FONTE | C5: CÓDIGO | D5: DESCRIÇÃO | E5: UNIDADE | F5: DESONERADO | G5: NÃO DESONERADO | I5: ORIGEM DO PREÇO

Sheet P.O.
A1: PO - PLANILHA ORÇAMENTÁRIA
D2: SOLICITANTE: | E2: REGIME: | G2: DATA BASE SETOP: | I2: DATA BASE SINAPI:
D3: Prefeitura Municipal de Monte Sião MG | E3: SEM Desoneração | G3: =VLOOKUP("SETOP",Relatórios!A:H,6,FALSE) -> 04/2024 | I3: =VLOOKUP("SINAPI",Relatórios!A:H,6,FALSE) -> 07/2024
D5: OBJETO: | E5: LOCAL:
D6: Reconstrução de pavimento asfáltico | E6: Av. Rafael David Comparini e Geraldo A. da Silva – Loteamento São Rafael.
D8: COORDENADAS DA OBRA (INICIO E FINAL): | E8: BDI 1: | F8: BDI 2: | G8: VALOR TOTAL DA OBRA:
E9: 0.2414 | G9: =J12+J14 -> 142852.81
A11: Item | B11: Fonte | C11: Código | D11: Descrição | E11: Unidade | F11: Quantidade | G11: Custo Unitário (sem BDI) (R$) | H11: BDI (%) | I11: Preço Unitário (com BDI) (R$) | J11: Preço Total (R$)
A12: 1 | D12: SERVIÇOS PRELIMINARES | H12: VALOR: | J12: =SUM(J13:J13) -> 1732.095
A13: 1.1 | B13: SETOP | C13: ED-16660 | D13: =IFERROR(VLOOKUP(CONCATENATE(B13," ",C13),Banco!A:L,4,FALSE),"") -> FORNECIMENTO E COLOCAÇÃO DE PLACA DE OBRA EM CHAPA GALVANIZADA #26, ESP. 0,45 MM, PLOTADA COM ADESIVO VINÍLICO, AFIXADA COM REBITES 4,8X40 MM, EM ESTRUTURA METÁLICA DE METALON 20X20 MM, ESP. 1,25 MM, INCLUSIVE SUPORTE EM EUCALIPTO AUTOCLAVADO PINTADO COM TINTA PVA DUAS (2) DEMÃOS | E13: =IFERROR(VLOOKUP(CONCATENATE(B13," ",C13),Banco!A:L,5,FALSE),"") -> m2 | F13: 4.5 | G13: =IFERROR(VLOOKUP(CONCATENATE(B13," ",C13),Banco!A:L,IF($E$3="(SELECIONAR)",0,IF($E$3="COM Desoneração",6,IF($E$3="SEM Desoneração",7))),FALSE),"") -> 310.06 | H13: BDI 1 | I13: =IFERROR(ROUND(G13+(G13*(IF(H13="BDI 1",$E$9,IF(H13="BDI 2",$F$9,)))),2),"") -> 384.91 | J13: =IFERROR((I13*F13),"") -> 1732.095
A14: 2 | D14: RECONSTRUÇÃO DO TRECHO | H14: VALOR: | J14: =SUM(J16:J40) -> 141120.71
D15: FRESAGEM
A16: 2.1 | B16: SINAPI | C16: 96001 | D16: =IFERROR(VLOOKUP(CONCATENATE(B16," ",C16),Banco!A:L,4,FALSE),"") -> FRESAGEM DE PAVIMENTO ASFÁLTICO (PROFUNDIDADE ATÉ 5,0 CM) - EXCLUSIVE TRANSPORTE. AF_11/2019 | E16: =IFERROR(VLOOKUP(CONCATENATE(B16," ",C16),Banco!A:L,5,FALSE),"") -> M2 | F16: 752.36 | G16: =IFERROR(VLOOKUP(CONCATENATE(B16," ",C16),Banco!A:L,IF($E$3="(SELECIONAR)",0,IF($E$3="COM Desoneração",6,IF($E$3="SEM Desoneração",7))),FALSE),"") -> 7,27 | H16: BDI 1 | I16: =IFERROR(ROUND(G16+(G16*(IF(H16="BDI 1",$E$9,IF(H16="BDI 2",$F$9,)))),2),"") -> 9.02 | J16: =IFERROR((I16*F16),"") -> 6786.2872
A17: 2.2 | B17: SINAPI | C17: 93591 | D17: =IFERROR(VLOOKUP(CONCATENATE(B17," ",C17),Banco!A:L,4,FALSE),"") -> TRANSPORTE COM CAMINHÃO BASCULANTE DE 14 M³, EM VIA URBANA EM LEITO NATURAL (UNIDADE: M3XKM). AF_07/2020 | E17: =IFERROR(VLOOKUP(CONCATENATE(B17," ",C17),Banco!A:L,5,FALSE),"") -> M3XKM | F17: 241.95 | G17: =IFERROR(VLOOKUP(CONCATENATE(B17," ",C17),Banco!A:L,IF($E$3="(SELECIONAR)",0,IF($E$3="COM Desoneração",6,IF($E$3="SEM Desoneração",7))),FALSE),"") -> 2,78 | H17: BDI 1 | I17: =IFERROR(ROUND(G17+(G17*(IF(H17="BDI 1",$E$9,IF(H17="BDI 2",$F$9,)))),2),"") -> 3.45 | J17: =IFERROR((I17*F17),"") -> 834.7275
D18: REMOÇÃO DA BASE
A19: 2.3 | B19: SINAPI | C19: 101122 | D19: =IFERROR(VLOOKUP(CONCATENATE(B19," ",C19),Banco!A:L,4,FALSE),"") -> ESCAVAÇÃO HORIZONTAL, INCLUINDO ESCARIFICAÇÃO EM SOLO DE 2A CATEGORIA COM TRATOR DE ESTEIRAS (347HP/LÂMINA: 8,70M3). AF_07/2020 | E19: =IFERROR(VLOOKUP(CONCATENATE(B19," ",C19),Banco!A:L,5,FALSE),"") -> M3 | F19: 75.25 | G19: =IFERROR(VLOOKUP(CONCATENATE(B19," ",C19),Banco!A:L,IF($E$3="(SELECIONAR)",0,IF($E$3="COM Desoneração",6,IF($E$3="SEM Desoneração",7))),FALSE),"") -> 6,42 | H19: BDI 1 | I19: =IFERROR(ROUND(G19+(G19*(IF(H19="BDI 1",$E$9,IF(H19="BDI 2",$F$9,)))),2),"") -> 7.97 | J19: =IFERROR((I19*F19),"") -> 599.7425
A20: 2.4 | B20: SINAPI | C20: 93591 | D20: =IFERROR(VLOOKUP(CONCATENATE(B20," ",C20),Banco!A:L,4,FALSE),"") -> TRANSPORTE COM CAMINHÃO BASCULANTE DE 14 M³, EM VIA URBANA EM LEITO NATURAL (UNIDADE: M3XKM). AF_07/2020 | E20: =IFERROR(VLOOKUP(CONCATENATE(B20," ",C20),Banco!A:L,5,FALSE),"") -> M3XKM | F20: 604.84 | G20: =IFERROR(VLOOKUP(CONCATENATE(B20," ",C20),Banco!A:L,IF($E$3="(SELECIONAR)",0,IF($E$3="COM Desoneração",6,IF($E$3="SEM Desoneração",7))),FALSE),"") -> 2,78 | H20: BDI 1 | I20: =IFERROR(ROUND(G20+(G20*(IF(H20="BDI 1",$E$9,IF(H20="BDI 2",$F$9,)))),2),"") -> 3.45 | J20: =IFERROR((I20*F20),"") -> 2086.698
A21: 2.5 | B21: SINAPI | C21: 100975 | D21: =IFERROR(VLOOKUP(CONCATENATE(B21," ",C21),Banco!A:L,4,FALSE),"") -> CARGA, MANOBRA E DESCARGA DE SOLOS E MATERIAIS GRANULARES EM CAMINHÃO BASCULANTE 14 M³ - CARGA COM PÁ CARREGADEIRA (CAÇAMBA DE 1,7 A 2,8 M³ / 128 HP) E DESCARGA LIVRE (UNIDADE: M3). AF_07/2020 | E21: =IFERROR(VLOOKUP(CONCATENATE(B21," ",C21),Banco!A:L,5,FALSE),"") -> M3 | F21: 75.25 | G21: =IFERROR(VLOOKUP(CONCATENATE(B21," ",C21),Banco!A:L,IF($E$3="(SELECIONAR)",0,IF($E$3="COM Desoneração",6,IF($E$3="SEM Desoneração",7))),FALSE),"") -> 8,98 | H21: BDI 1 | I21: =IFERROR(ROUND(G21+(G21*(IF(H21="BDI 1",$E$9,IF(H21="BDI 2",$F$9,)))),2),"") -> 11.15 | J21: =IFERROR((I21*F21),"") -> 839.0375
D22: EXECUÇÃO DA BASE NOVA
A23: 2.6 | B23: SINAPI | C23: 100975 | D23: =IFERROR(VLOOKUP(CONCATENATE(B23," ",C23),Banco!A:L,4,FALSE),"") -> CARGA, MANOBRA E DESCARGA DE SOLOS E MATERIAIS GRANULARES EM CAMINHÃO BASCULANTE 14 M³ - CARGA COM PÁ CARREGADEIRA (CAÇAMBA DE 1,7 A 2,8 M³ / 128 HP) E DESCARGA LIVRE (UNIDADE: M3). AF_07/2020 | E23: =IFERROR(VLOOKUP(CONCATENATE(B23," ",C23),Banco!A:L,5,FALSE),"") -> M3 | F23: 60.18 | G23: =IFERROR(VLOOKUP(CONCATENATE(B23," ",C23),Banco!A:L,IF($E$3="(SELECIONAR)",0,IF($E$3="COM Desoneração",6,IF($E$3="SEM Desoneração",7))),FALSE),"") -> 8,98 | H23: BDI 1 | I23: =IFERROR(ROUND(G23+(G23*(IF(H23="BDI 1",$E$9,IF(H23="BDI 2",$F$9,)))),2),"") -> 11.15 | J23: =IFERROR((I23*F23),"") -> 671.007
A24: 2.7 | B24: SINAPI | C24: 95876 | D24: =IFERROR(VLOOKUP(CONCATENATE(B24," ",C24),Banco!A:L,4,FALSE),"") -> TRANSPORTE COM CAMINHÃO BASCULANTE DE 14 M³, EM VIA URBANA PAVIMENTADA, DMT ATÉ 30 KM (UNIDADE: M3XKM). AF_07/2020 | E24: =IFERROR(VLOOKUP(CONCATENATE(B24," ",C24),Banco!A:L,5,FALSE),"") -> M3XKM | F24: 1805.4 | G24: =IFERROR(VLOOKUP(CONCATENATE(B24," ",C24),Banco!A:L,IF($E$3="(SELECIONAR)",0,IF($E$3="COM Desoneração",6,IF($E$3="SEM Desoneração",7))),FALSE),"") -> 2,18 | H24: BDI 1 | I24: =IFERROR(ROUND(G24+(G24*(IF(H24="BDI 1",$E$9,IF(H24="BDI 2",$F$9,)))),2),"") -> 2.71 | J24: =IFERROR((I24*F24),"") -> 4892.634
A25: 2.8 | B25: SINAPI | C25: 93593 | D25: =IFERROR(VLOOKUP(CONCATENATE(B25," ",C25),Banco!A:L,4,FALSE),"") -> TRANSPORTE COM CAMINHÃO BASCULANTE DE 14 M³, EM VIA URBANA PAVIMENTADA, ADICIONAL PARA DMT EXCEDENTE A 30 KM (UNIDADE: M3XKM). AF_07/2020 | E25: =IFERROR(VLOOKUP(CONCATENATE(B25," ",C25),Banco!A:L,5,FALSE),"") -> M3XKM | F25: 1293.87 | G25: =IFERROR(VLOOKUP(CONCATENATE(B25," ",C25),Banco!A:L,IF($E$3="(SELECIONAR)",0,IF($E$3="COM Desoneração",6,IF($E$3="SEM Desoneração",7))),FALSE),"") -> 0,88 | H25: BDI 1 | I25: =IFERROR(ROUND(G25+(G25*(IF(H25="BDI 1",$E$9,IF(H25="BDI 2",$F$9,)))),2),"") -> 1.09 | J25: =IFERROR((I25*F25),"") -> 1410.3183
A26: 2.9 | B26: SINAPI | C26: 96396 | D26: =IFERROR(VLOOKUP(CONCATENATE(B26," ",C26),Banco!A:L,4,FALSE),"") -> EXECUÇÃO E COMPACTAÇÃO DE BASE E OU SUB BASE PARA PAVIMENTAÇÃO DE BRITA GRADUADA SIMPLES - EXCLUSIVE CARGA E TRANSPORTE. AF_11/2019 | E26: =IFERROR(VLOOKUP(CONCATENATE(B26," ",C26),Banco!A:L,5,FALSE),"") -> M3 | F26: 60.18 | G26: =IFERROR(VLOOKUP(CONCATENATE(B26," ",C26),Banco!A:L,IF($E$3="(SELECIONAR)",0,IF($E$3="COM Desoneração",6,IF($E$3="SEM Desoneração",7))),FALSE),"") -> 214,99 | H26: BDI 1 | I26: =IFERROR(ROUND(G26+(G26*(IF(H26="BDI 1",$E$9,IF(H26="BDI 2",$F$9,)))),2),"") -> 266.89 | J26: =IFERROR((I26*F26),"") -> 16061.44
D27: PAVIMENTAÇÃO
A28: 2.10 | B28: SETOP | C28: RO-00388 | D28: =IFERROR(VLOOKUP(CONCATENATE(B28," ",C28),Banco!A:L,4,FALSE),"") -> Imprimação com emulsão asfáltica (Execução, exclui fornecimento e transporte do material betuminoso até a obra) | E28: =IFERROR(VLOOKUP(CONCATENATE(B28," ",C28),Banco!A:L,5,FALSE),"") -> m2 | F28: 752.36 | G28: =IFERROR(VLOOKUP(CONCATENATE(B28," ",C28),Banco!A:L,IF($E$3="(SELECIONAR)",0,IF($E$3="COM Desoneração",6,IF($E$3="SEM Desoneração",7))),FALSE),"") -> 0.4 | H28: BDI 1 | I28: =IFERROR(ROUND(G28+(G28*(IF(H28="BDI 1",$E$9,IF(H28="BDI 2",$F$9,)))),2),"") -> 0.5 | J28: =IFERROR((I28*F28),"") -> 376.18
