Workbook

Sheet ENCARGOS
A1: PROPONENTE: | B1: PREFEITURA MUNICIPAL DE GARRAFÃO DO NORTE
A2: MUNICÍPIO / UF: | B2: GARRAFÃO DO NORTE / PARÁ
A3: OBJETO: | B3: =BDI!B3 -> CONTRATAÇÃO DE EMPRESA PARA PRESTAÇÃO DE SERVIÇOS DE MÃO DE OBRA QUALIFICADA PARA MANUTENÇÃO DA REDE DE ILUMINAÇÃO PÚBLICA DO MUNICÍPIO DE GARRAFÃO DO NORTE-PA.
A5: PLANILHA DE ENCARGOS SOCIAIS
C6: Mensalista | D6: Horista
C7: % | D7: %
A8: A1 | B8: INSS | C8: 0.05 | D8: 0.05
A9: A2 | B9: SESI | C9: 0.015 | D9: 0.015
A10: A3 | B10: SENAI | C10: 0.01 | D10: 0.01
A11: A4 | B11: INCRA | C11: 0.002 | D11: 0.002
A12: A5 | B12: SEBRAE | C12: 0.006 | D12: 0.006
A13: A6 | B13: Salário Educação | C13: 0.025 | D13: 0.025
A14: A7 | B14: Seguro Contra Acidentes de Trabalho | C14: 0.03 | D14: 0.03
A15: A8 | B15: FGTS | C15: 0.08 | D15: 0.08
A16: A9 | B16: SECONCI | C16: 0 | D16: 0
A17: A | B17: Total | C17: =SUM(C8:C16) -> 0.218 | D17: =SUM(D8:D16) -> 0.218
A19: GRUPO B
A20: B1 | B20: Repouso Semanal Remunerado | C20: 0.1813 | D20: Não incide
A21: B2 | B21: Feriados | C21: 0.0416 | D21: Não incide
A22: B3 | B22: Auxílio - Enfermidade | C22: 0.0087 | D22: 0.0065
A23: B4 | B23: 13º Salário | C23: 0.1122 | D23: 0.0833
A24: B5 | B24: Licença Paternidade | C24: 0.0007 | D24: 0.0005
A25: B6 | B25: Faltas Justificadas | C25: 0.0075 | D25: 0.0056
A26: B7 | B26: Dias de Chuvas | C26: 0.0283 | D26: Não incide
A27: B8 | B27: Auxílio Acidente de Trabalho | C27: 0.001 | D27: 0.0007
A28: B9 | B28: Férias Gozadas | C28: 0.1282 | D28: 0.0953
A29: B10 | B29: Salário Maternidade | C29: 0.0003 | D29: 0.0003
A30: B | B30: Total | C30: =SUM(C20:C29) -> 0.5098 | D30: =SUM(D20:D29) -> 0.1922
A32: GRUPO C
A33: C1 | B33: Aviso Prévio Indenizado | C33: 0.0581 | D33: 0.0432
A34: C2 | B34: Aviso Prévio Trabalhado | C34: 0.0014 | D34: 0.001
A35: C3 | B35: Férias Indenizadas | C35: 0.0177 | D35: 0.0131
A36: C4 | B36: Depósito Rescisão Sem Justa Causa | C36: 0.0296 | D36: 0.022
A37: C5 | B37: Indenização Adicional | C37: 0.0049 | D37: 0.0036
A38: C | B38: Total | C38: =SUM(C33:C37) -> 0.1117 | D38: =SUM(D33:D37) -> 0.0829
A40: GRUPO D
A41: D1 | B41: Reincidência de Grupo A sobre Grupo B | C41: 0.1055 | D41: 0.0377
A42: D2 | B42: Reincidência de Grupo A sobre Aviso Prévio Trabalhado e Reincidência do FGTS sobre Aviso Prévio Indenizado | C42: 0.005 | D42: 0.0037
A43: D | B43: Total | C43: =SUM(C41:C42) -> 0.1105 | D43: =SUM(D41:D42) -> 0.0414
A45: TOTAL (A+B+C+D) | C45: =C17+C30+C38+C43 -> 0.95 | D45: =D17+D30+D38+D43 -> 0.5345
...

Sheet BDI
A1: PLANILHA DE COMPOSIÇÃO DE BDI
A2: Proponente: | B2: =ENCARGOS!$B$1 -> PREFEITURA MUNICIPAL DE GARRAFÃO DO NORTE | G2: Município/UF: | I2: =ENCARGOS!$B$2 -> GARRAFÃO DO NORTE / PARÁ
A3: Objeto: | B3: ='PLAN. ORÇA'!D2 -> CONTRATAÇÃO DE EMPRESA PARA PRESTAÇÃO DE SERVIÇOS DE MÃO DE OBRA QUALIFICADA PARA MANUTENÇÃO DA REDE DE ILUMINAÇÃO PÚBLICA DO MUNICÍPIO DE GARRAFÃO DO NORTE-PA.
A4: Endereço Da Obra: | B4: RUA LUIZ EDUARDO MAGALHÃES – SN, PEDRINHAS - GARRAFÃO DO NORTE - PA
A5: BDI (%): | B5: =K23 -> 0.26523965
A7: Item | B7: Parcela do BDI
A8: 1 | B8: AC = Taxa de Administração Central | K8: 0.0529
A9: 2 | B9: S e G = Taxas de Seguro e Garantia | K9: 0.0025
A10: 3 | B10: R = Taxa de Risco | K10: 0.01
A11: 4 | B11: DF = Taxa de Despesas Financeiras | K11: 0.0101
A12: 5 | B12: L = Taxa de Lucro / Remuneração | K12: 0.074
A13: 6 | B13: I = Taxa de incidência de Impostos (PIS, COFINS e ISS) | K13: =K20 -> 0.0865
A15: Item | B15: Impostos
A16: 6.1 | B16: ISS | K16: 0.05
A17: 6.2 | B17: PIS | K17: 0.0065
A18: 6.3 | B18: COFINS | K18: 0.03
A19: 6.4 | B19: CPRB | K19: 0
I20: Total Impostos = | K20: =SUM(K16:K19) -> 0.0865
A22: Fórmula para o cálculo de BDI
K23: =(((1+K8+K9+K10)*(1+K11)*(1+K12))/(1-K13))-1 -> 0.26523965
A27: Notas:
A28: 1) Alíquota de ISS é determinada pela “Relação de Serviços” do município onde se prestará o serviço conforme art. 1º e art.8º da Lei Complementar nº116/2001.
A29: 2) Alíquota máxima de PIS é de até 1,65% conforme Lei nº10.637/02 em consonância com o Regime de Tributação da Empresa
A30: 3) Alíquota máxima de COFINS é de 3% conforme inciso XX do art. 10 da Lei nº10.833/03.
A32: Obs. Adequado ao Acordão 2622/2013 do TCU
A35: RESPONSÁVEL TÉCNICO ENGº CIVIL - BRENO NOGUEIRA CREA-PA Nº 152096057-3

Sheet CPU
D1: =BDI!B2 -> PREFEITURA MUNICIPAL DE GARRAFÃO DO NORTE | E1: Bancos | G1: B.D.I. | I1: Encargos Sociais
D2: ='PLAN. ORÇA'!D2 -> CONTRATAÇÃO DE EMPRESA PARA PRESTAÇÃO DE SERVIÇOS DE MÃO DE OBRA QUALIFICADA PARA MANUTENÇÃO DA REDE DE ILUMINAÇÃO PÚBLICA DO MUNICÍPIO DE GARRAFÃO DO NORTE-PA. | E2: ='PLAN. ORÇA'!E2:F2 -> SINAPI - 05/2025 - Pará SEDOP - 02/2025 - Pará | G2: ='PLAN. ORÇA'!G2:H2 -> 0.26523965 | I2: Desonerado: embutido nos preços unitário dos insumos de mão de obra, de acordo com as bases.
A3: PLANILHA DE COMPOSIÇÃO DE PREÇO UNITÁRIO
A4: 1 | D4: SERVIÇOS DE MÃO DE OBRA PARA MANUTENÇÃO DA REDE DE ILUMINAÇÃO PÚBLICA DO MUNICÍPIO DE GARRAFÃO DO NORTE.
A5: 1.1 | B5: Código | C5: Banco | D5: Descrição | E5: Tipo | G5: Und | H5: Quant. | I5: Valor Unit | J5: Total
A6: Composição | B6: 105919 | C6: SINAPI | D6: MANUTENÇÃO E INSTALAÇÃO - LUMINÁRIA DE LED PARA ILUMINAÇÃO PÚBLICA, 1000 W | E6: Luminárias Externas | G6: UN | H6: 1 | I6: 94.76 | J6: 94.76
A7: Composição Auxiliar | B7: 88247 | C7: SINAPI | D7: AUXILIAR DE ELETRICISTA COM ENCARGOS COMPLEMENTARES | E7: SEDI - SERVIÇOS DIVERSOS | G7: H | H7: 0.9064 | I7: 24.33 | J7: 22.05
A8: Composição Auxiliar | B8: 105845 | C8: SINAPI | D8: GUINDAUTO HIDRÁULICO, CAPACIDADE MÁXIMA DE CARGA 6200 KG, MOMENTO MÁXIMO DE CARGA 11,7 TM, ALCANCE MÁXIMO HORIZONTAL 9,70 M, INCLUSIVE CAMINHÃO TOCO PBT 16.000 KG, POTÊNCIA DE 189 CV E CESTA AÉREA COM ISOLAMENTO CLASSE C - CHI DIURNO. AF_01/2025 | E8: Custos Horários Produtivo e Improdutivo dos Equipamentos | G8: CHI | H8: 0.0517014 | I8: 73.6 | J8: 3.8
A9: Composição Auxiliar | B9: 88264 | C9: SINAPI | D9: ELETRICISTA COM ENCARGOS COMPLEMENTARES | E9: SEDI - SERVIÇOS DIVERSOS | G9: H | H9: 0.9064 | I9: 28.84 | J9: 26.14
A10: Composição Auxiliar | B10: 105844 | C10: SINAPI | D10: GUINDAUTO HIDRÁULICO, CAPACIDADE MÁXIMA DE CARGA 6200 KG, MOMENTO MÁXIMO DE CARGA 11,7 TM, ALCANCE MÁXIMO HORIZONTAL 9,70 M, INCLUSIVE CAMINHÃO TOCO PBT 16.000 KG, POTÊNCIA DE 189 CV E CESTA AÉREA COM ISOLAMENTO CLASSE C - CHP DIURNO. AF_01/2025 | E10: Custos Horários Produtivo e Improdutivo dos Equipamentos | G10: CHP | H10: 0.2016071 | I10: 212.18 | J10: 42.77
E11: MO sem LS => | F11: 35.74 | G11: LS => | H11: 0 | I11: MO com LS => | J11: 35.74
E12: Valor do BDI => | F12: 25.13 | H12: Valor com BDI => | J12: 119.89
G13: Quant. => | H13: 420,00 | I13: Preço Total => | J13: 50353.8
A15: 1.2 | B15: Código | C15: Banco | D15: Descrição | E15: Tipo | G15: Und | H15: Quant. | I15: Valor Unit | J15: Total
A16: Composição | B16: 101658 | C16: SINAPI | D16: MANUTENÇÃO E INSTALAÇÃO - LUMINÁRIA DE LED PARA ILUMINAÇÃO PÚBLICA, DE 138 W ATÉ 180 W - MANUTENÇÃO | E16: INEL - INSTALAÇÃO ELÉTRICA/ELETRIFICAÇÃO E ILUMINAÇÃO EXTERNA | G16: UN | H16: 1 | I16: 102.77 | J16: 102.77
A17: Composição Auxiliar | B17: 88247 | C17: SINAPI | D17: AUXILIAR DE ELETRICISTA COM ENCARGOS COMPLEMENTARES | E17: SEDI - SERVIÇOS DIVERSOS | G17: H | H17: 0.75 | I17: 24.33 | J17: 18.24
A18: Composição Auxiliar | B18: 88264 | C18: SINAPI | D18: ELETRICISTA COM ENCARGOS COMPLEMENTARES | E18: SEDI - SERVIÇOS DIVERSOS | G18: H | H18: 0.75 | I18: 28.84 | J18: 21.63
A19: Composição Auxiliar | B19: 5928 | C19: SINAPI | D19: GUINDAUTO HIDRÁULICO, CAPACIDADE MÁXIMA DE CARGA 6200 KG, MOMENTO MÁXIMO DE CARGA 11,7 TM, ALCANCE MÁXIMO HORIZONTAL 9,70 M, INCLUSIVE CAMINHÃO TOCO PBT 16.000 KG, POTÊNCIA DE 189 CV - CHP DIURNO. AF_06/2014 | E19: CHOR - CUSTOS HORÁRIOS DE MÁQUINAS E EQUIPAMENTOS | G19: CHP | H19: 0.2016071 | I19: 293.15 | J19: 59.1
A20: Composição Auxiliar | B20: 5930 | C20: SINAPI | D20: GUINDAUTO HIDRÁULICO, CAPACIDADE MÁXIMA DE CARGA 6200 KG, MOMENTO MÁXIMO DE CARGA 11,7 TM, ALCANCE MÁXIMO HORIZONTAL 9,70 M, INCLUSIVE CAMINHÃO TOCO PBT 16.000 KG, POTÊNCIA DE 189 CV - CHI DIURNO. AF_06/2014 | E20: CHOR - CUSTOS HORÁRIOS DE MÁQUINAS E EQUIPAMENTOS | G20: CHI | H20: 0.0517014 | I20: 73.57 | J20: 3.8
E21: MO sem LS => | F21: 30.51 | G21: LS => | H21: 0 | I21: MO com LS => | J21: 30.51
E22: Valor do BDI => | F22: 27.25 | H22: Valor com BDI => | J22: 130.02
G23: Quant. => | H23: 780,00 | I23: Preço Total => | J23: 101415.6
A25: 1.3 | B25: Código | C25: Banco | D25: Descrição | E25: Tipo | G25: Und | H25: Quant. | I25: Valor Unit | J25: Total
A26: Composição | B26: 101660 | C26: SINAPI | D26: MANUTENÇÃO E INSTALAÇÃO - LUMINÁRIA DE LED PARA ILUMINAÇÃO PÚBLICA, DE 240 W ATÉ 350 W - SERVIÇOS DE MANUTENÇÃO | E26: INEL - INSTALAÇÃO ELÉTRICA/ELETRIFICAÇÃO E ILUMINAÇÃO EXTERNA | G26: UN | H26: 1 | I26: 108.37 | J26: 108.37
A27: Composição Auxiliar | B27: 88264 | C27: SINAPI | D27: ELETRICISTA COM ENCARGOS COMPLEMENTARES | E27: SEDI - SERVIÇOS DIVERSOS | G27: H | H27: 0.75 | I27: 28.84 | J27: 21.63
A28: Composição Auxiliar | B28: 5928 | C28: SINAPI | D28: GUINDAUTO HIDRÁULICO, CAPACIDADE MÁXIMA DE CARGA 6200 KG, MOMENTO MÁXIMO DE CARGA 11,7 TM, ALCANCE MÁXIMO HORIZONTAL 9,70 M, INCLUSIVE CAMINHÃO TOCO PBT 16.000 KG, POTÊNCIA DE 189 CV - CHP DIURNO. AF_06/2014 | E28: CHOR - CUSTOS HORÁRIOS DE MÁQUINAS E EQUIPAMENTOS | G28: CHP | H28: 0.2016071 | I28: 293.15 | J28: 59.1
A29: Composição Auxiliar | B29: 5930 | C29: SINAPI | D29: GUINDAUTO HIDRÁULICO, CAPACIDADE MÁXIMA DE CARGA 6200 KG, MOMENTO MÁXIMO DE CARGA 11,7 TM, ALCANCE MÁXIMO HORIZONTAL 9,70 M, INCLUSIVE CAMINHÃO TOCO PBT 16.000 KG, POTÊNCIA DE 189 CV - CHI DIURNO. AF_06/2014 | E29: CHOR - CUSTOS HORÁRIOS DE MÁQUINAS E EQUIPAMENTOS | G29: CHI | H29: 0.0517014 | I29: 73.57 | J29: 3.8
A30: Composição Auxiliar | B30: 88247 | C30: SINAPI | D30: AUXILIAR DE ELETRICISTA COM ENCARGOS COMPLEMENTARES | E30: SEDI - SERVIÇOS DIVERSOS | G30: H | H30: 0.98 | I30: 24.33 | J30: 23.84
E31: MO sem LS => | F31: 33.84 | G31: LS => | H31: 0 | I31: MO com LS => | J31: 33.84
E32: Valor do BDI => | F32: 28.73 | H32: Valor com BDI => | J32: 137.1
G33: Quant. => | H33: 560,00 | I33: Preço Total => | J33: 76776
A35: 1.4 | B35: Código | C35: Banco | D35: Descrição | E35: Tipo | G35: Und | H35: Quant. | I35: Valor Unit | J35: Total
A36: Composição | B36: 101654 | C36: SINAPI | D36: MANUTENÇÃO E INSTALAÇÃO - LUMINÁRIA DE LED PARA ILUMINAÇÃO PÚBLICA, DE 33 W ATÉ 50 W - SERVIÇOS DE MANUTENÇÃO | E36: INEL - INSTALAÇÃO ELÉTRICA/ELETRIFICAÇÃO E ILUMINAÇÃO EXTERNA | G36: UN | H36: 1 | I36: 113.03 | J36: 113.03
A37: Composição Auxiliar | B37: 5930 | C37: SINAPI | D37: GUINDAUTO HIDRÁULICO, CAPACIDADE MÁXIMA DE CARGA 6200 KG, MOMENTO MÁXIMO DE CARGA 11,7 TM, ALCANCE MÁXIMO HORIZONTAL 9,70 M, INCLUSIVE CAMINHÃO TOCO PBT 16.000 KG, POTÊNCIA DE 189 CV - CHI DIURNO. AF_06/2014 | E37: CHOR - CUSTOS HORÁRIOS DE MÁQUINAS E EQUIPAMENTOS | G37: CHI | H37: 0.0517014 | I37: 73.57 | J37: 3.8
A38: Composição Auxiliar | B38: 5928 | C38: SINAPI | D38: GUINDAUTO HIDRÁULICO, CAPACIDADE MÁXIMA DE CARGA 6200 KG, MOMENTO MÁXIMO DE CARGA 11,7 TM, ALCANCE MÁXIMO HORIZONTAL 9,70 M, INCLUSIVE CAMINHÃO TOCO PBT 16.000 KG, POTÊNCIA DE 189 CV - CHP DIURNO. AF_06/2014 | E38: CHOR - CUSTOS HORÁRIOS DE MÁQUINAS E EQUIPAMENTOS | G38: CHP | H38: 0.2016071 | I38: 293.15 | J38: 59.1
A39: Composição Auxiliar | B39: 88264 | C39: SINAPI | D39: ELETRICISTA COM ENCARGOS COMPLEMENTARES | E39: SEDI - SERVIÇOS DIVERSOS | G39: H | H39: 0.9064 | I39: 28.84 | J39: 26.14
A40: Composição Auxiliar | B40: 88247 | C40: SINAPI | D40: AUXILIAR DE ELETRICISTA COM ENCARGOS COMPLEMENTARES | E40: SEDI - SERVIÇOS DIVERSOS | G40: H | H40: 0.9864 | I40: 24.33 | J40: 23.99
E41: MO sem LS => | F41: 36.9 | G41: LS => | H41: 0 | I41: MO com LS => | J41: 36.9
E42: Valor do BDI => | F42: 29.97 | H42: Valor com BDI => | J42: 143
G43: Quant. => | H43: 1.856,00 | I43: Preço Total => | J43: 265408
...

Sheet PLAN. ORÇA
D1: =CPU!$D$1 -> PREFEITURA MUNICIPAL DE GARRAFÃO DO NORTE | E1: Bancos | G1: B.D.I. | I1: Encargos Sociais
D2: CONTRATAÇÃO DE EMPRESA PARA PRESTAÇÃO DE SERVIÇOS DE MÃO DE OBRA QUALIFICADA PARA MANUTENÇÃO DA REDE DE ILUMINAÇÃO PÚBLICA DO MUNICÍPIO DE GARRAFÃO DO NORTE-PA. | E2: SINAPI - 05/2025 - Pará SEDOP - 02/2025 - Pará | G2: =BDI!K23 -> 0.26523965 | I2: Desonerado: embutido nos preços unitário dos insumos de mão de obra, de acordo com as bases.
A3: PLANILHA ORÇAMENTÁRIA DE PREÇOS ESTIMADOS
A4: Item | B4: Código | C4: Banco | D4: Descrição | E4: Und | F4: Quant. | G4: Valor Unit | H4: Valor Unit com BDI | I4: Total | J4: Peso (%)
A5: 1.0 | D5: SERVIÇOS DE MÃO DE OBRA PARA MANUTENÇÃO DA REDE DE ILUMINAÇÃO PÚBLICA DO MUNICÍPIO DE GARRAFÃO DO NORTE.
A6: 1.1 | B6: 105919 | C6: SINAPI | D6: MANUTENÇÃO E INSTALAÇÃO - LUMINÁRIA DE LED PARA ILUMINAÇÃO PÚBLICA, 1000 W | E6: UN | F6: 420 | G6: 94.76 | H6: 119.89 | I6: 50353.8 | J6: 0.059024956
A7: 1.2 | B7: 101658 | C7: SINAPI | D7: MANUTENÇÃO E INSTALAÇÃO - LUMINÁRIA DE LED PARA ILUMINAÇÃO PÚBLICA, DE 138 W ATÉ 180 W - MANUTENÇÃO | E7: UN | F7: 780 | G7: 102.77 | H7: 130.02 | I7: 101415.6 | J7: 0.11887983
A8: 1.3 | B8: 101660 | C8: SINAPI | D8: MANUTENÇÃO E INSTALAÇÃO - LUMINÁRIA DE LED PARA ILUMINAÇÃO PÚBLICA, DE 240 W ATÉ 350 W - SERVIÇOS DE MANUTENÇÃO | E8: UN | F8: 560 | G8: 108.37 | H8: 137.1 | I8: 76776 | J8: 0.08999718
A9: 1.4 | B9: 101654 | C9: SINAPI | D9: MANUTENÇÃO E INSTALAÇÃO - LUMINÁRIA DE LED PARA ILUMINAÇÃO PÚBLICA, DE 33 W ATÉ 50 W - SERVIÇOS DE MANUTENÇÃO | E9: UN | F9: 1856 | G9: 113.03 | H9: 143 | I9: 265408 | J9: 0.31111248
A10: 1.5 | B10: 101661 | C10: SINAPI | D10: SUBSTITUIÇÃO DE LUMINÁRIA DE VAPOR DE MERCÚRIO/VAPOR DE SÓDIO POR LUMINÁRIA DE LED PARA ILUMINAÇÃO PÚBLICA (NÃO INCLUI FORNECIMENTO). AF_02/2025_PS | E10: UN | F10: 1700 | G10: 155.19 | H10: 196.34 | I10: 333778 | J10: 0.3912561
A11: 1.6 | B11: 105922 | C11: SINAPI | D11: MANUTENÇÃO E INSTALAÇÃO - LUMINÁRIA REFLETOR LED PARA ILUMINAÇÃO PÚBLICA, 600 W - SERVIÇOS DE MANUTENÇÃO | E11: UN | F11: 350 | G11: 49.38 | H11: 62.47 | I11: 21864.5 | J11: 0.025629667
A12: 1.7 | B12: 97661 | C12: SINAPI | D12: MANUTENÇÃO E INSTALAÇÃO - REMOÇÃO DE CABOS ELÉTRICOS, COM SEÇÃO DE 10 MM², FORMA MANUAL, SEM REAPROVEITAMENTO. AF_09/2023 | E12: M | F12: 1500 | G12: 0.77 | H12: 0.97 | I12: 1455 | J12: 0.0017055577
A13: 1.8 | B13: 97664 | C13: SINAPI | D13: MANUTENÇÃO E INSTALAÇÃO - REMOÇÃO DE ACESSÓRIOS, DE FORMA MANUAL, SEM REAPROVEITAMENTO. AF_09/2023 (Relé, reator, suposte p/luminária de iluminação pública) | E13: UN | F13: 950 | G13: 1.7 | H13: 2.15 | I13: 2042.5 | J13: 0.0023942279
F15: Total sem BDI | H15: 674306.68
F16: Total do BDI | H16: 178786.72
F17: Total Geral | H17: 853093.4
A18: RESPONSÁVEL TÉCNICO ENGº CIVIL - BRENO NOGUEIRA CREA-PA Nº 152096057-3

Sheet cff
B1: ='PLAN. ORÇA'!$D$1 -> PREFEITURA MUNICIPAL DE GARRAFÃO DO NORTE | J1: Bancos | L1: B.D.I. | N1: Encargos Sociais
B2: ='PLAN. ORÇA'!$D$2 -> CONTRATAÇÃO DE EMPRESA PARA PRESTAÇÃO DE SERVIÇOS DE MÃO DE OBRA QUALIFICADA PARA MANUTENÇÃO DA REDE DE ILUMINAÇÃO PÚBLICA DO MUNICÍPIO DE GARRAFÃO DO NORTE-PA. | J2: SINAPI - 04/2025 - Pará SEDOP - 02/2025 - Pará | L2: =BDI!B5 -> 0.26523965 | N2: Desonerado: embutido nos preços unitário dos insumos de mão de obra, de acordo com as bases.
A3: Cronograma Físico/Financeiro
A4: Item | B4: Descrição | C4: Total Por Etapa | D4: 30 DIAS | E4: 60 DIAS | F4: 90 DIAS | G4: 120 DIAS | H4: 150 DIAS | I4: 180 DIAS | J4: 210 DIAS | K4: 240 DIAS | L4: 270 DIAS | M4: 300 DIAS | N4: 330 DIAS | O4: 360 DIAS
A5: 1.0 | B5: SERVIÇOS DE MÃO DE OBRA PARA MANUTENÇÃO DA REDE DE ILUMINAÇÃO PÚBLICA DO MUNICÍPIO DE GARRAFÃO DO NORTE. | C5: 100,00% 853.093,40 | D5: 10,00% 85.309,34 | E5: 10,00% 85.309,34 | F5: 5,00% 42.654,67 | G5: 5,00% 42.654,67 | H5: 5,00% 42.654,67 | I5: 5,00% 42.654,67 | J5: 10,00% 85.309,34 | K5: 10,00% 85.309,34 | L5: 10,00% 85.309,34 | M5: 10,00% 85.309,34 | N5: 10,00% 85.309,34 | O5: 10,00% 85.309,34
A6: Porcentagem | D6: 10,0% | E6: 10,0% | F6: 5,0% | G6: 5,0% | H6: 5,0% | I6: 5,0% | J6: 10,0% | K6: 10,0% | L6: 10,0% | M6: 10,0% | N6: 10,0% | O6: 10,0%
A7: Custo | D7: 85.309,34 | E7: 85.309,34 | F7: 42.654,67 | G7: 42.654,67 | H7: 42.654,67 | I7: 42.654,67 | J7: 85.309,34 | K7: 85.309,34 | L7: 85.309,34 | M7: 85.309,34 | N7: 85.309,34 | O7: 85.309,34
A8: Porcentagem Acumulado | D8: 10,0% | E8: 20,0% | F8: 25,0% | G8: 30,0% | H8: 35,0% | I8: 40,0% | J8: 50,0% | K8: 60,0% | L8: 70,0% | M8: 80,0% | N8: 90,0% | O8: 100,0%
A9: Custo Acumulado | D9: 85.309,34 | E9: 170.618,68 | F9: 213.273,35 | G9: 255.928,02 | H9: 298.582,69 | I9: 341.237,36 | J9: 426.546,70 | K9: 511.856,04 | L9: 597.165,38 | M9: 682.474,72 | N9: 767.784,06 | O9: 853.093,40
A14: RESPONSÁVEL TÉCNICO ENGº CIVIL - BRENO NOGUEIRA CREA-PA Nº 152096057-3
