Workbook
Name \0: #REF!
Name \0: #REF!
Name \0: #REF!
Name \c: '[1]Bm 8'!#REF!
Name \c: '[1]Bm 8'!#REF!
Name \c: '[1]Bm 8'!#REF!
Name \d: '[1]Bm 8'!#REF!
Name \d: '[1]Bm 8'!#REF!
Name \d: '[1]Bm 8'!#REF!
Name \f: #N/A
Name \p: #N/A
Name \q: '[1]Bm 8'!#REF!
Name \q: '[1]Bm 8'!#REF!
Name \q: '[1]Bm 8'!#REF!
Name \s: '[1]Bm 8'!#REF!
Name \s: '[1]Bm 8'!#REF!
Name \s: '[1]Bm 8'!#REF!
Name \x: '[1]Bm 8'!#REF!
Name \x: '[1]Bm 8'!#REF!
Name \x: '[1]Bm 8'!#REF!
Name ______TR2: #REF!
Name ______TR2: #REF!
Name _____BOR1: '[1]Bm 8'!#REF!
Name _____BOR1: '[1]Bm 8'!#REF!
Name _____TR2: #REF!
Name _____TR2: #REF!
Name _____TR2: #REF!
Name ____BOR1: '[1]Bm 8'!#REF!
Name ____BOR1: '[1]Bm 8'!#REF!
Name ____TR2: #REF!
Name ____TR2: #REF!
Name ____TR2: #REF!
Name ___BOR1: '[1]Bm 8'!#REF!
Name ___BOR1: '[1]Bm 8'!#REF!
Name ___MAT1: #REF!
Name ___MAT1: #REF!
Name ___TR2: #REF!
Name ___TR2: #REF!
Name ___TR2: #REF!
Name __BOR1: '[1]Bm 8'!#REF!
Name __BOR1: '[1]Bm 8'!#REF!
Name __MAT1: #REF!
Name __MAT1: #REF!
Name __TR2: #REF!
Name __TR2: #REF!
Name __TR2: #REF!
Name __wal1: #REF!
Name __wal1: #REF!
Name __wal10: #REF!
Name __wal10: #REF!
Name __wal11: #REF!
Name __wal11: #REF!
Name __wal12: #REF!
Name __wal12: #REF!
Name __wal13: #REF!
Name __wal13: #REF!
Name __wal14: #REF!
Name __wal14: #REF!
Name __wal15: #REF!
Name __wal15: #REF!

Sheet QUANT-SERV-DRE-R AZUL
A1: Sem escoramento | F1: H= | I1: 1.3
A2: Esc. Contínuo | F2: H> | I2: 2.6
A7: PROJETO DE DRENAGEM DE ÁGUAS PLUVIÁIS
A8: RONDON DO PARÁ - BAIRRO RECANTO AZUL | X8: DATA: | Y8: 42134
A9: Planilha de quantidades de serviços drenagem de águas pluviais
A11: TRECHO | C11: EXT | E11: DIÂMETRO | J11: C. TERRENO | L11: C. COLETOR | N11: L | O11: PROFUND. | P11: Vol. Esc | Q11: Apiloam. | R11: BERÇO | T11: PROFUND. | U11: vol tubo | V11: Vol. R | W11: Bota fora | X11: ESCORAMENTO
A12: PVm | B12: PVj | C12: m | E12: INTERNO (m) | I12: EXTERNO (m) | J12: MONT. | K12: JUS. | L12: MONT. | M12: JUS. | N12: (m) | O12: MÉDIA (HM) (m) | P12: m3 | Q12: m² | R12: HB(m) | S12: Vol. B (m3) | T12: MÉDIA (m) | U12: m3 | V12: m3 | W12: m3 | X12: SEM ESCORAM. H <1,30m | Y12: DESCONTINUO 1,30m< H <2,60m | Z12: CONTÍNUO H >2,60m
A14: =#REF! -> #REF! | B14: =#REF! -> #REF! | C14: =#REF! -> #REF! | D14: =IF(E14=0,C14,2*C14) -> #REF! | F14: =H14/1000 -> #REF! | H14: =#REF! -> #REF! | I14: =F14*1.2 -> #REF! | J14: =#REF! -> #REF! | K14: =#REF! -> #REF! | L14: =#REF! -> #REF! | M14: =#REF! -> #REF! | N14: =IF(E14=0,I14+0.6,2*I14+0.6+0.5) -> #REF! | O14: =((J14-L14)+(K14-M14))/2 -> #REF! | P14: =N14*(O14+R14)*C14 -> #REF! | Q14: =N14*C14 -> #REF! | R14: 0.2 | S14: =N14*R14*C14 -> #REF! | T14: 1.605 | U14: =((3.1416*(I14^2))/4*C14) -> #REF! | V14: =IF(E14=0,P14-(S14+U14),P14-(2*U14+S14)) -> #REF! | W14: =(P14-V14)*1.3 -> #REF! | X14: =IF((O14+R14)<=1.3,(O14+R14)*2*C14,0) -> #REF! | Y14: =IF((O14+R14)<=$I$2,(O14+R14)*2*C14,0)-X14 -> #REF! | Z14: =IF((O14+R14)>$I$2,(O14+R14)*2*C14,0) -> #REF!
A15: =#REF! -> #REF! | B15: =#REF! -> #REF! | C15: =#REF! -> #REF! | D15: =IF(E15=0,C15,2*C15) -> #REF! | F15: =H15/1000 -> #REF! | H15: =#REF! -> #REF! | I15: =F15*1.2 -> #REF! | J15: =#REF! -> #REF! | K15: =#REF! -> #REF! | L15: =#REF! -> #REF! | M15: =#REF! -> #REF! | N15: =IF(E15=0,I15+0.6,2*I15+0.6+0.5) -> #REF! | O15: =((J15-L15)+(K15-M15))/2 -> #REF! | P15: =N15*(O15+R15)*C15 -> #REF! | Q15: =N15*C15 -> #REF! | R15: 0.2 | S15: =N15*R15*C15 -> #REF! | T15: 1.605 | U15: =((3.1416*(I15^2))/4*C15) -> #REF! | V15: =IF(E15=0,P15-(S15+U15),P15-(2*U15+S15)) -> #REF! | W15: =(P15-V15)*1.3 -> #REF! | X15: =IF((O15+R15)<=1.3,(O15+R15)*2*C15,0) -> #REF! | Y15: =IF((O15+R15)<=$I$2,(O15+R15)*2*C15,0)-X15 -> #REF! | Z15: =IF((O15+R15)>$I$2,(O15+R15)*2*C15,0) -> #REF!
A16: =#REF! -> #REF! | B16: =#REF! -> #REF! | C16: =#REF! -> #REF! | D16: =IF(E16=0,C16,2*C16) -> #REF! | F16: =H16/1000 -> #REF! | H16: =#REF! -> #REF! | I16: =F16*1.2 -> #REF! | J16: =#REF! -> #REF! | K16: =#REF! -> #REF! | L16: =#REF! -> #REF! | M16: =#REF! -> #REF! | N16: =IF(E16=0,I16+0.6,2*I16+0.6+0.5) -> #REF! | O16: =((J16-L16)+(K16-M16))/2 -> #REF! | P16: =N16*(O16+R16)*C16 -> #REF! | Q16: =N16*C16 -> #REF! | R16: 0.2 | S16: =N16*R16*C16 -> #REF! | T16: 1.605 | U16: =((3.1416*(I16^2))/4*C16) -> #REF! | V16: =IF(E16=0,P16-(S16+U16),P16-(2*U16+S16)) -> #REF! | W16: =(P16-V16)*1.3 -> #REF! | X16: =IF((O16+R16)<=1.3,(O16+R16)*2*C16,0) -> #REF! | Y16: =IF((O16+R16)<=$I$2,(O16+R16)*2*C16,0)-X16 -> #REF! | Z16: =IF((O16+R16)>$I$2,(O16+R16)*2*C16,0) -> #REF!
A17: =#REF! -> #REF! | B17: =#REF! -> #REF! | C17: =#REF! -> #REF! | D17: =IF(E17=0,C17,2*C17) -> #REF! | F17: =H17/1000 -> #REF! | H17: =#REF! -> #REF! | I17: =F17*1.2 -> #REF! | J17: =#REF! -> #REF! | K17: =#REF! -> #REF! | L17: =#REF! -> #REF! | M17: =#REF! -> #REF! | N17: =IF(E17=0,I17+0.6,2*I17+0.6+0.5) -> #REF! | O17: =((J17-L17)+(K17-M17))/2 -> #REF! | P17: =N17*(O17+R17)*C17 -> #REF! | Q17: =N17*C17 -> #REF! | R17: 0.2 | S17: =N17*R17*C17 -> #REF! | T17: 1.605 | U17: =((3.1416*(I17^2))/4*C17) -> #REF! | V17: =IF(E17=0,P17-(S17+U17),P17-(2*U17+S17)) -> #REF! | W17: =(P17-V17)*1.3 -> #REF! | X17: =IF((O17+R17)<=1.3,(O17+R17)*2*C17,0) -> #REF! | Y17: =IF((O17+R17)<=$I$2,(O17+R17)*2*C17,0)-X17 -> #REF! | Z17: =IF((O17+R17)>$I$2,(O17+R17)*2*C17,0) -> #REF!
A18: =#REF! -> #REF! | B18: =#REF! -> #REF! | C18: =#REF! -> #REF! | D18: =IF(E18=0,C18,2*C18) -> #REF! | F18: =H18/1000 -> #REF! | H18: =#REF! -> #REF! | I18: =F18*1.2 -> #REF! | J18: =#REF! -> #REF! | K18: =#REF! -> #REF! | L18: =#REF! -> #REF! | M18: =#REF! -> #REF! | N18: =IF(E18=0,I18+0.6,2*I18+0.6+0.5) -> #REF! | O18: =((J18-L18)+(K18-M18))/2 -> #REF! | P18: =N18*(O18+R18)*C18 -> #REF! | Q18: =N18*C18 -> #REF! | R18: 0.2 | S18: =N18*R18*C18 -> #REF! | T18: 1.605 | U18: =((3.1416*(I18^2))/4*C18) -> #REF! | V18: =IF(E18=0,P18-(S18+U18),P18-(2*U18+S18)) -> #REF! | W18: =(P18-V18)*1.3 -> #REF! | X18: =IF((O18+R18)<=1.3,(O18+R18)*2*C18,0) -> #REF! | Y18: =IF((O18+R18)<=$I$2,(O18+R18)*2*C18,0)-X18 -> #REF! | Z18: =IF((O18+R18)>$I$2,(O18+R18)*2*C18,0) -> #REF!
A19: =#REF! -> #REF! | B19: =#REF! -> #REF! | C19: =#REF! -> #REF! | D19: =IF(E19=0,C19,2*C19) -> #REF! | F19: =H19/1000 -> #REF! | H19: =#REF! -> #REF! | I19: =F19*1.2 -> #REF! | J19: =#REF! -> #REF! | K19: =#REF! -> #REF! | L19: =#REF! -> #REF! | M19: =#REF! -> #REF! | N19: =IF(E19=0,I19+0.6,2*I19+0.6+0.5) -> #REF! | O19: =((J19-L19)+(K19-M19))/2 -> #REF! | P19: =N19*(O19+R19)*C19 -> #REF! | Q19: =N19*C19 -> #REF! | R19: 0.2 | S19: =N19*R19*C19 -> #REF! | T19: 1.605 | U19: =((3.1416*(I19^2))/4*C19) -> #REF! | V19: =IF(E19=0,P19-(S19+U19),P19-(2*U19+S19)) -> #REF! | W19: =(P19-V19)*1.3 -> #REF! | X19: =IF((O19+R19)<=1.3,(O19+R19)*2*C19,0) -> #REF! | Y19: =IF((O19+R19)<=$I$2,(O19+R19)*2*C19,0)-X19 -> #REF! | Z19: =IF((O19+R19)>$I$2,(O19+R19)*2*C19,0) -> #REF!
A20: =#REF! -> #REF! | B20: =#REF! -> #REF! | C20: =#REF! -> #REF! | D20: =IF(E20=0,C20,2*C20) -> #REF! | F20: =H20/1000 -> #REF! | H20: =#REF! -> #REF! | I20: =F20*1.2 -> #REF! | J20: =#REF! -> #REF! | K20: =#REF! -> #REF! | L20: =#REF! -> #REF! | M20: =#REF! -> #REF! | N20: =IF(E20=0,I20+0.6,2*I20+0.6+0.5) -> #REF! | O20: =((J20-L20)+(K20-M20))/2 -> #REF! | P20: =N20*(O20+R20)*C20 -> #REF! | Q20: =N20*C20 -> #REF! | R20: 0.2 | S20: =N20*R20*C20 -> #REF! | T20: 1.605 | U20: =((3.1416*(I20^2))/4*C20) -> #REF! | V20: =IF(E20=0,P20-(S20+U20),P20-(2*U20+S20)) -> #REF! | W20: =(P20-V20)*1.3 -> #REF! | X20: =IF((O20+R20)<=1.3,(O20+R20)*2*C20,0) -> #REF! | Y20: =IF((O20+R20)<=$I$2,(O20+R20)*2*C20,0)-X20 -> #REF! | Z20: =IF((O20+R20)>$I$2,(O20+R20)*2*C20,0) -> #REF!
A21: =#REF! -> #REF! | B21: =#REF! -> #REF! | C21: =#REF! -> #REF! | D21: =IF(E21=0,C21,2*C21) -> #REF! | F21: =H21/1000 -> #REF! | H21: =#REF! -> #REF! | I21: =F21*1.2 -> #REF! | J21: =#REF! -> #REF! | K21: =#REF! -> #REF! | L21: =#REF! -> #REF! | M21: =#REF! -> #REF! | N21: =IF(E21=0,I21+0.6,2*I21+0.6+0.5) -> #REF! | O21: =((J21-L21)+(K21-M21))/2 -> #REF! | P21: =N21*(O21+R21)*C21 -> #REF! | Q21: =N21*C21 -> #REF! | R21: 0.2 | S21: =N21*R21*C21 -> #REF! | T21: 1.605 | U21: =((3.1416*(I21^2))/4*C21) -> #REF! | V21: =IF(E21=0,P21-(S21+U21),P21-(2*U21+S21)) -> #REF! | W21: =(P21-V21)*1.3 -> #REF! | X21: =IF((O21+R21)<=1.3,(O21+R21)*2*C21,0) -> #REF! | Y21: =IF((O21+R21)<=$I$2,(O21+R21)*2*C21,0)-X21 -> #REF! | Z21: =IF((O21+R21)>$I$2,(O21+R21)*2*C21,0) -> #REF!
A22: =#REF! -> #REF! | B22: =#REF! -> #REF! | C22: =#REF! -> #REF! | D22: =IF(E22=0,C22,2*C22) -> #REF! | F22: =H22/1000 -> #REF! | H22: =#REF! -> #REF! | I22: =F22*1.2 -> #REF! | J22: =#REF! -> #REF! | K22: =#REF! -> #REF! | L22: =#REF! -> #REF! | M22: =#REF! -> #REF! | N22: =IF(E22=0,I22+0.6,2*I22+0.6+0.5) -> #REF! | O22: =((J22-L22)+(K22-M22))/2 -> #REF! | P22: =N22*(O22+R22)*C22 -> #REF! | Q22: =N22*C22 -> #REF! | R22: 0.2 | S22: =N22*R22*C22 -> #REF! | T22: 1.605 | U22: =((3.1416*(I22^2))/4*C22) -> #REF! | V22: =IF(E22=0,P22-(S22+U22),P22-(2*U22+S22)) -> #REF! | W22: =(P22-V22)*1.3 -> #REF! | X22: =IF((O22+R22)<=1.3,(O22+R22)*2*C22,0) -> #REF! | Y22: =IF((O22+R22)<=$I$2,(O22+R22)*2*C22,0)-X22 -> #REF! | Z22: =IF((O22+R22)>$I$2,(O22+R22)*2*C22,0) -> #REF!
A23: =#REF! -> #REF! | B23: =#REF! -> #REF! | C23: =#REF! -> #REF! | D23: =IF(E23=0,C23,2*C23) -> #REF! | F23: =H23/1000 -> #REF! | H23: =#REF! -> #REF! | I23: =F23*1.2 -> #REF! | J23: =#REF! -> #REF! | K23: =#REF! -> #REF! | L23: =#REF! -> #REF! | M23: =#REF! -> #REF! | N23: =IF(E23=0,I23+0.6,2*I23+0.6+0.5) -> #REF! | O23: =((J23-L23)+(K23-M23))/2 -> #REF! | P23: =N23*(O23+R23)*C23 -> #REF! | Q23: =N23*C23 -> #REF! | R23: 0.2 | S23: =N23*R23*C23 -> #REF! | T23: 1.605 | U23: =((3.1416*(I23^2))/4*C23) -> #REF! | V23: =IF(E23=0,P23-(S23+U23),P23-(2*U23+S23)) -> #REF! | W23: =(P23-V23)*1.3 -> #REF! | X23: =IF((O23+R23)<=1.3,(O23+R23)*2*C23,0) -> #REF! | Y23: =IF((O23+R23)<=$I$2,(O23+R23)*2*C23,0)-X23 -> #REF! | Z23: =IF((O23+R23)>$I$2,(O23+R23)*2*C23,0) -> #REF!
A24: =#REF! -> #REF! | B24: =#REF! -> #REF! | C24: =#REF! -> #REF! | D24: =IF(E24=0,C24,2*C24) -> #REF! | F24: =H24/1000 -> #REF! | H24: =#REF! -> #REF! | I24: =F24*1.2 -> #REF! | J24: =#REF! -> #REF! | K24: =#REF! -> #REF! | L24: =#REF! -> #REF! | M24: =#REF! -> #REF! | N24: =IF(E24=0,I24+0.6,2*I24+0.6+0.5) -> #REF! | O24: =((J24-L24)+(K24-M24))/2 -> #REF! | P24: =N24*(O24+R24)*C24 -> #REF! | Q24: =N24*C24 -> #REF! | R24: 0.2 | S24: =N24*R24*C24 -> #REF! | T24: 1.605 | U24: =((3.1416*(I24^2))/4*C24) -> #REF! | V24: =IF(E24=0,P24-(S24+U24),P24-(2*U24+S24)) -> #REF! | W24: =(P24-V24)*1.3 -> #REF! | X24: =IF((O24+R24)<=1.3,(O24+R24)*2*C24,0) -> #REF! | Y24: =IF((O24+R24)<=$I$2,(O24+R24)*2*C24,0)-X24 -> #REF! | Z24: =IF((O24+R24)>$I$2,(O24+R24)*2*C24,0) -> #REF!
A25: 4A | B25: 9 | C25: 74 | F25: 1 | I25: 1.2 | J25: =209.18 -> 209.18 | K25: 205 | L25: 208.3 | M25: 203.35 | N25: =IF(E25=0,I25+0.6,2*I25+0.6+0.5) -> 1.8 | O25: =((J25-L25)+(K25-M25))/2 -> 1.265 | P25: =N25*(O25+R25)*C25 -> 328.338 | Q25: =N25*C25 -> 133.2 | R25: 1.2 | S25: =N25*R25*C25 -> 159.84 | T25: 2.605 | U25: =((3.1416*(I25^2))/4*C25) -> 83.692224 | V25: =IF(E25=0,P25-(S25+U25),P25-(2*U25+S25)) -> 84.805776 | W25: =(P25-V25)*1.3 -> 316.59189 | X25: =IF((O25+R25)<=1.3,(O25+R25)*2*C25,0) -> 0 | Y25: =IF((O25+R25)<=$I$2,(O25+R25)*2*C25,0)-X25 -> 364.82 | Z25: =IF((O25+R25)>$I$2,(O25+R25)*2*C25,0) -> 0
A26: 6 | B26: 9 | C26: 67 | F26: 1 | I26: 1.2 | J26: 211 | K26: 205 | L26: 207.88 | M26: 203.35 | N26: =IF(E26=0,I26+0.6,2*I26+0.6+0.5) -> 1.8 | O26: =((J26-L26)+(K26-M26))/2 -> 2.385 | P26: =N26*(O26+R26)*C26 -> 552.951 | Q26: =N26*C26 -> 120.6 | R26: 2.2 | S26: =N26*R26*C26 -> 265.32 | T26: 3.605 | U26: =((3.1416*(I26^2))/4*C26) -> 75.775392 | V26: =IF(E26=0,P26-(S26+U26),P26-(2*U26+S26)) -> 211.85561 | W26: =(P26-V26)*1.3 -> 443.42401 | X26: =IF((O26+R26)<=1.3,(O26+R26)*2*C26,0) -> 0 | Y26: =IF((O26+R26)<=$I$2,(O26+R26)*2*C26,0)-X26 -> 0 | Z26: =IF((O26+R26)>$I$2,(O26+R26)*2*C26,0) -> 614.39
A27: 10 | B27: 11 | C27: 44 | F27: 1 | I27: 1.2 | J27: 206.25 | K27: 201.5 | L27: 203.28 | M27: 200.2 | N27: =IF(E27=0,I27+0.6,2*I27+0.6+0.5) -> 1.8 | O27: =((J27-L27)+(K27-M27))/2 -> 2.135 | P27: =N27*(O27+R27)*C27 -> 422.532 | Q27: =N27*C27 -> 79.2 | R27: 3.2 | S27: =N27*R27*C27 -> 253.44 | T27: 4.605 | U27: =((3.1416*(I27^2))/4*C27) -> 49.762944 | V27: =IF(E27=0,P27-(S27+U27),P27-(2*U27+S27)) -> 119.32906 | W27: =(P27-V27)*1.3 -> 394.16383 | X27: =IF((O27+R27)<=1.3,(O27+R27)*2*C27,0) -> 0 | Y27: =IF((O27+R27)<=$I$2,(O27+R27)*2*C27,0)-X27 -> 0 | Z27: =IF((O27+R27)>$I$2,(O27+R27)*2*C27,0) -> 469.48
A39: LIGAÇÃO BL/PV | C39: =#REF! -> #REF! | F39: 0.5 | H39: =#REF! -> #REF! | I39: =F39*1.2 -> 0.6 | N39: =I39+0.6 -> 1.2 | O39: 1.2 | P39: =N39*(O39+R39)*C39 -> #REF! | Q39: =N39*C39 -> #REF! | R39: 0.2 | S39: =N39*R39*C39 -> #REF! | T39: 1.4 | U39: =((3.1416*(I39^2))/4*C39) -> #REF! | V39: =IF(E39=0,P39-(S39+U39),P39-(2*U39+S39)) -> #REF! | W39: =(P39-V39)*1.3 -> #REF! | X39: =IF((O39+R39)<=1.3,(O39+R39)*2*C39,0) -> 0 | Y39: =IF((O39+R39)<=$I$2,(O39+R39)*2*C39,0)-X39 -> #REF! | Z39: =IF((O39+R39)>$I$2,(O39+R39)*2*C39,0) -> 0
B41: TOTAL | P41: =SUM(P13:P40) -> #REF! | Q41: =SUM(Q13:Q40) -> #REF! | S41: =SUM(S13:S40) -> #REF! | V41: =SUM(V13:V40) -> #REF! | W41: =SUM(W13:W40) -> #REF! | Y41: =SUM(Y14:Y40) -> #REF! | Z41: =SUM(Z13:Z40) -> #REF!
F43: PAGO | P43: =SUM(P15,P23,P25:P26) -> #REF! | Q43: =SUM(Q15,Q23,Q25:Q26) -> #REF! | S43: =SUM(S15,S23,S25:S26) -> #REF! | T43: =SUM(T15,T23,T25:T26) -> 9.42 | V43: =SUM(V15,V23,V25:V26) -> #REF! | W43: =SUM(W15,W23,W25:W26) -> #REF! | Y43: =SUM(Y15,Y23,Y25:Y26) -> #REF! | Z43: =SUM(Z15,Z23,Z25:Z26) -> #REF!
P45: =P41-P43 -> #REF! | Q45: =Q41-Q43 -> #REF! | S45: =S41-S43 -> #REF! | T45: =T41-T43 -> -9.42 | V45: =V41-V43 -> #REF! | W45: =W41-W43 -> #REF! | Y45: =Y41-Y43 -> #REF! | Z45: =Z41-Z43 -> #REF!

Sheet QUANT-MAT-DRE-R AZUL
A2: PROJETO DE DRENAGEM DE ÁGUAS PLUVIÁIS
A3: RONDON DO PARÁ - BAIRRO RECANTO AZUL
A4: Planilha de quantidades de materiais de drenagem de águas pluviais
A5: TRECHO | D5: BL | E5: EXTENSÃO POR DIÂMETRO | L5: PV POR DIÂMETRO | AH5: ALAS POR DIÂMETRO
A6: PVm | B6: PVj | C6: EXT | D6: un | E6: 400 | F6: 500 | G6: 600 | H6: 800 | I6: 1000 | J6: 1200 | K6: PV | L6: 400 | M6: 500 | N6: 600 | O6: 800 | P6: 1000 | Q6: 1200 | R6: PV | S6: 2x800 | T6: 2x1000 | U6: 2x1200 | V6: 400 | W6: 500 | X6: 600 | Y6: 800 | Z6: 1000 | AA6: 1200 | AB6: 2x800 | AC6: 2x1000 | AD6: 2x1200 | AH6: 400 | AI6: 500 | AJ6: 600 | AK6: 800 | AL6: 1000 | AM6: 1200 | AO6: 2x800 | AP6: 2x1000 | AQ6: 2x1200
A8: =#REF! -> #REF! | B8: =#REF! -> #REF! | C8: =IF(#REF!=0,#REF!,2*#REF!) -> #REF! | D8: =#REF! -> #REF! | E8: =IF(#REF!='QUANT-MAT-DRE-R AZUL'!E$6,$C8,0) -> #REF! | F8: =IF(#REF!='QUANT-MAT-DRE-R AZUL'!F$6,$C8,0) -> #REF! | G8: =IF(#REF!='QUANT-MAT-DRE-R AZUL'!G$6,$C8,0) -> #REF! | H8: =IF(#REF!='QUANT-MAT-DRE-R AZUL'!H$6,$C8,0) -> #REF! | I8: =IF(#REF!='QUANT-MAT-DRE-R AZUL'!I$6,$C8,0) -> #REF! | J8: =IF(#REF!='QUANT-MAT-DRE-R AZUL'!J$6,$C8,0) -> #REF! | K8: =IF(#REF!=0,1,0) -> #REF! | L8: =IF(#REF!='QUANT-MAT-DRE-R AZUL'!L$6,1*$K8,0) -> #REF! | M8: =IF(#REF!='QUANT-MAT-DRE-R AZUL'!M$6,1*$K8,0) -> #REF! | N8: =IF(#REF!='QUANT-MAT-DRE-R AZUL'!N$6,1*$K8,0) -> #REF! | O8: =IF(#REF!='QUANT-MAT-DRE-R AZUL'!O$6,1*$K8,0) -> #REF! | P8: =IF(#REF!='QUANT-MAT-DRE-R AZUL'!P$6,1*$K8,0) -> #REF! | Q8: =IF(#REF!='QUANT-MAT-DRE-R AZUL'!Q$6,1*$K8,0) -> #REF! | R8: =IF(#REF!=0,0,1) -> #REF! | S8: =IF(#REF!='QUANT-MAT-DRE-R AZUL'!O$6,1*$R8,0) -> #REF! | T8: =IF(#REF!='QUANT-MAT-DRE-R AZUL'!P$6,1*$R8,0) -> #REF! | U8: =IF(#REF!='QUANT-MAT-DRE-R AZUL'!Q$6,1*$R8,0) -> #REF! | V8: =IF(#REF!>2,L8,0) -> #REF! | W8: =IF(#REF!>2,M8,0) -> #REF! | X8: =IF(#REF!>2,N8,0) -> #REF! | Y8: =IF(#REF!>2,O8,0) -> #REF! | Z8: =IF(#REF!>23,P8,0) -> #REF! | AA8: =IF(#REF!>2,Q8,0) -> #REF! | AB8: =IF(#REF!>2,S8,0) -> #REF! | AC8: =IF(#REF!>2,T8,0) -> #REF! | AD8: =IF(#REF!>2,U8,0) -> #REF! | AF8: =IF(#REF!="L",1,0) -> #REF! | AG8: =IF(#REF!=0,1,0) -> #REF! | AH8: =IF(#REF!='QUANT-MAT-DRE-R AZUL'!AH$6,1*$AF8,0)*$AG8 -> #REF! | AI8: =IF(#REF!='QUANT-MAT-DRE-R AZUL'!AI$6,1*$AF8,0)*$AG8 -> #REF! | AJ8: =IF(#REF!='QUANT-MAT-DRE-R AZUL'!AJ$6,1*$AF8,0)*$AG8 -> #REF! | AK8: =IF(#REF!='QUANT-MAT-DRE-R AZUL'!AK$6,1*$AF8,0)*$AG8 -> #REF! | AL8: =IF(#REF!='QUANT-MAT-DRE-R AZUL'!AL$6,1*$AF8,0)*$AG8 -> #REF! | AM8: =IF(#REF!='QUANT-MAT-DRE-R AZUL'!AM$6,1*$AF8,0)*$AG8 -> #REF! | AN8: =IF(#REF!=0,0,1) -> #REF! | AO8: =IF(#REF!='QUANT-MAT-DRE-R AZUL'!AK$6,$AF8*$AN8,0) -> #REF! | AP8: =IF(#REF!='QUANT-MAT-DRE-R AZUL'!AL$6,$AF8*$AN8,0) -> #REF! | AQ8: =IF(#REF!='QUANT-MAT-DRE-R AZUL'!AM$6,$AF8*$AN8,0) -> #REF!
A9: =#REF! -> #REF! | B9: =#REF! -> #REF! | C9: =IF(#REF!=0,#REF!,2*#REF!) -> #REF! | D9: =#REF! -> #REF! | E9: =IF(#REF!='QUANT-MAT-DRE-R AZUL'!E$6,$C9,0) -> #REF! | F9: =IF(#REF!='QUANT-MAT-DRE-R AZUL'!F$6,$C9,0) -> #REF! | G9: =IF(#REF!='QUANT-MAT-DRE-R AZUL'!G$6,$C9,0) -> #REF! | H9: =IF(#REF!='QUANT-MAT-DRE-R AZUL'!H$6,$C9,0) -> #REF! | I9: =IF(#REF!='QUANT-MAT-DRE-R AZUL'!I$6,$C9,0) -> #REF! | J9: =IF(#REF!='QUANT-MAT-DRE-R AZUL'!J$6,$C9,0) -> #REF! | K9: =IF(#REF!=0,1,0) -> #REF! | L9: =IF(#REF!='QUANT-MAT-DRE-R AZUL'!L$6,1*$K9,0) -> #REF! | M9: =IF(#REF!='QUANT-MAT-DRE-R AZUL'!M$6,1*$K9,0) -> #REF! | N9: =IF(#REF!='QUANT-MAT-DRE-R AZUL'!N$6,1*$K9,0) -> #REF! | O9: =IF(#REF!='QUANT-MAT-DRE-R AZUL'!O$6,1*$K9,0) -> #REF! | P9: =IF(#REF!='QUANT-MAT-DRE-R AZUL'!P$6,1*$K9,0) -> #REF! | Q9: =IF(#REF!='QUANT-MAT-DRE-R AZUL'!Q$6,1*$K9,0) -> #REF! | R9: =IF(#REF!=0,0,1) -> #REF! | S9: =IF(#REF!='QUANT-MAT-DRE-R AZUL'!O$6,1*$R9,0) -> #REF! | T9: =IF(#REF!='QUANT-MAT-DRE-R AZUL'!P$6,1*$R9,0) -> #REF! | U9: =IF(#REF!='QUANT-MAT-DRE-R AZUL'!Q$6,1*$R9,0) -> #REF! | V9: =IF(#REF!>2,L9,0) -> #REF! | W9: =IF(#REF!>2,M9,0) -> #REF! | X9: =IF(#REF!>2,N9,0) -> #REF! | Y9: =IF(#REF!>2,O9,0) -> #REF! | Z9: =IF(#REF!>23,P9,0) -> #REF! | AA9: =IF(#REF!>2,Q9,0) -> #REF! | AB9: =IF(#REF!>2,S9,0) -> #REF! | AC9: =IF(#REF!>2,T9,0) -> #REF! | AD9: =IF(#REF!>2,U9,0) -> #REF! | AF9: =IF(#REF!="L",1,0) -> #REF! | AG9: =IF(#REF!=0,1,0) -> #REF! | AH9: =IF(#REF!='QUANT-MAT-DRE-R AZUL'!AH$6,1*$AF9,0)*$AG9 -> #REF! | AI9: =IF(#REF!='QUANT-MAT-DRE-R AZUL'!AI$6,1*$AF9,0)*$AG9 -> #REF! | AJ9: =IF(#REF!='QUANT-MAT-DRE-R AZUL'!AJ$6,1*$AF9,0)*$AG9 -> #REF! | AK9: =IF(#REF!='QUANT-MAT-DRE-R AZUL'!AK$6,1*$AF9,0)*$AG9 -> #REF! | AL9: =IF(#REF!='QUANT-MAT-DRE-R AZUL'!AL$6,1*$AF9,0)*$AG9 -> #REF! | AM9: =IF(#REF!='QUANT-MAT-DRE-R AZUL'!AM$6,1*$AF9,0)*$AG9 -> #REF! | AN9: =IF(#REF!=0,0,1) -> #REF! | AO9: =IF(#REF!='QUANT-MAT-DRE-R AZUL'!AK$6,$AF9*$AN9,0) -> #REF! | AP9: =IF(#REF!='QUANT-MAT-DRE-R AZUL'!AL$6,$AF9*$AN9,0) -> #REF! | AQ9: =IF(#REF!='QUANT-MAT-DRE-R AZUL'!AM$6,$AF9*$AN9,0) -> #REF!
A10: =#REF! -> #REF! | B10: =#REF! -> #REF! | C10: =IF(#REF!=0,#REF!,2*#REF!) -> #REF! | D10: =#REF! -> #REF! | E10: =IF(#REF!='QUANT-MAT-DRE-R AZUL'!E$6,$C10,0) -> #REF! | F10: =IF(#REF!='QUANT-MAT-DRE-R AZUL'!F$6,$C10,0) -> #REF! | G10: =IF(#REF!='QUANT-MAT-DRE-R AZUL'!G$6,$C10,0) -> #REF! | H10: =IF(#REF!='QUANT-MAT-DRE-R AZUL'!H$6,$C10,0) -> #REF! | I10: =IF(#REF!='QUANT-MAT-DRE-R AZUL'!I$6,$C10,0) -> #REF! | J10: =IF(#REF!='QUANT-MAT-DRE-R AZUL'!J$6,$C10,0) -> #REF! | K10: =IF(#REF!=0,1,0) -> #REF! | L10: =IF(#REF!='QUANT-MAT-DRE-R AZUL'!L$6,1*$K10,0) -> #REF! | M10: =IF(#REF!='QUANT-MAT-DRE-R AZUL'!M$6,1*$K10,0) -> #REF! | N10: =IF(#REF!='QUANT-MAT-DRE-R AZUL'!N$6,1*$K10,0) -> #REF! | O10: =IF(#REF!='QUANT-MAT-DRE-R AZUL'!O$6,1*$K10,0) -> #REF! | P10: =IF(#REF!='QUANT-MAT-DRE-R AZUL'!P$6,1*$K10,0) -> #REF! | Q10: =IF(#REF!='QUANT-MAT-DRE-R AZUL'!Q$6,1*$K10,0) -> #REF! | R10: =IF(#REF!=0,0,1) -> #REF! | S10: =IF(#REF!='QUANT-MAT-DRE-R AZUL'!O$6,1*$R10,0) -> #REF! | T10: =IF(#REF!='QUANT-MAT-DRE-R AZUL'!P$6,1*$R10,0) -> #REF! | U10: =IF(#REF!='QUANT-MAT-DRE-R AZUL'!Q$6,1*$R10,0) -> #REF! | V10: =IF(#REF!>2,L10,0) -> #REF! | W10: =IF(#REF!>2,M10,0) -> #REF! | X10: =IF(#REF!>2,N10,0) -> #REF! | Y10: =IF(#REF!>2,O10,0) -> #REF! | Z10: =IF(#REF!>23,P10,0) -> #REF! | AA10: =IF(#REF!>2,Q10,0) -> #REF! | AB10: =IF(#REF!>2,S10,0) -> #REF! | AC10: =IF(#REF!>2,T10,0) -> #REF! | AD10: =IF(#REF!>2,U10,0) -> #REF! | AF10: =IF(#REF!="L",1,0) -> #REF! | AG10: =IF(#REF!=0,1,0) -> #REF! | AH10: =IF(#REF!='QUANT-MAT-DRE-R AZUL'!AH$6,1*$AF10,0)*$AG10 -> #REF! | AI10: =IF(#REF!='QUANT-MAT-DRE-R AZUL'!AI$6,1*$AF10,0)*$AG10 -> #REF! | AJ10: =IF(#REF!='QUANT-MAT-DRE-R AZUL'!AJ$6,1*$AF10,0)*$AG10 -> #REF! | AK10: =IF(#REF!='QUANT-MAT-DRE-R AZUL'!AK$6,1*$AF10,0)*$AG10 -> #REF! | AL10: =IF(#REF!='QUANT-MAT-DRE-R AZUL'!AL$6,1*$AF10,0)*$AG10 -> #REF! | AM10: =IF(#REF!='QUANT-MAT-DRE-R AZUL'!AM$6,1*$AF10,0)*$AG10 -> #REF! | AN10: =IF(#REF!=0,0,1) -> #REF! | AO10: =IF(#REF!='QUANT-MAT-DRE-R AZUL'!AK$6,$AF10*$AN10,0) -> #REF! | AP10: =IF(#REF!='QUANT-MAT-DRE-R AZUL'!AL$6,$AF10*$AN10,0) -> #REF! | AQ10: =IF(#REF!='QUANT-MAT-DRE-R AZUL'!AM$6,$AF10*$AN10,0) -> #REF!
A11: =#REF! -> #REF! | B11: =#REF! -> #REF! | C11: =IF(#REF!=0,#REF!,2*#REF!) -> #REF! | D11: =#REF! -> #REF! | E11: =IF(#REF!='QUANT-MAT-DRE-R AZUL'!E$6,$C11,0) -> #REF! | F11: =IF(#REF!='QUANT-MAT-DRE-R AZUL'!F$6,$C11,0) -> #REF! | G11: =IF(#REF!='QUANT-MAT-DRE-R AZUL'!G$6,$C11,0) -> #REF! | H11: =IF(#REF!='QUANT-MAT-DRE-R AZUL'!H$6,$C11,0) -> #REF! | I11: =IF(#REF!='QUANT-MAT-DRE-R AZUL'!I$6,$C11,0) -> #REF! | J11: =IF(#REF!='QUANT-MAT-DRE-R AZUL'!J$6,$C11,0) -> #REF! | K11: =IF(#REF!=0,1,0) -> #REF! | L11: =IF(#REF!='QUANT-MAT-DRE-R AZUL'!L$6,1*$K11,0) -> #REF! | M11: =IF(#REF!='QUANT-MAT-DRE-R AZUL'!M$6,1*$K11,0) -> #REF! | N11: =IF(#REF!='QUANT-MAT-DRE-R AZUL'!N$6,1*$K11,0) -> #REF! | O11: =IF(#REF!='QUANT-MAT-DRE-R AZUL'!O$6,1*$K11,0) -> #REF! | P11: =IF(#REF!='QUANT-MAT-DRE-R AZUL'!P$6,1*$K11,0) -> #REF! | Q11: =IF(#REF!='QUANT-MAT-DRE-R AZUL'!Q$6,1*$K11,0) -> #REF! | R11: =IF(#REF!=0,0,1) -> #REF! | S11: =IF(#REF!='QUANT-MAT-DRE-R AZUL'!O$6,1*$R11,0) -> #REF! | T11: =IF(#REF!='QUANT-MAT-DRE-R AZUL'!P$6,1*$R11,0) -> #REF! | U11: =IF(#REF!='QUANT-MAT-DRE-R AZUL'!Q$6,1*$R11,0) -> #REF! | V11: =IF(#REF!>2,L11,0) -> #REF! | W11: =IF(#REF!>2,M11,0) -> #REF! | X11: =IF(#REF!>2,N11,0) -> #REF! | Y11: =IF(#REF!>2,O11,0) -> #REF! | Z11: =IF(#REF!>23,P11,0) -> #REF! | AA11: =IF(#REF!>2,Q11,0) -> #REF! | AB11: =IF(#REF!>2,S11,0) -> #REF! | AC11: =IF(#REF!>2,T11,0) -> #REF! | AD11: =IF(#REF!>2,U11,0) -> #REF! | AF11: =IF(#REF!="L",1,0) -> #REF! | AG11: =IF(#REF!=0,1,0) -> #REF! | AH11: =IF(#REF!='QUANT-MAT-DRE-R AZUL'!AH$6,1*$AF11,0)*$AG11 -> #REF! | AI11: =IF(#REF!='QUANT-MAT-DRE-R AZUL'!AI$6,1*$AF11,0)*$AG11 -> #REF! | AJ11: =IF(#REF!='QUANT-MAT-DRE-R AZUL'!AJ$6,1*$AF11,0)*$AG11 -> #REF! | AK11: =IF(#REF!='QUANT-MAT-DRE-R AZUL'!AK$6,1*$AF11,0)*$AG11 -> #REF! | AL11: =IF(#REF!='QUANT-MAT-DRE-R AZUL'!AL$6,1*$AF11,0)*$AG11 -> #REF! | AM11: =IF(#REF!='QUANT-MAT-DRE-R AZUL'!AM$6,1*$AF11,0)*$AG11 -> #REF! | AN11: =IF(#REF!=0,0,1) -> #REF! | AO11: =IF(#REF!='QUANT-MAT-DRE-R AZUL'!AK$6,$AF11*$AN11,0) -> #REF! | AP11: =IF(#REF!='QUANT-MAT-DRE-R AZUL'!AL$6,$AF11*$AN11,0) -> #REF! | AQ11: =IF(#REF!='QUANT-MAT-DRE-R AZUL'!AM$6,$AF11*$AN11,0) -> #REF!
A12: =#REF! -> #REF! | B12: =#REF! -> #REF! | C12: =IF(#REF!=0,#REF!,2*#REF!) -> #REF! | D12: =#REF! -> #REF! | E12: =IF(#REF!='QUANT-MAT-DRE-R AZUL'!E$6,$C12,0) -> #REF! | F12: =IF(#REF!='QUANT-MAT-DRE-R AZUL'!F$6,$C12,0) -> #REF! | G12: =IF(#REF!='QUANT-MAT-DRE-R AZUL'!G$6,$C12,0) -> #REF! | H12: =IF(#REF!='QUANT-MAT-DRE-R AZUL'!H$6,$C12,0) -> #REF! | I12: =IF(#REF!='QUANT-MAT-DRE-R AZUL'!I$6,$C12,0) -> #REF! | J12: =IF(#REF!='QUANT-MAT-DRE-R AZUL'!J$6,$C12,0) -> #REF! | K12: =IF(#REF!=0,1,0) -> #REF! | L12: =IF(#REF!='QUANT-MAT-DRE-R AZUL'!L$6,1*$K12,0) -> #REF! | M12: =IF(#REF!='QUANT-MAT-DRE-R AZUL'!M$6,1*$K12,0) -> #REF! | N12: =IF(#REF!='QUANT-MAT-DRE-R AZUL'!N$6,1*$K12,0) -> #REF! | O12: =IF(#REF!='QUANT-MAT-DRE-R AZUL'!O$6,1*$K12,0) -> #REF! | P12: =IF(#REF!='QUANT-MAT-DRE-R AZUL'!P$6,1*$K12,0) -> #REF! | Q12: =IF(#REF!='QUANT-MAT-DRE-R AZUL'!Q$6,1*$K12,0) -> #REF! | R12: =IF(#REF!=0,0,1) -> #REF! | S12: =IF(#REF!='QUANT-MAT-DRE-R AZUL'!O$6,1*$R12,0) -> #REF! | T12: =IF(#REF!='QUANT-MAT-DRE-R AZUL'!P$6,1*$R12,0) -> #REF! | U12: =IF(#REF!='QUANT-MAT-DRE-R AZUL'!Q$6,1*$R12,0) -> #REF! | V12: =IF(#REF!>2,L12,0) -> #REF! | W12: =IF(#REF!>2,M12,0) -> #REF! | X12: =IF(#REF!>2,N12,0) -> #REF! | Y12: =IF(#REF!>2,O12,0) -> #REF! | Z12: =IF(#REF!>23,P12,0) -> #REF! | AA12: =IF(#REF!>2,Q12,0) -> #REF! | AB12: =IF(#REF!>2,S12,0) -> #REF! | AC12: =IF(#REF!>2,T12,0) -> #REF! | AD12: =IF(#REF!>2,U12,0) -> #REF! | AF12: =IF(#REF!="L",1,0) -> #REF! | AG12: =IF(#REF!=0,1,0) -> #REF! | AH12: =IF(#REF!='QUANT-MAT-DRE-R AZUL'!AH$6,1*$AF12,0)*$AG12 -> #REF! | AI12: =IF(#REF!='QUANT-MAT-DRE-R AZUL'!AI$6,1*$AF12,0)*$AG12 -> #REF! | AJ12: =IF(#REF!='QUANT-MAT-DRE-R AZUL'!AJ$6,1*$AF12,0)*$AG12 -> #REF! | AK12: =IF(#REF!='QUANT-MAT-DRE-R AZUL'!AK$6,1*$AF12,0)*$AG12 -> #REF! | AL12: =IF(#REF!='QUANT-MAT-DRE-R AZUL'!AL$6,1*$AF12,0)*$AG12 -> #REF! | AM12: =IF(#REF!='QUANT-MAT-DRE-R AZUL'!AM$6,1*$AF12,0)*$AG12 -> #REF! | AN12: =IF(#REF!=0,0,1) -> #REF! | AO12: =IF(#REF!='QUANT-MAT-DRE-R AZUL'!AK$6,$AF12*$AN12,0) -> #REF! | AP12: =IF(#REF!='QUANT-MAT-DRE-R AZUL'!AL$6,$AF12*$AN12,0) -> #REF! | AQ12: =IF(#REF!='QUANT-MAT-DRE-R AZUL'!AM$6,$AF12*$AN12,0) -> #REF!
A13: =#REF! -> #REF! | B13: =#REF! -> #REF! | C13: =IF(#REF!=0,#REF!,2*#REF!) -> #REF! | D13: =#REF! -> #REF! | E13: =IF(#REF!='QUANT-MAT-DRE-R AZUL'!E$6,$C13,0) -> #REF! | F13: =IF(#REF!='QUANT-MAT-DRE-R AZUL'!F$6,$C13,0) -> #REF! | G13: =IF(#REF!='QUANT-MAT-DRE-R AZUL'!G$6,$C13,0) -> #REF! | H13: =IF(#REF!='QUANT-MAT-DRE-R AZUL'!H$6,$C13,0) -> #REF! | I13: =IF(#REF!='QUANT-MAT-DRE-R AZUL'!I$6,$C13,0) -> #REF! | J13: =IF(#REF!='QUANT-MAT-DRE-R AZUL'!J$6,$C13,0) -> #REF! | K13: =IF(#REF!=0,1,0) -> #REF! | L13: =IF(#REF!='QUANT-MAT-DRE-R AZUL'!L$6,1*$K13,0) -> #REF! | M13: =IF(#REF!='QUANT-MAT-DRE-R AZUL'!M$6,1*$K13,0) -> #REF! | N13: =IF(#REF!='QUANT-MAT-DRE-R AZUL'!N$6,1*$K13,0) -> #REF! | O13: =IF(#REF!='QUANT-MAT-DRE-R AZUL'!O$6,1*$K13,0) -> #REF! | P13: =IF(#REF!='QUANT-MAT-DRE-R AZUL'!P$6,1*$K13,0) -> #REF! | Q13: =IF(#REF!='QUANT-MAT-DRE-R AZUL'!Q$6,1*$K13,0) -> #REF! | R13: =IF(#REF!=0,0,1) -> #REF! | S13: =IF(#REF!='QUANT-MAT-DRE-R AZUL'!O$6,1*$R13,0) -> #REF! | T13: =IF(#REF!='QUANT-MAT-DRE-R AZUL'!P$6,1*$R13,0) -> #REF! | U13: =IF(#REF!='QUANT-MAT-DRE-R AZUL'!Q$6,1*$R13,0) -> #REF! | V13: =IF(#REF!>2,L13,0) -> #REF! | W13: =IF(#REF!>2,M13,0) -> #REF! | X13: =IF(#REF!>2,N13,0) -> #REF! | Y13: =IF(#REF!>2,O13,0) -> #REF! | Z13: =IF(#REF!>23,P13,0) -> #REF! | AA13: =IF(#REF!>2,Q13,0) -> #REF! | AB13: =IF(#REF!>2,S13,0) -> #REF! | AC13: =IF(#REF!>2,T13,0) -> #REF! | AD13: =IF(#REF!>2,U13,0) -> #REF! | AF13: =IF(#REF!="L",1,0) -> #REF! | AG13: =IF(#REF!=0,1,0) -> #REF! | AH13: =IF(#REF!='QUANT-MAT-DRE-R AZUL'!AH$6,1*$AF13,0)*$AG13 -> #REF! | AI13: =IF(#REF!='QUANT-MAT-DRE-R AZUL'!AI$6,1*$AF13,0)*$AG13 -> #REF! | AJ13: =IF(#REF!='QUANT-MAT-DRE-R AZUL'!AJ$6,1*$AF13,0)*$AG13 -> #REF! | AK13: =IF(#REF!='QUANT-MAT-DRE-R AZUL'!AK$6,1*$AF13,0)*$AG13 -> #REF! | AL13: =IF(#REF!='QUANT-MAT-DRE-R AZUL'!AL$6,1*$AF13,0)*$AG13 -> #REF! | AM13: =IF(#REF!='QUANT-MAT-DRE-R AZUL'!AM$6,1*$AF13,0)*$AG13 -> #REF! | AN13: =IF(#REF!=0,0,1) -> #REF! | AO13: =IF(#REF!='QUANT-MAT-DRE-R AZUL'!AK$6,$AF13*$AN13,0) -> #REF! | AP13: =IF(#REF!='QUANT-MAT-DRE-R AZUL'!AL$6,$AF13*$AN13,0) -> #REF! | AQ13: =IF(#REF!='QUANT-MAT-DRE-R AZUL'!AM$6,$AF13*$AN13,0) -> #REF!
A14: =#REF! -> #REF! | B14: =#REF! -> #REF! | C14: =IF(#REF!=0,#REF!,2*#REF!) -> #REF! | D14: =#REF! -> #REF! | E14: =IF(#REF!='QUANT-MAT-DRE-R AZUL'!E$6,$C14,0) -> #REF! | F14: =IF(#REF!='QUANT-MAT-DRE-R AZUL'!F$6,$C14,0) -> #REF! | G14: =IF(#REF!='QUANT-MAT-DRE-R AZUL'!G$6,$C14,0) -> #REF! | H14: =IF(#REF!='QUANT-MAT-DRE-R AZUL'!H$6,$C14,0) -> #REF! | I14: =IF(#REF!='QUANT-MAT-DRE-R AZUL'!I$6,$C14,0) -> #REF! | J14: =IF(#REF!='QUANT-MAT-DRE-R AZUL'!J$6,$C14,0) -> #REF! | K14: =IF(#REF!=0,1,0) -> #REF! | L14: =IF(#REF!='QUANT-MAT-DRE-R AZUL'!L$6,1*$K14,0) -> #REF! | M14: =IF(#REF!='QUANT-MAT-DRE-R AZUL'!M$6,1*$K14,0) -> #REF! | N14: =IF(#REF!='QUANT-MAT-DRE-R AZUL'!N$6,1*$K14,0) -> #REF! | O14: =IF(#REF!='QUANT-MAT-DRE-R AZUL'!O$6,1*$K14,0) -> #REF! | P14: =IF(#REF!='QUANT-MAT-DRE-R AZUL'!P$6,1*$K14,0) -> #REF! | Q14: =IF(#REF!='QUANT-MAT-DRE-R AZUL'!Q$6,1*$K14,0) -> #REF! | R14: =IF(#REF!=0,0,1) -> #REF! | S14: =IF(#REF!='QUANT-MAT-DRE-R AZUL'!O$6,1*$R14,0) -> #REF! | T14: =IF(#REF!='QUANT-MAT-DRE-R AZUL'!P$6,1*$R14,0) -> #REF! | U14: =IF(#REF!='QUANT-MAT-DRE-R AZUL'!Q$6,1*$R14,0) -> #REF! | V14: =IF(#REF!>2,L14,0) -> #REF! | W14: =IF(#REF!>2,M14,0) -> #REF! | X14: =IF(#REF!>2,N14,0) -> #REF! | Y14: =IF(#REF!>2,O14,0) -> #REF! | Z14: =IF(#REF!>23,P14,0) -> #REF! | AA14: =IF(#REF!>2,Q14,0) -> #REF! | AB14: =IF(#REF!>2,S14,0) -> #REF! | AC14: =IF(#REF!>2,T14,0) -> #REF! | AD14: =IF(#REF!>2,U14,0) -> #REF! | AF14: =IF(#REF!="L",1,0) -> #REF! | AG14: =IF(#REF!=0,1,0) -> #REF! | AH14: =IF(#REF!='QUANT-MAT-DRE-R AZUL'!AH$6,1*$AF14,0)*$AG14 -> #REF! | AI14: =IF(#REF!='QUANT-MAT-DRE-R AZUL'!AI$6,1*$AF14,0)*$AG14 -> #REF! | AJ14: =IF(#REF!='QUANT-MAT-DRE-R AZUL'!AJ$6,1*$AF14,0)*$AG14 -> #REF! | AK14: =IF(#REF!='QUANT-MAT-DRE-R AZUL'!AK$6,1*$AF14,0)*$AG14 -> #REF! | AL14: =IF(#REF!='QUANT-MAT-DRE-R AZUL'!AL$6,1*$AF14,0)*$AG14 -> #REF! | AM14: =IF(#REF!='QUANT-MAT-DRE-R AZUL'!AM$6,1*$AF14,0)*$AG14 -> #REF! | AN14: =IF(#REF!=0,0,1) -> #REF! | AO14: =IF(#REF!='QUANT-MAT-DRE-R AZUL'!AK$6,$AF14*$AN14,0) -> #REF! | AP14: =IF(#REF!='QUANT-MAT-DRE-R AZUL'!AL$6,$AF14*$AN14,0) -> #REF! | AQ14: =IF(#REF!='QUANT-MAT-DRE-R AZUL'!AM$6,$AF14*$AN14,0) -> #REF!
A15: =#REF! -> #REF! | B15: =#REF! -> #REF! | C15: =IF(#REF!=0,#REF!,2*#REF!) -> #REF! | D15: =#REF! -> #REF! | E15: =IF(#REF!='QUANT-MAT-DRE-R AZUL'!E$6,$C15,0) -> #REF! | F15: =IF(#REF!='QUANT-MAT-DRE-R AZUL'!F$6,$C15,0) -> #REF! | G15: =IF(#REF!='QUANT-MAT-DRE-R AZUL'!G$6,$C15,0) -> #REF! | H15: =IF(#REF!='QUANT-MAT-DRE-R AZUL'!H$6,$C15,0) -> #REF! | I15: =IF(#REF!='QUANT-MAT-DRE-R AZUL'!I$6,$C15,0) -> #REF! | J15: =IF(#REF!='QUANT-MAT-DRE-R AZUL'!J$6,$C15,0) -> #REF! | K15: =IF(#REF!=0,1,0) -> #REF! | L15: =IF(#REF!='QUANT-MAT-DRE-R AZUL'!L$6,1*$K15,0) -> #REF! | M15: =IF(#REF!='QUANT-MAT-DRE-R AZUL'!M$6,1*$K15,0) -> #REF! | N15: =IF(#REF!='QUANT-MAT-DRE-R AZUL'!N$6,1*$K15,0) -> #REF! | O15: =IF(#REF!='QUANT-MAT-DRE-R AZUL'!O$6,1*$K15,0) -> #REF! | P15: =IF(#REF!='QUANT-MAT-DRE-R AZUL'!P$6,1*$K15,0) -> #REF! | Q15: =IF(#REF!='QUANT-MAT-DRE-R AZUL'!Q$6,1*$K15,0) -> #REF! | R15: =IF(#REF!=0,0,1) -> #REF! | S15: =IF(#REF!='QUANT-MAT-DRE-R AZUL'!O$6,1*$R15,0) -> #REF! | T15: =IF(#REF!='QUANT-MAT-DRE-R AZUL'!P$6,1*$R15,0) -> #REF! | U15: =IF(#REF!='QUANT-MAT-DRE-R AZUL'!Q$6,1*$R15,0) -> #REF! | V15: =IF(#REF!>2,L15,0) -> #REF! | W15: =IF(#REF!>2,M15,0) -> #REF! | X15: =IF(#REF!>2,N15,0) -> #REF! | Y15: =IF(#REF!>2,O15,0) -> #REF! | Z15: =IF(#REF!>23,P15,0) -> #REF! | AA15: =IF(#REF!>2,Q15,0) -> #REF! | AB15: =IF(#REF!>2,S15,0) -> #REF! | AC15: =IF(#REF!>2,T15,0) -> #REF! | AD15: =IF(#REF!>2,U15,0) -> #REF! | AF15: =IF(#REF!="L",1,0) -> #REF! | AG15: =IF(#REF!=0,1,0) -> #REF! | AH15: =IF(#REF!='QUANT-MAT-DRE-R AZUL'!AH$6,1*$AF15,0)*$AG15 -> #REF! | AI15: =IF(#REF!='QUANT-MAT-DRE-R AZUL'!AI$6,1*$AF15,0)*$AG15 -> #REF! | AJ15: =IF(#REF!='QUANT-MAT-DRE-R AZUL'!AJ$6,1*$AF15,0)*$AG15 -> #REF! | AK15: =IF(#REF!='QUANT-MAT-DRE-R AZUL'!AK$6,1*$AF15,0)*$AG15 -> #REF! | AL15: =IF(#REF!='QUANT-MAT-DRE-R AZUL'!AL$6,1*$AF15,0)*$AG15 -> #REF! | AM15: =IF(#REF!='QUANT-MAT-DRE-R AZUL'!AM$6,1*$AF15,0)*$AG15 -> #REF! | AN15: =IF(#REF!=0,0,1) -> #REF! | AO15: =IF(#REF!='QUANT-MAT-DRE-R AZUL'!AK$6,$AF15*$AN15,0) -> #REF! | AP15: =IF(#REF!='QUANT-MAT-DRE-R AZUL'!AL$6,$AF15*$AN15,0) -> #REF! | AQ15: =IF(#REF!='QUANT-MAT-DRE-R AZUL'!AM$6,$AF15*$AN15,0) -> #REF!
A16: =#REF! -> #REF! | B16: =#REF! -> #REF! | C16: =IF(#REF!=0,#REF!,2*#REF!) -> #REF! | D16: =#REF! -> #REF! | E16: =IF(#REF!='QUANT-MAT-DRE-R AZUL'!E$6,$C16,0) -> #REF! | F16: =IF(#REF!='QUANT-MAT-DRE-R AZUL'!F$6,$C16,0) -> #REF! | G16: =IF(#REF!='QUANT-MAT-DRE-R AZUL'!G$6,$C16,0) -> #REF! | H16: =IF(#REF!='QUANT-MAT-DRE-R AZUL'!H$6,$C16,0) -> #REF! | I16: =IF(#REF!='QUANT-MAT-DRE-R AZUL'!I$6,$C16,0) -> #REF! | J16: =IF(#REF!='QUANT-MAT-DRE-R AZUL'!J$6,$C16,0) -> #REF! | K16: =IF(#REF!=0,1,0) -> #REF! | L16: =IF(#REF!='QUANT-MAT-DRE-R AZUL'!L$6,1*$K16,0) -> #REF! | M16: =IF(#REF!='QUANT-MAT-DRE-R AZUL'!M$6,1*$K16,0) -> #REF! | N16: =IF(#REF!='QUANT-MAT-DRE-R AZUL'!N$6,1*$K16,0) -> #REF! | O16: =IF(#REF!='QUANT-MAT-DRE-R AZUL'!O$6,1*$K16,0) -> #REF! | P16: =IF(#REF!='QUANT-MAT-DRE-R AZUL'!P$6,1*$K16,0) -> #REF! | Q16: =IF(#REF!='QUANT-MAT-DRE-R AZUL'!Q$6,1*$K16,0) -> #REF! | R16: =IF(#REF!=0,0,1) -> #REF! | S16: =IF(#REF!='QUANT-MAT-DRE-R AZUL'!O$6,1*$R16,0) -> #REF! | T16: =IF(#REF!='QUANT-MAT-DRE-R AZUL'!P$6,1*$R16,0) -> #REF! | U16: =IF(#REF!='QUANT-MAT-DRE-R AZUL'!Q$6,1*$R16,0) -> #REF! | V16: =IF(#REF!>2,L16,0) -> #REF! | W16: =IF(#REF!>2,M16,0) -> #REF! | X16: =IF(#REF!>2,N16,0) -> #REF! | Y16: =IF(#REF!>2,O16,0) -> #REF! | Z16: =IF(#REF!>23,P16,0) -> #REF! | AA16: =IF(#REF!>2,Q16,0) -> #REF! | AB16: =IF(#REF!>2,S16,0) -> #REF! | AC16: =IF(#REF!>2,T16,0) -> #REF! | AD16: =IF(#REF!>2,U16,0) -> #REF! | AF16: =IF(#REF!="L",1,0) -> #REF! | AG16: =IF(#REF!=0,1,0) -> #REF! | AH16: =IF(#REF!='QUANT-MAT-DRE-R AZUL'!AH$6,1*$AF16,0)*$AG16 -> #REF! | AI16: =IF(#REF!='QUANT-MAT-DRE-R AZUL'!AI$6,1*$AF16,0)*$AG16 -> #REF! | AJ16: =IF(#REF!='QUANT-MAT-DRE-R AZUL'!AJ$6,1*$AF16,0)*$AG16 -> #REF! | AK16: =IF(#REF!='QUANT-MAT-DRE-R AZUL'!AK$6,1*$AF16,0)*$AG16 -> #REF! | AL16: =IF(#REF!='QUANT-MAT-DRE-R AZUL'!AL$6,1*$AF16,0)*$AG16 -> #REF! | AM16: =IF(#REF!='QUANT-MAT-DRE-R AZUL'!AM$6,1*$AF16,0)*$AG16 -> #REF! | AN16: =IF(#REF!=0,0,1) -> #REF! | AO16: =IF(#REF!='QUANT-MAT-DRE-R AZUL'!AK$6,$AF16*$AN16,0) -> #REF! | AP16: =IF(#REF!='QUANT-MAT-DRE-R AZUL'!AL$6,$AF16*$AN16,0) -> #REF! | AQ16: =IF(#REF!='QUANT-MAT-DRE-R AZUL'!AM$6,$AF16*$AN16,0) -> #REF!
A17: =#REF! -> #REF! | B17: =#REF! -> #REF! | C17: =IF(#REF!=0,#REF!,2*#REF!) -> #REF! | D17: =#REF! -> #REF! | E17: =IF(#REF!='QUANT-MAT-DRE-R AZUL'!E$6,$C17,0) -> #REF! | F17: =IF(#REF!='QUANT-MAT-DRE-R AZUL'!F$6,$C17,0) -> #REF! | G17: =IF(#REF!='QUANT-MAT-DRE-R AZUL'!G$6,$C17,0) -> #REF! | H17: =IF(#REF!='QUANT-MAT-DRE-R AZUL'!H$6,$C17,0) -> #REF! | I17: =IF(#REF!='QUANT-MAT-DRE-R AZUL'!I$6,$C17,0) -> #REF! | J17: =IF(#REF!='QUANT-MAT-DRE-R AZUL'!J$6,$C17,0) -> #REF! | K17: =IF(#REF!=0,1,0) -> #REF! | L17: =IF(#REF!='QUANT-MAT-DRE-R AZUL'!L$6,1*$K17,0) -> #REF! | M17: =IF(#REF!='QUANT-MAT-DRE-R AZUL'!M$6,1*$K17,0) -> #REF! | N17: =IF(#REF!='QUANT-MAT-DRE-R AZUL'!N$6,1*$K17,0) -> #REF! | O17: =IF(#REF!='QUANT-MAT-DRE-R AZUL'!O$6,1*$K17,0) -> #REF! | P17: =IF(#REF!='QUANT-MAT-DRE-R AZUL'!P$6,1*$K17,0) -> #REF! | Q17: =IF(#REF!='QUANT-MAT-DRE-R AZUL'!Q$6,1*$K17,0) -> #REF! | R17: =IF(#REF!=0,0,1) -> #REF! | S17: =IF(#REF!='QUANT-MAT-DRE-R AZUL'!O$6,1*$R17,0) -> #REF! | T17: =IF(#REF!='QUANT-MAT-DRE-R AZUL'!P$6,1*$R17,0) -> #REF! | U17: =IF(#REF!='QUANT-MAT-DRE-R AZUL'!Q$6,1*$R17,0) -> #REF! | V17: =IF(#REF!>2,L17,0) -> #REF! | W17: =IF(#REF!>2,M17,0) -> #REF! | X17: =IF(#REF!>2,N17,0) -> #REF! | Y17: =IF(#REF!>2,O17,0) -> #REF! | Z17: =IF(#REF!>23,P17,0) -> #REF! | AA17: =IF(#REF!>2,Q17,0) -> #REF! | AB17: =IF(#REF!>2,S17,0) -> #REF! | AC17: =IF(#REF!>2,T17,0) -> #REF! | AD17: =IF(#REF!>2,U17,0) -> #REF! | AF17: =IF(#REF!="L",1,0) -> #REF! | AG17: =IF(#REF!=0,1,0) -> #REF! | AH17: =IF(#REF!='QUANT-MAT-DRE-R AZUL'!AH$6,1*$AF17,0)*$AG17 -> #REF! | AI17: =IF(#REF!='QUANT-MAT-DRE-R AZUL'!AI$6,1*$AF17,0)*$AG17 -> #REF! | AJ17: =IF(#REF!='QUANT-MAT-DRE-R AZUL'!AJ$6,1*$AF17,0)*$AG17 -> #REF! | AK17: =IF(#REF!='QUANT-MAT-DRE-R AZUL'!AK$6,1*$AF17,0)*$AG17 -> #REF! | AL17: =IF(#REF!='QUANT-MAT-DRE-R AZUL'!AL$6,1*$AF17,0)*$AG17 -> #REF! | AM17: =IF(#REF!='QUANT-MAT-DRE-R AZUL'!AM$6,1*$AF17,0)*$AG17 -> #REF! | AN17: =IF(#REF!=0,0,1) -> #REF! | AO17: =IF(#REF!='QUANT-MAT-DRE-R AZUL'!AK$6,$AF17*$AN17,0) -> #REF! | AP17: =IF(#REF!='QUANT-MAT-DRE-R AZUL'!AL$6,$AF17*$AN17,0) -> #REF! | AQ17: =IF(#REF!='QUANT-MAT-DRE-R AZUL'!AM$6,$AF17*$AN17,0) -> #REF!
A18: =#REF! -> #REF! | B18: =#REF! -> #REF! | C18: =IF(#REF!=0,#REF!,2*#REF!) -> #REF! | D18: =#REF! -> #REF! | E18: =IF(#REF!='QUANT-MAT-DRE-R AZUL'!E$6,$C18,0) -> #REF! | F18: =IF(#REF!='QUANT-MAT-DRE-R AZUL'!F$6,$C18,0) -> #REF! | G18: =IF(#REF!='QUANT-MAT-DRE-R AZUL'!G$6,$C18,0) -> #REF! | H18: =IF(#REF!='QUANT-MAT-DRE-R AZUL'!H$6,$C18,0) -> #REF! | I18: =IF(#REF!='QUANT-MAT-DRE-R AZUL'!I$6,$C18,0) -> #REF! | J18: =IF(#REF!='QUANT-MAT-DRE-R AZUL'!J$6,$C18,0) -> #REF! | K18: =IF(#REF!=0,1,0) -> #REF! | L18: =IF(#REF!='QUANT-MAT-DRE-R AZUL'!L$6,1*$K18,0) -> #REF! | M18: =IF(#REF!='QUANT-MAT-DRE-R AZUL'!M$6,1*$K18,0) -> #REF! | N18: =IF(#REF!='QUANT-MAT-DRE-R AZUL'!N$6,1*$K18,0) -> #REF! | O18: =IF(#REF!='QUANT-MAT-DRE-R AZUL'!O$6,1*$K18,0) -> #REF! | P18: =IF(#REF!='QUANT-MAT-DRE-R AZUL'!P$6,1*$K18,0) -> #REF! | Q18: =IF(#REF!='QUANT-MAT-DRE-R AZUL'!Q$6,1*$K18,0) -> #REF! | R18: =IF(#REF!=0,0,1) -> #REF! | S18: =IF(#REF!='QUANT-MAT-DRE-R AZUL'!O$6,1*$R18,0) -> #REF! | T18: =IF(#REF!='QUANT-MAT-DRE-R AZUL'!P$6,1*$R18,0) -> #REF! | U18: =IF(#REF!='QUANT-MAT-DRE-R AZUL'!Q$6,1*$R18,0) -> #REF! | V18: =IF(#REF!>2,L18,0) -> #REF! | W18: =IF(#REF!>2,M18,0) -> #REF! | X18: =IF(#REF!>2,N18,0) -> #REF! | Y18: =IF(#REF!>2,O18,0) -> #REF! | Z18: =IF(#REF!>23,P18,0) -> #REF! | AA18: =IF(#REF!>2,Q18,0) -> #REF! | AB18: =IF(#REF!>2,S18,0) -> #REF! | AC18: =IF(#REF!>2,T18,0) -> #REF! | AD18: =IF(#REF!>2,U18,0) -> #REF! | AF18: =IF(#REF!="L",1,0) -> #REF! | AG18: =IF(#REF!=0,1,0) -> #REF! | AH18: =IF(#REF!='QUANT-MAT-DRE-R AZUL'!AH$6,1*$AF18,0)*$AG18 -> #REF! | AI18: =IF(#REF!='QUANT-MAT-DRE-R AZUL'!AI$6,1*$AF18,0)*$AG18 -> #REF! | AJ18: =IF(#REF!='QUANT-MAT-DRE-R AZUL'!AJ$6,1*$AF18,0)*$AG18 -> #REF! | AK18: =IF(#REF!='QUANT-MAT-DRE-R AZUL'!AK$6,1*$AF18,0)*$AG18 -> #REF! | AL18: =IF(#REF!='QUANT-MAT-DRE-R AZUL'!AL$6,1*$AF18,0)*$AG18 -> #REF! | AM18: =IF(#REF!='QUANT-MAT-DRE-R AZUL'!AM$6,1*$AF18,0)*$AG18 -> #REF! | AN18: =IF(#REF!=0,0,1) -> #REF! | AO18: =IF(#REF!='QUANT-MAT-DRE-R AZUL'!AK$6,$AF18*$AN18,0) -> #REF! | AP18: =IF(#REF!='QUANT-MAT-DRE-R AZUL'!AL$6,$AF18*$AN18,0) -> #REF! | AQ18: =IF(#REF!='QUANT-MAT-DRE-R AZUL'!AM$6,$AF18*$AN18,0) -> #REF!
A19: 4A | B19: 9 | D19: 0 | E19: 0 | I19: 74 | P19: 1 | T19: 0
A20: 6 | B20: 9 | D20: 0 | E20: 0 | I20: 67 | P20: 0
A35: TOTAL DE BL | D35: =SUM(D7:D31) -> #REF!
A36: EXT. BL-PV (L=7,00M) | F36: =$D$35*6 -> #REF! | G36: 0
A38: TOTAL | D38: =SUM(D7:D31) -> #REF! | F38: =SUM(F7:F36) -> #REF! | G38: =SUM(G7:G36) -> #REF! | H38: =SUM(H7:H36) -> #REF! | I38: =SUM(I7:I36) -> #REF! | J38: =SUM(J7:J36) -> #REF! | K38: =SUM(K7:K36) -> #REF! | L38: =SUM(L7:L36) -> #REF! | M38: =SUM(M7:M36) -> #REF! | ... AQ38: =SUM(AQ7:AQ36) -> #REF!

Sheet RESUMO
A2: ESTADO DO PARÁ
A3: PREFEITURA MUNICIPAL DE CANAÃ DOS CARAJÁS
A4: SECRETARIA MUNICIPAL DE OBRAS PÚBLICAS
A6: RESUMO
A8: PROGRAMA: ASFALTO NA CIDADE
A9: AÇÃO: INFRA-ESTRUTURA URBANA
A10: OBRA: PAVIMENTAÇÃO ASFÁLTICA NO MUNICÍPIO DE CANAÃ DOS CARAJÁS
A11: LOCAL: SEDE DO MUNICÍPIO DE CANAÃ DOS CARAJÁS
A14: ÍTEM | B14: SERVIÇO | C14: TOTAL
A16: 1 | B16: SERVIÇOS PRELIMINARES
A17: 1.1 | B17: SERVIÇOS PRELIMINARES | C17: =#REF! -> #REF!
A19: 2 | B19: ADMINISTRAÇÃO LOCAL DA OBRA
A20: 2.1 | B20: Administração local da obra | C20: =#REF! -> #REF!
A22: 2 | B22: PAVIMENTAÇÃO ASFÁLTICA
A23: 2.1 | B23: PAVIMENTAÇÃO E OBRAS VIÁRIAS | C23: =#REF! -> #REF!
A25: 3 | B25: DRENAGEM DE ÁGUAS PLUVIAIS
A26: 3.1 | B26: DRENAGEM | C26: =#REF! -> #REF!
A28: TOTAL | C28: =SUM(C26,C23,C17,C20) -> #REF!

Sheet PLANILHA
A4: OBJETO: CONTRATAÇÃO DE EMPRESA ESPECIALIZADA EM ENGENHARIA PARA EXECUÇÃO DE SERVIÇOS DE DRENAGEM, TERRAPLENAGEM E PAVIMENTAÇÃO ASFÁLTICA, LOCALIZADA NA AV. MAÇARANDUBA, RUA DEUSANIRA, AV. BRAGANÇA, RUA GRAVIOLA, RUA JAMBEIRO, RUA ÓBIDOS, RUA SÃO MIGUEL E RUA SEBERI NA CIDADE DE TUCUMÃ NO ESTADO DO PARÁ
A5: PLANILHA ORÇAMENTÁRIA DESONERADA - BDI 29,77% | G5: Referencia: | H5: SINAPI JANEIRO DE 2024 SICRO OUTUBRO DE 2023
A7: ITEM | B7: FONTE | C7: CÓDIGO | D7: DESCRIÇÃO | E7: UNIDADE | F7: QUANTIDADE | G7: CUSTO UNITÁRIO (sem BDI) (R$) | H7: PREÇO UNITÁRIO (com BDI) (R$) | I7: PREÇO TOTAL (R$)
A8: 1 | D8: ADMINISTRAÇÃO LOCAL
A9: 1.1 | B9: PRÓPRIA | C9: CPU 001 | D9: ADMINISTRAÇÃO LOCAL DA OBRA | E9: MÊS | F9: 3 | G9: 37400 | H9: =TRUNC(G9*1.2977,2) -> 48533.98 | I9: =TRUNC(H9*F9,2) -> 145601.94
A10: TOTAL DO ITEM 01 | I10: =I9 -> 145601.94
A12: 2 | D12: SERVIÇOS PRELIMINARES
A13: 2.1 | D13: CANTEIRO DE OBRAS
A14: 2.1.1 | B14: SINAPI | C14: 103689 | D14: FORNECIMENTO E INSTALAÇÃO DE PLACA DE OBRA COM CHAPA GALVANIZADA E ESTRUTURA DE MADEIRA. AF_03/2022_PS | E14: M2 | F14: 6 | G14: 309.5 | H14: =TRUNC(G14*1.2977,2) -> 401.63 | I14: =TRUNC(H14*F14,2) -> 2409.78
A15: 2.1.2 | B15: PRÓPRIA | C15: 002 | D15: LOCAÇÃO DE CONTAINER PARA ESCRITÓRIO/VESTIÁRIO E ALMOXARIFADO | E15: MÊS | F15: 3 | G15: 2515.61 | H15: =TRUNC(G15*1.2977,2) -> 3264.5 | I15: =TRUNC(H15*F15,2) -> 9793.5
A16: 2.2 | D16: DEMOLIÇÕES
A17: 2.2.1 | B17: SINAPI | C17: 104790 | D17: DEMOLIÇÃO DE PISO DE CONCRETO SIMPLES, DE FORMA MECANIZADA COM MARTELETE, SEM REAPROVEITAMENTO. AF_09/2023 (CALÇADAS) | E17: m3 | F17: 290.83 | G17: 97.69 | H17: =TRUNC(G17*1.2977,2) -> 126.77 | I17: =TRUNC(H17*F17,2) -> 36868.51
A18: 2.2.2 | B18: SINAPI | C18: 104796 | D18: DEMOLIÇÃO DE GUIAS, SARJETAS OU SARJETÕES, DE FORMA MECANIZADA, SEM REAPROVEITAMENTO. AF_09/2023 | E18: M | F18: 330.64 | G18: 12.56 | H18: =TRUNC(G18*1.2977,2) -> 16.29 | I18: =TRUNC(H18*F18,2) -> 5386.12
A19: 2.2.3 | B19: SINAPI | C19: 97636 | D19: DEMOLIÇÃO PARCIAL DE PAVIMENTO ASFÁLTICO, DE FORMA MECANIZADA, SEM REAPROVEITAMENTO. AF_12/2017 | E19: M2 | F19: 2110.46 | G19: 21.16 | H19: =TRUNC(G19*1.2977,2) -> 27.45 | I19: =TRUNC(H19*F19,2) -> 57932.12
A20: 2.2.4 | B20: SINAPI | C20: 97635 | D20: REMOÇÃO DE PISO DE BLOCO INTERTRAVADO OU DE PEDRA PORTUGUESA, DE FORMA MANUAL, COM REAPROVEITAMENTO. AF_09/2023 | E20: M2 | F20: 3336 | G20: 15.26 | H20: =TRUNC(G20*1.2977,2) -> 19.8 | I20: =TRUNC(H20*F20,2) -> 66052.8
A21: 2.2.5 | B21: SINAPI | C21: 100982 | D21: CARGA, MANOBRA E DESCARGA DE ENTULHO EM CAMINHÃO BASCULANTE 10 M³ - CARGA COM ESCAVADEIRA HIDRÁULICA (CAÇAMBA DE 0,80 M³ / 111 HP) E DESCARGA LIVRE (UNIDADE: M3). AF_07/2020 | E21: M3 | F21: 678.12 | G21: 8.95 | H21: =TRUNC(G21*1.2977,2) -> 11.61 | I21: =TRUNC(H21*F21,2) -> 7872.97
A22: 2.2.6 | B22: SINAPI | C22: 95875 | D22: TRANSPORTE COM CAMINHÃO BASCULANTE DE 10 M³, EM VIA URBANA PAVIMENTADA, DMT ATÉ 30 KM (UNIDADE: M3XKM). AF_07/2020 | E22: M3XKM | F22: 6781.16 | G22: 2.48 | H22: =TRUNC(G22*1.2977,2) -> 3.21 | I22: =TRUNC(H22*F22,2) -> 21767.52
A23: TOTAL DO ITEM 02 | I23: =SUM(I14:I22) -> 208083.32
A25: 3 | D25: MOBILIZAÇÃO E DESMOBILIZAÇÃO
A26: 3.1 | B26: PRÓPRIA | C26: CPU 002 | D26: MOBILIZAÇÃO E DESMOBILIZAÇÃO DA OBRA | E26: UND | F26: 1 | G26: 36982.96 | H26: =TRUNC(G26*1.2977,2) -> 47992.78 | I26: =H26*F26 -> 47992.78
A27: TOTAL DO ITEM 03 | I27: =I26 -> 47992.78
A29: 4 | D29: DRENAGEM PROFUNDA
A30: 4.1 | B30: SINAPI | C30: 90087 | D30: ESCAVAÇÃO MECANIZADA DE VALA COM PROF. DE 3,0 M ATÉ 4,5 M(MÉDIA ENTRE MONTANTE E JUSANTE/UMA COMPOSIÇÃO POR TRECHO), COM ESCAVADEIRA HIDRÁUL ICA (1,2 M3/155 HP), LARG. DE 1,5 M A 2,5 M, EM SOLO DE 1A CATEGORIA, EM LOCAIS COM ALTO NÍVEL DE INTERFERÊNCIA. (REDE PRINCIPAL) | E30: M3 | F30: 5257.01 | G30: 9.35 | H30: =TRUNC(G30*1.2977,2) -> 12.13 | I30: =TRUNC(H30*F30,2) -> 63767.53
A31: 4.2 | B31: SINAPI | C31: 90084 | D31: ESCAVAÇÃO MECANIZADA DE VALA COM PROF. MAIOR QUE 1,5 M ATÉ 3,0 M (MÉDIA ENTRE MONTANTE E JUSANTE/UMA COMPOSIÇÃO POR TRECHO), COM ESCAVADEIRA HIDRÁULICA (0,8 M3/111 HP), LARGURA ATÉ 1,5 M, EM SOLO DE 1A CATEGORIA, EM LOCAIS COM ALTO NÍVEL DE INTERFERÊNCIA. (REDE COLETORA BL) | E31: M3 | F31: 314.5 | G31: 10.77 | H31: =TRUNC(G31*1.2977,2) -> 13.97 | I31: =TRUNC(H31*F31,2) -> 4393.56
A32: 4.3 | B32: SINAPI | C32: 101617 | D32: PREPARO DE FUNDO DE VALA COM LARGURA MAIOR OU IGUAL A 1,5 M E MENOR QU E 2,5 M (ACERTO DO SOLO NATURAL). | E32: M2 | F32: 2341.55 | G32: 2.85 | H32: =TRUNC(G32*1.2977,2) -> 3.69 | I32: =TRUNC(H32*F32,2) -> 8640.31
A33: 4.4 | B33: SINAPI | C33: 100323 | D33: LASTRO COM MATERIAL GRANULAR (AREIA MÉDIA), APLICADO EM PISOS OU LAJES SOBRE SOLO, ESPESSURA DE *10 CM*. AF_07/2019 | E33: M3 | F33: 234.16 | G33: 165.03 | H33: =TRUNC(G33*1.2977,2) -> 214.15 | I33: =TRUNC(H33*F33,2) -> 50145.36
A34: 4.5 | B34: SINAPI | C34: 92226 | D34: TUBO DE CONCRETO PARA REDES COLETORAS DE ÁGUAS PLUVIAIS, DIÂMETRO DE 1000 MM, JUNTA RÍGIDA, INSTALADO EM LOCAL COM ALTO NÍVEL DE INTERFERÊNCIAS - FORNECIMENTO E ASSENTAMENTO | E34: M | F34: 88.4 | G34: 576.79 | H34: =TRUNC(G34*1.2977,2) -> 748.5 | I34: =TRUNC(H34*F34,2) -> 66167.4
A35: 4.6 | B35: SINAPI | C35: 92223 | D35: TUBO DE CONCRETO PARA REDES COLETORAS DE ÁGUAS PLUVIAIS, DIÂMETRO DE 800 MM, JUNTA RÍGIDA, INSTALADO EM LOCAL COM ALTO NÍVEL DE INTERFERÊNCIAS - FORNECIMENTO E ASSENTAMENTO | E35: M | F35: 1065.64 | G35: 477.05 | H35: =TRUNC(G35*1.2977,2) -> 619.06 | I35: =TRUNC(H35*F35,2) -> 659695.09
A36: 4.7 | B36: SINAPI | C36: 92219 | D36: TUBO DE CONCRETO PARA REDES COLETORAS DE ÁGUAS PLUVIAIS, DIÂMETRO DE 400 MM, JUNTA RÍGIDA, INSTALADO EM LOCAL COM ALTO NÍVEL DE INTERFERÊNCIAS - FORNECIMENTO E ASSENTAMENTO | E36: M | F36: 274.01 | G36: 171.3 | H36: =TRUNC(G36*1.2977,2) -> 222.29 | I36: =TRUNC(H36*F36,2) -> 60909.68
A37: 4.8 | B37: SINAPI | C37: 100950 | D37: TRANSPORTE COM CAMINHÃO CARROCERIA COM GUINDAUTO (MUNCK), MOMENTO MÁXIMO DE CARGA 11,7 TM, EM VIA URBANA EM LEITO NATURAL (UNIDADE: TXKM). AF_07/2020 | E37: TXKM | F37: 3953 | G37: 3.61 | H37: =TRUNC(G37*1.2977,2) -> 4.68 | I37: =TRUNC(H37*F37,2) -> 18500.04
A38: 4.9 | B38: SINAPI | C38: 93369 | D38: REATERRO MECANIZADO DE VALA COM ESCAVADEIRA HIDRÁULICA (CAPACIDADE DA CAÇAMBA: 0,8 M³ / POTÊNCIA: 111 HP), LARGURA DE 1,5 A 2,5 M, PROFUNDIDADE DE 1,5 A 3,0 M, COM SOLO (SEM SUBSTITUIÇÃO) DE 1ª CATEGORIA EM LOCAIS COM BAIXO NÍVEL DE INTERFERÊNCIA. AF_04/2016 | E38: M3 | F38: 4932.02 | G38: 15.86 | H38: =TRUNC(G38*1.2977,2) -> 20.58 | I38: =TRUNC(H38*F38,2) -> 101500.97
A39: 4.10 | B39: SINAPI | C39: 99267 | D39: BASE PARA POÇO DE VISITA RETANGULAR PARA DRENAGEM, EM ALVENARIA COM BLOCOS DE CONCRETO, DIMENSÕES INTERNAS = 1X2,5 M, PROFUNDIDADE = 1,45 M, EXCLUINDO TAMPÃO. AF_12/2020 | E39: UND | F39: 23 | G39: 5056.95 | H39: =TRUNC(G39*1.2977,2) -> 6562.4 | I39: =TRUNC(H39*F39,2) -> 150935.2
A40: 4.11 | B40: SINAPI | C40: 21090 | D40: TAMPAO FOFO ARTICULADO, CLASSE D400 CARGA MAX 40 T, REDONDO, TAMPA 600 MM (COM INSCRICAO EM RELEVO DO TIPO DE REDE) | E40: UND | F40: 23 | G40: 782.32 | H40: =TRUNC(G40*1.2977,2) -> 1015.21 | I40: =TRUNC(H40*F40,2) -> 23349.83
A41: 4.12 | B41: SINAPI | C41: 97949 | D41: CAIXA PARA BOCA DE LOBO SIMPLES RETANGULAR, EM ALVENARIA COM TIJOLOS CERÂMICOS MACIÇOS, DIMENSÕES INTERNAS: 0,6X1X1,2 M. AF_12/2020 | E41: UND | F41: 44 | G41: 1900.1 | H41: =TRUNC(G41*1.2977,2) -> 2465.75 | I41: =TRUNC(H41*F41,2) -> 108493
... A43: 4.14 | B43: SICRO | C43: 2003457 | D43: Dissipador de energia - DEB 05 - areia e pedra de mão comerciais | E43: UND | F43: 5 | G43: 3100.49 | H43: =TRUNC(G43*1.2977,2) -> 4023.5 | I43: =TRUNC(H43*F43,2) -> 20117.5
A44: TOTAL DO ITEM 4 | I44: =SUM(I30:I43) -> 1375123.6
A45: 5 | D45: TERRAPLENAGEM
A46: 5.1 | D46: SERVIÇOS TOPOGRAFICOS
A47: 5.1.1 | B47: SINAPI | C47: 99064 | D47: LOCAÇÃO DE PAVIMENTAÇÃO. AF_10/2018 | E47: M | F47: 2869.3 | G47: 0.47 | H47: =TRUNC(G47*1.2977,2) -> 0.6 | I47: =TRUNC(H47*F47,2) -> 1721.58
A48: TOTAL DO ITEM 5.1 | I48: =I47 -> 1721.58
...

Sheet CPUs
H2: BDI Padrão: 29,770%
A3: Bancos: SICRO3: PA 10/2023, SINAPI: PA 01/2024 (Preço desonerado) | E3: =PLANILHA!A4 -> OBJETO: CONTRATAÇÃO DE EMPRESA ESPECIALIZADA EM ENGENHARIA PARA EXECUÇÃO DE SERVIÇOS DE DRENAGEM, TERRAPLENAGEM E PAVIMENTAÇÃO ASFÁLTICA, LOCALIZADA NA AV. MAÇARANDUBA, RUA DEUSANIRA, AV. BRAGANÇA, RUA GRAVIOLA, RUA JAMBEIRO, RUA ÓBIDOS, RUA SÃO MIGUEL E RUA SEBERI NA CIDADE DE TUCUMÃ NO ESTADO DO PARÁ
E5: Composições Analíticas com Preço unitário - Com Leis Sociais
E8: Composições Proprias
B10: Tipo | C10: Banco | D10: Código | E10: Descrição | F10: Classe/Tipo | H10: Unidade | I10: Quantidade | J10: Preço s/ BDI | K10: Total
A11: 1.1 | B11: Composição | C11: Próprio | D11: 1 | E11: ADMINISTRAÇÃO LOCAL DA OBRA | F11: SERVICOS DIVERSOS | H11: MÊS | I11: 1 | J11: 37400 | K11: 37400
B12: Composição Auxiliar | C12: SINAPI | D12: 90778 | E12: ENGENHEIRO CIVIL DE OBRA PLENO COM ENCARGOS COMPLEMENTARES | F12: SEDI - SERVICOS DIVERSOS | H12: H | I12: 220 | J12: 109.19 | K12: 24021.8
B13: Composição Auxiliar | C13: SINAPI | D13: 90776 | E13: ENCARREGADO GERAL COM ENCARGOS COMPLEMENTARES | F13: SEDI - SERVICOS DIVERSOS | H13: H | I13: 220 | J13: 21.37 | K13: 4701.4
B14: Composição Auxiliar | C14: SINAPI | D14: 100289 | E14: VIGIA DIURNO COM ENCARGOS COMPLEMENTARES | F14: SEDI - SERVICOS DIVERSOS | H14: H | I14: 440 | J14: 19.72 | K14: 8676.8
F16: MO sem LS : | G16: 17898.67 | H16: LS : | I16: 15011.61 | J16: MO com LS : | K16: 32910.28
F17: Valor do BDI : | G17: 11133.98 | J17: Valor com BDI : | K17: 48533.98
B19: Tipo | C19: Banco | D19: Código | E19: Descrição | F19: Classe/Tipo | H19: Unidade | I19: Quantidade | J19: Preço s/ BDI | K19: Total
A20: 2.1.2 | B20: Composição | C20: Próprio | D20: 2 | E20: LOCAÇÃO DE CONTAINER PARA ESCRITÓRIO/VESTIÁRIOS E ALMOXARIFADO | F20: CANTEIRO DE OBRAS | H20: MÊS | I20: 1 | J20: 2515.61 | K20: 2515.61
B21: Insumo | C21: SINAPI | D21: 10775 | E21: LOCACAO DE CONTAINER 2,30 X 6,00 M, ALT. 2,50 M, COM 1 SANITARIO, PARA ESCRITORIO, COMPLETO, SEM DIVISORIAS INTERNAS (NAO INCLUI MOBILIZACAO/DESMOBILIZACAO) | F21: Equipamento | H21: MES | I21: 1 | J21: 862.5 | K21: 862.5
B22: Insumo | C22: SINAPI | D22: 10776 | E22: LOCACAO DE CONTAINER 2,30 X 6,00 M, ALT. 2,50 M, PARA ESCRITORIO, SEM DIVISORIAS INTERNAS E SEM SANITARIO (NAO INCLUI MOBILIZACAO/DESMOBILIZACAO) | F22: Equipamento | H22: MES | I22: 1 | J22: 673.82 | K22: 673.82
B23: Insumo | C23: SINAPI | D23: 10777 | E23: LOCACAO DE CONTAINER 2,30 X 4,30 M, ALT. 2,50 M, PARA SANITARIO, COM 3 BACIAS, 4 CHUVEIROS, 1 LAVATORIO E 1 MICTORIO (NAO INCLUI MOBILIZACAO/DESMOBILIZACAO) | F23: Equipamento | H23: MES | I23: 1 | J23: 979.29 | K23: 979.29
F25: MO sem LS : | G25: 0 | H25: LS : | I25: 0 | J25: MO com LS : | K25: 0
F26: Valor do BDI : | G26: 748.89 | J26: Valor com BDI : | K26: 3264.5
B28: Tipo | C28: Banco | D28: Código | E28: Descrição | F28: Classe/Tipo | H28: Unidade | I28: Quantidade | J28: Preço s/ BDI | K28: Total
A29: 3.1 | B29: Composição | C29: Próprio | D29: 003 | E29: MOBILIZAQÇÃO E DESMOBILIZAÇÃO DA OBRA | F29: CANTEIRO DE OBRAS | H29: UN | I29: 1 | J29: 36982.96 | K29: 36982.96
B30: Insumo | C30: SICRO3 | D30: E9665 | E30: Cavalo mecânico com semi-reboque com capacidade de 22 t - 240 kW | F30: Equipamento | H30: Unidade | I30: 40 | J30: 394.1031 | K30: 15764.12
B31: Composição Auxiliar | C31: SINAPI | D31: 5824 | E31: CAMINHÃO TOCO, PBT 16.000 KG, CARGA ÚTIL MÁX. 10.685 KG, DIST. ENTRE EIXOS 4,8 M, POTÊNCIA 189 CV, INCLUSIVE CARROCERIA FIXA ABERTA DE MADEIRA P/ TRANSPORTE GERAL DE CARGA SECA, DIMEN. APROX. 2,5 X 7,00 X 0,50 M - CHP DIURNO. AF_06/2014 | F31: CHOR - CUSTOS HORÁRIOS DE MÁQUINAS E EQUIPAMENTOS | H31: CHP | I31: 8 | J31: 218.3 | K31: 1746.4
B32: Composição Auxiliar | C32: SINAPI | D32: 5811 | E32: CAMINHÃO BASCULANTE 6 M3, PESO BRUTO TOTAL 16.000 KG, CARGA ÚTIL MÁXIMA 13.071 KG, DISTÂNCIA ENTRE EIXOS 4,80 M, POTÊNCIA 230 CV INCLUSIVE CAÇAMBA METÁLICA - CHP DIURNO. AF_06/2014 | F32: CHOR - CUSTOS HORÁRIOS DE MÁQUINAS E EQUIPAMENTOS | H32: CHP | I32: 24 | J32: 205.12 | K32: 4922.88
B33: Composição Auxiliar | C33: SINAPI | D33: 91386 | E33: CAMINHÃO BASCULANTE 10 M3, TRUCADO CABINE SIMPLES, PESO BRUTO TOTAL 23.000 KG, CARGA ÚTIL MÁXIMA 15.935 KG, DISTÂNCIA ENTRE EIXOS 4,80 M, POTÊNCIA 230 CV INCLUSIVE CAÇAMBA METÁLICA - CHP DIURNO. AF_06/2014 | F33: CHOR - CUSTOS HORÁRIOS DE MÁQUINAS E EQUIPAMENTOS | H33: CHP | I33: 40 | J33: 270.95 | K33: 10838
B34: Composição Auxiliar | C34: SINAPI | D34: 5901 | E34: CAMINHÃO PIPA 10.000 L TRUCADO, PESO BRUTO TOTAL 23.000 KG, CARGA ÚTIL MÁXIMA 15.935 KG, DISTÂNCIA ENTRE EIXOS 4,8 M, POTÊNCIA 230 CV, INCLUSIVE TANQUE DE AÇO PARA TRANSPORTE DE ÁGUA - CHP DIURNO. AF_06/2014 | F34: CHOR - CUSTOS HORÁRIOS DE MÁQUINAS E EQUIPAMENTOS | H34: CHP | I34: 8 | J34: 323.93 | K34: 2591.44
B35: Composição Auxiliar | C35: SINAPI | D35: 83362 | E35: ESPARGIDOR DE ASFALTO PRESSURIZADO, TANQUE 6 M3 COM ISOLAÇÃO TÉRMICA, AQUECIDO COM 2 MAÇARICOS, COM BARRA ESPARGIDORA 3,60 M, MONTADO SOBRE CAMINHÃO TOCO, PBT 14.300 KG, POTÊNCIA 185 CV - CHP DIURNO. AF_08/2015 | F35: CHOR - CUSTOS HORÁRIOS DE MÁQUINAS E EQUIPAMENTOS | H35: CHP | I35: 4 | J35: 280.03 | K35: 1120.12
F37: MO sem LS : | G37: 822.91 | H37: LS : | I37: 690.17 | J37: MO com LS : | K37: 1513.08
F38: Valor do BDI : | G38: 11009.82 | J38: Valor com BDI : | K38: 47992.78
B40: Tipo | C40: Banco | D40: Código | E40: Descrição | F40: Classe/Tipo | H40: Unidade | I40: Quantidade | J40: Preço s/ BDI | K40: Total
A41: 6.1 | B41: Composição | C41: Próprio | D41: 08 | E41: EXECUÇÃO DE IMPRIMAÇÃO DE BASE DE PAVIMENTAÇÃO | F41: PAVIMENTACAO | H41: M2 | I41: 1 | J41: 8.11 | K41: 8.11
B42: Composição Auxiliar | C42: SINAPI | D42: 5839 | E42: VASSOURA MECÂNICA REBOCÁVEL COM ESCOVA CILÍNDRICA, LARGURA ÚTIL DE VARRIMENTO DE 2,44 M - CHP DIURNO. AF_06/2014 | F42: CHOR - CUSTOS HORÁRIOS DE MÁQUINAS E EQUIPAMENTOS | H42: CHP | I42: 0.002 | J42: 9.7 | K42: 0.01
B43: Composição Auxiliar | C43: SINAPI | D43: 5841 | E43: VASSOURA MECÂNICA REBOCÁVEL COM ESCOVA CILÍNDRICA, LARGURA ÚTIL DE VARRIMENTO DE 2,44 M - CHI DIURNO. AF_06/2014 | F43: CHOR - CUSTOS HORÁRIOS DE MÁQUINAS E EQUIPAMENTOS | H43: CHI | I43: 0.004 | J43: 4.88 | K43: 0.01
B44: Composição Auxiliar | C44: SINAPI | D44: 83362 | E44: ESPARGIDOR DE ASFALTO PRESSURIZADO, TANQUE 6 M3 COM ISOLAÇÃO TÉRMICA, AQUECIDO COM 2 MAÇARICOS, COM BARRA ESPARGIDORA 3,60 M, MONTADO SOBRE CAMINHÃO TOCO, PBT 14.300 KG, POTÊNCIA 185 CV - CHP DIURNO. AF_08/2015 | F44: CHOR - CUSTOS HORÁRIOS DE MÁQUINAS E EQUIPAMENTOS | H44: CHP | I44: 0.001 | J44: 280.03 | K44: 0.28
B45: Composição Auxiliar | C45: SINAPI | D45: 88316 | E45: SERVENTE COM ENCARGOS COMPLEMENTARES | F45: SEDI - SERVICOS DIVERSOS | H45: H | I45: 0.0058 | J45: 19.94 | K45: 0.11
B46: Composição Auxiliar | C46: SINAPI | D46: 89035 | E46: TRATOR DE PNEUS, POTÊNCIA 85 CV, TRAÇÃO 4X4, PESO COM LASTRO DE 4.675 KG - CHP DIURNO. AF_06/2014 | F46: CHOR - CUSTOS HORÁRIOS DE MÁQUINAS E EQUIPAMENTOS | H46: CHP | I46: 0.0017 | J46: 128.2 | K46: 0.21
B47: Composição Auxiliar | C47: SINAPI | D47: 89036 | E47: TRATOR DE PNEUS, POTÊNCIA 85 CV, TRAÇÃO 4X4, PESO COM LASTRO DE 4.675 KG - CHI DIURNO. AF_06/2014 | F47: CHOR - CUSTOS HORÁRIOS DE MÁQUINAS E EQUIPAMENTOS | H47: CHI | I47: 0.0041 | J47: 41.87 | K47: 0.17
B48: Composição Auxiliar | C48: SINAPI | D48: 91486 | E48: ESPARGIDOR DE ASFALTO PRESSURIZADO, TANQUE 6 M3 COM ISOLAÇÃO TÉRMICA, AQUECIDO COM 2 MAÇARICOS, COM BARRA ESPARGIDORA 3,60 M, MONTADO SOBRE CAMINHÃO TOCO, PBT 14.300 KG, POTÊNCIA 185 CV - CHI DIURNO. AF_08/2015 | F48: CHOR - CUSTOS HORÁRIOS DE MÁQUINAS E EQUIPAMENTOS | H48: CHI | I48: 0.0049 | J48: 64.45 | K48: 0.31
B49: Insumo | C49: Próprio | D49: COTAÇÃO 0001 | E49: EAI CM ECOIMPRIMA | F49: Material | H49: KG | I49: 1.2 | J49: 5.843 | K49: 7.01
F51: MO sem LS : | G51: 0.15 | H51: LS : | I51: 0.12 | J51: MO com LS : | K51: 0.27
F52: Valor do BDI : | G52: 2.41 | J52: Valor com BDI : | K52: 10.52
...

Sheet QUANT-PAV-R AZUL
C13: MEMÓRIA DE CALCULO - PAVIMENTAÇÃO ASFALTICA
A15: PROGRAMA: FUNDO PARA O DESENVOLVIMENTO REGIONAL - FRD
A17: OBRA: INFRA-ESTRUTURA URBANA - PAVIMENTAÇÃO ASFÁLTICA
A19: LOCAL: MUNICÍPIO DE RONDON DO PARÁ - BAIRRO RECANTO AZUL
A21: I - LEVANTAMENTO DOS SERVIÇOS A SEREM EXECUTADOS
B23: BAIRRO | C23: COMP | D23: LARGURA | E23: ÁREA | F23: ESPES | G23: VOLUME
A24: N° | B24: RUA / PERIMETO | C24: (m) | D24: CARROÇAVEL | E24: (m²) | F24: (m) | G24: PAV.(m³)
D25: (m)
B26: BAIRRO RECANTO AZUL
A27: 17 | B27: Rua 21 de Abril entre Rua Castelo Branco e Rua Antônio B. Cavalcante | C27: 450 | D27: 6 | E27: =C27*D27 -> 2700 | F27: 0.03 | G27: =E27*F27 -> 81
A28: 18 | B28: Rua João Marcelino entre Rua Marcolino Teixeira e Limite do Bairro Novo Horizonte | C28: 64 | D28: 6 | E28: =C28*D28 -> 384 | F28: 0.03 | G28: =E28*F28 -> 11.52
A29: 19 | B29: Rua 13 de Maio entre Rua Castelo Branco e Limite do Bairro Novo Horizonte | C29: 265 | D29: 6 | E29: =C29*D29 -> 1590 | F29: 0.03 | G29: =E29*F29 -> 47.7
A30: 20 | B30: Rua 24 de Junho entre Rua Castelo Branco e Limite do Bairro Novo Horizonte | C30: 215 | D30: 6 | E30: =C30*D30 -> 1290 | F30: 0.03 | G30: =E30*F30 -> 38.7
A31: 21 | B31: Rua 7 de setembro entre Rua Castelo Branco e Limite do Bairro Novo Horizonte | C31: 168 | D31: 6 | E31: =C31*D31 -> 1008 | F31: 0.03 | G31: =E31*F31 -> 30.24
A32: 22 | B32: Rua Castelo Branco entre Rua 24 de Junho e Ponte existente | C32: 70 | D32: 6 | E32: =C32*D32 -> 420 | F32: 0.03 | G32: =E32*F32 -> 12.6
A33: 23 | B33: Rua Sena entre Rua 21 de Abril e Rua 13 de Maio | D33: 5 | E33: =C33*D33 -> 0 | F33: 0.03 | G33: =E33*F33 -> 0
A34: 24 | B34: Rua Bahia entre Rua 21 de Abril e Rua 13 de Maio | D34: 6 | E34: =C34*D34 -> 0 | F34: 0.03 | G34: =E34*F34 -> 0
A35: 25 | B35: Rua 1º de Maio entre Rua 21 de Abril até a Captação 3 - Alto Recalque (SAAE) | D35: 6 | E35: =C35*D35 -> 0 | F35: 0.03 | G35: =E35*F35 -> 0
A36: 26 | B36: Rua Goias entre Rua 21 de Abril e Rua 13 de Maio | D36: 6 | E36: =C36*D36 -> 0 | F36: 0.03 | G36: =E36*F36 -> 0
A37: 27 | B37: Rua Marcolino Teixeira entre Rua 21 de Abril e Rua 13 de Maio | C37: 88 | D37: 6 | E37: =C37*D37 -> 528 | F37: 0.03 | G37: =E37*F37 -> 15.84
B38: TOTAL | C38: =SUM(C26:C37) -> 1320 | D38: =SUM(D26:D37)/11 -> 5.9090909 | E38: =SUM(E26:E37) -> 7920 | F38: 0.03 | G38: =SUM(G26:G37) -> 237.6
J39: 1793
J40: =J39-C38 -> 473
A41: 1) | B41: SERVIÇOS PRELIMINARES
B42: PLACA DA OBRA: 2,00 m x 3,00 m | F42: =2*3 -> 6 | G42: m²
B44: LIMPEZA DE OBRA
B45: * LIMPEZA DO CAIXOTE = LARGURA DE 6,56 m | F45: 0 | G45: m²
B47: LOCAÇÃO PLANIMÉTRICA DE LINHA
B48: LOCAÇÃO DO EIXO = ΣC | C48: =C38 -> 1320 | D48: m | F48: =C48 -> 1320 | G48: m
B49: LOC DO DA SEÇÃO TRANSVERSAL = | C49: ΣC/20m x 7m | F49: =(F48/20)*7 -> 462 | G49: m
F50: =SUM(F48:F49) -> 1782 | G50: m | J50: =#REF! -> #REF! | K50: =J50-F50 -> #REF! | L50: =J50-K50 -> #REF!
A53: 2) | B53: DRENAGEM
B54: MEIO FIO COM SARJETA = ΣC x 2 linhas | F54: =F48*2 -> 2640 | G54: m
B55: CALHA DE PASAGEM D'AGUA = | C55: 0 | D55: x 1 linha x 21 pontos | F55: =C55*1*21 -> 0 | G55: m
B56: obs: ΣC Somatória da coluna C
A58: 3) | B58: CALÇADA DE PROTEÇÃO EM CONCRETO
B59: Largura | C59: 1.2 | D59: m | F59: =C59*C60 -> 3168 | G59: m²
B60: ΣC x 2 | C60: =C48*2 -> 2640 | D60: m
B61: obs: ΣC Somatória da coluna C
A63: 4) | B63: TERRAPLANAGEM
...

Sheet CBUQ_MEMO_CBUQ_FRD
C2: MEMÓRIA DE CALCULO - PAVIMENTAÇÃO ASFALTICA
A4: PROGRAMA: FUNDO PARA O DESENVOLVIMENTO REGIONAL - FRD
A6: OBRA: INFRA-ESTRUTURA URBANA - PAVIMENTAÇÃO ASFÁLTICA
A8: LOCAL: MUNICÍPIO DE RONDON DO PARÁ
A10: I - LEVANTAMENTO DOS SERVIÇOS A SEREM EXECUTADOS
B12: BAIRRO | C12: COMP | D12: LARGURA | E12: ÁREA | F12: ESPES | G12: VOLUME
A13: N° | B13: RUA / PERIMETO | C13: (m) | D13: CARROÇAVEL | E13: (m²) | F13: (m) | G13: PAV.(m³)
D14: (m)
B15: BAIRRO GUSMÃO
A16: 1 | B16: Rua Tom Jobim entre Avenida Marechal Rondon e Rua Raul Silva | C16: 370 | D16: 7 | E16: =C16*D16 -> 2590 | F16: 0.04 | G16: =E16*F16 -> 103.6
A17: 2 | B17: Rua Campo Grande entre Avenida Marechal Rondon e Rua Raul Silva | C17: 363 | D17: 7 | E17: =C17*D17 -> 2541 | F17: 0.04 | G17: =E17*F17 -> 101.64
A18: 3 | B18: Rua Amazonas entre Avenida Marechal Rondon e Rua São Paulo | C18: 145 | D18: 6 | E18: =C18*D18 -> 870 | F18: 0.04 | G18: =E18*F18 -> 34.8
A19: 4 | B19: Rua Flamengo entre Rua Marechal Rondon e Rua Candelária | C19: 172 | D19: 8 | E19: =C19*D19 -> 1376 | F19: 0.04 | G19: =E19*F19 -> 55.04
