Workbook

Sheet BDI-SERVIÇOS
S1: PASSO A PASSO: 1- Selecionar o Tipo de BDI 2- Selecionar o Tipo de Obra 3- Preencher as células em amarelo
D5: PREFEITURA MUNICIPAL DE SÃO JOÃO DE PIRABAS
D6: SECRETARIA MUNICIPAL DE TRANSPORTES, OBRAS E SERVIÇOS PÚBLICOS
D7: OBJETO: PERFURAÇÃO E MANUTENÇÃO DE POÇOS ARTESIANOS E BOMBAS, CONFORME DEMANDA DA PREFEITURA MUNICIPAL DE SÃO JOÃO DE PIRABAS.
H8: REVISÃO: | I8: 0-0 | J8: DATA: | K8: 46132
F9: TIPO DE BDI: | G9: DESONERADO
F10: TIPO DE OBRA: | G10: CONSTRUÇÃO DE EDIFÍCIOS
D11: PLANILHA DE BONIFICAÇÃO E DESPESAS INDIRETAS - BDI - SERVIÇO
D13: ITENS | E13: DESCRIÇÃO | K13: % | Q13: TIPO DE OBRA: | R13: =G10 -> CONSTRUÇÃO DE EDIFÍCIOS
D15: 1.0 | E15: ADMINISTRAÇÃO CENTRAL | K15: =S18 -> 0.03 | P15: CUSTO TOTAL DO SERVIÇO (R$)
P16: ITEM | Q16: DISCRIMINAÇÃO | R16: VALOR (R$) | S16: TAXA (%) | T16: OBS. | U16: SITUAÇÃO DO INTERVALO | V16: PARCELAS DO BDI (%) | Y16: SIGLA | Z16: TEXTO
D17: 2.0 | E17: DESPESAS FINANCEIRAS | K17: =S21 -> 0.0059 | V17: 1º QUARTIL | W17: MÉDIO | X17: 3º QUARTIL
P18: 1 | Q18: AC - ADMINISTRAÇÃO CENTRAL | R18: =$X$15*S18 -> 0 | S18: 0.03 | U18: =IF(AND(S18>=V18,S18<=X18),"OK","DIFERE") -> OK | V18: =IF($R$13='% de BDI '!$A$4,'% de BDI '!I6,IF('BDI-SERVIÇOS'!$R$13='% de BDI '!$A$21,'% de BDI '!I23,IF('BDI-SERVIÇOS'!$R$13='% de BDI '!$A$38,'% de BDI '!I40,IF('BDI-SERVIÇOS'!$R$13='% de BDI '!$A$55,'% de BDI '!I57,IF('BDI-SERVIÇOS'!$R$13='% de BDI '!$A$72,'% de BDI '!I74,""))))) -> 0.03 | W18: =IF($R$13='% de BDI '!$A$4,'% de BDI '!J6,IF('BDI-SERVIÇOS'!$R$13='% de BDI '!$A$21,'% de BDI '!J23,IF('BDI-SERVIÇOS'!$R$13='% de BDI '!$A$38,'% de BDI '!J40,IF('BDI-SERVIÇOS'!$R$13='% de BDI '!$A$55,'% de BDI '!J57,IF('BDI-SERVIÇOS'!$R$13='% de BDI '!$A$72,'% de BDI '!J74,""))))) -> 0.04 | X18: =IF($R$13='% de BDI '!$A$4,'% de BDI '!K6,IF('BDI-SERVIÇOS'!$R$13='% de BDI '!$A$21,'% de BDI '!K23,IF('BDI-SERVIÇOS'!$R$13='% de BDI '!$A$38,'% de BDI '!K40,IF('BDI-SERVIÇOS'!$R$13='% de BDI '!$A$55,'% de BDI '!K57,IF('BDI-SERVIÇOS'!$R$13='% de BDI '!$A$72,'% de BDI '!K74,""))))) -> 0.055 | Y18: AC | Z18: ADMINISTRAÇÃO CENTRAL
D19: 3.0 | E19: SEGURO / GARANTIA / RISCO | K19: =SUM(K20:K22) -> 0.0177 | P19: 2 | Q19: SG - SEGUROS e GARANTIA | R19: =$X$15*S19 -> 0 | S19: 0.008 | U19: =IF(AND(S19>=V19,S19<=X19),"OK","DIFERE") -> OK | V19: =IF($R$13='% de BDI '!$A$4,'% de BDI '!I7,IF('BDI-SERVIÇOS'!$R$13='% de BDI '!$A$21,'% de BDI '!I24,IF('BDI-SERVIÇOS'!$R$13='% de BDI '!$A$38,'% de BDI '!I41,IF('BDI-SERVIÇOS'!$R$13='% de BDI '!$A$55,'% de BDI '!I58,IF('BDI-SERVIÇOS'!$R$13='% de BDI '!$A$72,'% de BDI '!I75,""))))) -> 0.008 | W19: =IF($R$13='% de BDI '!$A$4,'% de BDI '!J7,IF('BDI-SERVIÇOS'!$R$13='% de BDI '!$A$21,'% de BDI '!J24,IF('BDI-SERVIÇOS'!$R$13='% de BDI '!$A$38,'% de BDI '!J41,IF('BDI-SERVIÇOS'!$R$13='% de BDI '!$A$55,'% de BDI '!J58,IF('BDI-SERVIÇOS'!$R$13='% de BDI '!$A$72,'% de BDI '!J75,""))))) -> 0.008 | X19: =IF($R$13='% de BDI '!$A$4,'% de BDI '!K7,IF('BDI-SERVIÇOS'!$R$13='% de BDI '!$A$21,'% de BDI '!K24,IF('BDI-SERVIÇOS'!$R$13='% de BDI '!$A$38,'% de BDI '!K41,IF('BDI-SERVIÇOS'!$R$13='% de BDI '!$A$55,'% de BDI '!K58,IF('BDI-SERVIÇOS'!$R$13='% de BDI '!$A$72,'% de BDI '!K75,""))))) -> 0.01 | Y19: SG | Z19: SEGUROS e GARANTIA
D20: 3.1 | E20: Seguro de Risco de Engenharia | K20: =S20 -> 0.0097 | P20: 3 | Q20: R - RISCOS | R20: =$X$15*S20 -> 0 | S20: 0.0097 | U20: =IF(AND(S20>=V20,S20<=X20),"OK","DIFERE") -> OK | V20: =IF($R$13='% de BDI '!$A$4,'% de BDI '!I8,IF('BDI-SERVIÇOS'!$R$13='% de BDI '!$A$21,'% de BDI '!I25,IF('BDI-SERVIÇOS'!$R$13='% de BDI '!$A$38,'% de BDI '!I42,IF('BDI-SERVIÇOS'!$R$13='% de BDI '!$A$55,'% de BDI '!I59,IF('BDI-SERVIÇOS'!$R$13='% de BDI '!$A$72,'% de BDI '!I76,""))))) -> 0.0097 | W20: =IF($R$13='% de BDI '!$A$4,'% de BDI '!J8,IF('BDI-SERVIÇOS'!$R$13='% de BDI '!$A$21,'% de BDI '!J25,IF('BDI-SERVIÇOS'!$R$13='% de BDI '!$A$38,'% de BDI '!J42,IF('BDI-SERVIÇOS'!$R$13='% de BDI '!$A$55,'% de BDI '!J59,IF('BDI-SERVIÇOS'!$R$13='% de BDI '!$A$72,'% de BDI '!J76,""))))) -> 0.0127 | X20: =IF($R$13='% de BDI '!$A$4,'% de BDI '!K8,IF('BDI-SERVIÇOS'!$R$13='% de BDI '!$A$21,'% de BDI '!K25,IF('BDI-SERVIÇOS'!$R$13='% de BDI '!$A$38,'% de BDI '!K42,IF('BDI-SERVIÇOS'!$R$13='% de BDI '!$A$55,'% de BDI '!K59,IF('BDI-SERVIÇOS'!$R$13='% de BDI '!$A$72,'% de BDI '!K76,""))))) -> 0.0127 | Y20: R | Z20: RISCOS
D21: 3.2 | E21: Garantia | K21: =S19/2 -> 0.004 | P21: 4 | Q21: DF - DESPESAS FINANCEIRAS | R21: =$X$15*S21 -> 0 | S21: 0.0059 | U21: =IF(AND(S21>=V21,S21<=X21),"OK","DIFERE") -> OK | V21: =IF($R$13='% de BDI '!$A$4,'% de BDI '!I9,IF('BDI-SERVIÇOS'!$R$13='% de BDI '!$A$21,'% de BDI '!I26,IF('BDI-SERVIÇOS'!$R$13='% de BDI '!$A$38,'% de BDI '!I43,IF('BDI-SERVIÇOS'!$R$13='% de BDI '!$A$55,'% de BDI '!I60,IF('BDI-SERVIÇOS'!$R$13='% de BDI '!$A$72,'% de BDI '!I77,""))))) -> 0.0059 | W21: =IF($R$13='% de BDI '!$A$4,'% de BDI '!J9,IF('BDI-SERVIÇOS'!$R$13='% de BDI '!$A$21,'% de BDI '!J26,IF('BDI-SERVIÇOS'!$R$13='% de BDI '!$A$38,'% de BDI '!J43,IF('BDI-SERVIÇOS'!$R$13='% de BDI '!$A$55,'% de BDI '!J60,IF('BDI-SERVIÇOS'!$R$13='% de BDI '!$A$72,'% de BDI '!J77,""))))) -> 0.0123 | X21: =IF($R$13='% de BDI '!$A$4,'% de BDI '!K9,IF('BDI-SERVIÇOS'!$R$13='% de BDI '!$A$21,'% de BDI '!K26,IF('BDI-SERVIÇOS'!$R$13='% de BDI '!$A$38,'% de BDI '!K43,IF('BDI-SERVIÇOS'!$R$13='% de BDI '!$A$55,'% de BDI '!K60,IF('BDI-SERVIÇOS'!$R$13='% de BDI '!$A$72,'% de BDI '!K77,""))))) -> 0.0139 | Y21: DF | Z21: DESPESAS FINANCEIRAS
D22: 3.3 | E22: Riscos | K22: =S19/2 -> 0.004 | P22: 5 | Q22: L - LUCRO BRUTO | R22: =$X$15*S22 -> 0 | S22: 0.061642 | U22: =IF(AND(S22>=V22,S22<=X22),"OK","DIFERE") -> OK | V22: =IF($R$13='% de BDI '!$A$4,'% de BDI '!I10,IF('BDI-SERVIÇOS'!$R$13='% de BDI '!$A$21,'% de BDI '!I27,IF('BDI-SERVIÇOS'!$R$13='% de BDI '!$A$38,'% de BDI '!I44,IF('BDI-SERVIÇOS'!$R$13='% de BDI '!$A$55,'% de BDI '!I61,IF('BDI-SERVIÇOS'!$R$13='% de BDI '!$A$72,'% de BDI '!I78,""))))) -> 0.0616 | W22: =IF($R$13='% de BDI '!$A$4,'% de BDI '!J10,IF('BDI-SERVIÇOS'!$R$13='% de BDI '!$A$21,'% de BDI '!J27,IF('BDI-SERVIÇOS'!$R$13='% de BDI '!$A$38,'% de BDI '!J44,IF('BDI-SERVIÇOS'!$R$13='% de BDI '!$A$55,'% de BDI '!J61,IF('BDI-SERVIÇOS'!$R$13='% de BDI '!$A$72,'% de BDI '!J78,""))))) -> 0.074 | X22: =IF($R$13='% de BDI '!$A$4,'% de BDI '!K10,IF('BDI-SERVIÇOS'!$R$13='% de BDI '!$A$21,'% de BDI '!K27,IF('BDI-SERVIÇOS'!$R$13='% de BDI '!$A$38,'% de BDI '!K44,IF('BDI-SERVIÇOS'!$R$13='% de BDI '!$A$55,'% de BDI '!K61,IF('BDI-SERVIÇOS'!$R$13='% de BDI '!$A$72,'% de BDI '!K78,""))))) -> 0.0896 | Y22: L | Z22: LUCRO BRUTO
P23: 6 | Q23: I - IMPOSTOS | R23: =$X$15*S23 -> 0 | S23: =SUM(S24:S27) -> 0.1315 | Y23: I | Z23: IMPOSTOS
D24: 4.0 | E24: LUCRO BRUTO | K24: =S22 -> 0.061642 | P24: 6.1 | Q24: PIS | S24: 0.0065
P25: 6.2 | Q25: COFINS | S25: 0.03
D26: 5.0 | E26: TRIBUTOS | K26: =SUM(K27:K30) -> 0.1315 | P26: 6.3 | Q26: ISS (CONFORME LEGISLAÇÃO MUNICIPAL) | S26: 0.05
D27: 5.1 | E27: ISS (Observar Percentual da Localidade) | K27: =S26 -> 0.05 | P27: 6.4 | Q27: CONTRIB.PREV. SOBRE REC. BRUTA - CPRB | S27: =IF(G9=Planilha3!$C$4,4.5%,0) -> 0.045 | U27: Equação Acordão TCU 2.622/2013 - Plenário
D28: 5.2 | E28: PIS | K28: =S24 -> 0.0065 | P28: TOTAL DO BDI (R$) | T28: =S30*X15 -> 0 | U28: Parâmetros do Acórdão 2.622/2013 - Plenário | Y28: I | Z28: IMPOSTOS
D29: 5.3 | E29: COFINS | K29: =S25 -> 0.03 | P29: PREÇO DE VENDA (R$) | T29: =X15 -> 0 | U29: SEM CPRB | V29: =IF($R$13='% de BDI '!$A$4,'% de BDI '!I17,IF('BDI-SERVIÇOS'!$R$13='% de BDI '!$A$21,'% de BDI '!I34,IF('BDI-SERVIÇOS'!$R$13='% de BDI '!$A$38,'% de BDI '!I51,IF('BDI-SERVIÇOS'!$R$13='% de BDI '!$A$55,'% de BDI '!I68,IF('BDI-SERVIÇOS'!$R$13='% de BDI '!$A$72,'% de BDI '!I85,""))))) -> 0.2034 | W29: =IF($R$13='% de BDI '!$A$4,'% de BDI '!J17,IF('BDI-SERVIÇOS'!$R$13='% de BDI '!$A$21,'% de BDI '!J34,IF('BDI-SERVIÇOS'!$R$13='% de BDI '!$A$38,'% de BDI '!J51,IF('BDI-SERVIÇOS'!$R$13='% de BDI '!$A$55,'% de BDI '!J68,IF('BDI-SERVIÇOS'!$R$13='% de BDI '!$A$72,'% de BDI '!J85,""))))) -> 0.2212 | X29: =IF($R$13='% de BDI '!$A$4,'% de BDI '!K17,IF('BDI-SERVIÇOS'!$R$13='% de BDI '!$A$21,'% de BDI '!K34,IF('BDI-SERVIÇOS'!$R$13='% de BDI '!$A$38,'% de BDI '!K51,IF('BDI-SERVIÇOS'!$R$13='% de BDI '!$A$55,'% de BDI '!K68,IF('BDI-SERVIÇOS'!$R$13='% de BDI '!$A$72,'% de BDI '!K85,""))))) -> 0.25
D30: 5.4 | E30: CPRB | K30: =S27 -> 0.045 | P30: BDI (%) | S30: =(((1+S18+S20+S19)*(1+S21)*(1+S22)/(1-S23))-1) -> 0.28824961 | T30: =IF(S27=0,IF(AND(S30>=V29,S30<=X29),"OK","AJUSTAR"),IF(AND(S30>=V30,S30<=X30),"OK","AJUSTAR")) -> OK | U30: COM CPRB | V30: =TRUNC((1+V29)/(0.955)-1,4) -> 0.2601 | W30: =TRUNC((1+W29)/(0.955)-1,4) -> 0.2787 | X30: =TRUNC((1+X29)/(0.955)-1,4) -> 0.3089
D32: BDI = | E32: (((1+(AC+S+R+G))*(1+DF)*(1+L))/((1-I) )-1)*100 | K32: =TRUNC(((1+(K15+K19))*(1+K17)*(1+K24)/(1-K26))-1,4) -> 0.2882
D34: NOTAS: | P34: 28.82
D36: 1 - A fórmula proposta para cálculo do BDI, acima utilizada, segue o Acórdão 2.622/2013-TCU/Plenário;
D38: 2 - Alíquota do ISS é determinada pela "Relação de Serviços" do município onde se prestará o serviço conforme art. 1° e art. 8° da Lei Complementar n° 116/2001;
D40: 3 - Alíquota máxima de PIS é de até 1,65% conforme Lei n°10.637/02 em consonância ao Regime de Tributação da Empresa;
D42: 4 - Alíquota máxima de COFINS é de 3% conforme Lei n° 10.833/03;
D44: 5 - Os percentuais dos itens que compõem analiticamente o BDI são os limites referenciais máximos admitidos pela Administração.

Sheet ENCARGOS MENSALISTAS
B5: PREFEITURA MUNICIPAL DE SÃO JOÃO DE PIRABAS
B6: SECRETARIA MUNICIPAL DE TRANSPORTES, OBRAS E SERVIÇOS PÚBLICOS
B7: OBJETO: PERFURAÇÃO E MANUTENÇÃO DE POÇOS ARTESIANOS E BOMBAS, CONFORME DEMANDA DA PREFEITURA MUNICIPAL DE SÃO JOÃO DE PIRABAS.
B9: ENCARGOS SOCIAIS MENSALISTAS-COM DESONERAÇÃO
B10: A - ENCARGOS SOCIAIS BÁSICOS
B11: ITEM | C11: DESCRIÇÃO | E11: %
B12: A1 | C12: INSS | E12: 5
B13: A2 | C13: SESI | E13: 1.5
B14: A3 | C14: SENAI | E14: 1
B15: A4 | C15: INCRA | E15: 0.2
B16: A5 | C16: SEBRAE | E16: 0.6
B17: A6 | C17: Salário Educação | E17: 2.5
B18: A7 | C18: Seguro contra acidentes de trabalho | E18: 3
B19: A8 | C19: Fundo de Garantia por Tempo de Serviços | E19: 8
D20: TOTAL DO GRUPO A | E20: =SUM(E12:E19) -> 21.8
B21: B - ENCARGOS SOCIAIS SEM CONTRAPRESTAÇÃO DE SERVIÇOS
B22: ITEM | C22: DESCRIÇÃO | E22: %
B23: B3 | C23: Auxílio-enfermidade | E23: 0.65
B24: B4 | C24: Décimo-terceiro salário | E24: 8.33
B25: B5 | C25: Licença Paternidade | E25: 0.05
B26: B6 | C26: Faltas justificadas | E26: 0.56
B27: B8 | C27: Auxílio acidente de trabalho | E27: 0.07
B28: B9 | C28: Férias gozadas | E28: 9.53
B29: B10 | C29: Salário maternidade | E29: 0.03
D30: TOTAL DO GRUPO B | E30: =SUM(E23:E29) -> 19.22
B31: C - ENCARGOS SOCIAIS INDENIZATÓRIOS
B32: ITEM | C32: DESCRIÇÃO | E32: %
B33: C1 | C33: Aviso-prévio indenizado | E33: 4.32
B34: C2 | C34: Aviso-prévio trabalhado | E34: 0.1
B35: C3 | C35: Férias indenizadas | E35: 1.31
B36: C4 | C36: Depósito Rescisão Sem Justa Causa | E36: 2.2
B37: C5 | C37: Indenização adicional | E37: 0.36
D38: TOTAL DO GRUPO C | E38: =SUM(E33:E37) -> 8.29
B39: D - TAXA DAS REINCIDÊNCIAS
B40: ITEM | C40: DESCRIÇÃO | E40: %
B41: D1 | C41: Incidência do grupo A sobre B | E41: 3.77
B42: D2 | C42: Incidência do FGTS sobre o aviso-prévio indenizado | E42: 0.37
D43: TOTAL DO GRUPO D | E43: =SUM(E41:E42) -> 4.14
B44: E - ENCARGOS SOCIAIS COMPLEMENTARES
B45: ITEM | C45: DESCRIÇÃO | E45: %
...

Sheet ENCARGOS HORISTAS
B5: PREFEITURA MUNICIPAL DE SÃO JOÃO DE PIRABAS
B6: SECRETARIA MUNICIPAL DE TRANSPORTES, OBRAS E SERVIÇOS PÚBLICOS
B7: OBJETO:PERFURAÇÃO E MANUTENÇÃO DE POÇOS ARTESIANOS E BOMBAS, CONFORME DEMANDA DA PREFEITURA MUNICIPAL DE SÃO JOÃO DE PIRABAS.
B9: ENCARGOS SOCIAIS HORISTAS-SEM DESONERAÇÃO
B10: A - ENCARGOS SOCIAIS BÁSICOS
B11: ITEM | C11: DESCRIÇÃO | E11: %
B12: A1 | C12: INSS | E12: 5
B13: A2 | C13: SESI | E13: 1.5
B14: A3 | C14: SENAI | E14: 1
B15: A4 | C15: INCRA | E15: 0.2
B16: A5 | C16: SEBRAE | E16: 0.6
B17: A6 | C17: Salário Educação | E17: 2.5
B18: A7 | C18: Seguro contra acidentes de trabalho | E18: 3
B19: A8 | C19: Fundo de Garantia por Tempo de Serviços | E19: 8
D20: TOTAL DO GRUPO A | E20: =SUM(E12:E19) -> 21.8
B21: B - ENCARGOS SOCIAIS SEM CONTRAPRESTAÇÃO DE SERVIÇOS
B22: ITEM | C22: DESCRIÇÃO | E22: %
B23: B1 | C23: Repouso Semanal Remunerado | E23: 18.13
B24: B2 | C24: Feriados | E24: 4.16
B25: B3 | C25: Auxílio-enfermidade | E25: 0.87
B26: B4 | C26: Décimo-terceiro salário | E26: 11.22 | J26: Desonerado: Horista: 88,37% Mensalista: 48,18%
B27: B5 | C27: Licença Paternidade | E27: 0.07
B28: B6 | C28: Faltas justificadas | E28: 0.75
B29: B7 | C29: Dias de chuva | E29: 2.83
B30: B8 | C30: Auxílio acidente de trabalho | E30: 0.1
B31: B9 | C31: Férias gozadas | E31: 12.82
B32: B10 | C32: Salário maternidade | E32: 0.03
D33: TOTAL DO GRUPO B | E33: =SUM(E23:E32) -> 50.98
B34: C - ENCARGOS SOCIAIS INDENIZATÓRIOS
B35: ITEM | C35: DESCRIÇÃO | E35: %
B36: C1 | C36: Aviso-prévio indenizado | E36: 5.81
B37: C2 | C37: Aviso-prévio trabalhado | E37: 0.14
B38: C3 | C38: Férias indenizadas | E38: 1.77
B39: C4 | C39: Depósito Rescisão Sem Justa Causa | E39: 2.96
B40: C5 | C40: Indenização adicional | E40: 0.49
D41: TOTAL DO GRUPO C | E41: =SUM(E36:E40) -> 11.17
B42: D - TAXA DAS REINCIDÊNCIAS
B43: ITEM | C43: DESCRIÇÃO | E43: %
B44: D1 | C44: Incidência do grupo A sobre B | E44: 10.55
B45: D2 | C45: Incidência do FGTS sobre o aviso-prévio indenizado | E45: =ROUND(E20*E37/100+0.08*E36,2) -> 0.5
...

Sheet % de BDI 
B3: CONSTRUÇÃO DE EDIFÍCIOS | C3: CUSTO TOTAL DO SERVIÇO (R$)
A4: CONSTRUÇÃO DE EDIFÍCIOS | C4: ITEM | D4: DISCRIMINAÇÃO | E4: VALOR (R$) | F4: TAXA (%) | G4: OBS. | H4: SITUAÇÃO DO INTERVALO | I4: PARCELAS DO BDI (%) | L4: SIGLA | M4: TEXTO
I5: 1º QUARTIL | J5: MÉDIO | K5: 3º QUARTIL
C6: 1 | D6: AC - ADMINISTRAÇÃO CENTRAL | E6: =$V$3*F6 -> 0 | F6: =I6 -> 0.03 | H6: =IF(AND(F6>=I6,F6<=K6),"OK","DIFERE") -> OK | I6: 0.03 | J6: 0.04 | K6: 0.055 | L6: AC | M6: ADMINISTRAÇÃO CENTRAL
C7: 2 | D7: SG - SEGUROS e GARANTIA | E7: =$V$3*F7 -> 0 | F7: =I7 -> 0.008 | H7: =IF(AND(F7>=I7,F7<=K7),"OK","DIFERE") -> OK | I7: 0.008 | J7: 0.008 | K7: 0.01 | L7: SG | M7: SEGUROS e GARANTIA
C8: 3 | D8: R - RISCOS | E8: =$V$3*F8 -> 0 | F8: =I8 -> 0.0097 | H8: =IF(AND(F8>=I8,F8<=K8),"OK","DIFERE") -> OK | I8: 0.0097 | J8: 0.0127 | K8: 0.0127 | L8: R | M8: RISCOS
C9: 4 | D9: DF - DESPESAS FINANCEIRAS | E9: =$V$3*F9 -> 0 | F9: =I9 -> 0.0059 | H9: =IF(AND(F9>=I9,F9<=K9),"OK","DIFERE") -> OK | I9: 0.0059 | J9: 0.0123 | K9: 0.0139 | L9: DF | M9: DESPESAS FINANCEIRAS
C10: 5 | D10: L - LUCRO BRUTO | E10: =$V$3*F10 -> 0 | F10: =I10 -> 0.0616 | H10: =IF(AND(F10>=I10,F10<=K10),"OK","DIFERE") -> OK | I10: 0.0616 | J10: 0.074 | K10: 0.0896 | L10: L | M10: LUCRO BRUTO
C11: 6 | D11: I - IMPOSTOS | E11: =$V$3*F11 -> 0 | F11: =SUM(F12:F15) -> 0.0665 | L11: I | M11: IMPOSTOS
C12: 6.1 | D12: PIS | F12: 0.0065
C13: 6.2 | D13: COFINS | F13: 0.03
C14: 6.3 | D14: ISS (CONFORME LEGISLAÇÃO MUNICIPAL) | F14: 0.03
C15: 6.4 | D15: CONTRIB.PREV. SOBRE REC. BRUTA - CPRB | H15: Equação Acordão TCU 2.622/2013 - Plenário
C16: TOTAL DO BDI (R$) | E16: =F18*K3 -> 0 | H16: Parâmetros do Acórdão 2.622/2013 - Plenário | L16: I | M16: IMPOSTOS
C17: PREÇO DE VENDA (R$) | E17: =E16+K3 -> 0 | H17: SEM CPRB | I17: 0.2034 | J17: 0.2212 | K17: 0.25
C18: BDI (%) | F18: =(((1+F6+F8+F7)*(1+F9)*(1+F10)/(1-F11))-1) -> 0.19850083 | G18: =IF(F15=0,IF(AND(F18>I17,F18<K17),"OK","DIFERE"),IF(AND(F18>I18,F18<K18),"OK","DIFERE")) -> DIFERE | H18: COM CPRB | I18: =(1+I17)/(0.955)-1 -> 0.26010471 | J18: =(1+J17)/(0.955)-1 -> 0.27874346 | K18: =(1+K17)/(0.955)-1 -> 0.30890052
B20: CONSTRUÇÃO DE RODOVIAS E FERROVIAS | C20: CUSTO TOTAL DO SERVIÇO (R$)
A21: CONSTRUÇÃO DE RODOVIAS E FERROVIAS | C21: ITEM | D21: DISCRIMINAÇÃO | E21: VALOR (R$) | F21: TAXA (%) | G21: OBS. | H21: SITUAÇÃO DO INTERVALO | I21: PARCELAS DO BDI (%) | L21: SIGLA | M21: TEXTO
I22: 1º QUARTIL | J22: MÉDIO | K22: 3º QUARTIL
C23: 1 | D23: AC - ADMINISTRAÇÃO CENTRAL | E23: =$V$3*F23 -> 0 | F23: =I23 -> 0.038 | H23: =IF(AND(F23>=I23,F23<=K23),"OK","DIFERE") -> OK | I23: 0.038 | J23: 0.0401 | K23: 0.0467 | L23: AC | M23: ADMINISTRAÇÃO CENTRAL
C24: 2 | D24: SG - SEGUROS e GARANTIA | E24: =$V$3*F24 -> 0 | F24: =I24 -> 0.0032 | H24: =IF(AND(F24>=I24,F24<=K24),"OK","DIFERE") -> OK | I24: 0.0032 | J24: 0.004 | K24: 0.0074 | L24: SG | M24: SEGUROS e GARANTIA
C25: 3 | D25: R - RISCOS | E25: =$V$3*F25 -> 0 | F25: =I25 -> 0.005 | H25: =IF(AND(F25>=I25,F25<=K25),"OK","DIFERE") -> OK | I25: 0.005 | J25: 0.0056 | K25: 0.0097 | L25: R | M25: RISCOS
C26: 4 | D26: DF - DESPESAS FINANCEIRAS | E26: =$V$3*F26 -> 0 | F26: =I26 -> 0.0102 | H26: =IF(AND(F26>=I26,F26<=K26),"OK","DIFERE") -> OK | I26: 0.0102 | J26: 0.0111 | K26: 0.0121 | L26: DF | M26: DESPESAS FINANCEIRAS
C27: 5 | D27: L - LUCRO BRUTO | E27: =$V$3*F27 -> 0 | F27: =I27 -> 0.0664 | H27: =IF(AND(F27>=I27,F27<=K27),"OK","DIFERE") -> OK | I27: 0.0664 | J27: 0.073 | K27: 0.0869 | L27: L | M27: LUCRO BRUTO
C28: 6 | D28: I - IMPOSTOS | E28: =$V$3*F28 -> 0 | F28: =SUM(F29:F32) -> 0.0665 | L28: I | M28: IMPOSTOS
C29: 6.1 | D29: PIS | F29: 0.0065
C30: 6.2 | D30: COFINS | F30: 0.03
C31: 6.3 | D31: ISS (CONFORME LEGISLAÇÃO MUNICIPAL) | F31: 0.03
C32: 6.4 | D32: CONTRIB.PREV. SOBRE REC. BRUTA - CPRB | H32: Equação Acordão TCU 2.622/2013 - Plenário
C33: TOTAL DO BDI (R$) | E33: =F35*K20 -> 0 | H33: Parâmetros do Acórdão 2.622/2013 - Plenário | L33: I | M33: IMPOSTOS
C34: PREÇO DE VENDA (R$) | E34: =E33+K20 -> 0 | H34: SEM CPRB | I34: 0.196 | J34: 0.2097 | K34: 0.2423
C35: BDI (%) | F35: =(((1+F23+F25+F24)*(1+F26)*(1+F27)/(1-F28))-1) -> 0.20733529 | G35: =IF(F32=0,IF(AND(F35>I34,F35<K34),"OK","DIFERE"),IF(AND(F35>I35,F35<K35),"OK","DIFERE")) -> OK | H35: COM CPRB | I35: =(1+I34)/(0.955)-1 -> 0.25235602 | J35: =(1+J34)/(0.955)-1 -> 0.26670157 | K35: =(1+K34)/(0.955)-1 -> 0.3008377
B37: CONSTRUÇÃO DE REDES DE ABASTECIMENTO DE ÁGUA, COLETA DE ESGOTO E CONSTRUÇÕES CORRELATAS | C37: CUSTO TOTAL DO SERVIÇO (R$)
A38: CONST. REDES DE ABAST. ÁGUA, COLETA DE ESGOTO E CONST. CORRELATAS | C38: ITEM | D38: DISCRIMINAÇÃO | E38: VALOR (R$) | F38: TAXA (%) | G38: OBS. | H38: SITUAÇÃO DO INTERVALO | I38: PARCELAS DO BDI (%) | L38: SIGLA | M38: TEXTO
I39: 1º QUARTIL | J39: MÉDIO | K39: 3º QUARTIL
C40: 1 | D40: AC - ADMINISTRAÇÃO CENTRAL | E40: =$V$3*F40 -> 0 | F40: =I40 -> 0.0343 | H40: =IF(AND(F40>=I40,F40<=K40),"OK","DIFERE") -> OK | I40: 0.0343 | J40: 0.0493 | K40: 0.0671 | L40: AC | M40: ADMINISTRAÇÃO CENTRAL
C41: 2 | D41: SG - SEGUROS e GARANTIA | E41: =$V$3*F41 -> 0 | F41: =I41 -> 0.0028 | H41: =IF(AND(F41>=I41,F41<=K41),"OK","DIFERE") -> OK | I41: 0.0028 | J41: 0.0049 | K41: 0.0075 | L41: SG | M41: SEGUROS e GARANTIA
C42: 3 | D42: R - RISCOS | E42: =$V$3*F42 -> 0 | F42: =I42 -> 0.01 | H42: =IF(AND(F42>=I42,F42<=K42),"OK","DIFERE") -> OK | I42: 0.01 | J42: 0.0139 | K42: 0.0174 | L42: R | M42: RISCOS
C43: 4 | D43: DF - DESPESAS FINANCEIRAS | E43: =$V$3*F43 -> 0 | F43: =I43 -> 0.0094 | H43: =IF(AND(F43>=I43,F43<=K43),"OK","DIFERE") -> OK | I43: 0.0094 | J43: 0.0099 | K43: 0.0117 | L43: DF | M43: DESPESAS FINANCEIRAS
C44: 5 | D44: L - LUCRO BRUTO | E44: =$V$3*F44 -> 0 | F44: =I44 -> 0.0674 | H44: =IF(AND(F44>=I44,F44<=K44),"OK","DIFERE") -> OK | I44: 0.0674 | J44: 0.0804 | K44: 0.094 | L44: L | M44: LUCRO BRUTO
...

Sheet Planilha3
B4: CONST. E MANUT. ESTAÇ. E REDES DE DIST. ENERGIA ELÉTRICA | C4: DESONERADO
B5: CONST. REDES DE ABAST. ÁGUA, COLETA DE ESGOTO E CONST. CORRELATAS | C5: NÃO DESONERADO
B6: CONSTRUÇÃO DE EDIFÍCIOS
B7: CONSTRUÇÃO DE RODOVIAS E FERROVIAS
B8: OBRAS PORTUÁRIAS, MARÍTIMAS E FLUVIAIS
