Workbook
Name _____: #REF!
Name _____: #REF!
Name _____esc15: #REF!
Name _____esc15: #REF!
Name _____esc15: #REF!
Name _____esc4: #REF!
Name _____esc4: #REF!
Name _____esc4: #REF!
Name _____esc6: #REF!
Name _____esc6: #REF!
Name _____esc6: #REF!
Name ____esc15: #REF!
Name ____esc4: #REF!
Name ____esc6: #REF!
Name ___esc15: #REF!
Name ___esc15: #REF!
Name ___esc15: #REF!
Name ___esc4: #REF!
Name ___esc4: #REF!
Name ___esc4: #REF!
Name ___esc6: #REF!
Name ___esc6: #REF!
Name ___esc6: #REF!
Name __esc15: #REF!
Name __esc4: #REF!
Name __esc6: #REF!
Name _esc15: #REF!
Name _esc15: #REF!
Name _esc15: #REF!
Name _esc4: #REF!
Name _esc4: #REF!
Name _esc4: #REF!
Name _esc6: #REF!
Name _esc6: #REF!
Name _esc6: #REF!
Name ABC: #REF!
Name ABC: #REF!
Name Asf: #REF!
Name Asf: #REF!
Name Asf: #REF!
Name Asf: #REF!
Name Asf: #REF!
Name Asf_1: '[1]REDE COLETORA'!#REF!
Name Asf_1: '[1]REDE COLETORA'!#REF!
Name Asf_1: '[1]REDE COLETORA'!#REF!
Name Asf_1: '[1]REDE COLETORA'!#REF!
Name Asf_1: '[1]REDE COLETORA'!#REF!
Name Asf_2: '[1]REDE COLETORA'!#REF!
Name Asf_2: '[1]REDE COLETORA'!#REF!
Name Asf_2: '[1]REDE COLETORA'!#REF!
Name Asf_2: '[1]REDE COLETORA'!#REF!
Name Asf_2: '[1]REDE COLETORA'!#REF!
Name Asf_3: '[1]REDE COLETORA'!#REF!
Name Asf_3: '[1]REDE COLETORA'!#REF!
Name Cim: #REF!
Name Cim: #REF!
Name Cim: #REF!
Name Cim: #REF!
Name Cim: #REF!
Name Cim_1: '[1]REDE COLETORA'!#REF!

Sheet PLANILHA Fase I
B1: PLANILHA ORÇAMENTÁRIA | S1: 12582234
B2: PROJETO: | F2: SAE ITUIUTABA/MG - AMPLIAÇÃO DE CAPTAÇÃO DO RIO TIJUCO E ADUÇÃO DE ÁGUA BRUTA | P2: DATA: | Q2: 42825 | S2: 1398026
B3: Fonte de pesquisa dos custos unitários: | F3: SINAPI, Mercado | J3: REFERÊNCIA: FEV/2017 | M3: BDI FORN. | N3: ='BDI-Fornecimento '!AI13/100 -> 0.0012 | P3: BDI SERV. | Q3: ='BDI-Serviços '!AI13/100 -> 0.002594 | R3: =N466 -> #REF! | S3: =SUM(S1:S2) -> 13980260 | T3: =S3/R3 -> #REF!
B4: ITEM | C4: DESCRIÇÃO DO ITEM | L4: QUANT. | M4: UNIDADE | N4: CUSTO (R$) | R4: Código Fonte SINAPI, SETOP, ORÇAMENTO
N5: UNIT. S/ BDI | O5: BDI | P5: UNIT. C/ BDI | Q5: TOTAL
B6: 1 | C6: SERVIÇOS PRELIMINARES | Q6: =SUM(Q7:Q11) -> 52238.57
B7: 1.1 | C7: Placas de obras (3,0 m x1,5 m), em chapa galvanizada com pintura esmalte, com padrão estabelecido pelo agente financiador, 04 unidades. | L7: 2 | M7: m² | N7: 310.89 | O7: =(1+$Q$3) -> 1.002594 | P7: =ROUND(N7*O7,2) -> 311.7 | Q7: =ROUND(L7*P7,2) -> 623.4 | R7: 74209/001
B8: 1.2 | C8: Barracão de obras em chapa de madeira, cobertura em fibrocimento, com as seguintes áreas mínimas: escritório fisclaização 17 m², escritório contratada 17 m², vestiário 25 m², depósito e ferramentaria 20 m², Instalações sanitárias 10 m². | L8: =17+17+25+20+10 -> 89 | M8: m² | N8: =(17*530.99+17*530.99+25*491.39+20*389.05+10*491.39)/(17+17+25+20+10) -> 483.52034 | O8: =(1+$Q$3) -> 1.002594 | P8: =ROUND(N8*O8,2) -> 484.77 | Q8: =ROUND(L8*P8,2) -> 43144.53 | R8: 93207+93207+93212+93208+93212
B9: 1.3 | C9: Carga, manobra e descarga de materiais, para mobilização e desmobilização de obra. | L9: 11 | M9: t | N9: 8.5 | O9: =(1+$Q$3) -> 1.002594 | P9: =ROUND(N9*(O9),2) -> 8.52 | Q9: =ROUND(L9*P9,2) -> 93.72 | R9: 72850 | S9: =SUM(Q9:Q11)/2 -> 4235.32
B10: 1.4 | C10: Transporte com caminhão carroceria, 9 t , DMT = 500 km. | L10: =9*500 -> 4500 | M10: m³xkm | N10: 0.67 | O10: =(1+$Q$3) -> 1.002594 | P10: =ROUND(N10*(O10),2) -> 0.67 | Q10: =ROUND(L10*P10,2) -> 3015 | R10: 72884
B11: 1.5 | C11: Caminhão Munck, para mobilização e desmobilização de obra. | L11: 32 | M11: chp | N11: 167.13 | O11: =(1+$Q$3) -> 1.002594 | P11: =ROUND(N11*(O11),2) -> 167.56 | Q11: =ROUND(L11*P11,2) -> 5361.92 | R11: 89876
B12: 1.6 | C12: Motorista operador de munck com encargos com complementares | L12: 32 | M12: h | N12: 13.81 | O12: =(1+$Q$3) -> 1.002594 | P12: =ROUND(N12*(O12),2) -> 13.85 | Q12: =ROUND(L12*P12,2) -> 443.2 | R12: 88286
B13: 2 | C13: AMPLIAÇÃO DA CAPTAÇÃO RIO TIJUCO | Q13: =SUM(Q14:Q149) -> #REF!
B14: 2.1 | C14: Limpeza de terreno com raspagem da vegetação superficial em área de terraplanagem com acréscimo de 5 m em bordas laterais de pés de taludes | L14: =457.39 -> 457.39 | M14: m² | N14: 0.46 | O14: =(1+$Q$3) -> 1.002594 | P14: =ROUND(N14*O14,2) -> 0.46 | Q14: =ROUND(L14*P14,2) -> 210.4 | R14: 73822/002
B15: 2.2 | C15: Locação da unidade em tabeiras | L15: =L21 -> 311.81 | M15: m² | N15: 4.66 | O15: =(1+$Q$3) -> 1.002594 | P15: =ROUND(N15*O15,2) -> 4.67 | Q15: =ROUND(L15*P15,2) -> 1456.15 | R15: 74077/003
B16: 2.3 | C16: Demolição de alvenaria estrutural de blocos de concreto | L16: =7.98*6+53.17 -> 101.05 | M16: m³ | N16: 46.56 | O16: =(1+$Q$3) -> 1.002594 | P16: =ROUND(N16*O16,2) -> 46.68 | Q16: =ROUND(L16*P16,2) -> 4717.01 | R16: 72214
B17: 2.4 | C17: Escavação mecânica em material de 1A categoria até 3,50 m de profundidade | L17: =457.39*3.5 -> 1600.865 | M17: m³ | N17: 2.59 | O17: =(1+$Q$3) -> 1.002594 | P17: =ROUND(N17*O17,2) -> 2.6 | Q17: =ROUND(L17*P17,2) -> 4162.25 | R17: 79480
B18: 2.5 | C18: Escavação mecânica em material de 2A categoria de 3,50 até 4,50 m de profundidade | L18: =457.39*1 -> 457.39 | M18: m³ | N18: 10.62 | O18: =(1+$Q$3) -> 1.002594 | P18: =ROUND(N18*O18,2) -> 10.65 | Q18: =ROUND(L18*P18,2) -> 4871.2 | R18: 72917
B19: 2.6 | C19: Escavação em material de 3A categoria com explosivos | L19: =457.39*3.1 -> 1417.909 | M19: m³ | N19: 66.42 | O19: =(1+$Q$3) -> 1.002594 | P19: =ROUND(N19*O19,2) -> 66.59 | Q19: =ROUND(L19*P19,2) -> 94418.56 | R19: 65000198
B20: 2.7 | C20: Escoramento continuo de valas | L20: =325.16*2 -> 650.32 | M20: m² | N20: 44.93 | O20: =(1+$Q$3) -> 1.002594 | P20: =ROUND(N20*O20,2) -> 45.05 | Q20: =ROUND(L20*P20,2) -> 29296.92 | R20: 73877/001
B21: 2.8 | C21: Nivelamento e compactação de fundo de escavação | L21: =311.81 -> 311.81 | M21: m² | N21: 1.83 | O21: =(1+$Q$3) -> 1.002594 | P21: =ROUND(N21*O21,2) -> 1.83 | Q21: =ROUND(L21*P21,2) -> 570.61 | R21: 94099
B22: 2.9 | C22: Injeção de concreto magro em fissura de rochas | L22: 2 | M22: m³ | N22: 209.01 | O22: =(1+$Q$3) -> 1.002594 | P22: =ROUND(N22*O22,2) -> 209.55 | Q22: =ROUND(L22*P22,2) -> 419.1 | R22: 94962 | U22: =3611.02+78.82*2 -> 3768.66
B23: 2.10 | C23: Lastro de brita corrida,10 cm | L23: =L21 -> 311.81 | M23: m³ | N23: 108.12 | O23: =(1+$Q$3) -> 1.002594 | P23: =ROUND(N23*O23,2) -> 108.4 | Q23: =ROUND(L23*P23,2) -> 33800.2 | R23: 94118 | U23: =3115*1.33+(3435.06+149.92*2)*1.4 -> 9371.81
B24: 2.11 | C24: Fornecimento e instalação de de lona 200 micras, para fundo das estruturas | L24: =L23 -> 311.81 | M24: m² | N24: 4.33 | O24: =(1+$Q$3) -> 1.002594 | P24: =ROUND(N24*O24,2) -> 4.34 | Q24: =ROUND(L24*P24,2) -> 1353.26 | R24: 68053 | U24: =SUM(U22:U23) -> 13140.47
B25: 2.12 | C25: Reaterro com compactação mecânica | L25: =L17+L19-(L21*7.6) -> 649.018 | M25: m³ | N25: 17.69 | O25: =(1+$Q$3) -> 1.002594 | P25: =ROUND(N25*O25,2) -> 17.74 | Q25: =ROUND(L25*P25,2) -> 11513.58 | R25: 93382
B26: 2.13 | C26: Carga e descarga mecânica, utilizando caminhão basculante e pá carregadeira, de material da raspação superficial e escavado, com empolamento de 30% | L26: =(L17+L19+L14*0.05)*1.3 -> 3954.1366 | M26: m³ | N26: 1.43 | O26: =(1+$Q$3) -> 1.002594 | P26: =ROUND(N26*O26,2) -> 1.43 | Q26: =ROUND(L26*P26,2) -> 5654.42 | R26: 74010/001
B27: 2.14 | C27: Transporte local com caminhão basculante, em rodovia com revestimento primário. DMT até 10 km, de material da raspação superficial e escavado, com empolamento de 30% | L27: =L26*10 -> 39541.365 | M27: m³xkm | N27: 0.79 | O27: =(1+$Q$3) -> 1.002594 | P27: =ROUND(N27*O27,2) -> 0.79 | Q27: =ROUND(L27*P27,2) -> 31237.68 | R27: 95303
B28: 2.15 | C28: Carga e descarga mecânica, utilizando caminhão basculante e pá carregadeira, de material de 1ª categoria para empréstimo, com empolamento de 30% | L28: =L25*1.3 -> 843.7234 | M28: m³ | N28: 1.43 | O28: =(1+$Q$3) -> 1.002594 | P28: =ROUND(N28*O28,2) -> 1.43 | Q28: =ROUND(L28*P28,2) -> 1206.52 | R28: 74010/001
B29: 2.16 | C29: Transporte local com caminhão basculante, em rodovia com revestimento primário DMT até 2,50 km, de material de 1ª categoria para empréstimo, com empolamento de 30%. | L29: =L28*2.5 -> 2109.3085 | M29: m³xkm | N29: 0.79 | O29: =(1+$Q$3) -> 1.002594 | P29: =ROUND(N29*O29,2) -> 0.79 | Q29: =ROUND(L29*P29,2) -> 1666.35 | R29: 95303
B30: 2.17 | C30: Rebaixamento de nível de água, profundidade mínima de 150 cm abaixo da cota mínima da estrutura, inclusive bombas, ponteiras, mangotes, etc. | L30: =24*30 -> 720 | M30: h | N30: 2.7 | O30: =(1+$Q$3) -> 1.002594 | P30: =ROUND(N30*O30,2) -> 2.71 | Q30: =ROUND(L30*P30,2) -> 1951.2 | R30: 1383
B31: 2.18 | C31: Concreto fck 25 MPa, preparo mecânico com betoneira | L31: =108.19+26.41+5.03 -> 139.63 | M31: m³ | N31: 264.39 | O31: =(1+$Q$3) -> 1.002594 | P31: =ROUND(N31*O31,2) -> 265.08 | Q31: =ROUND(L31*P31,2) -> 37013.12 | R31: 94971
B32: 2.19 | C32: Lançamento manual de concreto | L32: =L31 -> 139.63 | M32: m³ | N32: 79.75 | O32: =(1+$Q$3) -> 1.002594 | P32: =ROUND(N32*O32,2) -> 79.96 | Q32: =ROUND(L32*P32,2) -> 11164.81 | R32: 74157/004
B33: 2.20 | C33: Forma para concreto em tabua, inclusive desforma | L33: =879.07+316.92+35.25 -> 1231.24 | M33: m² | N33: 31.68 | O33: =(1+$Q$3) -> 1.002594 | P33: =ROUND(N33*O33,2) -> 31.76 | Q33: =ROUND(L33*P33,2) -> 39104.18 | R33: 5651 | S33: =879.07+316.92+35.25 -> 1231.24
B34: 2.22 | C34: Corte e dobra de acço CA-50, diâmetro de 6.3 mm, utilizado em estruturas diversas, exceto lajes. | L34: =117.3+719.7+66.8+129+151.7+136.2+210 -> 1530.7 | M34: kg | N34: 6.84 | O34: =(1+$Q$3) -> 1.002594 | P34: =ROUND(N34*O34,2) -> 6.86 | Q34: =ROUND(L34*P34,2) -> 10500.6 | R34: 92792
B35: 2.23 | C35: Corte e dobra de acço CA-50, diâmetro de 8.0 mm, utilizado em estruturas diversas, exceto lajes. | L35: =123.2+192.7+838.6+29.6+313.7+308+144.4 -> 1950.2 | M35: kg | N35: 7 | O35: =(1+$Q$3) -> 1.002594 | P35: =ROUND(N35*O35,2) -> 7.02 | Q35: =ROUND(L35*P35,2) -> 13690.4 | R35: 92793
B36: 2.24 | C36: Corte e dobra de acço CA-50, diâmetro de 10.0 mm, utilizado em estruturas diversas, exceto lajes. | L36: =441.1+4060.8+1725+1232.7+1388.8+1377+3257.1 -> 13482.5 | M36: kg | N36: 5.76 | O36: =(1+$Q$3) -> 1.002594 | P36: =ROUND(N36*O36,2) -> 5.77 | Q36: =ROUND(L36*P36,2) -> 77794.03 | R36: 92794
B37: 2.25 | C37: Corte e dobra de acço CA-50, diâmetro de 12.5 mm, utilizado em estruturas diversas, exceto lajes. | L37: =7439.3+18620.5+1276.1+5672.8+1943.2+325.8+390 -> 35667.7 | M37: kg | N37: 4.86 | O37: =(1+$Q$3) -> 1.002594 | P37: =ROUND(N37*O37,2) -> 4.87 | Q37: =ROUND(L37*P37,2) -> 173701.7 | R37: 92795
B38: 2.26 | C38: Corte e dobra de acço CA-50, diâmetro de 16.0 mm, utilizado em estruturas diversas, exceto lajes. | L38: =4323.9 -> 4323.9 | M38: kg | N38: 3.86 | O38: =(1+$Q$3) -> 1.002594 | P38: =ROUND(N38*O38,2) -> 3.87 | Q38: =ROUND(L38*P38,2) -> 16733.49 | R38: 92796
B39: 2.27 | C39: Corte e dobra de acço CA-60, diâmetro de 5.0 mm, utilizado em lajes. | L39: =28.2 -> 28.2 | M39: kg | N39: 5.18 | O39: =(1+$Q$3) -> 1.002594 | P39: =ROUND(N39*O39,2) -> 5.19 | Q39: =ROUND(L39*P39,2) -> 146.36 | R39: 92800
B40: 2.28 | C40: Corte e dobra de acço CA-50, diâmetro de 6.3 mm, utilizado em lajes. | L40: =3.1+16.4 -> 19.5 | M40: kg | N40: 4.91 | O40: =(1+$Q$3) -> 1.002594 | P40: =ROUND(N40*O40,2) -> 4.92 | Q40: =ROUND(L40*P40,2) -> 95.94 | R40: 92801
...

Sheet CRONOGRAMA Fase I
A1: CRONOGRAMA FÍSICO-FINANCEIRO
A2: PROJETO: | B2: ='PLANILHA Fase I'!F2 -> SAE ITUIUTABA/MG - AMPLIAÇÃO DE CAPTAÇÃO DO RIO TIJUCO E ADUÇÃO DE ÁGUA BRUTA
A3: FASE: | B3: PROJETO EXECUTIVO | I3: Data: | J3: ='PLANILHA Fase I'!Q2 -> 42825 | O3: Data: | P3: ='PLANILHA Fase I'!Q2 -> 42825
A4: ÍTEM | B4: DESCRIÇÃO DO SERVIÇO | C4: VALOR | D4: % | E4: MÊS 01 | F4: MÊS 02 | G4: MÊS 03 | H4: MÊS 04 | I4: MÊS 05 | J4: MÊS 06 | K4: MÊS 07 | L4: MÊS 08 | M4: MÊS 09 | N4: MÊS 10 | O4: MÊS 11 | P4: MÊS 12
A5: ='PLANILHA Fase I'!B6 -> 1 | B5: ='PLANILHA Fase I'!C6 -> SERVIÇOS PRELIMINARES | C5: ='PLANILHA Fase I'!Q6 -> 52238.57 | D5: =C5/$C$10 -> #REF! | E5: =1-J5 -> 0.9189 | J5: =ROUND(SUM('PLANILHA Fase I'!Q9:Q11)/2/'PLANILHA Fase I'!Q6,4) -> 0.0811
A6: ='PLANILHA Fase I'!B13 -> 2 | B6: ='PLANILHA Fase I'!C13 -> AMPLIAÇÃO DA CAPTAÇÃO RIO TIJUCO | C6: ='PLANILHA Fase I'!Q13 -> #REF! | D6: =C6/$C$10 -> #REF! | E6: 0.1 | F6: 0.15 | G6: 0.25 | H6: 0.25 | I6: 0.15 | J6: 0.1
A7: ='PLANILHA Fase I'!B150 -> 3 | B7: ='PLANILHA Fase I'!C150 -> AMPLIAÇÃO DA ADUTORA DE ÁGUA BRUTA - TIJUCO AO SÃO LOURENÇO | C7: ='PLANILHA Fase I'!Q150 -> #REF! | D7: =C7/$C$10 -> #REF! | E7: 0.15 | F7: 0.15 | G7: 0.2 | H7: 0.2 | I7: 0.15 | J7: 0.15
A8: ='PLANILHA Fase I'!B371 -> 4 | B8: ='PLANILHA Fase I'!C371 -> CAPTAÇÃO SÃO LOURENÇO | C8: ='PLANILHA Fase I'!Q371 -> #REF! | D8: =C8/$C$10 -> #REF! | H8: 0.1 | I8: 0.5 | J8: 0.4
A9: ='PLANILHA Fase I'!B459 -> 5 | B9: ='PLANILHA Fase I'!C459 -> ADMINISTRAÇÃO LOCAL DA OBRA | C9: ='PLANILHA Fase I'!Q459 -> 205350.6 | D9: =C9/$C$10 -> #REF! | E9: 0.16 | F9: 0.17 | G9: 0.17 | H9: 0.17 | I9: 0.17 | J9: 0.16
B10: TOTAIS PARCIAIS = | C10: =SUM(C5:C9) -> #REF! | D10: =SUM(D5:D9) -> #REF! | E10: =$C$5*E5+$C$6*E6+$C$7*E7+$C$8*E8+$C$9*E9 -> #REF! | F10: =$C$5*F5+$C$6*F6+$C$7*F7+$C$8*F8+$C$9*F9 -> #REF! | G10: =$C$5*G5+$C$6*G6+$C$7*G7+$C$8*G8+$C$9*G9 -> #REF! | H10: =$C$5*H5+$C$6*H6+$C$7*H7+$C$8*H8+$C$9*H9 -> #REF! | I10: =$C$5*I5+$C$6*I6+$C$7*I7+$C$8*I8+$C$9*I9 -> #REF! | J10: =$C$5*J5+$C$6*J6+$C$7*J7+$C$8*J8+$C$9*J9 -> #REF! | K10: =$C$5*K5+$C$6*K6+$C$7*K7+$C$8*K8+$C$9*K9 -> #REF! | L10: =$C$5*L5+$C$6*L6+$C$7*L7+$C$8*L8+$C$9*L9 -> #REF! | ... P10: =$C$5*P5+$C$6*P6+$C$7*P7+$C$8*P8+$C$9*P9 -> #REF!
E11: =E10/$C$10 -> #REF! | F11: =F10/$C$10 -> #REF! | G11: =G10/$C$10 -> #REF! | H11: =H10/$C$10 -> #REF! | I11: =I10/$C$10 -> #REF! | J11: =J10/$C$10 -> #REF! | K11: =K10/$C$10 -> #REF! | L11: =L10/$C$10 -> #REF! | ... P11: =P10/$C$10 -> #REF!
B12: TOTAIS ACUMULADOS = | C12: =C10 -> #REF! | D12: =D10 -> #REF! | E12: =E10 -> #REF! | F12: =E12+F10 -> #REF! | G12: =F12+G10 -> #REF! | H12: =G12+H10 -> #REF! | I12: =H12+I10 -> #REF! | J12: =I12+J10 -> #REF! | K12: =J12+K10 -> #REF! | L12: =K12+L10 -> #REF! | M12: =L12+M10 -> #REF! | ... P12: =O12+P10 -> #REF!
C16: Marlon Batista da Costa
C17: Eng. Civil / Sanitarista
C18: CREA 50744/D
G132: 11255
G133: 1600

Sheet BDI-Serviços 
E2: PLANILHA DE COMPOSIÇÃO DE BDI - SERVIÇOS
B7: Proponente | AD7: Orgão Financiador
B8: SAAE/PASSOS
B10: Empreendimento | W10: Município
B11: EXECUÇÃO DE OBRA DE SUBSTITUIÇÃO DE REDES E RAMAIS DE ÁGUA E ESGOTO EM DIVERSAS VIAS PÚBLICAS NA CIDADE DE PASSOS | W11: PASSOS/MG
B12: Regime de execução das obras: EMPREITADA POR PREÇO UNITÁRIO
B13: Composição do BDI sugerida | J13: Intervalos admissíveis sem justificativa | P13: Composição de BDI Adotada | X13: BDI Proposto: | AI13: =AL13 -> 0.2594 | AK13: =((1+V18+V16+V15)*(1+V17)*(1+V19)/((1-V20))) -> 1.2593549 | AL13: =ROUND(AK13-1,4) -> 0.2594
B15: 1 | C15: Garantia e Seguro (GS) | J15: De | K15: 0.0028 | M15: até | N15: 0.0075 | P15: Garantia: | V15: 0.015 | X15: BDI=((1+Ac+R+GS)×(1+Df)×(1+L))/((1-I))
B16: 2 | C16: Risco (R) | J16: De | K16: 0.01 | M16: até | N16: 0.0174 | P16: Risco: | V16: 0.015
B17: 3 | C17: Despesas financeiras (Df) | J17: De | K17: 0.0094 | M17: até | N17: 0.0117 | P17: Despesas financeiras: | V17: 0.01 | X17: Limites = 20,76% a 26,44%
B18: 4 | C18: Administração Central (Ac) | J18: De | K18: 0.0343 | M18: até | N18: 0.0671 | P18: Administração central: | V18: 0.0493 | X18: Observações:
B19: 5 | C19: Lucro (L) | J19: De | K19: 0.0674 | M19: até | N19: 0.094 | P19: Lucro: | V19: 0.09 | X19: i) Composição do BDI, intervalos admissíveis e fórmula de cálculo nos termos do Acórdão 2622/2013 do TCU.
B20: 6 | C20: Impostos (I) | J20: De | K20: =K21+K22+K23 -> 0.0465 | M20: até | N20: =N21+N22+N23 -> 0.0665 | P20: Tributos: | V20: =SUM(V21:W23) -> 0.0565
B21: 6.1 | C21: PIS | J21: De | K21: 0.0065 | M21: até | N21: 0.0065 | P21: =C21 -> PIS | V21: =(K21+N21)/2 -> 0.0065
B22: 6.2 | C22: COFINS | J22: De | K22: 0.03 | M22: até | N22: 0.03 | P22: =C22 -> COFINS | V22: =(K22+N22)/2 -> 0.03 | X22: ii) Tributos adotados = PIS + CONFINS+ ISS
B23: 6.3 | C23: ISS | J23: De | K23: 0.01 | M23: até | N23: 0.03 | P23: =C23 -> ISS | V23: 0.02

Sheet BDI-Fornecimento 
E2: PLANILHA DE COMPOSIÇÃO DE BDI - FORNECIMENTO DE MATERIAIS E EQUIPAMENTOS
B7: Proponente | AD7: Orgão Financiador
B8: SAAE/PASSOS
B10: Empreendimento | W10: Município
B11: EXECUÇÃO DE OBRA DE SUBSTITUIÇÃO DE REDES E RAMAIS DE ÁGUA E ESGOTO EM DIVERSAS VIAS PÚBLICAS NA CIDADE DE PASSOS | W11: PASSOS/MG
B12: Regime de execução das obras: EMPREITADA POR PREÇO UNITÁRIO
B13: Composição do BDI sugerida | J13: Intervalos admissíveis sem justificativa | P13: Composição de BDI Adotada | X13: BDI Proposto: | AI13: =ROUND(AL13,4) -> 0.12 | AK13: =((1+V14+V15+V17)*(1+V16)*(1+V18))/((1-V19)) -> 1.1199973 | AL13: =AK13-1 -> 0.11999735
B14: 1 | C14: Garantia e Seguro (GS) | J14: De | K14: 0.003 | M14: até | N14: 0.0082 | P14: Garantia: | V14: 0.003 | X14: BDI=((1+Ac+R+GS)×(1+Df)×(1+L))/((1-I))
B15: 2 | C15: Risco (R) | J15: De | K15: 0.0056 | M15: até | N15: 0.0089 | P15: Risco: | V15: 0.006
B16: 3 | C16: Despesas financeiras (Df) | J16: De | K16: 0.0085 | M16: até | N16: 0.0111 | P16: Despesas financeiras: | V16: 0.0108 | X16: Limites = 11,10% a 16,80%
B17: 4 | C17: Administração Central (Ac) | J17: De | K17: 0.015 | M17: até | N17: 0.0449 | P17: Administração central: | V17: 0.02 | X17: Observações:
B18: 5 | C18: Lucro (L) | J18: De | K18: 0.035 | M18: até | N18: 0.0622 | P18: Lucro: | V18: 0.0375 | X18: i) Composição do BDI, intervalos admissíveis e fórmula de cálculo nos termos do Acórdão 2622/2013 do TCU.
B19: 6 | C19: Impostos (I) | J19: De | K19: =K20+K21+K22 -> 0.0365 | M19: até | N19: =N20+N21+N22 -> 0.0365 | P19: Tributos: | V19: =SUM(V20:W22) -> 0.0365
B20: 6.1 | C20: PIS | J20: De | K20: 0.0065 | M20: até | N20: 0.0065 | P20: =C20 -> PIS | V20: =(K20+N20)/2 -> 0.0065
B21: 6.2 | C21: COFINS | J21: De | K21: 0.03 | M21: até | N21: 0.03 | P21: =C21 -> COFINS | V21: =(K21+N21)/2 -> 0.03 | X21: ii) Tributos adotados = PIS+CONFINS
B22: 6.3 | C22: ISS | J22: De | K22: 0 | M22: até | N22: 0 | P22: =C22 -> ISS | V22: 0
G27: Marlon Batista da Costa

Sheet COTAÇÃO
A1: RESUMO DAS COTAÇÕES
A2: ='Composições criadas'!A2:H2 -> #REF!
A5: CÓDIGO DO ITEM COTADO | D5: DESCRIÇÃO DO SERVIÇO OU FORNECIMENTO | E5: UNIDADE | F5: DATA BASE | I5: PREÇO REFERENCIAL
A6: 1 | D6: TE DE SERVIÇO INTEGRADO, EM POLIPROPILENO, PARA TUBOS PVC, 75 X 20 MM - LIGAÇÃO PREDIAL DE ÁGUA | E6: UNIDADE | I6: 47.23
A7: 2 | D7: ADAPTADOR PEAD AZUL PARA LIGAÇÃO RAMAL PREDIAL COM REGISTRO EM PVC 20MM X 3/4". PN 1,0 MPA. NBR - 11306 | E7: UNIDADE | I7: 22.1
A8: 3 | B8: SINAPI | C8: 3825 | D8: LUVA DE CORRER PVC JE PB DN 50 (DE 60), CLASSE 20 | E8: UNIDADE | I8: 17.82
A9: 4 | B9: SINAPI | C9: 3827 | D9: LUVA DE CORRER PVC PBA, JE, DN 75 / DE 85 MM, PARA REDE DE AGUA | E9: UNIDADE | I9: 38.93
A10: 5 | D10: TUBO P/ AGUA TK7JGS 250 6000 | E10: M | I10: 782.25

Sheet Composições criadas
A1: COMPOSIÇÕES
A2: =#REF! -> #REF!
H4: PREÇO REFERENCIAL
A5: CÓDIGO | D5: DESCRIÇÃO DO SERVIÇO OU FORNECIMENTO | E5: UNIDADE | F5: DATA BASE | G5: FONTE | H5: CUSTO TOTAL
A6: CC1 | D6: CANTEIRO DE OBRAS, COMPOSTO POR CONTÊINER PARA DEPÓSITO DE FERRAMENTAS (6,00x2,30x2,50) E BANHEIRO QUÍMICO, INCLUSIVE MANUTENÇÃO, MOBILIZAÇÃO E DESMOBILIZAÇÃO | E6: GLOBAL | H6: =SUM(H8:H10) -> 5246.63 | I6: 1
B7: FONTE | C7: CÓDIGO | D7: DESCRIÇÃO DO INSUMO | E7: UNIDADE | F7: COEFICIENTE | G7: CUSTO UNITÁRIO
B8: SETOP | C8: ED-50155 | D8: BANHEIRO QUÍMICO 110 X 120 X 230 CM COM MANUTENÇÃO | E8: MÊS | F8: 1 | G8: 1050 | H8: =G8*F8 -> 1050
B9: SETOP | C9: ED-16350 | D9: LOCAÇÃO DE CONTAINER COM ISOLAMENTO TÉRMICO, TIPO 3, PARA DEPÓSITO/FERRAMENTARIA DE OBRA, COM MEDIDAS REFERENCIAIS DE (6) METROS COMPRIMENTO, (2,3) METROS LARGURA E (2,5) METROS ALTURA ÚTIL INTERNA, INCLUSIVE LIGAÇÕES ELÉTRICAS INTERNAS, EXCLUSIVE MOBILIZAÇÃO/DESMOBILIZAÇÃO E LIGAÇÕES PROVISÓRIAS EXTERNAS | E9: MÊS | F9: 1 | G9: 858.71 | H9: =G9*F9 -> 858.71
B10: SETOP | C10: ED-50137 | D10: MOBILIZAÇÃO E DESMOBILIZAÇÃO DE CONTAINER, INCLUSIVE INSTALAÇÃO E TRANSPORTE COM CAMINHÃO GUINDAUTO (MUNCK) | E10: UNIDADE | F10: 2 | G10: 1668.96 | H10: =G10*F10 -> 3337.92
I14: 2
H25: PREÇO REFERENCIAL
A26: CÓDIGO | D26: DESCRIÇÃO DO SERVIÇO OU FORNECIMENTO | E26: UNIDADE | F26: DATA BASE | G26: FONTE | H26: CUSTO TOTAL
A27: CC3 | D27: RAMAL DOMICILIAR DE ÁGUA EM TUBO PEAD 20MM, INSTALAÇÃO, INCLUINDO ESCAVAÇÃO E REATERRO, EXCLUSIVE TUBO PEAD | E27: M | G27: SINAPI | H27: =SUM(H29:H34) -> 41.2904 | I27: 3
B28: FONTE | C28: CÓDIGO | D28: DESCRIÇÃO DO INSUMO | E28: UNIDADE | F28: COEFICIENTE | G28: CUSTO UNITÁRIO
B29: SINAPI | C29: 90099 | D29: =IF($B29="COT",VLOOKUP($C29,COTAÇÃO!$A$3:$I$4661,4,FALSE),IF($B29="SINAPI",VLOOKUP($C29,SINAPI!$A$7:$D$12422,2,FALSE),"ERRO")) -> ESCAVAÇÃO MECANIZADA DE VALA COM PROF. ATÉ 1,5 M (MÉDIA MONTANTE E JUSANTE/UMA COMPOSIÇÃO POR TRECHO), RETROESCAV. (0,26 M3), LARG. MENOR QUE 0,8 M, EM SOLO DE 1A CATEGORIA, EM LOCAIS COM ALTO NÍVEL DE INTERFERÊNCIA. AF_09/2024 | E29: =IF($B29="COT",VLOOKUP($C29,COTAÇÃO!$A$3:$I$4661,5,FALSE),IF($B29="SINAPI",VLOOKUP($C29,SINAPI!$A$7:$D$12422,3,FALSE),"ERRO")) -> M3 | F29: =1*0.4*1 -> 0.4 | G29: 17.21 | H29: =G29*F29 -> 6.884 | K29: ESCAVAÇÃO MECANIZADA DE VALA COM PROF. ATÉ 1,5 M (MÉDIA MONTANTE E JUSANTE/UMA COMPOSIÇÃO POR TRECHO), RETROESCAV. (0,26 M3), LARG. MENOR QUE 0,8 M, EM SOLO DE 1A CATEGORIA, EM LOCAIS COM ALTO NÍVEL DE INTERFERÊNCIA. AF_02/2021
B30: SINAPI | C30: 93358 | D30: =IF($B30="COT",VLOOKUP($C30,COTAÇÃO!$A$3:$I$4661,4,FALSE),IF($B30="SINAPI",VLOOKUP($C30,SINAPI!$A$7:$D$12422,2,FALSE),"ERRO")) -> ESCAVAÇÃO MANUAL DE VALA. AF_09/2024 | E30: =IF($B30="COT",VLOOKUP($C30,COTAÇÃO!$A$3:$I$4661,5,FALSE),IF($B30="SINAPI",VLOOKUP($C30,SINAPI!$A$7:$D$12422,3,FALSE),"ERRO")) -> M3 | F30: =1*0.4*0.4 -> 0.16 | G30: 98.41 | H30: =G30*F30 -> 15.7456 | K30: ESCAVAÇÃO MANUAL DE VALA COM PROFUNDIDADE MENOR OU IGUAL A 1,30 M. AF_02/2021
B31: SINAPI | C31: 101616 | D31: =IF($B31="COT",VLOOKUP($C31,COTAÇÃO!$A$3:$I$4661,4,FALSE),IF($B31="SINAPI",VLOOKUP($C31,SINAPI!$A$7:$D$12422,2,FALSE),"ERRO")) -> PREPARO DE FUNDO DE VALA COM LARGURA MENOR QUE 1,5 M (ACERTO DO SOLO NATURAL). AF_08/2020 | E31: =IF($B31="COT",VLOOKUP($C31,COTAÇÃO!$A$3:$I$4661,5,FALSE),IF($B31="SINAPI",VLOOKUP($C31,SINAPI!$A$7:$D$12422,3,FALSE),"ERRO")) -> M2 | F31: =1*0.4 -> 0.4 | G31: 8.8 | H31: =G31*F31 -> 3.52 | K31: PREPARO DE FUNDO DE VALA COM LARGURA MENOR QUE 1,5 M (ACERTO DO SOLO NATURAL). AF_08/2020
B32: SINAPI | C32: 93382 | D32: =IF($B32="COT",VLOOKUP($C32,COTAÇÃO!$A$3:$I$4661,4,FALSE),IF($B32="SINAPI",VLOOKUP($C32,SINAPI!$A$7:$D$12422,2,FALSE),"ERRO")) -> REATERRO MANUAL DE VALAS, COM COMPACTADOR DE SOLOS DE PERCUSSÃO. AF_08/2023 | E32: =IF($B32="COT",VLOOKUP($C32,COTAÇÃO!$A$3:$I$4661,5,FALSE),IF($B32="SINAPI",VLOOKUP($C32,SINAPI!$A$7:$D$12422,3,FALSE),"ERRO")) -> M3 | F32: 0.32 | G32: 30.82 | H32: =G32*F32 -> 9.8624 | K32: REATERRO MANUAL DE VALAS, COM COMPACTADOR DE SOLOS DE PERCUSSÃO. AF_08/2023
B33: SINAPI | C33: 88267 | D33: =IF($B33="COT",VLOOKUP($C33,COTAÇÃO!$A$3:$I$4661,4,FALSE),IF($B33="SINAPI",VLOOKUP($C33,SINAPI!$A$7:$D$12422,2,FALSE),"ERRO")) -> ENCANADOR OU BOMBEIRO HIDRÁULICO COM ENCARGOS COMPLEMENTARES | E33: =IF($B33="COT",VLOOKUP($C33,COTAÇÃO!$A$3:$I$4661,5,FALSE),IF($B33="SINAPI",VLOOKUP($C33,SINAPI!$A$7:$D$12422,3,FALSE),"ERRO")) -> H | F33: 0.16 | G33: 32.99 | H33: =G33*F33 -> 5.2784 | K33: ENCANADOR OU BOMBEIRO HIDRÁULICO COM ENCARGOS COMPLEMENTARES
H36: PREÇO REFERENCIAL
A37: CÓDIGO | D37: DESCRIÇÃO DO SERVIÇO OU FORNECIMENTO | E37: UNIDADE | F37: DATA BASE | G37: FONTE | H37: CUSTO TOTAL
A38: CC4 | D38: SERVIÇO DE LIGAÇÃO DOMICILIAR DE ÁGUA - REDE AO RAMAL / RAMAL AO PADRÃO - PADRÃO SAE | E38: UNID | G38: SINAPI | H38: =SUM(H40:H42) -> 13.3515 | I38: 4
B39: FONTE | C39: CÓDIGO | D39: DESCRIÇÃO DO INSUMO | E39: UNIDADE | F39: COEFICIENTE | G39: CUSTO UNITÁRIO
B40: SINAPI | C40: 3148 | D40: =IF($B40="COT",VLOOKUP($C40,COTAÇÃO!$A$3:$I$4661,4,FALSE),IF($B40="SINAPI",VLOOKUP($C40,SINAPI!$A$7:$D$12422,2,FALSE),"ERRO")) -> FITA VEDA ROSCA EM ROLOS DE 18 MM X 50 M (L X C) | E40: =IF($B40="COT",VLOOKUP($C40,COTAÇÃO!$A$3:$I$4661,5,FALSE),IF($B40="SINAPI",VLOOKUP($C40,SINAPI!$A$7:$D$12422,3,FALSE),"ERRO")) -> UN | F40: 0.4 | G40: 12.76 | H40: =G40*F40 -> 5.104 | J40: FITA VEDA ROSCA EM ROLOS DE 18 MM X 50 M (L X C)
B41: SINAPI | C41: 88267 | D41: =IF($B41="COT",VLOOKUP($C41,COTAÇÃO!$A$3:$I$4661,4,FALSE),IF($B41="SINAPI",VLOOKUP($C41,SINAPI!$A$7:$D$12422,2,FALSE),"ERRO")) -> ENCANADOR OU BOMBEIRO HIDRÁULICO COM ENCARGOS COMPLEMENTARES | E41: =IF($B41="COT",VLOOKUP($C41,COTAÇÃO!$A$3:$I$4661,5,FALSE),IF($B41="SINAPI",VLOOKUP($C41,SINAPI!$A$7:$D$12422,3,FALSE),"ERRO")) -> H | F41: 0.25 | G41: 32.99 | H41: =G41*F41 -> 8.2475 | J41: ENCANADOR OU BOMBEIRO HIDRÁULICO COM ENCARGOS COMPLEMENTARES
I46: 5
I54: 6
H61: PREÇO REFERENCIAL
A62: CÓDIGO | D62: DESCRIÇÃO DO SERVIÇO OU FORNECIMENTO | E62: UNIDADE | F62: DATA BASE | G62: FONTE | H62: CUSTO TOTAL
A63: CC7 | D63: EMBASAMENTO DE MATERIAL GRANULAR - PO DE PEDRA, ESPESSURA 10CM | E63: M3 | G63: SINAPI | H63: =SUM(H65:H67) -> 193.84 | I63: 7
B64: FONTE | C64: CÓDIGO | D64: DESCRIÇÃO DO INSUMO | E64: UNIDADE | F64: COEFICIENTE | G64: CUSTO UNITÁRIO
B65: SINAPI | C65: 4741 | D65: =IF($B65="COT",VLOOKUP($C65,COTAÇÃO!$A$3:$I$4661,4,FALSE),IF($B65="SINAPI",VLOOKUP($C65,SINAPI!$A$7:$D$11796,2,FALSE),"ERRO")) -> PO DE PEDRA (POSTO PEDREIRA/FORNECEDOR, SEM FRETE) | E65: =IF($B65="COT",VLOOKUP($C65,COTAÇÃO!$A$3:$I$4661,5,FALSE),IF($B65="SINAPI",VLOOKUP($C65,SINAPI!$A$7:$D$12422,3,FALSE),"ERRO")) -> M3 | F65: 1 | G65: 120.62 | H65: =G65*F65 -> 120.62
B66: SINAPI | C66: 88316 | D66: =IF($B66="COT",VLOOKUP($C66,COTAÇÃO!$A$3:$I$4661,4,FALSE),IF($B66="SINAPI",VLOOKUP($C66,SINAPI!$A$7:$D$11796,2,FALSE),"ERRO")) -> SERVENTE COM ENCARGOS COMPLEMENTARES | E66: =IF($B66="COT",VLOOKUP($C66,COTAÇÃO!$A$3:$I$4661,5,FALSE),IF($B66="SINAPI",VLOOKUP($C66,SINAPI!$A$7:$D$12422,3,FALSE),"ERRO")) -> H | F66: 1 | G66: 24.88 | H66: =G66*F66 -> 24.88
B67: SINAPI | C67: 91533 | D67: =IF($B67="COT",VLOOKUP($C67,COTAÇÃO!$A$3:$I$4661,4,FALSE),IF($B67="SINAPI",VLOOKUP($C67,SINAPI!$A$7:$D$11796,2,FALSE),"ERRO")) -> COMPACTADOR DE SOLOS DE PERCUSSÃO (SOQUETE) COM MOTOR A GASOLINA 4 TEMPOS, POTÊNCIA 4 CV - CHP DIURNO. AF_08/2015 | E67: =IF($B67="COT",VLOOKUP($C67,COTAÇÃO!$A$3:$I$4661,5,FALSE),IF($B67="SINAPI",VLOOKUP($C67,SINAPI!$A$7:$D$12422,3,FALSE),"ERRO")) -> CHP | F67: 1 | G67: 48.34 | H67: =G67*F67 -> 48.34
H70: PREÇO REFERENCIAL
A71: CÓDIGO | D71: DESCRIÇÃO DO SERVIÇO OU FORNECIMENTO | E71: UNIDADE | F71: DATA BASE | G71: FONTE | H71: CUSTO TOTAL
A72: CC8 | D72: RECOMPOSIÇÃO ASFÁLTICA CBUQ CAMADA DE 5 CM (130KG CBUQ POR M2) DESCARREGAMENTO MANUAL DO CAMINHÃO COM PÁ E ENXADA, COMPACTAÇÃO COM PLACA VIBRATÓRIA E APLICAÇÃO DE EMULSÃO 0,8L/M2 PARA ADERÊNCIA | E72: M2 | G72: SINAPI | H72: =SUM(H74:H81) -> 124.1108 | I72: 8
B73: FONTE | C73: CÓDIGO | D73: DESCRIÇÃO DO INSUMO | E73: UNIDADE | F73: COEFICIENTE | G73: CUSTO UNITÁRIO
B74: SINAPI | C74: 1518 | D74: =IF($B74="COT",VLOOKUP($C74,COTAÇÃO!$A$3:$I$4661,4,FALSE),IF($B74="SINAPI",VLOOKUP($C74,SINAPI!$A$7:$D$11796,2,FALSE),"ERRO")) -> CONCRETO BETUMINOSO USINADO A QUENTE (CBUQ) PARA PAVIMENTACAO ASFALTICA, PADRAO DNIT, FAIXA C, COM CAP 50/70 - AQUISICAO POSTO USINA | E74: ton | F74: 0.13 | G74: 618.17 | H74: =G74*F74 -> 80.3621
B75: SINAPI | C75: 88314 | D75: =IF($B75="COT",VLOOKUP($C75,COTAÇÃO!$A$3:$I$4661,4,FALSE),IF($B75="SINAPI",VLOOKUP($C75,SINAPI!$A$7:$D$11796,2,FALSE),"ERRO")) -> RASTELEIRO COM ENCARGOS COMPLEMENTARES | E75: =IF($B75="COT",VLOOKUP($C75,COTAÇÃO!$A$3:$I$4661,5,FALSE),IF($B75="SINAPI",VLOOKUP($C75,SINAPI!$A$7:$D$11796,3,FALSE),"ERRO")) -> H | F75: 0.1 | G75: 24.47 | H75: =G75*F75 -> 2.447
...

Sheet SINAPI
A2: SINAPI - 11/2024
A5: CODIGO DA COMPOSICAO | B5: DESCRICAO DA COMPOSICAO | C5: UNIDADE | D5: CUSTO TOTAL
A7: 97141 | B7: ASSENTAMENTO DE TUBO DE FERRO FUNDIDO PARA REDE DE ÁGUA, DN 80 MM, JUNTA ELÁSTICA, INSTALADO EM LOCAL COM NÍVEL ALTO DE INTERFERÊNCIAS (NÃO INCLUI FORNECIMENTO). AF_05/2024 | C7: M | D7: 4.94
A8: 97142 | B8: ASSENTAMENTO DE TUBO DE FERRO FUNDIDO PARA REDE DE ÁGUA, DN 100 MM, JUNTA ELÁSTICA, INSTALADO EM LOCAL COM NÍVEL ALTO DE INTERFERÊNCIAS (NÃO INCLUI FORNECIMENTO). AF_05/2024 | C8: M | D8: 5.69
A9: 97143 | B9: ASSENTAMENTO DE TUBO DE FERRO FUNDIDO PARA REDE DE ÁGUA, DN 150 MM, JUNTA ELÁSTICA, INSTALADO EM LOCAL COM NÍVEL ALTO DE INTERFERÊNCIAS (NÃO INCLUI FORNECIMENTO). AF_05/2024 | C9: M | D9: 7.49
A10: 97144 | B10: ASSENTAMENTO DE TUBO DE FERRO FUNDIDO PARA REDE DE ÁGUA, DN 200 MM, JUNTA ELÁSTICA, INSTALADO EM LOCAL COM NÍVEL ALTO DE INTERFERÊNCIAS (NÃO INCLUI FORNECIMENTO). AF_05/2024 | C10: M | D10: 9.3
A11: 97145 | B11: ASSENTAMENTO DE TUBO DE FERRO FUNDIDO PARA REDE DE ÁGUA, DN 250 MM, JUNTA ELÁSTICA, INSTALADO EM LOCAL COM NÍVEL ALTO DE INTERFERÊNCIAS (NÃO INCLUI FORNECIMENTO). AF_05/2024 | C11: M | D11: 11.12
A12: 97146 | B12: ASSENTAMENTO DE TUBO DE FERRO FUNDIDO PARA REDE DE ÁGUA, DN 300 MM, JUNTA ELÁSTICA, INSTALADO EM LOCAL COM NÍVEL ALTO DE INTERFERÊNCIAS (NÃO INCLUI FORNECIMENTO). AF_05/2024 | C12: M | D12: 12.96
A13: 97147 | B13: ASSENTAMENTO DE TUBO DE FERRO FUNDIDO PARA REDE DE ÁGUA, DN 350 MM, JUNTA ELÁSTICA, INSTALADO EM LOCAL COM NÍVEL ALTO DE INTERFERÊNCIAS (NÃO INCLUI FORNECIMENTO). AF_05/2024 | C13: M | D13: 14.79
A14: 97148 | B14: ASSENTAMENTO DE TUBO DE FERRO FUNDIDO PARA REDE DE ÁGUA, DN 400 MM, JUNTA ELÁSTICA, INSTALADO EM LOCAL COM NÍVEL ALTO DE INTERFERÊNCIAS (NÃO INCLUI FORNECIMENTO). AF_05/2024 | C14: M | D14: 16.63
A15: 97149 | B15: ASSENTAMENTO DE TUBO DE FERRO FUNDIDO PARA REDE DE ÁGUA, DN 450 MM, JUNTA ELÁSTICA, INSTALADO EM LOCAL COM NÍVEL ALTO DE INTERFERÊNCIAS (NÃO INCLUI FORNECIMENTO). AF_05/2024 | C15: M | D15: 18.49
A16: 97150 | B16: ASSENTAMENTO DE TUBO DE FERRO FUNDIDO PARA REDE DE ÁGUA, DN 500 MM, JUNTA ELÁSTICA, INSTALADO EM LOCAL COM NÍVEL ALTO DE INTERFERÊNCIAS (NÃO INCLUI FORNECIMENTO). AF_05/2024 | C16: M | D16: 23.05
A17: 97151 | B17: ASSENTAMENTO DE TUBO DE FERRO FUNDIDO PARA REDE DE ÁGUA, DN 600 MM, JUNTA ELÁSTICA, INSTALADO EM LOCAL COM NÍVEL ALTO DE INTERFERÊNCIAS (NÃO INCLUI FORNECIMENTO). AF_05/2024 | C17: M | D17: 27.17
A18: 97152 | B18: ASSENTAMENTO DE TUBO DE FERRO FUNDIDO PARA REDE DE ÁGUA, DN 700 MM, JUNTA ELÁSTICA, INSTALADO EM LOCAL COM NÍVEL ALTO DE INTERFERÊNCIAS (NÃO INCLUI FORNECIMENTO). AF_05/2024 | C18: M | D18: 31.04
... A347: 95567 | B347: TUBO DE CONCRETO (SIMPLES) PARA REDES COLETORAS DE ÁGUAS PLUVIAIS, DIÂMETRO DE 300 MM, JUNTA RÍGIDA, INSTALADO EM LOCAL COM BAIXO NÍVEL DE INTERFERÊNCIAS - FORNECIMENTO E ASSENTAMENTO. AF_03/2024 | C347: M | D347: 125.96
A348: 95568 | B348: TUBO DE CONCRETO (SIMPLES) PARA REDES COLETORAS DE ÁGUAS PLUVIAIS, DIÂMETRO DE 400 MM, JUNTA RÍGIDA, INSTALADO EM LOCAL COM BAIXO NÍVEL DE INTERFERÊNCIAS - FORNECIMENTO E ASSENTAMENTO. AF_03/2024 | C348: M | D348: 153.89 | F348: =8*4*2 -> 64 | G348: =F348*D348 -> 9848.96
A349: 95569 | B349: TUBO DE CONCRETO (SIMPLES) PARA REDES COLETORAS DE ÁGUAS PLUVIAIS, DIÂMETRO DE 500 MM, JUNTA RÍGIDA, INSTALADO EM LOCAL COM BAIXO NÍVEL DE INTERFERÊNCIAS - FORNECIMENTO E ASSENTAMENTO. AF_03/2024 | C349: M | D349: 222.48 | G349: =F348*D349 -> 14238.72
A350: 95570 | B350: TUBO DE CONCRETO (SIMPLES) PARA REDES COLETORAS DE ÁGUAS PLUVIAIS, DIÂMETRO DE 300 MM, JUNTA RÍGIDA, INSTALADO EM LOCAL COM ALTO NÍVEL DE INTERFERÊNCIAS - FORNECIMENTO E ASSENTAMENTO. AF_03/2024 | C350: M | D350: 128.37
A351: 95571 | B351: TUBO DE CONCRETO (SIMPLES) PARA REDES COLETORAS DE ÁGUAS PLUVIAIS, DIÂMETRO DE 400 MM, JUNTA RÍGIDA, INSTALADO EM LOCAL COM ALTO NÍVEL DE INTERFERÊNCIAS - FORNECIMENTO E ASSENTAMENTO. AF_03/2024 | C351: M | D351: 157.31
A352: 95572 | B352: TUBO DE CONCRETO (SIMPLES) PARA REDES COLETORAS DE ÁGUAS PLUVIAIS, DIÂMETRO DE 500 MM, JUNTA RÍGIDA, INSTALADO EM LOCAL COM ALTO NÍVEL DE INTERFERÊNCIAS - FORNECIMENTO E ASSENTAMENTO. AF_03/2024 | C352: M | D352: 226.94
A353: 97127 | B353: ASSENTAMENTO DE TUBO DE PVC DEFOFO OU PRFV OU RPVC PARA REDE DE ÁGUA, DN 150 MM, JUNTA ELÁSTICA INTEGRADA, INSTALADO EM LOCAL COM NÍVEL ALTO DE INTERFERÊNCIAS (NÃO INCLUI FORNECIMENTO). AF_05/2024 | C353: M | D353: 4.74
A354: 97128 | B354: ASSENTAMENTO DE TUBO DE PVC DEFOFO OU PRFV OU RPVC PARA REDE DE ÁGUA, DN 200 MM, JUNTA ELÁSTICA INTEGRADA, INSTALADO EM LOCAL COM NÍVEL ALTO DE INTERFERÊNCIAS (NÃO INCLUI FORNECIMENTO). AF_05/2024 | C354: M | D354: 9.85
A355: 97129 | B355: ASSENTAMENTO DE TUBO DE PVC DEFOFO OU PRFV OU RPVC PARA REDE DE ÁGUA, DN 250 MM, JUNTA ELÁSTICA INTEGRADA, INSTALADO EM LOCAL COM NÍVEL ALTO DE INTERFERÊNCIAS (NÃO INCLUI FORNECIMENTO). AF_05/2024 | C355: M | D355: 11.66
A356: 97130 | B356: ASSENTAMENTO DE TUBO DE PVC DEFOFO OU PRFV OU RPVC PARA REDE DE ÁGUA, DN 300 MM, JUNTA ELÁSTICA INTEGRADA, INSTALADO EM LOCAL COM NÍVEL ALTO DE INTERFERÊNCIAS (NÃO INCLUI FORNECIMENTO). AF_05/2024 | C356: M | D356: 13.48
A357: 97131 | B357: ASSENTAMENTO DE TUBO DE PVC DEFOFO OU PRFV OU RPVC PARA REDE DE ÁGUA, DN 350 MM, JUNTA ELÁSTICA INTEGRADA, INSTALADO EM LOCAL COM NÍVEL ALTO DE INTERFERÊNCIAS (NÃO INCLUI FORNECIMENTO). AF_05/2024 | C357: M | D357: 15.3
A358: 97132 | B358: ASSENTAMENTO DE TUBO DE PVC DEFOFO OU PRFV OU RPVC PARA REDE DE ÁGUA, DN 400 MM, JUNTA ELÁSTICA INTEGRADA, INSTALADO EM LOCAL COM NÍVEL ALTO DE INTERFERÊNCIAS (NÃO INCLUI FORNECIMENTO). AF_05/2024 | C358: M | D358: 17.14
A359: 97133 | B359: ASSENTAMENTO DE TUBO DE PVC DEFOFO OU PRFV OU RPVC PARA REDE DE ÁGUA, DN 500 MM, JUNTA ELÁSTICA INTEGRADA, INSTALADO EM LOCAL COM NÍVEL ALTO DE INTERFERÊNCIAS (NÃO INCLUI FORNECIMENTO). AF_05/2024 | C359: M | D359: 20.77
A360: 97134 | B360: ASSENTAMENTO DE TUBO DE PVC DEFOFO OU PRFV OU RPVC PARA REDE DE ÁGUA, DN 150 MM, JUNTA ELÁSTICA INTEGRADA, INSTALADO EM LOCAL COM NÍVEL BAIXO DE INTERFERÊNCIAS (NÃO INCLUI FORNECIMENTO). AF_05/2024 | C360: M | D360: 3.91
A361: 97135 | B361: ASSENTAMENTO DE TUBO DE PVC DEFOFO OU PRFV OU RPVC PARA REDE DE ÁGUA, DN 200 MM, JUNTA ELÁSTICA INTEGRADA, INSTALADO EM LOCAL COM NÍVEL BAIXO DE INTERFERÊNCIAS (NÃO INCLUI FORNECIMENTO). AF_05/2024 | C361: M | D361: 7.46
... A7559: 95315 | B7559: CURSO DE CAPACITAÇÃO PARA ASSENTADOR DE TUBOS (ENCARGOS COMPLEMENTARES) - HORISTA | C7559: H | D7559: 0.28
A7560: 95316 | B7560: CURSO DE CAPACITAÇÃO PARA AUXILIAR DE ELETRICISTA (ENCARGOS COMPLEMENTARES) - HORISTA | C7560: H | D7560: 0,70
A7561: 95317 | B7561: CURSO DE CAPACITAÇÃO PARA AUXILIAR DE ENCANADOR OU BOMBEIRO HIDRÁULICO (ENCARGOS COMPLEMENTARES) - HORISTA | C7561: H | D7561: 0,33
A7562: 95318 | B7562: CURSO DE CAPACITAÇÃO PARA AUXILIAR DE LABORATÓRIO (ENCARGOS COMPLEMENTARES) - HORISTA | C7562: H | D7562: 0,26
A7563: 95319 | B7563: CURSO DE CAPACITAÇÃO PARA AUXILIAR DE MECÂNICO (ENCARGOS COMPLEMENTARES) - HORISTA | C7563: H | D7563: 0,21
A7564: 95320 | B7564: CURSO DE CAPACITAÇÃO PARA AUXILIAR DE SERRALHEIRO (ENCARGOS COMPLEMENTARES) - HORISTA | C7564: H | D7564: 0,21
A7565: 95321 | B7565: CURSO DE CAPACITAÇÃO PARA AUXILIAR DE SERVIÇOS GERAIS (ENCARGOS COMPLEMENTARES) - HORISTA | C7565: H | D7565: 0,19
A7566: 95322 | B7566: CURSO DE CAPACITAÇÃO PARA AUXILIAR DE TOPÓGRAFO (ENCARGOS COMPLEMENTARES) - HORISTA | C7566: H | D7566: 0,17
A7567: 95323 | B7567: CURSO DE CAPACITAÇÃO PARA AUXILIAR TÉCNICO DE ENGENHARIA (ENCARGOS COMPLEMENTARES) - HORISTA | C7567: H | D7567: 0,32
A7568: 95324 | B7568: CURSO DE CAPACITAÇÃO PARA AZULEJISTA OU LADRILHISTA (ENCARGOS COMPLEMENTARES) - HORISTA | C7568: H | D7568: 0,39
A7569: 95325 | B7569: CURSO DE CAPACITAÇÃO PARA BLASTER, DINAMITADOR OU CABO DE FOGO (ENCARGOS COMPLEMENTARES) - HORISTA | C7569: H | D7569: 0,40
...

Sheet SETOP
A1: TABELA REFERENCIAL DE PREÇOS UNITÁRIOS PARA OBRAS DE EDIFICAÇÃO
A2: REGIÃO TRIÂNGULO E ALTO PARANAÍBA
B3: S/ DESONERAÇÃO
A5: CÓDIGO | B5: DESCRIÇÃO DO SERVIÇO
A6: 8662 | B6: MOBILIZAÇÃO E DESMOBILIZAÇÃO DE OBRA
A7: 8700 | B7: OBRAS EM CENTRO URBANO OU REGIÃO LIMÍTROFE
A8: ED-50394 | B8: MOBILIZAÇÃO E DESMOBILIZAÇÃO DE OBRA EM CENTRO URBANO OU REGIÃO LIMÍTROFE COM VALOR ACIMA DE 3.000.000,01 | C8: % | D8: 0.2
A9: ED-50392 | B9: MOBILIZAÇÃO E DESMOBILIZAÇÃO DE OBRA EM CENTRO URBANO OU REGIÃO LIMÍTROFE COM VALOR ATÉ O VALOR DE 1.000.000,00 | C9: % | D9: 0.5
A10: ED-50393 | B10: MOBILIZAÇÃO E DESMOBILIZAÇÃO DE OBRA EM CENTRO URBANO OU REGIÃO LIMÍTROFE COM VALOR ENTRE 1.000.000,01 E 3.000.000,00 | C10: % | D10: 0.3
A11: 8701 | B11: OBRA DISTANTE DE CENTRO URBANO
A12: ED-50391 | B12: MOBILIZAÇÃO E DESMOBILIZAÇÃO OBRA DISTANTE DE CENTRO URBANO COM ACIMA DE 3.000.000,01 | C12: % | D12: 1
A13: ED-50390 | B13: MOBILIZAÇÃO E DESMOBILIZAÇÃO OBRA DISTANTE DE CENTRO URBANO COM ENTRE 1.000.000,01 E 3.000.000,00 | C13: % | D13: 1.5
A14: ED-50389 | B14: MOBILIZAÇÃO E DESMOBILIZAÇÃO OBRA DISTANTE DE CENTRO URBANO COM VALOR ATÉ O VALOR DE 1.000.000,00 | C14: % | D14: 2
A15: 8663 | B15: SERVIÇOS PRELIMINARES
A16: 8702 | B16: LIMPEZA DO TERRENO
A17: ED-50701 | B17: CAPINA MANUAL DO TERRENO, EXCLUSIVE RASTELAMENTO E QUEIMA | C17: m2 | D17: 1.31
A18: ED-28163 | B18: DESTOCAMENTO E AFASTAMENTO DE REMANESCENTE ARBÓREO, INCLUSIVE TRANSPORTE E RETIRADA DO MATERIAL ESCAVADO (EM CAÇAMBA) | C18: un | D18: 459.35
A19: ED-50703 | B19: LIMPEZA DE TERRENO, INCLUSIVE CAPINA, RASTELAMENTO COM AFASTAMENTO ATÉ VINTE (20) METROS E QUEIMA CONTROLADA | C19: m2 | D19: 2.32
A20: ED-8143 | B20: RASTELAMENTO DE ÁREA COM AFASTAMENTO DE ATÉ VINTE (20) METROS, EXCLUSIVE CAPINA OU ROÇADA MANUAL | C20: m2 | D20: 0.87
A21: ED-28162 | B21: ROÇADA MANUAL DE TERRENO COM ROÇADEIRA COSTAL, EXCLUSIVE RASTELAMENTO E QUEIMA | C21: m2 | D21: 0.19
A22: 8703 | B22: DESMATAMENTO E DESTOCAMENTO
A23: ED-50702 | B23: DESMATAMENTO, DESTOCAMENTO E LIMPEZA, INCLUSIVE TRANSPORTE ATÉ CINQUENTA (50) METROS | C23: m2 | D23: 0.52
A24: 8704 | B24: SUPRESSÃO DE ÁRVORE
A25: ED-50699 | B25: CORTE DE ÁRVORE COM MOTOSSERRA, DIÂMETRO DO TRONCO ACIMA DE TRINTA (30) CENTÍMETROS ATÉ CINQUENTA (50) CENTÍMETROS, EXCLUSIVE DESTOCAMENTO E AFASTAMENTO | C25: un | D25: 90.47
A26: ED-50697 | B26: CORTE DE ÁRVORE COM MOTOSSERRA, DIÂMETRO DO TRONCO DE QUINZE (15) CENTÍMETROS ATÉ TRINTA (30) CENTÍMETROS, EXCLUSIVE DESTOCAMENTO E AFASTAMENTO | C26: un | D26: 54.28
A27: 8706 | B27: REMOÇÃO DE TELHADO
A28: ED-48438 | B28: REMOÇÃO DE CALHA EM CHAPA GALVANIZADA OU EM PVC, COM REAPROVEITAMENTO, INCLUSIVE AFASTAMENTO E EMPILHAMENTO, EXCLUSIVE TRANSPORTE E RETIRADA DO MATERIAL REMOVIDO NÃO REAPROVEITÁVEL | C28: m | D28: 4.6
A29: ED-48446 | B29: REMOÇÃO MANUAL DE CONDUTOR EM PVC OU METÁLICO, COM REAPROVEITAMENTO, INCLUSIVE AFASTAMENTO E EMPILHAMENTO, EXCLUSIVE TRANSPORTE E RETIRADA DO MATERIAL REMOVIDO NÃO REAPROVEITÁVEL | C29: m | D29: 5.5
A30: ED-48455 | B30: REMOÇÃO MANUAL DE ENGRADAMENTO PARA TELHA TIPO CALHA ESTRUTURAL EM FIBROCIMENTO, COM REAPROVEITAMENTO, INCLUSIVE AFASTAMENTO E EMPILHAMENTO, EXCLUSIVE TRANSPORTE E RETIRADA DO MATERIAL REMOVIDO NÃO REAPROVEITÁVEL | C30: m2 | D30: 11.12
A31: ED-48457 | B31: REMOÇÃO MANUAL DE ENGRADAMENTO PARA TELHA TIPO CERÂMICA OU CONCRETO, INCLUSIVE AFASTAMENTO E EMPILHAMENTO, EXCLUSIVE TRANSPORTE E RETIRADA DO MATERIAL REMOVIDO NÃO REAPROVEITÁVEL | C31: m2 | D31: 22.25
A32: ED-48454 | B32: REMOÇÃO MANUAL DE ENGRADAMENTO PARA TELHA TIPO METÁLICA, PVC OU FIBROCIMENTO, COM REAPROVEITAMENTO, INCLUSIVE AFASTAMENTO E EMPILHAMENTO, EXCLUSIVE TRANSPORTE E RETIRADA DO MATERIAL REMOVIDO NÃO REAPROVEITÁVEL | C32: m2 | D32: 14.83
A33: ED-48506 | B33: REMOÇÃO MANUAL DE RUFO METÁLICO, COM REAPROVEITAMENTO, INCLUSIVE AFASTAMENTO E EMPILHAMENTO, EXCLUSIVE TRANSPORTE E RETIRADA DO MATERIAL REMOVIDO NÃO REAPROVEITÁVEL | C33: m | D33: 6.76
A34: ED-48512 | B34: REMOÇÃO MANUAL DE TELHA EM FIBROCIMENTO, TIPO ONDULADA, COM REAPROVEITAMENTO, INCLUSIVE AFASTAMENTO E EMPILHAMENTO, EXCLUSIVE TRANSPORTE E RETIRADA DO MATERIAL REMOVIDO NÃO REAPROVEITÁVEL | C34: m2 | D34: 12.71
A35: ED-48514 | B35: REMOÇÃO MANUAL DE TELHA CERÂMICA, COM REAPROVEITAMENTO, INCLUSIVE AFASTAMENTO E EMPILHAMENTO, EXCLUSIVE TRANSPORTE E RETIRADA DO MATERIAL REMOVIDO NÃO REAPROVEITÁVEL | C35: m2 | D35: 23.9
A36: ED-48510 | B36: REMOÇÃO MANUAL DE TELHA EM FIBROCIMENTO, TIPO CALHA ESTRUTURAL, COM REAPROVEITAMENTO, INCLUSIVE IÇAMENTO, AFASTAMENTO E EMPILHAMENTO, EXCLUSIVE TRANSPORTE E RETIRADA DO MATERIAL REMOVIDO NÃO REAPROVEITÁVEL | C36: m2 | D36: 24.96
A37: ED-48509 | B37: REMOÇÃO MANUAL DE TELHA METÁLICA OU PVC, COM REAPROVEITAMENTO, INCLUSIVE AFASTAMENTO E EMPILHAMENTO, EXCLUSIVE TRANSPORTE E RETIRADA DO MATERIAL REMOVIDO NÃO REAPROVEITÁVEL | C37: m2 | D37: 8.9
A38: 8707 | B38: DEMOLIÇÃO E REMOÇÃO DE INSTALAÇÃO
A39: ED-48500 | B39: DEMOLIÇÃO MANUAL DE TUBULAÇÕES EMBUTIDAS DE REDE (ÁGUA, ELÉTRICA, GASES, ETC.), INCLUSIVE RASGO EM ALVENARIA, REMOÇÃO DE ACESSÓRIOS DE FIXAÇÃO, AFASTAMENTO E EMPILHAMENTO, EXCLUSIVE TRANSPORTE E RETIRADA DO MATERIAL DEMOLIDO | C39: m | D39: 8.24
A40: ED-48466 | B40: REMOÇÃO MANUAL DE INTERFONE, COM REAPROVEITAMENTO, INCLUSIVE AFASTAMENTO E EMPILHAMENTO, EXCLUSIVE TRANSPORTE E RETIRADA DO MATERIAL REMOVIDO NÃO REAPROVEITÁVEL | C40: un | D40: 43.59
A41: ED-48468 | B41: REMOÇÃO MANUAL DE LUMINÁRIA COMERCIAL, EMBUTIDA OU SOBREPOR, COM REAPROVEITAMENTO, INCLUSIVE AFASTAMENTO E EMPILHAMENTO, EXCLUSIVE TRANSPORTE E RETIRADA DO MATERIAL REMOVIDO NÃO REAPROVEITÁVEL | C41: un | D41: 10.5
...

Sheet Planilha Água
A1: PLANILHA DE SERVIÇOS
A2: OBJETO: | B2: EXECUÇÃO DE OBRA DE SUBSTITUIÇÃO DE REDES E RAMAIS DE ÁGUA E ESGOTO EM DIVERSAS VIAS PÚBLICAS NA CIDADE DE PASSOS | N2: DATA: | O2: 45343
G3: Data: | H3: 46076
A6: REDES E RAMAIS DE ÁGUA | C6: SINAPI 01/2026 | D6: SETOP 10/2025 | E6: BDI FORN.: | F6: 0.12 | G6: BDI SERV.: | H6: ='BDI-Serviços '!AI13 -> 0.2594 | I6: =H54 -> 863412.52 | K6: serviço
A7: ITEM | B7: DESCRIÇÃO DO ITEM | C7: QUANTID. | D7: UNIDADE | E7: CUSTO (R$) | I7: SINAPI, COTAÇÃO OU COMPOSIÇÃO | J7: SINAPI/SETOP-MG COMPOSIÇÃO OU COTAÇÃO? | L7: 1º Aditivo | R7: MEDIÇÃO 01 - | T7: MEDIÇÃO 02 - | V7: MEDIÇÃO 03 - | X7: MEDIÇÃO 04 - | Z7: ACUMULADO | AB7: SALDO
E8: UNIT. S/ BDI | F8: BDI | G8: UNIT. C/ BDI | H8: TOTAL | L8: Quantidade | N8: Valor (R$) | P8: Quant. Final | Q8: VALOR COM ADITIVO | R8: Executado no Período | T8: Executado no Período | V8: Executado no Período | X8: Executado no Período
A9: 1. | B9: MOBILIZAÇÃO E SERVIÇOS INICIAIS | H9: =SUM(H10,H11) -> 27751.38 | N9: =SUM(N10:N11) -> 0 | O9: =SUM(O10:O11) -> 0 | Q9: =SUM(Q10:Q11) -> 27751.38 | S9: =SUM(S10:S11) -> 0 | U9: =SUM(U10:U11) -> 0 | W9: =SUM(W10:W11) -> 0 | Y9: =SUM(Y10:Y11) -> 0 | AA9: =SUM(AA10:AA11) -> 0 | AC9: =SUM(AC10:AC11) -> 27751.38
A10: 1.1. | B10: =IFERROR(IF($J10="COT",VLOOKUP($I10,COTAÇÃO!$A$3:$I$4661,4,FALSE),IF($J10="COMP",VLOOKUP($I10,'Composições criadas'!$A$1:$H$656,4,FALSE),IF($J10="SINAPI",VLOOKUP($I10,SINAPI!$A$7:$D$12422,2,FALSE),IF(J10="SETOP",VLOOKUP($I10,SETOP!A:E,2,FALSE),"ERRO")))),"CÓDIGO DIGITADO INVÁLIDO") -> FORNECIMENTO E COLOCAÇÃO DE PLACA DE OBRA EM CHAPA GALVANIZADA #26, ESP. 0,45MM, DIMENSÃO (3X1,5)M, PLOTADA COM ADESIVO VINÍLICO, AFIXADA COM REBITES 4,8X40MM, EM ESTRUTURA METÁLICA DE METALON 20X20MM, ESP. 1,25MM, INCLUSIVE SUPORTE EM EUCALIPTO AUTOCLAVADO PINTADO COM TINTA PVA DUAS (2) DEMÃOS | C10: 1 | D10: UN | E10: 1179.41 | F10: 0.12 | G10: =ROUND(E10*(1+F10),2) -> 1320.94 | H10: =ROUND(C10*G10,2) -> 1320.94 | I10: ED-28427 | J10: SETOP | N10: =L10*G10 -> 0 | O10: =M10*G10 -> 0 | P10: =C10+L10-M10 -> 1 | Q10: =P10*G10 -> 1320.94 | S10: =R10*G10 -> 0 | U10: =T10*G10 -> 0 | W10: =V10*G10 -> 0 | Y10: =X10*G10 -> 0 | Z10: =R10+T10+V10+X10 -> 0 | AA10: =S10+U10+W10+Y10 -> 0 | AB10: =C10-Z10 -> 1 | AC10: =AB10*G10 -> 1320.94
A11: 1.2. | B11: =IFERROR(IF($J11="COT",VLOOKUP($I11,COTAÇÃO!$A$3:$I$4661,4,FALSE),IF($J11="COMP",VLOOKUP($I11,'Composições criadas'!$A$1:$H$656,4,FALSE),IF($J11="SINAPI",VLOOKUP($I11,SINAPI!$A$7:$D$12422,2,FALSE),IF(J11="SETOP",VLOOKUP($I11,SETOP!A:E,2,FALSE),"ERRO")))),"CÓDIGO DIGITADO INVÁLIDO") -> CANTEIRO DE OBRAS, COMPOSTO POR CONTÊINER PARA DEPÓSITO DE FERRAMENTAS (6,00x2,30x2,50) E BANHEIRO QUÍMICO, INCLUSIVE MANUTENÇÃO, MOBILIZAÇÃO E DESMOBILIZAÇÃO | C11: 4 | D11: SV | E11: =IFERROR(IF($J11="COT",VLOOKUP($I11,COTAÇÃO!$A$3:$I$4661,9,FALSE),IF($J11="COMP",VLOOKUP($I11,'Composições criadas'!$A$1:$H$656,8,FALSE),IF($J11="SINAPI",VLOOKUP($I11,SINAPI!$A$7:$D$12422,4,FALSE),IF(J11="SETOP",VLOOKUP($I11,SETOP!A:D,4,FALSE),0)))),0) -> 5246.63 | F11: =H6 -> 0.2594 | G11: =ROUND(E11*(1+F11),2) -> 6607.61 | H11: =C11*G11 -> 26430.44 | I11: CC1 | J11: COMP | N11: =L11*G11 -> 0 | O11: =M11*G11 -> 0 | P11: =C11+L11-M11 -> 4 | Q11: =P11*G11 -> 26430.44 | S11: =R11*G11 -> 0 | U11: =T11*G11 -> 0 | W11: =V11*G11 -> 0 | Y11: =X11*G11 -> 0 | Z11: =R11+T11+V11+X11 -> 0 | AA11: =S11+U11+W11+Y11 -> 0 | AB11: =C11-Z11 -> 4 | AC11: =AB11*G11 -> 26430.44
A12: 2 | B12: SUBSTITUIÇÃO DE REDES E RAMAIS DE ÁGUA E ESGOTO | H12: =SUM(H13:H49) -> 773013.02 | Q12: =SUM(Q13:Q48) -> 572419.33 | S12: =SUM(S13:S48) -> 0 | U12: =SUM(U13:U48) -> 0 | W12: =SUM(W13:W48) -> 0 | Y12: =SUM(Y13:Y48) -> 0 | Z12: =R12+T12+V12+X12 -> 0 | AA12: =SUM(AA13:AA48) -> 0 | AB12: =#REF!-Z12 -> #REF! | AC12: =SUM(AC13:AC49) -> 572419.33
A13: 2.1. | B13: =IFERROR(IF($J13="COT",VLOOKUP($I13,COTAÇÃO!$A$3:$I$4661,4,FALSE),IF($J13="COMP",VLOOKUP($I13,'Composições criadas'!$A$1:$H$656,4,FALSE),IF($J13="SINAPI",VLOOKUP($I13,SINAPI!$A$7:$D$12422,2,FALSE),IF(J13="SETOP",VLOOKUP($I13,SETOP!A:E,2,FALSE),"ERRO")))),"CÓDIGO DIGITADO INVÁLIDO") -> LOCAÇÃO DE REDE DE ÁGUA OU ESGOTO. AF_03/2024 | C13: 2390 | D13: M | E13: 11.1 | F13: =IF(M13=$N$8,$F$6,$H$6) -> 0.2594 | G13: =ROUND(E13*(1+F13),2) -> 13.98 | H13: =ROUND(C13*G13,2) -> 33412.2 | I13: 99063 | J13: SINAPI | N13: =L13*G13 -> 0 | O13: =M13*G13 -> 0 | P13: =C13+L13-M13 -> 2390 | Q13: =P13*G13 -> 33412.2 | S13: =R13*G13 -> 0 | U13: =T13*G13 -> 0 | W13: =V13*G13 -> 0 | Y13: =X13*G13 -> 0 | Z13: =R13+T13+V13+X13 -> 0 | AA13: =S13+U13+W13+Y13 -> 0 | AB13: =C13-Z13 -> 2390 | AC13: =AB13*G13 -> 33412.2
A14: 2.2. | B14: =IFERROR(IF($J14="COT",VLOOKUP($I14,COTAÇÃO!$A$3:$I$4661,4,FALSE),IF($J14="COMP",VLOOKUP($I14,'Composições criadas'!$A$1:$H$656,4,FALSE),IF($J14="SINAPI",VLOOKUP($I14,SINAPI!$A$7:$D$12422,2,FALSE),IF(J14="SETOP",VLOOKUP($I14,SETOP!A:E,2,FALSE),"ERRO")))),"CÓDIGO DIGITADO INVÁLIDO") -> DEMOLIÇÃO PARCIAL DE PAVIMENTO ASFÁLTICO, DE FORMA MECANIZADA, SEM REAPROVEITAMENTO. AF_09/2023 | C14: =2070*0.6 -> 1242 | D14: M2 | E14: 24.63 | F14: =IF(M14=$N$8,$F$6,$H$6) -> 0.2594 | G14: =ROUND(E14*(1+F14),2) -> 31.02 | H14: =ROUND(C14*G14,2) -> 38526.84 | I14: 97636 | J14: SINAPI | N14: =L14*G14 -> 0 | O14: =M14*G14 -> 0 | P14: =C14+L14-M14 -> 1242 | Q14: =P14*G14 -> 38526.84 | S14: =R14*G14 -> 0 | U14: =T14*G14 -> 0 | W14: =V14*G14 -> 0 | Y14: =X14*G14 -> 0 | Z14: =R14+T14+V14+X14 -> 0 | AA14: =S14+U14+W14+Y14 -> 0 | AB14: =C14-Z14 -> 1242 | AC14: =AB14*G14 -> 38526.84
A15: 2.3. | B15: =IFERROR(IF($J15="COT",VLOOKUP($I15,COTAÇÃO!$A$3:$I$4661,4,FALSE),IF($J15="COMP",VLOOKUP($I15,'Composições criadas'!$A$1:$H$656,4,FALSE),IF($J15="SINAPI",VLOOKUP($I15,SINAPI!$A$7:$D$12422,2,FALSE),IF(J15="SETOP",VLOOKUP($I15,SETOP!A:E,2,FALSE),"ERRO")))),"CÓDIGO DIGITADO INVÁLIDO") -> DEMOLIÇÃO MANUAL DE PISO CIMENTADO OU CONTRAPISO DE ARGAMASSA, COM ESPESSURA MÁXIMA DE 10CM, INCLUSIVE AFASTAMENTO E EMPILHAMENTO, EXCLUSIVE TRANSPORTE E RETIRADA DO MATERIAL DEMOLIDO | C15: 190.4 | D15: M2 | E15: 20.05 | F15: =IF(M15=$N$8,$F$6,$H$6) -> 0.2594 | G15: =ROUND(E15*(1+F15),2) -> 25.25 | H15: =ROUND(C15*G15,2) -> 4807.6 | I15: ED-48479 | J15: SETOP | N15: =L15*G15 -> 0 | O15: =M15*G15 -> 0 | P15: =C15+L15-M15 -> 190.4 | Q15: =P15*G15 -> 4807.6 | S15: =R15*G15 -> 0 | U15: =T15*G15 -> 0 | W15: =V15*G15 -> 0 | Y15: =X15*G15 -> 0 | Z15: =R15+T15+V15+X15 -> 0 | AA15: =S15+U15+W15+Y15 -> 0 | AB15: =C15-Z15 -> 190.4 | AC15: =AB15*G15 -> 4807.6
A16: 2.4. | B16: =IFERROR(IF($J16="COT",VLOOKUP($I16,COTAÇÃO!$A$3:$I$4661,4,FALSE),IF($J16="COMP",VLOOKUP($I16,'Composições criadas'!$A$1:$H$656,4,FALSE),IF($J16="SINAPI",VLOOKUP($I16,SINAPI!$A$7:$D$12422,2,FALSE),IF(J16="SETOP",VLOOKUP($I16,SETOP!A:E,2,FALSE),"ERRO")))),"CÓDIGO DIGITADO INVÁLIDO") -> CARGA, MANOBRA E DESCARGA DE ENTULHO EM CAMINHÃO BASCULANTE 6 M³ - CARGA COM ESCAVADEIRA HIDRÁULICA (CAÇAMBA DE 0,80 M³ / 111 HP) E DESCARGA LIVRE (UNIDADE: M3). AF_07/2020 | C16: =(C14+C15)*1 -> 1432.4 | D16: M3 | E16: 9.92 | F16: =IF(M16=$N$8,$F$6,$H$6) -> 0.2594 | G16: =ROUND(E16*(1+F16),2) -> 12.49 | H16: =ROUND(C16*G16,2) -> 17890.68 | I16: 100981 | J16: SINAPI | N16: =L16*G16 -> 0 | O16: =M16*G16 -> 0 | P16: =C16+L16-M16 -> 1432.4 | Q16: =P16*G16 -> 17890.676 | S16: =R16*G16 -> 0 | U16: =T16*G16 -> 0 | W16: =V16*G16 -> 0 | Y16: =X16*G16 -> 0 | Z16: =R16+T16+V16+X16 -> 0 | AA16: =S16+U16+W16+Y16 -> 0 | AB16: =C16-Z16 -> 1432.4 | AC16: =AB16*G16 -> 17890.676
A17: 2.5. | B17: =IFERROR(IF($J17="COT",VLOOKUP($I17,COTAÇÃO!$A$3:$I$4661,4,FALSE),IF($J17="COMP",VLOOKUP($I17,'Composições criadas'!$A$1:$H$656,4,FALSE),IF($J17="SINAPI",VLOOKUP($I17,SINAPI!$A$7:$D$12422,2,FALSE),IF(J17="SETOP",VLOOKUP($I17,SETOP!A:E,2,FALSE),"ERRO")))),"CÓDIGO DIGITADO INVÁLIDO") -> TRANSPORTE COM CAMINHÃO BASCULANTE DE 6 M³, EM VIA URBANA PAVIMENTADA, DMT ATÉ 30 KM (UNIDADE: M3XKM). AF_07/2020 | C17: =((C14+C15)/6)*6 -> 1432.4 | D17: =IFERROR(IF($J17="COT",VLOOKUP($I17,COTAÇÃO!$A$3:$I$4661,5,FALSE),IF($J17="COMP",VLOOKUP($I17,'Composições criadas'!$A$1:$H$656,5,FALSE),IF($J17="SINAPI",VLOOKUP($I17,SINAPI!$A$7:$D$12422,3,FALSE),IF(J17="SETOP",VLOOKUP($I17,SETOP!A:D,3,FALSE),"ERRO")))),"ERRO") -> M3XKM | E17: 3.12 | F17: =IF(M17=$N$8,$F$6,$H$6) -> 0.2594 | G17: =ROUND(E17*(1+F17),2) -> 3.93 | H17: =ROUND(C17*G17,2) -> 5629.33 | I17: 97914 | J17: SINAPI | N17: =L17*G17 -> 0 | O17: =M17*G17 -> 0 | P17: =C17+L17-M17 -> 1432.4 | Q17: =P17*G17 -> 5629.332 | S17: =R17*G17 -> 0 | U17: =T17*G17 -> 0 | W17: =V17*G17 -> 0 | Y17: =X17*G17 -> 0 | Z17: =R17+T17+V17+X17 -> 0 | AA17: =S17+U17+W17+Y17 -> 0 | AB17: =C17-Z17 -> 1432.4 | AC17: =AB17*G17 -> 5629.332
A18: 2.6. | B18: =IFERROR(IF($J18="COT",VLOOKUP($I18,COTAÇÃO!$A$3:$I$4661,4,FALSE),IF($J18="COMP",VLOOKUP($I18,'Composições criadas'!$A$1:$H$656,4,FALSE),IF($J18="SINAPI",VLOOKUP($I18,SINAPI!$A$7:$D$12422,2,FALSE),IF(J18="SETOP",VLOOKUP($I18,SETOP!A:E,2,FALSE),"ERRO")))),"CÓDIGO DIGITADO INVÁLIDO") -> ESCAVAÇÃO MECANIZADA DE VALA COM PROF. ATÉ 1,5 M (MÉDIA MONTANTE E JUSANTE/UMA COMPOSIÇÃO POR TRECHO), RETROESCAV. (0,26 M3), LARG. MENOR QUE 0,8 M, EM SOLO DE 1A CATEGORIA, EM LOCAIS COM ALTO NÍVEL DE INTERFERÊNCIA. AF_09/2024 | C18: =(C13*0.6)*1 -> 1434 | D18: M3 | E18: 17.21 | F18: =IF(M18=$N$8,$F$6,$H$6) -> 0.2594 | G18: =ROUND(E18*(1+F18),2) -> 21.67 | H18: =ROUND(C18*G18,2) -> 31074.78 | I18: 90099 | J18: SINAPI | N18: =L18*G18 -> 0 | O18: =M18*G18 -> 0 | P18: =C18+L18-M18 -> 1434 | Q18: =P18*G18 -> 31074.78 | S18: =R18*G18 -> 0 | U18: =T18*G18 -> 0 | W18: =V18*G18 -> 0 | Y18: =X18*G18 -> 0 | Z18: =R18+T18+V18+X18 -> 0 | AA18: =S18+U18+W18+Y18 -> 0 | AB18: =C18-Z18 -> 1434 | AC18: =AB18*G18 -> 31074.78
A19: 2.7. | B19: =IFERROR(IF($J19="COT",VLOOKUP($I19,COTAÇÃO!$A$3:$I$4661,4,FALSE),IF($J19="COMP",VLOOKUP($I19,'Composições criadas'!$A$1:$H$656,4,FALSE),IF($J19="SINAPI",VLOOKUP($I19,SINAPI!$A$7:$D$12422,2,FALSE),IF(J19="SETOP",VLOOKUP($I19,SETOP!A:E,2,FALSE),"ERRO")))),"CÓDIGO DIGITADO INVÁLIDO") -> PREPARO DE FUNDO DE VALA COM LARGURA MENOR QUE 1,5 M (ACERTO DO SOLO NATURAL). AF_08/2020 | C19: =C13*0.6 -> 1434 | D19: M2 | E19: 8.8 | F19: =IF(M19=$N$8,$F$6,$H$6) -> 0.2594 | G19: =ROUND(E19*(1+F19),2) -> 11.08 | H19: =ROUND(C19*G19,2) -> 15888.72 | I19: 101616 | J19: SINAPI | N19: =L19*G19 -> 0 | O19: =M19*G19 -> 0 | P19: =C19+L19-M19 -> 1434 | Q19: =P19*G19 -> 15888.72 | S19: =R19*G19 -> 0 | U19: =T19*G19 -> 0 | W19: =V19*G19 -> 0 | Y19: =X19*G19 -> 0 | Z19: =R19+T19+V19+X19 -> 0 | AA19: =S19+U19+W19+Y19 -> 0 | AB19: =C19-Z19 -> 1434 | AC19: =AB19*G19 -> 15888.72
A20: 2.8. | B20: =IFERROR(IF($J20="COT",VLOOKUP($I20,COTAÇÃO!$A$3:$I$4661,4,FALSE),IF($J20="COMP",VLOOKUP($I20,'Composições criadas'!$A$1:$H$656,4,FALSE),IF($J20="SINAPI",VLOOKUP($I20,SINAPI!$A$7:$D$12422,2,FALSE),IF(J20="SETOP",VLOOKUP($I20,SETOP!A:E,2,FALSE),"ERRO")))),"CÓDIGO DIGITADO INVÁLIDO") -> TUBO PVC PBA JEI, CLASSE 20, DN 50 MM, PARA REDE DE AGUA (NBR 5647) | C20: =C13-160 -> 2230 | D20: M | E20: 30.04 | F20: 0.12 | G20: =ROUND(E20*(1+F20),2) -> 33.64 | H20: =ROUND(C20*G20,2) -> 75017.2 | I20: 36378 | J20: SINAPI | N20: =L20*G20 -> 0 | O20: =M20*G20 -> 0 | P20: =C20+L20-M20 -> 2230 | Q20: =P20*G20 -> 75017.2 | S20: =R20*G20 -> 0 | U20: =T20*G20 -> 0 | W20: =V20*G20 -> 0 | Y20: =X20*G20 -> 0 | Z20: =R20+T20+V20+X20 -> 0 | AA20: =S20+U20+W20+Y20 -> 0 | AB20: =C20-Z20 -> 2230 | AC20: =AB20*G20 -> 75017.2
A21: 2.9. | B21: =IFERROR(IF($J21="COT",VLOOKUP($I21,COTAÇÃO!$A$3:$I$4661,4,FALSE),IF($J21="COMP",VLOOKUP($I21,'Composições criadas'!$A$1:$H$656,4,FALSE),IF($J21="SINAPI",VLOOKUP($I21,SINAPI!$A$7:$D$12422,2,FALSE),IF(J21="SETOP",VLOOKUP($I21,SETOP!A:E,2,FALSE),"ERRO")))),"CÓDIGO DIGITADO INVÁLIDO") -> ASSENTAMENTO DE TUBO DE PVC PBA PARA REDE DE ÁGUA, DN 50 MM, JUNTA ELÁSTICA INTEGRADA, INSTALADO EM LOCAL COM NÍVEL ALTO DE INTERFERÊNCIAS (NÃO INCLUI FORNECIMENTO). AF_05/2024 | C21: =C20 -> 2230 | D21: M | E21: 3.38 | F21: =IF(M21=$N$8,$F$6,$H$6) -> 0.2594 | G21: =ROUND(E21*(1+F21),2) -> 4.26 | H21: =ROUND(C21*G21,2) -> 9499.8 | I21: 97121 | J21: SINAPI | N21: =L21*G21 -> 0 | O21: =M21*G21 -> 0 | P21: =C21+L21-M21 -> 2230 | Q21: =P21*G21 -> 9499.8 | S21: =R21*G21 -> 0 | U21: =T21*G21 -> 0 | W21: =V21*G21 -> 0 | Y21: =X21*G21 -> 0 | Z21: =R21+T21+V21+X21 -> 0 | AA21: =S21+U21+W21+Y21 -> 0 | AB21: =C21-Z21 -> 2230 | AC21: =AB21*G21 -> 9499.8
A22: 2.10. | B22: =IFERROR(IF($J22="COT",VLOOKUP($I22,COTAÇÃO!$A$3:$I$4661,4,FALSE),IF($J22="COMP",VLOOKUP($I22,'Composições criadas'!$A$1:$H$656,4,FALSE),IF($J22="SINAPI",VLOOKUP($I22,SINAPI!$A$7:$D$12422,2,FALSE),IF(J22="SETOP",VLOOKUP($I22,SETOP!A:E,2,FALSE),"ERRO")))),"CÓDIGO DIGITADO INVÁLIDO") -> TUBO PVC PBA JEI, CLASSE 20, DN 75 MM, PARA REDE DE AGUA (NBR 5647) | C22: 160 | D22: M | E22: 60.55 | F22: 0.12 | G22: =ROUND(E22*(1+F22),2) -> 67.82 | H22: =ROUND(C22*G22,2) -> 10851.2 | I22: 36379 | J22: SINAPI | N22: =L22*G22 -> 0 | O22: =M22*G22 -> 0 | P22: =C22+L22-M22 -> 160 | Q22: =P22*G22 -> 10851.2 | S22: =R22*G22 -> 0 | U22: =T22*G22 -> 0 | W22: =V22*G22 -> 0 | Y22: =X22*G22 -> 0 | Z22: =R22+T22+V22+X22 -> 0 | AA22: =S22+U22+W22+Y22 -> 0 | AB22: =C22-Z22 -> 160 | AC22: =AB22*G22 -> 10851.2
A23: 2.11. | B23: =IFERROR(IF($J23="COT",VLOOKUP($I23,COTAÇÃO!$A$3:$I$4661,4,FALSE),IF($J23="COMP",VLOOKUP($I23,'Composições criadas'!$A$1:$H$656,4,FALSE),IF($J23="SINAPI",VLOOKUP($I23,SINAPI!$A$7:$D$12422,2,FALSE),IF(J23="SETOP",VLOOKUP($I23,SETOP!A:E,2,FALSE),"ERRO")))),"CÓDIGO DIGITADO INVÁLIDO") -> ASSENTAMENTO DE TUBO DE PVC PBA PARA REDE DE ÁGUA, DN 75 MM, JUNTA ELÁSTICA INTEGRADA, INSTALADO EM LOCAL COM NÍVEL ALTO DE INTERFERÊNCIAS (NÃO INCLUI FORNECIMENTO). AF_05/2024 | C23: 160 | D23: M | E23: 4.07 | F23: =IF(M23=$N$8,$F$6,$H$6) -> 0.2594 | G23: =ROUND(E23*(1+F23),2) -> 5.13 | H23: =ROUND(C23*G23,2) -> 820.8 | I23: 97122 | J23: SINAPI | N23: =L23*G23 -> 0 | O23: =M23*G23 -> 0 | P23: =C23+L23-M23 -> 160 | Q23: =P23*G23 -> 820.8 | S23: =R23*G23 -> 0 | U23: =T23*G23 -> 0 | W23: =V23*G23 -> 0 | Y23: =X23*G23 -> 0 | Z23: =R23+T23+V23+X23 -> 0 | AA23: =S23+U23+W23+Y23 -> 0 | AB23: =C23-Z23 -> 160 | AC23: =AB23*G23 -> 820.8
A24: 2.12. | B24: =IFERROR(IF($J24="COT",VLOOKUP($I24,COTAÇÃO!$A$3:$I$4661,4,FALSE),IF($J24="COMP",VLOOKUP($I24,'Composições criadas'!$A$1:$H$656,4,FALSE),IF($J24="SINAPI",VLOOKUP($I24,SINAPI!$A$7:$D$12422,2,FALSE),IF(J24="SETOP",VLOOKUP($I24,SETOP!A:E,2,FALSE),"ERRO")))),"CÓDIGO DIGITADO INVÁLIDO") -> TUBO DE POLIETILENO DE ALTA DENSIDADE (PEAD), PE-80, DE = 20 MM X 2,3 MM DE PAREDE, PARA LIGACAO DE AGUA PREDIAL (NBR 15561) | C24: 2400 | D24: M | E24: 5.15 | F24: 0.12 | G24: =ROUND(E24*(1+F24),2) -> 5.77 | H24: =ROUND(C24*G24,2) -> 13848 | I24: 9813 | J24: SINAPI | N24: =L24*G24 -> 0 | O24: =M24*G24 -> 0 | P24: =C24+L24-M24 -> 2400 | Q24: =P24*G24 -> 13848 | S24: =R24*G24 -> 0 | U24: =T24*G24 -> 0 | W24: =V24*G24 -> 0 | Y24: =X24*G24 -> 0 | Z24: =R24+T24+V24+X24 -> 0 | AA24: =S24+U24+W24+Y24 -> 0 | AB24: =C24-Z24 -> 2400 | AC24: =AB24*G24 -> 13848
A25: 2.13. | B25: =IFERROR(IF($J25="COT",VLOOKUP($I25,COTAÇÃO!$A$3:$I$4661,4,FALSE),IF($J25="COMP",VLOOKUP($I25,'Composições criadas'!$A$1:$H$656,4,FALSE),IF($J25="SINAPI",VLOOKUP($I25,SINAPI!$A$7:$D$12422,2,FALSE),IF(J25="SETOP",VLOOKUP($I25,SETOP!A:E,2,FALSE),"ERRO")))),"CÓDIGO DIGITADO INVÁLIDO") -> RAMAL DOMICILIAR DE ÁGUA EM TUBO PEAD 20MM, INSTALAÇÃO, INCLUINDO ESCAVAÇÃO E REATERRO, EXCLUSIVE TUBO PEAD | C25: 2400 | D25: M | E25: 41.29 | F25: =IF(M25=$N$8,$F$6,$H$6) -> 0.2594 | G25: =ROUND(E25*(1+F25),2) -> 52 | H25: =ROUND(C25*G25,6) -> 124800 | I25: CC3 | J25: COMP | N25: =L25*G25 -> 0 | O25: =M25*G25 -> 0 | P25: =C25+L25-M25 -> 2400 | Q25: =P25*G25 -> 124800 | S25: =R25*G25 -> 0 | U25: =T25*G25 -> 0 | W25: =V25*G25 -> 0 | Y25: =X25*G25 -> 0 | Z25: =R25+T25+V25+X25 -> 0 | AA25: =S25+U25+W25+Y25 -> 0 | AB25: =C25-Z25 -> 2400 | AC25: =AB25*G25 -> 124800
A26: 2.14. | B26: =IFERROR(IF($J26="COT",VLOOKUP($I26,COTAÇÃO!$A$3:$I$4661,4,FALSE),IF($J26="COMP",VLOOKUP($I26,'Composições criadas'!$A$1:$H$656,4,FALSE),IF($J26="SINAPI",VLOOKUP($I26,SINAPI!$A$7:$D$12422,2,FALSE),IF(J26="SETOP",VLOOKUP($I26,SETOP!A:E,2,FALSE),"ERRO")))),"CÓDIGO DIGITADO INVÁLIDO") -> SERVIÇO DE LIGAÇÃO DOMICILIAR DE ÁGUA - REDE AO RAMAL / RAMAL AO PADRÃO - PADRÃO SAE | C26: 238 | D26: UN | E26: 13.95 | F26: =IF(M26=$N$8,$F$6,$H$6) -> 0.2594 | G26: =ROUND(E26*(1+F26),2) -> 17.57 | H26: =ROUND(C26*G26,2) -> 4181.66 | I26: CC4 | J26: COMP | N26: =L26*G26 -> 0 | O26: =M26*G26 -> 0 | P26: =C26+L26-M26 -> 238 | Q26: =P26*G26 -> 4181.66 | S26: =R26*G26 -> 0 | U26: =T26*G26 -> 0 | W26: =V26*G26 -> 0 | Y26: =X26*G26 -> 0 | Z26: =R26+T26+V26+X26 -> 0 | AA26: =S26+U26+W26+Y26 -> 0 | AB26: =C26-Z26 -> 238 | AC26: =AB26*G26 -> 4181.66
A27: 2.15. | B27: =IFERROR(IF($J27="COT",VLOOKUP($I27,COTAÇÃO!$A$3:$I$4661,4,FALSE),IF($J27="COMP",VLOOKUP($I27,'Composições criadas'!$A$1:$H$656,4,FALSE),IF($J27="SINAPI",VLOOKUP($I27,SINAPI!$A$7:$D$12422,2,FALSE),IF(J27="SETOP",VLOOKUP($I27,SETOP!A:E,2,FALSE),"ERRO")))),"CÓDIGO DIGITADO INVÁLIDO") -> TE DE SERVICO INTEGRADO, EM POLIPROPILENO (PP), PARA TUBOS EM PEAD/PVC, 60 X 20 MM - LIGACAO PREDIAL DE AGUA | C27: 238 | D27: UN | E27: 60.59 | F27: 0.12 | G27: =ROUND(E27*(1+F27),2) -> 67.86 | H27: =ROUND(C27*G27,2) -> 16150.68 | I27: 37420 | J27: SINAPI
A28: 2.16. | B28: =IFERROR(IF($J28="COT",VLOOKUP($I28,COTAÇÃO!$A$3:$I$4661,4,FALSE),IF($J28="COMP",VLOOKUP($I28,'Composições criadas'!$A$1:$H$656,4,FALSE),IF($J28="SINAPI",VLOOKUP($I28,SINAPI!$A$7:$D$12422,2,FALSE),IF(J28="SETOP",VLOOKUP($I28,SETOP!A:E,2,FALSE),"ERRO")))),"CÓDIGO DIGITADO INVÁLIDO") -> ADAPTADOR CURTO COM BOLSA E ROSCA PARA REGISTRO, PVC, SOLDÁVEL, DN 20MM X 1/2 , INSTALADO EM RAMAL OU SUB-RAMAL DE ÁGUA - FORNECIMENTO E INSTALAÇÃO. AF_06/2022 | C28: 238 | D28: UN | E28: 6.6 | F28: 0.12 | G28: =ROUND(E28*(1+F28),2) -> 7.39 | H28: =ROUND(C28*G28,2) -> 1758.82 | I28: 89376 | J28: SINAPI
A29: 2.17. | B29: =IFERROR(IF($J29="COT",VLOOKUP($I29,COTAÇÃO!$A$3:$I$4661,4,FALSE),IF($J29="COMP",VLOOKUP($I29,'Composições criadas'!$A$1:$H$656,4,FALSE),IF($J29="SINAPI",VLOOKUP($I29,SINAPI!$A$7:$D$12422,2,FALSE),IF(J29="SETOP",VLOOKUP($I29,SETOP!A:E,2,FALSE),"ERRO")))),"CÓDIGO DIGITADO INVÁLIDO") -> LUVA COM BUCHA DE LATÃO, PVC, SOLDÁVEL, DN 20MM X 1/2", INSTALADO EM RAMAL OU SUB-RAMAL DE ÁGUA - FORNECIMENTO E INSTALAÇÃO. AF_06/2022 | C29: 238 | D29: UN | E29: 11.13 | F29: 0.12 | G29: =ROUND(E29*(1+F29),2) -> 12.47 | H29: =ROUND(C29*G29,2) -> 2967.86 | I29: 89374 | J29: SINAPI
