Workbook
Name ___sub1: #REF!
Name ___sub1: #REF!
Name ___sub1: #REF!
Name ___sub1: #REF!
Name ___sub1: #REF!
Name ___sub1: #REF!
Name ___sub2: #REF!
Name ___sub2: #REF!
Name ___sub2: #REF!
Name ___sub2: #REF!
Name ___sub2: #REF!
Name ___sub2: #REF!
Name ___sub3: #REF!
Name ___sub3: #REF!
Name ___sub3: #REF!
Name ___sub3: #REF!
Name ___sub3: #REF!
Name ___sub3: #REF!
Name _sub1: #REF!
Name _sub1: #REF!
Name _sub1: #REF!
Name _sub1: #REF!
Name _sub1: #REF!
Name _sub1: #REF!
Name _sub2: #REF!
Name _sub2: #REF!
Name _sub2: #REF!
Name _sub2: #REF!
Name _sub2: #REF!
Name _sub2: #REF!
Name _sub3: #REF!
Name _sub3: #REF!
Name _sub3: #REF!
Name _sub3: #REF!
Name _sub3: #REF!
Name _sub3: #REF!
Name a: #REF!
Name a: #REF!
Name a: #REF!
Name a: #REF!
Name a: #REF!
Name a: #REF!
Name AA: {#N/A,#N/A,FALSE,"ALVENARIA";#N/A,#N/A,FALSE,"BLOCOS";#N/A,#N/A,FALSE,"CINTAS";#N/A,#N/A,FALSE,"CORTINA";#N/A,#N/A,FALSE,"LAJES";#N/A,#N/A,FALSE,"PILARES";#N/A,#N/A,FALSE,"VIGAS"}
Name AA: {#N/A,#N/A,FALSE,"ALVENARIA";#N/A,#N/A,FALSE,"BLOCOS";#N/A,#N/A,FALSE,"CINTAS";#N/A,#N/A,FALSE,"CORTINA";#N/A,#N/A,FALSE,"LAJES";#N/A,#N/A,FALSE,"PILARES";#N/A,#N/A,FALSE,"VIGAS"}
Name AA: {#N/A,#N/A,FALSE,"ALVENARIA";#N/A,#N/A,FALSE,"BLOCOS";#N/A,#N/A,FALSE,"CINTAS";#N/A,#N/A,FALSE,"CORTINA";#N/A,#N/A,FALSE,"LAJES";#N/A,#N/A,FALSE,"PILARES";#N/A,#N/A,FALSE,"VIGAS"}
Name AA: {#N/A,#N/A,FALSE,"ALVENARIA";#N/A,#N/A,FALSE,"BLOCOS";#N/A,#N/A,FALSE,"CINTAS";#N/A,#N/A,FALSE,"CORTINA";#N/A,#N/A,FALSE,"LAJES";#N/A,#N/A,FALSE,"PILARES";#N/A,#N/A,FALSE,"VIGAS"}
Name AA: {#N/A,#N/A,FALSE,"ALVENARIA";#N/A,#N/A,FALSE,"BLOCOS";#N/A,#N/A,FALSE,"CINTAS";#N/A,#N/A,FALSE,"CORTINA";#N/A,#N/A,FALSE,"LAJES";#N/A,#N/A,FALSE,"PILARES";#N/A,#N/A,FALSE,"VIGAS"}
Name AA: {#N/A,#N/A,FALSE,"ALVENARIA";#N/A,#N/A,FALSE,"BLOCOS";#N/A,#N/A,FALSE,"CINTAS";#N/A,#N/A,FALSE,"CORTINA";#N/A,#N/A,FALSE,"LAJES";#N/A,#N/A,FALSE,"PILARES";#N/A,#N/A,FALSE,"VIGAS"}
Name AA: {#N/A,#N/A,FALSE,"ALVENARIA";#N/A,#N/A,FALSE,"BLOCOS";#N/A,#N/A,FALSE,"CINTAS";#N/A,#N/A,FALSE,"CORTINA";#N/A,#N/A,FALSE,"LAJES";#N/A,#N/A,FALSE,"PILARES";#N/A,#N/A,FALSE,"VIGAS"}
Name AA: {#N/A,#N/A,FALSE,"ALVENARIA";#N/A,#N/A,FALSE,"BLOCOS";#N/A,#N/A,FALSE,"CINTAS";#N/A,#N/A,FALSE,"CORTINA";#N/A,#N/A,FALSE,"LAJES";#N/A,#N/A,FALSE,"PILARES";#N/A,#N/A,FALSE,"VIGAS"}
Name AA: {#N/A,#N/A,FALSE,"ALVENARIA";#N/A,#N/A,FALSE,"BLOCOS";#N/A,#N/A,FALSE,"CINTAS";#N/A,#N/A,FALSE,"CORTINA";#N/A,#N/A,FALSE,"LAJES";#N/A,#N/A,FALSE,"PILARES";#N/A,#N/A,FALSE,"VIGAS"}
Name AA: {#N/A,#N/A,FALSE,"ALVENARIA";#N/A,#N/A,FALSE,"BLOCOS";#N/A,#N/A,FALSE,"CINTAS";#N/A,#N/A,FALSE,"CORTINA";#N/A,#N/A,FALSE,"LAJES";#N/A,#N/A,FALSE,"PILARES";#N/A,#N/A,FALSE,"VIGAS"}
Name AREA: #REF!
Name AREA: #REF!
Name AREA: #REF!
Name AREA: #REF!
Name AREA: #REF!
Name AREA: #REF!
Name B: #REF!
Name B: #REF!

Sheet BDI
B4: COMPOSIÇÃO DO BDI - OBRA RODOVIÁRIA
B6: Grupo A | C6: Despesas indiretas
B7: A.1 | C7: Administração central (AC) | D7: 0.0401
B8: A.2 | C8: Seguros (S) + Garantia (G) | D8: 0.004
B9: A.3 | C9: Risco (R) | D9: 0.0056
C10: Total do grupo A: | D10: =SUM(D7:D9) -> 0.0497
B12: Grupo B | C12: Bonificação
B13: B.1 | C13: Lucro (L) | D13: 0.073
C14: Total do grupo B: | D14: =SUM(D13) -> 0.073
B16: Grupo C | C16: Impostos (I)
B17: C.1 | C17: PIS | D17: 0.0065
B18: C.2 | C18: COFINS | D18: 0.03
B19: C.3 | C19: ISSQN (Valor estipulado pela Prefeitura - entre 2 a 5%) | D19: 0.03
B20: C.4 | C20: CPRB | D20: -
C21: Total do grupo C: | D21: =SUM(D17:D20) -> 0.0665
B23: Grupo D | C23: Despesas Financeiras (DF)
B24: D.1 | C24: Despesas Financeiras | D24: 0.0111
C25: Total do grupo D: | D25: =SUM(D24) -> 0.0111
B27: BDI: | D27: =ROUND(((1+(D7+D8+D9))*(1+D25)*(1+D14)/(1-D21))-1,4) -> 0.22
B32: _______________________________
C33: Luiz Felipe Sarti Neves
C34: Engenheiro Civil
C35: CREA/MG Nº: 396.696/D

Sheet PLANILHA ORÇAMENTÁRIA
A2: PLANILHA ORÇAMENTÁRIA DE CUSTOS
A3: PROPONENTE/TOMADOR: PREFEITURA MUNICIPAL DE PONTE NOVA | F3: FOLHA Nº: | H3: 01/01.
A4: OBJETO: EXECUÇÃO DE OBRAS DE PAVIMENTAÇÃO ASFÁLTICA EM CBUQ EM VIAS PÚBLICAS | F4: DATA: | H4: =TODAY() -> 46290
A5: LOCAL: VIAS URBANAS DO MUNICÍPIO DE PONTE NOVA/MG | F5: FORMA DE EXECUÇÃO:
A6: REGIÃO/MÊS DE REFERÊNCIA: TABELA SINAPI-MG - AGOSTO/2026 - SEM DESONERAÇÃO / TABELA SICOR/SEINFRA - REGIÃO LESTE - ABRIL/2026 - SEM DESONERAÇÃO / TABELA SUDECAP-MG - JULHO/2026 - SEM DESONERAÇÃO / TABELA SICRO/DNIT MG - ABRIL/2026 - SEM DESONERAÇÃO | F6: ( ) | G6: DIRETA | H6: ( X ) | I6: INDIRETA
A7: COMPOSIÇÃO DE BDI - EM ANEXO, OBTIDO DO ACÓRDÃO 2622/2013, DO TRIBUNAL DE CONTAS DA UNIÃO - TCU (CONSTRUÇÃO DE RODOVIAS E FERROVIAS) - QUARTIL MÉDIO. | F7: % ISS MUNICIPAL: | G7: 0.03 | H7: BDI: | I7: =BDI!D27 -> 0.22
H8: BDI DIFERENC.: | I8: -
A10: Item | B10: Fonte | C10: Código | D10: Descrição | E10: Unidade | F10: Quantidade | G10: Custo Unitário (sem BDI) (R$) | H10: Preço Unitário (com BDI) (R$) | I10: Preço Total (R$)
A11: Lote 01: Execução de Revestimento Asfáltico e Drenagem Superficial em Vias Urbanas | I11: =SUM(I13,I17,I26,I32) -> 185175.52
A12: 1. | D12: R. Tiradentes, Esplanada
A13: 1.1. | D13: SERVIÇOS PRELIMINARES | I13: =SUM(I14:I16) -> 3688.26
A14: 1.1.1. | B14: SINAPI | C14: 103689 | D14: FORNECIMENTO E INSTALAÇÃO DE PLACA DE OBRA COM CHAPA GALVANIZADA E ESTRUTURA DE MADEIRA. AF_03/2022_PS | E14: M2 | F14: ='MEMORIAL DE CÁLCULO'!F14 -> 2.4 | G14: 384.33 | H14: =ROUND(G14+(G14*$I$7),2) -> 468.88 | I14: =ROUND((F14*H14),2) -> 1125.31
A15: 1.1.2. | B15: SICOR/ SEINFRA | C15: ED-50155 | D15: LOCAÇÃO DE BANHEIRO QUÍMICO, DIMENSÃO (110X120X230)CM, LINHA PADRÃO, CONTENDO UMA (1) PIA/HIGIENIZADOR DE MÃOS, INCLUSIVE MANUTENÇÃO E MOBILIZAÇÃO/DESMOBILIZAÇÃO | E15: MÊS | F15: ='MEMORIAL DE CÁLCULO'!F15 -> 2 | G15: 980 | H15: =ROUND(G15+(G15*$I$7),2) -> 1195.6 | I15: =ROUND((F15*H15),2) -> 2391.2
A16: 1.1.3. | B16: SICOR/ SEINFRA | C16: ED-27006 | D16: CONE PARA SINALIZAÇÃO/ISOLAMENTO DE ÁREAS, ALTURA 75CM, INCLUSIVE FORNECIMENTO E MOVIMENTAÇÃO | E16: U | F16: ='MEMORIAL DE CÁLCULO'!F16 -> 25 | G16: 5.63 | H16: =ROUND(G16+(G16*$I$7),2) -> 6.87 | I16: =ROUND((F16*H16),2) -> 171.75
A17: 1.2. | D17: SERVIÇOS EM TERRA E REMOÇÕES | I17: =SUM(I18:I25) -> 9776.58
A18: 1.2.1. | B18: SICOR/ SEINFRA | C18: ED-50701 | D18: CAPINA MANUAL DO TERRENO, EXCLUSIVE RASTELAMENTO E QUEIMA | E18: M2 | F18: ='MEMORIAL DE CÁLCULO'!F18 -> 934.121 | G18: 1.66 | H18: =ROUND(G18+(G18*$I$7),2) -> 2.03 | I18: =ROUND((F18*H18),2) -> 1896.27
A19: 1.2.2. | B19: SICRO/DNIT | C19: 4011212 | D19: VARREDURA DA SUPERFÍCIE PARA EXECUÇÃO DE REVESTIMENTO ASFÁLTICO | E19: M2 | F19: ='MEMORIAL DE CÁLCULO'!F19 -> 934.121 | G19: 0.09 | H19: =ROUND(G19+(G19*$I$7),2) -> 0.11 | I19: =ROUND((F19*H19),2) -> 102.75
A20: 1.2.3. | B20: SINAPI | C20: 106167 | D20: LIMPEZA DE RUA COM CAMINHÃO PIPA. AF_10/2025 | E20: M2 | F20: ='MEMORIAL DE CÁLCULO'!F20 -> 934.121 | G20: 0.08 | H20: =ROUND(G20+(G20*$I$7),2) -> 0.1 | I20: =ROUND((F20*H20),2) -> 93.41
A21: 1.2.4. | B21: SICOR/ SEINFRA | C21: ED-51131 | D21: CARGA MANUAL DE MATERIAL DE QUALQUER NATUREZA SOBRE CAMINHÃO, EXCLUSIVE TRANSPORTE | E21: M3 | F21: ='MEMORIAL DE CÁLCULO'!F21 -> 46.70605 | G21: 49.78 | H21: =ROUND(G21+(G21*$I$7),2) -> 60.73 | I21: =ROUND((F21*H21),2) -> 2836.46
A22: 1.2.5. | B22: SINAPI | C22: 104790 | D22: DEMOLIÇÃO DE PISO DE CONCRETO SIMPLES, DE FORMA MECANIZADA COM MARTELETE, SEM REAPROVEITAMENTO. AF_09/2023 | E22: M3 | F22: ='MEMORIAL DE CÁLCULO'!F22 -> 20.3299 | G22: 120.1 | H22: =ROUND(G22+(G22*$I$7),2) -> 146.52 | I22: =ROUND((F22*H22),2) -> 2978.74
A23: 1.2.6. | B23: SICOR/ SEINFRA | C23: ED-48492 | D23: DEMOLIÇÃO MECANIZADA DE REVESTIMENTO ASFÁLTICO, COM EQUIPAMENTO PNEUMÁTICO, INCLUSIVE AFASTAMENTO E EMPILHAMENTO, EXCLUSIVE TRANSPORTE E RETIRADA DO MATERIAL DEMOLIDO | E23: M2 | F23: ='MEMORIAL DE CÁLCULO'!F23 -> 2.3604 | G23: 11.35 | H23: =ROUND(G23+(G23*$I$7),2) -> 13.85 | I23: =ROUND((F23*H23),2) -> 32.69
A24: 1.2.7. | B24: SICOR/ SEINFRA | C24: ED-51132 | D24: CARGA MECÂNICA DE MATERIAL DE QUALQUER NATUREZA SOBRE CAMINHÃO, EXCLUSIVE TRANSPORTE | E24: M3 | F24: ='MEMORIAL DE CÁLCULO'!F24 -> 22.6903 | G24: 3.54 | H24: =ROUND(G24+(G24*$I$7),2) -> 4.32 | I24: =ROUND((F24*H24),2) -> 98.02
A25: 1.2.8. | B25: SINAPI | C25: 97914 | D25: TRANSPORTE COM CAMINHÃO BASCULANTE DE 6 M³, EM VIA URBANA PAVIMENTADA, DMT ATÉ 30 KM (UNIDADE: M3XKM). AF_02/2026 | E25: M3XKM | F25: ='MEMORIAL DE CÁLCULO'!F25 -> 430.25737 | G25: 3.31 | H25: =ROUND(G25+(G25*$I$7),2) -> 4.04 | I25: =ROUND((F25*H25),2) -> 1738.24
A26: 1.3. | D26: SERVIÇOS DE PAVIMENTAÇÃO ASFÁLTICA | I26: =SUM(I27:I31) -> 140350.27
A27: 1.3.1. | B27: SUDECAP | C27: 20.12.01 | D27: PINTURA DE LIGAÇÃO COM RR-1C | E27: M2 | F27: ='MEMORIAL DE CÁLCULO'!F27 -> 1623.0702 | G27: 2.66 | H27: =ROUND(G27+(G27*$I$7),2) -> 3.25 | I27: =ROUND((F27*H27),2) -> 5274.98
A28: 1.3.2. | B28: SINAPI | C28: 102332 | D28: TRANSPORTE COM CAMINHÃO TANQUE DE TRANSPORTE DE MATERIAL ASFÁLTICO DE 20000L, EM VIA URBANA PAVIMENTADA, DMT ATÉ 30KM (UNIDADE: TXKM). AF_07/2020 | E28: TXKM | F28: ='MEMORIAL DE CÁLCULO'!F28 -> 43.822895 | G28: 2.02 | H28: =ROUND(G28+(G28*$I$7),2) -> 2.46 | I28: =ROUND((F28*H28),2) -> 107.8
A29: 1.3.3. | B29: SINAPI | C29: 102333 | D29: TRANSPORTE COM CAMINHÃO TANQUE DE TRANSPORTE DE MATERIAL ASFÁLTICO DE 20000L, EM VIA URBANA PAVIMENTADA, ADICIONAL PARA DMT EXCEDENTE A 30 KM (UNIDADE: TXKM). AF_07/2020 | E29: TXKM | F29: ='MEMORIAL DE CÁLCULO'!F29 -> 28.966934 | G29: 0.77 | H29: =ROUND(G29+(G29*$I$7),2) -> 0.94 | I29: =ROUND((F29*H29),2) -> 27.23
A30: 1.3.4. | B30: SINAPI | C30: 95995 | D30: EXECUÇÃO DE PAVIMENTO COM APLICAÇÃO DE CONCRETO ASFÁLTICO, CAMADA DE ROLAMENTO - EXCLUSIVE CARGA E TRANSPORTE. AF_10/2025 | E30: M3 | F30: ='MEMORIAL DE CÁLCULO'!F30 -> 48.692106 | G30: 2152.94 | H30: =ROUND(G30+(G30*$I$7),2) -> 2626.59 | I30: =ROUND((F30*H30),2) -> 127894.2
A31: 1.3.5. | B31: SICRO/DNIT | C31: 5914612 | D31: TRANSPORTE DE MISTURA BETUMINOSA A QUENTE COM CAMINHÃO COM CAÇAMBA TÉRMICA DE 6 M³ - RODOVIA PAVIMENTADA | E31: TXKM | F31: ='MEMORIAL DE CÁLCULO'!F31 -> 5823.1863 | G31: 0.99 | H31: =ROUND(G31+(G31*$I$7),2) -> 1.21 | I31: =ROUND((F31*H31),2) -> 7046.06
A32: 1.4. | D32: SERVIÇOS DE DRENAGEM SUPERFICIAL | I32: =SUM(I33:I35) -> 31360.41
A33: 1.4.1. | B33: SICOR/ SEINFRA | C33: ED-51141 | D33: GUIA DE MEIO-FIO, EM CONCRETO COM FCK 15MPA, MOLDADA INLOCO, SEÇÃO 15X45CM, FORMA EM MADEIRA, EXCLUSIVE SARJETA, INCLUSIVE ESCAVAÇÃO, APILOAMENTO E TRANSPORTE COM RETIRADA DO MATERIAL ESCAVADO (EM CAÇAMBA) | E33: M | F33: ='MEMORIAL DE CÁLCULO'!F33 -> 80 | G33: 147.61 | H33: =ROUND(G33+(G33*$I$7),2) -> 180.08 | I33: =ROUND((F33*H33),2) -> 14406.4
A34: 1.4.2. | B34: SUDECAP | C34: 19.22.04 | D34: ALTEAMENTO DE TAMPÃO DE POÇO DE VISITA EM ATÉ 20CM | E34: U | F34: ='MEMORIAL DE CÁLCULO'!F34 -> 2 | G34: 441.06 | H34: =ROUND(G34+(G34*$I$7),2) -> 538.09 | I34: =ROUND((F34*H34),2) -> 1076.18
A35: 1.4.3. | B35: SINAPI | C35: 94289 | D35: EXECUÇÃO DE SARJETA DE CONCRETO USINADO, MOLDADA IN LOCO EM TRECHO RETO, 45 CM BASE X 10 CM ALTURA. AF_01/2024 | E35: M | F35: ='MEMORIAL DE CÁLCULO'!F35 -> 275.609 | G35: 47.22 | H35: =ROUND(G35+(G35*$I$7),2) -> 57.61 | I35: =ROUND((F35*H35),2) -> 15877.83
A37: Lote 02: Execução de Revestimento Asfáltico e Drenagem Superficial em Vias Urbanas, com Execução de Base e Sub-base | I37: =SUM(I39,I43,I59,I68) -> 156149.13
A38: 1. | D38: R. Waldemar Gomes da Silva, Triângulo Novo
A39: 1.1. | D39: SERVIÇOS PRELIMINARES | I39: =SUM(I40:I42) -> 4883.86
A40: 1.1.1. | B40: SINAPI | C40: 103689 | D40: FORNECIMENTO E INSTALAÇÃO DE PLACA DE OBRA COM CHAPA GALVANIZADA E ESTRUTURA DE MADEIRA. AF_03/2022_PS | E40: M2 | F40: ='MEMORIAL DE CÁLCULO'!F40 -> 2.4 | G40: 384.33 | H40: =ROUND(G40+(G40*$I$7),2) -> 468.88 | I40: =ROUND((F40*H40),2) -> 1125.31
A41: 1.1.2. | B41: SICOR/ SEINFRA | C41: ED-50155 | D41: LOCAÇÃO DE BANHEIRO QUÍMICO, DIMENSÃO (110X120X230)CM, LINHA PADRÃO, CONTENDO UMA (1) PIA/HIGIENIZADOR DE MÃOS, INCLUSIVE MANUTENÇÃO E MOBILIZAÇÃO/DESMOBILIZAÇÃO | E41: MÊS | F41: ='MEMORIAL DE CÁLCULO'!F41 -> 3 | G41: 980 | H41: =ROUND(G41+(G41*$I$7),2) -> 1195.6 | I41: =ROUND((F41*H41),2) -> 3586.8
A42: 1.1.3. | B42: SICOR/ SEINFRA | C42: ED-27006 | D42: CONE PARA SINALIZAÇÃO/ISOLAMENTO DE ÁREAS, ALTURA 75CM, INCLUSIVE FORNECIMENTO E MOVIMENTAÇÃO | E42: U | F42: ='MEMORIAL DE CÁLCULO'!F42 -> 25 | G42: 5.63 | H42: =ROUND(G42+(G42*$I$7),2) -> 6.87 | I42: =ROUND((F42*H42),2) -> 171.75
A43: 1.2. | D43: SERVIÇOS EM TERRA E REMOÇÕES | I43: =SUM(I44:I58) -> 34261.07
...

Sheet MEMORIAL DE CÁLCULO
A2: MEMORIAL DE CÁLCULO
A3: PROPONENTE/TOMADOR: PREFEITURA MUNICIPAL DE PONTE NOVA | F3: FOLHA Nº: | H3: 01/01.
A4: OBJETO: EXECUÇÃO DE OBRAS DE PAVIMENTAÇÃO ASFÁLTICA EM CBUQ EM VIAS PÚBLICAS | F4: DATA: | H4: =TODAY() -> 46290
A5: LOCAL: VIAS URBANAS DO MUNICÍPIO DE PONTE NOVA/MG | F5: FORMA DE EXECUÇÃO:
A6: REGIÃO/MÊS DE REFERÊNCIA: TABELA SINAPI-MG - AGOSTO/2026 - SEM DESONERAÇÃO / TABELA SICOR/SEINFRA - REGIÃO LESTE - ABRIL/2026 - SEM DESONERAÇÃO / TABELA SUDECAP-MG - JULHO/2026 - SEM DESONERAÇÃO / TABELA SICRO/DNIT MG - ABRIL/2026 - SEM DESONERAÇÃO | F6: ( ) | G6: DIRETA | H6: ( X ) | I6: INDIRETA
A7: COMPOSIÇÃO DE BDI - EM ANEXO, OBTIDO DO ACÓRDÃO 2622/2013, DO TRIBUNAL DE CONTAS DA UNIÃO - TCU (CONSTRUÇÃO DE RODOVIAS E FERROVIAS) - QUARTIL MÉDIO. | F7: % ISS MUNICIPAL: | G7: 0.03 | H7: BDI: | I7: =BDI!D27 -> 0.22
H8: BDI DIFERENC.: | I8: -
A10: Item | B10: Fonte | C10: Código | D10: Descrição | E10: Unidade | F10: Quantidade | G10: Fórmula do Cálculo
A11: Lote 01: Execução de Revestimento Asfáltico e Drenagem Superficial em Vias Urbanas
A12: ='PLANILHA ORÇAMENTÁRIA'!A12 -> 1. | D12: ='PLANILHA ORÇAMENTÁRIA'!D12 -> R. Tiradentes, Esplanada
A13: ='PLANILHA ORÇAMENTÁRIA'!A13 -> 1.1. | D13: ='PLANILHA ORÇAMENTÁRIA'!D13 -> SERVIÇOS PRELIMINARES
A14: ='PLANILHA ORÇAMENTÁRIA'!A14 -> 1.1.1. | B14: ='PLANILHA ORÇAMENTÁRIA'!B14 -> SINAPI | C14: ='PLANILHA ORÇAMENTÁRIA'!C14 -> 103689 | D14: ='PLANILHA ORÇAMENTÁRIA'!D14 -> FORNECIMENTO E INSTALAÇÃO DE PLACA DE OBRA COM CHAPA GALVANIZADA E ESTRUTURA DE MADEIRA. AF_03/2022_PS | E14: ='PLANILHA ORÇAMENTÁRIA'!E14 -> M2 | F14: =2*1.2 -> 2.4 | G14: Uma placa, conforme padrão exigido pelo município. ▪ Largura (L) = 2,00m ▪ Altura (A) = 1,20m ▪ Área - [L*A] = 2,40m²
A15: ='PLANILHA ORÇAMENTÁRIA'!A15 -> 1.1.2. | B15: ='PLANILHA ORÇAMENTÁRIA'!B15 -> SICOR/ SEINFRA | C15: ='PLANILHA ORÇAMENTÁRIA'!C15 -> ED-50155 | D15: ='PLANILHA ORÇAMENTÁRIA'!D15 -> LOCAÇÃO DE BANHEIRO QUÍMICO, DIMENSÃO (110X120X230)CM, LINHA PADRÃO, CONTENDO UMA (1) PIA/HIGIENIZADOR DE MÃOS, INCLUSIVE MANUTENÇÃO E MOBILIZAÇÃO/DESMOBILIZAÇÃO | E15: ='PLANILHA ORÇAMENTÁRIA'!E15 -> MÊS | F15: 2 | G15: Locação conforme o tempo estipulado para execução da obra (2 meses)
A16: ='PLANILHA ORÇAMENTÁRIA'!A16 -> 1.1.3. | B16: ='PLANILHA ORÇAMENTÁRIA'!B16 -> SICOR/ SEINFRA | C16: ='PLANILHA ORÇAMENTÁRIA'!C16 -> ED-27006 | D16: ='PLANILHA ORÇAMENTÁRIA'!D16 -> CONE PARA SINALIZAÇÃO/ISOLAMENTO DE ÁREAS, ALTURA 75CM, INCLUSIVE FORNECIMENTO E MOVIMENTAÇÃO | E16: ='PLANILHA ORÇAMENTÁRIA'!E16 -> U | F16: 25 | G16: Sinalização/isolamento do local durante a execução da obra (25 unidades)
A17: ='PLANILHA ORÇAMENTÁRIA'!A17 -> 1.2. | D17: ='PLANILHA ORÇAMENTÁRIA'!D17 -> SERVIÇOS EM TERRA E REMOÇÕES
A18: ='PLANILHA ORÇAMENTÁRIA'!A18 -> 1.2.1. | B18: ='PLANILHA ORÇAMENTÁRIA'!B18 -> SICOR/ SEINFRA | C18: ='PLANILHA ORÇAMENTÁRIA'!C18 -> ED-50701 | D18: ='PLANILHA ORÇAMENTÁRIA'!D18 -> CAPINA MANUAL DO TERRENO, EXCLUSIVE RASTELAMENTO E QUEIMA | E18: ='PLANILHA ORÇAMENTÁRIA'!E18 -> M2 | F18: 934.121 | G18: Área da via adotada, conforme metragem do AutoCAD (Levantamento Planialtimétrico). A = 934,12 m²
A19: ='PLANILHA ORÇAMENTÁRIA'!A19 -> 1.2.2. | B19: ='PLANILHA ORÇAMENTÁRIA'!B19 -> SICRO/DNIT | C19: ='PLANILHA ORÇAMENTÁRIA'!C19 -> 4011212 | D19: ='PLANILHA ORÇAMENTÁRIA'!D19 -> VARREDURA DA SUPERFÍCIE PARA EXECUÇÃO DE REVESTIMENTO ASFÁLTICO | E19: ='PLANILHA ORÇAMENTÁRIA'!E19 -> M2 | F19: 934.121 | G19: Área da via adotada, conforme metragem do AutoCAD (Levantamento Planialtimétrico). A = 934,12 m²
A20: ='PLANILHA ORÇAMENTÁRIA'!A20 -> 1.2.3. | B20: ='PLANILHA ORÇAMENTÁRIA'!B20 -> SINAPI | C20: ='PLANILHA ORÇAMENTÁRIA'!C20 -> 106167 | D20: ='PLANILHA ORÇAMENTÁRIA'!D20 -> LIMPEZA DE RUA COM CAMINHÃO PIPA. AF_10/2025 | E20: ='PLANILHA ORÇAMENTÁRIA'!E20 -> M2 | F20: 934.121 | G20: Área da via adotada, conforme metragem do AutoCAD (Levantamento Planialtimétrico). A = 934,12 m²
A21: ='PLANILHA ORÇAMENTÁRIA'!A21 -> 1.2.4. | B21: ='PLANILHA ORÇAMENTÁRIA'!B21 -> SICOR/ SEINFRA | C21: ='PLANILHA ORÇAMENTÁRIA'!C21 -> ED-51131 | D21: ='PLANILHA ORÇAMENTÁRIA'!D21 -> CARGA MANUAL DE MATERIAL DE QUALQUER NATUREZA SOBRE CAMINHÃO, EXCLUSIVE TRANSPORTE | E21: ='PLANILHA ORÇAMENTÁRIA'!E21 -> M3 | F21: =F18*0.05 -> 46.70605 | G21: ▪ Área da via (A) = 934,1210 m² ▪ Espessura média dos resíduos de capina (E) = 0,05m ▪ Cálculo - V = [A*E] = 46,71 m³
A22: ='PLANILHA ORÇAMENTÁRIA'!A22 -> 1.2.5. | B22: ='PLANILHA ORÇAMENTÁRIA'!B22 -> SINAPI | C22: ='PLANILHA ORÇAMENTÁRIA'!C22 -> 104790 | D22: ='PLANILHA ORÇAMENTÁRIA'!D22 -> DEMOLIÇÃO DE PISO DE CONCRETO SIMPLES, DE FORMA MECANIZADA COM MARTELETE, SEM REAPROVEITAMENTO. AF_09/2023 | E22: ='PLANILHA ORÇAMENTÁRIA'!E22 -> M3 | F22: 20.3299 | G22: Demolição de piso de concreto simples. (V01) = [L*C*H] = 4,20m x 1,25m x 0,24m = 1,2600m³ (V02) = [L*C*H] = 3,60m x 0,85m x 0,30m = 0,9180m³ (V03) = [L*C*H] = 4,50m x 0,50m x 0,18m = 0,4050m³ (V04) = [L*C*H] = 5,00m x 1,50m x 0,18m = 1,3500m³ (V05) = [L*C*H] = 9,00m x 1,20m x 0,30m = 3,2400m³ (V06) = [L*C*H] = 30,00m x 0,80m x 0,13m = 3,1200m³ (V07) = [L*C*H] = 2,20m x 0,65m x 0,18m = 0,2574m³ (V08) = [L*C*H] = 3,55m x 0,50m x 0,22m = 0,3905m³ (V09) = [L*C*H] = 14,00m x 0,50m x 0,07m = 0,4900m³ (V10) = [L*C*H] = 5,60m x 0,50m x 0,30m = 0,8400m³ (V11) = [L*C*H] = 3,10m x 1,00m x 0,25m = 0,7750m³ (V12) = [L*C*H] = 16,20m x 0,50m x 0,07m = 0,5670m³ (V13) = [L*C*H] = 6,50m x 1,00m x 0,25m = 1,6250m³ (V14) = [L*C*H] = 5,30m x 1,00m x 0,30m = 1,5900m³ (V15) = [L*C*H] = 3,30m x 1,00m x 0,30m = 0,9900m³ (V16) = [L*C*H] = 4,30m x 0,50m x 0,15m = 0,3225m³ (V17) = [L*C*H] = 7,80m x 0,85m x 0,15m = 0,9945m³ (V18) = [L*C*H] = 13,00m x 0,35m x 0,20m = 0,9100m³ (V19) = [L*C*H] = 3,80m x 0,50m x 0,15m = 0,2850m³ ∑ (V01-V19) = (V1) = 20,33 m³
A23: ='PLANILHA ORÇAMENTÁRIA'!A23 -> 1.2.6. | B23: ='PLANILHA ORÇAMENTÁRIA'!B23 -> SICOR/ SEINFRA | C23: ='PLANILHA ORÇAMENTÁRIA'!C23 -> ED-48492 | D23: ='PLANILHA ORÇAMENTÁRIA'!D23 -> DEMOLIÇÃO MECANIZADA DE REVESTIMENTO ASFÁLTICO, COM EQUIPAMENTO PNEUMÁTICO, INCLUSIVE AFASTAMENTO E EMPILHAMENTO, EXCLUSIVE TRANSPORTE E RETIRADA DO MATERIAL DEMOLIDO | E23: ='PLANILHA ORÇAMENTÁRIA'!E23 -> M2 | F23: 2.3604 | G23: Demolição de piso de concreto asfáltico. (V01) = [L*C*H] = 2,70m x 2,50m x 0,06m = 0,4050m³ (V02) = [L*C*H] = 1,70m x 1,18m x 0,06m = 0,1204m³ (V03) = [L*C*H] = 3,50m x 1,60m x 0,06m = 0,3360m³ (V04) = [L*C*H] = 1,46m x 1,40m x 0,06m = 0,1226m³ (V05) = [L*C*H] = 6,20m x 3,70m x 0,06m = 1,3764m³ ∑ (V01-V05) = (V2) = 2,36 m³
A24: ='PLANILHA ORÇAMENTÁRIA'!A24 -> 1.2.7. | B24: ='PLANILHA ORÇAMENTÁRIA'!B24 -> SICOR/ SEINFRA | C24: ='PLANILHA ORÇAMENTÁRIA'!C24 -> ED-51132 | D24: ='PLANILHA ORÇAMENTÁRIA'!D24 -> CARGA MECÂNICA DE MATERIAL DE QUALQUER NATUREZA SOBRE CAMINHÃO, EXCLUSIVE TRANSPORTE | E24: ='PLANILHA ORÇAMENTÁRIA'!E24 -> M3 | F24: =F22+F23 -> 22.6903 | G24: ▪ Volume referente ao entulho leve (V1) = 20,3299 m³ ▪ Volume referente ao entulho leve (V2) = 2,3604 m³ ▪ Cálculo - [V1+V2] = 22,69 M³
A25: ='PLANILHA ORÇAMENTÁRIA'!A25 -> 1.2.8. | B25: ='PLANILHA ORÇAMENTÁRIA'!B25 -> SINAPI | C25: ='PLANILHA ORÇAMENTÁRIA'!C25 -> 97914 | D25: ='PLANILHA ORÇAMENTÁRIA'!D25 -> TRANSPORTE COM CAMINHÃO BASCULANTE DE 6 M³, EM VIA URBANA PAVIMENTADA, DMT ATÉ 30 KM (UNIDADE: M3XKM). AF_02/2026 | E25: ='PLANILHA ORÇAMENTÁRIA'!E25 -> M3XKM | F25: =(F21+F22+F23)*6.2 -> 430.25737 | G25: ▪ Volume (V) = 46,71 m³ ▪ Volume (V1+V2) = 22,69 m³ ▪ DMT médio (D) = 6,2km ▪ Cálculo - D*[V+V1+V2] = 430,26 M³xKM
A26: ='PLANILHA ORÇAMENTÁRIA'!A26 -> 1.3. | D26: ='PLANILHA ORÇAMENTÁRIA'!D26 -> SERVIÇOS DE PAVIMENTAÇÃO ASFÁLTICA
A27: ='PLANILHA ORÇAMENTÁRIA'!A27 -> 1.3.1. | B27: ='PLANILHA ORÇAMENTÁRIA'!B27 -> SUDECAP | C27: ='PLANILHA ORÇAMENTÁRIA'!C27 -> 20.12.01 | D27: ='PLANILHA ORÇAMENTÁRIA'!D27 -> PINTURA DE LIGAÇÃO COM RR-1C | E27: ='PLANILHA ORÇAMENTÁRIA'!E27 -> M2 | F27: =2*811.5351 -> 1623.0702 | G27: Área da via adotada, conforme metragem do AutoCAD (Planta baixa - Pavimentação Asfáltica). A = 811,5351 m² ▪ Execução em duas camadas (A1) = 1623,07 m²
A28: ='PLANILHA ORÇAMENTÁRIA'!A28 -> 1.3.2. | B28: ='PLANILHA ORÇAMENTÁRIA'!B28 -> SINAPI | C28: ='PLANILHA ORÇAMENTÁRIA'!C28 -> 102332 | D28: ='PLANILHA ORÇAMENTÁRIA'!D28 -> TRANSPORTE COM CAMINHÃO TANQUE DE TRANSPORTE DE MATERIAL ASFÁLTICO DE 20000L, EM VIA URBANA PAVIMENTADA, DMT ATÉ 30KM (UNIDADE: TXKM). AF_07/2020 | E28: ='PLANILHA ORÇAMENTÁRIA'!E28 -> TXKM | F28: =F27*0.0009*30 -> 43.822895 | G28: ▪ Área (A) = 1623,0702 m² ▪ Consumo médio - RR-1C (C) = 0,0009 t/m² (RR-1C + água) ▪ DMT médio (D) = 30,0 km ▪ Cálculo - [A*C*D] = 43,82 TxKM (30,0km iniciais).
A29: ='PLANILHA ORÇAMENTÁRIA'!A29 -> 1.3.3. | B29: ='PLANILHA ORÇAMENTÁRIA'!B29 -> SINAPI | C29: ='PLANILHA ORÇAMENTÁRIA'!C29 -> 102333 | D29: ='PLANILHA ORÇAMENTÁRIA'!D29 -> TRANSPORTE COM CAMINHÃO TANQUE DE TRANSPORTE DE MATERIAL ASFÁLTICO DE 20000L, EM VIA URBANA PAVIMENTADA, ADICIONAL PARA DMT EXCEDENTE A 30 KM (UNIDADE: TXKM). AF_07/2020 | E29: ='PLANILHA ORÇAMENTÁRIA'!E29 -> TXKM | F29: =F27*0.0009*19.83 -> 28.966934 | G29: ▪ Área (A) = 1623,0702 m² ▪ Consumo médio - RR-1C (C) = 0,0009 t/m² (RR-1C + água) ▪ DMT médio (D) = 19,83 km ▪ Cálculo - [A*C*D] = 28,97 TxKM (19,83km finais).
A30: ='PLANILHA ORÇAMENTÁRIA'!A30 -> 1.3.4. | B30: ='PLANILHA ORÇAMENTÁRIA'!B30 -> SINAPI | C30: ='PLANILHA ORÇAMENTÁRIA'!C30 -> 95995 | D30: ='PLANILHA ORÇAMENTÁRIA'!D30 -> EXECUÇÃO DE PAVIMENTO COM APLICAÇÃO DE CONCRETO ASFÁLTICO, CAMADA DE ROLAMENTO - EXCLUSIVE CARGA E TRANSPORTE. AF_10/2025 | E30: ='PLANILHA ORÇAMENTÁRIA'!E30 -> M3 | F30: =811.5351*0.06 -> 48.692106 | G30: ▪ Área (A) = 811,5351 m² ▪ Espessura da camada compactada de CBUQ, rolamento (E) = 0,06m - Execução em duas camadas compactadas de 0,03m. ▪ Cálculo - [A*E] = 48,69 m³
A31: ='PLANILHA ORÇAMENTÁRIA'!A31 -> 1.3.5. | B31: ='PLANILHA ORÇAMENTÁRIA'!B31 -> SICRO/DNIT | C31: ='PLANILHA ORÇAMENTÁRIA'!C31 -> 5914612 | D31: ='PLANILHA ORÇAMENTÁRIA'!D31 -> TRANSPORTE DE MISTURA BETUMINOSA A QUENTE COM CAMINHÃO COM CAÇAMBA TÉRMICA DE 6 M³ - RODOVIA PAVIMENTADA | E31: ='PLANILHA ORÇAMENTÁRIA'!E31 -> TXKM | F31: =F30*49.83*2.4 -> 5823.1863 | G31: ▪ Volume total de CBUQ (V) = (24,345 + 24,345) = 48,69 m³ ▪ DMT médio (D) = 49,83 km ▪ Densidade CBUQ (C) = 2,4 t/m³ ▪ Cálculo - CBUQ até a pista [V*D*C] = 5823,19 TxKM
A32: ='PLANILHA ORÇAMENTÁRIA'!A32 -> 1.4. | D32: ='PLANILHA ORÇAMENTÁRIA'!D32 -> SERVIÇOS DE DRENAGEM SUPERFICIAL
A33: ='PLANILHA ORÇAMENTÁRIA'!A33 -> 1.4.1. | B33: ='PLANILHA ORÇAMENTÁRIA'!B33 -> SICOR/ SEINFRA | C33: ='PLANILHA ORÇAMENTÁRIA'!C33 -> ED-51141 | D33: ='PLANILHA ORÇAMENTÁRIA'!D33 -> GUIA DE MEIO-FIO, EM CONCRETO COM FCK 15MPA, MOLDADA INLOCO, SEÇÃO 15X45CM, FORMA EM MADEIRA, EXCLUSIVE SARJETA, INCLUSIVE ESCAVAÇÃO, APILOAMENTO E TRANSPORTE COM RETIRADA DO MATERIAL ESCAVADO (EM CAÇAMBA) | E33: ='PLANILHA ORÇAMENTÁRIA'!E33 -> M | F33: 80 | G33: Comprimento linear adotado, conforme metragem estabelecida para demolição de piso de concreto simples. C = 80,00m
A34: ='PLANILHA ORÇAMENTÁRIA'!A34 -> 1.4.2. | B34: ='PLANILHA ORÇAMENTÁRIA'!B34 -> SUDECAP | C34: ='PLANILHA ORÇAMENTÁRIA'!C34 -> 19.22.04 | D34: ='PLANILHA ORÇAMENTÁRIA'!D34 -> ALTEAMENTO DE TAMPÃO DE POÇO DE VISITA EM ATÉ 20CM | E34: ='PLANILHA ORÇAMENTÁRIA'!E34 -> U | F34: 2 | G34: Alteamento de tampões de poços de visita existentes em até 20 cm, para adequação à cota final do pavimento em CBUQ, incluindo os serviços necessários à execução do alteamento e reassentamento dos tampões existentes. Q = 2,0 unidades.
A35: ='PLANILHA ORÇAMENTÁRIA'!A35 -> 1.4.3. | B35: ='PLANILHA ORÇAMENTÁRIA'!B35 -> SINAPI | C35: ='PLANILHA ORÇAMENTÁRIA'!C35 -> 94289 | D35: ='PLANILHA ORÇAMENTÁRIA'!D35 -> EXECUÇÃO DE SARJETA DE CONCRETO USINADO, MOLDADA IN LOCO EM TRECHO RETO, 45 CM BASE X 10 CM ALTURA. AF_01/2024 | E35: ='PLANILHA ORÇAMENTÁRIA'!E35 -> M | F35: =138.6504+136.9586 -> 275.609 | G35: Comprimento linear adotado, conforme metragem do AutoCAD (Planta baixa - Pavimentação asfáltica) C = L1+L2 C = 138,6504 + 136,9586 = 275,61 m
A37: ='PLANILHA ORÇAMENTÁRIA'!A37:H37 -> Lote 02: Execução de Revestimento Asfáltico e Drenagem Superficial em Vias Urbanas, com Execução de Base e Sub-base
A38: ='PLANILHA ORÇAMENTÁRIA'!A38 -> 1. | D38: ='PLANILHA ORÇAMENTÁRIA'!D38 -> R. Waldemar Gomes da Silva, Triângulo Novo
A39: ='PLANILHA ORÇAMENTÁRIA'!A39 -> 1.1. | D39: ='PLANILHA ORÇAMENTÁRIA'!D39 -> SERVIÇOS PRELIMINARES
A40: ='PLANILHA ORÇAMENTÁRIA'!A40 -> 1.1.1. | B40: ='PLANILHA ORÇAMENTÁRIA'!B40 -> SINAPI | C40: ='PLANILHA ORÇAMENTÁRIA'!C40 -> 103689 | D40: ='PLANILHA ORÇAMENTÁRIA'!D40 -> FORNECIMENTO E INSTALAÇÃO DE PLACA DE OBRA COM CHAPA GALVANIZADA E ESTRUTURA DE MADEIRA. AF_03/2022_PS | E40: ='PLANILHA ORÇAMENTÁRIA'!E40 -> M2 | F40: =2*1.2 -> 2.4 | G40: Uma placa, conforme padrão exigido pelo município. ▪ Largura (L) = 2,00m ▪ Altura (A) = 1,20m ▪ Área - [L*A] = 2,40m²
A41: ='PLANILHA ORÇAMENTÁRIA'!A41 -> 1.1.2. | B41: ='PLANILHA ORÇAMENTÁRIA'!B41 -> SICOR/ SEINFRA | C41: ='PLANILHA ORÇAMENTÁRIA'!C41 -> ED-50155 | D41: ='PLANILHA ORÇAMENTÁRIA'!D41 -> LOCAÇÃO DE BANHEIRO QUÍMICO, DIMENSÃO (110X120X230)CM, LINHA PADRÃO, CONTENDO UMA (1) PIA/HIGIENIZADOR DE MÃOS, INCLUSIVE MANUTENÇÃO E MOBILIZAÇÃO/DESMOBILIZAÇÃO | E41: ='PLANILHA ORÇAMENTÁRIA'!E41 -> MÊS | F41: 3 | G41: Locação conforme o tempo estipulado para execução da obra (3 meses)
A42: ='PLANILHA ORÇAMENTÁRIA'!A42 -> 1.1.3. | B42: ='PLANILHA ORÇAMENTÁRIA'!B42 -> SICOR/ SEINFRA | C42: ='PLANILHA ORÇAMENTÁRIA'!C42 -> ED-27006 | D42: ='PLANILHA ORÇAMENTÁRIA'!D42 -> CONE PARA SINALIZAÇÃO/ISOLAMENTO DE ÁREAS, ALTURA 75CM, INCLUSIVE FORNECIMENTO E MOVIMENTAÇÃO | E42: ='PLANILHA ORÇAMENTÁRIA'!E42 -> U | F42: 25 | G42: Sinalização/isolamento do local durante a execução da obra (25 unidades)
A43: ='PLANILHA ORÇAMENTÁRIA'!A43 -> 1.2. | D43: ='PLANILHA ORÇAMENTÁRIA'!D43 -> SERVIÇOS EM TERRA E REMOÇÕES
...

Sheet PLANILHA ANALÍTICA
A2: PLANILHA ANALÍTICA DE CUSTOS
A3: PROPONENTE/TOMADOR: PREFEITURA MUNICIPAL DE PONTE NOVA | G3: FOLHA Nº: | I3: 01/01.
A4: OBJETO: EXECUÇÃO DE OBRAS DE PAVIMENTAÇÃO ASFÁLTICA EM CBUQ EM VIAS PÚBLICAS | G4: DATA: | I4: =TODAY() -> 46290
A5: LOCAL: VIAS URBANAS DO MUNICÍPIO DE PONTE NOVA/MG | G5: FORMA DE EXECUÇÃO:
A6: REGIÃO/MÊS DE REFERÊNCIA: TABELA SINAPI-MG - AGOSTO/2026 - SEM DESONERAÇÃO / TABELA SICOR/SEINFRA - REGIÃO LESTE - ABRIL/2026 - SEM DESONERAÇÃO / TABELA SUDECAP-MG - JULHO/2026 - SEM DESONERAÇÃO / TABELA SICRO/DNIT MG - ABRIL/2026 - SEM DESONERAÇÃO | G6: ( ) | H6: DIRETA | I6: ( X ) | J6: INDIRETA
A7: COMPOSIÇÃO DE BDI - EM ANEXO, OBTIDO DO ACÓRDÃO 2622/2013, DO TRIBUNAL DE CONTAS DA UNIÃO - TCU (CONSTRUÇÃO DE RODOVIAS E FERROVIAS) - QUARTIL MÉDIO. | G7: % ISS MUNICIPAL: | H7: 0.03 | I7: BDI: | J7: =[2]BDI!D27 -> 0.22
I8: BDI DIFERENC.: | J8: -
A10: ITEM | B10: FONTE | C10: CÓDIGO | D10: DESCRIÇÃO | I10: UNIDADE
A11: Lote 01: Execução de Revestimento Asfáltico e Drenagem Superficial em Vias Urbanas
A12: ='PLANILHA ORÇAMENTÁRIA'!A12 -> 1. | D12: ='PLANILHA ORÇAMENTÁRIA'!D12 -> R. Tiradentes, Esplanada
A13: ='PLANILHA ORÇAMENTÁRIA'!A13 -> 1.1. | D13: ='PLANILHA ORÇAMENTÁRIA'!D13 -> SERVIÇOS PRELIMINARES
A14: ='PLANILHA ORÇAMENTÁRIA'!A14 -> 1.1.1. | B14: ='PLANILHA ORÇAMENTÁRIA'!B14 -> SINAPI | C14: ='PLANILHA ORÇAMENTÁRIA'!C14 -> 103689 | D14: ='PLANILHA ORÇAMENTÁRIA'!D14 -> FORNECIMENTO E INSTALAÇÃO DE PLACA DE OBRA COM CHAPA GALVANIZADA E ESTRUTURA DE MADEIRA. AF_03/2022_PS | I14: ='PLANILHA ORÇAMENTÁRIA'!E14 -> M2
D15: MATERIAIS: | G15: UNIDADE | H15: COEFICIENTE | I15: CUSTO UNITÁRIO | J15: CUSTO TOTAL
D16: Ü I 4509 SARRAFO *2,5 X 10* CM EM PINUS, MISTA OU EQUIVALENTE DA REGIAO - BRUTA | G16: M | H16: 3.2083 | I16: 3.87 | J16: =I16*H16 -> 12.416121
D17: Ü I 4813 PLACA DE OBRA (PARA CONSTRUCAO CIVIL) EM CHAPA GALVANIZADA *N. 22*, ADESIVADA, DE *2,4 X 1,2* M (SEM POSTES PARA FIXACAO) | G17: M² | H17: 1 | I17: 318.75 | J17: =I17*H17 -> 318.75
D18: Ü I 5065 PREGO DE ACO POLIDO COM CABECA 10 X 10 (7/8 X 17) | G18: KG | H18: 0.0113 | I18: 36.67 | J18: =I18*H18 -> 0.414371
D19: Ü I 5069 PREGO DE ACO POLIDO COM CABECA 17 X 27 (2 1/2 X 11) | G19: KG | H19: 0.0132 | I19: 19.65 | J19: =I19*H19 -> 0.25938
G20: TOTAL DE MATERIAIS: | J20: =SUM(J16:J19) -> 331.83987
D21: SERVIÇOS: | G21: UNIDADE | H21: COEFICIENTE | I21: CUSTO UNITÁRIO | J21: CUSTO TOTAL
D22: Ü C 88262 CARPINTEIRO DE FORMAS COM ENCARGOS COMPLEMENTARES | G22: H | H22: 0.3729 | I22: 32.89 | J22: =I22*H22 -> 12.264681
D23: Ü C 88316 SERVENTE COM ENCARGOS COMPLEMENTARES | G23: H | H23: 1.1186 | I23: 24.88 | J23: =I23*H23 -> 27.830768
D24: Ü C 102234 PINTURA IMUNIZANTE PARA MADEIRA, 2 DEMÃOS. AF_01/2021 | G24: M² | H24: 0.5 | I24: 24.84 | J24: =I24*H24 -> 12.42
G25: TOTAL DE SERVIÇOS: | J25: =SUM(J22:J24) -> 52.515449
G26: CUSTO UNITÁRIO DO SERVIÇO (SEM BDI): | J26: 384.33
A28: ='PLANILHA ORÇAMENTÁRIA'!A15 -> 1.1.2. | B28: ='PLANILHA ORÇAMENTÁRIA'!B15 -> SICOR/ SEINFRA | C28: ='PLANILHA ORÇAMENTÁRIA'!C15 -> ED-50155 | D28: ='PLANILHA ORÇAMENTÁRIA'!D15 -> LOCAÇÃO DE BANHEIRO QUÍMICO, DIMENSÃO (110X120X230)CM, LINHA PADRÃO, CONTENDO UMA (1) PIA/HIGIENIZADOR DE MÃOS, INCLUSIVE MANUTENÇÃO E MOBILIZAÇÃO/DESMOBILIZAÇÃO | I28: ='PLANILHA ORÇAMENTÁRIA'!E15 -> MÊS
D29: MATERIAIS: | G29: UNIDADE | H29: COEFICIENTE | I29: CUSTO UNITÁRIO | J29: CUSTO TOTAL
D30: Ü MATED-11195 BANHEIRO QUÍMICO (PERÍODO DE LOCAÇÃO: MENSAL|LINHA: PADRÃO [STANDARD]|PIA: INCLUSO|LARGURA EXTERNA: 110CM|PROFUNDIDADE EXTERNA: 120CM|ALTURA EXTERNA: 230CM|PESO*: 85KG |CAPACIDADE DEJETOS*: 227L|MANUTENÇÃO: INCLUSO| MOBILIZAÇÃO/DESMOBILIZAÇÃO: INCLUSO) *VALORES REFERENCIAIS APROXIMADOS | G30: MÊS | H30: 1 | I30: 980 | J30: =H30*I30 -> 980
G31: TOTAL DE MATERIAIS: | J31: =J30 -> 980
G32: CUSTO UNITÁRIO DO SERVIÇO (SEM BDI): | J32: =J31 -> 980
A34: ='PLANILHA ORÇAMENTÁRIA'!A16 -> 1.1.3. | B34: ='PLANILHA ORÇAMENTÁRIA'!B16 -> SICOR/ SEINFRA | C34: ='PLANILHA ORÇAMENTÁRIA'!C16 -> ED-27006 | D34: ='PLANILHA ORÇAMENTÁRIA'!D16 -> CONE PARA SINALIZAÇÃO/ISOLAMENTO DE ÁREAS, ALTURA 75CM, INCLUSIVE FORNECIMENTO E MOVIMENTAÇÃO | I34: ='PLANILHA ORÇAMENTÁRIA'!E16 -> U
D35: MATERIAIS: | G35: UNIDADE | H35: COEFICIENTE | I35: CUSTO UNITÁRIO | J35: CUSTO TOTAL
D36: Ü MATED-11228 CONE (MATERIAL: PLÁSTICO|ALTURA: 75CM|COR: LARANJA/BRANCO OU PRETO/AMARELO) | G36: U | H36: 0.0333333 | I36: 32 | J36: 1.0667
G37: TOTAL DE MATERIAIS: | J37: =J36 -> 1.0667
D38: SERVIÇOS: | G38: UNIDADE | H38: COEFICIENTE | I38: CUSTO UNITÁRIO | J38: CUSTO TOTAL
D39: Ü ED-50367 SERVENTE COM ENCARGOS COMPLEMENTARES | G39: H | H39: 0.1833333 | I39: 24.89 | J39: =H39*I39 -> 4.5631658
G40: TOTAL DE SERVIÇOS: | J40: =J39 -> 4.5631658
G41: CUSTO UNITÁRIO DO SERVIÇO (SEM BDI): | J41: =SUM(J37,J40) -> 5.6298658
A43: ='PLANILHA ORÇAMENTÁRIA'!A17 -> 1.2. | D43: ='PLANILHA ORÇAMENTÁRIA'!D17 -> SERVIÇOS EM TERRA E REMOÇÕES
A44: ='PLANILHA ORÇAMENTÁRIA'!A18 -> 1.2.1. | B44: ='PLANILHA ORÇAMENTÁRIA'!B18 -> SICOR/ SEINFRA | C44: ='PLANILHA ORÇAMENTÁRIA'!C18 -> ED-50701 | D44: ='PLANILHA ORÇAMENTÁRIA'!D18 -> CAPINA MANUAL DO TERRENO, EXCLUSIVE RASTELAMENTO E QUEIMA | I44: ='PLANILHA ORÇAMENTÁRIA'!E18 -> M2
D45: SERVIÇOS: | G45: UNIDADE | H45: COEFICIENTE | I45: CUSTO UNITÁRIO | J45: CUSTO TOTAL
...

Sheet CRONOGRAMA (LOTE 01)
A2: CRONOGRAMA FÍSICO-FINANCEIRO - LOTE 01
A3: PROPONENTE: PREFEITURA MUNICIPAL DE PONTE NOVA | C3: VALOR DO RECURSO (LOTE 01): | D3: =D19 -> 185175.52 | E3: DATA: | G3: =TODAY() -> 46290
A4: OBJETO: EXECUÇÃO DE OBRAS DE PAVIMENTAÇÃO ASFÁLTICA EM CBUQ EM VIAS PÚBLICAS | E4: PREVISÃO DE EXECUÇÃO DAS OBRAS: 2 MESES
A6: LOCAL: VIAS URBANAS DO MUNICÍPIO DE PONTE NOVA/MG
A7: ITENS | B7: ETAPAS/DESCRIÇÃO | C7: FÍSICO/ FINANCEIRO | D7: TOTAL ETAPAS | E7: MÊS 1 | F7: MÊS 2 | G7: MÊS 3 | H7: MÊS 4 | I7: MÊS 5 | J7: MÊS 6 | K7: MÊS 7
A8: ='PLANILHA ORÇAMENTÁRIA'!A11:H11 -> Lote 01: Execução de Revestimento Asfáltico e Drenagem Superficial em Vias Urbanas
A9: ='PLANILHA ORÇAMENTÁRIA'!A12 -> 1. | B9: ='PLANILHA ORÇAMENTÁRIA'!D12 -> R. Tiradentes, Esplanada
A10: ='PLANILHA ORÇAMENTÁRIA'!A13 -> 1.1. | B10: ='PLANILHA ORÇAMENTÁRIA'!D13 -> SERVIÇOS PRELIMINARES | C10: Físico % | D10: =D11/D19 -> 0.019917644 | E10: 0.8 | F10: 0.2
C11: Financeiro | D11: ='PLANILHA ORÇAMENTÁRIA'!I13 -> 3688.26 | E11: =E10*$D$11 -> 2950.608 | F11: =F10*$D$11 -> 737.652
A12: ='PLANILHA ORÇAMENTÁRIA'!A17 -> 1.2. | B12: ='PLANILHA ORÇAMENTÁRIA'!D17 -> SERVIÇOS EM TERRA E REMOÇÕES | C12: Físico % | D12: =D13/D19 -> 0.052796288 | E12: 1 | F12: 0
C13: Financeiro | D13: ='PLANILHA ORÇAMENTÁRIA'!I17 -> 9776.58 | E13: =E12*$D$13 -> 9776.58 | F13: =F12*$D$13 -> 0
A14: ='PLANILHA ORÇAMENTÁRIA'!A26 -> 1.3. | B14: ='PLANILHA ORÇAMENTÁRIA'!D26 -> SERVIÇOS DE PAVIMENTAÇÃO ASFÁLTICA | C14: Físico % | D14: =D15/D19 -> 0.75793102 | E14: 0.8 | F14: 0.2
C15: Financeiro | D15: ='PLANILHA ORÇAMENTÁRIA'!I26 -> 140350.27 | E15: =E14*$D$15 -> 112280.22 | F15: =F14*$D$15 -> 28070.054
A16: ='PLANILHA ORÇAMENTÁRIA'!A32 -> 1.4. | B16: ='PLANILHA ORÇAMENTÁRIA'!D32 -> SERVIÇOS DE DRENAGEM SUPERFICIAL | C16: Físico % | D16: =D17/D19 -> 0.16935505 | E16: 0.6 | F16: 0.4
C17: Financeiro | D17: ='PLANILHA ORÇAMENTÁRIA'!I32 -> 31360.41 | E17: =E16*$D$17 -> 18816.246 | F17: =F16*$D$17 -> 12544.164
A18: TOTAL | C18: Físico % | D18: =D10+D12+D14+D16 -> 1 | E18: =E19/D19 -> 0.77668825 | F18: =F19/D19 -> 0.22331175
C19: Financeiro | D19: =D11+D13+D15+D17 -> 185175.52 | E19: =E11+E13+E15+E17 -> 143823.65 | F19: =F11+F13+F15+F17 -> 41351.87
K20: Observações:
B23: ='[2]Memória de Cálculo'!D42 -> Luiz Felipe Sarti Neves | E23: Milton Teodoro Irias Junior
B24: Engenheiro Civil - CREA/MG Nº: 396.696/D | E24: Prefeito Municipal de Ponte Nova

Sheet CRONOGRAMA (LOTE 02)
A2: CRONOGRAMA FÍSICO-FINANCEIRO - LOTE 02
A3: PROPONENTE: PREFEITURA MUNICIPAL DE PONTE NOVA | C3: VALOR DO RECURSO (LOTE 02): | D3: =D19 -> 156149.13 | E3: DATA: | G3: =TODAY() -> 46290
A4: OBJETO: EXECUÇÃO DE OBRAS DE PAVIMENTAÇÃO ASFÁLTICA EM CBUQ EM VIAS PÚBLICAS | E4: PREVISÃO DE EXECUÇÃO DAS OBRAS: 3 MESES
A6: LOCAL: VIAS URBANAS DO MUNICÍPIO DE PONTE NOVA/MG
A7: ITENS | B7: ETAPAS/DESCRIÇÃO | C7: FÍSICO/ FINANCEIRO | D7: TOTAL ETAPAS | E7: MÊS 1 | F7: MÊS 2 | G7: MÊS 3 | H7: MÊS 4 | I7: MÊS 5 | J7: MÊS 6 | K7: MÊS 7
A8: ='PLANILHA ORÇAMENTÁRIA'!A37:H37 -> Lote 02: Execução de Revestimento Asfáltico e Drenagem Superficial em Vias Urbanas, com Execução de Base e Sub-base
A9: ='PLANILHA ORÇAMENTÁRIA'!A38 -> 1. | B9: ='PLANILHA ORÇAMENTÁRIA'!D38 -> R. Waldemar Gomes da Silva, Triângulo Novo
A10: ='PLANILHA ORÇAMENTÁRIA'!A39 -> 1.1. | B10: ='PLANILHA ORÇAMENTÁRIA'!D39 -> SERVIÇOS PRELIMINARES | C10: Físico % | D10: =D11/D19 -> 0.031276895 | E10: 0.5 | F10: 0.25 | G10: 0.25
C11: Financeiro | D11: ='PLANILHA ORÇAMENTÁRIA'!I39 -> 4883.86 | E11: =E10*$D$11 -> 2441.93 | F11: =F10*$D$11 -> 1220.965 | G11: =G10*$D$11 -> 1220.965
A12: ='PLANILHA ORÇAMENTÁRIA'!A43 -> 1.2. | B12: ='PLANILHA ORÇAMENTÁRIA'!D43 -> SERVIÇOS EM TERRA E REMOÇÕES | C12: Físico % | D12: =D13/D19 -> 0.21941249 | E12: 1 | F12: 0 | G12: 0
C13: Financeiro | D13: ='PLANILHA ORÇAMENTÁRIA'!I43 -> 34261.07 | E13: =E12*$D$13 -> 34261.07 | F13: =F12*$D$13 -> 0 | G13: =G12*$D$13 -> 0
A14: ='PLANILHA ORÇAMENTÁRIA'!A59 -> 1.3. | B14: ='PLANILHA ORÇAMENTÁRIA'!D59 -> SERVIÇOS DE PAVIMENTAÇÃO ASFÁLTICA | C14: Físico % | D14: =D15/D19 -> 0.66704624 | E14: 0 | F14: 0.8 | G14: 0.2
C15: Financeiro | D15: ='PLANILHA ORÇAMENTÁRIA'!I59 -> 104158.69 | E15: =E14*$D$15 -> 0 | F15: =F14*$D$15 -> 83326.952 | G15: =G14*$D$15 -> 20831.738
A16: ='PLANILHA ORÇAMENTÁRIA'!A68 -> 1.4. | B16: ='PLANILHA ORÇAMENTÁRIA'!D68 -> SERVIÇOS DE DRENAGEM SUPERFICIAL | C16: Físico % | D16: =D17/D19 -> 0.082264371 | E16: 0 | F16: 0.6 | G16: 0.4
C17: Financeiro | D17: ='PLANILHA ORÇAMENTÁRIA'!I68 -> 12845.51 | E17: =E16*$D$17 -> 0 | F17: =F16*$D$17 -> 7707.306 | G17: =G16*$D$17 -> 5138.204
A18: TOTAL | C18: Físico % | D18: =D10+D12+D14+D16 -> 1 | E18: =E19/D19 -> 0.23505094 | F18: =F19/D19 -> 0.59081484 | G18: =G19/D19 -> 0.17413422
C19: Financeiro | D19: =D11+D13+D15+D17 -> 156149.13 | E19: =E11+E13+E15+E17 -> 36703 | F19: =F11+F13+F15+F17 -> 92255.223 | G19: =G11+G13+G15+G17 -> 27190.907
K20: Observações:
B23: ='[2]Memória de Cálculo'!D42 -> Luiz Felipe Sarti Neves | E23: Milton Teodoro Irias Junior
B24: Engenheiro Civil - CREA/MG Nº: 396.696/D | E24: Prefeito Municipal de Ponte Nova

Sheet CRONOGRAMA (LOTE 03)
A2: CRONOGRAMA FÍSICO-FINANCEIRO - LOTE 03
A3: PROPONENTE: PREFEITURA MUNICIPAL DE PONTE NOVA | C3: VALOR DO RECURSO (LOTE 02): | D3: =D19 -> 546846.17 | E3: DATA: | G3: =TODAY() -> 46290
A4: OBJETO: EXECUÇÃO DE OBRAS DE PAVIMENTAÇÃO ASFÁLTICA EM CBUQ EM VIAS PÚBLICAS | E4: PREVISÃO DE EXECUÇÃO DAS OBRAS: 4 MESES
A6: LOCAL: VIAS URBANAS DO MUNICÍPIO DE PONTE NOVA/MG
A7: ITENS | B7: ETAPAS/DESCRIÇÃO | C7: FÍSICO/ FINANCEIRO | D7: TOTAL ETAPAS | E7: MÊS 1 | F7: MÊS 2 | G7: MÊS 3 | H7: MÊS 4 | I7: MÊS 5 | J7: MÊS 6 | K7: MÊS 7
A8: Lote 03: Execução de Revestimento Asfáltico e Drenagem Superficial em Vias Urbanas, com Execução de Base e Sub-base
A9: ='PLANILHA ORÇAMENTÁRIA'!A74 -> 1. | B9: ='PLANILHA ORÇAMENTÁRIA'!D74 -> R. Santa Lúcia, Rosário do Pontal
A10: ='PLANILHA ORÇAMENTÁRIA'!A75 -> 1.1. | B10: ='PLANILHA ORÇAMENTÁRIA'!D75 -> SERVIÇOS PRELIMINARES | C10: Físico % | D10: =D11/D19 -> 0.011305757 | E10: 0.5 | F10: 0.1667 | G10: 0.1667 | H10: 0.1666
C11: Financeiro | D11: ='PLANILHA ORÇAMENTÁRIA'!I75 -> 6182.51 | E11: =E10*$D$11 -> 3091.255 | F11: =F10*$D$11 -> 1030.6244 | G11: =G10*$D$11 -> 1030.6244 | H11: =H10*$D$11 -> 1030.0062
A12: ='PLANILHA ORÇAMENTÁRIA'!A79 -> 1.2. | B12: ='PLANILHA ORÇAMENTÁRIA'!D79 -> SERVIÇOS EM TERRA E REMOÇÕES | C12: Físico % | D12: =D13/D19 -> 0.17009619 | E12: 0.2 | F12: 0.8 | G12: 0 | H12: 0
C13: Financeiro | D13: ='PLANILHA ORÇAMENTÁRIA'!I79 -> 93016.45 | E13: =E12*$D$13 -> 18603.29 | F13: =F12*$D$13 -> 74413.16 | G13: =G12*$D$13 -> 0 | H13: =H12*$D$13 -> 0
A14: ='PLANILHA ORÇAMENTÁRIA'!A95 -> 1.3. | B14: ='PLANILHA ORÇAMENTÁRIA'!D95 -> SERVIÇOS DE PAVIMENTAÇÃO ASFÁLTICA | C14: Físico % | D14: =D15/D19 -> 0.66493466 | E14: 0 | F14: 0.7 | G14: 0.3 | H14: 0
C15: Financeiro | D15: ='PLANILHA ORÇAMENTÁRIA'!I95 -> 363616.97 | E15: =E14*$D$15 -> 0 | F15: =F14*$D$15 -> 254531.88 | G15: =G14*$D$15 -> 109085.09 | H15: =H14*$D$15 -> 0
A16: ='PLANILHA ORÇAMENTÁRIA'!A107 -> 1.4. | B16: ='PLANILHA ORÇAMENTÁRIA'!D107 -> SERVIÇOS DE DRENAGEM SUPERFICIAL | C16: Físico % | D16: =D17/D19 -> 0.1536634 | E16: 0 | F16: 0 | G16: 0.6 | H16: 0.4
C17: Financeiro | D17: ='PLANILHA ORÇAMENTÁRIA'!I107 -> 84030.24 | E17: =E16*$D$17 -> 0 | F17: =F16*$D$17 -> 0 | G17: =G16*$D$17 -> 50418.144 | H17: =H16*$D$17 -> 33612.096
A18: TOTAL | C18: Físico % | D18: =D10+D12+D14+D16 -> 1 | E18: =E19/D19 -> 0.039672117 | F18: =F19/D19 -> 0.60341588 | G18: =G19/D19 -> 0.2935631 | H18: =H19/D19 -> 0.063348898
C19: Financeiro | D19: =D11+D13+D15+D17 -> 546846.17 | E19: =E11+E13+E15+E17 -> 21694.545 | F19: =F11+F13+F15+F17 -> 329975.66 | G19: =G11+G13+G15+G17 -> 160533.86 | H19: =H11+H13+H15+H17 -> 34642.102
K20: Observações:
B23: ='[2]Memória de Cálculo'!D42 -> Luiz Felipe Sarti Neves | E23: Milton Teodoro Irias Junior
B24: Engenheiro Civil - CREA/MG Nº: 396.696/D | E24: Prefeito Municipal de Ponte Nova

Sheet CURVA ABC (LOTE 01)
A2: PROPONENTE/TOMADOR: PREFEITURA MUNICIPAL DE PONTE NOVA | F2: FOLHA Nº: | H2: 01/01. | J2: CURVA ABC (LOTE 01)
A3: OBJETO: EXECUÇÃO DE OBRAS DE PAVIMENTAÇÃO ASFÁLTICA EM CBUQ EM VIAS PÚBLICAS | F3: DATA: | H3: =TODAY() -> 46290
A4: LOCAL: VIAS URBANAS DO MUNICÍPIO DE PONTE NOVA/MG | F4: FORMA DE EXECUÇÃO:
A5: REGIÃO/MÊS DE REFERÊNCIA: TABELA SINAPI-MG - AGOSTO/2026 - SEM DESONERAÇÃO / TABELA SICOR/SEINFRA - REGIÃO LESTE - ABRIL/2026 - SEM DESONERAÇÃO / TABELA SUDECAP-MG - JULHO/2026 - SEM DESONERAÇÃO / TABELA SICRO/DNIT MG - ABRIL/2026 - SEM DESONERAÇÃO | F5: ( ) | G5: DIRETA | H5: ( X ) | I5: INDIRETA
A6: COMPOSIÇÃO DE BDI - EM ANEXO, OBTIDO DO ACÓRDÃO 2622/2013, DO TRIBUNAL DE CONTAS DA UNIÃO - TCU (CONSTRUÇÃO DE RODOVIAS E FERROVIAS) - QUARTIL MÉDIO. | F6: % ISS MUNICIPAL: | G6: 0.03 | H6: BDI: | I6: =BDI!D27 -> 0.22
A8: ITEM | B8: FONTE | C8: CÓDIGO | D8: DESCRIÇÃO | E8: UNIDADE | F8: QUANTIDADE | G8: PREÇO UNITÁRIO S/ BDI | H8: PREÇO UNITÁRIO C/ BDI | I8: PREÇO TOTAL | J8: % | K8: % ACUMULADA | L8: CLASSE
A9: Lote 01: Execução de Revestimento Asfáltico e Drenagem Superficial em Vias Urbanas
A10: 1.3.4. | B10: SINAPI | C10: 95995 | D10: EXECUÇÃO DE PAVIMENTO COM APLICAÇÃO DE CONCRETO ASFÁLTICO, CAMADA DE ROLAMENTO - EXCLUSIVE CARGA E TRANSPORTE. AF_10/2025 | E10: M3 | F10: 48.692106 | G10: 2152.94 | H10: 2626.59 | I10: 127894.2 | J10: =I10/$I$31 -> 0.69066473 | K10: =J10 -> 0.69066473 | L10: =IF(K10<=$C$35,$B$35,IF(K10<=$C$36,$B$36,$B$37)) -> A
A11: 1.4.3. | B11: SINAPI | C11: 94289 | D11: EXECUÇÃO DE SARJETA DE CONCRETO USINADO, MOLDADA IN LOCO EM TRECHO RETO, 45 CM BASE X 10 CM ALTURA. AF_01/2024 | E11: M | F11: 275.609 | G11: 47.22 | H11: 57.61 | I11: 15877.83 | J11: =I11/$I$31 -> 0.085744757 | K11: =K10+J11 -> 0.77640948 | L11: =IF(K11<=$C$35,$B$35,IF(K11<=$C$36,$B$36,$B$37)) -> A
A12: 1.4.1. | B12: SICOR/ SEINFRA | C12: ED-51141 | D12: GUIA DE MEIO-FIO, EM CONCRETO COM FCK 15MPA, MOLDADA INLOCO, SEÇÃO 15X45CM, FORMA EM MADEIRA, EXCLUSIVE SARJETA, INCLUSIVE ESCAVAÇÃO, APILOAMENTO E TRANSPORTE COM RETIRADA DO MATERIAL ESCAVADO (EM CAÇAMBA) | E12: M | F12: 80 | G12: 147.61 | H12: 180.08 | I12: 14406.4 | J12: =I12/$I$31 -> 0.07779862 | K12: =K11+J12 -> 0.8542081 | L12: =IF(K12<=$C$35,$B$35,IF(K12<=$C$36,$B$36,$B$37)) -> B
A13: 1.3.5. | B13: SICRO/DNIT | C13: 5914612 | D13: TRANSPORTE DE MISTURA BETUMINOSA A QUENTE COM CAMINHÃO COM CAÇAMBA TÉRMICA DE 6 M³ - RODOVIA PAVIMENTADA | E13: TXKM | F13: 5823.1863 | G13: 0.99 | H13: 1.21 | I13: 7046.06 | J13: =I13/$I$31 -> 0.03805071 | K13: =K12+J13 -> 0.89225881 | L13: =IF(K13<=$C$35,$B$35,IF(K13<=$C$36,$B$36,$B$37)) -> B
A14: 1.3.1. | B14: SUDECAP | C14: 20.12.01 | D14: PINTURA DE LIGAÇÃO COM RR-1C | E14: M2 | F14: 1623.0702 | G14: 2.66 | H14: 3.25 | I14: 5274.98 | J14: =I14/$I$31 -> 0.028486379 | K14: =K13+J14 -> 0.92074519 | L14: =IF(K14<=$C$35,$B$35,IF(K14<=$C$36,$B$36,$B$37)) -> B
A15: 1.2.5. | B15: SINAPI | C15: 104790 | D15: DEMOLIÇÃO DE PISO DE CONCRETO SIMPLES, DE FORMA MECANIZADA COM MARTELETE, SEM REAPROVEITAMENTO. AF_09/2023 | E15: M3 | F15: 20.3299 | G15: 120.1 | H15: 146.52 | I15: 2978.74 | J15: =I15/$I$31 -> 0.016086036 | K15: =K14+J15 -> 0.93683123 | L15: =IF(K15<=$C$35,$B$35,IF(K15<=$C$36,$B$36,$B$37)) -> B
A16: 1.2.4. | B16: SICOR/ SEINFRA | C16: ED-51131 | D16: CARGA MANUAL DE MATERIAL DE QUALQUER NATUREZA SOBRE CAMINHÃO, EXCLUSIVE TRANSPORTE | E16: M3 | F16: 46.70605 | G16: 49.78 | H16: 60.73 | I16: 2836.46 | J16: =I16/$I$31 -> 0.015317683 | K16: =K15+J16 -> 0.95214891 | L16: =IF(K16<=$C$35,$B$35,IF(K16<=$C$36,$B$36,$B$37)) -> C
A17: 1.1.2. | B17: SICOR/ SEINFRA | C17: ED-50155 | D17: LOCAÇÃO DE BANHEIRO QUÍMICO, DIMENSÃO (110X120X230)CM, LINHA PADRÃO, CONTENDO UMA (1) PIA/HIGIENIZADOR DE MÃOS, INCLUSIVE MANUTENÇÃO E MOBILIZAÇÃO/DESMOBILIZAÇÃO | E17: MÊS | F17: 2 | G17: 980 | H17: 1195.6 | I17: 2391.2 | J17: =I17/$I$31 -> 0.012913154 | K17: =K16+J17 -> 0.96506207 | L17: =IF(K17<=$C$35,$B$35,IF(K17<=$C$36,$B$36,$B$37)) -> C
A18: 1.2.1. | B18: SICOR/ SEINFRA | C18: ED-50701 | D18: CAPINA MANUAL DO TERRENO, EXCLUSIVE RASTELAMENTO E QUEIMA | E18: M2 | F18: 934.121 | G18: 1.66 | H18: 2.03 | I18: 1896.27 | J18: =I18/$I$31 -> 0.010240392 | K18: =K17+J18 -> 0.97530246 | L18: =IF(K18<=$C$35,$B$35,IF(K18<=$C$36,$B$36,$B$37)) -> C
A19: 1.2.8. | B19: SINAPI | C19: 97914 | D19: TRANSPORTE COM CAMINHÃO BASCULANTE DE 6 M³, EM VIA URBANA PAVIMENTADA, DMT ATÉ 30 KM (UNIDADE: M3XKM). AF_02/2026 | E19: M3XKM | F19: 430.25737 | G19: 3.31 | H19: 4.04 | I19: 1738.24 | J19: =I19/$I$31 -> 0.0093869859 | K19: =K18+J19 -> 0.98468944 | L19: =IF(K19<=$C$35,$B$35,IF(K19<=$C$36,$B$36,$B$37)) -> C
A20: 1.1.1. | B20: SINAPI | C20: 103689 | D20: FORNECIMENTO E INSTALAÇÃO DE PLACA DE OBRA COM CHAPA GALVANIZADA E ESTRUTURA DE MADEIRA. AF_03/2022_PS | E20: M2 | F20: 2.4 | G20: 384.33 | H20: 468.88 | I20: 1125.31 | J20: =I20/$I$31 -> 0.0060769912 | K20: =K19+J20 -> 0.99076644 | L20: =IF(K20<=$C$35,$B$35,IF(K20<=$C$36,$B$36,$B$37)) -> C
A21: 1.4.2. | B21: SUDECAP | C21: 19.22.04 | D21: ALTEAMENTO DE TAMPÃO DE POÇO DE VISITA EM ATÉ 20CM | E21: U | F21: 2 | G21: 441.06 | H21: 538.09 | I21: 1076.18 | J21: =I21/$I$31 -> 0.0058116753 | K21: =K20+J21 -> 0.99657811 | L21: =IF(K21<=$C$35,$B$35,IF(K21<=$C$36,$B$36,$B$37)) -> C
A22: 1.1.3. | B22: SICOR/ SEINFRA | C22: ED-27006 | D22: CONE PARA SINALIZAÇÃO/ISOLAMENTO DE ÁREAS, ALTURA 75CM, INCLUSIVE FORNECIMENTO E MOVIMENTAÇÃO | E22: U | F22: 25 | G22: 5.63 | H22: 6.87 | I22: 171.75 | J22: =I22/$I$31 -> 0.00092749841 | K22: =K21+J22 -> 0.99750561 | L22: =IF(K22<=$C$35,$B$35,IF(K22<=$C$36,$B$36,$B$37)) -> C
A23: 1.3.2. | B23: SINAPI | C23: 102332 | D23: TRANSPORTE COM CAMINHÃO TANQUE DE TRANSPORTE DE MATERIAL ASFÁLTICO DE 20000L, EM VIA URBANA PAVIMENTADA, DMT ATÉ 30KM (UNIDADE: TXKM). AF_07/2020 | E23: TXKM | F23: 43.822895 | G23: 2.02 | H23: 2.46 | I23: 107.8 | J23: =I23/$I$31 -> 0.00058215038 | K23: =K22+J23 -> 0.99808776 | L23: =IF(K23<=$C$35,$B$35,IF(K23<=$C$36,$B$36,$B$37)) -> C
A24: 1.2.2. | B24: SICRO/DNIT | C24: 4011212 | D24: VARREDURA DA SUPERFÍCIE PARA EXECUÇÃO DE REVESTIMENTO ASFÁLTICO | E24: M2 | F24: 934.121 | G24: 0.09 | H24: 0.11 | I24: 102.75 | J24: =I24/$I$31 -> 0.00055487896 | K24: =K23+J24 -> 0.99864264 | L24: =IF(K24<=$C$35,$B$35,IF(K24<=$C$36,$B$36,$B$37)) -> C
A25: 1.2.7. | B25: SICOR/ SEINFRA | C25: ED-51132 | D25: CARGA MECÂNICA DE MATERIAL DE QUALQUER NATUREZA SOBRE CAMINHÃO, EXCLUSIVE TRANSPORTE | E25: M3 | F25: 22.6903 | G25: 3.54 | H25: 4.32 | I25: 98.02 | J25: =I25/$I$31 -> 0.00052933563 | K25: =K24+J25 -> 0.99917197 | L25: =IF(K25<=$C$35,$B$35,IF(K25<=$C$36,$B$36,$B$37)) -> C
A26: 1.2.3. | B26: SINAPI | C26: 106167 | D26: LIMPEZA DE RUA COM CAMINHÃO PIPA. AF_10/2025 | E26: M2 | F26: 934.121 | G26: 0.08 | H26: 0.1 | I26: 93.41 | J26: =I26/$I$31 -> 0.00050444033 | K26: =K25+J26 -> 0.99967642 | L26: =IF(K26<=$C$35,$B$35,IF(K26<=$C$36,$B$36,$B$37)) -> C
A27: 1.2.6. | B27: SICOR/ SEINFRA | C27: ED-48492 | D27: DEMOLIÇÃO MECANIZADA DE REVESTIMENTO ASFÁLTICO, COM EQUIPAMENTO PNEUMÁTICO, INCLUSIVE AFASTAMENTO E EMPILHAMENTO, EXCLUSIVE TRANSPORTE E RETIRADA DO MATERIAL DEMOLIDO | E27: M2 | F27: 2.3604 | G27: 11.35 | H27: 13.85 | I27: 32.69 | J27: =I27/$I$31 -> 0.00017653521 | K27: =K26+J27 -> 0.99985295 | L27: =IF(K27<=$C$35,$B$35,IF(K27<=$C$36,$B$36,$B$37)) -> C
A28: 1.3.3. | B28: SINAPI | C28: 102333 | D28: TRANSPORTE COM CAMINHÃO TANQUE DE TRANSPORTE DE MATERIAL ASFÁLTICO DE 20000L, EM VIA URBANA PAVIMENTADA, ADICIONAL PARA DMT EXCEDENTE A 30 KM (UNIDADE: TXKM). AF_07/2020 | E28: TXKM | F28: 28.966934 | G28: 0.77 | H28: 0.94 | I28: 27.23 | J28: =I28/$I$31 -> 0.00014704967 | K28: =K27+J28 -> 1 | L28: =IF(K28<=$C$35,$B$35,IF(K28<=$C$36,$B$36,$B$37)) -> C
A30: TOTAL | I30: =SUM(#REF!,#REF!) -> #REF!
A31: TOTAL GERAL | I31: =SUM(I10:I28) -> 185175.52 | J31: =SUM(J10:J28) -> 1
B34: CLASSE | C34: CORTE
B35: A | C35: 0.8
B36: B | C36: 0.95
B37: C | C37: 1

Sheet CURVA ABC (LOTE 02)
A2: PROPONENTE/TOMADOR: PREFEITURA MUNICIPAL DE PONTE NOVA | F2: FOLHA Nº: | H2: 01/01. | J2: CURVA ABC (LOTE 02)
A3: OBJETO: EXECUÇÃO DE OBRAS DE PAVIMENTAÇÃO ASFÁLTICA EM CBUQ EM VIAS PÚBLICAS | F3: DATA: | H3: =TODAY() -> 46290
A4: LOCAL: VIAS URBANAS DO MUNICÍPIO DE PONTE NOVA/MG | F4: FORMA DE EXECUÇÃO:
A5: REGIÃO/MÊS DE REFERÊNCIA: TABELA SINAPI-MG - AGOSTO/2026 - SEM DESONERAÇÃO / TABELA SICOR/SEINFRA - REGIÃO LESTE - ABRIL/2026 - SEM DESONERAÇÃO / TABELA SUDECAP-MG - JULHO/2026 - SEM DESONERAÇÃO / TABELA SICRO/DNIT MG - ABRIL/2026 - SEM DESONERAÇÃO | F5: ( ) | G5: DIRETA | H5: ( X ) | I5: INDIRETA
A6: COMPOSIÇÃO DE BDI - EM ANEXO, OBTIDO DO ACÓRDÃO 2622/2013, DO TRIBUNAL DE CONTAS DA UNIÃO - TCU (CONSTRUÇÃO DE RODOVIAS E FERROVIAS) - QUARTIL MÉDIO. | F6: % ISS MUNICIPAL: | G6: 0.03 | H6: BDI: | I6: =BDI!D27 -> 0.22
A8: ITEM | B8: FONTE | C8: CÓDIGO | D8: DESCRIÇÃO | E8: UNIDADE | F8: QUANTIDADE | G8: PREÇO UNITÁRIO S/ BDI | H8: PREÇO UNITÁRIO C/ BDI | I8: PREÇO TOTAL | J8: % | K8: % ACUMULADA | L8: CLASSE
A9: Lote 02: Execução de Revestimento Asfáltico e Drenagem Superficial em Vias Urbanas, com Execução de Base e Sub-base
A10: 1.3.7. | B10: SINAPI | C10: 95995 | D10: EXECUÇÃO DE PAVIMENTO COM APLICAÇÃO DE CONCRETO ASFÁLTICO, CAMADA DE ROLAMENTO - EXCLUSIVE CARGA E TRANSPORTE. AF_10/2025 | E10: M3 | F10: 35.395248 | G10: 2152.94 | H10: 2626.59 | I10: 92968.8 | J10: =I10/$I$41 -> 0.59538468 | K10: =J10 -> 0.59538468 | L10: =IF(K10<=$C$45,$B$45,IF(K10<=$C$46,$B$46,$B$47)) -> A
A11: 1.2.12. | B11: SINAPI | C11: 105731 | D11: RECONSTRUÇÃO DE BASE E SUB-BASE PARA PAVIMENTAÇÃO DE BRITA GRADUADA SIMPLES, COM ESPESSURA DE 20 CM - EXCLUSIVE CARGA E TRANSPORTE. AF_09/2024 | E11: M3 | F11: 54.95744 | G11: 223.44 | H11: 272.6 | I11: 14981.4 | J11: =I11/$I$41 -> 0.095942898 | K11: =K10+J11 -> 0.69132758 | L11: =IF(K11<=$C$45,$B$45,IF(K11<=$C$46,$B$46,$B$47)) -> A
A12: 1.2.14. | B12: SINAPI | C12: 97914 | D12: TRANSPORTE COM CAMINHÃO BASCULANTE DE 6 M³, EM VIA URBANA PAVIMENTADA, DMT ATÉ 30 KM (UNIDADE: M3XKM). AF_02/2026 | E12: M3XKM | F12: 1846.57 | G12: 3.31 | H12: 4.04 | I12: 7460.14 | J12: =I12/$I$41 -> 0.047775738 | K12: =K11+J12 -> 0.73910332 | L12: =IF(K12<=$C$45,$B$45,IF(K12<=$C$46,$B$46,$B$47)) -> A
A13: 1.4.3. | B13: SINAPI | C13: 94289 | D13: EXECUÇÃO DE SARJETA DE CONCRETO USINADO, MOLDADA IN LOCO EM TRECHO RETO, 45 CM BASE X 10 CM ALTURA. AF_01/2024 | E13: M | F13: 104.5787 | G13: 47.22 | H13: 57.61 | I13: 6024.78 | J13: =I13/$I$41 -> 0.0385835 | K13: =K12+J13 -> 0.77768682 | L13: =IF(K13<=$C$45,$B$45,IF(K13<=$C$46,$B$46,$B$47)) -> A
A14: 1.4.1. | B14: SICOR/ SEINFRA | C14: ED-51141 | D14: GUIA DE MEIO-FIO, EM CONCRETO COM FCK 15MPA, MOLDADA INLOCO, SEÇÃO 15X45CM, FORMA EM MADEIRA, EXCLUSIVE SARJETA, INCLUSIVE ESCAVAÇÃO, APILOAMENTO E TRANSPORTE COM RETIRADA DO MATERIAL ESCAVADO (EM CAÇAMBA) | E14: M | F14: 31.9 | G14: 147.61 | H14: 180.08 | I14: 5744.55 | J14: =I14/$I$41 -> 0.03678887 | K14: =K13+J14 -> 0.81447569 | L14: =IF(K14<=$C$45,$B$45,IF(K14<=$C$46,$B$46,$B$47)) -> B
A15: 1.3.8. | B15: SICRO/DNIT | C15: 5914612 | D15: TRANSPORTE DE MISTURA BETUMINOSA A QUENTE COM CAMINHÃO COM CAÇAMBA TÉRMICA DE 6 M³ - RODOVIA PAVIMENTADA | E15: TXKM | F15: 4227.8916 | G15: 0.99 | H15: 1.21 | I15: 5115.75 | J15: =I15/$I$41 -> 0.03276195 | K15: =K14+J15 -> 0.84723764 | L15: =IF(K15<=$C$45,$B$45,IF(K15<=$C$46,$B$46,$B$47)) -> B
A16: 1.2.6. | B16: SINAPI | C16: 97635 | D16: REMOÇÃO DE PISO DE BLOCO INTERTRAVADO OU DE PEDRA PORTUGUESA, DE FORMA MANUAL, COM REAPROVEITAMENTO. AF_09/2023 | E16: M2 | F16: 211.7834 | G16: 17.71 | H16: 21.61 | I16: 4576.64 | J16: =I16/$I$41 -> 0.029309417 | K16: =K15+J16 -> 0.87654705 | L16: =IF(K16<=$C$45,$B$45,IF(K16<=$C$46,$B$46,$B$47)) -> B
A17: 1.1.2. | B17: SICOR/ SEINFRA | C17: ED-50155 | D17: LOCAÇÃO DE BANHEIRO QUÍMICO, DIMENSÃO (110X120X230)CM, LINHA PADRÃO, CONTENDO UMA (1) PIA/HIGIENIZADOR DE MÃOS, INCLUSIVE MANUTENÇÃO E MOBILIZAÇÃO/DESMOBILIZAÇÃO | E17: MÊS | F17: 3 | G17: 980 | H17: 1195.6 | I17: 3586.8 | J17: =I17/$I$41 -> 0.022970349 | K17: =K16+J17 -> 0.8995174 | L17: =IF(K17<=$C$45,$B$45,IF(K17<=$C$46,$B$46,$B$47)) -> B
A18: 1.3.4. | B18: SUDECAP | C18: 20.12.01 | D18: PINTURA DE LIGAÇÃO COM RR-1C | E18: M2 | F18: 925.8944 | G18: 2.66 | H18: 3.25 | I18: 3009.16 | J18: =I18/$I$41 -> 0.019271065 | K18: =K17+J18 -> 0.91878847 | L18: =IF(K18<=$C$45,$B$45,IF(K18<=$C$46,$B$46,$B$47)) -> B
A19: 1.3.1. | B19: SUDECAP | C19: 20.11.05 | D19: IMPRIMAÇÃO COM EMULSÃO ASFÁLTICA - EAI, LIMPEZA MANUAL | E19: M2 | F19: 253.9472 | G19: 9.61 | H19: 11.72 | I19: 2976.26 | J19: =I19/$I$41 -> 0.019060369 | K19: =K18+J19 -> 0.93784884 | L19: =IF(K19<=$C$45,$B$45,IF(K19<=$C$46,$B$46,$B$47)) -> B
A20: 1.2.4. | B20: SICOR/ SEINFRA | C20: ED-51131 | D20: CARGA MANUAL DE MATERIAL DE QUALQUER NATUREZA SOBRE CAMINHÃO, EXCLUSIVE TRANSPORTE | E20: M3 | F20: 21.728016 | G20: 49.78 | H20: 60.73 | I20: 1319.54 | J20: =I20/$I$41 -> 0.0084505114 | K20: =K19+J20 -> 0.94629935 | L20: =IF(K20<=$C$45,$B$45,IF(K20<=$C$46,$B$46,$B$47)) -> B
A21: 1.1.1. | B21: SINAPI | C21: 103689 | D21: FORNECIMENTO E INSTALAÇÃO DE PLACA DE OBRA COM CHAPA GALVANIZADA E ESTRUTURA DE MADEIRA. AF_03/2022_PS | E21: M2 | F21: 2.4 | G21: 384.33 | H21: 468.88 | I21: 1125.31 | J21: =I21/$I$41 -> 0.0072066364 | K21: =K20+J21 -> 0.95350598 | L21: =IF(K21<=$C$45,$B$45,IF(K21<=$C$46,$B$46,$B$47)) -> C
A22: 1.2.10. | B22: SINAPI | C22: 97914 | D22: TRANSPORTE COM CAMINHÃO BASCULANTE DE 6 M³, EM VIA URBANA PAVIMENTADA, DMT ATÉ 30 KM (UNIDADE: M3XKM). AF_02/2026 | E22: M3XKM | F22: 271.08651 | G22: 3.31 | H22: 4.04 | I22: 1095.19 | J22: =I22/$I$41 -> 0.0070137438 | K22: =K21+J22 -> 0.96051973 | L22: =IF(K22<=$C$45,$B$45,IF(K22<=$C$46,$B$46,$B$47)) -> C
A23: 1.4.2. | B23: SUDECAP | C23: 19.22.04 | D23: ALTEAMENTO DE TAMPÃO DE POÇO DE VISITA EM ATÉ 20CM | E23: U | F23: 2 | G23: 441.06 | H23: 538.09 | I23: 1076.18 | J23: =I23/$I$41 -> 0.0068920013 | K23: =K22+J23 -> 0.96741173 | L23: =IF(K23<=$C$45,$B$45,IF(K23<=$C$46,$B$46,$B$47)) -> C
A24: 1.2.8. | B24: SINAPI | C24: 101124 | D24: ESCAVAÇÃO HORIZONTAL EM SOLO DE 1A CATEGORIA COM TRATOR DE ESTEIRAS (100HP/LÂMINA: 2,19M3). AF_07/2020 | E24: M3 | F24: 54.95744 | G24: 15.66 | H24: 19.11 | I24: 1050.24 | J24: =I24/$I$41 -> 0.006725878 | K24: =K23+J24 -> 0.97413761 | L24: =IF(K24<=$C$45,$B$45,IF(K24<=$C$46,$B$46,$B$47)) -> C
A25: 1.2.11. | B25: SINAPI | C25: 100576 | D25: REGULARIZAÇÃO E COMPACTAÇÃO DE SUBLEITO COM SOLO PREDOMINANTEMENTE ARGILOSO, PARA OBRAS DE CONSTRUÇÃO DE PAVIMENTOS. AF_09/2024 | E25: M2 | F25: 274.7872 | G25: 2.94 | H25: 3.59 | I25: 986.49 | J25: =I25/$I$41 -> 0.0063176144 | K25: =K24+J25 -> 0.98045522 | L25: =IF(K25<=$C$45,$B$45,IF(K25<=$C$46,$B$46,$B$47)) -> C
A26: 1.2.5. | B26: SINAPI | C26: 104790 | D26: DEMOLIÇÃO DE PISO DE CONCRETO SIMPLES, DE FORMA MECANIZADA COM MARTELETE, SEM REAPROVEITAMENTO. AF_09/2023 | E26: M3 | F26: 5.58515 | G26: 120.1 | H26: 146.52 | I26: 818.34 | J26: =I26/$I$41 -> 0.0052407593 | K26: =K25+J26 -> 0.98569598 | L26: =IF(K26<=$C$45,$B$45,IF(K26<=$C$46,$B$46,$B$47)) -> C
A27: 1.2.1. | B27: SICOR/ SEINFRA | C27: ED-50701 | D27: CAPINA MANUAL DO TERRENO, EXCLUSIVE RASTELAMENTO E QUEIMA | E27: M2 | F27: 362.1336 | G27: 1.66 | H27: 2.03 | I27: 735.13 | J27: =I27/$I$41 -> 0.0047078713 | K27: =K26+J27 -> 0.99040385 | L27: =IF(K27<=$C$45,$B$45,IF(K27<=$C$46,$B$46,$B$47)) -> C
A28: 1.2.9. | B28: SINAPI | C28: 100973 | D28: CARGA, MANOBRA E DESCARGA DE SOLOS E MATERIAIS GRANULARES EM CAMINHÃO BASCULANTE 6 M³ - CARGA COM PÁ CARREGADEIRA (CAÇAMBA DE 1,7 A 2,8 M³ / 128 HP) E DESCARGA LIVRE (UNIDADE: M3). AF_02/2026 | E28: M3 | F28: 54.9575 | G28: 9.09 | H28: 11.09 | I28: 609.48 | J28: =I28/$I$41 -> 0.0039031918 | K28: =K27+J28 -> 0.99430704 | L28: =IF(K28<=$C$45,$B$45,IF(K28<=$C$46,$B$46,$B$47)) -> C
A29: 1.2.15. | B29: SINAPI | C29: 97915 | D29: TRANSPORTE COM CAMINHÃO BASCULANTE DE 6 M³, EM VIA URBANA PAVIMENTADA, ADICIONAL PARA DMT EXCEDENTE A 30 KM (UNIDADE: M3XKM). AF_02/2026 | E29: M3XKM | F29: 174.1931 | G29: 1.26 | H29: 1.54 | I29: 268.26 | J29: =I29/$I$41 -> 0.0017179731 | K29: =K28+J29 -> 0.99602502 | L29: =IF(K29<=$C$45,$B$45,IF(K29<=$C$46,$B$46,$B$47)) -> C
A30: 1.2.13. | B30: SINAPI | C30: 100575 | D30: REGULARIZAÇÃO DE SUPERFÍCIES COM MOTONIVELADORA. AF_09/2024 | E30: M2 | F30: 274.7872 | G30: 0.56 | H30: 0.68 | I30: 186.86 | J30: =I30/$I$41 -> 0.0011966765 | K30: =K29+J30 -> 0.99722169 | L30: =IF(K30<=$C$45,$B$45,IF(K30<=$C$46,$B$46,$B$47)) -> C
A31: 1.1.3. | B31: SICOR/ SEINFRA | C31: ED-27006 | D31: CONE PARA SINALIZAÇÃO/ISOLAMENTO DE ÁREAS, ALTURA 75CM, INCLUSIVE FORNECIMENTO E MOVIMENTAÇÃO | E31: U | F31: 25 | G31: 5.63 | H31: 6.87 | I31: 171.75 | J31: =I31/$I$41 -> 0.0010999101 | K31: =K30+J31 -> 0.9983216 | L31: =IF(K31<=$C$45,$B$45,IF(K31<=$C$46,$B$46,$B$47)) -> C
A32: 1.2.7. | B32: SICOR/ SEINFRA | C32: ED-51132 | D32: CARGA MECÂNICA DE MATERIAL DE QUALQUER NATUREZA SOBRE CAMINHÃO, EXCLUSIVE TRANSPORTE | E32: M3 | F32: 22.527822 | G32: 3.54 | H32: 4.32 | I32: 97.32 | J32: =I32/$I$41 -> 0.00062325035 | K32: =K31+J32 -> 0.99894485 | L32: =IF(K32<=$C$45,$B$45,IF(K32<=$C$46,$B$46,$B$47)) -> C
A33: 1.3.5. | B33: SINAPI | C33: 102332 | D33: TRANSPORTE COM CAMINHÃO TANQUE DE TRANSPORTE DE MATERIAL ASFÁLTICO DE 20000L, EM VIA URBANA PAVIMENTADA, DMT ATÉ 30KM (UNIDADE: TXKM). AF_07/2020 | E33: TXKM | F33: 24.999149 | G33: 2.02 | H33: 2.46 | I33: 61.5 | J33: =I33/$I$41 -> 0.00039385426 | K33: =K32+J33 -> 0.99933871 | L33: =IF(K33<=$C$45,$B$45,IF(K33<=$C$46,$B$46,$B$47)) -> C
A34: 1.2.2. | B34: SICRO/DNIT | C34: 4011212 | D34: VARREDURA DA SUPERFÍCIE PARA EXECUÇÃO DE REVESTIMENTO ASFÁLTICO | E34: M2 | F34: 362.1336 | G34: 0.09 | H34: 0.11 | I34: 39.83 | J34: =I34/$I$41 -> 0.00025507667 | K34: =K33+J34 -> 0.99959379 | L34: =IF(K34<=$C$45,$B$45,IF(K34<=$C$46,$B$46,$B$47)) -> C
A35: 1.2.3. | B35: SINAPI | C35: 106167 | D35: LIMPEZA DE RUA COM CAMINHÃO PIPA. AF_10/2025 | E35: M2 | F35: 362.1336 | G35: 0.08 | H35: 0.1 | I35: 36.21 | J35: =I35/$I$41 -> 0.0002318937 | K35: =K34+J35 -> 0.99982568 | L35: =IF(K35<=$C$45,$B$45,IF(K35<=$C$46,$B$46,$B$47)) -> C
A36: 1.3.6. | B36: SINAPI | C36: 102333 | D36: TRANSPORTE COM CAMINHÃO TANQUE DE TRANSPORTE DE MATERIAL ASFÁLTICO DE 20000L, EM VIA URBANA PAVIMENTADA, ADICIONAL PARA DMT EXCEDENTE A 30 KM (UNIDADE: TXKM). AF_07/2020 | E36: TXKM | F36: 16.474439 | G36: 0.77 | H36: 0.94 | I36: 15.49 | J36: =I36/$I$41 -> 9.920004e-05 | K36: =K35+J36 -> 0.99992488 | L36: =IF(K36<=$C$45,$B$45,IF(K36<=$C$46,$B$46,$B$47)) -> C
A37: 1.3.2. | B37: SINAPI | C37: 102332 | D37: TRANSPORTE COM CAMINHÃO TANQUE DE TRANSPORTE DE MATERIAL ASFÁLTICO DE 20000L, EM VIA URBANA PAVIMENTADA, DMT ATÉ 30KM (UNIDADE: TXKM). AF_07/2020 | E37: TXKM | F37: 3.809208 | G37: 2.02 | H37: 2.46 | I37: 9.37 | J37: =I37/$I$41 -> 6.0006738e-05 | K37: =K36+J37 -> 0.99998489 | L37: =IF(K37<=$C$45,$B$45,IF(K37<=$C$46,$B$46,$B$47)) -> C
A38: 1.3.3. | B38: SINAPI | C38: 102333 | D38: TRANSPORTE COM CAMINHÃO TANQUE DE TRANSPORTE DE MATERIAL ASFÁLTICO DE 20000L, EM VIA URBANA PAVIMENTADA, ADICIONAL PARA DMT EXCEDENTE A 30 KM (UNIDADE: TXKM). AF_07/2020 | E38: TXKM | F38: 2.5102681 | G38: 0.77 | H38: 0.94 | I38: 2.36 | J38: =I38/$I$41 -> 1.5113757e-05 | K38: =K37+J38 -> 1 | L38: =IF(K38<=$C$45,$B$45,IF(K38<=$C$46,$B$46,$B$47)) -> C
A40: TOTAL | I40: =SUM(#REF!,#REF!) -> #REF!
A41: TOTAL GERAL | I41: =SUM(I10:I38) -> 156149.13 | J41: =SUM(J10:J38) -> 1
B44: CLASSE | C44: CORTE
B45: A | C45: 0.8
...

Sheet CURVA ABC (LOTE 03)
A2: PROPONENTE/TOMADOR: PREFEITURA MUNICIPAL DE PONTE NOVA | F2: FOLHA Nº: | H2: 01/01. | J2: CURVA ABC (LOTE 03)
A3: OBJETO: EXECUÇÃO DE OBRAS DE PAVIMENTAÇÃO ASFÁLTICA EM CBUQ EM VIAS PÚBLICAS | F3: DATA: | H3: =TODAY() -> 46290
A4: LOCAL: VIAS URBANAS DO MUNICÍPIO DE PONTE NOVA/MG | F4: FORMA DE EXECUÇÃO:
A5: REGIÃO/MÊS DE REFERÊNCIA: TABELA SINAPI-MG - AGOSTO/2026 - SEM DESONERAÇÃO / TABELA SICOR/SEINFRA - REGIÃO LESTE - ABRIL/2026 - SEM DESONERAÇÃO / TABELA SUDECAP-MG - JULHO/2026 - SEM DESONERAÇÃO / TABELA SICRO/DNIT MG - ABRIL/2026 - SEM DESONERAÇÃO | F5: ( ) | G5: DIRETA | H5: ( X ) | I5: INDIRETA
A6: COMPOSIÇÃO DE BDI - EM ANEXO, OBTIDO DO ACÓRDÃO 2622/2013, DO TRIBUNAL DE CONTAS DA UNIÃO - TCU (CONSTRUÇÃO DE RODOVIAS E FERROVIAS) - QUARTIL MÉDIO. | F6: % ISS MUNICIPAL: | G6: 0.03 | H6: BDI: | I6: =BDI!D27 -> 0.22
