Workbook

Sheet PLANILHA COMPLETA
A1: PREFEITURA MUNICIPAL DE SALINAS - MG
A2: PLANILHA ORÇAMENTÁRIA
A3: REFORMAS PONTUAIS EM PRAÇAS DA CIDADE
A4: REFERÊNCIAS: SINAPI 01/2026 - SICOR 10/2025 | D4: DATA: mai/26 | G4: B.D.I.: | H4: =BDI!Q3 -> 0.20340344
A5: ITEM | B5: CÓDIGO | C5: DISCRIMINAÇÃO DOS SERVIÇOS | D5: UNID. | E5: QUANT. | F5: PREÇO UNIT. | G5: PREÇO C/ BDI | H5: TOTAL | J5: =H73 -> 138895.05
A6: 1.1 - PRAÇA DR. MORAIS | H6: =SUM(H7:H9) -> 5067.3422 | I6: =SUM(H6,H10,H13) -> 46995.94
A7: 1.1.1 | B7: ED-16660 | C7: FORNECIMENTO E COLOCAÇÃO DE PLACA DE OBRA EM CHAPA GALVANIZADA #26, ESP. 0,45 MM, PLOTADA COM ADESIVO VINÍLICO, AFIXADA COM REBITES 4,8X40 MM, EM ESTRUTURA METÁLICA DE METALON 20X20 MM, ESP. 1,25 MM, INCLUSIVE SUPORTE EM EUCALIPTO AUTOCLAVADO PINTADO COM TINTA PVA DUAS (2) DEMÃOS (2,4 X 1,2 m) | D7: m² | E7: ='MEMÓRIA DE CÁLCULO COMPLETA'!E7 -> 2.88 | F7: 256.28 | G7: =F7*($H$4+1) -> 308.40823 | H7: =+E7*G7 -> 888.21571 | I7: 46996.1
A8: 1.1.2 | B8: ED-50703 | C8: LIMPEZA DE TERRENO, INCLUSIVE CAPINA, RASTELAMENTO COM AFASTAMENTO ATÉ VINTE (20) METROS E QUEIMA CONTROLADA | D8: m² | E8: ='MEMÓRIA DE CÁLCULO COMPLETA'!E8 -> 169.9 | F8: 2.48 | G8: =F8*($H$4+1) -> 2.9844405 | H8: =E8*G8 -> 507.05645 | I8: =I6-I7 -> -0.15953933
A9: 1.1.3 | B9: 103946 | C9: PLANTIO DE GRAMA ESMERALDA OU SÃO CARLOS OU CURITIBANA, EM PLACAS. | D9: m² | E9: ='MEMÓRIA DE CÁLCULO COMPLETA'!E9 -> 169.9 | F9: 17.96 | G9: =F9*($H$4+1) -> 21.613126 | H9: =E9*G9 -> 3672.0701
A10: 1.2 - PRAÇA JK | H10: =SUM(H11:H12) -> 21030.673
A11: 1.2.1 | B11: ED-50703 | C11: LIMPEZA DE TERRENO, INCLUSIVE CAPINA, RASTELAMENTO COM AFASTAMENTO ATÉ VINTE (20) METROS E QUEIMA CONTROLADA | D11: m² | E11: ='MEMÓRIA DE CÁLCULO COMPLETA'!E11 -> 854.99 | F11: =F8 -> 2.48 | G11: =F11*($H$4+1) -> 2.9844405 | H11: =E11*G11 -> 2551.6668
A12: 1.2.2 | B12: 103946 | C12: PLANTIO DE GRAMA ESMERALDA OU SÃO CARLOS OU CURITIBANA, EM PLACAS. | D12: m² | E12: ='MEMÓRIA DE CÁLCULO COMPLETA'!E12 -> 854.99 | F12: =F9 -> 17.96 | G12: =F12*($H$4+1) -> 21.613126 | H12: =E12*G12 -> 18479.006
A13: 1.3. - PRAÇA DA BÍBLIA | H13: =SUM(H14:H25) -> 20897.925
A14: 1.3.1 | B14: ED-50703 | C14: LIMPEZA DE TERRENO, INCLUSIVE CAPINA, RASTELAMENTO COM AFASTAMENTO ATÉ VINTE (20) METROS E QUEIMA CONTROLADA | D14: m² | E14: ='MEMÓRIA DE CÁLCULO COMPLETA'!E14 -> 812.3 | F14: =F8 -> 2.48 | G14: =F14*($H$4+1) -> 2.9844405 | H14: =E14*G14 -> 2424.261
A15: 1.3.2 | B15: 98504 | C15: PLANTIO DE GRAMA BATATAIS EM PLACAS. | D15: m² | E15: ='MEMÓRIA DE CÁLCULO COMPLETA'!E15 -> 812.3 | F15: 13.97 | G15: =F15*($H$4+1) -> 16.811546 | H15: =E15*G15 -> 13656.019
A16: 1.3.3 | B16: ED-17905 | C16: PONTO DE EMBUTIR PARA UMA (1) TOMADA PADRÃO, TRÊS (3) POLOS (2P+T/10A-250V), COM PLACA 4"X2" DE UM (1) POSTO, COM ELETRODUTO DE PVC RÍGIDO ROSCÁVEL, DN 20MM (3/4"), EMBUTIDO NO PISO E CABO DE COBRE FLEXÍVEL, CLASSE 5, ISOLAMENTO TIPO LSHF/ATOX, NÃO HALOGENADO, SEÇÃO 2,5MM2 (70°C-450/750V), COM DISTÂNCIA DE ATÉ DEZ (10) METROS DO PONTO DE DERIVAÇÃO, INCLUSIVE CAIXA DE LIGAÇÃO, SUPORTE E FIXAÇÃO DO ELETRODUTO COM ENCHIMENTO DO RASGO NO PISO COM ARGAMASSA | D16: unid | E16: ='MEMÓRIA DE CÁLCULO COMPLETA'!E16 -> 1 | F16: 372.12 | G16: =F16*($H$4+1) -> 447.81049 | H16: =E16*G16 -> 447.81049
A17: 1.3.4 | B17: ED-20907 | C17: FUNDAÇÃO EM BASE DE CONCRETO PARA FIXAÇÃO DE POSTE FLANGEADO, ALTURA ÚTIL PARA POSTE DE 7M ATÉ 9M, COM FORMA, INCLUSIVE ESPERA EM VERGALHÃO DE AÇO COM ROSCA TOTAL, ESCAVAÇÃO, APILOAMENTO, REATERRO E TRANSPORTE COM RETIRADA DO MATERIAL ESCAVADO (EM CAÇAMBA) | D17: unid | E17: ='MEMÓRIA DE CÁLCULO COMPLETA'!E17 -> 1 | F17: 172.64 | G17: =F17*($H$4+1) -> 207.75557 | H17: =E17*G17 -> 207.75557
A18: 1.3.5 | B18: MATED-13026 | C18: POSTE TELECÔNICO RETO (ALTURA: 9M|MATERIAL: AÇO GALVANIZADO) | D18: unid | E18: ='MEMÓRIA DE CÁLCULO COMPLETA'!E18 -> 1 | F18: 1719 | G18: =F18*($H$4+1) -> 2068.6505 | H18: =E18*G18 -> 2068.6505
A19: 1.3.6 | B19: MATED-9816 | C19: PORCA SEXTAVADA (MATERIAL: AÇO|DIÂMETRO: 19MM [3/4"]|PESO/100PÇ: 5,00 KG) | D19: unid | E19: ='MEMÓRIA DE CÁLCULO COMPLETA'!E19 -> 2 | F19: 1.58 | G19: =F19*($H$4+1) -> 1.9013774 | H19: =E19*G19 -> 3.8027549
A20: 1.3.7 | B20: MATED-11945 | C20: SUPORTE PARA LUMINÁRIA PÚBLICA (TIPO: PÉTALA|QUANTIDADE DE LUMINÁRIAS: 2) | D20: unid | E20: ='MEMÓRIA DE CÁLCULO COMPLETA'!E20 -> 1 | F20: 200.76 | G20: =F20*($H$4+1) -> 241.59527 | H20: =E20*G20 -> 241.59527
A21: 1.3.8 | B21: MATED-11806 | C21: CABO UNIPOLAR ISOLADO EM POLÍMERO TERMOPLÁSTICO, TIPO LSHF/ATOX, NÃO HALOGENADO, 450/750V, 70°C - BAIXA TENSÃO (ENCORDOAMENTO: CLASSE 5|SEÇÃO TRANSVERSAL: 2,50MM2) | D21: m | E21: ='MEMÓRIA DE CÁLCULO COMPLETA'!E21 -> 25 | F21: 2.37 | G21: =F21*($H$4+1) -> 2.8520661 | H21: =E21*G21 -> 71.301654
A22: 1.3.9 | B22: ED-50373 | C22: ELETRICISTA COM ENCARGOS COMPLEMENTARES | D22: hora | E22: ='MEMÓRIA DE CÁLCULO COMPLETA'!E22 -> 6 | F22: 28.99 | G22: =F22*($H$4+1) -> 34.886666 | H22: =E22*G22 -> 209.31999
A23: 1.3.10 | B23: ED-50362 | C23: AJUDANTE DE ELETRICISTA COM ENCARGOS COMPLEMENTARES | D23: hora | E23: ='MEMÓRIA DE CÁLCULO COMPLETA'!E23 -> 6 | F23: 23.52 | G23: =F23*($H$4+1) -> 28.304049 | H23: =E23*G23 -> 169.82429
A24: 1.3.11 | B24: ED-49523 | C24: RELÉ FOTOELÉTRICO, TENSÃO 120V COM CAPACIDADE DE CARGA 1200VA, INCLUSIVE BASE E INSTALAÇÃO | D24: unid | E24: ='MEMÓRIA DE CÁLCULO COMPLETA'!E24 -> 4 | F24: 49.75 | G24: =F24*($H$4+1) -> 59.869321 | H24: =E24*G24 -> 239.47728
A25: 1.3.12 | B25: ED-22217 | C25: LUMINÁRIA PÚBLICA DE LED, POTÊNCIA DE 200W, EXCLUSIVE SUPORTE E POSTE | D25: unid | E25: ='MEMÓRIA DE CÁLCULO COMPLETA'!E25 -> 4 | F25: 240.59 | G25: =F25*($H$4+1) -> 289.52683 | H25: =E25*G25 -> 1158.1073
A26: 1.4 - PRAÇA FLORESTA | H26: =SUM(H27:H28) -> 2368.7456
A27: 1.4.1 | B27: ED-50703 | C27: LIMPEZA DE TERRENO, INCLUSIVE CAPINA, RASTELAMENTO COM AFASTAMENTO ATÉ VINTE (20) METROS E QUEIMA CONTROLADA | D27: m² | E27: ='MEMÓRIA DE CÁLCULO COMPLETA'!E27 -> 96.3 | F27: =F8 -> 2.48 | G27: =F27*($H$4+1) -> 2.9844405 | H27: =E27*G27 -> 287.40162
A28: 1.4.2 | B28: 103946 | C28: PLANTIO DE GRAMA ESMERALDA OU SÃO CARLOS OU CURITIBANA, EM PLACAS. | D28: m² | E28: ='MEMÓRIA DE CÁLCULO COMPLETA'!E28 -> 96.3 | F28: =F9 -> 17.96 | G28: =F28*($H$4+1) -> 21.613126 | H28: =E28*G28 -> 2081.344
A29: 1.5 - PRAÇA FAUSTINA | G29: =F29*($H$4+1) -> 0 | H29: =SUM(H30:H31) -> 2122.77
A30: 1.5.1 | B30: ED-50703 | C30: LIMPEZA DE TERRENO, INCLUSIVE CAPINA, RASTELAMENTO COM AFASTAMENTO ATÉ VINTE (20) METROS E QUEIMA CONTROLADA | D30: m² | E30: ='MEMÓRIA DE CÁLCULO COMPLETA'!E30 -> 86.3 | F30: =F8 -> 2.48 | G30: =F30*($H$4+1) -> 2.9844405 | H30: =E30*G30 -> 257.55722
A31: 1.5.2 | B31: 103946 | C31: PLANTIO DE GRAMA ESMERALDA OU SÃO CARLOS OU CURITIBANA, EM PLACAS. | D31: m² | E31: ='MEMÓRIA DE CÁLCULO COMPLETA'!E31 -> 86.3 | F31: =F9 -> 17.96 | G31: =F31*($H$4+1) -> 21.613126 | H31: =E31*G31 -> 1865.2128
A32: 1.6 - PRAÇA PADRE LÉO | H32: =SUM(H33:H44) -> 57314.151
A33: 1.6.1 | B33: ED-50703 | C33: LIMPEZA DE TERRENO, INCLUSIVE CAPINA, RASTELAMENTO COM AFASTAMENTO ATÉ VINTE (20) METROS E QUEIMA CONTROLADA | D33: m² | E33: ='MEMÓRIA DE CÁLCULO COMPLETA'!E33 -> 2442.72 | F33: =F8 -> 2.48 | G33: =F33*($H$4+1) -> 2.9844405 | H33: =E33*G33 -> 7290.1526
A34: 1.6.2 | B34: 98504 | C34: PLANTIO DE GRAMA BATATAIS EM PLACAS. | D34: m² | E34: ='MEMÓRIA DE CÁLCULO COMPLETA'!E34 -> 2442.72 | F34: =F15 -> 13.97 | G34: =F34*($H$4+1) -> 16.811546 | H34: =E34*G34 -> 41065.9
A35: 1.6.3 | B35: ED-17905 | C35: PONTO DE EMBUTIR PARA UMA (1) TOMADA PADRÃO, TRÊS (3) POLOS (2P+T/10A-250V), COM PLACA 4"X2" DE UM (1) POSTO, COM ELETRODUTO DE PVC RÍGIDO ROSCÁVEL, DN 20MM (3/4"), EMBUTIDO NO PISO E CABO DE COBRE FLEXÍVEL, CLASSE 5, ISOLAMENTO TIPO LSHF/ATOX, NÃO HALOGENADO, SEÇÃO 2,5MM2 (70°C-450/750V), COM DISTÂNCIA DE ATÉ DEZ (10) METROS DO PONTO DE DERIVAÇÃO, INCLUSIVE CAIXA DE LIGAÇÃO, SUPORTE E FIXAÇÃO DO ELETRODUTO COM ENCHIMENTO DO RASGO NO PISO COM ARGAMASSA | D35: unid | E35: ='MEMÓRIA DE CÁLCULO COMPLETA'!E35 -> 2 | F35: =F16 -> 372.12 | G35: =F35*($H$4+1) -> 447.81049 | H35: =E35*G35 -> 895.62098
A36: 1.6.4 | B36: ED-20907 | C36: FUNDAÇÃO EM BASE DE CONCRETO PARA FIXAÇÃO DE POSTE FLANGEADO, ALTURA ÚTIL PARA POSTE DE 7M ATÉ 9M, COM FORMA, INCLUSIVE ESPERA EM VERGALHÃO DE AÇO COM ROSCA TOTAL, ESCAVAÇÃO, APILOAMENTO, REATERRO E TRANSPORTE COM RETIRADA DO MATERIAL ESCAVADO (EM CAÇAMBA) | D36: unid | E36: ='MEMÓRIA DE CÁLCULO COMPLETA'!E36 -> 2 | F36: =F17 -> 172.64 | G36: =F36*($H$4+1) -> 207.75557 | H36: =E36*G36 -> 415.51114
A37: 1.6.5 | B37: MATED-13026 | C37: POSTE TELECÔNICO RETO (ALTURA: 9M|MATERIAL: AÇO GALVANIZADO) | D37: unid | E37: ='MEMÓRIA DE CÁLCULO COMPLETA'!E37 -> 2 | F37: =F18 -> 1719 | G37: =F37*($H$4+1) -> 2068.6505 | H37: =E37*G37 -> 4137.301
A38: 1.6.6 | B38: MATED-9816 | C38: PORCA SEXTAVADA (MATERIAL: AÇO|DIÂMETRO: 19MM [3/4"]|PESO/100PÇ: 5,00 KG) | D38: unid | E38: ='MEMÓRIA DE CÁLCULO COMPLETA'!E38 -> 6 | F38: =F19 -> 1.58 | G38: =F38*($H$4+1) -> 1.9013774 | H38: =E38*G38 -> 11.408265
A39: 1.6.7 | B39: MATED-11945 | C39: SUPORTE PARA LUMINÁRIA PÚBLICA (TIPO: PÉTALA|QUANTIDADE DE LUMINÁRIAS: 6) | D39: unid | E39: ='MEMÓRIA DE CÁLCULO COMPLETA'!E39 -> 3 | F39: =F20 -> 200.76 | G39: =F39*($H$4+1) -> 241.59527 | H39: =E39*G39 -> 724.78582
A40: 1.6.8 | B40: MATED-11806 | C40: CABO UNIPOLAR ISOLADO EM POLÍMERO TERMOPLÁSTICO, TIPO LSHF/ATOX, NÃO HALOGENADO, 450/750V, 70°C - BAIXA TENSÃO (ENCORDOAMENTO: CLASSE 5|SEÇÃO TRANSVERSAL: 2,50MM2) | D40: m | E40: ='MEMÓRIA DE CÁLCULO COMPLETA'!E40 -> 38 | F40: =F21 -> 2.37 | G40: =F40*($H$4+1) -> 2.8520661 | H40: =E40*G40 -> 108.37851
...

Sheet PLANILHA 46.995,94
A1: PREFEITURA MUNICIPAL DE SALINAS - MG
A2: PLANILHA ORÇAMENTÁRIA
A3: REFORMAS PONTUAIS EM PRAÇAS DA CIDADE | J3: =H26 -> 46995.94
A4: REFERÊNCIAS: SINAPI 01/2026 - SICOR 10/2025 | D4: DATA: mai/26 | G4: B.D.I.: | H4: =BDI!Q3 -> 0.20340344
A5: ITEM | B5: CÓDIGO | C5: DISCRIMINAÇÃO DOS SERVIÇOS | D5: UNID. | E5: QUANT. | F5: PREÇO UNIT. | G5: PREÇO C/ BDI | H5: TOTAL | I5: quantidades originais | J5: 46996.1
A6: 1.1 - PRAÇA DR. MORAIS | H6: =SUM(H7:H9) -> 5067.3422 | J6: =J3-J5 -> -0.15953933
A7: 1.1.1 | B7: ED-16660 | C7: FORNECIMENTO E COLOCAÇÃO DE PLACA DE OBRA EM CHAPA GALVANIZADA #26, ESP. 0,45 MM, PLOTADA COM ADESIVO VINÍLICO, AFIXADA COM REBITES 4,8X40 MM, EM ESTRUTURA METÁLICA DE METALON 20X20 MM, ESP. 1,25 MM, INCLUSIVE SUPORTE EM EUCALIPTO AUTOCLAVADO PINTADO COM TINTA PVA DUAS (2) DEMÃOS (2,4 X 1,2 m) | D7: m² | E7: ='MEMÓRIA DE CÁLCULO COMPLETA'!E7 -> 2.88 | F7: 256.28 | G7: =F7*($H$4+1) -> 308.40823 | H7: =E7*G7 -> 888.21571 | I7: 2.88
A8: 1.1.2 | B8: ED-50703 | C8: LIMPEZA DE TERRENO, INCLUSIVE CAPINA, RASTELAMENTO COM AFASTAMENTO ATÉ VINTE (20) METROS E QUEIMA CONTROLADA | D8: m² | E8: ='MEMÓRIA DE CÁLCULO COMPLETA'!E8 -> 169.9 | F8: 2.48 | G8: =F8*($H$4+1) -> 2.9844405 | H8: =E8*G8 -> 507.05645 | I8: 169.9
A9: 1.1.3 | B9: 103946 | C9: PLANTIO DE GRAMA ESMERALDA OU SÃO CARLOS OU CURITIBANA, EM PLACAS. | D9: m² | E9: ='MEMÓRIA DE CÁLCULO COMPLETA'!E9 -> 169.9 | F9: 17.96 | G9: =F9*($H$4+1) -> 21.613126 | H9: =E9*G9 -> 3672.0701 | I9: 169.9
A10: 1.2 - PRAÇA JK | H10: =SUM(H11:H12) -> 21030.673 | I10: 0
A11: 1.2.1 | B11: ED-50703 | C11: LIMPEZA DE TERRENO, INCLUSIVE CAPINA, RASTELAMENTO COM AFASTAMENTO ATÉ VINTE (20) METROS E QUEIMA CONTROLADA | D11: m² | E11: 854.99 | F11: =F8 -> 2.48 | G11: =F11*($H$4+1) -> 2.9844405 | H11: =E11*G11 -> 2551.6668 | I11: 890.9
A12: 1.2.2 | B12: 103946 | C12: PLANTIO DE GRAMA ESMERALDA OU SÃO CARLOS OU CURITIBANA, EM PLACAS. | D12: m² | E12: =E11 -> 854.99 | F12: =F9 -> 17.96 | G12: =F12*($H$4+1) -> 21.613126 | H12: =E12*G12 -> 18479.006 | I12: 890.9
A13: 1.3 - PRAÇA DA BÍBLIA | H13: =SUM(H14:H25) -> 20897.925 | I13: 0
A14: 1.3.1 | B14: ED-50703 | C14: LIMPEZA DE TERRENO, INCLUSIVE CAPINA, RASTELAMENTO COM AFASTAMENTO ATÉ VINTE (20) METROS E QUEIMA CONTROLADA | D14: m² | E14: ='MEMÓRIA DE CÁLCULO COMPLETA'!E14 -> 812.3 | F14: =F8 -> 2.48 | G14: =F14*($H$4+1) -> 2.9844405 | H14: =E14*G14 -> 2424.261 | I14: 812.3
A15: 1.3.2 | B15: 98504 | C15: PLANTIO DE GRAMA BATATAIS EM PLACAS. | D15: m² | E15: ='MEMÓRIA DE CÁLCULO COMPLETA'!E15 -> 812.3 | F15: 13.97 | G15: =F15*($H$4+1) -> 16.811546 | H15: =E15*G15 -> 13656.019 | I15: 812.3
A16: 1.3.3 | B16: ED-17905 | C16: PONTO DE EMBUTIR PARA UMA (1) TOMADA PADRÃO, TRÊS (3) POLOS (2P+T/10A-250V), COM PLACA 4"X2" DE UM (1) POSTO, COM ELETRODUTO DE PVC RÍGIDO ROSCÁVEL, DN 20MM (3/4"), EMBUTIDO NO PISO E CABO DE COBRE FLEXÍVEL, CLASSE 5, ISOLAMENTO TIPO LSHF/ATOX, NÃO HALOGENADO, SEÇÃO 2,5MM2 (70°C-450/750V), COM DISTÂNCIA DE ATÉ DEZ (10) METROS DO PONTO DE DERIVAÇÃO, INCLUSIVE CAIXA DE LIGAÇÃO, SUPORTE E FIXAÇÃO DO ELETRODUTO COM ENCHIMENTO DO RASGO NO PISO COM ARGAMASSA | D16: unid | E16: ='MEMÓRIA DE CÁLCULO COMPLETA'!E16 -> 1 | F16: 372.12 | G16: =F16*($H$4+1) -> 447.81049 | H16: =E16*G16 -> 447.81049 | I16: 1
A17: 1.3.4 | B17: ED-20907 | C17: FUNDAÇÃO EM BASE DE CONCRETO PARA FIXAÇÃO DE POSTE FLANGEADO, ALTURA ÚTIL PARA POSTE DE 7M ATÉ 9M, COM FORMA, INCLUSIVE ESPERA EM VERGALHÃO DE AÇO COM ROSCA TOTAL, ESCAVAÇÃO, APILOAMENTO, REATERRO E TRANSPORTE COM RETIRADA DO MATERIAL ESCAVADO (EM CAÇAMBA) | D17: unid | E17: ='MEMÓRIA DE CÁLCULO COMPLETA'!E17 -> 1 | F17: 172.64 | G17: =F17*($H$4+1) -> 207.75557 | H17: =E17*G17 -> 207.75557 | I17: 1
A18: 1.3.5 | B18: MATED-13026 | C18: POSTE TELECÔNICO RETO (ALTURA: 9M|MATERIAL: AÇO GALVANIZADO) | D18: unid | E18: ='MEMÓRIA DE CÁLCULO COMPLETA'!E18 -> 1 | F18: 1719 | G18: =F18*($H$4+1) -> 2068.6505 | H18: =E18*G18 -> 2068.6505 | I18: 1
A19: 1.3.6 | B19: MATED-9816 | C19: PORCA SEXTAVADA (MATERIAL: AÇO|DIÂMETRO: 19MM [3/4"]|PESO/100PÇ: 5,00 KG) | D19: unid | E19: ='MEMÓRIA DE CÁLCULO COMPLETA'!E19 -> 2 | F19: 1.58 | G19: =F19*($H$4+1) -> 1.9013774 | H19: =E19*G19 -> 3.8027549 | I19: 2
A20: 1.3.7 | B20: MATED-11945 | C20: SUPORTE PARA LUMINÁRIA PÚBLICA (TIPO: PÉTALA|QUANTIDADE DE LUMINÁRIAS: 2) | D20: unid | E20: ='MEMÓRIA DE CÁLCULO COMPLETA'!E20 -> 1 | F20: 200.76 | G20: =F20*($H$4+1) -> 241.59527 | H20: =E20*G20 -> 241.59527 | I20: 1
A21: 1.3.8 | B21: MATED-11806 | C21: CABO UNIPOLAR ISOLADO EM POLÍMERO TERMOPLÁSTICO, TIPO LSHF/ATOX, NÃO HALOGENADO, 450/750V, 70°C - BAIXA TENSÃO (ENCORDOAMENTO: CLASSE 5|SEÇÃO TRANSVERSAL: 2,50MM2) | D21: m | E21: ='MEMÓRIA DE CÁLCULO COMPLETA'!E21 -> 25 | F21: 2.37 | G21: =F21*($H$4+1) -> 2.8520661 | H21: =E21*G21 -> 71.301654 | I21: 25
A22: 1.3.9 | B22: ED-50373 | C22: ELETRICISTA COM ENCARGOS COMPLEMENTARES | D22: hora | E22: ='MEMÓRIA DE CÁLCULO COMPLETA'!E22 -> 6 | F22: 28.99 | G22: =F22*($H$4+1) -> 34.886666 | H22: =E22*G22 -> 209.31999 | I22: 6
A23: 1.3.10 | B23: ED-50362 | C23: AJUDANTE DE ELETRICISTA COM ENCARGOS COMPLEMENTARES | D23: hora | E23: ='MEMÓRIA DE CÁLCULO COMPLETA'!E23 -> 6 | F23: 23.52 | G23: =F23*($H$4+1) -> 28.304049 | H23: =E23*G23 -> 169.82429 | I23: 6
A24: 1.3.11 | B24: ED-49523 | C24: RELÉ FOTOELÉTRICO, TENSÃO 120V COM CAPACIDADE DE CARGA 1200VA, INCLUSIVE BASE E INSTALAÇÃO | D24: unid | E24: ='MEMÓRIA DE CÁLCULO COMPLETA'!E24 -> 4 | F24: 49.75 | G24: =F24*($H$4+1) -> 59.869321 | H24: =E24*G24 -> 239.47728 | I24: 4
A25: 1.3.12 | B25: ED-22217 | C25: LUMINÁRIA PÚBLICA DE LED, POTÊNCIA DE 200W, EXCLUSIVE SUPORTE E POSTE | D25: unid | E25: 4 | F25: 240.59 | G25: =F25*($H$4+1) -> 289.52683 | H25: =E25*G25 -> 1158.1073 | I25: 1
C26: TOTAL GERAL | H26: =SUM(H6:H25)/2 -> 46995.94 | I26: =H26-J5 -> -0.15953933
I28: =H26+'PLANILHA 91.899,11'!H53 -> 138895.05
B31: Saulo Fabrício Lafetá Gonçalves Joaquim Neres Xavier Dias
B32: Arquiteto e Urbanista - CAU A 47.932-2 Prefeito Municipal

Sheet PLANILHA 91.899,11
A1: PREFEITURA MUNICIPAL DE SALINAS - MG
A2: PLANILHA ORÇAMENTÁRIA
A3: REFORMAS PONTUAIS EM PRAÇAS DA CIDADE
A4: REFERÊNCIAS: SINAPI 01/2026 - SICOR 10/2025 | D4: DATA: mai/26 | G4: B.D.I.: | H4: =BDI!Q3 -> 0.20340344
A5: ITEM | B5: CÓDIGO | C5: DISCRIMINAÇÃO DOS SERVIÇOS | D5: UNID. | E5: QUANT. | F5: PREÇO UNIT. | G5: PREÇO C/ BDI | H5: TOTAL | I5: =$I$55 -> -0.16119712 | J5: =H53 -> 91899.111
A6: 1.4 - PRAÇA FLORESTA | H6: =SUM(H7:H8) -> 2368.7456 | I6: =$I$55 -> -0.16119712
A7: 1.4.1 | B7: ED-50703 | C7: LIMPEZA DE TERRENO, INCLUSIVE CAPINA, RASTELAMENTO COM AFASTAMENTO ATÉ VINTE (20) METROS E QUEIMA CONTROLADA | D7: m² | E7: ='MEMÓRIA DE CÁLCULO COMPLETA'!E27 -> 96.3 | F7: 2.48 | G7: =F7*($H$4+1) -> 2.9844405 | H7: =E7*G7 -> 287.40162 | I7: =$I$55 -> -0.16119712
A8: 1.4.2 | B8: 103946 | C8: PLANTIO DE GRAMA ESMERALDA OU SÃO CARLOS OU CURITIBANA, EM PLACAS. | D8: m² | E8: ='MEMÓRIA DE CÁLCULO COMPLETA'!E28 -> 96.3 | F8: 17.96 | G8: =F8*($H$4+1) -> 21.613126 | H8: =E8*G8 -> 2081.344 | I8: =$I$55 -> -0.16119712
A9: 1.5 - PRAÇA FAUSTINA | G9: =F9*($H$4+1) -> 0 | H9: =SUM(H10:H11) -> 2122.77 | I9: =$I$55 -> -0.16119712
A10: 1.5.1 | B10: ED-50703 | C10: LIMPEZA DE TERRENO, INCLUSIVE CAPINA, RASTELAMENTO COM AFASTAMENTO ATÉ VINTE (20) METROS E QUEIMA CONTROLADA | D10: m² | E10: ='MEMÓRIA DE CÁLCULO COMPLETA'!E30 -> 86.3 | F10: 2.48 | G10: =F10*($H$4+1) -> 2.9844405 | H10: =E10*G10 -> 257.55722 | I10: =$I$55 -> -0.16119712
A11: 1.5.2 | B11: 103946 | C11: PLANTIO DE GRAMA ESMERALDA OU SÃO CARLOS OU CURITIBANA, EM PLACAS. | D11: m² | E11: ='MEMÓRIA DE CÁLCULO COMPLETA'!E31 -> 86.3 | F11: 17.96 | G11: =F11*($H$4+1) -> 21.613126 | H11: =E11*G11 -> 1865.2128 | I11: =$I$55 -> -0.16119712
A12: 1.6 - PRAÇA PADRE LÉO | H12: =SUM(H13:H24) -> 57314.151 | I12: =$I$55 -> -0.16119712
A13: 1.6.1 | B13: ED-50703 | C13: LIMPEZA DE TERRENO, INCLUSIVE CAPINA, RASTELAMENTO COM AFASTAMENTO ATÉ VINTE (20) METROS E QUEIMA CONTROLADA | D13: m² | E13: 2442.72 | F13: 2.48 | G13: =F13*($H$4+1) -> 2.9844405 | H13: =E13*G13 -> 7290.1526 | I13: =$I$55 -> -0.16119712
A14: 1.6.2 | B14: 98504 | C14: PLANTIO DE GRAMA BATATAIS EM PLACAS. | D14: m² | E14: =E13 -> 2442.72 | F14: 13.97 | G14: =F14*($H$4+1) -> 16.811546 | H14: =E14*G14 -> 41065.9 | I14: =$I$55 -> -0.16119712
A15: 1.6.3 | B15: ED-17905 | C15: PONTO DE EMBUTIR PARA UMA (1) TOMADA PADRÃO, TRÊS (3) POLOS (2P+T/10A-250V), COM PLACA 4"X2" DE UM (1) POSTO, COM ELETRODUTO DE PVC RÍGIDO ROSCÁVEL, DN 20MM (3/4"), EMBUTIDO NO PISO E CABO DE COBRE FLEXÍVEL, CLASSE 5, ISOLAMENTO TIPO LSHF/ATOX, NÃO HALOGENADO, SEÇÃO 2,5MM2 (70°C-450/750V), COM DISTÂNCIA DE ATÉ DEZ (10) METROS DO PONTO DE DERIVAÇÃO, INCLUSIVE CAIXA DE LIGAÇÃO, SUPORTE E FIXAÇÃO DO ELETRODUTO COM ENCHIMENTO DO RASGO NO PISO COM ARGAMASSA | D15: unid | E15: ='MEMÓRIA DE CÁLCULO COMPLETA'!E35 -> 2 | F15: 372.12 | G15: =F15*($H$4+1) -> 447.81049 | H15: =E15*G15 -> 895.62098 | I15: =$I$55 -> -0.16119712
A16: 1.6.4 | B16: ED-20907 | C16: FUNDAÇÃO EM BASE DE CONCRETO PARA FIXAÇÃO DE POSTE FLANGEADO, ALTURA ÚTIL PARA POSTE DE 7M ATÉ 9M, COM FORMA, INCLUSIVE ESPERA EM VERGALHÃO DE AÇO COM ROSCA TOTAL, ESCAVAÇÃO, APILOAMENTO, REATERRO E TRANSPORTE COM RETIRADA DO MATERIAL ESCAVADO (EM CAÇAMBA) | D16: unid | E16: ='MEMÓRIA DE CÁLCULO COMPLETA'!E36 -> 2 | F16: 172.64 | G16: =F16*($H$4+1) -> 207.75557 | H16: =E16*G16 -> 415.51114 | I16: =$I$55 -> -0.16119712
A17: 1.6.5 | B17: MATED-13026 | C17: POSTE TELECÔNICO RETO (ALTURA: 9M|MATERIAL: AÇO GALVANIZADO) | D17: unid | E17: ='MEMÓRIA DE CÁLCULO COMPLETA'!E37 -> 2 | F17: 1719 | G17: =F17*($H$4+1) -> 2068.6505 | H17: =E17*G17 -> 4137.301 | I17: =$I$55 -> -0.16119712
A18: 1.6.6 | B18: MATED-9816 | C18: PORCA SEXTAVADA (MATERIAL: AÇO|DIÂMETRO: 19MM [3/4"]|PESO/100PÇ: 5,00 KG) | D18: unid | E18: ='MEMÓRIA DE CÁLCULO COMPLETA'!E38 -> 6 | F18: 1.58 | G18: =F18*($H$4+1) -> 1.9013774 | H18: =E18*G18 -> 11.408265 | I18: =$I$55 -> -0.16119712
A19: 1.6.7 | B19: MATED-11945 | C19: SUPORTE PARA LUMINÁRIA PÚBLICA (TIPO: PÉTALA|QUANTIDADE DE LUMINÁRIAS: 6) | D19: unid | E19: ='MEMÓRIA DE CÁLCULO COMPLETA'!E39 -> 3 | F19: 200.76 | G19: =F19*($H$4+1) -> 241.59527 | H19: =E19*G19 -> 724.78582 | I19: =$I$55 -> -0.16119712
A20: 1.6.8 | B20: MATED-11806 | C20: CABO UNIPOLAR ISOLADO EM POLÍMERO TERMOPLÁSTICO, TIPO LSHF/ATOX, NÃO HALOGENADO, 450/750V, 70°C - BAIXA TENSÃO (ENCORDOAMENTO: CLASSE 5|SEÇÃO TRANSVERSAL: 2,50MM2) | D20: m | E20: ='MEMÓRIA DE CÁLCULO COMPLETA'!E40 -> 38 | F20: 2.37 | G20: =F20*($H$4+1) -> 2.8520661 | H20: =E20*G20 -> 108.37851 | I20: =$I$55 -> -0.16119712
A21: 1.6.9 | B21: ED-50373 | C21: ELETRICISTA COM ENCARGOS COMPLEMENTARES | D21: h | E21: ='MEMÓRIA DE CÁLCULO COMPLETA'!E41 -> 9 | F21: 28.99 | G21: =F21*($H$4+1) -> 34.886666 | H21: =E21*G21 -> 313.97999 | I21: =$I$55 -> -0.16119712
A22: 1.6.10 | B22: ED-50362 | C22: AJUDANTE DE ELETRICISTA COM ENCARGOS COMPLEMENTARES | D22: h | E22: ='MEMÓRIA DE CÁLCULO COMPLETA'!E42 -> 9 | F22: 23.52 | G22: =F22*($H$4+1) -> 28.304049 | H22: =E22*G22 -> 254.73644 | I22: =$I$55 -> -0.16119712
A23: 1.6.11 | B23: ED-49523 | C23: RELÉ FOTOELÉTRICO, TENSÃO 120V COM CAPACIDADE DE CARGA 1200VA, INCLUSIVE BASE E INSTALAÇÃO | D23: unid | E23: ='MEMÓRIA DE CÁLCULO COMPLETA'!E43 -> 6 | F23: 49.75 | G23: =F23*($H$4+1) -> 59.869321 | H23: =E23*G23 -> 359.21593 | I23: =$I$55 -> -0.16119712
A24: 1.6.12 | B24: ED-22217 | C24: LUMINÁRIA PÚBLICA DE LED, POTÊNCIA DE 200W, EXCLUSIVE SUPORTE E POSTE | D24: unid | E24: ='MEMÓRIA DE CÁLCULO COMPLETA'!E44 -> 6 | F24: 240.59 | G24: =F24*($H$4+1) -> 289.52683 | H24: =E24*G24 -> 1737.161 | I24: =$I$55 -> -0.16119712
A25: 1.7 - PRAÇA DO SANTO ANTÔNIO | H25: =SUM(H26:H35) -> 4817.6452 | I25: =$I$55 -> -0.16119712
A26: 1.7.1 | B26: ED-17905 | C26: PONTO DE EMBUTIR PARA UMA (1) TOMADA PADRÃO, TRÊS (3) POLOS (2P+T/10A-250V), COM PLACA 4"X2" DE UM (1) POSTO, COM ELETRODUTO DE PVC RÍGIDO ROSCÁVEL, DN 20MM (3/4"), EMBUTIDO NO PISO E CABO DE COBRE FLEXÍVEL, CLASSE 5, ISOLAMENTO TIPO LSHF/ATOX, NÃO HALOGENADO, SEÇÃO 2,5MM2 (70°C-450/750V), COM DISTÂNCIA DE ATÉ DEZ (10) METROS DO PONTO DE DERIVAÇÃO, INCLUSIVE CAIXA DE LIGAÇÃO, SUPORTE E FIXAÇÃO DO ELETRODUTO COM ENCHIMENTO DO RASGO NO PISO COM ARGAMASSA | D26: unid | E26: ='MEMÓRIA DE CÁLCULO COMPLETA'!E46 -> 1 | F26: 372.12 | G26: =F26*($H$4+1) -> 447.81049 | H26: =E26*G26 -> 447.81049 | I26: =$I$55 -> -0.16119712
A27: 1.7.2 | B27: ED-20907 | C27: FUNDAÇÃO EM BASE DE CONCRETO PARA FIXAÇÃO DE POSTE FLANGEADO, ALTURA ÚTIL PARA POSTE DE 7M ATÉ 9M, COM FORMA, INCLUSIVE ESPERA EM VERGALHÃO DE AÇO COM ROSCA TOTAL, ESCAVAÇÃO, APILOAMENTO, REATERRO E TRANSPORTE COM RETIRADA DO MATERIAL ESCAVADO (EM CAÇAMBA) | D27: unid | E27: ='MEMÓRIA DE CÁLCULO COMPLETA'!E47 -> 1 | F27: 172.64 | G27: =F27*($H$4+1) -> 207.75557 | H27: =E27*G27 -> 207.75557 | I27: =$I$55 -> -0.16119712
A28: 1.7.3 | B28: MATED-13026 | C28: POSTE TELECÔNICO RETO (ALTURA: 9M|MATERIAL: AÇO GALVANIZADO) | D28: unid | E28: ='MEMÓRIA DE CÁLCULO COMPLETA'!E48 -> 1 | F28: 1719 | G28: =F28*($H$4+1) -> 2068.6505 | H28: =E28*G28 -> 2068.6505 | I28: =$I$55 -> -0.16119712
A29: 1.7.4 | B29: MATED-9816 | C29: PORCA SEXTAVADA (MATERIAL: AÇO|DIÂMETRO: 19MM [3/4"]|PESO/100PÇ: 5,00 KG) | D29: unid | E29: ='MEMÓRIA DE CÁLCULO COMPLETA'!E49 -> 2 | F29: 1.58 | G29: =F29*($H$4+1) -> 1.9013774 | H29: =E29*G29 -> 3.8027549 | I29: =$I$55 -> -0.16119712
A30: 1.7.5 | B30: MATED-11945 | C30: SUPORTE PARA LUMINÁRIA PÚBLICA (TIPO: PÉTALA|QUANTIDADE DE LUMINÁRIAS: 2) | D30: unid | E30: ='MEMÓRIA DE CÁLCULO COMPLETA'!E50 -> 1 | F30: 200.76 | G30: =F30*($H$4+1) -> 241.59527 | H30: =E30*G30 -> 241.59527 | I30: =$I$55 -> -0.16119712
A31: 1.7.6 | B31: MATED-11806 | C31: CABO UNIPOLAR ISOLADO EM POLÍMERO TERMOPLÁSTICO, TIPO LSHF/ATOX, NÃO HALOGENADO, 450/750V, 70°C - BAIXA TENSÃO (ENCORDOAMENTO: CLASSE 5|SEÇÃO TRANSVERSAL: 2,50MM2) | D31: m | E31: ='MEMÓRIA DE CÁLCULO COMPLETA'!E51 -> 25 | F31: 2.37 | G31: =F31*($H$4+1) -> 2.8520661 | H31: =E31*G31 -> 71.301654 | I31: =$I$55 -> -0.16119712
A32: 1.7.7 | B32: ED-50373 | C32: ELETRICISTA COM ENCARGOS COMPLEMENTARES | D32: hora | E32: ='MEMÓRIA DE CÁLCULO COMPLETA'!E52 -> 6 | F32: 28.99 | G32: =F32*($H$4+1) -> 34.886666 | H32: =E32*G32 -> 209.31999 | I32: =$I$55 -> -0.16119712
A33: 1.7.8 | B33: ED-50362 | C33: AJUDANTE DE ELETRICISTA COM ENCARGOS COMPLEMENTARES | D33: hora | E33: ='MEMÓRIA DE CÁLCULO COMPLETA'!E53 -> 6 | F33: 23.52 | G33: =F33*($H$4+1) -> 28.304049 | H33: =E33*G33 -> 169.82429 | I33: =$I$55 -> -0.16119712
A34: 1.7.9 | B34: ED-49523 | C34: RELÉ FOTOELÉTRICO, TENSÃO 120V COM CAPACIDADE DE CARGA 1200VA, INCLUSIVE BASE E INSTALAÇÃO | D34: unid | E34: ='MEMÓRIA DE CÁLCULO COMPLETA'!E54 -> 4 | F34: 49.75 | G34: =F34*($H$4+1) -> 59.869321 | H34: =E34*G34 -> 239.47728 | I34: =$I$55 -> -0.16119712
A35: 1.7.10 | B35: ED-22217 | C35: LUMINÁRIA PÚBLICA DE LED, POTÊNCIA DE 200W, EXCLUSIVE SUPORTE E POSTE | D35: unid | E35: ='MEMÓRIA DE CÁLCULO COMPLETA'!E55 -> 4 | F35: 240.59 | G35: =F35*($H$4+1) -> 289.52683 | H35: =E35*G35 -> 1158.1073 | I35: =$I$55 -> -0.16119712
A36: 1.8 - PRAÇA PROCÓPIO CARDOSO | H36: =SUM(H37:H43) -> 5834.6706 | I36: =$I$55 -> -0.16119712
A37: 1.8.1 | B37: ED-17905 | C37: PONTO DE EMBUTIR PARA UMA (1) TOMADA PADRÃO, TRÊS (3) POLOS (2P+T/10A-250V), COM PLACA 4"X2" DE UM (1) POSTO, COM ELETRODUTO DE PVC RÍGIDO ROSCÁVEL, DN 20MM (3/4"), EMBUTIDO NO PISO E CABO DE COBRE FLEXÍVEL, CLASSE 5, ISOLAMENTO TIPO LSHF/ATOX, NÃO HALOGENADO, SEÇÃO 2,5MM2 (70°C-450/750V), COM DISTÂNCIA DE ATÉ DEZ (10) METROS DO PONTO DE DERIVAÇÃO, INCLUSIVE CAIXA DE LIGAÇÃO, SUPORTE E FIXAÇÃO DO ELETRODUTO COM ENCHIMENTO DO RASGO NO PISO COM ARGAMASSA | D37: unid | E37: ='MEMÓRIA DE CÁLCULO COMPLETA'!E57 -> 3 | F37: 372.12 | G37: =F37*($H$4+1) -> 447.81049 | H37: =E37*G37 -> 1343.4315 | I37: =$I$55 -> -0.16119712
A38: 1.8.2 | B38: MÉDIA 03 ORÇAMENTOS MERCADO | C38: POSTE DE JARDIM COM GLOBO DE VIDRO LEITOSO - ALTURA: 2,5M (MÍNIMO), DIÂMETRO 3" EM AÇO FOSFATIZADO PRETO, QUANTIDADE DE LÂMPADAS 2 (NÃO INCLUSAS) POTÊNCIA MÁXIMA/MODELO LED BULBO 65W MODELO T65-6K; LÂMPADA COMPATÍVEL LED/ELETRÔNICA; PADRÃO DO SOQUETE E-27; TENSÃO: BI-VOLT | D38: unid | E38: ='MEMÓRIA DE CÁLCULO COMPLETA'!E58 -> 3 | F38: 813.33 | G38: =F38*($H$4+1) -> 978.76412 | H38: =E38*G38 -> 2936.2924 | I38: =$I$55 -> -0.16119712
A39: 1.8.3 | B39: ED-50373 | C39: ELETRICISTA COM ENCARGOS COMPLEMENTARES | D39: H | E39: ='MEMÓRIA DE CÁLCULO COMPLETA'!E59 -> 11.85 | F39: 28.99 | G39: =F39*($H$4+1) -> 34.886666 | H39: =E39*G39 -> 413.40699 | I39: =$I$55 -> -0.16119712
A40: 1.8.4 | B40: 11975 | C40: CHUMBADOR DE ACO ZINCADO, DIAMETRO 5/8", COMPRIMENTO 6", COM PORCA | D40: UN | E40: ='MEMÓRIA DE CÁLCULO COMPLETA'!E60 -> 12 | F40: 27.69 | G40: =F40*($H$4+1) -> 33.322241 | H40: =E40*G40 -> 399.86689 | I40: =$I$55 -> -0.16119712
...

Sheet MEMÓRIA DE CÁLCULO COMPLETA
A1: PREFEITURA MUNICIPAL DE SALINAS - MG
A2: MEMÓRIA DE CÁLCULO
A3: REFORMAS PONTUAIS EM PRAÇAS DA CIDADE
A4: ='PLANILHA COMPLETA'!A4 -> REFERÊNCIAS: SINAPI 01/2026 - SICOR 10/2025 | D4: ='PLANILHA COMPLETA'!D4 -> DATA: mai/26
A5: ITEM | B5: CÓDIGO | C5: DISCRIMINAÇÃO DOS SERVIÇOS | D5: UNID. | E5: QUANT. | F5: CÁLCULO
A6: 1.1 - PRAÇA DR. MORAIS
A7: 1.1.1 | B7: ='PLANILHA COMPLETA'!B7 -> ED-16660 | C7: ='PLANILHA COMPLETA'!C7 -> FORNECIMENTO E COLOCAÇÃO DE PLACA DE OBRA EM CHAPA GALVANIZADA #26, ESP. 0,45 MM, PLOTADA COM ADESIVO VINÍLICO, AFIXADA COM REBITES 4,8X40 MM, EM ESTRUTURA METÁLICA DE METALON 20X20 MM, ESP. 1,25 MM, INCLUSIVE SUPORTE EM EUCALIPTO AUTOCLAVADO PINTADO COM TINTA PVA DUAS (2) DEMÃOS (2,4 X 1,2 m) | D7: m² | E7: 2.88 | F7: 1,20 x 2,40
A8: 1.1.2 | B8: ='PLANILHA COMPLETA'!B8 -> ED-50703 | C8: ='PLANILHA COMPLETA'!C8 -> LIMPEZA DE TERRENO, INCLUSIVE CAPINA, RASTELAMENTO COM AFASTAMENTO ATÉ VINTE (20) METROS E QUEIMA CONTROLADA | D8: m² | E8: 169.9 | F8: 41,7+128,2
A9: 1.1.3 | B9: ='PLANILHA COMPLETA'!B9 -> 103946 | C9: ='PLANILHA COMPLETA'!C9 -> PLANTIO DE GRAMA ESMERALDA OU SÃO CARLOS OU CURITIBANA, EM PLACAS. | D9: m² | E9: 169.9 | F9: 41,7+128,2
A10: 1.2 - PRAÇA JK
A11: 1.2.1 | B11: ='PLANILHA COMPLETA'!B11 -> ED-50703 | C11: ='PLANILHA COMPLETA'!C11 -> LIMPEZA DE TERRENO, INCLUSIVE CAPINA, RASTELAMENTO COM AFASTAMENTO ATÉ VINTE (20) METROS E QUEIMA CONTROLADA | D11: m² | E11: 854.99 | F11: 222,4+196,8+8,5+35,6+8,5+184,4+198,79
A12: 1.2.2 | B12: ='PLANILHA COMPLETA'!B12 -> 103946 | C12: ='PLANILHA COMPLETA'!C12 -> PLANTIO DE GRAMA ESMERALDA OU SÃO CARLOS OU CURITIBANA, EM PLACAS. | D12: m² | E12: 854.99 | F12: 222,4+196,8+8,5+35,6+8,5+184,4+198,79
A13: 1.3 - PRAÇA DA BÍBLIA
A14: 1.3.1 | B14: ='PLANILHA COMPLETA'!B14 -> ED-50703 | C14: ='PLANILHA COMPLETA'!C14 -> LIMPEZA DE TERRENO, INCLUSIVE CAPINA, RASTELAMENTO COM AFASTAMENTO ATÉ VINTE (20) METROS E QUEIMA CONTROLADA | D14: m² | E14: 812.3 | F14: 292,6+138,9+156,5+124,4+99,9
A15: 1.3.2 | B15: ='PLANILHA COMPLETA'!B15 -> 98504 | C15: ='PLANILHA COMPLETA'!C15 -> PLANTIO DE GRAMA BATATAIS EM PLACAS. | D15: m² | E15: 812.3 | F15: 292,6+138,9+156,5+124,4+99,9
A16: 1.3.3 | B16: ='PLANILHA COMPLETA'!B16 -> ED-17905 | C16: ='PLANILHA COMPLETA'!C16 -> PONTO DE EMBUTIR PARA UMA (1) TOMADA PADRÃO, TRÊS (3) POLOS (2P+T/10A-250V), COM PLACA 4"X2" DE UM (1) POSTO, COM ELETRODUTO DE PVC RÍGIDO ROSCÁVEL, DN 20MM (3/4"), EMBUTIDO NO PISO E CABO DE COBRE FLEXÍVEL, CLASSE 5, ISOLAMENTO TIPO LSHF/ATOX, NÃO HALOGENADO, SEÇÃO 2,5MM2 (70°C-450/750V), COM DISTÂNCIA DE ATÉ DEZ (10) METROS DO PONTO DE DERIVAÇÃO, INCLUSIVE CAIXA DE LIGAÇÃO, SUPORTE E FIXAÇÃO DO ELETRODUTO COM ENCHIMENTO DO RASGO NO PISO COM ARGAMASSA | D16: unid | E16: 1 | F16: 1
A17: 1.3.4 | B17: ='PLANILHA COMPLETA'!B17 -> ED-20907 | C17: ='PLANILHA COMPLETA'!C17 -> FUNDAÇÃO EM BASE DE CONCRETO PARA FIXAÇÃO DE POSTE FLANGEADO, ALTURA ÚTIL PARA POSTE DE 7M ATÉ 9M, COM FORMA, INCLUSIVE ESPERA EM VERGALHÃO DE AÇO COM ROSCA TOTAL, ESCAVAÇÃO, APILOAMENTO, REATERRO E TRANSPORTE COM RETIRADA DO MATERIAL ESCAVADO (EM CAÇAMBA) | D17: unid | E17: 1 | F17: 1
A18: 1.3.5 | B18: ='PLANILHA COMPLETA'!B18 -> MATED-13026 | C18: ='PLANILHA COMPLETA'!C18 -> POSTE TELECÔNICO RETO (ALTURA: 9M|MATERIAL: AÇO GALVANIZADO) | D18: unid | E18: 1 | F18: 1
A19: 1.3.6 | B19: ='PLANILHA COMPLETA'!B19 -> MATED-9816 | C19: ='PLANILHA COMPLETA'!C19 -> PORCA SEXTAVADA (MATERIAL: AÇO|DIÂMETRO: 19MM [3/4"]|PESO/100PÇ: 5,00 KG) | D19: unid | E19: 2 | F19: 2
A20: 1.3.7 | B20: ='PLANILHA COMPLETA'!B20 -> MATED-11945 | C20: ='PLANILHA COMPLETA'!C20 -> SUPORTE PARA LUMINÁRIA PÚBLICA (TIPO: PÉTALA|QUANTIDADE DE LUMINÁRIAS: 2) | D20: unid | E20: 1 | F20: 1
A21: 1.3.8 | B21: ='PLANILHA COMPLETA'!B21 -> MATED-11806 | C21: ='PLANILHA COMPLETA'!C21 -> CABO UNIPOLAR ISOLADO EM POLÍMERO TERMOPLÁSTICO, TIPO LSHF/ATOX, NÃO HALOGENADO, 450/750V, 70°C - BAIXA TENSÃO (ENCORDOAMENTO: CLASSE 5|SEÇÃO TRANSVERSAL: 2,50MM2) | D21: m | E21: 25 | F21: 25
A22: 1.3.9 | B22: ='PLANILHA COMPLETA'!B22 -> ED-50373 | C22: ='PLANILHA COMPLETA'!C22 -> ELETRICISTA COM ENCARGOS COMPLEMENTARES | D22: hora | E22: 6 | F22: 6
A23: 1.3.10 | B23: ='PLANILHA COMPLETA'!B23 -> ED-50362 | C23: ='PLANILHA COMPLETA'!C23 -> AJUDANTE DE ELETRICISTA COM ENCARGOS COMPLEMENTARES | D23: hora | E23: 6 | F23: 6
A24: 1.3.11 | B24: ='PLANILHA COMPLETA'!B24 -> ED-49523 | C24: ='PLANILHA COMPLETA'!C24 -> RELÉ FOTOELÉTRICO, TENSÃO 120V COM CAPACIDADE DE CARGA 1200VA, INCLUSIVE BASE E INSTALAÇÃO | D24: unid | E24: 4 | F24: 4
A25: 1.3.12 | B25: ='PLANILHA COMPLETA'!B25 -> ED-22217 | C25: ='PLANILHA COMPLETA'!C25 -> LUMINÁRIA PÚBLICA DE LED, POTÊNCIA DE 200W, EXCLUSIVE SUPORTE E POSTE | D25: unid | E25: 4 | F25: 4
A26: 1.4 - PRAÇA FLORESTA
A27: 1.4.1 | B27: ='PLANILHA COMPLETA'!B27 -> ED-50703 | C27: ='PLANILHA COMPLETA'!C27 -> LIMPEZA DE TERRENO, INCLUSIVE CAPINA, RASTELAMENTO COM AFASTAMENTO ATÉ VINTE (20) METROS E QUEIMA CONTROLADA | D27: m² | E27: 96.3 | F27: 96.3
A28: 1.4.2 | B28: ='PLANILHA COMPLETA'!B28 -> 103946 | C28: ='PLANILHA COMPLETA'!C28 -> PLANTIO DE GRAMA ESMERALDA OU SÃO CARLOS OU CURITIBANA, EM PLACAS. | D28: m² | E28: 96.3 | F28: 96.3
A29: 1.5 - PRAÇA FAUSTINA
A30: 1.5.1 | B30: ='PLANILHA COMPLETA'!B30 -> ED-50703 | C30: ='PLANILHA COMPLETA'!C30 -> LIMPEZA DE TERRENO, INCLUSIVE CAPINA, RASTELAMENTO COM AFASTAMENTO ATÉ VINTE (20) METROS E QUEIMA CONTROLADA | D30: m² | E30: 86.3 | F30: 31,4+13,4+41,5
A31: 1.5.2 | B31: ='PLANILHA COMPLETA'!B31 -> 103946 | C31: ='PLANILHA COMPLETA'!C31 -> PLANTIO DE GRAMA ESMERALDA OU SÃO CARLOS OU CURITIBANA, EM PLACAS. | D31: m² | E31: 86.3 | F31: 31,4+13,4+41,5
A32: 1.6 - PRAÇA PADRE LÉO
A33: 1.6.1 | B33: ='PLANILHA COMPLETA'!B33 -> ED-50703 | C33: ='PLANILHA COMPLETA'!C33 -> LIMPEZA DE TERRENO, INCLUSIVE CAPINA, RASTELAMENTO COM AFASTAMENTO ATÉ VINTE (20) METROS E QUEIMA CONTROLADA | D33: m² | E33: 2442.72 | F33: 96,8+621,4+314,5+120,5+109,1+414,1+607,4+114,3+44,62
A34: 1.6.2 | B34: ='PLANILHA COMPLETA'!B34 -> 98504 | C34: ='PLANILHA COMPLETA'!C34 -> PLANTIO DE GRAMA BATATAIS EM PLACAS. | D34: m² | E34: 2442.72 | F34: 96,8+621,4+314,5+120,5+109,1+414,1+607,4+114,3+44,62
A35: 1.6.3 | B35: ='PLANILHA COMPLETA'!B35 -> ED-17905 | C35: ='PLANILHA COMPLETA'!C35 -> PONTO DE EMBUTIR PARA UMA (1) TOMADA PADRÃO, TRÊS (3) POLOS (2P+T/10A-250V), COM PLACA 4"X2" DE UM (1) POSTO, COM ELETRODUTO DE PVC RÍGIDO ROSCÁVEL, DN 20MM (3/4"), EMBUTIDO NO PISO E CABO DE COBRE FLEXÍVEL, CLASSE 5, ISOLAMENTO TIPO LSHF/ATOX, NÃO HALOGENADO, SEÇÃO 2,5MM2 (70°C-450/750V), COM DISTÂNCIA DE ATÉ DEZ (10) METROS DO PONTO DE DERIVAÇÃO, INCLUSIVE CAIXA DE LIGAÇÃO, SUPORTE E FIXAÇÃO DO ELETRODUTO COM ENCHIMENTO DO RASGO NO PISO COM ARGAMASSA | D35: unid | E35: 2 | F35: 2
A36: 1.6.4 | B36: ='PLANILHA COMPLETA'!B36 -> ED-20907 | C36: ='PLANILHA COMPLETA'!C36 -> FUNDAÇÃO EM BASE DE CONCRETO PARA FIXAÇÃO DE POSTE FLANGEADO, ALTURA ÚTIL PARA POSTE DE 7M ATÉ 9M, COM FORMA, INCLUSIVE ESPERA EM VERGALHÃO DE AÇO COM ROSCA TOTAL, ESCAVAÇÃO, APILOAMENTO, REATERRO E TRANSPORTE COM RETIRADA DO MATERIAL ESCAVADO (EM CAÇAMBA) | D36: unid | E36: 2 | F36: 2
A37: 1.6.5 | B37: ='PLANILHA COMPLETA'!B37 -> MATED-13026 | C37: ='PLANILHA COMPLETA'!C37 -> POSTE TELECÔNICO RETO (ALTURA: 9M|MATERIAL: AÇO GALVANIZADO) | D37: unid | E37: 2 | F37: 2
A38: 1.6.6 | B38: ='PLANILHA COMPLETA'!B38 -> MATED-9816 | C38: ='PLANILHA COMPLETA'!C38 -> PORCA SEXTAVADA (MATERIAL: AÇO|DIÂMETRO: 19MM [3/4"]|PESO/100PÇ: 5,00 KG) | D38: unid | E38: 6 | F38: 6
A39: 1.6.7 | B39: ='PLANILHA COMPLETA'!B39 -> MATED-11945 | C39: ='PLANILHA COMPLETA'!C39 -> SUPORTE PARA LUMINÁRIA PÚBLICA (TIPO: PÉTALA|QUANTIDADE DE LUMINÁRIAS: 6) | D39: unid | E39: 3 | F39: 3
A40: 1.6.8 | B40: ='PLANILHA COMPLETA'!B40 -> MATED-11806 | C40: ='PLANILHA COMPLETA'!C40 -> CABO UNIPOLAR ISOLADO EM POLÍMERO TERMOPLÁSTICO, TIPO LSHF/ATOX, NÃO HALOGENADO, 450/750V, 70°C - BAIXA TENSÃO (ENCORDOAMENTO: CLASSE 5|SEÇÃO TRANSVERSAL: 2,50MM2) | D40: m | E40: 38 | F40: 38
...

Sheet MEMÓRIA CÁLCULO 46.995,94
A1: PREFEITURA MUNICIPAL DE SALINAS - MG
A2: MEMÓRIA DE CÁLCULO
A3: REFORMAS PONTUAIS EM PRAÇAS DA CIDADE
A4: ='PLANILHA COMPLETA'!A4 -> REFERÊNCIAS: SINAPI 01/2026 - SICOR 10/2025 | D4: ='PLANILHA COMPLETA'!D4 -> DATA: mai/26
A5: ITEM | B5: CÓDIGO | C5: DISCRIMINAÇÃO DOS SERVIÇOS | D5: UNID. | E5: QUANT. | F5: CÁLCULO
A6: 1.1 - PRAÇA DR. MORAIS
A7: 1.1.1 | B7: ='PLANILHA COMPLETA'!B7 -> ED-16660 | C7: ='PLANILHA COMPLETA'!C7 -> FORNECIMENTO E COLOCAÇÃO DE PLACA DE OBRA EM CHAPA GALVANIZADA #26, ESP. 0,45 MM, PLOTADA COM ADESIVO VINÍLICO, AFIXADA COM REBITES 4,8X40 MM, EM ESTRUTURA METÁLICA DE METALON 20X20 MM, ESP. 1,25 MM, INCLUSIVE SUPORTE EM EUCALIPTO AUTOCLAVADO PINTADO COM TINTA PVA DUAS (2) DEMÃOS (2,4 X 1,2 m) | D7: m² | E7: 2.88 | F7: 1,20 x 2,40
A8: 1.1.2 | B8: ='PLANILHA COMPLETA'!B8 -> ED-50703 | C8: ='PLANILHA COMPLETA'!C8 -> LIMPEZA DE TERRENO, INCLUSIVE CAPINA, RASTELAMENTO COM AFASTAMENTO ATÉ VINTE (20) METROS E QUEIMA CONTROLADA | D8: m² | E8: 169.9 | F8: 41,7+128,2
A9: 1.1.3 | B9: ='PLANILHA COMPLETA'!B9 -> 103946 | C9: ='PLANILHA COMPLETA'!C9 -> PLANTIO DE GRAMA ESMERALDA OU SÃO CARLOS OU CURITIBANA, EM PLACAS. | D9: m² | E9: 169.9 | F9: 41,7+128,2
A10: 1.2 - PRAÇA JK
A11: 1.2.1 | B11: ='PLANILHA COMPLETA'!B11 -> ED-50703 | C11: ='PLANILHA COMPLETA'!C11 -> LIMPEZA DE TERRENO, INCLUSIVE CAPINA, RASTELAMENTO COM AFASTAMENTO ATÉ VINTE (20) METROS E QUEIMA CONTROLADA | D11: m² | E11: 854.99 | F11: 222,4+196,8+8,5+35,6+8,5+184,4+198,79
A12: 1.2.2 | B12: ='PLANILHA COMPLETA'!B12 -> 103946 | C12: ='PLANILHA COMPLETA'!C12 -> PLANTIO DE GRAMA ESMERALDA OU SÃO CARLOS OU CURITIBANA, EM PLACAS. | D12: m² | E12: 854.99 | F12: 222,4+196,8+8,5+35,6+8,5+184,4+198,79
A13: 1.3 - PRAÇA DA BÍBLIA
A14: 1.3.1 | B14: ='PLANILHA COMPLETA'!B14 -> ED-50703 | C14: ='PLANILHA COMPLETA'!C14 -> LIMPEZA DE TERRENO, INCLUSIVE CAPINA, RASTELAMENTO COM AFASTAMENTO ATÉ VINTE (20) METROS E QUEIMA CONTROLADA | D14: m² | E14: 812.3 | F14: 292,6+138,9+156,5+124,4+99,9
A15: 1.3.2 | B15: ='PLANILHA COMPLETA'!B15 -> 98504 | C15: ='PLANILHA COMPLETA'!C15 -> PLANTIO DE GRAMA BATATAIS EM PLACAS. | D15: m² | E15: 812.3 | F15: 292,6+138,9+156,5+124,4+99,9
A16: 1.3.3 | B16: ='PLANILHA COMPLETA'!B16 -> ED-17905 | C16: ='PLANILHA COMPLETA'!C16 -> PONTO DE EMBUTIR PARA UMA (1) TOMADA PADRÃO, TRÊS (3) POLOS (2P+T/10A-250V), COM PLACA 4"X2" DE UM (1) POSTO, COM ELETRODUTO DE PVC RÍGIDO ROSCÁVEL, DN 20MM (3/4"), EMBUTIDO NO PISO E CABO DE COBRE FLEXÍVEL, CLASSE 5, ISOLAMENTO TIPO LSHF/ATOX, NÃO HALOGENADO, SEÇÃO 2,5MM2 (70°C-450/750V), COM DISTÂNCIA DE ATÉ DEZ (10) METROS DO PONTO DE DERIVAÇÃO, INCLUSIVE CAIXA DE LIGAÇÃO, SUPORTE E FIXAÇÃO DO ELETRODUTO COM ENCHIMENTO DO RASGO NO PISO COM ARGAMASSA | D16: unid | E16: 1 | F16: 1
A17: 1.3.4 | B17: ='PLANILHA COMPLETA'!B17 -> ED-20907 | C17: ='PLANILHA COMPLETA'!C17 -> FUNDAÇÃO EM BASE DE CONCRETO PARA FIXAÇÃO DE POSTE FLANGEADO, ALTURA ÚTIL PARA POSTE DE 7M ATÉ 9M, COM FORMA, INCLUSIVE ESPERA EM VERGALHÃO DE AÇO COM ROSCA TOTAL, ESCAVAÇÃO, APILOAMENTO, REATERRO E TRANSPORTE COM RETIRADA DO MATERIAL ESCAVADO (EM CAÇAMBA) | D17: unid | E17: 1 | F17: 1
A18: 1.3.5 | B18: ='PLANILHA COMPLETA'!B18 -> MATED-13026 | C18: ='PLANILHA COMPLETA'!C18 -> POSTE TELECÔNICO RETO (ALTURA: 9M|MATERIAL: AÇO GALVANIZADO) | D18: unid | E18: 1 | F18: 1
A19: 1.3.6 | B19: ='PLANILHA COMPLETA'!B19 -> MATED-9816 | C19: ='PLANILHA COMPLETA'!C19 -> PORCA SEXTAVADA (MATERIAL: AÇO|DIÂMETRO: 19MM [3/4"]|PESO/100PÇ: 5,00 KG) | D19: unid | E19: 2 | F19: 2
A20: 1.3.7 | B20: ='PLANILHA COMPLETA'!B20 -> MATED-11945 | C20: ='PLANILHA COMPLETA'!C20 -> SUPORTE PARA LUMINÁRIA PÚBLICA (TIPO: PÉTALA|QUANTIDADE DE LUMINÁRIAS: 2) | D20: unid | E20: 1 | F20: 1
A21: 1.3.8 | B21: ='PLANILHA COMPLETA'!B21 -> MATED-11806 | C21: ='PLANILHA COMPLETA'!C21 -> CABO UNIPOLAR ISOLADO EM POLÍMERO TERMOPLÁSTICO, TIPO LSHF/ATOX, NÃO HALOGENADO, 450/750V, 70°C - BAIXA TENSÃO (ENCORDOAMENTO: CLASSE 5|SEÇÃO TRANSVERSAL: 2,50MM2) | D21: m | E21: 25 | F21: 25
A22: 1.3.9 | B22: ='PLANILHA COMPLETA'!B22 -> ED-50373 | C22: ='PLANILHA COMPLETA'!C22 -> ELETRICISTA COM ENCARGOS COMPLEMENTARES | D22: hora | E22: 6 | F22: 6
A23: 1.3.10 | B23: ='PLANILHA COMPLETA'!B23 -> ED-50362 | C23: ='PLANILHA COMPLETA'!C23 -> AJUDANTE DE ELETRICISTA COM ENCARGOS COMPLEMENTARES | D23: hora | E23: 6 | F23: 6
A24: 1.3.11 | B24: ='PLANILHA COMPLETA'!B24 -> ED-49523 | C24: ='PLANILHA COMPLETA'!C24 -> RELÉ FOTOELÉTRICO, TENSÃO 120V COM CAPACIDADE DE CARGA 1200VA, INCLUSIVE BASE E INSTALAÇÃO | D24: unid | E24: 4 | F24: 4
A25: 1.3.12 | B25: ='PLANILHA COMPLETA'!B25 -> ED-22217 | C25: ='PLANILHA COMPLETA'!C25 -> LUMINÁRIA PÚBLICA DE LED, POTÊNCIA DE 200W, EXCLUSIVE SUPORTE E POSTE | D25: unid | E25: 4 | F25: 4
B30: Saulo Fabrício Lafetá Gonçalves Joaquim Neres Xavier Dias
B31: Arquiteto e Urbanista - CAU A 47.932-2 Prefeito Municipal

Sheet MEMÓRIA CÁLCULO 91.899,11
A1: PREFEITURA MUNICIPAL DE SALINAS - MG
A2: MEMÓRIA DE CÁLCULO
A3: REFORMAS PONTUAIS EM PRAÇAS DA CIDADE
A4: ='PLANILHA COMPLETA'!A4 -> REFERÊNCIAS: SINAPI 01/2026 - SICOR 10/2025 | D4: ='PLANILHA COMPLETA'!D4 -> DATA: mai/26
A5: ITEM | B5: CÓDIGO | C5: DISCRIMINAÇÃO DOS SERVIÇOS | D5: UNID. | E5: QUANT. | F5: CÁLCULO
A6: 1.4 - PRAÇA FLORESTA
A7: 1.4.1 | B7: ='PLANILHA COMPLETA'!B27 -> ED-50703 | C7: ='PLANILHA COMPLETA'!C27 -> LIMPEZA DE TERRENO, INCLUSIVE CAPINA, RASTELAMENTO COM AFASTAMENTO ATÉ VINTE (20) METROS E QUEIMA CONTROLADA | D7: m² | E7: 96.3 | F7: 96.3
A8: 1.4.2 | B8: ='PLANILHA COMPLETA'!B28 -> 103946 | C8: ='PLANILHA COMPLETA'!C28 -> PLANTIO DE GRAMA ESMERALDA OU SÃO CARLOS OU CURITIBANA, EM PLACAS. | D8: m² | E8: 96.3 | F8: 96.3
A9: 1.5 - PRAÇA FAUSTINA
A10: 1.5.1 | B10: ='PLANILHA COMPLETA'!B30 -> ED-50703 | C10: ='PLANILHA COMPLETA'!C30 -> LIMPEZA DE TERRENO, INCLUSIVE CAPINA, RASTELAMENTO COM AFASTAMENTO ATÉ VINTE (20) METROS E QUEIMA CONTROLADA | D10: m² | E10: 86.3 | F10: 31,4+13,4+41,5
A11: 1.5.2 | B11: ='PLANILHA COMPLETA'!B31 -> 103946 | C11: ='PLANILHA COMPLETA'!C31 -> PLANTIO DE GRAMA ESMERALDA OU SÃO CARLOS OU CURITIBANA, EM PLACAS. | D11: m² | E11: 86.3 | F11: 31,4+13,4+41,5
A12: 1.6 - PRAÇA PADRE LÉO
A13: 1.6.1 | B13: ='PLANILHA COMPLETA'!B33 -> ED-50703 | C13: ='PLANILHA COMPLETA'!C33 -> LIMPEZA DE TERRENO, INCLUSIVE CAPINA, RASTELAMENTO COM AFASTAMENTO ATÉ VINTE (20) METROS E QUEIMA CONTROLADA | D13: m² | E13: 2442.72 | F13: 96,8+621,4+314,5+120,5+109,1+414,1+607,4+114,3+44,62
A14: 1.6.2 | B14: ='PLANILHA COMPLETA'!B34 -> 98504 | C14: ='PLANILHA COMPLETA'!C34 -> PLANTIO DE GRAMA BATATAIS EM PLACAS. | D14: m² | E14: 2442.72 | F14: 96,8+621,4+314,5+120,5+109,1+414,1+607,4+114,3+44,62
A15: 1.6.3 | B15: ='PLANILHA COMPLETA'!B35 -> ED-17905 | C15: ='PLANILHA COMPLETA'!C35 -> PONTO DE EMBUTIR PARA UMA (1) TOMADA PADRÃO, TRÊS (3) POLOS (2P+T/10A-250V), COM PLACA 4"X2" DE UM (1) POSTO, COM ELETRODUTO DE PVC RÍGIDO ROSCÁVEL, DN 20MM (3/4"), EMBUTIDO NO PISO E CABO DE COBRE FLEXÍVEL, CLASSE 5, ISOLAMENTO TIPO LSHF/ATOX, NÃO HALOGENADO, SEÇÃO 2,5MM2 (70°C-450/750V), COM DISTÂNCIA DE ATÉ DEZ (10) METROS DO PONTO DE DERIVAÇÃO, INCLUSIVE CAIXA DE LIGAÇÃO, SUPORTE E FIXAÇÃO DO ELETRODUTO COM ENCHIMENTO DO RASGO NO PISO COM ARGAMASSA | D15: unid | E15: 2 | F15: 2
A16: 1.6.4 | B16: ='PLANILHA COMPLETA'!B36 -> ED-20907 | C16: ='PLANILHA COMPLETA'!C36 -> FUNDAÇÃO EM BASE DE CONCRETO PARA FIXAÇÃO DE POSTE FLANGEADO, ALTURA ÚTIL PARA POSTE DE 7M ATÉ 9M, COM FORMA, INCLUSIVE ESPERA EM VERGALHÃO DE AÇO COM ROSCA TOTAL, ESCAVAÇÃO, APILOAMENTO, REATERRO E TRANSPORTE COM RETIRADA DO MATERIAL ESCAVADO (EM CAÇAMBA) | D16: unid | E16: 2 | F16: 2
A17: 1.6.5 | B17: ='PLANILHA COMPLETA'!B37 -> MATED-13026 | C17: ='PLANILHA COMPLETA'!C37 -> POSTE TELECÔNICO RETO (ALTURA: 9M|MATERIAL: AÇO GALVANIZADO) | D17: unid | E17: 2 | F17: 2
A18: 1.6.6 | B18: ='PLANILHA COMPLETA'!B38 -> MATED-9816 | C18: ='PLANILHA COMPLETA'!C38 -> PORCA SEXTAVADA (MATERIAL: AÇO|DIÂMETRO: 19MM [3/4"]|PESO/100PÇ: 5,00 KG) | D18: unid | E18: 6 | F18: 6
A19: 1.6.7 | B19: ='PLANILHA COMPLETA'!B39 -> MATED-11945 | C19: ='PLANILHA COMPLETA'!C39 -> SUPORTE PARA LUMINÁRIA PÚBLICA (TIPO: PÉTALA|QUANTIDADE DE LUMINÁRIAS: 6) | D19: unid | E19: 3 | F19: 3
A20: 1.6.8 | B20: ='PLANILHA COMPLETA'!B40 -> MATED-11806 | C20: ='PLANILHA COMPLETA'!C40 -> CABO UNIPOLAR ISOLADO EM POLÍMERO TERMOPLÁSTICO, TIPO LSHF/ATOX, NÃO HALOGENADO, 450/750V, 70°C - BAIXA TENSÃO (ENCORDOAMENTO: CLASSE 5|SEÇÃO TRANSVERSAL: 2,50MM2) | D20: m | E20: 38 | F20: 38
A21: 1.6.9 | B21: ='PLANILHA COMPLETA'!B41 -> ED-50373 | C21: ='PLANILHA COMPLETA'!C41 -> ELETRICISTA COM ENCARGOS COMPLEMENTARES | D21: hora | E21: 9 | F21: 9
A22: 1.6.10 | B22: ='PLANILHA COMPLETA'!B42 -> ED-50362 | C22: ='PLANILHA COMPLETA'!C42 -> AJUDANTE DE ELETRICISTA COM ENCARGOS COMPLEMENTARES | D22: hora | E22: 9 | F22: 9
A23: 1.6.11 | B23: ='PLANILHA COMPLETA'!B43 -> ED-49523 | C23: ='PLANILHA COMPLETA'!C43 -> RELÉ FOTOELÉTRICO, TENSÃO 120V COM CAPACIDADE DE CARGA 1200VA, INCLUSIVE BASE E INSTALAÇÃO | D23: unid | E23: 6 | F23: 6
A24: 1.6.12 | B24: ='PLANILHA COMPLETA'!B44 -> ED-22217 | C24: ='PLANILHA COMPLETA'!C44 -> LUMINÁRIA PÚBLICA DE LED, POTÊNCIA DE 200W, EXCLUSIVE SUPORTE E POSTE | D24: unid | E24: 6 | F24: 6
A25: 1.7 - PRAÇA DA BÍBLIA
A26: 1.7.1 | B26: ='PLANILHA COMPLETA'!B46 -> ED-17905 | C26: ='PLANILHA COMPLETA'!C46 -> PONTO DE EMBUTIR PARA UMA (1) TOMADA PADRÃO, TRÊS (3) POLOS (2P+T/10A-250V), COM PLACA 4"X2" DE UM (1) POSTO, COM ELETRODUTO DE PVC RÍGIDO ROSCÁVEL, DN 20MM (3/4"), EMBUTIDO NO PISO E CABO DE COBRE FLEXÍVEL, CLASSE 5, ISOLAMENTO TIPO LSHF/ATOX, NÃO HALOGENADO, SEÇÃO 2,5MM2 (70°C-450/750V), COM DISTÂNCIA DE ATÉ DEZ (10) METROS DO PONTO DE DERIVAÇÃO, INCLUSIVE CAIXA DE LIGAÇÃO, SUPORTE E FIXAÇÃO DO ELETRODUTO COM ENCHIMENTO DO RASGO NO PISO COM ARGAMASSA | D26: unid | E26: 1 | F26: 1
A27: 1.7.2 | B27: ='PLANILHA COMPLETA'!B47 -> ED-20907 | C27: ='PLANILHA COMPLETA'!C47 -> FUNDAÇÃO EM BASE DE CONCRETO PARA FIXAÇÃO DE POSTE FLANGEADO, ALTURA ÚTIL PARA POSTE DE 7M ATÉ 9M, COM FORMA, INCLUSIVE ESPERA EM VERGALHÃO DE AÇO COM ROSCA TOTAL, ESCAVAÇÃO, APILOAMENTO, REATERRO E TRANSPORTE COM RETIRADA DO MATERIAL ESCAVADO (EM CAÇAMBA) | D27: unid | E27: 1 | F27: 1
A28: 1.7.3 | B28: ='PLANILHA COMPLETA'!B48 -> MATED-13026 | C28: ='PLANILHA COMPLETA'!C48 -> POSTE TELECÔNICO RETO (ALTURA: 9M|MATERIAL: AÇO GALVANIZADO) | D28: unid | E28: 1 | F28: 1
A29: 1.7.4 | B29: ='PLANILHA COMPLETA'!B49 -> MATED-9816 | C29: ='PLANILHA COMPLETA'!C49 -> PORCA SEXTAVADA (MATERIAL: AÇO|DIÂMETRO: 19MM [3/4"]|PESO/100PÇ: 5,00 KG) | D29: unid | E29: 2 | F29: 2
A30: 1.7.5 | B30: ='PLANILHA COMPLETA'!B50 -> MATED-11945 | C30: ='PLANILHA COMPLETA'!C50 -> SUPORTE PARA LUMINÁRIA PÚBLICA (TIPO: PÉTALA|QUANTIDADE DE LUMINÁRIAS: 2) | D30: unid | E30: 1 | F30: 1
A31: 1.7.6 | B31: ='PLANILHA COMPLETA'!B51 -> MATED-11806 | C31: ='PLANILHA COMPLETA'!C51 -> CABO UNIPOLAR ISOLADO EM POLÍMERO TERMOPLÁSTICO, TIPO LSHF/ATOX, NÃO HALOGENADO, 450/750V, 70°C - BAIXA TENSÃO (ENCORDOAMENTO: CLASSE 5|SEÇÃO TRANSVERSAL: 2,50MM2) | D31: m | E31: 25 | F31: 25
A32: 1.7.7 | B32: ='PLANILHA COMPLETA'!B52 -> ED-50373 | C32: ='PLANILHA COMPLETA'!C52 -> ELETRICISTA COM ENCARGOS COMPLEMENTARES | D32: hora | E32: 6 | F32: 6
A33: 1.7.8 | B33: ='PLANILHA COMPLETA'!B53 -> ED-50362 | C33: ='PLANILHA COMPLETA'!C53 -> AJUDANTE DE ELETRICISTA COM ENCARGOS COMPLEMENTARES | D33: hora | E33: 6 | F33: 6
A34: 1.7.9 | B34: ='PLANILHA COMPLETA'!B54 -> ED-49523 | C34: ='PLANILHA COMPLETA'!C54 -> RELÉ FOTOELÉTRICO, TENSÃO 120V COM CAPACIDADE DE CARGA 1200VA, INCLUSIVE BASE E INSTALAÇÃO | D34: unid | E34: 4 | F34: 4
A35: 1.7.10 | B35: ='PLANILHA COMPLETA'!B55 -> ED-22217 | C35: ='PLANILHA COMPLETA'!C55 -> LUMINÁRIA PÚBLICA DE LED, POTÊNCIA DE 200W, EXCLUSIVE SUPORTE E POSTE | D35: unid | E35: 4 | F35: 4
A36: 1.8 - PRAÇA PROCÓPIO CARDOSO
A37: 1.8.1 | B37: ='PLANILHA COMPLETA'!B57 -> ED-17905 | C37: ='PLANILHA COMPLETA'!C57 -> PONTO DE EMBUTIR PARA UMA (1) TOMADA PADRÃO, TRÊS (3) POLOS (2P+T/10A-250V), COM PLACA 4"X2" DE UM (1) POSTO, COM ELETRODUTO DE PVC RÍGIDO ROSCÁVEL, DN 20MM (3/4"), EMBUTIDO NO PISO E CABO DE COBRE FLEXÍVEL, CLASSE 5, ISOLAMENTO TIPO LSHF/ATOX, NÃO HALOGENADO, SEÇÃO 2,5MM2 (70°C-450/750V), COM DISTÂNCIA DE ATÉ DEZ (10) METROS DO PONTO DE DERIVAÇÃO, INCLUSIVE CAIXA DE LIGAÇÃO, SUPORTE E FIXAÇÃO DO ELETRODUTO COM ENCHIMENTO DO RASGO NO PISO COM ARGAMASSA | D37: unid | E37: 3 | F37: 3
A38: 1.8.2 | B38: ='PLANILHA COMPLETA'!B58 -> MÉDIA 03 ORÇAMENTOS MERCADO | C38: ='PLANILHA COMPLETA'!C58 -> POSTE DE JARDIM COM GLOBO DE VIDRO LEITOSO - ALTURA: 2,5M (MÍNIMO), DIÂMETRO 3" EM AÇO FOSFATIZADO PRETO, QUANTIDADE DE LÂMPADAS 2 (NÃO INCLUSAS) POTÊNCIA MÁXIMA/MODELO LED BULBO 65W MODELO T65-6K; LÂMPADA COMPATÍVEL LED/ELETRÔNICA; PADRÃO DO SOQUETE E-27; TENSÃO: BI-VOLT | D38: ='PLANILHA COMPLETA'!D58 -> unid | E38: 3 | F38: 3
A39: 1.8.3 | B39: ='PLANILHA COMPLETA'!B59 -> ED-50373 | C39: ='PLANILHA COMPLETA'!C59 -> ELETRICISTA COM ENCARGOS COMPLEMENTARES | D39: h | E39: 11.85 | F39: 3*3,95
A40: 1.8.4 | B40: ='PLANILHA COMPLETA'!B60 -> 11975 | C40: ='PLANILHA COMPLETA'!C60 -> CHUMBADOR DE ACO ZINCADO, DIAMETRO 5/8", COMPRIMENTO 6", COM PORCA | D40: unid | E40: 12 | F40: 3*4
...

Sheet CRONOGRAMA COMPLETO
A3: CRONOGRAMA FÍSICO FINANCEIRO
A5: OBRA: REFORMAS PONTUAIS EM PRAÇAS DA CIDADE
A6: MUNICÍPIO: Salinas - MG
A7: ='PLANILHA COMPLETA'!D4 -> DATA: mai/26
A9: DISCRIMINAÇÃO DOS SERVIÇOS | B9: VALOR (R$) | C9: MÊS 1 | D9: MÊS 2 | E9: SUB-TOTAL
A11: ='PLANILHA COMPLETA'!A6 -> 1.1 - PRAÇA DR. MORAIS | B11: ='PLANILHA COMPLETA'!H6 -> 5067.3422 | C11: 1 | E11: =SUM(C11:D11) -> 1
C12: =+B11*C11 -> 5067.3422 | D12: =+B11*D11 -> 0 | E12: =+B11*E11 -> 5067.3422
A13: ='PLANILHA COMPLETA'!A10 -> 1.2 - PRAÇA JK | B13: ='PLANILHA COMPLETA'!H10 -> 21030.673 | C13: 1 | E13: =SUM(C13:D13) -> 1
C14: =+B13*C13 -> 21030.673 | D14: =+B13*D13 -> 0 | E14: =+B13*E13 -> 21030.673
A15: ='PLANILHA COMPLETA'!A13 -> 1.3. - PRAÇA DA BÍBLIA | B15: ='PLANILHA COMPLETA'!H13 -> 20897.925 | C15: 1 | E15: =SUM(C15:D15) -> 1
C16: =+B15*C15 -> 20897.925 | D16: =+B15*D15 -> 0 | E16: =+B15*E15 -> 20897.925
A17: ='PLANILHA COMPLETA'!A26 -> 1.4 - PRAÇA FLORESTA | B17: ='PLANILHA COMPLETA'!H26 -> 2368.7456 | D17: 1 | E17: =SUM(C17:D17) -> 1
C18: =+B17*C17 -> 0 | D18: =+B17*D17 -> 2368.7456 | E18: =+B17*E17 -> 2368.7456
A19: ='PLANILHA COMPLETA'!A29 -> 1.5 - PRAÇA FAUSTINA | B19: ='PLANILHA COMPLETA'!H29 -> 2122.77 | D19: 1 | E19: =SUM(C19:D19) -> 1
C20: =+B19*C19 -> 0 | D20: =+B19*D19 -> 2122.77 | E20: =+B19*E19 -> 2122.77
A21: ='PLANILHA COMPLETA'!A32 -> 1.6 - PRAÇA PADRE LÉO | B21: ='PLANILHA COMPLETA'!H32 -> 57314.151 | D21: 1 | E21: =SUM(C21:D21) -> 1
C22: =+B21*C21 -> 0 | D22: =+B21*D21 -> 57314.151 | E22: =+B21*E21 -> 57314.151
A23: ='PLANILHA COMPLETA'!A45 -> 1.7 - PRAÇA DO SANTO ANTÔNIO | B23: ='PLANILHA COMPLETA'!H45 -> 4817.6452 | D23: 1 | E23: =SUM(C23:D23) -> 1
C24: =+B23*C23 -> 0 | D24: =+B23*D23 -> 4817.6452 | E24: =+B23*E23 -> 4817.6452
A25: ='PLANILHA COMPLETA'!A56 -> 1.8 - PRAÇA PROCÓPIO CARDOSO | B25: ='PLANILHA COMPLETA'!H56 -> 5834.6706 | D25: 1 | E25: =SUM(C25:D25) -> 1
C26: =+B25*C25 -> 0 | D26: =+B25*D25 -> 5834.6706 | E26: =+B25*E25 -> 5834.6706
A27: ='PLANILHA COMPLETA'!A64 -> 1.9 - PRAÇA MOISÉS LADEIA | B27: ='PLANILHA COMPLETA'!H64 -> 19441.128 | D27: 1 | E27: =SUM(C27:D27) -> 1
C28: =+B27*C27 -> 0 | D28: =+B27*D27 -> 19441.128 | E28: =+B27*E27 -> 19441.128
A30: VALOR DO PERÍODO | B30: =SUM(B11,B13,B19,B17,B15,B21,B23,B25,B27) -> 138895.05 | C30: =SUM(C12,C14,C20,C18,C16,C22,C24,C26,C28) -> 46995.94 | D30: =SUM(D12,D14,D20,D18,D16,D22,D24,D26,D28) -> 91899.111 | E30: =SUM(E12,E14,E20,E18,E16,E22,E24,E26,E28) -> 138895.05
A31: VALOR ACUMULADO | C31: =+C30 -> 46995.94 | D31: =+C31+D30 -> 138895.05
A32: PERCENTUAL DO PERÍODO | C32: =+C30*1/B30 -> 0.33835576 | D32: =+D30*1/B30 -> 0.66164424
A33: PERCENTUAL ACUMULADO | C33: =C32 -> 0.33835576 | D33: =+C33+D32 -> 1
A34: Responsável Técnico:
A38: Saulo Fabrício Lafetá Gonçalves | B38: Joaquim Neres Xavier Dias
A39: Arquiteto e Urbanista - CAU A 47.932-2 | B39: Prefeito Municipal

Sheet CRONOGRAMA 46.995,94
A3: CRONOGRAMA FÍSICO FINANCEIRO
A5: OBRA: REFORMAS PONTUAIS EM PRAÇAS DA CIDADE
A6: MUNICÍPIO: Salinas - MG
A7: ='PLANILHA COMPLETA'!D4 -> DATA: mai/26
A9: DISCRIMINAÇÃO DOS SERVIÇOS | B9: VALOR (R$) | C9: MÊS 1 | D9: SUB-TOTAL
A11: ='PLANILHA COMPLETA'!A6 -> 1.1 - PRAÇA DR. MORAIS | B11: ='PLANILHA COMPLETA'!H6 -> 5067.3422 | C11: 1 | D11: =SUM(C11:C11) -> 1
C12: =+B11*C11 -> 5067.3422 | D12: =+B11*D11 -> 5067.3422
A13: ='PLANILHA COMPLETA'!A10 -> 1.2 - PRAÇA JK | B13: ='PLANILHA COMPLETA'!H10 -> 21030.673 | C13: 1 | D13: =SUM(C13:C13) -> 1
C14: =+B13*C13 -> 21030.673 | D14: =+B13*D13 -> 21030.673
A15: ='PLANILHA COMPLETA'!A13 -> 1.3. - PRAÇA DA BÍBLIA | B15: ='PLANILHA COMPLETA'!H13 -> 20897.925 | C15: 1 | D15: =SUM(C15:C15) -> 1
C16: =+B15*C15 -> 20897.925 | D16: =+B15*D15 -> 20897.925
A18: VALOR DO PERÍODO | B18: =SUM(B11,B13,B15) -> 46995.94 | C18: =SUM(C12,C14,C16) -> 46995.94 | D18: =SUM(D12,D14,D16) -> 46995.94
A19: VALOR ACUMULADO | C19: =+C18 -> 46995.94
A20: PERCENTUAL DO PERÍODO | C20: =+C18*1/B18 -> 1
A21: PERCENTUAL ACUMULADO | C21: =C20 -> 1
A22: Responsável Técnico:
A26: Saulo Fabrício Lafetá Gonçalves | B26: Joaquim Neres Xavier Dias
A27: Arquiteto e Urbanista - CAU A 47.932-2 | B27: Prefeito Municipal

Sheet CRONOGRAMA 91.899,11
A3: CRONOGRAMA FÍSICO FINANCEIRO
A5: OBRA: REFORMAS PONTUAIS EM PRAÇAS DA CIDADE
A6: MUNICÍPIO: Salinas - MG
A7: ='PLANILHA COMPLETA'!D4 -> DATA: mai/26
A9: DISCRIMINAÇÃO DOS SERVIÇOS | B9: VALOR (R$) | C9: MÊS 2 | D9: SUB-TOTAL
A11: ='PLANILHA COMPLETA'!A26 -> 1.4 - PRAÇA FLORESTA | B11: ='PLANILHA COMPLETA'!H26 -> 2368.7456 | C11: 1 | D11: =SUM(C11:C11) -> 1
C12: =+B11*C11 -> 2368.7456 | D12: =+B11*D11 -> 2368.7456
A13: ='PLANILHA COMPLETA'!A29 -> 1.5 - PRAÇA FAUSTINA | B13: ='PLANILHA COMPLETA'!H29 -> 2122.77 | C13: 1 | D13: =SUM(C13:C13) -> 1
C14: =+B13*C13 -> 2122.77 | D14: =+B13*D13 -> 2122.77
A15: ='PLANILHA COMPLETA'!A32 -> 1.6 - PRAÇA PADRE LÉO | B15: ='PLANILHA COMPLETA'!H32 -> 57314.151 | C15: 1 | D15: =SUM(C15:C15) -> 1
C16: =+B15*C15 -> 57314.151 | D16: =+B15*D15 -> 57314.151
A17: ='PLANILHA COMPLETA'!A45 -> 1.7 - PRAÇA DO SANTO ANTÔNIO | B17: ='PLANILHA COMPLETA'!H45 -> 4817.6452 | C17: 1 | D17: =SUM(C17:C17) -> 1
C18: =+B17*C17 -> 4817.6452 | D18: =+B17*D17 -> 4817.6452
A19: ='PLANILHA COMPLETA'!A56 -> 1.8 - PRAÇA PROCÓPIO CARDOSO | B19: ='PLANILHA COMPLETA'!H56 -> 5834.6706 | C19: 1 | D19: =SUM(C19:C19) -> 1
C20: =+B19*C19 -> 5834.6706 | D20: =+B19*D19 -> 5834.6706
A21: ='PLANILHA COMPLETA'!A64 -> 1.9 - PRAÇA MOISÉS LADEIA | B21: ='PLANILHA COMPLETA'!H64 -> 19441.128 | C21: 1 | D21: =SUM(C21:C21) -> 1
C22: =+B21*C21 -> 19441.128 | D22: =+B21*D21 -> 19441.128
A24: VALOR DO PERÍODO | B24: =SUM(B13,B11,B15,B17,B19,B21) -> 91899.111 | C24: =SUM(C14,C12,C16,C18,C20,C22) -> 91899.111 | D24: =SUM(D14,D12,D16,D18,D20,D22) -> 91899.111
A25: VALOR ACUMULADO | C25: =+C24 -> 91899.111
A26: PERCENTUAL DO PERÍODO | C26: =+C24*1/B24 -> 1
A27: PERCENTUAL ACUMULADO | C27: =+C26 -> 1
A28: Responsável Técnico:
A32: Saulo Fabrício Lafetá Gonçalves | B32: Joaquim Neres Xavier Dias
A33: Arquiteto e Urbanista - CAU A 47.932-2 | B33: Prefeito Municipal

Sheet BDI
A1: COMPOSIÇÃO DE BDI
A3: Composição do BDI sugerida | D3: Intervalos admissíveis sem justificativa | J3: Composição de BDI Adotada | O3: BDI Proposto: | Q3: =(((1+M8+M5+M6)*(1+M7)*(1+M9))/(1-M10))-1 -> 0.20340344 | U3: ='PLANILHA COMPLETA'!H73 -> 138895.05
A5: Garantia (G) | D5: De | E5: 0.0032 | G5: até | H5: 0.0074 | J5: Garantia: | M5: 0.0032 | O5: BDI = (1+AC+S+R+G)*(1+DF)*(1+L) -1 (1-T) Observações: i) Fórmula de cálculo, composição do BDI e intervalos admissíveis nos termos do Acórdão 2622/2013 do TCU; ii) BDI entre 19,60% e 24,23%.
A6: Risco (R) | D6: De | E6: 0.005 | G6: até | H6: 0.0097 | J6: Risco: | M6: 0.005
A7: Despesas financeiras (DF) | D7: De | E7: 0.0102 | G7: até | H7: 0.0121 | J7: Despesas financeiras: | M7: 0.0102
A8: Administração Central (AC) | D8: De | E8: 0.038 | G8: até | H8: 0.0467 | J8: Administração central: | M8: 0.038
A9: Lucro (L) | D9: De | E9: 0.0664 | G9: até | H9: 0.0869 | J9: Lucro: | M9: 0.0664
A10: Tributos (T) | D10: Conforme legislação | J10: Tributos: | M10: 0.06345
P12: ='PLANILHA COMPLETA'!D4 -> DATA: mai/26
C16: Saulo Fabrício Lafetá Gonçalves | P16: Joaquim Neres Xavier Dias
C17: Arquiteto e Urbanista - CAU A 47.932-2 | P17: Prefeito Municipal de Salinas
