Workbook
Name Excel_BuiltIn_Print_Area: 'COMPOSIÇÃO DE BDI'!$A$1:$T$35
Name Excel_BuiltIn_Print_Area: CRONOGRAMA!$A$1:$H$28
Name Excel_BuiltIn_Print_Area: 'CRONOGRAMA VÁLIDO'!$A$1:$K$42
Name Excel_BuiltIn_Print_Area: PLANILHA!$A$1:$I$175
Name Excel_BuiltIn_Print_Area: 'PLANILHA AJUSTES 20.02'!$A$1:$I$175
Name Excel_BuiltIn_Print_Titles: PLANILHA!$1:$8
Name Excel_BuiltIn_Print_Titles: 'PLANILHA AJUSTES 20.02'!$1:$8

Sheet PLANILHA
A1: PREFEITURA MUNICIPAL DE SALINAS - MG
A2: PLANILHA ORÇAMENTÁRIA | L2: =#REF! -> #REF!
A3: OBRA: REFORMA DA CRECHE CANTINHO DO CÉU - PARA ENTREGA
A4: MUNICÍPIO: SALINAS/MG
A5: LOCAL: RUA OURO PRETO, 495, BAIRRO PANORAMA, SALINAS/MG
A6: SETOR: SECRETARIA MUNICIPAL DE EDUCAÇÃO
A7: RECURSO: FUNDEB 30% e EDUCAÇÃO 25%.
A8: DATA: JANEIRO/2026 | E8: DATA-BASE (mês de referência): SINAPI 04/2024 E SEINFRA 08/2023
A9: REFORMA DA CRECHE CANTINHO DO CÉU - PARA ENTREGA | I9: B.D.I.=25% | J9: 1.25 | L9: 1.25
A10: ITEM | B10: CÓDIGO | C10: FONTE | D10: DESCRIÇÃO DOS SERVIÇOS POR AMBIENTES | E10: UN | F10: QUANT | G10: TOTAL GERAL (R$) | I10: =SUM(I13+I15+I24+I31+I44+I56+I64+I78+I90+I73+I105+I118+I129+I140+I148+I157+I161) -> 53498.458
G11: SEM BDI | H11: COM BDI
G12: UNITÁRIO | H12: UNITÁRIO | I12: TOTAL ITEM
A13: 1.0 - SERVIÇOS PRELIMINARES | I13: =SUM(I14) -> 1708.925 | J13: OK - VERIFICADO
A14: 1.1 | B14: ED-28427 | C14: SEINFRA | D14: FORNECIMENTO E COLOCAÇÃO DE PLACA DE OBRA EM CHAPA GALVANIZADA #26, ESP. 0,45MM, DIMENSÃO (3X1,5)M, PLOTADA COM ADESIVO VINÍLICO, AFIXADA COM REBITES 4,8X40MM, EM ESTRUTURA METÁLICA DE METALON 20X20MM, ESP. 1,25MM, INCLUSIVE SUPORTE EM EUCALIPTO AUTOCLAVADO PINTADO COM TINTA PVA DUAS (2) DEMÃOSFORNECIMENTO E COLOCAÇÃO DE PLACA DE OBRA EM CHAPA GALVANIZADA #26, ESP. 0,45MM, DIMENSÃO (3X1,5)M, PLOTADA COM ADESIVO VINÍLICO, AFIXADA COM REBITES 4,8X40MM, EM ESTRUTURA METÁLICA DE METALON 20X20MM, ESP. 1,25MM, INCLUSIVE SUPORTE EM EUCALIPTO AUTOCLAVADO PINTADO COM TINTA PVA DUAS (2) DEMÃOS | E14: un | F14: 1 | G14: 1367.14 | H14: =G14*$L$9 -> 1708.925 | I14: =+F14*H14 -> 1708.925 | L14: =L20+L134+L162+L163+L164 -> 1561.0329
A15: 2.0 - GARAGEM COBERTA | I15: =SUM(I16:I23) -> 4431.3871 | J15: OK - VERIFICADO | L15: =L14-I13 -> -147.89212
A16: 2.1 | B16: ED-50505 | C16: SEINFRA | D16: LIXAMENTO MANUAL EM PAREDE PARA REMOÇÃO DE TINTA (PAREDES LATERAIS) | E16: m2 | F16: 49.25 | G16: 2.69 | H16: =G16*$L$9 -> 3.3625 | I16: =+F16*H16 -> 165.60312
A17: 2.2 | B17: ED-50508 | C17: SEINFRA | D17: LIXAMENTO MANUAL EM SUPERFÍCIE METÁLICA PARA REMOÇÃO DE TINTA - PORTÃO | E17: m2 | F17: 12 | G17: 4.56 | H17: =G17*$L$9 -> 5.7 | I17: =+F17*H17 -> 68.4
A18: 2.3 | B18: ED-50473 | C18: SEINFRA | D18: EMASSAMENTO EM PAREDE COM MASSA ACRÍLICA, UMA (1) DEMÃO, INCLUSIVE LIXAMENTO PARA PINTURA | E18: m2 | F18: 49.25 | G18: 13.9 | H18: =G18*$L$9 -> 17.375 | I18: =+F18*H18 -> 855.71875 | L18: =I20-I13 -> 201.80125
A19: 2.4 | B19: ED-50503 | C19: SEINFRA | D19: PINTURA LÁTEX (PVA) EM TETO, DUAS (2) DEMÃOS, INCLUSIVE UMA (1) DEMÃO DE MASSA CORRIDA (PVA), EXCLUSIVE SELADOR ACRÍLICO | E19: m2 | F19: 18.09 | G19: 35.68 | H19: =G19*$L$9 -> 44.6 | I19: =+F19*H19 -> 806.814
A20: 2.5 | B20: ED-50451 | C20: SEINFRA | D20: PINTURA ACRÍLICA EM PAREDE, DUAS (2) DEMÃOS, EXCLUSIVE SELADOR ACRÍLICO E MASSA ACRÍLICA/CORRIDA (PVA) - PINTURA EXTERNA | E20: m2 | F20: 108.41 | G20: 14.1 | H20: =G20*$L$9 -> 17.625 | I20: =+F20*H20 -> 1910.7262 | J20: 135 | K20: 2379.38 | L20: =K20-I20 -> 468.65375 | N20: 53498.46
A21: 2.6 | B21: ED-50495 | C21: SEINFRA | D21: PINTURA ESMALTE SINTÉTICO EM SUPERFÍCIES METÁLICAS, DUAS (2) DEMÃOS, INCLUSIVE UMA (1) DEMÃO DE FUNDO ANTICORROSIVO | E21: m2 | F21: 12 | G21: 34.28 | H21: =G21*$L$9 -> 42.85 | I21: =+F21*H21 -> 514.2 | L21: =I20-88.46 -> 1822.2662
A22: 2.7 | B22: ED-48500 | C22: SEINFRA | D22: DEMOLIÇÃO MANUAL DE TUBULAÇÕES EMBUTIDAS DE REDE ( ÁGUA, ELÉTRICA, GASES, ETC.), INCLUSIVE RASGO EM ALVENARIA, REMOÇÃO DE ACESSÓRIOS DE FIXAÇÃO, AFASTAMENTO E EMPILHAMENTO, EXCLUSIVE TRANSPORTE E RETIRADA DO MATERIAL DEMOLIDO - REMOÇÃO DE INSTALÇÕES IMPROVIZADAS NAS PAREDES | E22: m | F22: 5 | G22: 7.4 | H22: =G22*$L$9 -> 9.25 | I22: =+F22*H22 -> 46.25 | L22: 1674.38 | N22: =I10-N20 -> -0.002
A23: 2.8 | B23: ED-15733 | C23: SEINFRA | D23: CONJUNTO DE UM (1) INTERRUPTOR SIMPLES, CORRENTE 10A, TENSÃO 250V, (10A-250V), COM PLACA 4"X2" DE UM (1) POSTO, INCLUSIVE FORNECIMENTO, INSTALAÇÃO, SUPORTE, MÓDULO E PLACA10A-250V), COM PLACA 4"X2" DE DOIS (2) POSTOS, INCLUSIVE FORNECIMENTO, INSTALAÇÃO, SUPORTE, MÓDULO E PLACA | E23: um | F23: 2 | G23: 25.47 | H23: =G23*$L$9 -> 31.8375 | I23: =+F23*H23 -> 63.675
A24: 3.0 - ENTRADA PRINCIPAL | I24: =SUM(I25:I30) -> 1488.2043 | J24: OK - VERIFICADO | L24: =L22-88.46 -> 1585.92
A25: 3.1 | B25: ED-50505 | C25: SEINFRA | D25: LIXAMENTO MANUAL EM PAREDE PARA REMOÇÃO DE TINTA | E25: m2 | F25: 21.9 | G25: 2.69 | H25: =G25*$L$9 -> 3.3625 | I25: =+F25*H25 -> 73.63875 | K25: =I25+0.1 -> 73.73875
A26: 3.2 | B26: ED-50477 | C26: SEINFRA | D26: EMASSAMENTO EM PAREDE COM MASSA CORRIDA (PVA), UMA (1) DEMÃO, INCLUSIVE LIXAMENTO PARA PINTURA | E26: m2 | F26: 21.9 | G26: 11.83 | H26: =G26*$L$9 -> 14.7875 | I26: =+F26*H26 -> 323.84625
A27: 3.3 | B27: ED-50502 | C27: SEINFRA | D27: PINTURA LÁTEX (PVA) EM PAREDE, DUAS (2) DEMÃOS, INCLUSIVE UMA (1) DEMÃO DE MASSA CORRIDA (PVA), EXCLUSIVE SELADOR ACRÍLICO - PINTURA INTERNA | E27: m2 | F27: 21.9 | G27: 26.01 | H27: =G27*$L$9 -> 32.5125 | I27: =+F27*H27 -> 712.02375
A28: 3.4 | B28: ED-50503 | C28: SEINFRA | D28: PINTURA LÁTEX (PVA) EM TETO, DUAS (2) DEMÃOS, INCLUSIVE UMA (1) DEMÃO DE MASSA CORRIDA (PVA), EXCLUSIVE SELADOR ACRÍLICO | E28: m2 | F28: 4.73 | G28: 35.68 | H28: =G28*$L$9 -> 44.6 | I28: =+F28*H28 -> 210.958
A29: 3.5 | B29: ED-27549 | C29: SEINFRA | D29: FECHADURA TIPO TUBULAR, EM DIVISÓRIA, COM MAÇANETA E ACABAMENTO EM ZAMAC, INCLUSIVE ACESSÓRIOS PARA FIXAÇÃO E DUAS (2) CHAVES - TROCAR FECHADURA DA PORTA DE VIDRO DA ENTRADA | E29: um | F29: 1 | G29: 83.25 | H29: =G29*$L$9 -> 104.0625 | I29: =+F29*H29 -> 104.0625
A30: 3.6 | B30: ED-15733 | C30: SEINFRA | D30: CONJUNTO DE UM (1) INTERRUPTOR SIMPLES, CORRENTE 10A, TENSÃO 250V, (10A-250V), COM PLACA 4"X2" DE UM (1) POSTO, INCLUSIVE FORNECIMENTO, INSTALAÇÃO, SUPORTE, MÓDULO E PLACA10A-250V), COM PLACA 4"X2" DE DOIS (2) POSTOS, INCLUSIVE FORNECIMENTO, INSTALAÇÃO, SUPORTE, MÓDULO E PLACA | E30: um | F30: 2 | G30: 25.47 | H30: =G30*$L$9 -> 31.8375 | I30: =+F30*H30 -> 63.675
A31: 4.0 - QUARTO 01 | I31: =SUM(I32:I43) -> 2924.4919 | J31: OK - VERIFICADO
A32: 3.1 | B32: ED-50505 | C32: SEINFRA | D32: LIXAMENTO MANUAL EM PAREDE PARA REMOÇÃO DE TINTA (PAREDES E TETO) | E32: m2 | F32: 47.43 | G32: 2.69 | H32: =G32*$L$9 -> 3.3625 | I32: =+F32*H32 -> 159.48337
A33: 3.2 | B33: ED-50508 | C33: SEINFRA | D33: LIXAMENTO MANUAL EM SUPERFÍCIE METÁLICA PARA REMOÇÃO DE TINTA | E33: m2 | F33: 2.76 | G33: 4.56 | H33: =G33*$L$9 -> 5.7 | I33: =+F33*H33 -> 15.732
A34: 3.3 | B34: ED-50507 | C34: SEINFRA | D34: LIXAMENTO MANUAL EM SUPERFÍCIE DE MADEIRA PARA REMOÇÃO DE TINTA | E34: m2 | F34: 3.36 | G34: 4.05 | H34: =G34*$L$9 -> 5.0625 | I34: =+F34*H34 -> 17.01
A35: 3.4 | B35: ED-50477 | C35: SEINFRA | D35: EMASSAMENTO EM PAREDE COM MASSA CORRIDA (PVA), UMA (1) DEMÃO, INCLUSIVE LIXAMENTO PARA PINTURA | E35: m2 | F35: 37.62 | G35: 11.83 | H35: =G35*$L$9 -> 14.7875 | I35: =+F35*H35 -> 556.30575
A36: 3.5 | B36: ED-50502 | C36: SEINFRA | D36: PINTURA LÁTEX (PVA) EM PAREDE, DUAS (2) DEMÃOS, INCLUSIVE UMA (1) DEMÃO DE MASSA CORRIDA (PVA), EXCLUSIVE SELADOR ACRÍLICO - PINTURA INTERNA | E36: m2 | F36: 37.62 | G36: 26.01 | H36: =G36*$L$9 -> 32.5125 | I36: =+F36*H36 -> 1223.1202
A37: 3.6 | B37: ED-50503 | C37: SEINFRA | D37: PINTURA LÁTEX (PVA) EM TETO, DUAS (2) DEMÃOS, INCLUSIVE UMA (1) DEMÃO DE MASSA CORRIDA (PVA), EXCLUSIVE SELADOR ACRÍLICO | E37: m2 | F37: 9.81 | G37: 35.68 | H37: =G37*$L$9 -> 44.6 | I37: =+F37*H37 -> 437.526
A38: 3.7 | B38: ED-50495 | C38: SEINFRA | D38: PINTURA ESMALTE SINTÉTICO EM SUPERFÍCIES METÁLICAS, DUAS (2) DEMÃOS, INCLUSIVE UMA (1) DEMÃO DE FUNDO ANTICORROSIVO | E38: m2 | F38: 2.76 | G38: 34.28 | H38: =G38*$L$9 -> 42.85 | I38: =+F38*H38 -> 118.266
A39: 3.8 | B39: ED-50526 | C39: SEINFRA | D39: PINTURA COM VERNIZ SINTÉTICO MARÍTIMO EM ESQUADRIAS DE MADEIRA, DUAS (2) DEMÃOS, ACABAMENTO TIPO BRILHANTE | E39: m2 | F39: 3.36 | G39: 23.08 | H39: =G39*$L$9 -> 28.85 | I39: =+F39*H39 -> 96.936
A40: 3.9 | B40: ED-49700 | C40: SEINFRA | D40: FECHADURA TIPO INTERNA (GORGE), GRAU DE SEGURANÇA MÉDIO, DISTÂNCIA DE BROCA 40MM, ACABAMENTO COM ESPELHO CROMADO E MAÇANETA MODELO ALAVANCA EM ZAMAC, INCLUSIVE ACESSÓRIOS PARA FIXAÇÃO E DUAS (2) CHAVES - FECHADURA DA PORTA DO QUARTO 1 | E40: um | F40: 1 | G40: 112.65 | H40: =G40*$L$9 -> 140.8125 | I40: =+F40*H40 -> 140.8125
A41: 3.10 | B41: ED-48500 | C41: SEINFRA | D41: DEMOLIÇÃO MANUAL DE TUBULAÇÕES EMBUTIDAS DE REDE ( ÁGUA, ELÉTRICA, GASES, ETC.), INCLUSIVE RASGO EM ALVENARIA, REMOÇÃO DE ACESSÓRIOS DE FIXAÇÃO, AFASTAMENTO E EMPILHAMENTO, EXCLUSIVE TRANSPORTE E RETIRADA DO MATERIAL DEMOLIDO - REMOÇÃO DE INSTALÇÕES IMPROVIZADAS NAS PAREDES | E41: m | F41: 7 | G41: 7.4 | H41: =G41*$L$9 -> 9.25 | I41: =+F41*H41 -> 64.75
A42: 3.11 | B42: ED-15733 | C42: SEINFRA | D42: CONJUNTO DE UM (1) INTERRUPTOR SIMPLES, CORRENTE 10A, TENSÃO 250V, (10A-250V), COM PLACA 4"X2" DE UM (1) POSTO, INCLUSIVE FORNECIMENTO, INSTALAÇÃO, SUPORTE, MÓDULO E PLACA10A-250V), COM PLACA 4"X2" DE DOIS (2) POSTOS, INCLUSIVE FORNECIMENTO, INSTALAÇÃO, SUPORTE, MÓDULO E PLACA | E42: um | F42: 1 | G42: 25.44 | H42: =G42*$L$9 -> 31.8 | I42: =+F42*H42 -> 31.8
A43: 3.12 | B43: ED-15749 | C43: SEINFRA | D43: CONJUNTO DE UMA (1) TOMADA PADRÃO, TRÊS (3) POLOS, CORRENTE 20A, TENSÃO 250V, (2P+T/20A-250V), COM PLACA 4"X2" DE UM (1) POSTO, INCLUSIVE FORNECIMENTO, INSTALAÇÃO, SUPORTE, MÓDULO E PLACA | E43: um | F43: 2 | G43: 25.1 | H43: =G43*$L$9 -> 31.375 | I43: =+F43*H43 -> 62.75
A44: 5.0 - QUARTO 02 | I44: =SUM(I45:I55) -> 2875.5945 | J44: OK - VERIFICADO
A45: 4.1 | B45: ED-50505 | C45: SEINFRA | D45: LIXAMENTO MANUAL EM PAREDE PARA REMOÇÃO DE TINTA (PAREDES E TETO) | E45: m2 | F45: 47.76 | G45: 2.69 | H45: =G45*$L$9 -> 3.3625 | I45: =+F45*H45 -> 160.593
A46: 4.2 | B46: ED-50507 | C46: SEINFRA | D46: LIXAMENTO MANUAL EM SUPERFÍCIE DE MADEIRA PARA REMOÇÃO DE TINTA | E46: m2 | F46: 3.36 | G46: 4.05 | H46: =G46*$L$9 -> 5.0625 | I46: =+F46*H46 -> 17.01
A47: 4.3 | B47: ED-50508 | C47: SEINFRA | D47: LIXAMENTO MANUAL EM SUPERFÍCIE METÁLICA PARA REMOÇÃO DE TINTA | E47: m2 | F47: 2.76 | G47: 4.56 | H47: =G47*$L$9 -> 5.7 | I47: =+F47*H47 -> 15.732
A48: 4.4 | B48: ED-50477 | C48: SEINFRA | D48: EMASSAMENTO EM PAREDE COM MASSA CORRIDA (PVA), UMA (1) DEMÃO, INCLUSIVE LIXAMENTO PARA PINTURA | E48: m2 | F48: 37.62 | G48: 11.83 | H48: =G48*$L$9 -> 14.7875 | I48: =+F48*H48 -> 556.30575
A49: 4.5 | B49: ED-50502 | C49: SEINFRA | D49: PINTURA LÁTEX (PVA) EM PAREDE, DUAS (2) DEMÃOS, INCLUSIVE UMA (1) DEMÃO DE MASSA CORRIDA (PVA), EXCLUSIVE SELADOR ACRÍLICO - PINTURA INTERNA | E49: m2 | F49: 37.62 | G49: 26.01 | H49: =G49*$L$9 -> 32.5125 | I49: =+F49*H49 -> 1223.1202
A50: 4.6 | B50: ED-50503 | C50: SEINFRA | D50: PINTURA LÁTEX (PVA) EM TETO, DUAS (2) DEMÃOS, INCLUSIVE UMA (1) DEMÃO DE MASSA CORRIDA (PVA), EXCLUSIVE SELADOR ACRÍLICO | E50: m2 | F50: 10.14 | G50: 35.68 | H50: =G50*$L$9 -> 44.6 | I50: =+F50*H50 -> 452.244
A51: 4.7 | B51: ED-50495 | C51: SEINFRA | D51: PINTURA ESMALTE SINTÉTICO EM SUPERFÍCIES METÁLICAS, DUAS (2) DEMÃOS, INCLUSIVE UMA (1) DEMÃO DE FUNDO ANTICORROSIVO | E51: m2 | F51: 2.76 | G51: 34.28 | H51: =G51*$L$9 -> 42.85 | I51: =+F51*H51 -> 118.266
A52: 4.8 | B52: ED-50526 | C52: SEINFRA | D52: PINTURA COM VERNIZ SINTÉTICO MARÍTIMO EM ESQUADRIAS DE MADEIRA, DUAS (2) DEMÃOS, ACABAMENTO TIPO BRILHANTE | E52: m2 | F52: 3.36 | G52: 23.08 | H52: =G52*$L$9 -> 28.85 | I52: =+F52*H52 -> 96.936
A53: 4.9 | B53: ED-49700 | C53: SEINFRA | D53: FECHADURA TIPO INTERNA (GORGE), GRAU DE SEGURANÇA MÉDIO, DISTÂNCIA DE BROCA 40MM, ACABAMENTO COM ESPELHO CROMADO E MAÇANETA MODELO ALAVANCA EM ZAMAC, INCLUSIVE ACESSÓRIOS PARA FIXAÇÃO E DUAS (2) CHAVES - FECHADURA DA PORTA DO QUARTO 1 | E53: um | F53: 1 | G53: 112.64 | H53: =G53*$L$9 -> 140.8 | I53: =+F53*H53 -> 140.8
A54: 4.10 | B54: ED-15733 | C54: SEINFRA | D54: CONJUNTO DE UM (1) INTERRUPTOR SIMPLES, CORRENTE 10A, TENSÃO 250V, (10A-250V), COM PLACA 4"X2" DE UM (1) POSTO, INCLUSIVE FORNECIMENTO, INSTALAÇÃO, SUPORTE, MÓDULO E PLACA10A-250V), COM PLACA 4"X2" DE DOIS (2) POSTOS, INCLUSIVE FORNECIMENTO, INSTALAÇÃO, SUPORTE, MÓDULO E PLACA | E54: um | F54: 1 | G54: 25.47 | H54: =G54*$L$9 -> 31.8375 | I54: =+F54*H54 -> 31.8375
A55: 4.11 | B55: ED-15749 | C55: SEINFRA | D55: CONJUNTO DE UMA (1) TOMADA PADRÃO, TRÊS (3) POLOS, CORRENTE 20A, TENSÃO 250V, (2P+T/20A-250V), COM PLACA 4"X2" DE UM (1) POSTO, INCLUSIVE FORNECIMENTO, INSTALAÇÃO, SUPORTE, MÓDULO E PLACA | E55: um | F55: 2 | G55: 25.1 | H55: =G55*$L$9 -> 31.375 | I55: =+F55*H55 -> 62.75
A56: 6.0 - SALA 01 | I56: =SUM(I57:I63) -> 3174.9865 | J56: OK - VERIFICADO
A57: 5.1 | B57: ED-50505 | C57: SEINFRA | D57: LIXAMENTO MANUAL EM PAREDE PARA REMOÇÃO DE TINTA | E57: m2 | F57: 58.15 | G57: 2.69 | H57: =G57*$L$9 -> 3.3625 | I57: =+F57*H57 -> 195.52937
A58: 5.2 | B58: ED-50477 | C58: SEINFRA | D58: EMASSAMENTO EM PAREDE COM MASSA CORRIDA (PVA), UMA (1) DEMÃO, INCLUSIVE LIXAMENTO PARA PINTURA | E58: m2 | F58: 42.75 | G58: 11.83 | H58: =G58*$L$9 -> 14.7875 | I58: =+F58*H58 -> 632.16562
A59: 5.3 | B59: ED-50502 | C59: SEINFRA | D59: PINTURA LÁTEX (PVA) EM PAREDE, DUAS (2) DEMÃOS, INCLUSIVE UMA (1) DEMÃO DE MASSA CORRIDA (PVA), EXCLUSIVE SELADOR ACRÍLICO - PINTURA INTERNA | E59: m2 | F59: 46.4 | G59: 26.01 | H59: =G59*$L$9 -> 32.5125 | I59: =+F59*H59 -> 1508.58
A60: 5.4 | B60: ED-50503 | C60: SEINFRA | D60: PINTURA LÁTEX (PVA) EM TETO, DUAS (2) DEMÃOS, INCLUSIVE UMA (1) DEMÃO DE MASSA CORRIDA (PVA), EXCLUSIVE SELADOR ACRÍLICO | E60: m2 | F60: 15.44 | G60: 35.68 | H60: =G60*$L$9 -> 44.6 | I60: =+F60*H60 -> 688.624
A61: 5.5 | B61: ED-48500 | C61: SEINFRA | D61: DEMOLIÇÃO MANUAL DE TUBULAÇÕES EMBUTIDAS DE REDE ( ÁGUA, ELÉTRICA, GASES, ETC.), INCLUSIVE RASGO EM ALVENARIA, REMOÇÃO DE ACESSÓRIOS DE FIXAÇÃO, AFASTAMENTO E EMPILHAMENTO, EXCLUSIVE TRANSPORTE E RETIRADA DO MATERIAL DEMOLIDO - REMOÇÃO DE INSTALÇÕES IMPROVIZADAS NAS PAREDES | E61: m | F61: 6 | G61: 7.4 | H61: =G61*$L$9 -> 9.25 | I61: =+F61*H61 -> 55.5
A62: 5.6 | B62: ED-15733 | C62: SEINFRA | D62: CONJUNTO DE UM (1) INTERRUPTOR SIMPLES, CORRENTE 10A, TENSÃO 250V, (10A-250V), COM PLACA 4"X2" DE UM (1) POSTO, INCLUSIVE FORNECIMENTO, INSTALAÇÃO, SUPORTE, MÓDULO E PLACA10A-250V), COM PLACA 4"X2" DE DOIS (2) POSTOS, INCLUSIVE FORNECIMENTO, INSTALAÇÃO, SUPORTE, MÓDULO E PLACA | E62: um | F62: 1 | G62: 25.47 | H62: =G62*$L$9 -> 31.8375 | I62: =+F62*H62 -> 31.8375
A63: 5.7 | B63: ED-15749 | C63: SEINFRA | D63: CONJUNTO DE UMA (1) TOMADA PADRÃO, TRÊS (3) POLOS, CORRENTE 20A, TENSÃO 250V, (2P+T/20A-250V), COM PLACA 4"X2" DE UM (1) POSTO, INCLUSIVE FORNECIMENTO, INSTALAÇÃO, SUPORTE, MÓDULO E PLACA | E63: um | F63: 2 | G63: 25.1 | H63: =G63*$L$9 -> 31.375 | I63: =+F63*H63 -> 62.75
A64: 7.0 - SALA 02 | I64: =SUM(I65:I72) -> 2471.8193 | J64: OK - VERIFICADO
A65: 6.1 | B65: ED-50505 | C65: SEINFRA | D65: LIXAMENTO MANUAL EM PAREDE PARA REMOÇÃO DE TINTA | E65: m2 | F65: 46 | G65: 2.6899 | H65: =G65*$L$9 -> 3.362375 | I65: =+F65*H65 -> 154.66925
A66: 6.2 | B66: ED-50477 | C66: SEINFRA | D66: EMASSAMENTO EM PAREDE COM MASSA CORRIDA (PVA), UMA (1) DEMÃO, INCLUSIVE LIXAMENTO PARA PINTURA | E66: m2 | F66: 36.25 | G66: 11.83 | H66: =G66*$L$9 -> 14.7875 | I66: =+F66*H66 -> 536.04688
A67: 6.3 | B67: ED-48500 | C67: SEINFRA | D67: DEMOLIÇÃO MANUAL DE TUBULAÇÕES EMBUTIDAS DE REDE ( ÁGUA, ELÉTRICA, GASES, ETC.), INCLUSIVE RASGO EM ALVENARIA, REMOÇÃO DE ACESSÓRIOS DE FIXAÇÃO, AFASTAMENTO E EMPILHAMENTO, EXCLUSIVE TRANSPORTE E RETIRADA DO MATERIAL DEMOLIDO - REMOÇÃO DO PORTÃOZINHO | E67: m | F67: 4 | G67: 7.4 | H67: =G67*$L$9 -> 9.25 | I67: =+F67*H67 -> 37 | K67: =F65*H65 -> 154.66925
A68: 6.4 | B68: ED-50759 | C68: SEINFRA | D68: REBOCO COM ARGAMASSA, TRAÇO 1:7 (CIMENTO E AREIA), ESP. 20MM, APLICAÇÃO MANUAL, INCLUSIVE ARGAMASSA COM PREPARO MECANIZADO, EXCLUSIVE CHAPISCO - REPARAR VÃO DE ACESSO A COZINHA | E68: m2 | F68: 1 | G68: 28.87 | H68: =G68*$L$9 -> 36.0875 | I68: =+F68*H68 -> 36.0875
A69: 6.5 | B69: ED-50502 | C69: SEINFRA | D69: PINTURA LÁTEX (PVA) EM PAREDE, DUAS (2) DEMÃOS, INCLUSIVE UMA (1) DEMÃO DE MASSA CORRIDA (PVA), EXCLUSIVE SELADOR ACRÍLICO - PINTURA INTERNA | E69: m2 | F69: 36.25 | G69: 26.01 | H69: =G69*$L$9 -> 32.5125 | I69: =+F69*H69 -> 1178.5781
A70: 6.6 | B70: ED-50503 | C70: SEINFRA | D70: PINTURA LÁTEX (PVA) EM TETO, DUAS (2) DEMÃOS, INCLUSIVE UMA (1) DEMÃO DE MASSA CORRIDA (PVA), EXCLUSIVE SELADOR ACRÍLICO | E70: m2 | F70: 9.75 | G70: 35.68 | H70: =G70*$L$9 -> 44.6 | I70: =+F70*H70 -> 434.85
A71: 6.7 | B71: ED-15733 | C71: SEINFRA | D71: CONJUNTO DE UM (1) INTERRUPTOR SIMPLES, CORRENTE 10A, TENSÃO 250V, (10A-250V), COM PLACA 4"X2" DE UM (1) POSTO, INCLUSIVE FORNECIMENTO, INSTALAÇÃO, SUPORTE, MÓDULO E PLACA10A-250V), COM PLACA 4"X2" DE DOIS (2) POSTOS, INCLUSIVE FORNECIMENTO, INSTALAÇÃO, SUPORTE, MÓDULO E PLACA | E71: um | F71: 1 | G71: 25.47 | H71: =G71*$L$9 -> 31.8375 | I71: =+F71*H71 -> 31.8375
A72: 6.8 | B72: ED-15749 | C72: SEINFRA | D72: CONJUNTO DE UMA (1) TOMADA PADRÃO, TRÊS (3) POLOS, CORRENTE 20A, TENSÃO 250V, (2P+T/20A-250V), COM PLACA 4"X2" DE UM (1) POSTO, INCLUSIVE FORNECIMENTO, INSTALAÇÃO, SUPORTE, MÓDULO E PLACA | E72: um | F72: 2 | G72: 25.1 | H72: =G72*$L$9 -> 31.375 | I72: =+F72*H72 -> 62.75
A73: 8.0 - CIRCULAÇÃO INETRNA | I73: =SUM(I74:I77) -> 890.08275 | J73: OK - VERIFICADO
A74: 7.1 | B74: ED-50505 | C74: SEINFRA | D74: LIXAMENTO MANUAL EM PAREDE PARA REMOÇÃO DE TINTA | E74: m2 | F74: 17.66 | G74: 2.69 | H74: =G74*$L$9 -> 3.3625 | I74: =+F74*H74 -> 59.38175
A75: 7.2 | B75: ED-50477 | C75: SEINFRA | D75: EMASSAMENTO EM PAREDE COM MASSA CORRIDA (PVA), UMA (1) DEMÃO, INCLUSIVE LIXAMENTO PARA PINTURA | E75: m2 | F75: 15.95 | G75: 11.83 | H75: =G75*$L$9 -> 14.7875 | I75: =+F75*H75 -> 235.86062
A76: 7.3 | B76: ED-50502 | C76: SEINFRA | D76: PINTURA LÁTEX (PVA) EM PAREDE, DUAS (2) DEMÃOS, INCLUSIVE UMA (1) DEMÃO DE MASSA CORRIDA (PVA), EXCLUSIVE SELADOR ACRÍLICO - PINTURA INTERNA | E76: m2 | F76: 15.95 | G76: 26.01 | H76: =G76*$L$9 -> 32.5125 | I76: =+F76*H76 -> 518.57438
A77: 7.4 | B77: ED-50503 | C77: SEINFRA | D77: PINTURA LÁTEX (PVA) EM TETO, DUAS (2) DEMÃOS, INCLUSIVE UMA (1) DEMÃO DE MASSA CORRIDA (PVA), EXCLUSIVE SELADOR ACRÍLICO | E77: m2 | F77: 1.71 | G77: 35.68 | H77: =G77*$L$9 -> 44.6 | I77: =+F77*H77 -> 76.266
A78: 9.0 - QUARTO 03 | I78: =SUM(I79:I89) -> 3627.5383 | J78: OK - VERIFICADO
A79: 8.1 | B79: ED-50505 | C79: SEINFRA | D79: LIXAMENTO MANUAL EM PAREDE PARA REMOÇÃO DE TINTA | E79: m2 | F79: 42.9 | G79: 2.69 | H79: =G79*$L$9 -> 3.3625 | I79: =+F79*H79 -> 144.25125
A80: 8.2 | B80: ED-50508 | C80: SEINFRA | D80: LIXAMENTO MANUAL EM SUPERFÍCIE METÁLICA PARA REMOÇÃO DE TINTA | E80: m2 | F80: 3.3 | G80: 4.56 | H80: =G80*$L$9 -> 5.7 | I80: =+F80*H80 -> 18.81
A81: 8.3 | B81: ED-50507 | C81: SEINFRA | D81: LIXAMENTO MANUAL EM SUPERFÍCIE DE MADEIRA PARA REMOÇÃO DE TINTA | E81: m2 | F81: 3.36 | G81: 4.05 | H81: =G81*$L$9 -> 5.0625 | I81: =+F81*H81 -> 17.01
A82: 8.4 | B82: ED-50477 | C82: SEINFRA | D82: EMASSAMENTO EM PAREDE COM MASSA CORRIDA (PVA), UMA (1) DEMÃO, INCLUSIVE LIXAMENTO PARA PINTURA | E82: m2 | F82: 34.22 | G82: 11.83 | H82: =G82*$L$9 -> 14.7875 | I82: =+F82*H82 -> 506.02825
A83: 8.5 | B83: ED-50503 | C83: SEINFRA | D83: PINTURA LÁTEX (PVA) EM TETO, DUAS (2) DEMÃOS, INCLUSIVE UMA (1) DEMÃO DE MASSA CORRIDA (PVA), EXCLUSIVE SELADOR ACRÍLICO | E83: m2 | F83: 8.7 | G83: 35.68 | H83: =G83*$L$9 -> 44.6 | I83: =+F83*H83 -> 388.02
A84: 8.6 | B84: ED-50502 | C84: SEINFRA | D84: PINTURA LÁTEX (PVA) EM PAREDE, DUAS (2) DEMÃOS, INCLUSIVE UMA (1) DEMÃO DE MASSA CORRIDA (PVA), EXCLUSIVE SELADOR ACRÍLICO - PINTURA INTERNA | E84: m2 | F84: 34.22 | G84: 26.01 | H84: =G84*$L$9 -> 32.5125 | I84: =+F84*H84 -> 1112.5778
A85: 8.7 | B85: ED-50495 | C85: SEINFRA | D85: PINTURA ESMALTE SINTÉTICO EM SUPERFÍCIES METÁLICAS, DUAS (2) DEMÃOS, INCLUSIVE UMA (1) DEMÃO DE FUNDO ANTICORROSIVO | E85: m2 | F85: 3.3 | G85: 34.28 | H85: =G85*$L$9 -> 42.85 | I85: =+F85*H85 -> 141.405
A86: 8.8 | B86: ED-50526 | C86: SEINFRA | D86: PINTURA COM VERNIZ SINTÉTICO MARÍTIMO EM ESQUADRIAS DE MADEIRA, DUAS (2) DEMÃOS, ACABAMENTO TIPO BRILHANTE | E86: m2 | F86: 3.36 | G86: 23.08 | H86: =G86*$L$9 -> 28.85 | I86: =+F86*H86 -> 96.936
A87: 8.9 | B87: ED-49602 | C87: SEINFRA | D87: PORTA DE MADEIRA COMPLETA, DIMENSÃO (80X210)CM, TIPO DE ABRIR, UMA (1) FOLHA, ACABAMENTO NATURAL PARA PINTURA/ VERNIZ, TIPO PRANCHETA/SARRAFEADA, INCLUSIVE MARCO, ALIZAR E FERRAGENS, EXCLUSIVE PINTURA/VERNIZ | E87: um | F87: 1 | G87: 886.33 | H87: =G87*$L$9 -> 1107.9125 | I87: =+F87*H87 -> 1107.9125
A88: 8.10 | B88: ED-15733 | C88: SEINFRA | D88: CONJUNTO DE UM (1) INTERRUPTOR SIMPLES, CORRENTE 10A, TENSÃO 250V, (10A-250V), COM PLACA 4"X2" DE UM (1) POSTO, INCLUSIVE FORNECIMENTO, INSTALAÇÃO, SUPORTE, MÓDULO E PLACA10A-250V), COM PLACA 4"X2" DE DOIS (2) POSTOS, INCLUSIVE FORNECIMENTO, INSTALAÇÃO, SUPORTE, MÓDULO E PLACA | E88: um | F88: 1 | G88: 25.47 | H88: =G88*$L$9 -> 31.8375 | I88: =+F88*H88 -> 31.8375
A89: 8.11 | B89: ED-15749 | C89: SEINFRA | D89: CONJUNTO DE UMA (1) TOMADA PADRÃO, TRÊS (3) POLOS, CORRENTE 20A, TENSÃO 250V, (2P+T/20A-250V), COM PLACA 4"X2" DE UM (1) POSTO, INCLUSIVE FORNECIMENTO, INSTALAÇÃO, SUPORTE, MÓDULO E PLACA | E89: um | F89: 2 | G89: 25.1 | H89: =G89*$L$9 -> 31.375 | I89: =+F89*H89 -> 62.75
A90: 10.0 - BANHEIRO 01 | I90: =SUM(I91:I104) -> 3102.0418 | J90: OK - VERIFICADO
A91: 9.1 | B91: ED-50505 | C91: SEINFRA | D91: LIXAMENTO MANUAL EM PAREDE PARA REMOÇÃO DE TINTA | E91: m2 | F91: 3.24 | G91: 2.69 | H91: =G91*$L$9 -> 3.3625 | I91: =+F91*H91 -> 10.8945
A92: 9.2 | B92: ED-50508 | C92: SEINFRA | D92: LIXAMENTO MANUAL EM SUPERFÍCIE METÁLICA PARA REMOÇÃO DE TINTA | E92: m2 | F92: 1.2 | G92: 4.56 | H92: =G92*$L$9 -> 5.7 | I92: =+F92*H92 -> 6.84
A93: 9.3 | B93: ED-50507 | C93: SEINFRA | D93: LIXAMENTO MANUAL EM SUPERFÍCIE DE MADEIRA PARA REMOÇÃO DE TINTA | E93: m2 | F93: 3.78 | G93: 4.05 | H93: =G93*$L$9 -> 5.0625 | I93: =+F93*H93 -> 19.13625
A94: 9.4 | B94: ED-50503 | C94: SEINFRA | D94: PINTURA LÁTEX (PVA) EM TETO, DUAS (2) DEMÃOS, INCLUSIVE UMA (1) DEMÃO DE MASSA CORRIDA (PVA), EXCLUSIVE SELADOR ACRÍLICO | E94: m2 | F94: 3.24 | G94: 35.68 | H94: =G94*$L$9 -> 44.6 | I94: =+F94*H94 -> 144.504
A95: 9.5 | B95: ED-50495 | C95: SEINFRA | D95: PINTURA ESMALTE SINTÉTICO EM SUPERFÍCIES METÁLICAS, DUAS (2) DEMÃOS, INCLUSIVE UMA (1) DEMÃO DE FUNDO ANTICORROSIVO | E95: m2 | F95: 1.2 | G95: 34.28 | H95: =G95*$L$9 -> 42.85 | I95: =+F95*H95 -> 51.42
A96: 9.6 | B96: ED-50526 | C96: SEINFRA | D96: PINTURA COM VERNIZ SINTÉTICO MARÍTIMO EM ESQUADRIAS DE MADEIRA, DUAS (2) DEMÃOS, ACABAMENTO TIPO BRILHANTE | E96: m2 | F96: 3.78 | G96: 23.08 | H96: =G96*$L$9 -> 28.85 | I96: =+F96*H96 -> 109.053
A97: 9.7 | B97: ED-49603 | C97: SEINFRA | D97: PORTA DE MADEIRA COMPLETA, DIMENSÃO (90X210)CM, TIPO DE ABRIR, UMA (1) FOLHA, ACABAMENTO NATURAL PARA PINTURA/ VERNIZ, TIPO PRANCHETA/SARRAFEADA, INCLUSIVE MARCO, ALIZAR E FERRAGENS, EXCLUSIVE PINTURA/VERNIZ | E97: um | F97: 1 | G97: 915.71 | H97: =G97*$L$9 -> 1144.6375 | I97: =+F97*H97 -> 1144.6375
A98: 9.8 | B98: ED-50298 | C98: SEINFRA | D98: BACIA SANITÁRIA (VASO) DE LOUÇA CONVENCIONAL, COR BRANCA, INCLUSIVE ACESSÓRIOS DE FIXAÇÃO/VEDAÇÃO, VÁLVULA DE DESCARGA METÁLICA COM ACIONAMENTO DUPLO, TUBO DE LIGAÇÃO DE LATÃO COM CANOPLA, FORNECIMENTO, INSTALAÇÃO E REJUNTAMENTO | E98: um | F98: 1 | G98: 735.76 | H98: =G98*$L$9 -> 919.7 | I98: =+F98*H98 -> 919.7
A99: 9.9 | B99: ED-50003 | C99: SEINFRA | D99: REGISTRO DE ESFERA, TIPO PVC SOLDÁVEL DN 50MM (1.1/2"), INCLUSIVE VOLANTE PARA ACIONAMENTO | E99: um | F99: 1 | G99: 50.19 | H99: =G99*$L$9 -> 62.7375 | I99: =+F99*H99 -> 62.7375
A100: 9.10 | B100: ED-48502 | C100: SEINFRA | D100: DEMOLIÇÃO MANUAL DE REVESTIMENTO CERÂMICO, AZULEJO OU LADRILHO HIDRÁULICO, INCLUSIVE AFASTAMENTO E EMPILHAMENTO, EXCLUSIVE DEMOLIÇÃO DO REBOCO OU EMBOÇO, TRANSPORTE E RETIRADA DO MATERIAL DEMOLIDO | E100: m2 | F100: 2.18 | G100: 18.31 | H100: =G100*$L$9 -> 22.8875 | I100: =+F100*H100 -> 49.89475
...

Sheet COMPOSIÇÃO DE BDI
A1: COMPOSIÇÃO DE BDI
A3: OBRA: REFORMA DA CRECHE CANTINHO DO CÉU - PARA ENTREGA
A4: MUNICÍPIO: SALINAS/MG
A5: LOCAL: RUA OURO PRETO, 495, BAIRRO PANORAMA, SALINAS/MG
A6: SETOR: SECRETARIA MUNICIPAL DE EDUCAÇÃO
A7: RECURSO: FUNDEB 30% e EDUCAÇÃO 25%.
A8: DATA: JANEIRO/2026 | L8: DATA-BASE (mês de referência): SINAPI 04/2024 E SEINFRA 08/2023
A9: Composição do BDI sugerida | D9: Intervalos admissíveis sem justificativa | J9: Composição de BDI Adotada | O9: BDI Proposto: | Q9: =(((1+M14+M11+M12)*(1+M13)*(1+M15))/(1-M16))-1 -> 0.25000074
A11: Garantia (G) | D11: De | E11: 0.0032 | G11: até | H11: 0.0074 | J11: Garantia: | M11: 0.0074 | O11: BDI = (1+AC+S+R+G)*(1+DF)*(1+L) -1 (1-T) Observações: i) Fórmula de cálculo, composição do BDI e intervalos admissíveis nos termos do Acórdão 2622/2013 do TCU; ii) BDI entre 20,34% e 25,00%.
A12: Risco (R) | D12: De | E12: 0.005 | G12: até | H12: 0.0097 | J12: Risco: | M12: 0.0097
A13: Despesas financeiras (DF) | D13: De | E13: 0.0102 | G13: até | H13: 0.0121 | J13: Despesas financeiras: | M13: 0.0121
A14: Administração Central (AC) | D14: De | E14: 0.038 | G14: até | H14: 0.0467 | J14: Administração central: | M14: 0.0467
A15: Lucro (L) | D15: De | E15: 0.0664 | G15: até | H15: 0.0869 | J15: Lucro: | M15: 0.0695
A16: Tributos (T) | D16: Conforme legislação | J16: Tributos: | M16: 0.0788
P23: Salinas, 27 de Janeiro de 2026.
C27: Márcio José Neres Costa | K27: Joaquim Neres Xavier Dias
C28: Engenheiro Civil - CREA/MG 167.823/D | K28: Prefeito Municipal de Salinas

Sheet CRONOGRAMA VÁLIDO
A3: CRONOGRAMA FÍSICO-FINANCEIRO
A4: =PLANILHA!A3 -> OBRA: REFORMA DA CRECHE CANTINHO DO CÉU - PARA ENTREGA
A5: =PLANILHA!A4 -> MUNICÍPIO: SALINAS/MG
A6: =PLANILHA!A5 -> LOCAL: RUA OURO PRETO, 495, BAIRRO PANORAMA, SALINAS/MG
A7: =PLANILHA!A6 -> SETOR: SECRETARIA MUNICIPAL DE EDUCAÇÃO
A8: =PLANILHA!A7 -> RECURSO: FUNDEB 30% e EDUCAÇÃO 25%.
A9: =PLANILHA!A8 -> DATA: JANEIRO/2026
A11: =PLANILHA!A9 -> REFORMA DA CRECHE CANTINHO DO CÉU - PARA ENTREGA
A12: Item | C12: Discriminação dos serviços | D12: Peso | E12: Valor Obras/Serviços | F12: MÊS 01 | H12: MÊS 02 | J12: MÊS 03 | L12: Mês 04 | N12: Mês 05 | P12: Mês 06 | R12: Mês 07
D13: % | E13: R$ | G13: % | I13: % | K13: % | M13: % | O13: % | Q13: %
A14: 1 | C14: =PLANILHA!A13 -> 1.0 - SERVIÇOS PRELIMINARES | D14: =E14/E32 -> 0.031943444 | E14: =PLANILHA!I13 -> 1708.925 | F14: =E14*G14 -> 1708.925 | G14: 1 | H14: =E14*I14 -> 0 | J14: =E14*K14 -> 0 | L14: =E14*M14 -> 0 | N14: =E14*O14 -> 0 | P14: =E14*Q14 -> 0 | R14: =E14*S14 -> 0
A15: 2 | C15: =PLANILHA!A15 -> 2.0 - GARAGEM COBERTA | D15: =E15/E33 -> 0.082832053 | E15: =PLANILHA!I15 -> 4431.3871 | F15: =E15*G15 -> 2215.6936 | G15: 0.5 | H15: =E15*I15 -> 1772.5549 | I15: 0.4 | J15: =E15*K15 -> 443.13871 | K15: 0.1 | L15: =E15*M15 -> 0 | N15: =E15*O15 -> 0 | P15: =E15*Q15 -> 0 | R15: =E15*S15 -> 0
A16: 3 | C16: =PLANILHA!A24 -> 3.0 - ENTRADA PRINCIPAL | D16: =E16/E32 -> 0.027817704 | E16: =PLANILHA!I24 -> 1488.2043 | F16: =E16*G16 -> 744.10213 | G16: 0.5 | H16: =E16*I16 -> 595.2817 | I16: 0.4 | J16: =E16*K16 -> 148.82043 | K16: 0.1 | L16: =E16*M16 -> 0 | N16: =E16*O16 -> 0 | P16: =E16*Q16 -> 0 | R16: =E16*S16 -> 0
A17: 4 | C17: =PLANILHA!A31 -> 4.0 - QUARTO 01 | D17: =E17/E32 -> 0.054664975 | E17: =PLANILHA!I31 -> 2924.4919 | F17: =E17*G17 -> 1462.2459 | G17: 0.5 | H17: =E17*I17 -> 1169.7968 | I17: 0.4 | J17: =E17*K17 -> 292.44919 | K17: 0.1 | L17: =E17*M17 -> 0 | N17: =E17*O17 -> 0 | P17: =E17*Q17 -> 0 | R17: =E17*S17 -> 0
A18: 5 | C18: =PLANILHA!A44 -> 5.0 - QUARTO 02 | D18: =E18/E32 -> 0.053750979 | E18: =PLANILHA!I44 -> 2875.5945 | F18: =E18*G18 -> 1437.7973 | G18: 0.5 | H18: =E18*I18 -> 1150.2378 | I18: 0.4 | J18: =E18*K18 -> 287.55945 | K18: 0.1 | L18: =E18*M18 -> 0 | N18: =E18*O18 -> 0 | P18: =E18*Q18 -> 0 | R18: =E18*S18 -> 0
A19: 6 | C19: =PLANILHA!A56 -> 6.0 - SALA 01 | D19: =E19/E32 -> 0.059347253 | E19: =PLANILHA!I56 -> 3174.9865 | F19: =E19*G19 -> 1587.4933 | G19: 0.5 | H19: =E19*I19 -> 1269.9946 | I19: 0.4 | J19: =E19*K19 -> 317.49865 | K19: 0.1 | L19: =E19*M19 -> 0 | N19: =E19*O19 -> 0 | P19: =E19*Q19 -> 0 | R19: =E19*S19 -> 0
A20: 7 | C20: =PLANILHA!A64 -> 7.0 - SALA 02 | D20: =E20/E32 -> 0.046203561 | E20: =PLANILHA!I64 -> 2471.8193 | F20: =E20*G20 -> 1235.9096 | G20: 0.5 | H20: =E20*I20 -> 988.7277 | I20: 0.4 | J20: =E20*K20 -> 247.18193 | K20: 0.1 | L20: =E20*M20 -> 0 | N20: =E20*O20 -> 0 | P20: =E20*Q20 -> 0 | R20: =E20*S20 -> 0
A21: 8 | C21: =PLANILHA!A73 -> 8.0 - CIRCULAÇÃO INETRNA | D21: =E21/E32 -> 0.01663754 | E21: =PLANILHA!I73 -> 890.08275 | F21: =E21*G21 -> 445.04137 | G21: 0.5 | H21: =E21*I21 -> 356.0331 | I21: 0.4 | J21: =E21*K21 -> 89.008275 | K21: 0.1 | L21: =E21*M21 -> 0 | N21: =E21*O21 -> 0 | P21: =E21*Q21 -> 0 | R21: =E21*S21 -> 0
A22: 9 | C22: =PLANILHA!A78 -> 9.0 - QUARTO 03 | D22: =E22/E32 -> 0.067806408 | E22: =PLANILHA!I78 -> 3627.5383 | F22: =E22*G22 -> 1813.7691 | G22: 0.5 | H22: =E22*I22 -> 1451.0153 | I22: 0.4 | J22: =E22*K22 -> 362.75383 | K22: 0.1 | L22: =E22*M22 -> 0 | N22: =E22*O22 -> 0 | P22: =E22*Q22 -> 0 | R22: =E22*S22 -> 0
A23: 10 | C23: =PLANILHA!A90 -> 10.0 - BANHEIRO 01 | D23: =E23/E32 -> 0.05798376 | E23: =PLANILHA!I90 -> 3102.0418 | F23: =E23*G23 -> 1551.0209 | G23: 0.5 | H23: =E23*I23 -> 1240.8167 | I23: 0.4 | J23: =E23*K23 -> 310.20418 | K23: 0.1 | L23: =E23*M23 -> 0 | N23: =E23*O23 -> 0 | P23: =E23*Q23 -> 0 | R23: =E23*S23 -> 0
A24: 11 | C24: =PLANILHA!A105 -> 11.0 - QUARTO 04 | D24: =E24/E32 -> 0.089552546 | E24: =PLANILHA!I105 -> 4790.9231 | F24: =E24*G24 -> 2395.4616 | G24: 0.5 | H24: =E24*I24 -> 1916.3693 | I24: 0.4 | J24: =E24*K24 -> 479.09231 | K24: 0.1 | L24: =E24*M24 -> 0 | N24: =E24*O24 -> 0 | P24: =E24*Q24 -> 0 | R24: =E24*S24 -> 0
A25: 12 | C25: =PLANILHA!A118 -> 12.0 - BANHEIRO 02 | D25: =E25/E32 -> 0.038634188 | E25: =PLANILHA!I118 -> 2066.8695 | F25: =E25*G25 -> 1033.4348 | G25: 0.5 | H25: =E25*I25 -> 826.7478 | I25: 0.4 | J25: =E25*K25 -> 206.68695 | K25: 0.1 | L25: =E25*M25 -> 0 | N25: =E25*O25 -> 0 | P25: =E25*Q25 -> 0 | R25: =E25*S25 -> 0
A26: 13 | C26: =PLANILHA!A129 -> 13.0 - COZINHA | D26: =E26/E32 -> 0.0735489 | E26: =PLANILHA!I129 -> 3934.7528 | F26: =E26*G26 -> 1967.3764 | G26: 0.5 | H26: =E26*I26 -> 1573.9011 | I26: 0.4 | J26: =E26*K26 -> 393.47528 | K26: 0.1 | L26: =E26*M26 -> 0 | N26: =E26*O26 -> 0 | P26: =E26*Q26 -> 0 | R26: =E26*S26 -> 0
A27: 14 | C27: =PLANILHA!A140 -> 14.0 - ÁREA DE SERVIÇO | D27: =E27/E32 -> 0.041295823 | E27: =PLANILHA!I140 -> 2209.2629 | F27: =E27*G27 -> 1104.6314 | G27: 0.5 | H27: =E27*I27 -> 883.70515 | I27: 0.4 | J27: =E27*K27 -> 220.92629 | K27: 0.1 | L27: =E27*M27 -> 0 | N27: =E27*O27 -> 0 | P27: =E27*Q27 -> 0 | R27: =E27*S27 -> 0
A28: 15 | C28: =PLANILHA!A148 -> 15.0 - ENTRADA SEGUNDÁRIA COBERTA | D28: =E28/E32 -> 0.030233972 | E28: =PLANILHA!I148 -> 1617.4709 | F28: =E28*G28 -> 808.73544 | G28: 0.5 | H28: =E28*I28 -> 646.98835 | I28: 0.4 | J28: =E28*K28 -> 161.74709 | K28: 0.1 | L28: =E28*M28 -> 0 | N28: =E28*O28 -> 0 | P28: =E28*Q28 -> 0 | R28: =E28*S28 -> 0
A29: 16 | C29: =PLANILHA!A157 -> 16.0 - ÁREA DE VENTILAÇÃO | D29: =E29/E32 -> 0.011652497 | E29: =PLANILHA!I157 -> 623.39062 | F29: =E29*G29 -> 311.69531 | G29: 0.5 | H29: =E29*I29 -> 249.35625 | I29: 0.4 | J29: =E29*K29 -> 62.339063 | K29: 0.1 | L29: =E29*M29 -> 0 | N29: =E29*O29 -> 0 | P29: =E29*Q29 -> 0 | R29: =E29*S29 -> 0
A30: 17 | C30: =PLANILHA!A161 -> 17.0 - OUTROS SERVIÇOS (MUROS INTERNOS E PARTE EXTERNA DA CASA) | D30: =E30/E33 -> 0.2160944 | E30: =PLANILHA!I161 -> 11560.717 | F30: =E30*G30 -> 5780.3585 | G30: 0.5 | H30: =E30*I30 -> 2312.1434 | I30: 0.2 | J30: =E30*K30 -> 3468.2151 | K30: 0.3 | L30: =E30*M30 -> 0 | N30: =E30*O30 -> 0 | P30: =E30*Q30 -> 0 | R30: =E30*S30 -> 0
V31: =R33-E33 -> 0
A32: Total | C32: Simples | D32: =SUM(D14:D30) -> 1 | E32: =SUM(E14:E30) -> 53498.458 | F32: =SUM(F14:F30) -> 27603.692 | G32: =SUM(F32:F32)/$E$32 -> 0.51597172 | H32: =SUM(H14:H30) -> 18403.67 | I32: =SUM(H32:H32)/$E$32 -> 0.34400374 | J32: =SUM(J14:J30) -> 7491.0967 | K32: =SUM(J32:J32)/$E$32 -> 0.14002453 | L32: =SUM(L14:L30) -> 0 | M32: =SUM(L32:L32)/$E$32 -> 0 | N32: =SUM(N14:N30) -> 0 | O32: =SUM(N32:N32)/$E$32 -> 0 | P32: =SUM(P14:P30) -> 0 | Q32: =SUM(P32:P32)/$E$32 -> 0 | R32: =SUM(R14:R30) -> 0 | S32: =SUM(R32:R32)/$E$32 -> 0
C33: Acumulado | D33: 1 | E33: =E32 -> 53498.458 | F33: =F32 -> 27603.692 | G33: =SUM(F33:F33)/$E$33 -> 0.51597172 | H33: =F33+H32 -> 46007.361 | I33: =SUM(H33:H33)/$E$33 -> 0.85997547 | J33: =H33+J32 -> 53498.458 | K33: =SUM(J33:J33)/$E$33 -> 1 | L33: =J33+L32 -> 53498.458 | M33: =SUM(L33:L33)/$E$33 -> 1 | N33: =L33+N32 -> 53498.458 | O33: =SUM(N33:N33)/$E$33 -> 1 | P33: =N33+P32 -> 53498.458 | Q33: =SUM(P33:P33)/$E$33 -> 1 | R33: =P33+R32 -> 53498.458 | S33: =SUM(R33:R33)/$E$33 -> 1
F35: TOTAL GERAL DA PLANILHA | J35: =J33 -> 53498.458 | N35: TOTAL GERAL DA PLANILHA | R35: =R33 -> 53498.458
A38: RT:
C39: Márcio José Neres Costa | D39: Joaquim Neres Xavier Dias
C40: Engenheiro Civil - CREA/MG 167.823/D | D40: Prefeito Municipal de Salinas

Sheet CRONOGRAMA
A3: CRONOGRAMA FÍSICO-FINANCEIRO
A5: =PLANILHA!A3 -> OBRA: REFORMA DA CRECHE CANTINHO DO CÉU - PARA ENTREGA
A6: MUNICÍPIO: SALINAS/MG
A7: =PLANILHA!A5 -> LOCAL: RUA OURO PRETO, 495, BAIRRO PANORAMA, SALINAS/MG
A8: =PLANILHA!A7 -> RECURSO: FUNDEB 30% e EDUCAÇÃO 25%.
A9: =PLANILHA!A8 -> DATA: JANEIRO/2026
A11: DISCRIMINAÇÃO DOS SERVIÇOS | B11: VALOR (R$) | C11: ETAPA 1 | D11: ETAPA 2 | E11: ETAPA 3 | F11: ETAPA 4 | G11: ETAPA 5 | H11: SUB-TOTAL
A12: ESCOLA MUNICIPAL PAULO TEIXEIRA COSTA | B12: =PLANILHA!I10 -> 53498.458 | C12: 0.35 | D12: 0.3 | E12: 0.25 | F12: 0.1 | H12: =SUM(C12:G12) -> 1
A13: ETAPA 01 - COLOCAÇÃO DE PLACA DE OBRA, ISOLAMENTO DA ÁREA DE INTERVENÇÃO, LOCAÇÃO DA OBRA, EXECUÇÃO SAPATAS DE FUNDAÇÕES, ARRIMO E ATERRO COMPACTADO DO PALCO, EXECUÇÃO DE ALVENARIA DE VEDAÇÃO E DRENAGEM PLUVIAL | C13: =+$B$12*C12 -> 18724.46
A14: ETAPA 02 - EXECUÇÃO DE PILARES, CINTAS, ALAMBRADOS, ESTRUTURA METÁLICA PARA A COBERTURA DA ÁREA DE RECREAÇÃO, EXECUÇÃO DO ENGRADAMENTO E COBERTURA METÁLICA, EXECUÇÃO DO PISO EM CONCRETO USINADO, EXECUÇÃO DA PARTE ELÉTRICA DO PALCO E ÁREA DE RECREAÇÃO, REVESTIMENTO EM PORCELANATO NO PALCO, REVESTIMENTO EM ARGAMASSA NAS ALVENARIAS DE VEDAÇÃO E NO MURO. | D14: =+$B$12*D12 -> 16049.537
A15: ETAPA 03 - FINALIZAR ACABAMENTO DE TELHADO, FINALIZAR PARTE ELÉTRICA, FINALIZAR REVESTIMENTO INCLUSIVE REJUNTAMENTO, COLOCAÇÃO DE GUARA-CORPO E CORRIMÃO, DEIXAR PISO EM CONCRETO USINADO POLIDO E LISO, COLOCAÇÃO DAS CALHAS, FINALIZAR PINTURA GERAL, ATESTAR QUE TUDO ESTEJA FINALIZADO E FUNCIONANDO, LIMPEZA FINAL DA OBRA, ENTREGA DA OBRA. | E15: =+$B$12*E12 -> 13374.614 | K15: =PLANILHA!#REF! -> #REF! | L15: =PLANILHA!#REF! -> #REF! | M15: =PLANILHA!#REF! -> #REF! | N15: =PLANILHA!K58 -> 0
A16: ETAPA 04 - FINALIZAR ACABAMENTO DE TELHADO, FINALIZAR PARTE ELÉTRICA, FINALIZAR REVESTIMENTO INCLUSIVE REJUNTAMENTO, COLOCAÇÃO DE GUARA-CORPO E CORRIMÃO, DEIXAR PISO EM CONCRETO USINADO POLIDO E LISO, COLOCAÇÃO DAS CALHAS, FINALIZAR PINTURA GERAL, ATESTAR QUE TUDO ESTEJA FINALIZADO E FUNCIONANDO, LIMPEZA FINAL DA OBRA, ENTREGA DA OBRA. | F16: =+$B$12*F12 -> 5349.8458
A19: VALOR DO PERÍODO | C19: =C13 -> 18724.46 | D19: =D14 -> 16049.537 | E19: =E15 -> 13374.614 | F19: =F16 -> 5349.8458 | G19: TOTAL | H19: =C19+D19+E19+F19 -> 53498.458 | J19: =SUM(C19:G19) -> 53498.458
A20: VALOR ACUMULADO | C20: =+C19 -> 18724.46 | D20: =+D19+C19 -> 34773.998 | E20: =+C19+D19+E19 -> 48148.612 | F20: =+D19+C19+E19+F19 -> 53498.458
A21: PERCENTUAL DO PERÍODO | C21: =C12 -> 0.35 | D21: =D12 -> 0.3 | E21: =E12 -> 0.25 | F21: =F12 -> 0.1
A22: PERCENTUAL ACUMULADO | C22: 0 | D22: =C21+D21 -> 0.65 | E22: =D21+E21+C21 -> 0.9 | F22: =E21+F21+D21+C21 -> 1
A23: Responsável Técnico:
A27: Márcio José Neres Costa | D27: Joaquim Neres Xavier Dias
A28: Engenheiro Civil - CREA/MG 167.823/D | D28: Prefeito Municipal de Salinas

Sheet PLANILHA AJUSTES 20.02
A1: PREFEITURA MUNICIPAL DE SALINAS - MG
A2: PLANILHA ORÇAMENTÁRIA | L2: =#REF! -> #REF!
A3: OBRA: REFORMA DA CRECHE CANTINHO DO CÉU - PARA ENTREGA
A4: MUNICÍPIO: SALINAS/MG
A5: LOCAL: RUA OURO PRETO, 495, BAIRRO PANORAMA, SALINAS/MG
A6: SETOR: SECRETARIA MUNICIPAL DE EDUCAÇÃO
A7: RECURSO: FUNDEB 30% e EDUCAÇÃO 25%.
A8: DATA: JANEIRO/2026 | E8: DATA-BASE (mês de referência): SINAPI 04/2024 E SEINFRA 08/2023
A9: REFORMA DA CRECHE CANTINHO DO CÉU - PARA ENTREGA | I9: B.D.I.=25% | J9: 1.25 | L9: 1.25
A10: ITEM | B10: CÓDIGO | C10: FONTE | D10: DESCRIÇÃO DOS SERVIÇOS POR AMBIENTES | E10: UN | F10: QUANT | G10: TOTAL GERAL (R$) | I10: =SUM(I14:I165) -> 53498.553
G11: SEM BDI | H11: COM BDI | M11: =G14-K12 -> 1025.26
G12: UNITÁRIO | H12: UNITÁRIO | I12: TOTAL ITEM | K12: =H14-G14 -> 341.88 | L12: =53498.73-1709.02 -> 51789.71
A13: 1.0 - SERVIÇOS PRELIMINARES | J13: OK - VERIFICADO
A14: 1.1 | B14: ED-28427 | C14: SEINFRA | D14: FORNECIMENTO E COLOCAÇÃO DE PLACA DE OBRA EM CHAPA GALVANIZADA #26, ESP. 0,45MM, DIMENSÃO (3X1,5)M, PLOTADA COM ADESIVO VINÍLICO, AFIXADA COM REBITES 4,8X40MM, EM ESTRUTURA METÁLICA DE METALON 20X20MM, ESP. 1,25MM, INCLUSIVE SUPORTE EM EUCALIPTO AUTOCLAVADO PINTADO COM TINTA PVA DUAS (2) DEMÃOSFORNECIMENTO E COLOCAÇÃO DE PLACA DE OBRA EM CHAPA GALVANIZADA #26, ESP. 0,45MM, DIMENSÃO (3X1,5)M, PLOTADA COM ADESIVO VINÍLICO, AFIXADA COM REBITES 4,8X40MM, EM ESTRUTURA METÁLICA DE METALON 20X20MM, ESP. 1,25MM, INCLUSIVE SUPORTE EM EUCALIPTO AUTOCLAVADO PINTADO COM TINTA PVA DUAS (2) DEMÃOS | E14: un | F14: 1 | G14: 1367.14 | H14: 1709.02 | I14: =+F14*H14 -> 1709.02 | L14: =L20+L134+L162+L163+L164 -> 1561.0329
A15: 2.0 - GARAGEM COBERTA | J15: OK - VERIFICADO | L15: =L14-I13 -> 1561.0329
A16: 2.1 | B16: ED-50505 | C16: SEINFRA | D16: LIXAMENTO MANUAL EM PAREDE PARA REMOÇÃO DE TINTA (PAREDES LATERAIS) | E16: m2 | F16: 49.25 | G16: 2.69 | H16: =G16*$L$9 -> 3.3625 | I16: =+F16*H16 -> 165.60312
A17: 2.2 | B17: ED-50508 | C17: SEINFRA | D17: LIXAMENTO MANUAL EM SUPERFÍCIE METÁLICA PARA REMOÇÃO DE TINTA - PORTÃO | E17: m2 | F17: 12 | G17: 4.56 | H17: =G17*$L$9 -> 5.7 | I17: =+F17*H17 -> 68.4
A18: 2.3 | B18: ED-50473 | C18: SEINFRA | D18: EMASSAMENTO EM PAREDE COM MASSA ACRÍLICA, UMA (1) DEMÃO, INCLUSIVE LIXAMENTO PARA PINTURA | E18: m2 | F18: 49.25 | G18: 13.9 | H18: =G18*$L$9 -> 17.375 | I18: =+F18*H18 -> 855.71875 | L18: =I20-I13 -> 1910.7262
A19: 2.4 | B19: ED-50503 | C19: SEINFRA | D19: PINTURA LÁTEX (PVA) EM TETO, DUAS (2) DEMÃOS, INCLUSIVE UMA (1) DEMÃO DE MASSA CORRIDA (PVA), EXCLUSIVE SELADOR ACRÍLICO | E19: m2 | F19: 18.09 | G19: 35.68 | H19: =G19*$L$9 -> 44.6 | I19: =+F19*H19 -> 806.814
A20: 2.5 | B20: ED-50451 | C20: SEINFRA | D20: PINTURA ACRÍLICA EM PAREDE, DUAS (2) DEMÃOS, EXCLUSIVE SELADOR ACRÍLICO E MASSA ACRÍLICA/CORRIDA (PVA) - PINTURA EXTERNA | E20: m2 | F20: 108.41 | G20: 14.1 | H20: =G20*$L$9 -> 17.625 | I20: =+F20*H20 -> 1910.7262 | J20: 135 | K20: 2379.38 | L20: =K20-I20 -> 468.65375 | N20: 53498.46
A21: 2.6 | B21: ED-50495 | C21: SEINFRA | D21: PINTURA ESMALTE SINTÉTICO EM SUPERFÍCIES METÁLICAS, DUAS (2) DEMÃOS, INCLUSIVE UMA (1) DEMÃO DE FUNDO ANTICORROSIVO | E21: m2 | F21: 12 | G21: 34.28 | H21: =G21*$L$9 -> 42.85 | I21: =+F21*H21 -> 514.2 | L21: =I20-88.46 -> 1822.2662
A22: 2.7 | B22: ED-48500 | C22: SEINFRA | D22: DEMOLIÇÃO MANUAL DE TUBULAÇÕES EMBUTIDAS DE REDE ( ÁGUA, ELÉTRICA, GASES, ETC.), INCLUSIVE RASGO EM ALVENARIA, REMOÇÃO DE ACESSÓRIOS DE FIXAÇÃO, AFASTAMENTO E EMPILHAMENTO, EXCLUSIVE TRANSPORTE E RETIRADA DO MATERIAL DEMOLIDO - REMOÇÃO DE INSTALÇÕES IMPROVIZADAS NAS PAREDES | E22: m | F22: 5 | G22: 7.4 | H22: =G22*$L$9 -> 9.25 | I22: =+F22*H22 -> 46.25 | L22: 1674.38 | N22: =I10-N20 -> 0.093
A23: 2.8 | B23: ED-15733 | C23: SEINFRA | D23: CONJUNTO DE UM (1) INTERRUPTOR SIMPLES, CORRENTE 10A, TENSÃO 250V, (10A-250V), COM PLACA 4"X2" DE UM (1) POSTO, INCLUSIVE FORNECIMENTO, INSTALAÇÃO, SUPORTE, MÓDULO E PLACA10A-250V), COM PLACA 4"X2" DE DOIS (2) POSTOS, INCLUSIVE FORNECIMENTO, INSTALAÇÃO, SUPORTE, MÓDULO E PLACA | E23: um | F23: 2 | G23: 25.47 | H23: =G23*$L$9 -> 31.8375 | I23: =+F23*H23 -> 63.675
A24: 3.0 - ENTRADA PRINCIPAL | J24: OK - VERIFICADO | L24: =L22-88.46 -> 1585.92
A25: 3.1 | B25: ED-50505 | C25: SEINFRA | D25: LIXAMENTO MANUAL EM PAREDE PARA REMOÇÃO DE TINTA | E25: m2 | F25: 21.9 | G25: 2.69 | H25: =G25*$L$9 -> 3.3625 | I25: =+F25*H25 -> 73.63875 | K25: =I25+0.1 -> 73.73875
A26: 3.2 | B26: ED-50477 | C26: SEINFRA | D26: EMASSAMENTO EM PAREDE COM MASSA CORRIDA (PVA), UMA (1) DEMÃO, INCLUSIVE LIXAMENTO PARA PINTURA | E26: m2 | F26: 21.9 | G26: 11.83 | H26: =G26*$L$9 -> 14.7875 | I26: =+F26*H26 -> 323.84625
A27: 3.3 | B27: ED-50502 | C27: SEINFRA | D27: PINTURA LÁTEX (PVA) EM PAREDE, DUAS (2) DEMÃOS, INCLUSIVE UMA (1) DEMÃO DE MASSA CORRIDA (PVA), EXCLUSIVE SELADOR ACRÍLICO - PINTURA INTERNA | E27: m2 | F27: 21.9 | G27: 26.01 | H27: =G27*$L$9 -> 32.5125 | I27: =+F27*H27 -> 712.02375
A28: 3.4 | B28: ED-50503 | C28: SEINFRA | D28: PINTURA LÁTEX (PVA) EM TETO, DUAS (2) DEMÃOS, INCLUSIVE UMA (1) DEMÃO DE MASSA CORRIDA (PVA), EXCLUSIVE SELADOR ACRÍLICO | E28: m2 | F28: 4.73 | G28: 35.68 | H28: =G28*$L$9 -> 44.6 | I28: =+F28*H28 -> 210.958
A29: 3.5 | B29: ED-27549 | C29: SEINFRA | D29: FECHADURA TIPO TUBULAR, EM DIVISÓRIA, COM MAÇANETA E ACABAMENTO EM ZAMAC, INCLUSIVE ACESSÓRIOS PARA FIXAÇÃO E DUAS (2) CHAVES - TROCAR FECHADURA DA PORTA DE VIDRO DA ENTRADA | E29: um | F29: 1 | G29: 83.25 | H29: =G29*$L$9 -> 104.0625 | I29: =+F29*H29 -> 104.0625
A30: 3.6 | B30: ED-15733 | C30: SEINFRA | D30: CONJUNTO DE UM (1) INTERRUPTOR SIMPLES, CORRENTE 10A, TENSÃO 250V, (10A-250V), COM PLACA 4"X2" DE UM (1) POSTO, INCLUSIVE FORNECIMENTO, INSTALAÇÃO, SUPORTE, MÓDULO E PLACA10A-250V), COM PLACA 4"X2" DE DOIS (2) POSTOS, INCLUSIVE FORNECIMENTO, INSTALAÇÃO, SUPORTE, MÓDULO E PLACA | E30: um | F30: 2 | G30: 25.47 | H30: =G30*$L$9 -> 31.8375 | I30: =+F30*H30 -> 63.675
A31: 4.0 - QUARTO 01 | J31: OK - VERIFICADO
A32: 3.1 | B32: ED-50505 | C32: SEINFRA | D32: LIXAMENTO MANUAL EM PAREDE PARA REMOÇÃO DE TINTA (PAREDES E TETO) | E32: m2 | F32: 47.43 | G32: 2.69 | H32: =G32*$L$9 -> 3.3625 | I32: =+F32*H32 -> 159.48337
A33: 3.2 | B33: ED-50508 | C33: SEINFRA | D33: LIXAMENTO MANUAL EM SUPERFÍCIE METÁLICA PARA REMOÇÃO DE TINTA | E33: m2 | F33: 2.76 | G33: 4.56 | H33: =G33*$L$9 -> 5.7 | I33: =+F33*H33 -> 15.732
A34: 3.3 | B34: ED-50507 | C34: SEINFRA | D34: LIXAMENTO MANUAL EM SUPERFÍCIE DE MADEIRA PARA REMOÇÃO DE TINTA | E34: m2 | F34: 3.36 | G34: 4.05 | H34: =G34*$L$9 -> 5.0625 | I34: =+F34*H34 -> 17.01
A35: 3.4 | B35: ED-50477 | C35: SEINFRA | D35: EMASSAMENTO EM PAREDE COM MASSA CORRIDA (PVA), UMA (1) DEMÃO, INCLUSIVE LIXAMENTO PARA PINTURA | E35: m2 | F35: 37.62 | G35: 11.83 | H35: =G35*$L$9 -> 14.7875 | I35: =+F35*H35 -> 556.30575
A36: 3.5 | B36: ED-50502 | C36: SEINFRA | D36: PINTURA LÁTEX (PVA) EM PAREDE, DUAS (2) DEMÃOS, INCLUSIVE UMA (1) DEMÃO DE MASSA CORRIDA (PVA), EXCLUSIVE SELADOR ACRÍLICO - PINTURA INTERNA | E36: m2 | F36: 37.62 | G36: 26.01 | H36: =G36*$L$9 -> 32.5125 | I36: =+F36*H36 -> 1223.1202
A37: 3.6 | B37: ED-50503 | C37: SEINFRA | D37: PINTURA LÁTEX (PVA) EM TETO, DUAS (2) DEMÃOS, INCLUSIVE UMA (1) DEMÃO DE MASSA CORRIDA (PVA), EXCLUSIVE SELADOR ACRÍLICO | E37: m2 | F37: 9.81 | G37: 35.68 | H37: =G37*$L$9 -> 44.6 | I37: =+F37*H37 -> 437.526
A38: 3.7 | B38: ED-50495 | C38: SEINFRA | D38: PINTURA ESMALTE SINTÉTICO EM SUPERFÍCIES METÁLICAS, DUAS (2) DEMÃOS, INCLUSIVE UMA (1) DEMÃO DE FUNDO ANTICORROSIVO | E38: m2 | F38: 2.76 | G38: 34.28 | H38: =G38*$L$9 -> 42.85 | I38: =+F38*H38 -> 118.266
A39: 3.8 | B39: ED-50526 | C39: SEINFRA | D39: PINTURA COM VERNIZ SINTÉTICO MARÍTIMO EM ESQUADRIAS DE MADEIRA, DUAS (2) DEMÃOS, ACABAMENTO TIPO BRILHANTE | E39: m2 | F39: 3.36 | G39: 23.08 | H39: =G39*$L$9 -> 28.85 | I39: =+F39*H39 -> 96.936
A40: 3.9 | B40: ED-49700 | C40: SEINFRA | D40: FECHADURA TIPO INTERNA (GORGE), GRAU DE SEGURANÇA MÉDIO, DISTÂNCIA DE BROCA 40MM, ACABAMENTO COM ESPELHO CROMADO E MAÇANETA MODELO ALAVANCA EM ZAMAC, INCLUSIVE ACESSÓRIOS PARA FIXAÇÃO E DUAS (2) CHAVES - FECHADURA DA PORTA DO QUARTO 1 | E40: um | F40: 1 | G40: 112.65 | H40: =G40*$L$9 -> 140.8125 | I40: =+F40*H40 -> 140.8125
A41: 3.10 | B41: ED-48500 | C41: SEINFRA | D41: DEMOLIÇÃO MANUAL DE TUBULAÇÕES EMBUTIDAS DE REDE ( ÁGUA, ELÉTRICA, GASES, ETC.), INCLUSIVE RASGO EM ALVENARIA, REMOÇÃO DE ACESSÓRIOS DE FIXAÇÃO, AFASTAMENTO E EMPILHAMENTO, EXCLUSIVE TRANSPORTE E RETIRADA DO MATERIAL DEMOLIDO - REMOÇÃO DE INSTALÇÕES IMPROVIZADAS NAS PAREDES | E41: m | F41: 7 | G41: 7.4 | H41: =G41*$L$9 -> 9.25 | I41: =+F41*H41 -> 64.75
A42: 3.11 | B42: ED-15733 | C42: SEINFRA | D42: CONJUNTO DE UM (1) INTERRUPTOR SIMPLES, CORRENTE 10A, TENSÃO 250V, (10A-250V), COM PLACA 4"X2" DE UM (1) POSTO, INCLUSIVE FORNECIMENTO, INSTALAÇÃO, SUPORTE, MÓDULO E PLACA10A-250V), COM PLACA 4"X2" DE DOIS (2) POSTOS, INCLUSIVE FORNECIMENTO, INSTALAÇÃO, SUPORTE, MÓDULO E PLACA | E42: um | F42: 1 | G42: 25.44 | H42: =G42*$L$9 -> 31.8 | I42: =+F42*H42 -> 31.8
A43: 3.12 | B43: ED-15749 | C43: SEINFRA | D43: CONJUNTO DE UMA (1) TOMADA PADRÃO, TRÊS (3) POLOS, CORRENTE 20A, TENSÃO 250V, (2P+T/20A-250V), COM PLACA 4"X2" DE UM (1) POSTO, INCLUSIVE FORNECIMENTO, INSTALAÇÃO, SUPORTE, MÓDULO E PLACA | E43: um | F43: 2 | G43: 25.1 | H43: =G43*$L$9 -> 31.375 | I43: =+F43*H43 -> 62.75
A44: 5.0 - QUARTO 02 | J44: OK - VERIFICADO
A45: 4.1 | B45: ED-50505 | C45: SEINFRA | D45: LIXAMENTO MANUAL EM PAREDE PARA REMOÇÃO DE TINTA (PAREDES E TETO) | E45: m2 | F45: 47.76 | G45: 2.69 | H45: =G45*$L$9 -> 3.3625 | I45: =+F45*H45 -> 160.593
A46: 4.2 | B46: ED-50507 | C46: SEINFRA | D46: LIXAMENTO MANUAL EM SUPERFÍCIE DE MADEIRA PARA REMOÇÃO DE TINTA | E46: m2 | F46: 3.36 | G46: 4.05 | H46: =G46*$L$9 -> 5.0625 | I46: =+F46*H46 -> 17.01
A47: 4.3 | B47: ED-50508 | C47: SEINFRA | D47: LIXAMENTO MANUAL EM SUPERFÍCIE METÁLICA PARA REMOÇÃO DE TINTA | E47: m2 | F47: 2.76 | G47: 4.56 | H47: =G47*$L$9 -> 5.7 | I47: =+F47*H47 -> 15.732
A48: 4.4 | B48: ED-50477 | C48: SEINFRA | D48: EMASSAMENTO EM PAREDE COM MASSA CORRIDA (PVA), UMA (1) DEMÃO, INCLUSIVE LIXAMENTO PARA PINTURA | E48: m2 | F48: 37.62 | G48: 11.83 | H48: =G48*$L$9 -> 14.7875 | I48: =+F48*H48 -> 556.30575
A49: 4.5 | B49: ED-50502 | C49: SEINFRA | D49: PINTURA LÁTEX (PVA) EM PAREDE, DUAS (2) DEMÃOS, INCLUSIVE UMA (1) DEMÃO DE MASSA CORRIDA (PVA), EXCLUSIVE SELADOR ACRÍLICO - PINTURA INTERNA | E49: m2 | F49: 37.62 | G49: 26.01 | H49: =G49*$L$9 -> 32.5125 | I49: =+F49*H49 -> 1223.1202
A50: 4.6 | B50: ED-50503 | C50: SEINFRA | D50: PINTURA LÁTEX (PVA) EM TETO, DUAS (2) DEMÃOS, INCLUSIVE UMA (1) DEMÃO DE MASSA CORRIDA (PVA), EXCLUSIVE SELADOR ACRÍLICO | E50: m2 | F50: 10.14 | G50: 35.68 | H50: =G50*$L$9 -> 44.6 | I50: =+F50*H50 -> 452.244
A51: 4.7 | B51: ED-50495 | C51: SEINFRA | D51: PINTURA ESMALTE SINTÉTICO EM SUPERFÍCIES METÁLICAS, DUAS (2) DEMÃOS, INCLUSIVE UMA (1) DEMÃO DE FUNDO ANTICORROSIVO | E51: m2 | F51: 2.76 | G51: 34.28 | H51: =G51*$L$9 -> 42.85 | I51: =+F51*H51 -> 118.266
A52: 4.8 | B52: ED-50526 | C52: SEINFRA | D52: PINTURA COM VERNIZ SINTÉTICO MARÍTIMO EM ESQUADRIAS DE MADEIRA, DUAS (2) DEMÃOS, ACABAMENTO TIPO BRILHANTE | E52: m2 | F52: 3.36 | G52: 23.08 | H52: =G52*$L$9 -> 28.85 | I52: =+F52*H52 -> 96.936
A53: 4.9 | B53: ED-49700 | C53: SEINFRA | D53: FECHADURA TIPO INTERNA (GORGE), GRAU DE SEGURANÇA MÉDIO, DISTÂNCIA DE BROCA 40MM, ACABAMENTO COM ESPELHO CROMADO E MAÇANETA MODELO ALAVANCA EM ZAMAC, INCLUSIVE ACESSÓRIOS PARA FIXAÇÃO E DUAS (2) CHAVES - FECHADURA DA PORTA DO QUARTO 1 | E53: um | F53: 1 | G53: 112.64 | H53: =G53*$L$9 -> 140.8 | I53: =+F53*H53 -> 140.8
A54: 4.10 | B54: ED-15733 | C54: SEINFRA | D54: CONJUNTO DE UM (1) INTERRUPTOR SIMPLES, CORRENTE 10A, TENSÃO 250V, (10A-250V), COM PLACA 4"X2" DE UM (1) POSTO, INCLUSIVE FORNECIMENTO, INSTALAÇÃO, SUPORTE, MÓDULO E PLACA10A-250V), COM PLACA 4"X2" DE DOIS (2) POSTOS, INCLUSIVE FORNECIMENTO, INSTALAÇÃO, SUPORTE, MÓDULO E PLACA | E54: um | F54: 1 | G54: 25.47 | H54: =G54*$L$9 -> 31.8375 | I54: =+F54*H54 -> 31.8375
A55: 4.11 | B55: ED-15749 | C55: SEINFRA | D55: CONJUNTO DE UMA (1) TOMADA PADRÃO, TRÊS (3) POLOS, CORRENTE 20A, TENSÃO 250V, (2P+T/20A-250V), COM PLACA 4"X2" DE UM (1) POSTO, INCLUSIVE FORNECIMENTO, INSTALAÇÃO, SUPORTE, MÓDULO E PLACA | E55: um | F55: 2 | G55: 25.1 | H55: =G55*$L$9 -> 31.375 | I55: =+F55*H55 -> 62.75
A56: 6.0 - SALA 01 | J56: OK - VERIFICADO
A57: 5.1 | B57: ED-50505 | C57: SEINFRA | D57: LIXAMENTO MANUAL EM PAREDE PARA REMOÇÃO DE TINTA | E57: m2 | F57: 58.15 | G57: 2.69 | H57: =G57*$L$9 -> 3.3625 | I57: =+F57*H57 -> 195.52937
A58: 5.2 | B58: ED-50477 | C58: SEINFRA | D58: EMASSAMENTO EM PAREDE COM MASSA CORRIDA (PVA), UMA (1) DEMÃO, INCLUSIVE LIXAMENTO PARA PINTURA | E58: m2 | F58: 42.75 | G58: 11.83 | H58: =G58*$L$9 -> 14.7875 | I58: =+F58*H58 -> 632.16562
A59: 5.3 | B59: ED-50502 | C59: SEINFRA | D59: PINTURA LÁTEX (PVA) EM PAREDE, DUAS (2) DEMÃOS, INCLUSIVE UMA (1) DEMÃO DE MASSA CORRIDA (PVA), EXCLUSIVE SELADOR ACRÍLICO - PINTURA INTERNA | E59: m2 | F59: 46.4 | G59: 26.01 | H59: =G59*$L$9 -> 32.5125 | I59: =+F59*H59 -> 1508.58
A60: 5.4 | B60: ED-50503 | C60: SEINFRA | D60: PINTURA LÁTEX (PVA) EM TETO, DUAS (2) DEMÃOS, INCLUSIVE UMA (1) DEMÃO DE MASSA CORRIDA (PVA), EXCLUSIVE SELADOR ACRÍLICO | E60: m2 | F60: 15.44 | G60: 35.68 | H60: =G60*$L$9 -> 44.6 | I60: =+F60*H60 -> 688.624
A61: 5.5 | B61: ED-48500 | C61: SEINFRA | D61: DEMOLIÇÃO MANUAL DE TUBULAÇÕES EMBUTIDAS DE REDE ( ÁGUA, ELÉTRICA, GASES, ETC.), INCLUSIVE RASGO EM ALVENARIA, REMOÇÃO DE ACESSÓRIOS DE FIXAÇÃO, AFASTAMENTO E EMPILHAMENTO, EXCLUSIVE TRANSPORTE E RETIRADA DO MATERIAL DEMOLIDO - REMOÇÃO DE INSTALÇÕES IMPROVIZADAS NAS PAREDES | E61: m | F61: 6 | G61: 7.4 | H61: =G61*$L$9 -> 9.25 | I61: =+F61*H61 -> 55.5
A62: 5.6 | B62: ED-15733 | C62: SEINFRA | D62: CONJUNTO DE UM (1) INTERRUPTOR SIMPLES, CORRENTE 10A, TENSÃO 250V, (10A-250V), COM PLACA 4"X2" DE UM (1) POSTO, INCLUSIVE FORNECIMENTO, INSTALAÇÃO, SUPORTE, MÓDULO E PLACA10A-250V), COM PLACA 4"X2" DE DOIS (2) POSTOS, INCLUSIVE FORNECIMENTO, INSTALAÇÃO, SUPORTE, MÓDULO E PLACA | E62: um | F62: 1 | G62: 25.47 | H62: =G62*$L$9 -> 31.8375 | I62: =+F62*H62 -> 31.8375
A63: 5.7 | B63: ED-15749 | C63: SEINFRA | D63: CONJUNTO DE UMA (1) TOMADA PADRÃO, TRÊS (3) POLOS, CORRENTE 20A, TENSÃO 250V, (2P+T/20A-250V), COM PLACA 4"X2" DE UM (1) POSTO, INCLUSIVE FORNECIMENTO, INSTALAÇÃO, SUPORTE, MÓDULO E PLACA | E63: um | F63: 2 | G63: 25.1 | H63: =G63*$L$9 -> 31.375 | I63: =+F63*H63 -> 62.75
A64: 7.0 - SALA 02 | J64: OK - VERIFICADO
A65: 6.1 | B65: ED-50505 | C65: SEINFRA | D65: LIXAMENTO MANUAL EM PAREDE PARA REMOÇÃO DE TINTA | E65: m2 | F65: 46 | G65: 2.6899 | H65: =G65*$L$9 -> 3.362375 | I65: =+F65*H65 -> 154.66925
A66: 6.2 | B66: ED-50477 | C66: SEINFRA | D66: EMASSAMENTO EM PAREDE COM MASSA CORRIDA (PVA), UMA (1) DEMÃO, INCLUSIVE LIXAMENTO PARA PINTURA | E66: m2 | F66: 36.25 | G66: 11.83 | H66: =G66*$L$9 -> 14.7875 | I66: =+F66*H66 -> 536.04688
A67: 6.3 | B67: ED-48500 | C67: SEINFRA | D67: DEMOLIÇÃO MANUAL DE TUBULAÇÕES EMBUTIDAS DE REDE ( ÁGUA, ELÉTRICA, GASES, ETC.), INCLUSIVE RASGO EM ALVENARIA, REMOÇÃO DE ACESSÓRIOS DE FIXAÇÃO, AFASTAMENTO E EMPILHAMENTO, EXCLUSIVE TRANSPORTE E RETIRADA DO MATERIAL DEMOLIDO - REMOÇÃO DO PORTÃOZINHO | E67: m | F67: 4 | G67: 7.4 | H67: =G67*$L$9 -> 9.25 | I67: =+F67*H67 -> 37 | K67: =F65*H65 -> 154.66925
A68: 6.4 | B68: ED-50759 | C68: SEINFRA | D68: REBOCO COM ARGAMASSA, TRAÇO 1:7 (CIMENTO E AREIA), ESP. 20MM, APLICAÇÃO MANUAL, INCLUSIVE ARGAMASSA COM PREPARO MECANIZADO, EXCLUSIVE CHAPISCO - REPARAR VÃO DE ACESSO A COZINHA | E68: m2 | F68: 1 | G68: 28.87 | H68: =G68*$L$9 -> 36.0875 | I68: =+F68*H68 -> 36.0875
A69: 6.5 | B69: ED-50502 | C69: SEINFRA | D69: PINTURA LÁTEX (PVA) EM PAREDE, DUAS (2) DEMÃOS, INCLUSIVE UMA (1) DEMÃO DE MASSA CORRIDA (PVA), EXCLUSIVE SELADOR ACRÍLICO - PINTURA INTERNA | E69: m2 | F69: 36.25 | G69: 26.01 | H69: =G69*$L$9 -> 32.5125 | I69: =+F69*H69 -> 1178.5781
A70: 6.6 | B70: ED-50503 | C70: SEINFRA | D70: PINTURA LÁTEX (PVA) EM TETO, DUAS (2) DEMÃOS, INCLUSIVE UMA (1) DEMÃO DE MASSA CORRIDA (PVA), EXCLUSIVE SELADOR ACRÍLICO | E70: m2 | F70: 9.75 | G70: 35.68 | H70: =G70*$L$9 -> 44.6 | I70: =+F70*H70 -> 434.85
A71: 6.7 | B71: ED-15733 | C71: SEINFRA | D71: CONJUNTO DE UM (1) INTERRUPTOR SIMPLES, CORRENTE 10A, TENSÃO 250V, (10A-250V), COM PLACA 4"X2" DE UM (1) POSTO, INCLUSIVE FORNECIMENTO, INSTALAÇÃO, SUPORTE, MÓDULO E PLACA10A-250V), COM PLACA 4"X2" DE DOIS (2) POSTOS, INCLUSIVE FORNECIMENTO, INSTALAÇÃO, SUPORTE, MÓDULO E PLACA | E71: um | F71: 1 | G71: 25.47 | H71: =G71*$L$9 -> 31.8375 | I71: =+F71*H71 -> 31.8375
A72: 6.8 | B72: ED-15749 | C72: SEINFRA | D72: CONJUNTO DE UMA (1) TOMADA PADRÃO, TRÊS (3) POLOS, CORRENTE 20A, TENSÃO 250V, (2P+T/20A-250V), COM PLACA 4"X2" DE UM (1) POSTO, INCLUSIVE FORNECIMENTO, INSTALAÇÃO, SUPORTE, MÓDULO E PLACA | E72: um | F72: 2 | G72: 25.1 | H72: =G72*$L$9 -> 31.375 | I72: =+F72*H72 -> 62.75
A73: 8.0 - CIRCULAÇÃO INETRNA | J73: OK - VERIFICADO
A74: 7.1 | B74: ED-50505 | C74: SEINFRA | D74: LIXAMENTO MANUAL EM PAREDE PARA REMOÇÃO DE TINTA | E74: m2 | F74: 17.66 | G74: 2.69 | H74: =G74*$L$9 -> 3.3625 | I74: =+F74*H74 -> 59.38175
A75: 7.2 | B75: ED-50477 | C75: SEINFRA | D75: EMASSAMENTO EM PAREDE COM MASSA CORRIDA (PVA), UMA (1) DEMÃO, INCLUSIVE LIXAMENTO PARA PINTURA | E75: m2 | F75: 15.95 | G75: 11.83 | H75: =G75*$L$9 -> 14.7875 | I75: =+F75*H75 -> 235.86062
A76: 7.3 | B76: ED-50502 | C76: SEINFRA | D76: PINTURA LÁTEX (PVA) EM PAREDE, DUAS (2) DEMÃOS, INCLUSIVE UMA (1) DEMÃO DE MASSA CORRIDA (PVA), EXCLUSIVE SELADOR ACRÍLICO - PINTURA INTERNA | E76: m2 | F76: 15.95 | G76: 26.01 | H76: =G76*$L$9 -> 32.5125 | I76: =+F76*H76 -> 518.57438
A77: 7.4 | B77: ED-50503 | C77: SEINFRA | D77: PINTURA LÁTEX (PVA) EM TETO, DUAS (2) DEMÃOS, INCLUSIVE UMA (1) DEMÃO DE MASSA CORRIDA (PVA), EXCLUSIVE SELADOR ACRÍLICO | E77: m2 | F77: 1.71 | G77: 35.68 | H77: =G77*$L$9 -> 44.6 | I77: =+F77*H77 -> 76.266
A78: 9.0 - QUARTO 03 | J78: OK - VERIFICADO
A79: 8.1 | B79: ED-50505 | C79: SEINFRA | D79: LIXAMENTO MANUAL EM PAREDE PARA REMOÇÃO DE TINTA | E79: m2 | F79: 42.9 | G79: 2.69 | H79: =G79*$L$9 -> 3.3625 | I79: =+F79*H79 -> 144.25125
A80: 8.2 | B80: ED-50508 | C80: SEINFRA | D80: LIXAMENTO MANUAL EM SUPERFÍCIE METÁLICA PARA REMOÇÃO DE TINTA | E80: m2 | F80: 3.3 | G80: 4.56 | H80: =G80*$L$9 -> 5.7 | I80: =+F80*H80 -> 18.81
A81: 8.3 | B81: ED-50507 | C81: SEINFRA | D81: LIXAMENTO MANUAL EM SUPERFÍCIE DE MADEIRA PARA REMOÇÃO DE TINTA | E81: m2 | F81: 3.36 | G81: 4.05 | H81: =G81*$L$9 -> 5.0625 | I81: =+F81*H81 -> 17.01
A82: 8.4 | B82: ED-50477 | C82: SEINFRA | D82: EMASSAMENTO EM PAREDE COM MASSA CORRIDA (PVA), UMA (1) DEMÃO, INCLUSIVE LIXAMENTO PARA PINTURA | E82: m2 | F82: 34.22 | G82: 11.83 | H82: =G82*$L$9 -> 14.7875 | I82: =+F82*H82 -> 506.02825
A83: 8.5 | B83: ED-50503 | C83: SEINFRA | D83: PINTURA LÁTEX (PVA) EM TETO, DUAS (2) DEMÃOS, INCLUSIVE UMA (1) DEMÃO DE MASSA CORRIDA (PVA), EXCLUSIVE SELADOR ACRÍLICO | E83: m2 | F83: 8.7 | G83: 35.68 | H83: =G83*$L$9 -> 44.6 | I83: =+F83*H83 -> 388.02
A84: 8.6 | B84: ED-50502 | C84: SEINFRA | D84: PINTURA LÁTEX (PVA) EM PAREDE, DUAS (2) DEMÃOS, INCLUSIVE UMA (1) DEMÃO DE MASSA CORRIDA (PVA), EXCLUSIVE SELADOR ACRÍLICO - PINTURA INTERNA | E84: m2 | F84: 34.22 | G84: 26.01 | H84: =G84*$L$9 -> 32.5125 | I84: =+F84*H84 -> 1112.5778
A85: 8.7 | B85: ED-50495 | C85: SEINFRA | D85: PINTURA ESMALTE SINTÉTICO EM SUPERFÍCIES METÁLICAS, DUAS (2) DEMÃOS, INCLUSIVE UMA (1) DEMÃO DE FUNDO ANTICORROSIVO | E85: m2 | F85: 3.3 | G85: 34.28 | H85: =G85*$L$9 -> 42.85 | I85: =+F85*H85 -> 141.405
A86: 8.8 | B86: ED-50526 | C86: SEINFRA | D86: PINTURA COM VERNIZ SINTÉTICO MARÍTIMO EM ESQUADRIAS DE MADEIRA, DUAS (2) DEMÃOS, ACABAMENTO TIPO BRILHANTE | E86: m2 | F86: 3.36 | G86: 23.08 | H86: =G86*$L$9 -> 28.85 | I86: =+F86*H86 -> 96.936
A87: 8.9 | B87: ED-49602 | C87: SEINFRA | D87: PORTA DE MADEIRA COMPLETA, DIMENSÃO (80X210)CM, TIPO DE ABRIR, UMA (1) FOLHA, ACABAMENTO NATURAL PARA PINTURA/ VERNIZ, TIPO PRANCHETA/SARRAFEADA, INCLUSIVE MARCO, ALIZAR E FERRAGENS, EXCLUSIVE PINTURA/VERNIZ | E87: um | F87: 1 | G87: 886.33 | H87: =G87*$L$9 -> 1107.9125 | I87: =+F87*H87 -> 1107.9125
A88: 8.10 | B88: ED-15733 | C88: SEINFRA | D88: CONJUNTO DE UM (1) INTERRUPTOR SIMPLES, CORRENTE 10A, TENSÃO 250V, (10A-250V), COM PLACA 4"X2" DE UM (1) POSTO, INCLUSIVE FORNECIMENTO, INSTALAÇÃO, SUPORTE, MÓDULO E PLACA10A-250V), COM PLACA 4"X2" DE DOIS (2) POSTOS, INCLUSIVE FORNECIMENTO, INSTALAÇÃO, SUPORTE, MÓDULO E PLACA | E88: um | F88: 1 | G88: 25.47 | H88: =G88*$L$9 -> 31.8375 | I88: =+F88*H88 -> 31.8375
A89: 8.11 | B89: ED-15749 | C89: SEINFRA | D89: CONJUNTO DE UMA (1) TOMADA PADRÃO, TRÊS (3) POLOS, CORRENTE 20A, TENSÃO 250V, (2P+T/20A-250V), COM PLACA 4"X2" DE UM (1) POSTO, INCLUSIVE FORNECIMENTO, INSTALAÇÃO, SUPORTE, MÓDULO E PLACA | E89: um | F89: 2 | G89: 25.1 | H89: =G89*$L$9 -> 31.375 | I89: =+F89*H89 -> 62.75
A90: 10.0 - BANHEIRO 01 | J90: OK - VERIFICADO
A91: 9.1 | B91: ED-50505 | C91: SEINFRA | D91: LIXAMENTO MANUAL EM PAREDE PARA REMOÇÃO DE TINTA | E91: m2 | F91: 3.24 | G91: 2.69 | H91: =G91*$L$9 -> 3.3625 | I91: =+F91*H91 -> 10.8945
A92: 9.2 | B92: ED-50508 | C92: SEINFRA | D92: LIXAMENTO MANUAL EM SUPERFÍCIE METÁLICA PARA REMOÇÃO DE TINTA | E92: m2 | F92: 1.2 | G92: 4.56 | H92: =G92*$L$9 -> 5.7 | I92: =+F92*H92 -> 6.84
A93: 9.3 | B93: ED-50507 | C93: SEINFRA | D93: LIXAMENTO MANUAL EM SUPERFÍCIE DE MADEIRA PARA REMOÇÃO DE TINTA | E93: m2 | F93: 3.78 | G93: 4.05 | H93: =G93*$L$9 -> 5.0625 | I93: =+F93*H93 -> 19.13625
A94: 9.4 | B94: ED-50503 | C94: SEINFRA | D94: PINTURA LÁTEX (PVA) EM TETO, DUAS (2) DEMÃOS, INCLUSIVE UMA (1) DEMÃO DE MASSA CORRIDA (PVA), EXCLUSIVE SELADOR ACRÍLICO | E94: m2 | F94: 3.24 | G94: 35.68 | H94: =G94*$L$9 -> 44.6 | I94: =+F94*H94 -> 144.504
A95: 9.5 | B95: ED-50495 | C95: SEINFRA | D95: PINTURA ESMALTE SINTÉTICO EM SUPERFÍCIES METÁLICAS, DUAS (2) DEMÃOS, INCLUSIVE UMA (1) DEMÃO DE FUNDO ANTICORROSIVO | E95: m2 | F95: 1.2 | G95: 34.28 | H95: =G95*$L$9 -> 42.85 | I95: =+F95*H95 -> 51.42
A96: 9.6 | B96: ED-50526 | C96: SEINFRA | D96: PINTURA COM VERNIZ SINTÉTICO MARÍTIMO EM ESQUADRIAS DE MADEIRA, DUAS (2) DEMÃOS, ACABAMENTO TIPO BRILHANTE | E96: m2 | F96: 3.78 | G96: 23.08 | H96: =G96*$L$9 -> 28.85 | I96: =+F96*H96 -> 109.053
A97: 9.7 | B97: ED-49603 | C97: SEINFRA | D97: PORTA DE MADEIRA COMPLETA, DIMENSÃO (90X210)CM, TIPO DE ABRIR, UMA (1) FOLHA, ACABAMENTO NATURAL PARA PINTURA/ VERNIZ, TIPO PRANCHETA/SARRAFEADA, INCLUSIVE MARCO, ALIZAR E FERRAGENS, EXCLUSIVE PINTURA/VERNIZ | E97: um | F97: 1 | G97: 915.71 | H97: =G97*$L$9 -> 1144.6375 | I97: =+F97*H97 -> 1144.6375
A98: 9.8 | B98: ED-50298 | C98: SEINFRA | D98: BACIA SANITÁRIA (VASO) DE LOUÇA CONVENCIONAL, COR BRANCA, INCLUSIVE ACESSÓRIOS DE FIXAÇÃO/VEDAÇÃO, VÁLVULA DE DESCARGA METÁLICA COM ACIONAMENTO DUPLO, TUBO DE LIGAÇÃO DE LATÃO COM CANOPLA, FORNECIMENTO, INSTALAÇÃO E REJUNTAMENTO | E98: um | F98: 1 | G98: 735.76 | H98: =G98*$L$9 -> 919.7 | I98: =+F98*H98 -> 919.7
A99: 9.9 | B99: ED-50003 | C99: SEINFRA | D99: REGISTRO DE ESFERA, TIPO PVC SOLDÁVEL DN 50MM (1.1/2"), INCLUSIVE VOLANTE PARA ACIONAMENTO | E99: um | F99: 1 | G99: 50.19 | H99: =G99*$L$9 -> 62.7375 | I99: =+F99*H99 -> 62.7375
A100: 9.10 | B100: ED-48502 | C100: SEINFRA | D100: DEMOLIÇÃO MANUAL DE REVESTIMENTO CERÂMICO, AZULEJO OU LADRILHO HIDRÁULICO, INCLUSIVE AFASTAMENTO E EMPILHAMENTO, EXCLUSIVE DEMOLIÇÃO DO REBOCO OU EMBOÇO, TRANSPORTE E RETIRADA DO MATERIAL DEMOLIDO | E100: m2 | F100: 2.18 | G100: 18.31 | H100: =G100*$L$9 -> 22.8875 | I100: =+F100*H100 -> 49.89475
...
