Workbook

Sheet Planilha Orcamentaria
A4: PLANILHA ORÇAMENTÁRIA DE CUSTOS
A6: PREFEITURA MUNICIPAL DE LONTRA | F6: FOLHA Nº: 01
A7: OBRA:AMPLIAÇÃO (DE 4 SALAS DE AULAS) | F7: DATA: 03/03/2026
A8: LOCAL: ESCOLA MUNICIPAL NUCLEO | E8: FORMA DE EXECUÇÃO:
A9: REGIÃO/MÊS DE REFERÊNCIA: NORTE/ABRIL S I C O R - M G | E9: ( ) | F9: DIRETA | G9: ( X ) | H9: INDIRETA
A10: PRAZO DE EXECUÇÃO: 05 MÊS | G10: LDI | H10: 0.25
A12: ITEM | B12: CÓDIGO | C12: DESCRIÇÃO | D12: UNIDADE | E12: QUANTIDADE | F12: PREÇO UNITÁRIO S/ LDI | G12: PREÇO UNITÁRIO C/ LDI | H12: PREÇO TOTAL
A13: 1.0 | C13: INSTALAÇÃO DOS SERVIÇOS DE ENGENHARIA | G13: =ROUND(F13+(F13*$H$10),2) -> 0 | H13: =SUM(H14:H17) -> 20687.17
A14: 1.1 | B14: ED-28427 | C14: FORNECIMENTO E COLOCAÇÃO DE PLACA DE OBRA EM CHAPA GALVANIZADA #26, ESP. 0,45MM, DIMENSÃO (3X1,5)M, PLOTADA COM ADESIVO VINÍLICO, AFIXADA COM REBITES 4,8X40MM, EM ESTRUTURA METÁLICA DE METALON 20X20MM, ESP. 1,25MM, INCLUSIVE SUPORTE EM EUCALIPTO AUTOCLAVADO PINTADO COM TINTA PVA DUAS (2) DEMÃOS | D14: Und | E14: ='MEMORIA DE CALCULO'!E14 -> 1 | F14: 1179.41 | G14: =ROUND(F14+(F14*$H$10),2) -> 1474.26 | H14: 1474.26
A15: 1.2 | B15: ED-17989 | C15: LOCAÇÃO DE OBRA COM GABARITO DE TÁBUAS CORRIDAS PONTALETADAS A CADA 2,00M, REAPROVEITAMENTO (2X), INCLUSIVE ACOMPANHAMENTO DE EQUIPE TOPOGRÁFICA PARA MARCAÇÃO DE PONTO TOPOGRÁFICO | D15: m | E15: ='MEMORIA DE CALCULO'!E15 -> 95.8 | F15: 62.77 | G15: =ROUND(F15+(F15*$H$10),2) -> 78.46 | H15: 7516.47 | J15: 0
A16: 1.3 | B16: ED-50125 | C16: ÁREA COBERTA EM TELHA FIBROCIMENTO PARA CENTRAL DE CORTE/DOBRA/MONTAGEM EM CANTEIRO DE OBRAS, INCLUSIVE BANCADA E INSTALAÇÕES ELÉTRICAS, EXCLUSIVE VEDAÇÕES LATERAIS | D16: m2 | E16: ='MEMORIA DE CALCULO'!E16 -> 8 | F16: 154.07 | G16: =ROUND(F16+(F16*$H$10),2) -> 192.59 | H16: 1540.72
A17: 1.4 | B17: ED-50135 | C17: BARRACÃO DE OBRA, EM CHAPA DE COMPENSADO RESINADO, INCLUSIVE INSTALAÇÕES SANITÁRIAS E MOBILIÁRIO - PADRÃO DER-MG | D17: m2 | E17: ='MEMORIA DE CALCULO'!E17 -> 12 | F17: 677.05 | G17: =ROUND(F17+(F17*$H$10),2) -> 846.31 | H17: 10155.72
A18: 2.0 | C18: TRABALHOS EM TERRA | G18: =ROUND(F18+(F18*$H$10),2) -> 0 | H18: =SUM(H19:H22) -> 9738.58
A19: 2.1 | B19: ED-51110 | C19: ESCAVAÇÃO MANUAL DE TERRA (DESATERRO MANUAL), INCLUSIVE DESCARGA LATERAL, EXCLUSIVE RETIRADA E TRANSPORTE DO MATERIAL ESCAVADO | D19: m3 | E19: ='MEMORIA DE CALCULO'!E19 -> 38.12 | F19: 45.28 | G19: =ROUND(F19+(F19*$H$10),2) -> 56.6 | H19: 2157.59
A20: 2.2 | B20: ED-51120 | C20: REATERRO MANUAL DE VALA, INCLUSIVE ESPALHAMENTO E COMPACTAÇÃO MANUAL COM SOQUETE | D20: m3 | E20: ='MEMORIA DE CALCULO'!E20 -> 22.52 | F20: 77.29 | G20: =ROUND(F20+(F20*$H$10),2) -> 96.61 | H20: 2175.66
A21: 2.3 | B21: ED-51093 | C21: APILOAMENTO MANUAL EM FUNDO DE VALA COM SOQUETE, EXCLUSIVE ESCAVAÇÃO | D21: m2 | E21: ='MEMORIA DE CALCULO'!E21 -> 37.22 | F21: 26.6 | G21: =ROUND(F21+(F21*$H$10),2) -> 33.25 | H21: 1237.57
A22: 2.4 | B22: ED-51097 | C22: COMPACTAÇÃO MANUAL DE ATERRO COM SOQUETE, INCLUSIVE ESPALHAMENTO MANUAL | D22: m3 | E22: ='MEMORIA DE CALCULO'!E22 -> 43.13925 | F22: 77.29 | G22: =ROUND(F22+(F22*$H$10),2) -> 96.61 | H22: 4167.76
A23: 3.0 | C23: SONDAGEM, FUNDAÇÕES, MUROS E CONTENÇÕES | G23: =ROUND(F23+(F23*$H$10),2) -> 0 | H23: =SUM(H24:H25) -> 43947.22
A24: 3.1 | B24: ED-50850 | C24: BLOCO ARMADO EM CONCRETO 20 MPa, INCLUSIVE LASTRO 5 CM EM CONCRETO MAGRO 9 MPa, FÔRMAS LATERAIS E DESFORMA | D24: m3 | E24: ='MEMORIA DE CALCULO'!E24 -> 11.26 | F24: 2253.7 | G24: =ROUND(F24+(F24*$H$10),2) -> 2817.13 | H24: 31720.88
A25: 3.2 | B25: ED-50850 | C25: VIGA DE 0,21 A 0,35 M DE LARGURA EM CONCRETO 20MPa, APARENTE, ARMAÇÃO, FÔRMA PLASTIFICADA, ESCORAMENTO E DESFORMA | D25: m3 | E25: ='MEMORIA DE CALCULO'!E25 -> 4.34 | F25: 2253.7 | G25: =ROUND(F25+(F25*$H$10),2) -> 2817.13 | H25: 12226.34
A26: 4.0 | C26: SUPERESTRUTURA | G26: =ROUND(F26+(F26*$H$10),2) -> 0 | H26: =SUM(H27:H34) -> 143075.54
A27: 4.1 | B27: ED-8487 | C27: CONCRETO ESTRUTURAL, PREPARADO EM OBRA COM BETONEIRA, CONTROLE "A", COM FCK 25MPA, BRITA Nº (1 E 2), CONSISTÊNCIA PARA VIBRAÇÃO (FABRICAÇÃO) | D27: m3 | E27: ='MEMORIA DE CALCULO'!E27 -> 19.42 | F27: 662.91 | G27: =ROUND(F27+(F27*$H$10),2) -> 828.64 | H27: 16092.19
A28: 4.2 | B28: RO-00541 | C28: Armação em aço CA-60 - fornecimento, preparo e colocação | D28: kg | E28: ='MEMORIA DE CALCULO'!E28 -> 394 | F28: 12.37 | G28: =ROUND(F28+(F28*$H$10),2) -> 15.46 | H28: 6091.24
A29: 4.3 | B29: RO-00540 | C29: Armação em aço CA-50 - fornecimento, preparo e colocação | D29: kg | E29: ='MEMORIA DE CALCULO'!E29 -> 2368 | F29: 10.35 | G29: =ROUND(F29+(F29*$H$10),2) -> 12.94 | H29: 30641.92
A30: 4.4 | B30: ED-49647 | C30: FÔRMA E DESFORMA DE COMPENSADO PLASTIFICADO, ESP. 12MM, REAPROVEITAMENTO (5X), EXCLUSIVE ESCORAMENTO | D30: m2 | E30: ='MEMORIA DE CALCULO'!E30 -> 174.8 | F30: 58.21 | G30: =ROUND(F30+(F30*$H$10),2) -> 72.76 | H30: 12718.45
A31: 4.5 | B31: ED-50254 | C31: LAJE PRÉ-MOLDADA UNIDIRECIONAL COM ENCHIMENTO EM POLIESTIRENO EXPANDIDO (EPS), CAPEAMENTO DE 4CM, SOBRECARGA DE 100KG/M2, ALTURA TOTAL DE 11CM E VÃO LIVRE MÁXIMO DE 5M, INCLUSIVE CONCRETO ESTRUTURAL, USINADO BOMBEADO COM FCK DE 20MPA, EXCLUSIVE TELA ARMADA E CIMBRAMENTO | D31: m2 | E31: ='MEMORIA DE CALCULO'!E31 -> 287.6 | F31: 144.21 | G31: =ROUND(F31+(F31*$H$10),2) -> 180.26 | H31: 51842.78
A32: 4.6 | B32: ED-29563 | C32: ARMADURA DE TELA DE AÇO CA-60, SOLDADA TIPO Q-61, DIÂMETRO Ø3,4MM, TRAMA COM DIMENSÃO (150X150)MM, INCLUSIVE ESPAÇADOR, EXCLUSIVE CONCRETO | D32: m2 | E32: ='MEMORIA DE CALCULO'!E32 -> 287.6 | F32: 15.34 | G32: =ROUND(F32+(F32*$H$10),2) -> 19.18 | H32: 5516.17
A33: 4.7 | B33: ED-19637 | C33: CIMBRAMENTO PARA LAJE PRÉ-MOLDADA COM ESCORAMENTO METÁLICO, TIPO "A", ALTURA DE (200 ATÉ 310)CM, INCLUSIVE DESCARGA, MONTAGEM, DESMONTAGEM E CARGA | D33: m2 | E33: ='MEMORIA DE CALCULO'!E33 -> 287.6 | F33: 23.47 | G33: =ROUND(F33+(F33*$H$10),2) -> 29.34 | H33: 8438.18
A34: 4.8 | B34: ED-9906 | C34: VERGA OU CONTRAVERGA EM CONCRETO ESTRUTURAL PARA VÃOS ACIMA DE 150CM, PREPARADO EM OBRA COM BETONEIRA, CONTROLE "A", COM FCK 20 MPA, MOLDADA IN LOCO, INCLUSIVE ARMAÇÃO | D34: m3 | E34: ='MEMORIA DE CALCULO'!E34 -> 2.52 | F34: 3725.27 | G34: =ROUND(F34+(F34*$H$10),2) -> 4656.59 | H34: 11734.61
A35: 5.0 | C35: ALVENARIA | G35: =ROUND(F35+(F35*$H$10),2) -> 0 | H35: =H36 -> 30038.84
A36: 5.1 | B36: ED-48232 | C36: ALVENARIA DE VEDAÇÃO COM TIJOLO CERÂMICO FURADO, ESP. 14CM, PARA REVESTIMENTO, INCLUSIVE ARGAMASSA PARA ASSENTAMENTO | D36: m2 | E36: ='MEMORIA DE CALCULO'!E36 -> 326.19 | F36: 73.67 | G36: =ROUND(F36+(F36*$H$10),2) -> 92.09 | H36: 30038.84
A37: 6.0 | C37: COBERTURA E FORRO | G37: =ROUND(F37+(F37*$H$10),2) -> 0 | H37: =SUM(H38:H40) -> 59653.67
A38: 6.1 | B38: ED-48407 | C38: ENGRADAMENTO EM MADEIRA PARAJU OU EQUIVALENTE, PARA TELHAS CERÂMICAS OU DE CONCRETO, EXCLUSIVE TELHAS | D38: m2 | E38: ='MEMORIA DE CALCULO'!E38 -> 194.02578 | F38: 110.05 | G38: =ROUND(F38+(F38*$H$10),2) -> 137.56 | H38: 26690.77
A39: 6.2 | B39: ED-48421 | C39: COBERTURA EM TELHA CERÂMICA, TIPO COLONIAL, INCLUSIVE FIXAÇÃO, EXCLUSIVE ENGRADAMENTO E MANTA ISOLANTE/ TÉRMICA | D39: m2 | E39: ='MEMORIA DE CALCULO'!E39 -> 194.02578 | F39: 132.94 | G39: =ROUND(F39+(F39*$H$10),2) -> 166.18 | H39: 32243.91
A40: 6.3 | B40: ED-48400 | C40: CUMEEIRA PARA TELHA CERÂMICA, INCLUSIVE EMBOÇAMENTO COM ARGAMASSA, TRAÇO 1:2:9 (CIMENTO, CAL E AREIA), COM PREPARO MECANIZADO | D40: m | E40: ='MEMORIA DE CALCULO'!E40 -> 12.45 | F40: 46.2 | G40: =ROUND(F40+(F40*$H$10),2) -> 57.75 | H40: 718.99
A41: 7.0 | C41: INSTALAÇÃO ELÉTRICA | G41: =ROUND(F41+(F41*$H$10),2) -> 0 | H41: =SUM(H42:H56) -> 18771.85
A42: 7.1 | B42: ED-27090 | C42: LUMINÁRIA COMERCIAL COM ALETAS DE SOBREPOR COMPLETA, PARA DUAS (2) LÂMPADAS TUBULARES LED 2X18W-ØT8, TEMPERATURA DA COR 6500K, FORNECIMENTO E INSTALAÇÃO, INCLUSIVE BASE E LÂMPADA | D42: Unid | E42: ='MEMORIA DE CALCULO'!E42 -> 20 | F42: 295.7 | G42: =ROUND(F42+(F42*$H$10),2) -> 369.63 | H42: 7392.6
A43: 7.2 | B43: ED-15790 | C43: CONJUNTO DE DUAS (2) TOMADAS PADRÃO, TRÊS (3) POLOS, CORRENTE 10A, TENSÃO 250V, (2P+T/10A-250V), COM PLACA 4"X4" DE DOIS (2) POSTOS, INCLUSIVE FORNECIMENTO, INSTALAÇÃO, SUPORTE, MÓDULO E PLACA | D43: Unid | E43: ='MEMORIA DE CALCULO'!E43 -> 24 | F43: 53.25 | G43: =ROUND(F43+(F43*$H$10),2) -> 66.56 | H43: 1597.44
A44: 7.3 | B44: ED-15793 | C44: CONJUNTO DE DUAS (2) TOMADAS PADRÃO VERMELHA, USO ESPECÍFICO, TRÊS (3) POLOS, CORRENTE 20A, TENSÃO 250V, (2P +T/20A-250V), COM PLACA 4"X4" DE DOIS (2) POSTOS, INCLUSIVE FORNECIMENTO, INSTALAÇÃO, SUPORTE, MÓDULO E PLACA | D44: Unid | E44: ='MEMORIA DE CALCULO'!E44 -> 4 | F44: 73.27 | G44: =ROUND(F44+(F44*$H$10),2) -> 91.59 | H44: 366.36
A45: 7.4 | B45: ED-15735 | C45: CONJUNTO DE UM (1) INTERRUPTOR BIPOLAR SIMPLES, CORRENTE 10A, TENSÃO 250V, (10A-250V), COM PLACA 4"X2" DE UM (1) POSTO, INCLUSIVE FORNECIMENTO, INSTALAÇÃO, SUPORTE, MÓDULO E PLACA | D45: Unid | E45: ='MEMORIA DE CALCULO'!E45 -> 6 | F45: 43.5 | G45: =ROUND(F45+(F45*$H$10),2) -> 54.38 | H45: 326.28
A46: 7.5 | B46: ED-34478 | C46: DISJUNTOR BIPOLAR TIPO DIN, CORRENTE NOMINAL DE 40A, FORNECIMENTO E INSTALAÇÃO, INCLUSIVE TERMINAL ILHÓS | D46: Unid | E46: 1 | F46: 46.89 | G46: =ROUND(F46+(F46*$H$10),2) -> 58.61 | H46: 58.61
A47: 7.6 | B47: ED-34461 | C47: DISJUNTOR MONOPOLAR TIPO DIN, CORRENTE NOMINAL DE 16A, FORNECIMENTO E INSTALAÇÃO, INCLUSIVE TERMINAL ILHÓS | D47: Unid | E47: ='MEMORIA DE CALCULO'!E47 -> 6 | F47: 18.29 | G47: =ROUND(F47+(F47*$H$10),2) -> 22.86 | H47: 137.16
A48: 7.7 | B48: ED-16601 | C48: DISPOSITIVO DE PROTEÇÃO CONTRA SURTOS (DPS) MONOPOLAR, CORRENTE DE INTERRUPÇÃO 45KA, INCLUSIVE TERMINAL ILHÓS | D48: Unid | E48: ='MEMORIA DE CALCULO'!E48 -> 3 | F48: 71.8 | G48: =ROUND(F48+(F48*$H$10),2) -> 89.75 | H48: 269.25
A49: 7.8 | B49: ED-15115 | C49: DISJUNTOR DE PROTEÇÃO DIFERENCIAL RESIDUAL (DR), BIPOLAR TIPO DIN, CORRENTE NOMINAL DE 40A, SENSIBILIDADE DE 30MA, FORNECIMENTO E INSTALAÇÃO, INCLUSIVE TERMINAL ILHÓS | D49: Unid | E49: ='MEMORIA DE CALCULO'!E49 -> 1 | F49: 171.87 | G49: =ROUND(F49+(F49*$H$10),2) -> 214.84 | H49: 214.84
A50: 7.9 | B50: ED-48951 | C50: CABO DE COBRE FLEXÍVEL, CLASSE 5, ISOLAMENTO TIPO LSHF/ ATOX, NÃO HALOGENADO, ANTICHAMA, TERMOPLÁSTICO, UNIPOLAR, SEÇÃO 2,5 MM2, 70°C, 450/750V | D50: m | E50: 60 | F50: 4.42 | G50: =ROUND(F50+(F50*$H$10),2) -> 5.53 | H50: 331.8
A51: 7.1 | B51: ED-48961 | C51: CABO DE COBRE FLEXÍVEL, CLASSE 5, ISOLAMENTO TIPO LSHF/ ATOX, NÃO HALOGENADO, ANTICHAMA, TERMOPLÁSTICO, UNIPOLAR, SEÇÃO 6 MM2, 70°C, 450/750V | D51: m | E51: ='MEMORIA DE CALCULO'!E53 -> 160 | F51: 8.66 | G51: =ROUND(F51+(F51*$H$10),2) -> 10.83 | H51: 1732.8
A52: 7.11 | B52: ED-48946 | C52: CABO DE COBRE FLEXÍVEL, CLASSE 5, ISOLAMENTO TIPO LSHF/ ATOX, NÃO HALOGENADO, ANTICHAMA, TERMOPLÁSTICO, UNIPOLAR, SEÇÃO 1,5 MM2, 70°C, 450/750V | D52: m | E52: ='MEMORIA DE CALCULO'!E52 -> 480 | F52: 3.07 | G52: =ROUND(F52+(F52*$H$10),2) -> 3.84 | H52: 1843.2
A53: 7.12 | B53: ED-48956 | C53: CABO DE COBRE FLEXÍVEL, CLASSE 5, ISOLAMENTO TIPO LSHF/ ATOX, NÃO HALOGENADO, ANTICHAMA, TERMOPLÁSTICO, UNIPOLAR, SEÇÃO 4 MM2, 70°C, 450/750V | D53: m | E53: ='MEMORIA DE CALCULO'!E53 -> 160 | F53: 6.21 | G53: =ROUND(F53+(F53*$H$10),2) -> 7.76 | H53: 1241.6
A54: 7.13 | B54: ED-50704 | C54: ENCHIMENTO DE RASGO EM ALVENARIA/CONCRETO COM ARGAMASSA, DIÂMETRO DE 15MM A 25MM (1/2" A 1"), INCLUSIVE ARGAMASSA, TRAÇO 1:2:8 (CIMENTO, CAL E AREIA), COM PREPARO MECANIZADO | D54: m | E54: ='MEMORIA DE CALCULO'!E54 -> 360 | F54: 2.98 | G54: =ROUND(F54+(F54*$H$10),2) -> 3.73 | H54: 1342.8
A55: 7.14 | B55: ED-50707 | C55: RASGO EM ALVENARIA PARA PASSAGEM DE ELETRODUTO/ TUBULAÇÃO, DIÂMETROS DE 15MM A 25MM (1/2" A 1"), EXCLUSIVE ENCHIMENTO | D55: m | E55: ='MEMORIA DE CALCULO'!E55 -> 360 | F55: 4.01 | G55: =ROUND(F55+(F55*$H$10),2) -> 5.01 | H55: 1803.6
A56: 7.15 | B56: ED-14177 | C56: QUADRO DE DISTRIBUIÇÃO DE EMBUTIR EM PVC PARA 4 DISJUNTORES DIN, INCLUSIVE BARRAMENTOS NEUTRO/TERRA, EXCLUSIVE BARRAMENTO DE FASE | D56: Unid | E56: ='MEMORIA DE CALCULO'!E56 -> 1 | F56: 90.81 | G56: =ROUND(F56+(F56*$H$10),2) -> 113.51 | H56: 113.51
A57: 8.0 | C57: ESQUADRIAS METÁLICAS | H57: =SUM(H58:H60) -> 21302.41
A58: 8.1 | B58: ED-50973 | C58: PORTA METÁLICA EM CHAPA DOBRADA, DIMENSÃO (80X210)CM, TIPO DE ABRIR, UMA (1) FOLHA, INCLUSIVE ESTRUTURA, DOBRADIÇA E MARCO, EXCLUSIVE FECHADURA E PINTURA | D58: Unid | E58: ='MEMORIA DE CALCULO'!E58 -> 6.72 | F58: 614.72 | G58: =ROUND(F58+(F58*$H$10),2) -> 768.4 | H58: 5163.65
A59: 8.2 | B59: ED-50954 | C59: FORNECIMENTO DE JANELA BASCULANTE DE FERRO, INCLUSIVE ASSENTAMENTO, FERRAGENS E ACESSÓRIOS | D59: m2 | E59: ='MEMORIA DE CALCULO'!E59 -> 26.4 | F59: 477.2 | G59: =ROUND(F59+(F59*$H$10),2) -> 596.5 | H59: 15747.6
A60: 8.3 | B60: ED-21612 | C60: FECHADURA TIPO EXTERNA, EM PORTA METÁLICA, GRAU DE SEGURANÇA MÉDIO, DISTÂNCIA DE BROCA 20MM, ACABAMENTO COM ESPELHO CROMADO E MAÇANETA MODELO ALAVANCA EM ZAMAC, INCLUSIVE ACESSÓRIOS PARA FIXAÇÃO E DUAS (2) CHAVES | D60: Unid | E60: ='MEMORIA DE CALCULO'!E60 -> 4 | F60: 78.23 | G60: =ROUND(F60+(F60*$H$10),2) -> 97.79 | H60: 391.16
A61: 9.0 | C61: REVESTIMENTO | G61: =ROUND(F61+(F61*$H$10),2) -> 0 | H61: =SUM(H62:H65) -> 68472.85
A62: 9.1 | B62: ED-50728 | C62: CHAPISCO COM ARGAMASSA, TRAÇO 1:3 (CIMENTO E AREIA), ESP . 5MM, APLICADO EM TETO COM COLHER, INCLUSIVE ARGAMASSA COM PREPARO MECANIZADO | D62: m2 | E62: ='MEMORIA DE CALCULO'!E62 -> 853.53 | F62: 14.25 | G62: =ROUND(F62+(F62*$H$10),2) -> 17.81 | H62: 15201.37
A63: 9.2 | B63: ED-50761 | C63: REBOCO COM ARGAMASSA, TRAÇO 1:2:8 (CIMENTO, CAL E AREIA) , ESP. 20MM, APLICAÇÃO MANUAL, INCLUSIVE ARGAMASSA COM PREPARO MECANIZADO, EXCLUSIVE CHAPISCO | D63: m2 | E63: ='MEMORIA DE CALCULO'!E63 -> 853.53 | F63: 40.01 | G63: =ROUND(F63+(F63*$H$10),2) -> 50.01 | H63: 42685.04
A64: 9.3 | B64: ED-50997 | C64: PEITORIL DE GRANITO, NA COR CINZA ANDORINHA, COM PINGADEIRA, ESP. 2CM, ACABAMENTO POLIDO, ASSENTAMENTO COM ARGAMASSA INDUSTRIALIZADA, INCLUSIVE REJUNTAMENTO | D64: m2 | E64: ='MEMORIA DE CALCULO'!E64 -> 4.59 | F64: 303.51 | G64: =ROUND(F64+(F64*$H$10),2) -> 379.39 | H64: 1741.4
A65: 9.4 | B65: ED-50876 | C65: RÉGUA PARA PROTEÇÃO DE PAREDE, LARGURA 10CM, EM MADEIRA, COM ACABAMENTO EM CANTO BOLEADO, EXCLUSIVE APLICAÇÃO DE VERNIZ, INCLUSIVE ACESSÓRIOS PARA FIXAÇÃO | D65: m | E65: ='MEMORIA DE CALCULO'!E65 -> 120.9 | F65: 58.53 | G65: =ROUND(F65+(F65*$H$10),2) -> 73.16 | H65: 8845.04
A66: 10.0 | C66: PISOS E RODAPÉS | G66: =ROUND(F66+(F66*$H$10),2) -> 0 | H66: =SUM(H67:H70) -> 35751.75
A67: 10.1 | B67: ED-50569 | C67: CONTRAPISO DESEMPENADO COM ARGAMASSA, TRAÇO 1:3 ( CIMENTO E AREIA), ESP. 50MM, INCLUSIVE ARGAMASSA COM PREPARO MECANIZADO | D67: m2 | E67: ='MEMORIA DE CALCULO'!E67 -> 143.8 | F67: 66.56 | G67: =ROUND(F67+(F67*$H$10),2) -> 83.2 | H67: 11964.16
A68: 10.2 | B68: ED-13288 | C68: CAMADA DE REGULARIZAÇÃO COM ARGAMASSA, TRAÇO 1:3 ( CIMENTO E AREIA), ESP. 25MM, APLICAÇÃO MANUAL, INCLUSIVE ARGAMASSA COM PREPARO MECANIZADO | D68: m2 | E68: ='MEMORIA DE CALCULO'!E68 -> 143.8 | F68: 44.88 | G68: =ROUND(F68+(F68*$H$10),2) -> 56.1 | H68: 8067.18
A69: 10.3 | B69: ED-50544 | C69: REVESTIMENTO COM CERÂMICA APLICADO EM PISO, ACABAMENTO ESMALTADO, AMBIENTE EXTERNO ( ANTIDERRAPANTE), PADRÃO EXTRA, DIMENSÃO DA PEÇA ATÉ 2025 CM2, PEI IV, ASSENTAMENTO COM ARGAMASSA INDUSTRIALIZADA, INCLUSIVE REJUNTAMENTO | D69: m2 | E69: ='MEMORIA DE CALCULO'!E69 -> 143.8 | F69: 85.15 | G69: =ROUND(F69+(F69*$H$10),2) -> 106.44 | H69: 15306.07
A70: 10.4 | B70: ED-51002 | C70: SOLEIRA DE GRANITO, COR CINZA ANDORINHA, ESP. 2CM, ACABAMENTO POLIDO, ASSENTAMENTO COM ARGAMASSA INDUSTRIALIZADA, INCLUSIVE REJUNTAMENTO | D70: m2 | E70: ='MEMORIA DE CALCULO'!E70 -> 1 | F70: 331.47 | G70: =ROUND(F70+(F70*$H$10),2) -> 414.34 | H70: 414.34
A71: 11.0 | C71: VIDROS | G71: =ROUND(F71+(F71*$H$10),2) -> 0 | H71: =SUM(H72:H72) -> 6859.51
A72: 11.1 | B72: ED-51156 | C72: VIDRO COMUM TRANSPARENTE INCOLOR, ESP. 4MM, INCLUSIVE FIXAÇÃO E VEDAÇÃO COM GUARNIÇÃO/GAXETA DE BORRACHA NEOPRENE, FORNECIMENTO E INSTALAÇÃO, EXCLUSIVE CAIXILHO/PERFIL | D72: m2 | E72: ='MEMORIA DE CALCULO'!E72 -> 26.4 | F72: 207.86 | G72: =ROUND(F72+(F72*$H$10),2) -> 259.83 | H72: 6859.51
A73: 12.0 | C73: PINTURA | G73: =ROUND(F73+(F73*$H$10),2) -> 0 | H73: =SUM(H74:H78) -> 20534.15
A74: 12.1 | B74: ED-50474 | C74: EMASSAMENTO EM PAREDE COM MASSA ACRÍLICA, DUAS (2) DEMÃOS, INCLUSIVE LIXAMENTO PARA PINTURA | D74: m2 | E74: ='MEMORIA DE CALCULO'!E74 -> 216.93 | F74: 24.65 | G74: =ROUND(F74+(F74*$H$10),2) -> 30.81 | H74: 6683.61
A75: 12.2 | B75: ED-50475 | C75: EMASSAMENTO EM TETO COM MASSA ACRÍLICA, UMA (1) DEMÃO, INCLUSIVE LIXAMENTO PARA PINTURA | D75: m2 | E75: ='MEMORIA DE CALCULO'!E75 -> 143.8 | F75: 26.89 | G75: =ROUND(F75+(F75*$H$10),2) -> 33.61 | H75: 4833.12
A76: 12.3 | B76: ED-50514 | C76: PREPARAÇÃO PARA EMASSAMENTO OU PINTURA (LÁTEX/ ACRÍLICA) EM PAREDE, INCLUSIVE UMA (1) DEMÃO DE SELADOR ACRÍLICO | D76: m2 | E76: ='MEMORIA DE CALCULO'!E76 -> 206.91 | F76: 7.71 | G76: =ROUND(F76+(F76*$H$10),2) -> 9.64 | H76: 1994.61
A77: 12.4 | B77: ED-50451 | C77: PINTURA ACRÍLICA EM PAREDE, DUAS (2) DEMÃOS, COM APLICAÇÃO MANUAL, EXCLUSIVE SELADOR ACRÍLICO E MASSA ACRÍLICA/CORRIDA (PVA) | D77: m2 | E77: ='MEMORIA DE CALCULO'!E77 -> 206.91 | F77: 16.57 | G77: =ROUND(F77+(F77*$H$10),2) -> 20.71 | H77: 4285.11
A78: 12.5 | B78: ED-14800 | C78: PINTURA ESMALTE BASE ÁGUA EM SUPERFÍCIES METÁLICAS, TRÊS (3) DEMÃOS, COM APLICAÇÃO MANUAL, EXCLUSIVE FUNDO ANTICORROSIVO E PREPARAÇÃO DA SUPERFÍCIE COM LIXAMENTO | D78: m2 | E78: ='MEMORIA DE CALCULO'!E78 -> 66.24 | F78: 33.06 | G78: =ROUND(F78+(F78*$H$10),2) -> 41.33 | H78: 2737.7
A79: 13.0 | C79: LIMPEZA | G79: =ROUND(F79+(F79*$H$10),2) -> 0 | H79: =SUM(H80) -> 1948
A80: 13.1 | B80: ED-50266 | C80: LIMPEZA FINAL PARA ENTREGA DA OBRA | D80: m2 | E80: ='MEMORIA DE CALCULO'!E80 -> 200 | F80: 7.79 | G80: =ROUND(F80+(F80*$H$10),2) -> 9.74 | H80: 1948
A81: TOTAL GERAL DA OBRA | H81: =H79+H73+H71+H66+H61+H57+H41+H37+H35+H26+H23+H18+H13 -> 480781.54
B85: SÉRGIO RENATO SILVA DE SÁ | E85: CREA MG 108.066/D
B90: PREFEITURA MUNICIPAL DE LONTRA

Sheet CRONOGRAMA FISICO FINANCEIRO
A5: CRONOGRAMA FÍSICO-FINANCEIRO
A6: PREFEITURA MUNICIPAL DE LONTRA | D6: VALOR DO CONVÊNIO: | H6: =E36 -> 480781.54 | I6: DATA:03/03/2026
A7: OBRA:AMPLIAÇÃO (DE 4 SALAS DE AULAS) | D7: LOCAL: ESCOLA MUNICIPAL NUCLEO | I7: PRAZO DA OBRA:04 MÊS
A8: ITEM | B8: CÓDIGO | C8: ETAPAS/DESCRIÇÃO | D8: FÍSICO/ FINANCEIRO | E8: TOTAL ETAPAS | F8: MÊS 1 | G8: MÊS 2 | H8: MÊS 3 | I8: MÊS 4 | J8: MÊS 5 | K8: MÊS 6
A9: 1.0 | C9: ='Planilha Orcamentaria'!C13 -> INSTALAÇÃO DOS SERVIÇOS DE ENGENHARIA | D9: Físico % | E9: =E10/E36 -> 0.043028212 | F9: 1
D10: Financeiro | E10: ='Planilha Orcamentaria'!H13 -> 20687.17 | F10: =F9*$E$10 -> 20687.17 | G10: =G9*$E$10 -> 0 | H10: =H9*$E$10 -> 0 | I10: =I9*$E$10 -> 0 | J10: =J9*$E$10 -> 0 | K10: =K9*$E$10 -> 0
A11: 2.0 | C11: ='Planilha Orcamentaria'!C18 -> TRABALHOS EM TERRA | D11: Físico % | E11: =E12/E36 -> 0.020255728 | F11: 1
D12: Financeiro | E12: ='Planilha Orcamentaria'!H18 -> 9738.58 | F12: =F11*$E$12 -> 9738.58 | G12: =G11*$E$12 -> 0 | H12: =H11*$E$12 -> 0 | I12: =I11*$E$12 -> 0 | J12: =J11*$E$12 -> 0 | K12: =K11*$E$12 -> 0
A13: 3.0 | C13: ='Planilha Orcamentaria'!C23 -> SONDAGEM, FUNDAÇÕES, MUROS E CONTENÇÕES | D13: Físico % | E13: =E14/E36 -> 0.091407877 | F13: 0.5 | G13: 0.5
D14: Financeiro | E14: ='Planilha Orcamentaria'!H23 -> 43947.22 | F14: =F13*$E$14 -> 21973.61 | G14: =G13*$E$14 -> 21973.61 | H14: =H13*$E$14 -> 0 | I14: =I13*$E$14 -> 0 | J14: =J13*$E$14 -> 0 | K14: =K13*$E$14 -> 0
A15: 4.0 | C15: ='Planilha Orcamentaria'!C26 -> SUPERESTRUTURA | D15: Físico % | E15: =E16/E36 -> 0.2975895 | G15: 0.25 | H15: 0.25 | I15: 0.25 | J15: 0.25
D16: Financeiro | E16: ='Planilha Orcamentaria'!H26 -> 143075.54 | F16: =F15*$E$16 -> 0 | G16: =G15*$E$16 -> 35768.885 | H16: =H15*$E$16 -> 35768.885 | I16: =H16 -> 35768.885 | J16: =I16 -> 35768.885
A17: 5.0 | C17: ='Planilha Orcamentaria'!C35 -> ALVENARIA | D17: Físico % | E17: =E18/E36 -> 0.062479188 | G17: 0.25 | H17: 0.25 | I17: 0.25 | J17: 0.25
D18: Financeiro | E18: ='Planilha Orcamentaria'!H35 -> 30038.84 | F18: =F17*$E$18 -> 0 | G18: =G17*$E$18 -> 7509.71 | H18: =H17*$E$18 -> 7509.71 | I18: =H18 -> 7509.71 | J18: =I18 -> 7509.71
A19: 6.0 | C19: ='Planilha Orcamentaria'!C37 -> COBERTURA E FORRO | D19: Físico % | E19: =E20/E36 -> 0.12407646 | H19: 0.25 | I19: 0.25 | J19: 0.5
D20: Financeiro | E20: ='Planilha Orcamentaria'!H37 -> 59653.67 | F20: =F19*$E$20 -> 0 | G20: =G19*$E$20 -> 0 | H20: =H19*$E$20 -> 14913.417 | I20: =I19*$E$20 -> 14913.417 | J20: =J19*$E$20 -> 29826.835 | K20: =K19*$E$20 -> 0
A21: 7.0 | C21: ='Planilha Orcamentaria'!C41 -> INSTALAÇÃO ELÉTRICA | D21: Físico % | E21: =E22/E36 -> 0.039044448 | G21: 0.25 | H21: 0.25 | I21: 0.25 | J21: 0.25
D22: Financeiro | E22: ='Planilha Orcamentaria'!H41 -> 18771.85 | F22: =F21*$E$22 -> 0 | G22: =G21*$E$22 -> 4692.9625 | H22: =H21*$E$22 -> 4692.9625 | I22: =I21*$E$22 -> 4692.9625 | J22: =J21*$E$22 -> 4692.9625 | K22: =K21*$E$22 -> 0
A23: 8.0 | C23: ='Planilha Orcamentaria'!C57 -> ESQUADRIAS METÁLICAS | D23: Físico % | E23: =E24/E36 -> 0.044307878 | G23: 0.25 | H23: 0.25 | I23: 0.25 | J23: 0.25
D24: Financeiro | E24: ='Planilha Orcamentaria'!H57 -> 21302.41 | F24: =F23*$E$24 -> 0 | G24: =G23*$E$24 -> 5325.6025 | H24: =H23*$E$24 -> 5325.6025 | I24: =I23*$E$24 -> 5325.6025 | J24: =J23*$E$24 -> 5325.6025 | K24: =K23*$E$24 -> 0
A25: 9.0 | C25: ='Planilha Orcamentaria'!C61 -> REVESTIMENTO | D25: Físico % | E25: =E26/E36 -> 0.14241988 | G25: 0.25 | H25: 0.25 | I25: 0.25 | J25: 0.25
D26: Financeiro | E26: ='Planilha Orcamentaria'!H61 -> 68472.85 | F26: =F25*$E$26 -> 0 | G26: =G25*$E$26 -> 17118.213 | H26: =H25*$E$26 -> 17118.213 | I26: =I25*$E$26 -> 17118.213 | J26: =J25*$E$26 -> 17118.213 | K26: =K25*$E$26 -> 0
A27: 10.0 | C27: ='Planilha Orcamentaria'!C66 -> PISOS E RODAPÉS | D27: Físico % | E27: =E28/E36 -> 0.074361736 | G27: 0.25 | H27: 0.25 | I27: 0.25 | J27: 0.25
D28: Financeiro | E28: ='Planilha Orcamentaria'!H66 -> 35751.75 | F28: =F27*$E$28 -> 0 | G28: =G27*$E$28 -> 8937.9375 | H28: =H27*$E$28 -> 8937.9375 | I28: =I27*$E$28 -> 8937.9375 | J28: =J27*$E$28 -> 8937.9375 | K28: =K27*$E$28 -> 0
A29: 11.0 | C29: VIDROS | D29: Físico % | E29: =E30/E36 -> 0.014267416 | H29: 0.5 | I29: 0.25 | J29: 0.25
D30: Financeiro | E30: ='Planilha Orcamentaria'!H71 -> 6859.51 | F30: =F29*$E$30 -> 0 | G30: =G29*$E$30 -> 0 | H30: =H29*$E$30 -> 3429.755 | I30: =I29*$E$30 -> 1714.8775 | J30: =J29*$E$30 -> 1714.8775 | K30: =K29*$E$30 -> 0
A31: 12.0 | C31: ='Planilha Orcamentaria'!C73 -> PINTURA | D31: Físico % | E31: =E32/E36 -> 0.042709938 | G31: 0.25 | H31: 0.25 | I31: 0.25 | J31: 0.25
D32: Financeiro | E32: ='Planilha Orcamentaria'!H73 -> 20534.15 | G32: =G31*E32 -> 5133.5375 | H32: =G32 -> 5133.5375 | I32: =H32 -> 5133.5375 | J32: =I32 -> 5133.5375
A33: 13.0 | C33: LIMPEZA | D33: Físico % | E33: =E34/E36 -> 0.0040517363 | J33: 1
D34: Financeiro | E34: ='Planilha Orcamentaria'!H79 -> 1948 | F34: =F33*$E$34 -> 0 | G34: =G33*$E$34 -> 0 | H34: =H33*$E$34 -> 0 | I34: =I33*$E$34 -> 0 | J34: =J33*$E$34 -> 1948 | K34: =K33*$E$34 -> 0
A35: TOTAL | D35: Físico % | E35: =E9+E11+E13++E15+E19+E21+E23+E25+E27+E29+E33+E31+E17 -> 1 | F35: =F36/$E$36 -> 0.10898788 | G35: =G36/$E$36 -> 0.22143208 | H35: =H36/$E$36 -> 0.21388097 | I35: =I36/$E$36 -> 0.21031411 | J35: =J36/$E$36 -> 0.24538496 | K35: =K36/$E$36 -> 1
D36: Financeiro | E36: =E10+E12+E14+E16+E18+E20+E22+E24+E26+E28+E30+E34+E32 -> 480781.54 | F36: =F14+F12+F10 -> 52399.36 | G36: =G32+G28+G26+G24+G22+G18+G16+G14 -> 106460.46 | H36: =H32+H30+H28+H26+H24+H22+H20+H18+H16 -> 102830.02 | I36: =I32+I30+I28+I26+I24+I22+I20+I18+I16 -> 101115.14 | J36: =J34+J32+J30+J28+J26+J24+J22+J20+J18+J16 -> 117976.56 | K36: =J36+I36+H36+G36+F36 -> 480781.54
E39: CREA MG 108.066/D | H39: Observações:
B40: SÉRGIO RENATO SILVA DE SÁ | E40: CREA ou CAU
B43: PREFEITURA MUNICIPAL DE LONTRA

Sheet MEMORIA DE CALCULO
A4: PLANILHA ORÇAMENTÁRIA DE CUSTOS - MEMÓRIA DE CALCULO
A6: PREFEITURA MUNICIPAL DE LONTRA | F6: FOLHA Nº: 01
A7: OBRA:AMPLIAÇÃO (DE 4 SALAS DE AULAS) | F7: DATA: 03/03/2026
A8: LOCAL: ESCOLA NUCLEO | E8: FORMA DE EXECUÇÃO:
A9: REGIÃO/MÊS DE REFERÊNCIA: NORTE/OUTUBRO 2025 S I C O R - M G | E9: ( ) | F9: DIRETA | G9: ( X ) | H9: INDIRETA
A10: PRAZO DE EXECUÇÃO: 06 MÊS | G10: LDI | H10: 0.25
A12: ITEM | B12: CÓDIGO | C12: DESCRIÇÃO | D12: UNIDADE | E12: QUANTIDADE | F12: MEMÓRIA DE CALCULO | H12: LOCAL DE INTERVENÇÃO
A13: 1.0 | C13: INSTALAÇÃO DOS SERVIÇOS DE ENGENHARIA
A14: 1.1 | B14: ED-28427 | C14: FORNECIMENTO E COLOCAÇÃO DE PLACA DE OBRA EM CHAPA GALVANIZADA #26, ESP. 0,45MM, DIMENSÃO (3X1,5)M, PLOTADA COM ADESIVO VINÍLICO, AFIXADA COM REBITES 4,8X40MM, EM ESTRUTURA METÁLICA DE METALON 20X20MM, ESP. 1,25MM, INCLUSIVE SUPORTE EM EUCALIPTO AUTOCLAVADO PINTADO COM TINTA PVA DUAS (2) DEMÃOS | D14: Und | E14: 1 | F14: 1 | H14: PORTÃO DE ENTRADA
A15: 1.2 | B15: ED-17989 | C15: LOCAÇÃO DE OBRA COM GABARITO DE TÁBUAS CORRIDAS PONTALETADAS A CADA 2,00M, REAPROVEITAMENTO (2X), INCLUSIVE ACOMPANHAMENTO DE EQUIPE TOPOGRÁFICA PARA MARCAÇÃO DE PONTO TOPOGRÁFICO | D15: m | E15: =(11.5*4+12.45*4) -> 95.8 | F15: PERIMETRO DA ÁREA AMPLIADA (11,50*4+12,45+4) | H15: PERIMETRO DA OBRA | J15: 0
A16: 1.3 | B16: ED-50125 | C16: ÁREA COBERTA EM TELHA FIBROCIMENTO PARA CENTRAL DE CORTE/DOBRA/MONTAGEM EM CANTEIRO DE OBRAS, INCLUSIVE BANCADA E INSTALAÇÕES ELÉTRICAS, EXCLUSIVE VEDAÇÕES LATERAIS | D16: m2 | E16: 8 | F16: 4*2 | H16: PROXIMO A QUADRA
A17: 1.4 | B17: ED-50135 | C17: BARRACÃO DE OBRA, EM CHAPA DE COMPENSADO RESINADO, INCLUSIVE INSTALAÇÕES SANITÁRIAS E MOBILIÁRIO - PADRÃO DER-MG | D17: m2 | E17: 12 | F17: 4X3 | H17: PROXIMO A QUADRA
A18: 2.0 | C18: TRABALHOS EM TERRA
A19: 2.1 | B19: ED-51110 | C19: ESCAVAÇÃO MANUAL DE TERRA (DESATERRO MANUAL), INCLUSIVE DESCARGA LATERAL, EXCLUSIVE RETIRADA E TRANSPORTE DO MATERIAL ESCAVADO | D19: m3 | E19: =12*1.1*1.1*1.5+8*1*1*1.5+4.34 -> 38.12 | F19: SAPATAS -12*1.10*1.10*1.5+8*1*1*1.5+ BALDRAME 4.34 | H19: SAPATAS E BALDRAME
A20: 2.2 | B20: ED-51120 | C20: REATERRO MANUAL DE VALA, INCLUSIVE ESPALHAMENTO E COMPACTAÇÃO MANUAL COM SOQUETE | D20: m3 | E20: =12*1.1*1.1*1+8*1*1*1 -> 22.52 | F20: SAPATAS -12*1.1*1.1*1.0+8*1*1*1.0 | H20: SAPATAS
A21: 2.3 | B21: ED-51093 | C21: APILOAMENTO MANUAL EM FUNDO DE VALA COM SOQUETE, EXCLUSIVE ESCAVAÇÃO | D21: m2 | E21: =12*1.1*1.1+8*1*1+98*0.15 -> 37.22 | F21: SAPATAS 12*1.1*1.1.0+8*1*1+98*0.15 | H21: SAPATAS E BALDRAME
A22: 2.4 | B22: ED-51097 | C22: COMPACTAÇÃO MANUAL DE ATERRO COM SOQUETE, INCLUSIVE ESPALHAMENTO MANUAL | D22: m3 | E22: =11.55*12.45*0.3 -> 43.13925 | F22: 11.55*12.45*0.3 | H22: ÁREA DA CONSTRUÇÃO
A23: 3.0 | C23: SONDAGEM, FUNDAÇÕES, MUROS E CONTENÇÕES
A24: 3.1 | B24: ED-50850 | C24: BLOCO ARMADO EM CONCRETO 20 MPa, INCLUSIVE LASTRO 5 CM EM CONCRETO MAGRO 9 MPa, FÔRMAS LATERAIS E DESFORMA | D24: m3 | E24: =12*1.1*1.1*0.5+8*1*1*0.5 -> 11.26 | F24: 12*1.1*1.10*0.5+8*1*1*0.5 | H24: SAPATAS
A25: 3.2 | B25: ED-50850 | C25: VIGA DE 0,21 A 0,35 M DE LARGURA EM CONCRETO 20MPa, APARENTE, ARMAÇÃO, FÔRMA PLASTIFICADA, ESCORAMENTO E DESFORMA | D25: m3 | E25: =4.34 -> 4.34 | F25: 4.34 | H25: BALDRAME
A26: 4.0 | C26: SUPERESTRUTURA
A27: 4.1 | B27: ED-8487 | C27: CONCRETO ESTRUTURAL, PREPARADO EM OBRA COM BETONEIRA, CONTROLE "A", COM FCK 25MPA, BRITA Nº (1 E 2), CONSISTÊNCIA PARA VIBRAÇÃO (FABRICAÇÃO) | D27: m3 | E27: =20*3*0.3*0.2+20*3*0.15*0.3+6.57+6.55 -> 19.42 | F27: 20*3*0.3*0.2+20*3*0.15*0.3+6.57+6.55 | H27: PILARES +VIGAS
A28: 4.2 | B28: RO-00541 | C28: Armação em aço CA-60 - fornecimento, preparo e colocação | D28: kg | E28: =171+109+114 -> 394 | F28: 171+109+114 | H28: CONFOME PROJETO-PILARES +VIGAS
A29: 4.3 | B29: RO-00540 | C29: Armação em aço CA-50 - fornecimento, preparo e colocação | D29: kg | E29: =661+802+905 -> 2368 | F29: 661+802+905 | H29: CONFOME PROJETO-PILARES +VIGAS
A30: 4.4 | B30: ED-49647 | C30: FÔRMA E DESFORMA DE COMPENSADO PLASTIFICADO, ESP. 12MM, REAPROVEITAMENTO (5X), EXCLUSIVE ESCORAMENTO | D30: m2 | E30: =98*2*0.4*2+20*3*0.3 -> 174.8 | F30: 98*2*0.4*2+20*3*0.3 | H30: PILARES +VIGAS
A31: 4.5 | B31: ED-50254 | C31: LAJE PRÉ-MOLDADA UNIDIRECIONAL COM ENCHIMENTO EM POLIESTIRENO EXPANDIDO (EPS), CAPEAMENTO DE 4CM, SOBRECARGA DE 100KG/M2, ALTURA TOTAL DE 11CM E VÃO LIVRE MÁXIMO DE 5M, INCLUSIVE CONCRETO ESTRUTURAL, USINADO BOMBEADO COM FCK DE 20MPA, EXCLUSIVE TELA ARMADA E CIMBRAMENTO | D31: m2 | E31: =287.6 -> 287.6 | F31: 287.6 | H31: ÁREA DA CONSTRUÇÃO
A32: 4.6 | B32: ED-29563 | C32: ARMADURA DE TELA DE AÇO CA-60, SOLDADA TIPO Q-61, DIÂMETRO Ø3,4MM, TRAMA COM DIMENSÃO (150X150)MM, INCLUSIVE ESPAÇADOR, EXCLUSIVE CONCRETO | D32: m2 | E32: =E31 -> 287.6 | F32: 287.6 | H32: ÁREA DA CONSTRUÇÃO
A33: 4.7 | B33: ED-19637 | C33: CIMBRAMENTO PARA LAJE PRÉ-MOLDADA COM ESCORAMENTO METÁLICO, TIPO "A", ALTURA DE (200 ATÉ 310)CM, INCLUSIVE DESCARGA, MONTAGEM, DESMONTAGEM E CARGA | D33: m2 | E33: =E32 -> 287.6 | F33: 287.6 | H33: ÁREA DA CONSTRUÇÃO
A34: 4.8 | B34: ED-9906 | C34: VERGA OU CONTRAVERGA EM CONCRETO ESTRUTURAL PARA VÃOS ACIMA DE 150CM, PREPARADO EM OBRA COM BETONEIRA, CONTROLE "A", COM FCK 20 MPA, MOLDADA IN LOCO, INCLUSIVE ARMAÇÃO | D34: m3 | E34: =5*2*0.14*0.2+16*2.5*0.14*0.2*2 -> 2.52 | F34: PORTAS 5*2*0,14*0,2*+JANELAS 16*2,5*2*0,2*0,14 | H34: VÃO DE PORTAS E JANELAS
A35: 5.0 | C35: ALVENARIA
A36: 5.1 | B36: ED-48232 | C36: ALVENARIA DE VEDAÇÃO COM TIJOLO CERÂMICO FURADO, ESP. 14CM, PARA REVESTIMENTO, INCLUSIVE ARGAMASSA PARA ASSENTAMENTO | D36: m2 | E36: =68.7+60+149.4+11.45*2*2.1 -> 326.19 | F36: (5,30*3+12,45*2)*3+(1,20*3,4/(2)*2*2) | H36: PERIMETRO DAS SALAS +2 DESEMPENA
A37: 6.0 | C37: COBERTURA E FORRO
A38: 6.1 | B38: ED-48407 | C38: ENGRADAMENTO EM MADEIRA PARAJU OU EQUIVALENTE, PARA TELHAS CERÂMICAS OU DE CONCRETO, EXCLUSIVE TELHAS | D38: m2 | E38: =14.43*12.45*1.08 -> 194.02578 | F38: 14.43*12.45*1.08 | H38: ÁREA DA COBERTURA X FATOR DE INCLINAÇÃO 1,08
A39: 6.2 | B39: ED-48421 | C39: COBERTURA EM TELHA CERÂMICA, TIPO COLONIAL, INCLUSIVE FIXAÇÃO, EXCLUSIVE ENGRADAMENTO E MANTA ISOLANTE/ TÉRMICA | D39: m2 | E39: =E38 -> 194.02578 | F39: 14.43*12.45*1.08 | H39: ÁREA DA COBERTURA X FATOR DE INCLINAÇÃO 1,08
A40: 6.3 | B40: ED-48400 | C40: CUMEEIRA PARA TELHA CERÂMICA, INCLUSIVE EMBOÇAMENTO COM ARGAMASSA, TRAÇO 1:2:9 (CIMENTO, CAL E AREIA), COM PREPARO MECANIZADO | D40: m | E40: 12.45 | F40: 12.45 | H40: TELHADO DE 2 ÁGUAS -EXTENSA~DA CUMEEIRA
A41: 7.0 | C41: INSTALAÇÃO ELÉTRICA
A42: 7.1 | B42: ED-27090 | C42: LUMINÁRIA COMERCIAL COM ALETAS DE SOBREPOR COMPLETA, PARA DUAS (2) LÂMPADAS TUBULARES LED 2X18W-ØT8, TEMPERATURA DA COR 6500K, FORNECIMENTO E INSTALAÇÃO, INCLUSIVE BASE E LÂMPADA | D42: Unid | E42: 20 | F42: 20 | H42: CONFOME PROJETO-ELETRICO
A43: 7.2 | B43: ED-15790 | C43: CONJUNTO DE DUAS (2) TOMADAS PADRÃO, TRÊS (3) POLOS, CORRENTE 10A, TENSÃO 250V, (2P+T/10A-250V), COM PLACA 4"X4" DE DOIS (2) POSTOS, INCLUSIVE FORNECIMENTO, INSTALAÇÃO, SUPORTE, MÓDULO E PLACA | D43: Unid | E43: 24 | F43: 24 | H43: CONFOME PROJETO-ELETRICO
A44: 7.3 | B44: ED-15793 | C44: CONJUNTO DE DUAS (2) TOMADAS PADRÃO VERMELHA, USO ESPECÍFICO, TRÊS (3) POLOS, CORRENTE 20A, TENSÃO 250V, (2P +T/20A-250V), COM PLACA 4"X4" DE DOIS (2) POSTOS, INCLUSIVE FORNECIMENTO, INSTALAÇÃO, SUPORTE, MÓDULO E PLACA | D44: Unid | E44: 4 | F44: 4 | H44: CONFOME PROJETO-ELETRICO
A45: 7.4 | B45: ED-15735 | C45: CONJUNTO DE UM (1) INTERRUPTOR BIPOLAR SIMPLES, CORRENTE 10A, TENSÃO 250V, (10A-250V), COM PLACA 4"X2" DE UM (1) POSTO, INCLUSIVE FORNECIMENTO, INSTALAÇÃO, SUPORTE, MÓDULO E PLACA | D45: Unid | E45: 6 | F45: 6 | H45: CONFOME PROJETO-ELETRICO
A46: 7.5 | B46: ED-34478 | C46: DISJUNTOR BIPOLAR TIPO DIN, CORRENTE NOMINAL DE 50A, FORNECIMENTO E INSTALAÇÃO, INCLUSIVE TERMINAL ILHÓS | D46: Unid | E46: 1 | F46: 1 | H46: CONFOME PROJETO-ELETRICO
A47: 7.6 | B47: ED-34461 | C47: DISJUNTOR MONOPOLAR TIPO DIN, CORRENTE NOMINAL DE 16A, FORNECIMENTO E INSTALAÇÃO, INCLUSIVE TERMINAL ILHÓS | D47: Unid | E47: 6 | F47: 6 | H47: CONFOME PROJETO-ELETRICO
A48: 7.7 | B48: ED-16601 | C48: DISPOSITIVO DE PROTEÇÃO CONTRA SURTOS (DPS) MONOPOLAR, CORRENTE DE INTERRUPÇÃO 45KA, INCLUSIVE TERMINAL ILHÓS | D48: Unid | E48: 3 | F48: 3 | H48: CONFOME PROJETO-ELETRICO
A49: 7.8 | B49: ED-15115 | C49: DISJUNTOR DE PROTEÇÃO DIFERENCIAL RESIDUAL (DR), BIPOLAR TIPO DIN, CORRENTE NOMINAL DE 40A, SENSIBILIDADE DE 30MA, FORNECIMENTO E INSTALAÇÃO, INCLUSIVE TERMINAL ILHÓS | D49: Unid | E49: 1 | F49: 1 | H49: CONFOME PROJETO-ELETRICO
A50: 7.9 | B50: ED-48951 | C50: CABO DE COBRE FLEXÍVEL, CLASSE 5, ISOLAMENTO TIPO LSHF/ ATOX, NÃO HALOGENADO, ANTICHAMA, TERMOPLÁSTICO, UNIPOLAR, SEÇÃO 2,5 MM2, 70°C, 450/750V | D50: m | E50: 60 | F50: 480 | H50: CONFOME PROJETO-ELETRICO
A51: 7.1 | B51: ED-48961 | C51: CABO DE COBRE FLEXÍVEL, CLASSE 5, ISOLAMENTO TIPO LSHF/ ATOX, NÃO HALOGENADO, ANTICHAMA, TERMOPLÁSTICO, UNIPOLAR, SEÇÃO 6 MM2, 70°C, 450/750V | D51: m | E51: 90 | F51: 90 | H51: CONFOME PROJETO-ELETRICO
A52: 7.11 | B52: ED-48946 | C52: CABO DE COBRE FLEXÍVEL, CLASSE 5, ISOLAMENTO TIPO LSHF/ ATOX, NÃO HALOGENADO, ANTICHAMA, TERMOPLÁSTICO, UNIPOLAR, SEÇÃO 1,5 MM2, 70°C, 450/750V | D52: m | E52: 480 | F52: 480 | H52: CONFOME PROJETO-ELETRICO
A53: 7.12 | B53: ED-48956 | C53: CABO DE COBRE FLEXÍVEL, CLASSE 5, ISOLAMENTO TIPO LSHF/ ATOX, NÃO HALOGENADO, ANTICHAMA, TERMOPLÁSTICO, UNIPOLAR, SEÇÃO 4 MM2, 70°C, 450/750V | D53: m | E53: 160 | F53: 160 | H53: CONFOME PROJETO-ELETRICO
... A56: 7.15 | B56: ED-14177 | C56: QUADRO DE DISTRIBUIÇÃO DE EMBUTIR EM PVC PARA 4 DISJUNTORES DIN, INCLUSIVE BARRAMENTOS NEUTRO/TERRA, EXCLUSIVE BARRAMENTO DE FASE | D56: Unid | E56: 1 | F56: 1 | H56: CONFOME PROJETO-ELETRICO
A57: 8.0 | C57: ESQUADRIAS METÁLICAS
A58: 8.1 | B58: ED-50973 | C58: PORTA METÁLICA EM CHAPA DOBRADA, DIMENSÃO (80X210)CM, TIPO DE ABRIR, UMA (1) FOLHA, INCLUSIVE ESTRUTURA, DOBRADIÇA E MARCO, EXCLUSIVE FECHADURA E PINTURA | D58: Unid | E58: =4*0.8*2.1 -> 6.72 | F58: 4*0,8*2,1 | H58: PORTAS SALAS
A59: 8.2 | B59: ED-50954 | C59: FORNECIMENTO DE JANELA BASCULANTE DE FERRO, INCLUSIVE ASSENTAMENTO, FERRAGENS E ACESSÓRIOS | D59: m2 | E59: =16*1.5*1.1 -> 26.4 | F59: 16*1,5*1,1 | H59: JANELAS SALAS
A60: 8.3 | B60: ED-21612 | C60: FECHADURA TIPO EXTERNA, EM PORTA METÁLICA, GRAU DE SEGURANÇA MÉDIO, DISTÂNCIA DE BROCA 20MM, ACABAMENTO COM ESPELHO CROMADO E MAÇANETA MODELO ALAVANCA EM ZAMAC, INCLUSIVE ACESSÓRIOS PARA FIXAÇÃO E DUAS (2) CHAVES | D60: Unid | E60: 4 | F60: 4 | H60: PORTAS SALAS
A61: 9.0 | C61: REVESTIMENTO
A62: 9.1 | B62: ED-50728 | C62: CHAPISCO COM ARGAMASSA, TRAÇO 1:3 (CIMENTO E AREIA), ESP . 5MM, APLICADO EM TETO COM COLHER, INCLUSIVE ARGAMASSA COM PREPARO MECANIZADO | D62: m2 | E62: =11.55*3.3*2+12.45*4*3.3*2+10*1*2*3.2+11.55*2.1*2*2+287.6 -> 853.53 | F62: 11.55*3.30*2+12.45*4*3.30*2+10*1*2*3.2+11.55*2.10*2*2+287.60 | H62: TETO+PAREDE INTERNA +PAREDE EXTERNA +LAJE
A63: 9.2 | B63: ED-50761 | C63: REBOCO COM ARGAMASSA, TRAÇO 1:2:8 (CIMENTO, CAL E AREIA) , ESP. 20MM, APLICAÇÃO MANUAL, INCLUSIVE ARGAMASSA COM PREPARO MECANIZADO, EXCLUSIVE CHAPISCO | D63: m2 | E63: =E62 -> 853.53 | F63: 11.55*3.30*2+12.45*4*3.30*2+10*1*2*3.2+11.55*2.10*2*2+287.60 | H63: TETO+PAREDE INTERNA +PAREDE EXTERNA +LAJE
A64: 9.3 | B64: ED-50997 | C64: PEITORIL DE GRANITO, NA COR CINZA ANDORINHA, COM PINGADEIRA, ESP. 2CM, ACABAMENTO POLIDO, ASSENTAMENTO COM ARGAMASSA INDUSTRIALIZADA, INCLUSIVE REJUNTAMENTO | D64: m2 | E64: =18*1.7*0.15 -> 4.59 | F64: 18*1.7*0.15 | H64: JANELAS SALAS
A65: 9.4 | B65: ED-50876 | C65: RÉGUA PARA PROTEÇÃO DE PAREDE, LARGURA 10CM, EM MADEIRA, COM ACABAMENTO EM CANTO BOLEADO, EXCLUSIVE APLICAÇÃO DE VERNIZ, INCLUSIVE ACESSÓRIOS PARA FIXAÇÃO | D65: m | E65: =19.2*5+12.45*2 -> 120.9 | F65: 19.20*5+12.45*2 | H65: PAREDE INTERNA
A66: 10.0 | C66: PISOS E RODAPÉS
A67: 10.1 | B67: ED-50569 | C67: CONTRAPISO DESEMPENADO COM ARGAMASSA, TRAÇO 1:3 ( CIMENTO E AREIA), ESP. 50MM, INCLUSIVE ARGAMASSA COM PREPARO MECANIZADO | D67: m2 | E67: =287.6/2 -> 143.8 | F67: 143.8 | H67: ÁREA INTERNA
A68: 10.2 | B68: ED-13288 | C68: CAMADA DE REGULARIZAÇÃO COM ARGAMASSA, TRAÇO 1:3 ( CIMENTO E AREIA), ESP. 25MM, APLICAÇÃO MANUAL, INCLUSIVE ARGAMASSA COM PREPARO MECANIZADO | D68: m2 | E68: =E67 -> 143.8 | F68: 143.8 | H68: ÁREA INTERNA
A69: 10.3 | B69: ED-50544 | C69: REVESTIMENTO COM CERÂMICA APLICADO EM PISO, ACABAMENTO ESMALTADO, AMBIENTE EXTERNO ( ANTIDERRAPANTE), PADRÃO EXTRA, DIMENSÃO DA PEÇA ATÉ 2025 CM2, PEI IV, ASSENTAMENTO COM ARGAMASSA INDUSTRIALIZADA, INCLUSIVE REJUNTAMENTO | D69: m2 | E69: =E68 -> 143.8 | F69: 143.8 | H69: ÁREA INTERNA
A70: 10.4 | B70: ED-51002 | C70: SOLEIRA DE GRANITO, COR CINZA ANDORINHA, ESP. 2CM, ACABAMENTO POLIDO, ASSENTAMENTO COM ARGAMASSA INDUSTRIALIZADA, INCLUSIVE REJUNTAMENTO | D70: m2 | E70: 1 | F70: 4-PORTAS | H70: PORTAS DE SALAS
A71: 11.0 | C71: VIDROS
A72: 11.1 | B72: ED-51156 | C72: VIDRO COMUM TRANSPARENTE INCOLOR, ESP. 4MM, INCLUSIVE FIXAÇÃO E VEDAÇÃO COM GUARNIÇÃO/GAXETA DE BORRACHA NEOPRENE, FORNECIMENTO E INSTALAÇÃO, EXCLUSIVE CAIXILHO/PERFIL | D72: m2 | E72: =16*1.5*1.1 -> 26.4 | F72: 16*1,5*1,1 | H72: JANELAS
A73: 12.0 | C73: PINTURA
A74: 12.1 | B74: ED-50474 | C74: EMASSAMENTO EM PAREDE COM MASSA ACRÍLICA, DUAS (2) DEMÃOS, INCLUSIVE LIXAMENTO PARA PINTURA | D74: m2 | E74: =11.55*2*3.3+10*3.3*2+12.45*6 -> 216.93 | F74: 11.55*2*3.30+10*3.3*2+12.45*6 | H74: PAREDES INTERNAS
A75: 12.2 | B75: ED-50475 | C75: EMASSAMENTO EM TETO COM MASSA ACRÍLICA, UMA (1) DEMÃO, INCLUSIVE LIXAMENTO PARA PINTURA | D75: m2 | E75: 143.8 | F75: 143.8 | H75: TETO
A76: 12.3 | B76: ED-50514 | C76: PREPARAÇÃO PARA EMASSAMENTO OU PINTURA (LÁTEX/ ACRÍLICA) EM PAREDE, INCLUSIVE UMA (1) DEMÃO DE SELADOR ACRÍLICO | D76: m2 | E76: =11.55*5.4*2+12.45*3.3*2 -> 206.91 | F76: 11.55*5.40*2+12.45*3.3*2 | H76: PAREDE EXTERNA
A77: 12.4 | B77: ED-50451 | C77: PINTURA ACRÍLICA EM PAREDE, DUAS (2) DEMÃOS, COM APLICAÇÃO MANUAL, EXCLUSIVE SELADOR ACRÍLICO E MASSA ACRÍLICA/CORRIDA (PVA) | D77: m2 | E77: =11.55*5.4*2+12.45*3.3*2 -> 206.91 | F77: 11.55*5.40*2+12.45*3.3*2 | H77: PAREDE EXTERNA
A78: 12.5 | B78: ED-14800 | C78: PINTURA ESMALTE BASE ÁGUA EM SUPERFÍCIES METÁLICAS, TRÊS (3) DEMÃOS, COM APLICAÇÃO MANUAL, EXCLUSIVE FUNDO ANTICORROSIVO E PREPARAÇÃO DA SUPERFÍCIE COM LIXAMENTO | D78: m2 | E78: =4*2.1*0.8*2+1.5*1.1*16*2 -> 66.24 | F78: 4*2.1*0.8*2+1.5*1.1*16*2 | H78: PORTAS E JANELA
A79: 13.0 | C79: LIMPEZA
A80: 13.1 | B80: ED-50266 | C80: LIMPEZA FINAL PARA ENTREGA DA OBRA | D80: m2 | E80: 200 | F80: 200 | H80: ÁREA DA OBRA
B84: SÉRGIO RENATO SILVA DE SÁ | E84: CREA MG 108.066/D
B89: PREFEITURA MUNICIPAL DE LONTRA
