Workbook

Sheet Planilha
A1: PREFEITURA MUNICIPAL DE MONTEZUMA
C2: CNPJ: 25.226.983/0001-56
C4: PLANILHA ORÇAMENTÁRIA | K4: VALOR : | N4: =N55 -> 139268.14
A5: CONVENETE : PREFEITURA MUNICIPAL DE MONTEZUMA | K5: FOLHA N° | N5: 1
A6: OBRA: CONSTRUÇÃO DE PRAÇA MUNICIPAL NO BAIRRO PLANALTO | K6: DATA : 27/02/2026
A7: LOCAL: BAIRRO PLANALTO - MONTEZUMA/MG | D7: FORMA DE EXECUÇÃO
A8: REFERÊNCIA/ MÊS : | C8: SETOP - REGIÃO NORTE / OUT/ 2025 - SINAPI DEZ/ 2025 | D8: ( ) DIRETA | K8: ( ) INDIRETA
A9: PRAZO DE EXECUÇÃO : 4 MESES | K9: LDI ( ISS = 5% ) | N9: 0.2264
A11: ITEM | B11: CÓDIGO/REF. | C11: DESCRIÇÃO DOS ITENS | D11: UNID. | E11: QUANT. | F11: PREÇO UNIT. | G11: PREÇO UNIT MÃO DE OBRA | I11: PREÇO TOTAL MATERIAL | K11: PREÇO UNIT. C/ BDI | L11: PREÇO TOTAL C/ BDI = 25% | N11: PREÇO TOTAL C/ BDI
A12: 1 | C12: SERVIÇOS PRELIMINARES | L12: R$ | N12: =N13 -> 1414.3581
A13: 1.1 | B13: ED-28427/SETOP | C13: FORNECIMENTO E COLOCAÇÃO DE PLACA DE OBRA EM CHAPA GALVANIZADA #26, ESP. 0,45MM, DIMENSÃO (3X1,5)M, PLOTADA COM ADESIVO VINÍLICO, AFIXADA COM REBITES 4,8X40MM, EM ESTRUTURA METÁLICA DE METALON 20X20MM, ESP. 1,25MM, INCLUSIVE SUPORTE EM EUCALIPTO AUTOCLAVADO PINTADO COM TINTA PVA DUAS (2) DEMÃOS | D13: un | E13: 1 | F13: 1153.26 | G13: R$ | I13: R$ | K13: =F13*1.2264 -> 1414.3581 | L13: R$ | N13: =K13*E13 -> 1414.3581 | O13: frente e tras do pilar 11,4m² / 1,9m² laterais / 0,37m² cima ou substituição dos granitos quebrados | T13: ok
A14: 2 | C14: MOVIMENTAÇÃO DE TERRA | N14: =SUM(N15:N16) -> 2105.98
A15: 2.1 | B15: ED-51107/SETOP | C15: ESCAVAÇÃO MANUAL DE VALA COM PROFUNDIDADE MENOR OU IGUAL A 1,5M, INCLUSIVE DESCARGA LATERAL | D15: m³ | E15: 4.56 | F15: 67.59 | K15: =F15*1.2264 -> 82.892376 | N15: 377.98
A16: 2.2 | B16: ED-51407/SETOP | C16: REGULARIZAÇÃO E COMPACTAÇÃO MECÂNICA DE TERRENO COM ROLO VIBRATÓRIO, EXCLUSIVE DESMATAMENTO, DESTOCAMENTO, LIMPEZA/ROÇADA DO TERRENO | D16: m² | E16: 600 | F16: 2.35 | K16: =F16*1.2264 -> 2.88204 | N16: 1728
A17: 3 | C17: PISOS E PASSEIOS | N17: =SUM(N18:N20) -> 48472.96
A18: 3.1 | B18: ED-50563/SETOP | C18: PISO CIMENTADO COM ARGAMASSA, TRAÇO 1:3 (CIMENTO E AREIA), ESP. 25MM, ACABAMENTO DESEMPENADO E FELTRADO, MODULAÇÃO DE (200X200)CM, INCLUSIVE JUNTA PLÁSTICA | D18: M² | E18: 277.75 | F18: 52.12 | K18: =F18*1.2264 -> 63.919968 | N18: 17753.78
A19: 3.2 | B19: ED-8915 / SETOP | C19: EXECUÇÃO DE PAVIMENTO COM PISO INTERTRAVADO, TIPO RETANGULAR, ESP. 6CM, COM FCK DE 35MPA, INCLUSIVE COLCHÃO DE AREIA, ESP. 6CM, PARA ASSENTAMENTO, COMPACTAÇÃO MECANIZADA, CARGA E DESCARGA MECÂNICA EM CAMINHÃO, EXCLUSIVE TRANSPORTE DE PISO INTERTRAVADO | D19: M² | E19: 171.64 | F19: 85.1 | K19: =F19*1.2264 -> 104.36664 | N19: 17914.07
A20: 3.3 | B20: 94263/SINAPI | C20: GUIA (MEIO-FIO) CONCRETO, MOLDADA IN LOCO EM TRECHO RETO COM EXTRUSORA, 13 CM BASE X 22 CM ALTURA. AF_01/2024 | D20: M | E20: 294.1 | F20: 35.5 | K20: =F20*1.2264 -> 43.5372 | N20: 12805.11
A21: 4 | C21: BANCOS E MESAS | N21: =SUM(N22:N23) -> 4014.65
A22: 4.1 | B22: ED-15447 / SETOP | C22: BANCO EM CONCRETO APARENTE, FORMATO CIRCULA , COM ENCOSTO DE 35 CM POLIDO COM ACABAMENTO EM VERNIZ, ESP. 10 CM, DIAMETRO 200CM, CIM DIAMETRO INTERNO PARA ATERRO DE 80 CM LARGURA 40CM, ALTURA 45CM, INCLUSIVE CORTE NO PISO PARA FIXAÇÃO COM CONCRETO NÃO ESTRUTURAL, PREPARADO EM OBRA COM BETONEIRA, COM FCK 15 MPA | D22: un | E22: 5 | F22: 391.1 | K22: =F22*1.2264 -> 479.64504 | N22: 2398.25
A23: 4.2 | B23: ED-15447 / SETOP | C23: BANCO EM CONCRETO APARENTE, FORMATO CIRCULAR , COM ENCOSTO DE 35 CM POLIDO COM ACABAMENTO EM VERNIZ, ESP. 10 CM, DIAMETRO300CM, CIM DIAMETRO INTERNO PARA ATERRO DE 80 CM LARGURA 40CM, ALTURA 45CM, INCLUSIVE CORTE NO PISO PARA FIXAÇÃO COM CONCRETO NÃO ESTRUTURAL, PREPARADO EM OBRA COM BETONEIRA, COM FCK 15 MPA | D23: un | E23: 2 | F23: 659 | K23: =F23*1.2264 -> 808.1976 | N23: 1616.4
A24: 5 | C24: URBANISMO | N24: =SUM(N25:N26) -> 3522.48
A25: 5.1 | B25: RO-41402/SETOP | C25: REVESTIMENTO VEGETAL COM GRAMAS EM PLACAS (EXECUÇÃO, INCLUINDO FORNECIMENTO, UMIDECIMENTO, CORTE E CARGA DA GRAMA, ADUBAÇÃO E PLANTIO) | D25: m² | E25: 72.35 | F25: 17.9 | K25: =F25*1.2264 -> 21.95256 | N25: 1588.08
A26: 5.2 | B26: ED-50451 / SETOP | C26: ARBORIZAÇÃO COM FORNECIMENTO E TRANSPORTE DE MUDA ( EXECUÇÃO, INCLUINDO ESCAVAÇÃO, FORNECIMENTO E TRANSPOSRTE DA MUDA ) | D26: U | E26: 60 | F26: 26.29 | K26: =F26*1.2264 -> 32.242056 | N26: 1934.4
A27: 6 | C27: INSTALAÇÕES ELETRICAS | N27: =SUM(N28:N37) -> 17293.172
A28: 6.1 | B28: ED-22216/setop | C28: POSTE DE AÇO GALVANIZADO PARA ILUMINAÇÃO PÚBLICA, ALTURA LIVRE MÍNIMA DE 8 M, COM LUMINÁRIA DE LED, POTÊNCIA DE 200W CADA, 2 PÉTALAS, INCLUSIVE FIAÇÃO, SUPORTES, RELÉ E FUNDAÇÃO DE CONCRETO | D28: U | E28: 4 | F28: 1893 | K28: =F28*1.2264 -> 2321.5752 | N28: 9286.32
A29: 6.2 | B29: ED-20579/SETOP | C29: ENTRADA DE ENERGIA AÉREA, TIPO B1, PADRÃO CEMIG, CARGA INSTALADA DE ATÉ 10KW, BIFÁSICO, COM SAÍDA SUBTERRÂNEA, INCLUSIVE POSTE, CAIXA PARA MEDIDOR, DISJUNTOR, BARRAMENTO, ATERRAMENTO E ACESSÓRIOS | D29: U | E29: 1 | F29: 2119 | K29: =F29*1.2264 -> 2598.7416 | N29: 2598.74
A30: 6.3 | B30: ED-4155/SETOP | C30: DUTO CORRUGADO EM PEAD (POLIETILENO DE ALTA DENSIDADE), PARA PROTEÇÃO DE CABOS SUBTERRÂNEOS DN 30 MM (1.1/4") | D30: m | E30: 105 | F30: 21.5 | K30: =F30*1.2264 -> 26.3676 | N30: 2768.85
A31: 6.4 | B31: ED-49499 / SETOP | C31: QUADRO DE DISTRIBUIÇÃO PARA 12 MÓDULOS COM BARRAMENTO E CHAVE | D31: un | E31: 1 | F31: 194.96 | K31: =F31*1.2264 -> 239.09894 | N31: =E31*K31 -> 239.09894
A32: 6.5 | B32: ED-49274 / SETOP | C32: DISJUNTOR BIPOLAR TERMOMAGNÉTICO 5KA, DE 63 A | D32: un | E32: 3 | F32: 51.06 | K32: =F32*1.2264 -> 62.619984 | N32: =E32*K32 -> 187.85995
A33: 6.6 | B33: ED-49274 / SETOP | C33: Fita Led Cob 22w/m 480 Leds 10m Direto Rede 110v/220v Perfil | D33: un | E33: 5 | F33: 130.8 | K33: =F33*1.2264 -> 160.41312 | N33: 802.05
A34: 6.7 | B34: ED-48231/SETOP | C34: ALVENARIA DE VEDAÇÃO COM TIJOLO CERÂMICO FURADO, ESP. 9CM, PARA REVESTIMENTO, INCLUSIVE ARGAMASSA PARA ASSENTAMENTO | D34: m2 | E34: 3 | F34: 56.1 | K34: =F34*1.2264 -> 68.80104 | N34: =E34*K34 -> 206.40312
A35: 6.8 | B35: ED-50761/SETOP | C35: REBOCO COM ARGAMASSA, TRAÇO 1:2:8 (CIMENTO, CAL E AREIA) , ESP. 20MM, APLICAÇÃO MANUAL, INCLUSIVE ARGAMASSA COM PREPARO MECANIZADO, EXCLUSIVE CHAPISCO | E35: 6.8 | F35: 37.38 | K35: =F35*1.2264 -> 45.842832 | N35: 311.71
A36: 6.9 | B36: ED-48951/SETOP | C36: CABO DE COBRE FLEXÍVEL, CLASSE 5, ISOLAMENTO TIPO LSHF/ ATOX, NÃO HALOGENADO, ANTICHAMA, TERMOPLÁSTICO, UNIPOLAR, SEÇÃO 2,5 MM2, 70°C, 450/750V | D36: M | E36: 80 | F36: 4.06 | K36: =F36*1.2264 -> 4.979184 | N36: 398.4
A37: 6.8 | B37: ED-48951/SETOP | C37: CAIXA DE PASSAGEM EM ALVENARIA E TAMPA DE CONCRETO, FUNDO DE BRITA, TIPO 1, 20 X 20 X 25 CM, INCLUSIVE ESCAVAÇÃO, REATERRO E BOTA-FORA | D37: un | E37: 3 | F37: 134.2 | K37: =F37*1.2264 -> 164.58288 | N37: 493.74
A38: 7 | C38: INSTALAÇÕES HIDRAULICAS | L38: R$ | N38: =SUM(N39:N42) -> 4492.911
A39: 7.1 | B39: ED-15205/SETOP | C39: KIT CAVALETE PARA MEDIÇÃO DE ÁGUA, EMBUTIDO EM ALVENARIA, EM AÇO GALVANIZADO DN 25MM (3/4") - PADRÃO CONCESSIONÁRIA LOCAL, INCLUSIVE HIDRÔMETRO | D39: UN | E39: 1 | F39: 596.4 | K39: =F39*1.2264 -> 731.42496 | N39: =K39*E39 -> 731.42496
A40: 7.2 | B40: ED-49908/SETOP | C40: CAIXA DE DRENAGEM DE INSPEÇÃO/PASSAGEM EM ALVENARIA ( 40X40X40CM), REVESTIMENTO EM ARGAMASSA COM ADITIVO IMPERMEABILIZANTE, COM TAMPA EM GRELHA, INCLUSIVE ESCAVAÇÃO, REATERRO E TRANSPORTE E RETIRADA DO MATERIAL ESCAVADO (EM CAÇAMBA) | D40: UN | E40: 3 | F40: 374.42 | K40: =F40*1.2264 -> 459.18869 | N40: =K40*E40 -> 1377.5661
A41: 7.3 | B41: ED-50019/SETOP | C41: FORNECIMENTO E ASSENTAMENTO DE TUBO PVC RÍGIDO SOLDÁVEL, ÁGUA FRIA, DN 25 MM (3/4") , INCLUSIVE CONEXÕES | D41: m | E41: 70 | F41: 24.46 | K41: =F41*1.2264 -> 29.997744 | N41: 2100
A42: 7.4 | B42: ED-50323 /SETOP | C42: TORNEIRA METÁLICA PARA IRRIGAÇÃO/JARDIM, ACABAMENTO CROMADO, APLICAÇÃO DE PAREDE, INCLUSIVE FORNECIMENTO E INSTALAÇÃO | D42: m | E42: 4 | F42: 57.88 | K42: =F42*1.2264 -> 70.984032 | N42: 283.92
...

Sheet Cronograma
A1: PREFEITURA MUNICIPAL DE MONTEZUMA
A3: CRONOGRAMA FÍSICO-FINANCEIRO
A4: CONVENENTE: PREFEITURA MUNICIPAL DE MONTEZUMA/MG | D4: VALOR DO CONVÊNIO: | F4: =Planilha!N55 -> 139268.14 | J4: FOLHA Nº: 02
A5: OBRA: CONSTRUÇÃO DA PRAÇA MUNICIPAL DO BREJINHO - MONTEZUMA/MG | E5: PRAZO DA OBRA: 05 MESES | J5: DATA: 25/02/2026
A6: LOCAL: BREJINHO, MONTEZUMA/MG
A7: ITEM | B7: ETAPAS | C7: Físico / Financeiro | D7: Total de Etapas | E7: Mês 1 | F7: Mês 2 | G7: Mês 3 | H7: Mês 4 | I7: Mês 5 | J7: OBSERVAÇÕES | K7: Total
A8: 1 | B8: =Planilha!C12 -> SERVIÇOS PRELIMINARES | C8: Físico % | D8: 1 | E8: 1 | F8: 0 | K8: =SUM(E8:F8) -> 1
C9: Financeiro | D9: =Planilha!N12 -> 1414.3581 | E9: =E8*$D$9 -> 1414.3581 | F9: =F8*$D$9 -> 0 | K9: =SUM(E9:J9) -> 1414.3581
A10: 2 | B10: =Planilha!C14 -> MOVIMENTAÇÃO DE TERRA | C10: Físico % | D10: 1 | E10: 0.6 | F10: 0.4 | K10: =SUM(E10:F10) -> 1
C11: Financeiro | D11: =Planilha!N21 -> 4014.65 | E11: =E10*$D$11 -> 2408.79 | F11: =F10*$D$11 -> 1605.86 | K11: =SUM(E11:J11) -> 4014.65
A12: 3 | B12: =Planilha!C17 -> PISOS E PASSEIOS | C12: Físico % | D12: 1 | E12: 0 | F12: 1 | K12: =SUM(E12:F12) -> 1
C13: Financeiro | D13: =Planilha!N24 -> 3522.48 | E13: =E12*$D$13 -> 0 | F13: =F12*$D$13 -> 3522.48 | K13: =SUM(E13:J13) -> 3522.48
A14: 4 | B14: =Planilha!C21 -> BANCOS E MESAS | C14: Físico % | D14: 1 | F14: 1 | K14: =SUM(E14:F14) -> 1
C15: Financeiro | D15: =Planilha!N27 -> 17293.172 | E15: =E14*$D$15 -> 0 | F15: =F14*$D$15 -> 17293.172 | K15: =SUM(E15:J15) -> 17293.172
A16: 5 | B16: =Planilha!#REF! -> #REF! | C16: Físico % | D16: 1 | F16: 1 | K16: =SUM(E16:F16) -> 1
C17: Financeiro | D17: =Planilha!N43 -> 51420.499 | E17: =E16*$D$17 -> 0 | F17: =F16*$D$17 -> 51420.499 | K17: =SUM(E17:J17) -> 51420.499
A18: 6 | B18: =Planilha!#REF! -> #REF! | C18: Físico % | D18: 1 | F18: 1 | K18: =SUM(E18:F18) -> 1
C19: Financeiro | D19: =Planilha!N47 -> 5083.13 | E19: =E18*$D$19 -> 0 | F19: =F18*$D$19 -> 5083.13 | K19: =SUM(E19:J19) -> 5083.13
A20: 7 | B20: =Planilha!#REF! -> #REF! | C20: Físico % | D20: 1 | F20: 1 | K20: =SUM(E20:F20) -> 1
C21: Financeiro | D21: =Planilha!N52 -> 1448 | E21: =E20*$D$21 -> 0 | F21: =F20*$D$21 -> 1448 | K21: =SUM(E21:J21) -> 1448
A22: 8 | B22: =Planilha!#REF! -> #REF! | C22: Físico %
C23: Financeiro
A24: 9 | B24: =Planilha!#REF! -> #REF! | C24: Físico %
C25: Financeiro
A26: 10 | B26: =Planilha!#REF! -> #REF! | C26: Físico %
C27: Financeiro
A28: 11 | B28: =Planilha!#REF! -> #REF! | C28: Físico %
C29: Financeiro
A30: 12 | B30: =Planilha!#REF! -> #REF! | C30: Físico %
C31: Financeiro
A32: 13 | B32: =Planilha!#REF! -> #REF! | C32: Físico %
C33: Financeiro
A34: 14 | B34: =Planilha!C24 -> URBANISMO | C34: Físico %
C35: Financeiro
A36: 15 | B36: =Planilha!C27 -> INSTALAÇÕES ELETRICAS | C36: Físico %
C37: Financeiro
A38: 16 | B38: =Planilha!C43 -> ACADEMIA E PLAYGORUND | C38: Físico %
C39: Financeiro
A40: 17 | B40: =Planilha!C47 -> PINTURA DE PISO | C40: Físico %
C41: Financeiro
...
