Workbook

Sheet PLANILHA
A5: PLANILHA ORÇAMENTARIA DE CUSTOS - REFORMA DE PRAÇA PÚBLICA - SEM DESONERAÇÃO
A6: OBRA: REFORMA DE PRAÇA PÚBLICA NO BAIRRO SAUDADE.
A7: LOCAL: AVENIDA DA SAUDADE, BAIRRO SAUDADE.
A8: RESPONSÁVEL TÉCNICO PELA ORÇAMENTO: KIMBERLY MOREIRA DE SOUZA - CREA/MG: 294.926/D
A9: RESPONSÁVEL LEGAL DO MUNICÍPIO: ZILMAR PINHEIRO LOPES
A10: DATA: 15/06/2026
A11: % DE BDI: | B11: =BDI!G13 -> 0.24666704 | C11: 1.2467 | D11: EXECUÇÃO DA OBRA: ( ) DIRETA (X) INDIRETA
A12: FONTE: | B12: SINAPI 02/2026 - SEM DESONERAÇÃO, SICRO 01/2026 - SEM DESONERAÇÃO
A13: PLANILHA ORÇAMENTÁRIA
A14: Item | B14: Código | C14: Fonte | D14: Descrição | E14: Uni. | F14: Quant. | G14: Valores orçamento (R$)
G15: Custo (s/ BDI) | I15: Preço (c/BDI)
G16: Unitário | H16: Total Item | I16: Unitário | J16: Total Item
A17: 1. | D17: IMPLANTAÇÃO DA OBRA E SERVIÇOS PRELIMINARES | I17: Subtotal: | J17: =SUBTOTAL(9,J18:J25) -> 52395.69
A18: 1.1 | B18: ED-16660 | C18: SETOP | D18: FORNECIMENTO E COLOCAÇÃO DE PLACA DE OBRA EM CHAPA GALVANIZADA #26, ESP. 0,45 MM, PLOTADA COM ADESIVO VINÍLICO, AFIXADA COM REBITES 4,8X40 MM, EM ESTRUTURA METÁLICA DE METALON 20X20 MM, ESP. 1,25 MM, INCLUSIVE SUPORTE EM EUCALIPTO AUTOCLAVADO PINTADO COM TINTA PVA DUAS (2) DEMÃOS | E18: M² | F18: 4.5 | G18: 268.16 | H18: =ROUND(F18*G18,2) -> 1206.72 | I18: =ROUND(G18*$C$11,2) -> 334.32 | J18: =ROUND(F18*I18,2) -> 1504.44
A19: 1.2 | B19: 10776 | C19: SINAPI | D19: LOCACAO DE CONTAINER 2,30 X 6,00 M, ALT. 2,50 M, PARA ESCRITORIO, SEM DIVISORIAS INTERNAS E SEM SANITARIO (NAO INCLUI MOBILIZACAO/DESMOBILIZACAO) | E19: MÊS | F19: 8 | G19: 789.06 | H19: =ROUND(F19*G19,2) -> 6312.48 | I19: =ROUND(G19*$C$11,2) -> 983.72 | J19: =ROUND(F19*I19,2) -> 7869.76
A20: 1.3 | B20: ED-50137 | C20: SETOP | D20: MOBILIZAÇÃO E DESMOBILIZAÇÃO DE CONTAINER, INCLUSIVE CARGA, DESCARGA E TRANSPORTE EM CAMINHÃO CARROCERIA COM GUINDAUTO (MUNCK), EXCLUSIVE LOCAÇÃO DO CONTAINER | E20: UNIT. | F20: 1 | G20: 1702.32 | H20: =ROUND(F20*G20,2) -> 1702.32 | I20: =ROUND(G20*$C$11,2) -> 2122.28 | J20: =ROUND(F20*I20,2) -> 2122.28
A21: 1.4 | B21: ED-50276 | C21: SETOP | D21: LOCAÇÃO TOPOGRÁFICA ACIMA DE CINQUENTA (50) PONTOS REFERENCIAIS, INCLUSIVE ESTACA (PIQUETE) DE MARCAÇÃO (PRAÇA) | E21: UNIT. | F21: 80 | G21: 44.1 | H21: =ROUND(F21*G21,2) -> 3528 | I21: =ROUND(G21*$C$11,2) -> 54.98 | J21: =ROUND(F21*I21,2) -> 4398.4
A22: 1.5 | B22: 105009 | C22: SINAPI | D22: LOCAÇÃO CONVENCIONAL DE OBRA, UTILIZANDO GABARITO DE TÁBUAS CORRIDAS PONTALETADAS A CADA 1,50M - 2 UTILIZAÇÕES. AF_03/2024 | E22: M | F22: 46.3 | G22: 95.54 | H22: =ROUND(F22*G22,2) -> 4423.5 | I22: =ROUND(G22*$C$11,2) -> 119.11 | J22: =ROUND(F22*I22,2) -> 5514.79
A23: 1.6 | B23: ED-14457 | C23: SETOP | D23: PORTÃO PARA TAPUME FIXO DE PROTEÇÃO COM FECHAMENTO DE OBRA EM TELHA METÁLICA GALVANIZADA, TIPO TRAPEZOIDAL ESP. 0,5MM, COM MÓDULO NA DIMENSÃO DE (300X220)CM, EXCLUSIVE PINTURA ESMALTE | E23: m2 | F23: 10 | G23: 194.75 | H23: =ROUND(F23*G23,2) -> 1947.5 | I23: =ROUND(G23*$C$11,2) -> 242.79 | J23: =ROUND(F23*I23,2) -> 2427.9
A24: 1.7 | B24: ED-2982 | C24: SETOP | D24: TAPUME FIXO DE PROTEÇÃO PARA FECHAMENTO DE OBRA EM TELHA METÁLICA GALVANIZADA, TIPO TRAPEZOIDAL, ESP. 0,5MM, COM MÓDULO NA DIMENSÃO DE (300X220)CM, COM REAPROVEITAMENTO, EXCLUSIVE PINTURA ESMALTE, INCLUSIVE PONTALETE E FIXAÇÃO | E24: m2 | F24: =162*2 -> 324 | G24: 68.22 | H24: =ROUND(F24*G24,2) -> 22103.28 | I24: =ROUND(G24*$C$11,2) -> 85.05 | J24: =ROUND(F24*I24,2) -> 27556.2
A25: 1.8 | B25: ED-50166 | C25: SETOP | D25: REMANEJAMENTO DE TAPUME FIXO DE PROTEÇÃO PARA FECHAMENTO DE OBRA, INCLUSIVE ESCAVAÇÃO MANUAL E REATERRO COMPACTADO | E25: m2 | F25: =(19+6+6)*2 -> 62 | G25: 12.96 | H25: =ROUND(F25*G25,2) -> 803.52 | I25: =ROUND(G25*$C$11,2) -> 16.16 | J25: =ROUND(F25*I25,2) -> 1001.92
A26: 2. | D26: MOVIMENTAÇÃO DE TERRA, JARDINAGEM E DEMOLIÇÃO. | I26: Subtotal: | J26: =SUBTOTAL(9,J27:J36) -> 71559.74
A27: 2.1 | B27: ED-48489 | C27: SETOP | D27: DEMOLIÇÃO MECANIZADA DE LAJE DE CONCRETO ARMADO, COM ESPESSURA DE ATÉ 15CM, , COM EQUIPAMENTO ELÉTRICO, INCLUSIVE AFASTAMENTO E EMPILHAMENTO, EXCLUSIVE TRANSPORTE E RETIRADA DO MATERIAL DEMOLIDO | E27: M² | F27: =62.28 -> 62.28 | G27: 27.44 | H27: =ROUND(F27*G27,2) -> 1708.96 | I27: =ROUND(G27*$C$11,2) -> 34.21 | J27: =ROUND(F27*I27,2) -> 2130.6
A28: 2.2 | B28: 97625 | C28: SINAPI | D28: DEMOLIÇÃO DE ALVENARIA PARA QUALQUER TIPO DE BLOCO, DE FORMA MECANIZADA, SEM REAPROVEITAMENTO. AF_09/2023 | E28: M³ | F28: 20 | G28: 53.4 | H28: =ROUND(F28*G28,2) -> 1068 | I28: =ROUND(G28*$C$11,2) -> 66.57 | J28: =ROUND(F28*I28,2) -> 1331.4
A29: 2.3 | B29: ED-48476 | C29: SETOP | D29: REMOÇÃO MANUAL DE PAVIMENTAÇÃO INTERTRAVADA OU SEXTAVADO EM PRÉ-MOLDADO DE CONCRETO, COM REAPROVEITAMENTO, INCLUSIVE AFASTAMENTO E EMPILHAMENTO, EXCLUSIVE TRANSPORTE E RETIRADA DO MATERIAL REMOVIDO NÃO REAPROVEITÁVEL | E29: M² | F29: 50 | G29: 17.57 | H29: =ROUND(F29*G29,2) -> 878.5 | I29: =ROUND(G29*$C$11,2) -> 21.9 | J29: =ROUND(F29*I29,2) -> 1095
A30: 2.4 | B30: ED-48472 | C30: SETOP | D30: REMOÇÃO MANUAL DE GUIA DE MEIO-FIO PRÉ-MOLDADA EM CONCRETO, COM REAPROVEITAMENTO, INCLUSIVE AFASTAMENTO E EMPILHAMENTO, EXCLUSIVE TRANSPORTE E RETIRADA DO MATERIAL REMOVIDO NÃO REAPROVEITÁVEL | E30: M | F30: 50 | G30: 13.81 | H30: =ROUND(F30*G30,2) -> 690.5 | I30: =ROUND(G30*$C$11,2) -> 17.22 | J30: =ROUND(F30*I30,2) -> 861
A31: 2.5 | B31: 98520 | C31: SINAPI | D31: APLICAÇÃO DE ADUBO EM SOLO. AF_07/2024 | E31: M² | F31: =F32+13.45 -> 435.18 | G31: 6.16 | H31: =ROUND(F31*G31,2) -> 2680.71 | I31: =ROUND(G31*$C$11,2) -> 7.68 | J31: =ROUND(F31*I31,2) -> 3342.18
A32: 2.6 | B32: ED-50437 | C32: SETOP | D32: PLANTIO DE GRAMA ESMERALDA EM PLACAS, INCLUSIVE TERRA VEGETAL E CONSERVAÇÃO POR TRINTA (30) DIAS | E32: M² | F32: =103.58+169.11+3.23+4.6+3.25+1.9+12.97+12.64+6.53+6.85+10.51+2.64+13.24+9.87+25.84+6.54+6.25+3.14+9.04+10 -> 421.73 | G32: 38.09 | H32: =ROUND(F32*G32,2) -> 16063.7 | I32: =ROUND(G32*$C$11,2) -> 47.49 | J32: =ROUND(F32*I32,2) -> 20027.96
A33: 2.7 | B33: 98516 | C33: SINAPI | D33: PLANTIO DE PALMEIRA COM ALTURA DE MUDA MENOR OU IGUAL A 2,00 M . AF_07/2024 | E33: UND | F33: =19 -> 19 | G33: 367.48 | H33: =ROUND(F33*G33,2) -> 6982.12 | I33: =ROUND(G33*$C$11,2) -> 458.14 | J33: =ROUND(F33*I33,2) -> 8704.66
A34: 2.8 | B34: 98511 | C34: SINAPI | D34: PLANTIO DE ÁRVORE ORNAMENTAL COM ALTURA DE MUDA MAIOR QUE 2,00 M E MENOR OU IGUAL A 4,00 M . AF_07/2024 | E34: UND | F34: 115 | G34: 190 | H34: =ROUND(F34*G34,2) -> 21850 | I34: =ROUND(G34*$C$11,2) -> 236.87 | J34: =ROUND(F34*I34,2) -> 27240.05
A35: 2.9 | B35: ED-51100 | C35: SETOP | D35: CORTE E DESATERRO MECÂNICO PARA REGULARIZAÇÃO, COM TRATOR DE ESTEIRA, INCLUSIVE ARRASTAMENTO NIVELADO, AFASTAMENTO E EMPILHAMENTO, EXCLUSIVE CARGA, TRANSPORTE E DESCARGA | E35: M³ | F35: 100 | G35: 4.16 | H35: =ROUND(F35*G35,2) -> 416 | I35: =ROUND(G35*$C$11,2) -> 5.19 | J35: =ROUND(F35*I35,2) -> 519
A36: 2.10 | B36: ED-51122 | C36: SETOP | D36: REGULARIZAÇÃO E COMPACTAÇÃO DE TERRENO MANUAL COM SOQUETE, EXCLUSIVE DESMATAMENTO, DESTOCAMENTO, LIMPEZA/ROÇADA DO TERRENO | E36: M² | F36: =(122.15+49.58+17.25+17.35+7.35+9.87+4.87+8.4+9.37+6.82+1.87+116+47.52+100)*0.8 -> 414.72 | G36: 12.2 | H36: =ROUND(F36*G36,2) -> 5059.58 | I36: =ROUND(G36*$C$11,2) -> 15.21 | J36: =ROUND(F36*I36,2) -> 6307.89
A37: 3. | D37: FUNDAÇÕES | I37: Subtotal: | J37: =SUBTOTAL(9,J38:J47) -> 155770.7
A38: 3.1 | B38: 96527 | C38: SINAPI | D38: ESCAVAÇÃO MANUAL PARA VIGA BALDRAME OU SAPATA CORRIDA (INCLUINDO ESCAVAÇÃO PARA COLOCAÇÃO DE FÔRMAS). AF_01/2024 | E38: M³ | F38: =((53+28+12+12+14.66+16.52+15.72+9.45+15.72+11.82+20.54+3.19+2.35+1.35+1.35+1.35+8.3*2+0.85*2+1.45*2+1.35+2.07+38.3+5.2+1.5*2+1.55+5.2*4+1.15*2)*0.3*0.5)-2.52 -> 44.6985 | G38: 121.2 | H38: =ROUND(F38*G38,2) -> 5417.46 | I38: =ROUND(G38*$C$11,2) -> 151.1 | J38: =ROUND(F38*I38,2) -> 6753.94
A39: 3.2 | B39: 96523 | C39: SINAPI | D39: ESCAVAÇÃO MANUAL PARA BLOCO DE COROAMENTO OU SAPATA (INCLUINDO ESCAVAÇÃO PARA COLOCAÇÃO DE FÔRMAS). AF_01/2024 | E39: M³ | F39: =((0.8*0.6*1*32+0.7*0.6*1*43)*1.2)-2.52 -> 37.584 | G39: 110.24 | H39: =ROUND(F39*G39,2) -> 4143.26 | I39: =ROUND(G39*$C$11,2) -> 137.44 | J39: =ROUND(F39*I39,2) -> 5165.54
A40: 3.3 | B40: ED-31563 | C40: SETOP | D40: FÔRMA E DESFORMA PARA PILAR COM CHAPA DE COMPENSADO PLASTIFICADO, ESP. 14MM, REAPROVEITAMENTO (5X), EXCLUSIVE ESCORAMENTO | E40: M² | F40: =(40.88+81.09+17.4+13.5+55.57+7.92+24.32+58.19+8.32+22.17+39.43+22.26+115.28) -> 506.33 | G40: 68.87 | H40: =ROUND(F40*G40,2) -> 34870.95 | I40: =ROUND(G40*$C$11,2) -> 85.86 | J40: =ROUND(F40*I40,2) -> 43473.49
A41: 3.4 | B41: ED-49787 | C41: SETOP | D41: FORNECIMENTO DE CONCRETO ESTRUTURAL, PREPARADO EM OBRA COM BETONEIRA, COM FCK 25MPA, INCLUSIVE LANÇAMENTO, ADENSAMENTO E ACABAMENTO (FUNDAÇÃO) | E41: M³ | F41: =5.18+5.62+2.21+0.73+3.57+0.45+0.43+3.09+3.73+0.29+0.45+1.39+2.7+2.75+7.69+0.58 -> 40.86 | G41: 832.33 | H41: =ROUND(F41*G41,2) -> 34009 | I41: =ROUND(G41*$C$11,2) -> 1037.67 | J41: =ROUND(F41*I41,2) -> 42399.2
A42: 3.5 | B42: 96544 | C42: SINAPI | D42: ARMAÇÃO DE BLOCO UTILIZANDO AÇO CA-50 DE 6,3 MM - MONTAGEM. AF_01/2024 | E42: KG | F42: =37 -> 37 | G42: 18.48 | H42: =ROUND(F42*G42,2) -> 683.76 | I42: =ROUND(G42*$C$11,2) -> 23.04 | J42: =ROUND(F42*I42,2) -> 852.48
A43: 3.6 | B43: 96545 | C43: SINAPI | D43: ARMAÇÃO DE BLOCO UTILIZANDO AÇO CA-50 DE 8 MM - MONTAGEM. AF_01/2024 | E43: KG | F43: =113.6+97.5+61.8+96.7+15+39.1+19.8+183.3 -> 626.8 | G43: 16.21 | H43: =ROUND(F43*G43,2) -> 10160.43 | I43: =ROUND(G43*$C$11,2) -> 20.21 | J43: =ROUND(F43*I43,2) -> 12667.63
A44: 3.7 | B44: 96543 | C44: SINAPI | D44: ARMAÇÃO DE BLOCO UTILIZANDO AÇO CA-60 DE 5 MM - MONTAGEM. AF_01/2024 | E44: KG | F44: =24.1+51.6+26.5+52.6+15.8+21.3+41+19.1+104.9+16.7 -> 373.6 | G44: 21.22 | H44: =ROUND(F44*G44,2) -> 7927.79 | I44: =ROUND(G44*$C$11,2) -> 26.45 | J44: =ROUND(F44*I44,2) -> 9881.72
...

Sheet MEMORIAL DE CÁLCULO
A5: MEMORIAL DE CÁLCULO - REFORMA DE PRAÇA PÚBLICA
A6: OBRA: REFORMA DE PRAÇA PÚBLICA NO BAIRRO SAUDADE.
A7: LOCAL: AVENIDA DA SAUDADE, BAIRRO SAUDADE.
A8: RESPONSÁVEL TÉCNICO PELA ORÇAMENTO: KIMBERLY MOREIRA DE SOUZA - CREA/MG: 294.926/D
A9: RESPONSÁVEL LEGAL DO MUNICÍPIO: ZILMAR PINHEIRO LOPES
A10: DATA: 15/06/2026
A11: % DE BDI: | B11: =BDI!G13 -> 0.24666704 | C11: 1.2467 | D11: =PLANILHA!D11 -> EXECUÇÃO DA OBRA: ( ) DIRETA (X) INDIRETA
A12: FONTE: | B12: =PLANILHA!B12 -> SINAPI 02/2026 - SEM DESONERAÇÃO, SICRO 01/2026 - SEM DESONERAÇÃO
A13: LEVANTAMENTO DE SERVIÇOS
A14: Item | B14: Código | C14: Fonte | D14: Descrição | I14: Quant. | J14: Uni.
A17: =PLANILHA!A17 -> 1. | D17: =PLANILHA!D17 -> IMPLANTAÇÃO DA OBRA E SERVIÇOS PRELIMINARES
A18: =PLANILHA!A18 -> 1.1 | B18: =PLANILHA!B18 -> ED-16660 | C18: =PLANILHA!C18 -> SETOP | D18: =PLANILHA!D18 -> FORNECIMENTO E COLOCAÇÃO DE PLACA DE OBRA EM CHAPA GALVANIZADA #26, ESP. 0,45 MM, PLOTADA COM ADESIVO VINÍLICO, AFIXADA COM REBITES 4,8X40 MM, EM ESTRUTURA METÁLICA DE METALON 20X20 MM, ESP. 1,25 MM, INCLUSIVE SUPORTE EM EUCALIPTO AUTOCLAVADO PINTADO COM TINTA PVA DUAS (2) DEMÃOS | I18: =PLANILHA!F18 -> 4.5 | J18: =PLANILHA!E18 -> M²
A19: DESCRIÇÃO DETALHADA | C19: C (m) | D19: L(m) | E19: H(m) | F19: A(m²) | G19: V(m³) | H19: DMT | I19: TOTAL | J19: OBS:
A20: PLACA DE OBRA DIMENSÕES | C20: 1.5 | D20: 3 | I20: =C20*D20 -> 4.5
H21: TOTAL | I21: =I20 -> 4.5 | J21: =J18 -> M²
A22: =PLANILHA!A19 -> 1.2 | B22: =PLANILHA!B19 -> 10776 | C22: =PLANILHA!C19 -> SINAPI | D22: =PLANILHA!D19 -> LOCACAO DE CONTAINER 2,30 X 6,00 M, ALT. 2,50 M, PARA ESCRITORIO, SEM DIVISORIAS INTERNAS E SEM SANITARIO (NAO INCLUI MOBILIZACAO/DESMOBILIZACAO) | I22: =PLANILHA!F19 -> 8 | J22: =PLANILHA!E19 -> MÊS
A23: DESCRIÇÃO DETALHADA | C23: C (m) | D23: L(m) | E23: H(m) | F23: A(m²) | G23: V(m³) | H23: MÊS | I23: TOTAL | J23: OBS:
A24: CONTAINER | H24: 8 | I24: =H24 -> 8
H25: TOTAL | I25: =I24 -> 8 | J25: =J22 -> MÊS
A26: =PLANILHA!A20 -> 1.3 | B26: =PLANILHA!B20 -> ED-50137 | C26: =PLANILHA!C20 -> SETOP | D26: =PLANILHA!D20 -> MOBILIZAÇÃO E DESMOBILIZAÇÃO DE CONTAINER, INCLUSIVE CARGA, DESCARGA E TRANSPORTE EM CAMINHÃO CARROCERIA COM GUINDAUTO (MUNCK), EXCLUSIVE LOCAÇÃO DO CONTAINER | I26: =PLANILHA!F20 -> 1 | J26: =PLANILHA!E20 -> UNIT.
A27: DESCRIÇÃO DETALHADA | C27: C (m) | D27: L(m) | E27: H(m) | F27: A(m²) | G27: V(m³) | H27: QTD | I27: TOTAL | J27: OBS:
A28: CONTAINER | H28: 1 | I28: =H28 -> 1
H29: TOTAL | I29: =I28 -> 1 | J29: =J26 -> UNIT.
A30: =PLANILHA!A21 -> 1.4 | B30: =PLANILHA!B21 -> ED-50276 | C30: =PLANILHA!C21 -> SETOP | D30: =PLANILHA!D21 -> LOCAÇÃO TOPOGRÁFICA ACIMA DE CINQUENTA (50) PONTOS REFERENCIAIS, INCLUSIVE ESTACA (PIQUETE) DE MARCAÇÃO (PRAÇA) | I30: =PLANILHA!F21 -> 80 | J30: =PLANILHA!E21 -> UNIT.
A31: DESCRIÇÃO DETALHADA | C31: C (m) | D31: L(m) | E31: H(m) | F31: A(m²) | G31: V(m³) | H31: QTD | I31: TOTAL | J31: OBS:
A32: REFERENCIA TOPOGRAFICA | H32: 80 | I32: =H32 -> 80
H33: TOTAL | I33: =I32 -> 80 | J33: =J30 -> UNIT.
A34: =PLANILHA!A22 -> 1.5 | B34: =PLANILHA!B22 -> 105009 | C34: =PLANILHA!C22 -> SINAPI | D34: =PLANILHA!D22 -> LOCAÇÃO CONVENCIONAL DE OBRA, UTILIZANDO GABARITO DE TÁBUAS CORRIDAS PONTALETADAS A CADA 1,50M - 2 UTILIZAÇÕES. AF_03/2024 | I34: =PLANILHA!F22 -> 46.3 | J34: =PLANILHA!E22 -> M
A35: DESCRIÇÃO DETALHADA | C35: C (m) | D35: L(m) | E35: H(m) | F35: A(m²) | G35: V(m³) | H35: QTD | I35: TOTAL | J35: OBS:
A36: REFERENCIA TOPOGRAFICA | H36: 46.3 | I36: =H36 -> 46.3
H37: TOTAL | I37: =I36 -> 46.3 | J37: =J34 -> M
A38: =PLANILHA!A23 -> 1.6 | B38: =PLANILHA!B23 -> ED-14457 | C38: =PLANILHA!C23 -> SETOP | D38: =PLANILHA!D23 -> PORTÃO PARA TAPUME FIXO DE PROTEÇÃO COM FECHAMENTO DE OBRA EM TELHA METÁLICA GALVANIZADA, TIPO TRAPEZOIDAL ESP. 0,5MM, COM MÓDULO NA DIMENSÃO DE (300X220)CM, EXCLUSIVE PINTURA ESMALTE | I38: =PLANILHA!F23 -> 10 | J38: =PLANILHA!E23 -> m2
A39: DESCRIÇÃO DETALHADA | C39: C (m) | D39: L(m) | E39: H(m) | F39: A(m²) | G39: V(m³) | H39: QTD | I39: TOTAL | J39: OBS:
A40: FECHAMENTO DA OBRA | C40: 5 | D40: 2 | I40: =C40*D40 -> 10
H41: TOTAL | I41: =I40 -> 10 | J41: =J38 -> m2
A42: =PLANILHA!A24 -> 1.7 | B42: =PLANILHA!B24 -> ED-2982 | C42: =PLANILHA!C24 -> SETOP | D42: =PLANILHA!D24 -> TAPUME FIXO DE PROTEÇÃO PARA FECHAMENTO DE OBRA EM TELHA METÁLICA GALVANIZADA, TIPO TRAPEZOIDAL, ESP. 0,5MM, COM MÓDULO NA DIMENSÃO DE (300X220)CM, COM REAPROVEITAMENTO, EXCLUSIVE PINTURA ESMALTE, INCLUSIVE PONTALETE E FIXAÇÃO | I42: =PLANILHA!F24 -> 324 | J42: =PLANILHA!E24 -> m2
A43: DESCRIÇÃO DETALHADA | C43: C (m) | D43: L(m) | E43: H(m) | F43: A(m²) | G43: V(m³) | H43: DMT | I43: TOTAL | J43: OBS:
A44: FECHAMENTO DA OBRA | C44: 162 | E44: 2 | I44: =C44*E44 -> 324
H45: TOTAL | I45: =I44 -> 324 | J45: =J42 -> m2
A46: =PLANILHA!A25 -> 1.8 | B46: =PLANILHA!B25 -> ED-50166 | C46: =PLANILHA!C25 -> SETOP | D46: =PLANILHA!D25 -> REMANEJAMENTO DE TAPUME FIXO DE PROTEÇÃO PARA FECHAMENTO DE OBRA, INCLUSIVE ESCAVAÇÃO MANUAL E REATERRO COMPACTADO | I46: =PLANILHA!F25 -> 62 | J46: =PLANILHA!E25 -> m2
...

Sheet CRONOGRAMA
A5: CRONOGRAMA FISICO FINANCEIRO - REFORMA DE PRAÇA PÚBLICA
A6: OBRA: REFORMA DE PRAÇA PÚBLICA NO BAIRRO SAUDADE.
A7: LOCAL: AVENIDA DA SAUDADE, BAIRRO SAUDADE.
A8: RESPONSÁVEL TÉCNICO PELA ORÇAMENTO: KIMBERLY MOREIRA DE SOUZA - CREA/MG: 294.926/D
A9: RESPONSÁVEL LEGAL DO MUNICÍPIO: ZILMAR PINHEIRO LOPES
A10: DATA: 15/06/2026
A11: % DE BDI: | B11: =BDI!G13 -> 0.24666704 | C11: =PLANILHA!D11 -> EXECUÇÃO DA OBRA: ( ) DIRETA (X) INDIRETA
A12: FONTE: | B12: =PLANILHA!B12 -> SINAPI 02/2026 - SEM DESONERAÇÃO, SICRO 01/2026 - SEM DESONERAÇÃO
A13: ETAPA | B13: METAS | C13: vl. etapa | D13: peso(%) | E13: MÊS 01 | F13: MÊS 02 | G13: MÊS 03 | H13: MÊS 04 | I13: MÊS 05 | J13: MÊS 06 | K13: MÊS 07 | L13: MÊS 08 | M13: TOTAL (R$)
A14: 1 | B14: =PLANILHA!D17 -> IMPLANTAÇÃO DA OBRA E SERVIÇOS PRELIMINARES | C14: =PLANILHA!J17 -> 52395.69 | D14: =C14/$C$42 -> 0.070273905 | E14: 0.3 | F14: 0.3 | G14: 0.15 | H14: 0.05 | I14: 0.05 | J14: 0.05 | K14: 0.05 | L14: 0.05 | M14: =SUM(E14:L14) -> 1
E15: =E14*$C$14 -> 15718.707 | F15: =F14*$C$14 -> 15718.707 | G15: =G14*$C$14 -> 7859.3535 | H15: =H14*$C$14 -> 2619.7845 | I15: =I14*$C$14 -> 2619.7845 | J15: =J14*$C$14 -> 2619.7845 | K15: =K14*$C$14 -> 2619.7845 | L15: =L14*$C$14 -> 2619.7845 | M15: =SUM(E15:L15) -> 52395.69
A16: 2 | B16: =PLANILHA!D26 -> MOVIMENTAÇÃO DE TERRA, JARDINAGEM E DEMOLIÇÃO. | C16: =PLANILHA!J26 -> 71559.74 | D16: =C16/$C$42 -> 0.095977023 | E16: 0.5 | J16: 0.05 | K16: 0.2 | L16: 0.25 | M16: =SUM(E16:L16) -> 1
E17: =E16*$C$16 -> 35779.87 | F17: =F16*$C$16 -> 0 | G17: =G16*$C$16 -> 0 | H17: =H16*$C$16 -> 0 | I17: =I16*$C$16 -> 0 | J17: =J16*$C$16 -> 3577.987 | K17: =K16*$C$16 -> 14311.948 | L17: =L16*$C$16 -> 17889.935 | M17: =SUM(E17:L17) -> 71559.74
A18: 3 | B18: =PLANILHA!D37 -> FUNDAÇÕES | C18: =PLANILHA!J37 -> 155770.7 | D18: =C18/$C$42 -> 0.20892206 | E18: 0.1 | F18: 0.1 | G18: 0.8 | M18: =SUM(E18:L18) -> 1
E19: =E18*$C$18 -> 15577.07 | F19: =F18*$C$18 -> 15577.07 | G19: =G18*$C$18 -> 124616.56 | H19: =H18*$C$18 -> 0 | I19: =I18*$C$18 -> 0 | J19: =J18*$C$18 -> 0 | K19: =K18*$C$18 -> 0 | L19: =L18*$C$18 -> 0 | M19: =SUM(E19:L19) -> 155770.7
A20: 4 | B20: =PLANILHA!D48 -> ESTRUTURA | C20: =PLANILHA!J48 -> 30560.53 | D20: =C20/$C$42 -> 0.040988253 | H20: 0.2 | I20: 0.2 | J20: 0.5 | K20: 0.1 | M20: =SUM(E20:L20) -> 1
E21: =E20*$C$20 -> 0 | F21: =F20*$C$20 -> 0 | G21: =G20*$C$20 -> 0 | H21: =H20*$C$20 -> 6112.106 | I21: =I20*$C$20 -> 6112.106 | J21: =J20*$C$20 -> 15280.265 | K21: =K20*$C$20 -> 3056.053 | L21: =L20*$C$20 -> 0 | M21: =SUM(E21:L21) -> 30560.53
A22: 5 | B22: =PLANILHA!D51 -> PISOS E ACESSIBILIDADE | C22: =PLANILHA!J51 -> 173134.79 | D22: =C22/$C$42 -> 0.23221104 | H22: 0.2 | I22: 0.2 | J22: 0.2 | K22: 0.2 | L22: 0.2 | M22: =SUM(E22:L22) -> 1
E23: =E22*$C$22 -> 0 | F23: =F22*$C$22 -> 0 | G23: =G22*$C$22 -> 0 | H23: =H22*$C$22 -> 34626.958 | I23: =I22*$C$22 -> 34626.958 | J23: =J22*$C$22 -> 34626.958 | K23: =K22*$C$22 -> 34626.958 | L23: =L22*$C$22 -> 34626.958 | M23: =SUM(E23:L23) -> 173134.79
A24: 6 | B24: =PLANILHA!B57:H57 -> PAVIMENTOS | C24: =PLANILHA!J57 -> 62022.98 | D24: =C24/$C$42 -> 0.083186174 | J24: 0.2 | K24: 0.4 | L24: 0.4 | M24: =SUM(E24:L24) -> 1
E25: =E24*$C$24 -> 0 | F25: =F24*$C$24 -> 0 | G25: =G24*$C$24 -> 0 | H25: =H24*$C$24 -> 0 | I25: =I24*$C$24 -> 0 | J25: =J24*$C$24 -> 12404.596 | K25: =K24*$C$24 -> 24809.192 | L25: =L24*$C$24 -> 24809.192 | M25: =SUM(E25:L25) -> 62022.98
A26: 7 | B26: =PLANILHA!B59:H59 -> ESTRUTURA DE CONCRETO - BANCOS | C26: =PLANILHA!J59 -> 15772.18 | D26: =C26/$C$42 -> 0.02115389 | J26: 0.2 | K26: 0.8 | M26: =SUM(E26:L26) -> 1
E27: =E26*$C$26 -> 0 | F27: =F26*$C$26 -> 0 | G27: =G26*$C$26 -> 0 | H27: =H26*$C$26 -> 0 | I27: =I26*$C$26 -> 0 | J27: =J26*$C$26 -> 3154.436 | K27: =K26*$C$26 -> 12617.744 | L27: =L26*$C$26 -> 0 | M27: =SUM(E27:L27) -> 15772.18
A28: 8 | B28: =PLANILHA!B64:H64 -> ALVENARIAS | C28: =PLANILHA!J64 -> 24870.31 | D28: =C28/$C$42 -> 0.033356442 | L28: 1 | M28: =SUM(E28:L28) -> 1
E29: =E28*$C$28 -> 0 | F29: =F28*$C$28 -> 0 | G29: =G28*$C$28 -> 0 | H29: =H28*$C$28 -> 0 | I29: =I28*$C$28 -> 0 | J29: =J28*$C$28 -> 0 | K29: =K28*$C$28 -> 0 | L29: =L28*$C$28 -> 24870.31 | M29: =SUM(E29:L29) -> 24870.31
A30: 9 | B30: =PLANILHA!B68:H68 -> ELÉTRICO | C30: =PLANILHA!J68 -> 86520.07 | D30: =C30/$C$42 -> 0.11604205 | G30: 0.2 | H30: 0.2 | I30: 0.2 | J30: 0.4 | M30: =SUM(E30:L30) -> 1
E31: =E30*$C$30 -> 0 | F31: =F30*$C$30 -> 0 | G31: =G30*$C$30 -> 17304.014 | H31: =H30*$C$30 -> 17304.014 | I31: =I30*$C$30 -> 17304.014 | J31: =J30*$C$30 -> 34608.028 | K31: =K30*$C$30 -> 0 | L31: =L30*$C$30 -> 0 | M31: =SUM(E31:L31) -> 86520.07
A32: 10 | B32: =PLANILHA!B93:H93 -> INSTALAÇÕES HIDROSSANITÁRIAS, LOUÇAS E METAIS | C32: =PLANILHA!J93 -> 3191.95 | D32: =C32/$C$42 -> 0.0042810924 | K32: 0.5 | L32: 0.5 | M32: =SUM(E32:L32) -> 1
E33: =E32*$C$32 -> 0 | F33: =F32*$C$32 -> 0 | G33: =G32*$C$32 -> 0 | H33: =H32*$C$32 -> 0 | I33: =I32*$C$32 -> 0 | J33: =J32*$C$32 -> 0 | K33: =K32*$C$32 -> 1595.975 | L33: =L32*$C$32 -> 1595.975 | M33: =SUM(E33:L33) -> 3191.95
A34: 11 | B34: =PLANILHA!B96:H96 -> ACESSÓRIOS - ACADEMIA | C34: =PLANILHA!J96 -> 21086.99 | D34: =C34/$C$42 -> 0.028282195 | H34: 0.2 | I34: 0.3 | K34: 0.3 | L34: 0.2 | M34: =SUM(E34:L34) -> 1
E35: =E34*$C$34 -> 0 | F35: =F34*$C$34 -> 0 | G35: =G34*$C$34 -> 0 | H35: =H34*$C$34 -> 4217.398 | I35: =I34*$C$34 -> 6326.097 | J35: =J34*$C$34 -> 0 | K35: =K34*$C$34 -> 6326.097 | L35: =L34*$C$34 -> 4217.398 | M35: =SUM(E35:L35) -> 21086.99
A36: 12 | B36: =PLANILHA!B102:H102 -> GUARDA CORPO | C36: =PLANILHA!J102 -> 22663.18 | D36: =C36/$C$42 -> 0.030396205 | J36: 0.4 | K36: 0.6 | M36: =SUM(E36:L36) -> 1
E37: =E36*$C$36 -> 0 | F37: =F36*$C$36 -> 0 | G37: =G36*$C$36 -> 0 | H37: =H36*$C$36 -> 0 | I37: =I36*$C$36 -> 0 | J37: =J36*$C$36 -> 9065.272 | K37: =K36*$C$36 -> 13597.908 | L37: =L36*$C$36 -> 0 | M37: =SUM(E37:L37) -> 22663.18
A38: 13 | B38: =PLANILHA!B105:H105 -> PINTURA | C38: =PLANILHA!J105 -> 23853.3 | D38: =C38/$C$42 -> 0.031992413 | I38: 0.8 | J38: 0.2 | M38: =SUM(E38:L38) -> 1
E39: =E38*$C$38 -> 0 | F39: =F38*$C$38 -> 0 | G39: =G38*$C$38 -> 0 | H39: =H38*$C$38 -> 0 | I39: =I38*$C$38 -> 19082.64 | J39: =J38*$C$38 -> 4770.66 | K39: =K38*$C$38 -> 0 | L39: =L38*$C$38 -> 0 | M39: =SUM(E39:L39) -> 23853.3
A40: 15 | B40: =PLANILHA!B110:H110 -> LIMPEZA FINAL | C40: =PLANILHA!J110 -> 2190 | D40: =C40/$C$42 -> 0.0029372617 | L40: 1 | M40: =SUM(E40:L40) -> 1
E41: =E40*$C$40 -> 0 | F41: =F40*$C$40 -> 0 | G41: =G40*$C$40 -> 0 | H41: =H40*$C$40 -> 0 | I41: =I40*$C$40 -> 0 | J41: =J40*$C$40 -> 0 | K41: =K40*$C$40 -> 0 | L41: =L40*$C$40 -> 2190 | M41: =SUM(E41:L41) -> 2190
A42: SOMA | C42: =PLANILHA!J112 -> 745592.41 | D42: =SUM(D14:D41) -> 1 | E42: =E15+E17+E19+E21+E23+E25+E27+E29+E31+E33+E35+E37+E39+E41 -> 67075.647 | F42: =F15+F17+F19+F21+F23+F25+F27+F29+F31+F33+F35+F37+F39+F41 -> 31295.777 | G42: =G15+G17+G19+G21+G23+G25+G27+G29+G31+G33+G35+G37+G39+G41 -> 149779.93 | H42: =H15+H17+H19+H21+H23+H25+H27+H29+H31+H33+H35+H37+H39+H41 -> 64880.26 | I42: =I15+I17+I19+I21+I23+I25+I27+I29+I31+I33+I35+I37+I39+I41 -> 86071.599 | J42: =J15+J17+J19+J21+J23+J25+J27+J29+J31+J33+J35+J37+J39+J41 -> 120107.99 | K42: =K15+K17+K19+K21+K23+K25+K27+K29+K31+K33+K35+K37+K39+K41 -> 113561.66 | L42: =L15+L17+L19+L21+L23+L25+L27+L29+L31+L33+L35+L37+L39+L41 -> 112819.55 | M42: =M15+M17+M19+M21+M23+M25+M27+M29+M31+M33+M35+M37+M39+M41 -> 745592.41
A43: EXECUÇÃO FÍSICA MENSAL (%) | E43: =E42/$C$42 -> 0.089962889 | F43: =F42/$C$42 -> 0.041974377 | G43: =G42/$C$42 -> 0.20088714 | H43: =H42/$C$42 -> 0.087018403 | I43: =I42/$C$42 -> 0.11544055 | J43: =J42/$C$42 -> 0.16109068 | K43: =K42/$C$42 -> 0.15231064 | L43: =L42/$C$42 -> 0.15131532 | M43: =M42/$C$42 -> 1
A44: EXECUÇÃO FINANCEIRA ACUMULADA | E44: =E42 -> 67075.647 | F44: =E44+F42 -> 98371.424 | G44: =F44+G42 -> 248151.35 | H44: =G44+H42 -> 313031.61 | I44: =H44+I42 -> 399103.21 | J44: =I44+J42 -> 519211.2 | K44: =J44+K42 -> 632772.86 | L44: =K44+L42 -> 745592.41 | M44: 1/1
...

Sheet BDI
A5: BDI - REFORMA DE PRAÇA PÚBLICA
A6: OBRA: REFORMA DE PRAÇA PÚBLICA NO BAIRRO SAUDADE.
A7: LOCAL: AVENIDA DA SAUDADE, BAIRRO SAUDADE.
A8: RESPONSÁVEL TÉCNICO PELA ORÇAMENTO: KIMBERLY MOREIRA DE SOUZA - CREA/MG: 294.926/D
A9: RESPONSÁVEL LEGAL DO MUNICÍPIO: ZILMAR PINHEIRO LOPES
A10: DATA: 15/06/2026
A11: % DE BDI: | B11: =BDI!G13 -> 0.24666704 | C11: =PLANILHA!D11 -> EXECUÇÃO DA OBRA: ( ) DIRETA (X) INDIRETA
A12: FONTE: | B12: =PLANILHA!B12 -> SINAPI 02/2026 - SEM DESONERAÇÃO, SICRO 01/2026 - SEM DESONERAÇÃO
A13: INTERVALOS ADMISSÍVEIS SEM JUSTIFICATIVA | C13: COMPOSIÇÃO BDI | E13: BDI PROPOSTO | G13: =((1+D17+D14+D15)*(1+D16)*(1+D18))/(1-D19)-1 -> 0.24666704
A14: Garantia (G) + Seguros (S) | B14: De 0,32% até 0,74% | C14: GARANTIA | D14: 0.004
A15: Risco ( R) | B15: De 0,50% até 0,97% | C15: RISCO | D15: 0.0056
A16: Despesas financeiras (DF) | B16: De 1,02% até 1,21% | C16: DESPESAS FINANCEIRAS | D16: 0.0111
A17: Administração Central (AC) | B17: De 3,80% até 4,67% | C17: ADMINISTRAÇÃO CENTRAL | D17: 0.0401
A18: Lucro (L) | B18: De 6,64% até 8,69% | C18: LUCRO | D18: 0.073
A19: Tributos (T) | B19: De 4,65% até 6,65% | C19: *TRIBUTOS | D19: =D26 -> 0.0865
C21: * TRIBUTOS ADOTADOR E JUSTIFICADOS
C22: cofins | D22: 0.03
C23: pis | D23: 0.0065
C24: ISS(5%) | D24: 0.05
C25: CPRB*
C26: TOTAL | D26: =SUM(D22:D25) -> 0.0865
A30: _________________________________________________ Kimberly Moreira de Souza Engenheiro Civil - CREA/MG: 294.926/D Técnico responsável pela elaboração do orçamento | D30: _________________________________________________ Zilmar Pinheiro Lopes Prefeito Municipal Representante legal do município
