Workbook
Name a: [1]cruz!#REF!
Name a: [1]cruz!#REF!
Name aaa: [1]cruz!#REF!
Name aaa: [1]cruz!#REF!
Name aaaa: [1]cruz!#REF!
Name aaaa: [1]cruz!#REF!
Name aaaaa: [1]cruz!#REF!
Name aaaaa: [1]cruz!#REF!
Name b: [1]cruz!#REF!
Name b: [1]cruz!#REF!
Name d: [1]cruz!#REF!
Name d: [1]cruz!#REF!
Name fdhg: [1]cruz!#REF!
Name fdhg: [1]cruz!#REF!
Name fff: [1]cruz!#REF!
Name fff: [1]cruz!#REF!
Name gfdjdh: [1]cruz!#REF!
Name gfdjdh: [1]cruz!#REF!
Name gggg: [1]cruz!#REF!
Name gggg: [1]cruz!#REF!
Name iiouoiuo: [1]cruz!#REF!
Name iiouoiuo: [1]cruz!#REF!
Name jghfhf: [1]cruz!#REF!
Name jghfhf: [1]cruz!#REF!
Name kjhk: [1]cruz!#REF!
Name kjhk: [1]cruz!#REF!
Name kkk: [1]cruz!#REF!
Name kkk: [1]cruz!#REF!
Name klhlkhj: [1]cruz!#REF!
Name klhlkhj: [1]cruz!#REF!
Name Limpeza: [1]cruz!#REF!
Name Limpeza: [1]cruz!#REF!
Name NUMERO: #REF!
Name NUMERO: #REF!
Name oficial: [1]cruz!#REF!
Name oficial: [1]cruz!#REF!
Name oi: [1]cruz!#REF!
Name oi: [1]cruz!#REF!
Name s: [1]cruz!#REF!
Name s: [1]cruz!#REF!
Name sgfd: [1]cruz!#REF!
Name sgfd: [1]cruz!#REF!
Name ss: [1]cruz!#REF!
Name ss: [1]cruz!#REF!
Name ssssssssss: [1]cruz!#REF!
Name ssssssssss: [1]cruz!#REF!
Name try: [1]cruz!#REF!
Name try: [1]cruz!#REF!

Sheet Anexo II - Modelo de proposta
A2: Razão Social:
A3: CNPJ: | E3: Pregão n°: | F3: Data:
A5: RESUMO DE CUSTOS CONTRATUAIS
A7: ITEM 1
A8: DESCRIÇÃO | B8: CARGA HORÁRIA | C8: QTD | D8: VALOR PROPOSTO POR EMPREGADO | E8: VALOR ESTIMADO HORAS EXTRAS | F8: VALOR ESTIMADO PARA CUSTEIO DE VIAGENS (NÃO SE APLICA) | G8: VALOR MENSAL (ESTIMADO) | H8: VALOR ANUAL (ESTIMADO)
A9: ='I-Copeiragem'!B132 -> Copeiro | B9: 150h | C9: ='I-Copeiragem'!D132 -> 2 | D9: ='I-Copeiragem'!E132 -> 3381.3919 | E9: ='I-Copeiragem'!F132 -> 1360.4067 | F9: 0 | G9: =C9*D9+E9+F9 -> 8123.1905 | H9: =G9*12 -> 97478.286
A10: ITEM 2
A11: DESCRIÇÃO | B11: CARGA HORÁRIA | C11: QTD | D11: VALOR PROPOSTO POR EMPREGADO | E11: VALOR ESTIMADO HORAS EXTRAS | F11: VALOR ESTIMADO PARA CUSTEIO DE VIAGENS (NÃO SE APLICA) | G11: VALOR MENSAL (ESTIMADO) | H11: VALOR ANUAL (ESTIMADO)
A12: ='II-Servente de Limpeza'!B132 -> Servente de Limpeza | B12: 150h | C12: ='II-Servente de Limpeza'!D132 -> 5 | D12: ='II-Servente de Limpeza'!E132 -> 4397.3123 | E12: ='II-Servente de Limpeza'!F132 -> 760.2653 | F12: 0 | G12: =C12*D12+E12+F12 -> 22746.827 | H12: =G12*12 -> 272961.92
A13: ITEM 3
A14: DESCRIÇÃO | B14: CARGA HORÁRIA | C14: QTD | D14: VALOR PROPOSTO POR EMPREGADO | E14: VALOR ESTIMADO HORAS EXTRAS | F14: VALOR ESTIMADO PARA CUSTEIO DE VIAGENS (NÃO SE APLICA) | G14: VALOR MENSAL (ESTIMADO) | H14: VALOR ANUAL (ESTIMADO)
A15: ='III-Aux. de Manutenção Predial'!B132 -> Auxiliar de Manutenção Predial | B15: 150h | C15: ='III-Aux. de Manutenção Predial'!D132 -> 1 | D15: ='III-Aux. de Manutenção Predial'!E132 -> 6001.3538 | E15: ='III-Aux. de Manutenção Predial'!F132 -> 176.94816 | F15: 0 | G15: =C15*D15+E15+F15 -> 6178.302 | H15: =G15*12 -> 74139.624
A16: ITEM 4
A17: DESCRIÇÃO | B17: CARGA HORÁRIA | C17: QTD | D17: VALOR PROPOSTO POR EMPREGADO | E17: VALOR ESTIMADO HORAS EXTRAS | F17: VALOR ESTIMADO PARA CUSTEIO DE VIAGENS (NÃO SE APLICA) | G17: VALOR MENSAL (ESTIMADO) | H17: VALOR ANUAL (ESTIMADO)
A18: ='IV-Recepcionista'!B132 -> Recepcionista | B18: 150h | C18: ='IV-Recepcionista'!D132 -> 8 | D18: ='IV-Recepcionista'!E132 -> 5031.5114 | E18: ='IV-Recepcionista'!F132 -> 3265.6792 | F18: 0 | G18: =C18*D18+E18+F18 -> 43517.771 | H18: =G18*12 -> 522213.25
A19: ITEM 5
A20: DESCRIÇÃO | B20: CARGA HORÁRIA | C20: QTD | D20: VALOR PROPOSTO POR EMPREGADO | E20: VALOR ESTIMADO HORAS EXTRAS | F20: VALOR ESTIMADO PARA CUSTEIO DE VIAGENS (NÃO SE APLICA) | G20: VALOR MENSAL (ESTIMADO) | H20: VALOR ANUAL (ESTIMADO)
A21: ='V-Assistente Administrativo '!B132 -> Assistente Administrativo I | B21: 150h | C21: ='V-Assistente Administrativo '!D132 -> 4 | D21: ='V-Assistente Administrativo '!E132 -> 4728.2247 | E21: ='V-Assistente Administrativo '!F132 -> 1343.0522 | F21: 0 | G21: =C21*D21+E21+F21 -> 20255.951 | H21: =G21*12 -> 243071.41
A22: ITEM 6
A23: DESCRIÇÃO | B23: CARGA HORÁRIA | C23: QTD | D23: VALOR PROPOSTO POR EMPREGADO | E23: VALOR ESTIMADO HORAS EXTRAS | F23: VALOR ESTIMADO PARA CUSTEIO DE VIAGENS (NÃO SE APLICA) | G23: VALOR MENSAL (ESTIMADO) | H23: VALOR ANUAL (ESTIMADO)
A24: ='VI-Assistente Adm. MHMTT'!B132 -> Assistente Administrativo - MHMTT | B24: 150h | C24: ='VI-Assistente Adm. MHMTT'!D132 -> 1 | D24: ='VI-Assistente Adm. MHMTT'!E132 -> 5243.8209 | E24: ='VI-Assistente Adm. MHMTT'!F132 -> 375.76842 | F24: 0 | G24: =C24*D24+E24+F24 -> 5619.5893 | H24: =G24*12 -> 67435.071
A25: ITEM 7
A26: DESCRIÇÃO | B26: CARGA HORÁRIA | C26: QTD | D26: VALOR PROPOSTO POR EMPREGADO | E26: VALOR ESTIMADO HORAS EXTRAS | F26: VALOR ESTIMADO PARA CUSTEIO DE VIAGENS | G26: VALOR MENSAL (ESTIMADO) | H26: VALOR ANUAL (ESTIMADO)
A27: ='VII-Motorista I'!B137 -> Motorista Executivo I | B27: 150h | C27: ='VII-Motorista I'!C137 -> 1 | D27: ='VII-Motorista I'!D137 -> 7063.4571 | E27: ='VII-Motorista I'!E137 -> 1074.7882 | F27: ='VII-Motorista I'!F137 -> 1420.9523 | G27: =C27*D27+E27+F27 -> 9559.1976 | H27: =G27*12 -> 114710.37
A28: ITEM 8
A29: DESCRIÇÃO | B29: CARGA HORÁRIA | C29: QTD | D29: VALOR PROPOSTO POR EMPREGADO | E29: VALOR ESTIMADO HORAS EXTRAS | F29: VALOR ESTIMADO PARA CUSTEIO DE VIAGENS | G29: VALOR MENSAL (ESTIMADO) | H29: VALOR ANUAL (ESTIMADO)
A30: ='VIII-Motorista II'!B137 -> Motorista Executivo II | B30: 150h | C30: ='VIII-Motorista II'!C137 -> 1 | D30: ='VIII-Motorista II'!D137 -> 8509.4533 | E30: ='VIII-Motorista II'!E137 -> 1397.2247 | F30: ='VIII-Motorista II'!F137 -> 1420.9523 | G30: =C30*D30+E30+F30 -> 11327.63 | H30: =G30*12 -> 135931.56
A32: VALOR CONTRATUAL TOTAL DOS SERVIÇO COM HORAS EXTRAS, NOTURNAS E DIÁRIAS/INDENIZAÇÕES | I32: =H9+H12+H15+H18+H21+H27+H24+H30 -> 1527941.5

Sheet RESUMO
B2: VALOR DO CONTRATO PREVISTO | I2: 1838527.1
B4: QUADRO RESUMO
B5: Item | C5: Local de prestação do serviço | D5: Categoria | E5: Carga Horária | F5: Valor proposto por empregado (B) | G5: Qtde. de empregados por posto (C) | H5: Valor proposto por posto (D)=(BxC) | I5: Qtde. de postos (E) | J5: Valor total do serviço ANUAL
B6: 1 | C6: CÂMARA MUNICIPAL DE POUSO ALEGRE MG | D6: COPEIRO | E6: 44 horas semanais | F6: ='I-Copeiragem'!E132+'I-Copeiragem'!F132 -> 4741.7986 | G6: 2 | H6: ='I-Copeiragem'!G132 -> 8123.1905 | I6: 1 | J6: =H6*12 -> 97478.286 | N6: DESCONTO NO CONTRATO
B7: 2 | C7: CÂMARA MUNICIPAL DE POUSO ALEGRE MG | D7: SERVENTE DE LIMPEZA | E7: 44 horas semanais | F7: ='II-Servente de Limpeza'!E132+'II-Servente de Limpeza'!F132 -> 5157.5776 | G7: 5 | H7: ='II-Servente de Limpeza'!G132 -> 22746.827 | I7: 1 | J7: =H7*G17 -> 272961.92 | N7: =I2-I17 -> 310585.59
B8: 3 | C8: CÂMARA MUNICIPAL DE POUSO ALEGRE MG | D8: AUXILIAR DE MANUTENÇÃO.P | E8: 44 horas semanais | F8: ='III-Aux. de Manutenção Predial'!E132+'III-Aux. de Manutenção Predial'!F132 -> 6178.302 | G8: 1 | H8: ='III-Aux. de Manutenção Predial'!G132 -> 6178.302 | I8: 1 | J8: =H8*G17 -> 74139.624
B9: 4 | C9: CÂMARA MUNICIPAL DE POUSO ALEGRE MG | D9: RECEPCIONISTA | E9: 44 horas semanais | F9: ='IV-Recepcionista'!E132+'IV-Recepcionista'!F132 -> 8297.1906 | G9: 8 | H9: ='IV-Recepcionista'!G132 -> 43517.771 | I9: 1 | J9: =H9*G17 -> 522213.25
B10: 5 | C10: CÂMARA MUNICIPAL DE POUSO ALEGRE MG | D10: ASSISTENTE ADM 1 | E10: 44 horas semanais | F10: ='V-Assistente Administrativo '!E132+'V-Assistente Administrativo '!F132 -> 6071.2768 | G10: 4 | H10: ='V-Assistente Administrativo '!G132 -> 20255.951 | I10: 1 | J10: =H10*G17 -> 243071.41
B11: 6 | C11: CÂMARA MUNICIPAL DE POUSO ALEGRE MG | D11: ASSISTENTE ADM 2 MHMTT | E11: 44 horas semanais | F11: ='VI-Assistente Adm. MHMTT'!E132+'VI-Assistente Adm. MHMTT'!F132 -> 5619.5893 | G11: 1 | H11: ='VI-Assistente Adm. MHMTT'!G132 -> 5619.5893 | I11: 1 | J11: =H11*G17 -> 67435.071
B12: 7 | C12: CÂMARA MUNICIPAL DE POUSO ALEGRE MG | D12: MOTORISTA EXECUTIVO 1 | E12: 44 horas semanais | F12: ='VII-Motorista I'!D137+'VII-Motorista I'!E137+'VII-Motorista I'!F137 -> 9559.1976 | G12: 1 | H12: ='VII-Motorista I'!G137 -> 9559.1976 | I12: 1 | J12: =H12*G17 -> 114710.37
B13: 8 | C13: CÂMARA MUNICIPAL DE POUSO ALEGRE MG | D13: MOTORISTA EXECUTIVO 2 | E13: 44 horas semanais | F13: ='VIII-Motorista II'!D137+'VIII-Motorista II'!E137+'VIII-Motorista II'!F137 -> 11327.63 | G13: 1 | H13: ='VIII-Motorista II'!G137 -> 11327.63 | I13: 1 | J13: =H13*G17 -> 135931.56
G14: TOTAL COLABORADORES | H14: TOTAL MÊS | J14: TOTAL ANUAL
C15: 1543795.4 | G15: =SUM(G6:G14) -> 23 | H15: =SUM(H6:H14) -> 127328.46 | J15: =SUM(J6:J14) -> 1527941.5 | M15: =C15-I17 -> 15853.906
A17: Valor total do contrato Final | G17: 12 | H17: MESES | I17: =SUM(H15*G17) -> 1527941.5 | K17: VALOR MINIMO

Sheet I-Copeiragem
A1: PLANILHA DE CUSTOS E FORMAÇÃO DE PREÇOS
A2: SERVIÇOS DE COPEIRAGEM
A3: Razão Social:
A4: CNPJ: | E4: Pregão n°: 05/2024 | F4: Data:
A6: DISCRIMINAÇÃO DOS SERVIÇOS
A7: A | B7: Data de apresentação da proposta (dia/mês/ano) | F7: 45520
A8: B | B8: Município/UF | F8: Pouso Alegre-MG
A9: C | B9: Ano Acordo, Convenção ou Sentença Normativa em Dissídio Coletivo | F9: SINSERHT-MG 12/06/2024(NUMERO DO PROCESSO 13621.212174/2024-33)
A10: D | B10: No. Registro acordo convenção coletiva | F10: MG002103/2024
A11: E | B11: Nº de meses de execução contratual | F11: 12 meses prorrogáveis até vigência decenal
A13: IDENTIFICAÇÃO DO SERVIÇO
A14: Unidade | B14: Tipo de Serviço | F14: Quantidade a contratar
A15: Postos | B15: Copeiro | F15: 2
A16: DADOS COMPLEMENTARES PARA CUSTOS REFERENTES À MÃO DE OBRA
A17: A | B17: Salário Normativo da categoria Profissional Vigente | F17: 1529
A18: B | B18: Salário-mínimo vigente | F18: 1412
A19: C | B19: Categoria profissional | F19: Copeiro
A20: D | B20: Data-base da categoria
A22: MÓDULO 1 - COMPOSIÇÃO DA REMUNERAÇÃO
A23: 1 | B23: Composição da Remuneração: | F23: % | G23: Valor (R$)
A24: A | B24: Salário Base | G24: 1529
A25: B | B25: Adicionais (especificar) | G25: =G24*F25 -> 0
A26: *Adicionais de horas extras e noturno extra em planilha à parte
A27: Valor Total da Remuneração: | G27: =SUM(G24:G26) -> 1529
A29: MÓDULO 2 - ENCARGOS SOCIAIS E TRABALHISTAS INCIDENTES SOBRE A REMUNERAÇÃO
A31: Grupo 2.1 | B31: Encargos Previdenciários e FGTS | F31: % | G31: Valor (R$)
A32: A | B32: INSS | F32: 0.2 | G32: =$G$27*F32 -> 305.8
A33: B | B33: SESI ou SESC | F33: 0.015 | G33: =$G$27*F33 -> 22.935
A34: C | B34: SENAI ou SENAC | F34: 0.01 | G34: =$G$27*F34 -> 15.29
A35: D | B35: INCRA | F35: 0.002 | G35: =$G$27*F35 -> 3.058
A36: E | B36: Salário educação | F36: 0.025 | G36: =$G$27*F36 -> 38.225
A37: F | B37: FGTS | F37: 0.08 | G37: =$G$27*F37 -> 122.32
A38: G | B38: RAT (Risco Ambiental do Trabalho) x FAP (no máximo 2,00%) | F38: 0.005 | G38: =$G$27*F38 -> 7.645
A39: H | B39: SEBRAE | F39: 0.006 | G39: =$G$27*F39 -> 9.174
A40: Valor Total dos encargos previdenciários e FGTS: | F40: =SUM(F32:F39) -> 0.343 | G40: =SUM(G32:G39) -> 524.447
A42: Grupo 2.2 | B42: 13º Salário e Afastamentos | F42: % | G42: Valor (R$)
A43: A | B43: 13º Salário | F43: 0.08333 | G43: =SUM($G$27*F43) -> 127.41157
A44: B | B44: Férias | F44: 0.0833 | G44: =G27*F44 -> 127.3657
A45: C | B45: Adicional de férias (1/3) | F45: =1/3/12 -> 0.027777778 | G45: =SUM($G$27*F45) -> 42.472222
A46: D | B46: Aviso prévio trabalhado *(1) | F46: =7/30/12 -> 0.019444444 | G46: =(G27)*F46 -> 29.730556
...

Sheet II-Servente de Limpeza
A1: PLANILHA DE CUSTOS E FORMAÇÃO DE PREÇOS
A2: SERVIÇOS DE LIMPEZA COM INSALUBRIDADE 40%
A3: Razão Social:
A4: CNPJ: | E4: Pregão n°: 05/2024 | F4: Data:
A6: DISCRIMINAÇÃO DOS SERVIÇOS
A7: A | B7: Data de apresentação da proposta (dia/mês/ano) | F7: 45520
A8: B | B8: Município/UF | F8: Pouso Alegre-MG
A9: C | B9: Ano Acordo, Convenção ou Sentença Normativa em Dissídio Coletivo | F9: 29/02/2024 SINDICATO DOS EMPREGADOS EM EMPRESAS DE ASSEIO E CONSERVACAO DE POUSO ALEGRE E REGIAO, CNPJ n. 23.928.068/0001-30, neste ato representado(a) por seu Presidente, Sr(a). MICHELE FERREIRA DOS SANTOS MOURA;
A10: D | B10: No. Registro acordo convenção coletiva | F10: MG000705/2024(NUMERO DO PROCESSO-19980.221998/2024-00)
A11: E | B11: Nº de meses de execução contratual | F11: 12 meses prorrogáveis até vigência decenal
A13: IDENTIFICAÇÃO DO SERVIÇO
A14: Unidade | B14: Tipo de Serviço | F14: Quantidade a contratar
A15: Postos | B15: Servente de Limpeza | F15: 5
A16: DADOS COMPLEMENTARES PARA CUSTOS REFERENTES À MÃO DE OBRA
A17: A | B17: Salário Normativo da categoria Profissional Vigente | F17: 1491.84
A18: B | B18: Salário-mínimo vigente | F18: 1412
A19: C | B19: Categoria profissional | F19: Servente de Limpeza
A20: D | B20: Data-base da categoria
A22: MÓDULO 1 - COMPOSIÇÃO DA REMUNERAÇÃO
A23: 1 | B23: Composição da Remuneração: | F23: % | G23: Valor (R$)
A24: A | B24: Salário Base | G24: =F17 -> 1491.84
A25: B | B25: Adicional de insalubridade | F25: 0.4 | G25: =F18*F25 -> 564.8
A26: *Adicionais de horas extras e noturno extra em planilha à parte
A27: Valor Total da Remuneração: | G27: =SUM(G24:G26) -> 2056.64
A29: MÓDULO 2 - ENCARGOS SOCIAIS E TRABALHISTAS INCIDENTES SOBRE A REMUNERAÇÃO
A31: Grupo 2.1 | B31: Encargos Previdenciários e FGTS | F31: % | G31: Valor (R$)
A32: A | B32: INSS | F32: 0.2 | G32: =$G$27*F32 -> 411.328
A33: B | B33: SESC | F33: 0.015 | G33: =$G$27*F33 -> 30.8496
A34: C | B34: SENAC | F34: 0.01 | G34: =$G$27*F34 -> 20.5664
A35: D | B35: INCRA | F35: 0.002 | G35: =$G$27*F35 -> 4.11328
A36: E | B36: Salário educação | F36: 0.025 | G36: =$G$27*F36 -> 51.416
A37: F | B37: FGTS | F37: 0.08 | G37: =$G$27*F37 -> 164.5312
A38: G | B38: RAT (Risco Ambiental do Trabalho) x FAP | F38: 0.005 | G38: =$G$27*F38 -> 10.2832
A39: H | B39: SEBRAE | F39: 0.006 | G39: =$G$27*F39 -> 12.33984
A40: Valor Total dos encargos previdenciários e FGTS: | F40: =SUM(F32:F39) -> 0.343 | G40: =SUM(G32:G39) -> 705.42752
A42: Grupo 2.2 | B42: 13º Salário e Afastamentos | F42: % | G42: Valor (R$)
A43: A | B43: 13º Salário | F43: 0.08333 | G43: =SUM($G$27*F43) -> 171.37981
A44: B | B44: Férias | F44: 0.08333 | G44: =G27*F44 -> 171.37981
A45: C | B45: Adicional de férias (1/3) | F45: =1/3/12 -> 0.027777778 | G45: =SUM($G$27*F45) -> 57.128889
A46: D | B46: Aviso prévio trabalhado *(1) | F46: =7/30/12 -> 0.019444444 | G46: =(G27)*F46 -> 39.990222
...

Sheet III-Aux. de Manutenção Predial
A1: PLANILHA DE CUSTOS E FORMAÇÃO DE PREÇOS
A2: SERVIÇOS DE MANUTENÇÃO PREDIAL
A3: Razão Social:
A4: CNPJ: | E4: Pregão n°: 05/2024 | F4: Data:
A6: DISCRIMINAÇÃO DOS SERVIÇOS
A7: A | B7: Data de apresentação da proposta (dia/mês/ano) | F7: 45520
A8: B | B8: Município/UF | F8: Pouso Alegre-MG
A9: C | B9: Ano Acordo, Convenção ou Sentença Normativa em Dissídio Coletivo | F9: 29/02/2024 SINDICATO DOS EMPREGADOS EM EMPRESAS DE ASSEIO E CONSERVACAO DE POUSO ALEGRE E REGIAO, CNPJ n. 23.928.068/0001-30, neste ato representado(a) por seu Presidente, Sr(a). MICHELE FERREIRA DOS SANTOS MOURA;
A10: D | B10: No. Registro acordo convenção coletiva | F10: MG000705/2024(NUMERO DO PROCESSO-19980.221998/2024-00)
A11: E | B11: Nº de meses de execução contratual | F11: 12 meses prorrogáveis até vigência decenal
A13: IDENTIFICAÇÃO DO SERVIÇO
A14: Unidade | B14: Tipo de Serviço | F14: Quantidade a contratar
A15: Postos | B15: Auxiliar de Manutenção Predial | F15: 1
A16: DADOS COMPLEMENTARES PARA CUSTOS REFERENTES À MÃO DE OBRA
A17: A | B17: Salário Normativo da categoria Profissional Vigente | F17: 2117.46
A18: B | B18: Salário-mínimo vigente | F18: 1412
A19: C | B19: Categoria profissional | F19: Auxiliar de Manutenção Predial
A20: D | B20: Data-base da categoria
A22: MÓDULO 1 - COMPOSIÇÃO DA REMUNERAÇÃO
A23: 1 | B23: Composição da Remuneração: | F23: % | G23: Valor (R$)
A24: A | B24: Salário Base | G24: 2274.82
A25: B | B25: Adicional de Periculosidade | F25: 0.3 | G25: =G24*F25 -> 682.446
A26: *Adicionais de horas extras e noturno extra em planilha à parte
A27: Valor Total da Remuneração: | G27: =SUM(G24:G26) -> 2957.266
A29: MÓDULO 2 - ENCARGOS SOCIAIS E TRABALHISTAS INCIDENTES SOBRE A REMUNERAÇÃO
A31: Grupo 2.1 | B31: Encargos Previdenciários e FGTS | F31: % | G31: Valor (R$)
A32: A | B32: INSS | F32: 0.2 | G32: =$G$27*F32 -> 591.4532
A33: B | B33: SESI ou SESC | F33: 0.015 | G33: =$G$27*F33 -> 44.35899
A34: C | B34: SENAI ou SENAC | F34: 0.01 | G34: =$G$27*F34 -> 29.57266
A35: D | B35: INCRA | F35: 0.002 | G35: =$G$27*F35 -> 5.914532
A36: E | B36: Salário educação | F36: 0.025 | G36: =$G$27*F36 -> 73.93165
A37: F | B37: FGTS | F37: 0.08 | G37: =$G$27*F37 -> 236.58128
A38: G | B38: RAT (Risco Ambiental do Trabalho) x FAP | F38: 0.005 | G38: =$G$27*F38 -> 14.78633
A39: H | B39: SEBRAE | F39: 0.006 | G39: =$G$27*F39 -> 17.743596
A40: Valor Total dos encargos previdenciários e FGTS: | F40: =SUM(F32:F39) -> 0.343 | G40: =SUM(G32:G39) -> 1014.3422
A42: Grupo 2.2 | B42: 13º Salário e Afastamentos | F42: % | G42: Valor (R$)
A43: A | B43: 13º Salário | F43: 0.08333 | G43: =SUM($G$27*F43) -> 246.42898
A44: B | B44: Férias | F44: 0.0833 | G44: =G27*F44 -> 246.34026
A45: C | B45: Adicional de férias (1/3) | F45: =1/3/12 -> 0.027777778 | G45: =SUM($G$27*F45) -> 82.146278
A46: D | B46: Aviso prévio trabalhado *(1) | F46: =7/30/12 -> 0.019444444 | G46: =(G27)*F46 -> 57.502394
...

Sheet IV-Recepcionista
A1: PLANILHA DE CUSTOS E FORMAÇÃO DE PREÇOS
A2: SERVIÇOS DE RECEPCIONISTA
A3: Razão Social:
A4: CNPJ: | E4: Pregão n°: 05/2024 | F4: Data:
A6: DISCRIMINAÇÃO DOS SERVIÇOS
A7: A | B7: Data de apresentação da proposta (dia/mês/ano) | F7: 45520
A8: B | B8: Município/UF | F8: Pouso Alegre-MG
A9: C | B9: Ano Acordo, Convenção ou Sentença Normativa em Dissídio Coletivo | F9: 29/02/2024 SINDICATO DOS EMPREGADOS EM EMPRESAS DE ASSEIO E CONSERVACAO DE POUSO ALEGRE E REGIAO, CNPJ n. 23.928.068/0001-30, neste ato representado(a) por seu Presidente, Sr(a). MICHELE FERREIRA DOS SANTOS MOURA;
A10: D | B10: No. Registro acordo convenção coletiva | F10: MG000705/2024(NUMERO DO PROCESSO-19980.221998/2024-00)
A11: E | B11: Nº de meses de execução contratual | F11: 12 meses prorrogáveis até vigência decenal
A13: IDENTIFICAÇÃO DO SERVIÇO
A14: Unidade | B14: Tipo de Serviço | F14: Quantidade a contratar
A15: Postos | B15: Recepcionista | F15: 8
A16: DADOS COMPLEMENTARES PARA CUSTOS REFERENTES À MÃO DE OBRA
A17: A | B17: Salário Normativo da categoria Profissional Vigente | F17: 2433.62
A18: B | B18: Salário-mínimo vigente | F18: 1412
A19: C | B19: Categoria profissional | F19: Recepcionista
A20: D | B20: Data-base da categoria
A22: MÓDULO 1 - COMPOSIÇÃO DA REMUNERAÇÃO
A23: 1 | B23: Composição da Remuneração: | F23: % | G23: Valor (R$)
A24: A | B24: Salário Base | G24: =F17 -> 2433.62
A25: B | B25: Adicionais (especificar) | G25: =G24*F25 -> 0
A26: *Adicionais de horas extras e noturno extra em planilha à parte
A27: Valor Total da Remuneração: | G27: =SUM(G24:G26) -> 2433.62
A29: MÓDULO 2 - ENCARGOS SOCIAIS E TRABALHISTAS INCIDENTES SOBRE A REMUNERAÇÃO
A31: Grupo 2.1 | B31: Encargos Previdenciários e FGTS | F31: % | G31: Valor (R$)
A32: A | B32: INSS | F32: 0.2 | G32: =$G$27*F32 -> 486.724
A33: B | B33: SESI ou SESC | F33: 0.015 | G33: =$G$27*F33 -> 36.5043
A34: C | B34: SENAI ou SENAC | F34: 0.01 | G34: =$G$27*F34 -> 24.3362
A35: D | B35: INCRA | F35: 0.002 | G35: =$G$27*F35 -> 4.86724
A36: E | B36: Salário educação | F36: 0.025 | G36: =$G$27*F36 -> 60.8405
A37: F | B37: FGTS | F37: 0.08 | G37: =$G$27*F37 -> 194.6896
A38: G | B38: RAT (Risco Ambiental do Trabalho) x FAP | F38: 0.005 | G38: =$G$27*F38 -> 12.1681
A39: H | B39: SEBRAE | F39: 0.006 | G39: =$G$27*F39 -> 14.60172
A40: Valor Total dos encargos previdenciários e FGTS: | F40: =SUM(F32:F39) -> 0.343 | G40: =SUM(G32:G39) -> 834.73166
A42: Grupo 2.2 | B42: 13º Salário e Afastamentos | F42: % | G42: Valor (R$)
A43: A | B43: 13º Salário | F43: 0.08333 | G43: =SUM($G$27*F43) -> 202.79355
A44: B | B44: Férias | F44: 0.0833 | G44: =G27*F44 -> 202.72055
A45: C | B45: Adicional de férias (1/3) | F45: =1/3/12 -> 0.027777778 | G45: =SUM($G$27*F45) -> 67.600556
A46: D | B46: Aviso prévio trabalhado *(1) | F46: =7/30/12 -> 0.019444444 | G46: =(G27)*F46 -> 47.320389
...

Sheet V-Assistente Administrativo 
A1: PLANILHA DE CUSTOS E FORMAÇÃO DE PREÇOS
A2: SERVIÇOS DE AUXILIAR ADMINISTRATIVO
A3: Razão Social:
A4: CNPJ: | E4: Pregão n°: 05/2024 | F4: Data:
A6: DISCRIMINAÇÃO DOS SERVIÇOS
A7: A | B7: Data de apresentação da proposta (dia/mês/ano) | F7: 45520
A8: B | B8: Município/UF | F8: Pouso Alegre-MG
A9: C | B9: Ano Acordo, Convenção ou Sentença Normativa em Dissídio Coletivo | F9: 29/02/2024 SINDICATO DOS EMPREGADOS EM EMPRESAS DE ASSEIO E CONSERVACAO DE POUSO ALEGRE E REGIAO, CNPJ n. 23.928.068/0001-30, neste ato representado(a) por seu Presidente, Sr(a). MICHELE FERREIRA DOS SANTOS MOURA;
A10: D | B10: No. Registro acordo convenção coletiva | F10: MG000705/2024(NUMERO DO PROCESSO-19980.221998/2024-00)
A11: E | B11: Nº de meses de execução contratual | F11: 12 meses prorrogáveis até vigência decenal
A13: IDENTIFICAÇÃO DO SERVIÇO
A14: Unidade | B14: Tipo de Serviço | F14: Quantidade a contratar
A15: Postos | B15: Assistente Administrativo I | F15: 4
A16: DADOS COMPLEMENTARES PARA CUSTOS REFERENTES À MÃO DE OBRA
A17: A | B17: Salário Normativo da categoria Profissional Vigente | F17: 2267.85
A18: B | B18: Salário-mínimo vigente | F18: 1412
A19: C | B19: Categoria profissional | F19: Assistente Administrativo I
A20: D | B20: Data-base da categoria
A22: MÓDULO 1 - COMPOSIÇÃO DA REMUNERAÇÃO
A23: 1 | B23: Composição da Remuneração: | F23: % | G23: Valor (R$)
A24: A | B24: Salário Base | G24: =F17 -> 2267.85
A25: B | B25: Adicionais (especificar) | G25: =G24*F25 -> 0
A26: *Adicionais de horas extras e noturno extra em planilha à parte
A27: Valor Total da Remuneração: | G27: =SUM(G24:G26) -> 2267.85
A29: MÓDULO 2 - ENCARGOS SOCIAIS E TRABALHISTAS INCIDENTES SOBRE A REMUNERAÇÃO
A31: Grupo 2.1 | B31: Encargos Previdenciários e FGTS | F31: % | G31: Valor (R$)
A32: A | B32: INSS | F32: 0.2 | G32: =$G$27*F32 -> 453.57
A33: B | B33: SESI ou SESC | F33: 0.015 | G33: =$G$27*F33 -> 34.01775
A34: C | B34: SENAI ou SENAC | F34: 0.01 | G34: =$G$27*F34 -> 22.6785
A35: D | B35: INCRA | F35: 0.002 | G35: =$G$27*F35 -> 4.5357
A36: E | B36: Salário educação | F36: 0.025 | G36: =$G$27*F36 -> 56.69625
A37: F | B37: FGTS | F37: 0.08 | G37: =$G$27*F37 -> 181.428
A38: G | B38: RAT (Risco Ambiental do Trabalho) x FAP | F38: 0.005 | G38: =$G$27*F38 -> 11.33925
A39: H | B39: SEBRAE | F39: 0.006 | G39: =$G$27*F39 -> 13.6071
A40: Valor Total dos encargos previdenciários e FGTS: | F40: =SUM(F32:F39) -> 0.343 | G40: =SUM(G32:G39) -> 777.87255
A42: Grupo 2.2 | B42: 13º Salário e Afastamentos | F42: % | G42: Valor (R$)
A43: A | B43: 13º Salário | F43: 0.08333 | G43: =SUM($G$27*F43) -> 188.97994
A44: B | B44: Férias | F44: 0.0833 | G44: =G27*F44 -> 188.9119
A45: C | B45: Adicional de férias (1/3) | F45: =1/3/12 -> 0.027777778 | G45: =SUM($G$27*F45) -> 62.995833
A46: D | B46: Aviso prévio trabalhado *(1) | F46: =7/30/12 -> 0.019444444 | G46: =(G27)*F46 -> 44.097083
...

Sheet VI-Assistente Adm. MHMTT
A1: PLANILHA DE CUSTOS E FORMAÇÃO DE PREÇOS
A2: SERVIÇOS DE AUXILIAR ADMINISTRATIVO COM INSALUBRIDADE 20%
A3: Razão Social:
A4: CNPJ: | E4: Pregão n°: 05/2024 | F4: Data:
A6: DISCRIMINAÇÃO DOS SERVIÇOS
A7: A | B7: Data de apresentação da proposta (dia/mês/ano) | F7: 45520
A8: B | B8: Município/UF | F8: Pouso Alegre-MG
A9: C | B9: Ano Acordo, Convenção ou Sentença Normativa em Dissídio Coletivo | F9: 29/02/2024 SINDICATO DOS EMPREGADOS EM EMPRESAS DE ASSEIO E CONSERVACAO DE POUSO ALEGRE E REGIAO, CNPJ n. 23.928.068/0001-30, neste ato representado(a) por seu Presidente, Sr(a). MICHELE FERREIRA DOS SANTOS MOURA;
A10: D | B10: No. Registro acordo convenção coletiva | F10: MG000705/2024(NUMERO DO PROCESSO-19980.221998/2024-00)
A11: E | B11: Nº de meses de execução contratual | F11: 12 meses prorrogáveis até vigência decenal
A13: IDENTIFICAÇÃO DO SERVIÇO
A14: Unidade | B14: Tipo de Serviço | F14: Quantidade a contratar
A15: Postos | B15: Assistente Administrativo - MHMTT | F15: 1
A16: DADOS COMPLEMENTARES PARA CUSTOS REFERENTES À MÃO DE OBRA
A17: A | B17: Salário Normativo da categoria Profissional Vigente | F17: 2267.85
A18: B | B18: Salário-mínimo vigente | F18: 1412
A19: C | B19: Categoria profissional | F19: Assistente Administrativo - Museu Histórico
A20: D | B20: Data-base da categoria
A22: MÓDULO 1 - COMPOSIÇÃO DA REMUNERAÇÃO
A23: 1 | B23: Composição da Remuneração: | F23: % | G23: Valor (R$)
A24: A | B24: Salário Base | G24: =F17 -> 2267.85
A25: B | B25: Adicional de insalubridade | F25: 0.2 | G25: =F18*F25 -> 282.4
A26: *Adicionais de horas extras e noturno extra em planilha à parte
A27: Valor Total da Remuneração: | G27: =SUM(G24:G26) -> 2550.25
A29: MÓDULO 2 - ENCARGOS SOCIAIS E TRABALHISTAS INCIDENTES SOBRE A REMUNERAÇÃO
A31: Grupo 2.1 | B31: Encargos Previdenciários e FGTS | F31: % | G31: Valor (R$)
A32: A | B32: INSS | F32: 0.2 | G32: =$G$27*F32 -> 510.05
A33: B | B33: SESI ou SESC | F33: 0.015 | G33: =$G$27*F33 -> 38.25375
A34: C | B34: SENAI ou SENAC | F34: 0.01 | G34: =$G$27*F34 -> 25.5025
A35: D | B35: INCRA | F35: 0.002 | G35: =$G$27*F35 -> 5.1005
A36: E | B36: Salário educação | F36: 0.025 | G36: =$G$27*F36 -> 63.75625
A37: F | B37: FGTS | F37: 0.08 | G37: =$G$27*F37 -> 204.02
A38: G | B38: RAT (Risco Ambiental do Trabalho) x FAP (no máximo 2,00%) | F38: 0.005 | G38: =$G$27*F38 -> 12.75125
A39: H | B39: SEBRAE | F39: 0.006 | G39: =$G$27*F39 -> 15.3015
A40: Valor Total dos encargos previdenciários e FGTS: | F40: =SUM(F32:F39) -> 0.343 | G40: =SUM(G32:G39) -> 874.73575
A42: Grupo 2.2 | B42: 13º Salário e Afastamentos | F42: % | G42: Valor (R$)
A43: A | B43: 13º Salário | F43: 0.08333 | G43: =SUM($G$27*F43) -> 212.51233
A44: B | B44: Férias | F44: 0.0833 | G44: =G27*F44 -> 212.43582
A45: C | B45: Adicional de férias (1/3) | F45: =1/3/12 -> 0.027777778 | G45: =SUM($G$27*F45) -> 70.840278
A46: D | B46: Aviso prévio trabalhado *(1) | F46: =7/30/12 -> 0.019444444 | G46: =(G27)*F46 -> 49.588194
...

Sheet VII-Motorista I
A1: PLANILHA DE CUSTOS E FORMAÇÃO DE PREÇOS
A2: SERVIÇOS DE CHOFERAGEM
A3: Razão Social:
A4: CNPJ: | E4: Pregão n°: 05/2024 | F4: Data:
A6: DISCRIMINAÇÃO DOS SERVIÇOS
A7: A | B7: Data de apresentação da proposta (dia/mês/ano) | F7: 45520
A8: B | B8: Município/UF | F8: Pouso Alegre-MG
A9: C | B9: Ano Acordo, Convenção ou Sentença Normativa em Dissídio Coletivo | F9: 24/04/2024 SINDICATO DOS TRABALHADORES EM TRANSPORTES RODOVIARIOS DE CARGAS EM GERAL DE POUSO ALEGRE E REGIAO, CNPJ n. 13.960.867/0001-30, neste ato representado(a) por seu Presidente, Sr(a). RICARDO FERNANDO MACHADO;
A10: D | B10: No. Registro acordo convenção coletiva | F10: MG001445/2024
A11: E | B11: Nº de meses de execução contratual | F11: 12 meses prorrogáveis até vigência decenal
A13: IDENTIFICAÇÃO DO SERVIÇO
A14: Unidade | B14: Tipo de Serviço | F14: Quantidade a contratar
A15: Postos | B15: Motorista Executivo I | F15: 1
A16: DADOS COMPLEMENTARES PARA CUSTOS REFERENTES À MÃO DE OBRA
A17: A | B17: Salário Normativo da categoria Profissional Vigente | F17: 3562.91
A18: B | B18: Salário-mínimo vigente | F18: 1412
A19: C | B19: Categoria profissional | F19: Motorista Executivo I
A20: D | B20: Data-base da categoria
A22: MÓDULO 1 - COMPOSIÇÃO DA REMUNERAÇÃO
A23: 1 | B23: Composição da Remuneração: | F23: % | G23: Valor (R$)
A24: A | B24: Salário Base | G24: 3562.91
A25: B | B25: Adicionais (especificar) | G25: =G24*F25 -> 0
A26: *Adicionais de horas extras e noturno extra em planilha à parte
A27: Valor Total da Remuneração: | G27: =SUM(G24:G26) -> 3562.91
A29: MÓDULO 2 - ENCARGOS SOCIAIS E TRABALHISTAS INCIDENTES SOBRE A REMUNERAÇÃO
A31: Grupo 2.1 | B31: Encargos Previdenciários e FGTS | F31: % | G31: Valor (R$)
A32: A | B32: INSS | F32: 0.2 | G32: =$G$27*F32 -> 712.582
A33: B | B33: SESI ou SESC | F33: 0.015 | G33: =$G$27*F33 -> 53.44365
A34: C | B34: SENAI ou SENAC | F34: 0.01 | G34: =$G$27*F34 -> 35.6291
A35: D | B35: INCRA | F35: 0.002 | G35: =$G$27*F35 -> 7.12582
A36: E | B36: Salário educação | F36: 0.025 | G36: =$G$27*F36 -> 89.07275
A37: F | B37: FGTS | F37: 0.08 | G37: =$G$27*F37 -> 285.0328
A38: G | B38: RAT (Risco Ambiental do Trabalho) x FAP (no máximo 2,00%) | F38: 0.005 | G38: =$G$27*F38 -> 17.81455
A39: H | B39: SEBRAE | F39: 0.006 | G39: =$G$27*F39 -> 21.37746
A40: Valor Total dos encargos previdenciários e FGTS: | F40: =SUM(F32:F39) -> 0.343 | G40: =SUM(G32:G39) -> 1222.0781
A42: Grupo 2.2 | B42: 13º Salário e Afastamentos | F42: % | G42: Valor (R$)
A43: A | B43: 13º Salário | F43: 0.08333 | G43: =SUM($G$27*F43) -> 296.89729
A44: B | B44: Férias | F44: 0.0833 | G44: =G27*F44 -> 296.7904
A45: C | B45: Adicional de férias (1/3) | F45: =1/3/12 -> 0.027777778 | G45: =SUM($G$27*F45) -> 98.969722
A46: D | B46: Aviso prévio trabalhado *(1) | F46: =7/30/12 -> 0.019444444 | G46: =(G27)*F46 -> 69.278806
...

Sheet VIII-Motorista II
A1: PLANILHA DE CUSTOS E FORMAÇÃO DE PREÇOS
A2: SERVIÇOS DE CHOFERAGEM COM 30% PERICULOSIDADE
A3: Razão Social:
A4: CNPJ: | E4: Pregão n°: 05/2024 | F4: Data:
A6: DISCRIMINAÇÃO DOS SERVIÇOS
A7: A | B7: Data de apresentação da proposta (dia/mês/ano) | F7: 45520
A8: B | B8: Município/UF | F8: Pouso Alegre-MG
A9: C | B9: Ano Acordo, Convenção ou Sentença Normativa em Dissídio Coletivo | F9: 24/04/2024 SINDICATO DOS TRABALHADORES EM TRANSPORTES RODOVIARIOS DE CARGAS EM GERAL DE POUSO ALEGRE E REGIAO, CNPJ n. 13.960.867/0001-30, neste ato representado(a) por seu Presidente, Sr(a). RICARDO FERNANDO MACHADO;
A10: D | B10: No. Registro acordo convenção coletiva | F10: MG001445/2024
A11: E | B11: Nº de meses de execução contratual | F11: 12 meses prorrogáveis até vigência decenal
A13: IDENTIFICAÇÃO DO SERVIÇO
A14: Unidade | B14: Tipo de Serviço | F14: Quantidade a contratar
A15: Postos | B15: Motorista Executivo II | F15: 1
A16: DADOS COMPLEMENTARES PARA CUSTOS REFERENTES À MÃO DE OBRA
A17: A | B17: Salário Normativo da categoria Profissional Vigente | F17: 3562.91
A18: B | B18: Salário-mínimo vigente | F18: 1412
A19: C | B19: Categoria profissional | F19: Motorista Executivo I
A20: D | B20: Data-base da categoria | F20: 01/01/2022
A22: MÓDULO 1 - COMPOSIÇÃO DA REMUNERAÇÃO
A23: 1 | B23: Composição da Remuneração: | F23: % | G23: Valor (R$)
A24: A | B24: Salário Base | G24: 3562.91
A25: B | B25: Adicional de periculosidade | F25: 0.3 | G25: =G24*F25 -> 1068.873
A26: *Adicionais de horas extras e noturno extra em planilha à parte
A27: Valor Total da Remuneração: | G27: =SUM(G24:G26) -> 4631.783
A29: MÓDULO 2 - ENCARGOS SOCIAIS E TRABALHISTAS INCIDENTES SOBRE A REMUNERAÇÃO
A31: Grupo 2.1 | B31: Encargos Previdenciários e FGTS | F31: % | G31: Valor (R$)
A32: A | B32: INSS | F32: 0.2 | G32: =$G$27*F32 -> 926.3566
A33: B | B33: SESI ou SESC | F33: 0.015 | G33: =$G$27*F33 -> 69.476745
A34: C | B34: SENAI ou SENAC | F34: 0.01 | G34: =$G$27*F34 -> 46.31783
A35: D | B35: INCRA | F35: 0.002 | G35: =$G$27*F35 -> 9.263566
A36: E | B36: Salário educação | F36: 0.025 | G36: =$G$27*F36 -> 115.79457
A37: F | B37: FGTS | F37: 0.08 | G37: =$G$27*F37 -> 370.54264
A38: G | B38: RAT (Risco Ambiental do Trabalho) x FAP (no máximo 2,00%) | F38: 0.005 | G38: =$G$27*F38 -> 23.158915
A39: H | B39: SEBRAE | F39: 0.006 | G39: =$G$27*F39 -> 27.790698
A40: Valor Total dos encargos previdenciários e FGTS: | F40: =SUM(F32:F39) -> 0.343 | G40: =SUM(G32:G39) -> 1588.7016
A42: Grupo 2.2 | B42: 13º Salário e Afastamentos | F42: % | G42: Valor (R$)
A43: A | B43: 13º Salário | F43: 0.08333 | G43: =SUM($G$27*F43) -> 385.96648
A44: B | B44: Férias | F44: 0.0833 | G44: =G27*F44 -> 385.82752
A45: C | B45: Adicional de férias (1/3) | F45: =1/3/12 -> 0.027777778 | G45: =SUM($G$27*F45) -> 128.66064
A46: D | B46: Aviso prévio trabalhado *(1) | F46: =7/30/12 -> 0.019444444 | G46: =(G27)*F46 -> 90.062447
...

Sheet UNIFORMES.EPIS
D3: CARGO | E3: QUANTIDADE | F3: DESCRITIVO | G3: VALOR UNITARIO | H3: VALOR ANUAL
D5: Assistente Administrativo | E5: 05- unidades | F5: Camiseta de malha fria com gola polo sem bolso (67% poliléster e 33% viscose) com logomarca da empresa. | G5: 35 | H5: =G5/12 -> 2.9166667 | J5: =H5*5 -> 14.583333
D7: Recepcionista | E7: 05- unidades | F7: Camiseta de malha fria com gola polo sem bolso (67% poliléster e 33% viscose) com logomarca da empresa. | G7: 35 | H7: =G7/12 -> 2.9166667 | J7: =H7*5 -> 14.583333
D9: Motorista Executivo | E9: 02 unidades | F9: Calça social, na cor preta, com bolsos na frente e atrás. | G9: 30 | H9: =G9/12 -> 2.5 | I9: =H9+H10+H11+H12+H13 -> 11.416667
E10: 02 unidades | F10: Camisa social de manga curta, com bolso, com silk da empresa. | G10: 30 | H10: =G10/12 -> 2.5
E11: 02 unidades | F11: Camisa social de manga longa, com bolso, com silk da empresa. | G11: 35 | H11: =G11/12 -> 2.9166667
E12: 02 unidades | F12: Gravata, na cor preta ou azul escuro. | G12: 10 | H12: =G12/12 -> 0.83333333
E13: 02 pares | F13: Sapato preto, tipo social. | G13: 32 | H13: =G13/12 -> 2.6666667
D15: Servente de Limpeza | E15: 02 - unidades | F15: Calça em Brim ou Oxford (botão e zíper), 100% algodão, 2 bolsos traseiros | G15: 32 | H15: =G15/12 -> 2.6666667 | I15: =H15+H16+H17+H18+H19 -> 13.166667 | J15: =I15*5 -> 65.833333
E16: 02 – unidades | F16: Camisa em tricoline com lycra, manga curta, botões com silk da empresa | G16: 28 | H16: =G16/12 -> 2.3333333
E17: 02 – unidades | F17: Camisa em tricoline com lycra, manga longa, botões comsilk da empresa. | G17: 28 | H17: =G17/12 -> 2.3333333
E18: 02 - pares | F18: Sapato de segurança em vaqueta com cadarço e solado PU | G18: 40 | H18: =G18/12 -> 3.3333333
E19: 02 unidades | F19: Calça masculina em tecido microfibra Oxford (cor a definir) | G19: 30 | H19: =G19/12 -> 2.5
D21: Copeiro | E21: 02 (duas) unidades | F21: Calça e/ou saia social preta (comprimento na altura do joelho, para saia), 100% poliéster | G21: 45 | H21: =G21/12 -> 3.75 | I21: =H21+H22+H23+H24+H25+H26+H27 -> 20.416667
E22: 02 (duas) unidades | F22: Blusa manga curta com gola colarinho, branca, em algodão ou poliéster | G22: 40 | H22: =G22/12 -> 3.3333333
E23: 02 (duas) | F23: Par de sapatos de couro macio, salto baixo, com solado emborrachado antiderrapante, preto | G23: 50 | H23: =G23/12 -> 4.1666667 | K23: =I21*2 -> 40.833333
E24: 02 (dois) pares | F24: Meia social, na cor branca | G24: 5 | H24: =G24/12 -> 0.41666667
E25: 04 (quatro) unidades | F25: Avental em gabardine, com amarração no pescoço e na cintura, branco | G25: 30 | H25: =G25/12 -> 2.5
E26: 04 (quatro) unidades | F26: Touca com aba e filó, preta, 100% poliéster | G26: 15 | H26: =G26/12 -> 1.25 | M26: =J5+I36 -> 16.416667
E27: 02 (duas) unidades | F27: Agasalho de inverno, em malha de lã, preto | G27: 60 | H27: =G27/12 -> 5
D30: Auxiliar de Manutenção Predial | E30: 02 - unidades | F30: Calça em Brim ou Oxford (botão e zíper), 100% algodão, 2 bolsos traseiros | G30: 30 | H30: =G30/12 -> 2.5 | I30: =H30+H31+H32+H33 -> 15
E31: 02 – unidades | F31: Camisa em tricoline com lycra, manga curta, botões ou camiseta/gola polo manga curta 100% algodão com silk da empresa. | G31: 50 | H31: =G31/12 -> 4.1666667
E32: 02 – unidades | F32: Camisa em tricoline com lycra, manga longa, botões ou camiseta/gola polo manga longa 100% algodão com silk da empresa. | G32: 50 | H32: =G32/12 -> 4.1666667
E33: 02 - pares | F33: Sapato de segurança em vaqueta com cadarço e solado PU. | G33: 50 | H33: =G33/12 -> 4.1666667
D36: Para todos os postos | E36: 01 - unidade | F36: Livro para registro de ocorrências que deverá ser preenchido pelos próprios funcionários, sob orientação da CONTRATADA. | G36: 20 | H36: =G36/12 -> 1.6666667 | I36: =H36+H37 -> 1.8333333
E37: 01 - unidade Para cada colaborador | F37: Crachá para identificação da empresa e dos funcionários, em material PVC 0,76 mm, com impressão digital e laminado | G37: 2 | H37: =G37/12 -> 0.16666667 | K37: =I36/23 -> 0.079710145
K40: 0.08
