Workbook
Name margem: Cronograma_ff!#REF!
Name margem: #REF!
Name margem: 'PLANILHA de preço'!#REF!
Name margem: 'PLANILHA de preço (2)'!#REF!
Name margem: #REF!
Name TOTAL: Cronograma_ff!#REF!

Sheet PLANILHA de preço (2)
A2: PLANILHA DE REFERÊNCIA (anexo do relatório de pesquisa de preços)
A3: OBRA: | B3: Construção de galpão com muro, piso e cobertura metalica para deposito de materiais.
A4: LOCAL: | B4: Sede Saae, Unaí-MG
A5: DATA: | B5: 45971
A6: Referencia: | C6: Seinfa 06/2025 - Sinap 09/2025 | D6: RECURSO: | F6: Proprio | G6: BDI 1: | H6: =DBI!K6 -> 0.2965 | I6: MEMORIA DE CALCULO
A7: ITEM | B7: Código | C7: DESCRIÇÃO DOS SERVIÇOS | D7: UNID | E7: QTDE | F7: UNIT. | G7: UNIT. + BDI | H7: TOTAL
C8: MURO DE FECHAMENTO - FRENTE E FUNDO E LATERAIS- L=66,00M - H=3,15M | H8: =H9+H15+H23+H28+H33+H38+H45+H54+H58+H62 -> 537972.02
A9: 1. | C9: SERVIÇO PRELIMINAR / ADMINISTRAÇÃO | H9: =SUM(H10:H14) -> 23036.45
A10: 1.1 | B10: ED-28427 | C10: FORNECIMENTO E COLOCAÇÃO DE PLACA DE OBRA EM CHAPA GALVANIZADA #26, ESP. 0,45MM, DIMENSÃO (3X1,5) M, PLOTADA COM ADESIVO VINÍLICO, AFIXADA COM REBITES 4, 8X40MM, EM ESTRUTURA METÁLICA DE METALON 20X20MM, ESP. 1, 25MM, INCLUSIVE SUPORTE EM EUCALIPTO AUTOCLAVADO PINTADO COM TINTA PVA DUAS (2) DEMÃOS | D10: Und. | E10: 1 | F10: 1130.67 | G10: =ROUND(F10*(1+H$6),2) -> 1465.91 | H10: =ROUND(G10*E10,2) -> 1465.91 | I10: 0
A11: 1.2 | B11: ED-16355 | C11: LOCAÇÃO DE CONTAINER COM ISOLAMENTO TÉRMICO, TIPO 8, PARA VESTIÁRIO DE OBRA COM OITO (8) BANCOS E CINCO( 5) ARMÁRIOS, COM MEDIDAS REFERENCIAIS DE (6) METROS COMPRIMENTO,( 2,3)METROS LARGURA E (2,5) METROS ALTURA ÚTIL INTERNA, INCLUSIVE LIGAÇÕES ELÉTRICAS INTERNAS, EXCLUSIVE MOBILIZAÇÃO/DESMOBILIZAÇÃO E LIGAÇÕES PROVISÓRIAS EXTERNAS | D11: MÊS | E11: 3 | F11: 1021.74 | G11: =ROUND(F11*(1+H$6),2) -> 1324.69 | H11: =ROUND(G11*E11,2) -> 3974.07 | I11: 1
A12: 1.3 | B12: ED-50137 | C12: MOBILIZAÇÃO E DESMOBILIZAÇÃO DE CONTAINER, INCLUSIVE CARGA, DESCARGA E TRANSPORTE EM CAMINHÃO CARROCERIA COM GUINDAUTO (MUNCK), EXCLUSIVE LOCAÇÃO DO CONTAINER | D12: Unid. | E12: 1 | F12: 1634.06 | G12: =ROUND(F12*(1+H$6),2) -> 2118.56 | H12: =ROUND(G12*E12,2) -> 2118.56
A13: 1.4 | B13: ED-21776 | C13: ENCARREGADO GERAL DE OBRAS COM ENCARGOS COMPLEMENTARES | D13: MÊS | E13: 1 | F13: 10757.65 | G13: =ROUND(F13*(1+H$6),2) -> 13947.29 | H13: =ROUND(G13*E13,2) -> 13947.29 | I13: Minima 2 horas diárias
A14: 1.5 | B14: ED-50274 | C14: LOCAÇÃO TOPOGRÁFICA PARA ATÉ VINTE (20) PONTOS REFERENCIAIS, INCLUSIVE ESTACA (PIQUETE) DE MARCAÇÃO | D14: UN | E14: 14 | F14: 84.33 | G14: =ROUND(F14*(1+H$6),2) -> 109.33 | H14: =ROUND(G14*E14,2) -> 1530.62
A15: 2. | C15: REDE DE DRENAGEM | H15: =SUM(H16:H22) -> 0
A16: 2.1 | B16: 90099 | C16: ESCAVAÇÃO MECANIZADA DE VALA COM PROF. ATÉ 1,5 M (MÉDIA MONTANTE E JUSANTE /UMA COMPOSIÇÃO POR TRECHO), RETROESCAV. (0,26 M3), LARG. MENOR QUE 0,8 M,EM SOLO DE 1A CATEGORIA, EM LOCAIS COM ALTO NÍVEL DE INTERFERÊNCIA. AF_02/2021 | D16: M³ | E16: =31.22*0.8*1.2 -> 29.9712 | F16: 15.94 | G16: 0 | H16: =ROUND(G16*E16,2) -> 0 | I16: Projeto
A17: 2.2 | B17: 97957 | C17: CAIXA PARA BOCA DE LOBO DUPLA RETANGULAR, EM ALVENARIA COM BLOCOS DE CONCRETO, DIMENSÕES INTERNAS: 0,6X2,2X1,2 M. AF_12/2020 | D17: UND. | E17: 2 | F17: 2848.95 | G17: 0 | H17: =ROUND(G17*E17,2) -> 0 | I17: 2
A18: 2.3 | B18: 101616 | C18: PREPARO DE FUNDO DE VALA COM LARGURA MENOR QUE 1,5 M (ACERTO DO SOLO NATURAL). AF_08/2020 | D18: M² | E18: =31.22*0.8 -> 24.976 | F18: 6.38 | G18: 0 | H18: =ROUND(G18*E18,2) -> 0 | I18: Projeto
A19: 2.4 | B19: 92219 | C19: TUBO DE CONCRETO PARA REDES COLETORAS DE ÁGUAS PLUVIAIS, DIÂMETRO DE 400 MM, JUNTA RÍGIDA, INSTALADO EM LOCAL COM ALTO NÍVEL DE INTERFERÊNCIAS - FORNECIMENTO E ASSENTAMENTO. AF_03/2024 | D19: M | E19: 31.22 | F19: 162.45 | G19: 0 | H19: =ROUND(G19*E19,2) -> 0 | I19: Projeto
A20: 2.4a | B20: 92221 | C20: TUBO DE CONCRETO PARA REDES COLETORAS DE ÁGUAS PLUVIAIS, DIÂMETRO DE 600 MM, JUNTA RÍGIDA, INSTALADO EM LOCAL COM ALTO NÍVEL DE INTERFERÊNCIAS - FORNECIMENTO E ASSENTAMENTO. AF_03/2024 | D20: M | E20: 0 | F20: 301.55 | G20: 0 | H20: =ROUND(G20*E20,2) -> 0 | I20: Projeto
A21: 2.5 | B21: 93382 | C21: REATERRO MANUAL DE VALAS COM COMPACTAÇÃO MECANIZADA A 95% PROCTOR NORMAL AF_04/2016 | D21: M³ | E21: =(35*0.8*1.6)-(31.22*0.2*0.2*31.14) -> 5.912368 | F21: 26.52 | G21: 0 | H21: =ROUND(G21*E21,2) -> 0 | I21: 35*0,8*0,6
A22: 2.6 | B22: 101768 | C22: CONSTRUÇÃO DE BASE E SUB-BASE PARA PAVIMENTAÇÃO DE SOLO ESTABILIZADO GRANULOMETRICAMENTE SEM MISTURA DE SOLOS - EXCLUSIVE SOLO, ESCAVAÇÃO, CARGA E TRANSPORTE. AF_09/2024 | D22: M³ | E22: =31.22*0.8*0.15 -> 3.7464 | F22: 25.78 | G22: 0 | H22: =ROUND(G22*E22,2) -> 0 | I22: 35*0,8*0,15
A23: 3 | C23: DEMOLIÇÃO DE RESERVATÓRIO | H23: =SUM(H24:H27) -> 63296.49
A24: 3.1 | B24: ED-48436 | C24: DEMOLIÇÃO MANUAL DE ALVENARIA DE TIJOLO CERÂMICO MACIÇO, INCLUSIVE AFASTAMENTO E EMPILHAMENTO, EXCLUSIVE TRANSPORTE E RETIRADA DO MATERIAL DEMOLIDO | D24: M³ | E24: =(4.8*4.8*3.14*11.7)-(4.4*4.4*3.14*11.7) -> 135.19584 | F24: 158.67 | G24: =ROUND(F24*(1+H$6),2) -> 205.72 | H24: =ROUND(G24*E24,2) -> 27812.49 | I24: =ROUND(H24*E24,2) -> 3760133
A25: 3.2 | B25: ED-48443 | C25: DEMOLIÇÃO MECANIZADA DE CONCRETO ARMADO, COM EQUIPAMENTO ELÉTRICO, INCLUSIVE AFASTAMENTO E EMPILHAMENTO, EXCLUSIVE TRANSPORTE E RETIRADA DO MATERIAL DEMOLIDO | D25: M³ | E25: =(0.4*0.4*6*11.7)+(4.8*4.8*3.14*3*0.2)+(4.5*3.5*0.15) -> 57.00186 | F25: 261.92 | G25: =ROUND(F25*(1+H$6),2) -> 339.58 | H25: =ROUND(G25*E25,2) -> 19356.69 | I25: =ROUND(H25*E25,2) -> 1103367.3
A26: 3.3 | B26: 100981 | C26: CARGA, MANOBRA E DESCARGA DE ENTULHO EM CAMINHÃO BASCULANTE 6 M³ - CARGA COM ESCAVADEIRA HIDRÁULICA (CAÇAMBA DE 0,80 M³ / 111 HP) E DESCARGA LIVRE (UNIDADE: M3). AF_07/2020 | D26: M³ | E26: =E25+E24 -> 192.1977 | F26: 9.57 | G26: =ROUND(F26*(1+H$6),2) -> 12.41 | H26: =ROUND(G26*E26,2) -> 2385.17 | I26: =ROUND(H26*E26,2) -> 458424.19
A27: 3.4 | B27: 95875 | C27: TRANSPORTE COM CAMINHÃO BASCULANTE DE 10 M³, EM VIA URBANA PAVIMENTADA, DMT ATÉ 30 KM (UNIDADE: M3XKM). AF_07/2020 | D27: M3XKM | E27: =E26*22 -> 4228.3494 | F27: 2.51 | G27: =ROUND(F27*(1+H$6),2) -> 3.25 | H27: =ROUND(G27*E27,2) -> 13742.14 | I27: =ROUND(H27*E27,2) -> 58106569
A28: 4. | C28: RETIRADA DE TELA | H28: =SUM(H29:H32) -> 28226.68
A29: 4.1 | B29: ED-48444 | C29: DEMOLIÇÃO MECANIZADA DE CONCRETO, SEM ARMAÇÃO, COM EQUIPAMENTO PNEUMÁTICO, INCLUSIVE AFASTAMENTO E EMPILHAMENTO, EXCLUSIVE TRANSPORTE E RETIRADA DO MATERIAL DEMOLIDO | D29: M³ | E29: =31.22+31.22+10+10*0.4*0.15 -> 73.04 | F29: 213.91 | G29: =ROUND(F29*(1+H$6),2) -> 277.33 | H29: =ROUND(G29*E29,2) -> 20256.18
A30: 4.2 | B30: ED-48439 | C30: REMOÇÃO MANUAL DE CERCA, COM REAPROVEITAMENTO, INCLUSIVE AFASTAMENTO E EMPILHAMENTO, EXCLUSIVE TRANSPORTE E RETIRADA DO MATERIAL REMOVIDO NÃO REAPROVEITÁVEL | D30: M² | E30: =31.22+31.22+10+10 -> 82.44 | F30: 17.23 | G30: =ROUND(F30*(1+H$6),2) -> 22.34 | H30: =ROUND(G30*E30,2) -> 1841.71
A31: 4.3 | B31: 100981 | C31: CARGA, MANOBRA E DESCARGA DE ENTULHO EM CAMINHÃO BASCULANTE 6 M³ - CARGA COM ESCAVADEIRA HIDRÁULICA (CAÇAMBA DE 0,80 M³ / 111 HP) E DESCARGA LIVRE (UNIDADE: M3). AF_07/2020 | D31: M³ | E31: =E29 -> 73.04 | F31: 9.57 | G31: =ROUND(F31*(1+H$6),2) -> 12.41 | H31: =ROUND(G31*E31,2) -> 906.43
A32: 4.4 | B32: 95875 | C32: TRANSPORTE COM CAMINHÃO BASCULANTE DE 10 M³, EM VIA URBANA PAVIMENTADA, DMT ATÉ 30 KM (UNIDADE: M3XKM). AF_07/2020 | D32: M3XKM | E32: =E31*22 -> 1606.88 | F32: 2.51 | G32: =ROUND(F32*(1+H$6),2) -> 3.25 | H32: =ROUND(G32*E32,2) -> 5222.36
A33: 5. | C33: FUNDAÇÕES | H33: =SUM(H34:H37) -> 48880.71
A34: 5.1 | B34: 101176 | C34: ESTACA BROCA DE CONCRETO, DIÂMETRO DE 30CM, ESCAVAÇÃO MANUAL COM TRADO CONCHA, INTEIRAMENTE ARMADA. AF_05/2020_PA | D34: m | E34: =14*1.8 -> 25.2 | F34: 147.4 | G34: =ROUND(F34*(1+H$6),2) -> 191.1 | H34: =ROUND(G34*E34,2) -> 4815.72 | I34: Projeto
A35: 5.2 | B35: 96555 | C35: CONCRETAGEM DE BLOCO DE COROAMENTO OU VIGA BALDRAME, FCK 30 MPA, COM USO DE JERICA - LANÇAMENTO, ADENSAMENTO E ACABAMENTO. AF_01/2024 | D35: m³ | E35: =((E34*0.2*0.2*3.14)+(0.5*0.5*0.5*14)+((31.2+31.22+10+6)*0.3*0.15)) -> 8.44402 | F35: 790.4 | G35: =ROUND(F35*(1+H$6),2) -> 1024.75 | H35: =ROUND(G35*E35,2) -> 8653.01 | I35: ((I32*0,2*0,2*3,14)+(0,5*0,5*0,5*14)+((31,2+31,22+10+6)*0,3*0,15))
A36: 5.3 | B36: ED-48298 | C36: CORTE, DOBRA E MONTAGEM DE AÇO CA-50/60, INCLUSIVE ESPAÇADOR | D36: kg | E36: 678 | F36: 13.67 | G36: =ROUND(F36*(1+H$6),2) -> 17.72 | H36: =ROUND(G36*E36,2) -> 12014.16 | I36: Projeto
A37: 5.4 | B37: 92263 | C37: FABRICAÇÃO DE FÔRMA PARA PILARES E ESTRUTURAS SIMILARES, EM CHAPA DE MADEIRA COMPENSADA RESINADA, E = 17 MM. AF_09/2020 | D37: m² | E37: =(0.5*0.5*4*14)+((31.22+31.22+10+6)*0.3*2*2) -> 108.128 | F37: 166.9 | G37: =ROUND(F37*(1+H$6),2) -> 216.39 | H37: =ROUND(G37*E37,2) -> 23397.82 | I37: 0,5*0,5*4*14
A38: 6. | C38: PAREDES | H38: =SUM(H39:H44) -> 63179.49
A39: 6.1 | B39: 103324 | C39: ALVENARIA DE VEDAÇÃO DE BLOCOS CERÂMICOS FURADOS NA VERTICAL DE 14X19X39 CM (ESPESSURA 14 CM) E ARGAMASSA DE ASSENTAMENTO COM PREPARO EM BETONEIRA. AF_12/2021 | D39: m² | E39: =(31.22+31.22+10+6)*3 -> 235.32 | F39: 79.54 | G39: =ROUND(F39*(1+H$6),2) -> 103.12 | H39: =ROUND(G39*E39,2) -> 24266.2 | I39: (31,22+31,22+10+6)*3
A40: 6.2 | B40: 98557 | C40: IMPERMEABILIZAÇÃO DE SUPERFÍCIE COM EMULSÃO ASFÁLTICA, 2 DEMÃOS. AF_09/2023 | D40: m² | E40: =(31.22+31.22+10+6)*0.5 -> 39.22 | F40: 39.63 | G40: =ROUND(F40*(1+H$6),2) -> 51.38 | H40: =ROUND(G40*E40,2) -> 2015.12 | I40: (31,22+31,22+10+6)*0,5
A41: 6.3 | B41: 87879 | C41: CHAPISCO APLICADO EM ALVENARIAS E ESTRUTURAS DE CONCRETO INTERNAS, COM COLHER DE PEDREIRO. ARGAMASSA TRAÇO 1:3 COM PREPARO EM BETONEIRA 400L. AF_10/2022 | D41: m² | E41: =E39*2 -> 470.64 | F41: 4.68 | G41: =ROUND(F41*(1+H$6),2) -> 6.07 | H41: =ROUND(G41*E41,2) -> 2856.78 | I41: (31,22+31,22+10+6)*3*2
...

Sheet PLANILHA de preço
A2: PLANILHA DE REFERÊNCIA (anexo do relatório de pesquisa de preços)
A3: OBRA: | B3: Demolição de reservatório e construção de galpão com muro, piso e cobertura metálica para deposito de materiais
A4: LOCAL: | B4: Rua Júlia Lara, em freta a Sede Saae, Unaí-MG
A5: DATA: | B5: 45978
A6: Referencia: | C6: Seinfa 07/2025 - Sinap 09/2025 | D6: RECURSO: | F6: Proprio | G6: BDI: | H6: =DBI!K6 -> 0.2965 | I6: MEMORIA DE CALCULO
A7: ITEM | B7: Código | C7: DESCRIÇÃO DOS SERVIÇOS | D7: UNID | E7: QTDE | F7: UNIT. | G7: UNIT. + BDI | H7: TOTAL
C8: MURO DE FECHAMENTO - FRENTE E FUNDO E LATERAIS- L=66,00M - H=3,15M | H8: =H9+H15+H20+H31+H42+H46+H49+H51 -> 576921.54
A9: 1. | C9: SERVIÇO PRELIMINAR / ADMINISTRAÇÃO | H9: =SUM(H10:H14) -> 29135.46
A10: 1.1 | B10: ED-28427 | C10: FORNECIMENTO E COLOCAÇÃO DE PLACA DE OBRA EM CHAPA GALVANIZADA #26, ESP. 0,45MM, DIMENSÃO (3X1,5) M, PLOTADA COM ADESIVO VINÍLICO, AFIXADA COM REBITES 4, 8X40MM, EM ESTRUTURA METÁLICA DE METALON 20X20MM, ESP. 1, 25MM, INCLUSIVE SUPORTE EM EUCALIPTO AUTOCLAVADO PINTADO COM TINTA PVA DUAS (2) DEMÃOS | D10: Und. | E10: 1 | F10: 1130.67 | G10: =ROUND(F10*(1+H$6),2) -> 1465.91 | H10: =ROUND(G10*E10,2) -> 1465.91 | I10: 1
A11: 1.2 | B11: ED-16355 | C11: LOCAÇÃO DE CONTAINER COM ISOLAMENTO TÉRMICO, TIPO 8, PARA VESTIÁRIO DE OBRA COM OITO (8) BANCOS E CINCO( 5) ARMÁRIOS, COM MEDIDAS REFERENCIAIS DE (6) METROS COMPRIMENTO,( 2,3)METROS LARGURA E (2,5) METROS ALTURA ÚTIL INTERNA, INCLUSIVE LIGAÇÕES ELÉTRICAS INTERNAS, EXCLUSIVE MOBILIZAÇÃO/DESMOBILIZAÇÃO E LIGAÇÕES PROVISÓRIAS EXTERNAS | D11: MÊS | E11: 3 | F11: 1021.74 | G11: =ROUND(F11*(1+H$6),2) -> 1324.69 | H11: =ROUND(G11*E11,2) -> 3974.07 | I11: 3
A12: 1.3 | B12: ED-50137 | C12: MOBILIZAÇÃO E DESMOBILIZAÇÃO DE CONTAINER, INCLUSIVE CARGA, DESCARGA E TRANSPORTE EM CAMINHÃO CARROCERIA COM GUINDAUTO (MUNCK), EXCLUSIVE LOCAÇÃO DO CONTAINER | D12: Unid. | E12: 1 | F12: 1634.06 | G12: =ROUND(F12*(1+H$6),2) -> 2118.56 | H12: =ROUND(G12*E12,2) -> 2118.56 | I12: 1
A13: 1.4 | B13: ED-21776 | C13: ENCARREGADO GERAL DE OBRAS COM ENCARGOS COMPLEMENTARES | D13: MÊS | E13: 1.5 | F13: 10757.65 | G13: =ROUND(F13*(1+H$6),2) -> 13947.29 | H13: =ROUND(G13*E13,2) -> 20920.94 | I13: Minima 4 horas diárias
A14: 1.5 | B14: ED-50274 | C14: LOCAÇÃO TOPOGRÁFICA PARA ATÉ VINTE (20) PONTOS REFERENCIAIS, INCLUSIVE ESTACA (PIQUETE) DE MARCAÇÃO | D14: Unid. | E14: 6 | F14: 84.33 | G14: =ROUND(F14*(1+H$6),2) -> 109.33 | H14: =ROUND(G14*E14,2) -> 655.98 | I14: 6
A15: 2. | C15: DEMOLIÇÃO DE RESERVATÓRIO | H15: =SUM(H16:H19) -> 56425.42
A16: 2.1 | B16: ED-48436 | C16: DEMOLIÇÃO MANUAL DE ALVENARIA DE TIJOLO CERÂMICO MACIÇO, INCLUSIVE AFASTAMENTO E EMPILHAMENTO, EXCLUSIVE TRANSPORTE E RETIRADA DO MATERIAL DEMOLIDO | D16: M³ | E16: =(4.8*4.8*3.14*11.7)-(4.4*4.4*3.14*11.7) -> 135.19584 | F16: 158.67 | G16: =ROUND(F16*(1+H$6),2) -> 205.72 | H16: =ROUND(G16*E16,2) -> 27812.49 | I16: (4,8*4,8*3,14*11,7)-(4,4*4,4*3,14*11,7)
A17: 2.2 | B17: ED-48443 | C17: DEMOLIÇÃO MECANIZADA DE CONCRETO ARMADO, COM EQUIPAMENTO ELÉTRICO, INCLUSIVE AFASTAMENTO E EMPILHAMENTO, EXCLUSIVE TRANSPORTE E RETIRADA DO MATERIAL DEMOLIDO | D17: M³ | E17: =(0.4*0.4*6*11.7)+(4.8*4.8*3.14*3*0.2)+(4.5*3.5*0.15) -> 57.00186 | F17: 261.92 | G17: =ROUND(F17*(1+H$6),2) -> 339.58 | H17: =ROUND(G17*E17,2) -> 19356.69 | I17: (0,4*0,4*6*11,7)+(4,8*4,8*3,14*3*0,2)+(4,5*3,5*0,15)
A18: 2.3 | B18: 100981 | C18: CARGA, MANOBRA E DESCARGA DE ENTULHO EM CAMINHÃO BASCULANTE 6 M³ - CARGA COM ESCAVADEIRA HIDRÁULICA (CAÇAMBA DE 0,80 M³ / 111 HP) E DESCARGA LIVRE (UNIDADE: M3). AF_07/2020 | D18: M³ | E18: =E17+E16 -> 192.1977 | F18: 9.57 | G18: =ROUND(F18*(1+H$6),2) -> 12.41 | H18: =ROUND(G18*E18,2) -> 2385.17 | I18: (4,8*4,8*3,14*11,7)-(4,4*4,4*3,14*11,7)+(0,4*0,4*6*11,7)+(4,8*4,8*3,14*3*0,2)+(4,5*3,5*0,15)
A19: 2.4 | B19: 95875 | C19: TRANSPORTE COM CAMINHÃO BASCULANTE DE 10 M³, EM VIA URBANA PAVIMENTADA, DMT ATÉ 30 KM (UNIDADE: M3XKM). AF_07/2020 | D19: M3XKM | E19: =E18*11 -> 2114.1747 | F19: 2.51 | G19: =ROUND(F19*(1+H$6),2) -> 3.25 | H19: =ROUND(G19*E19,2) -> 6871.07 | I19: ((4,8*4,8*3,14*11,7)-(4,4*4,4*3,14*11,7)+(0,4*0,4*6*11,7)+(4,8*4,8*3,14*3*0,2)+(4,5*3,5*0,15))*11
A20: 3. | C20: FUNDAÇÕES E FECHAMENTO DE ALVENARIA | H20: =SUM(H21:H30) -> 97505.95
A21: 3.1 | B21: 101176 | C21: ESTACA BROCA DE CONCRETO, DIÂMETRO DE 30CM, ESCAVAÇÃO MANUAL COM TRADO CONCHA, INTEIRAMENTE ARMADA. AF_05/2020_PA | D21: M | E21: =25*1.8 -> 45 | F21: 147.4 | G21: =ROUND(F21*(1+H$6),2) -> 191.1 | H21: =ROUND(G21*E21,2) -> 8599.5 | I21: 25*1,8
A22: 3.2 | B22: 96555 | C22: CONCRETAGEM DE BLOCO DE COROAMENTO OU VIGA BALDRAME, FCK 30 MPA, COM USO DE JERICA - LANÇAMENTO, ADENSAMENTO E ACABAMENTO. AF_01/2024 | D22: M³ | E22: =((E21*0.2*0.2*3.14)+(0.5*0.5*0.5*25)+((31.2+31.22+31.3122+10+10+10+6)*0.3*0.15))+(11*3.2*0.3*0.15) -> 16.198949 | F22: 790.4 | G22: =ROUND(F22*(1+H$6),2) -> 1024.75 | H22: =ROUND(G22*E22,2) -> 16599.87 | I22: ((25*1,8*0,2*0,2*3,14)+(0,5*0,5*0,5*25)+((31,2+31,22+31,3122+10+10+10+6)*0,3*0,15))+(11*3,2*0,3*0,15)
A23: 3.3 | B23: ED-48298 | C23: CORTE, DOBRA E MONTAGEM DE AÇO CA-50/60, INCLUSIVE ESPAÇADOR | D23: KG | E23: 753.62 | F23: 13.67 | G23: =ROUND(F23*(1+H$6),2) -> 17.72 | H23: =ROUND(G23*E23,2) -> 13354.15 | I23: Projeto
A24: 3.4 | B24: RO-5959 | C24: FÔRMAS DE TÁBUAS DE PINUS - UTILIZAÇÃO DE 2 VEZES - CONFECÇÃO, INSTALAÇÃO E RETIRADA | D24: M² | E24: =((0.5*0.5*4*25)+((31.22+10+10)*0.6))+((31.22+31.22+10+6)*0.6)+(11*3.2*0.6) -> 123.916 | F24: 105.01 | G24: =ROUND(F24*(1+H$6),2) -> 136.15 | H24: =ROUND(G24*E24,2) -> 16871.16 | I24: ((0,5*0,5*4*25)+((31,22+10+10)*0,6))+((31,22+31,22+10+6)*0,6)+(11*3,2*0,6)
A25: 3.5 | B25: 103324 | C25: ALVENARIA DE VEDAÇÃO DE BLOCOS CERÂMICOS FURADOS NA VERTICAL DE 14X19X39 CM (ESPESSURA 14 CM) E ARGAMASSA DE ASSENTAMENTO COM PREPARO EM BETONEIRA. AF_12/2021 | D25: M² | E25: =((31.22+10+6)*3)+(31.22*0.4) -> 154.148 | F25: 79.54 | G25: =ROUND(F25*(1+H$6),2) -> 103.12 | H25: =ROUND(G25*E25,2) -> 15895.74 | I25: ((31,22+10+6)*3) + (31,22*0,4)
A26: 3.6 | B26: 98557 | C26: IMPERMEABILIZAÇÃO DE SUPERFÍCIE COM EMULSÃO ASFÁLTICA, 2 DEMÃOS. AF_09/2023 | D26: M² | E26: =(31.22+31.22+10+6)*0.5 -> 39.22 | F26: 39.63 | G26: =ROUND(F26*(1+H$6),2) -> 51.38 | H26: =ROUND(G26*E26,2) -> 2015.12 | I26: (31,22+31,22+10+6)*0,5
A27: 3.7 | B27: 87879 | C27: CHAPISCO APLICADO EM ALVENARIAS E ESTRUTURAS DE CONCRETO INTERNAS, COM COLHER DE PEDREIRO. ARGAMASSA TRAÇO 1:3 COM PREPARO EM BETONEIRA 400L. AF_10/2022 | D27: M² | E27: =E25*2 -> 308.296 | F27: 4.68 | G27: =ROUND(F27*(1+H$6),2) -> 6.07 | H27: =ROUND(G27*E27,2) -> 1871.36 | I27: (31,22+31,22+10+6)*3*2
A28: 3.8 | B28: 104233 | C28: EMBOÇO OU MASSA ÚNICA EM ARGAMASSA TRAÇO 1:2:8, PREPARO MECÂNICA COM BETONEIRA 400 L, APLICADA MANUALMENTE EM PANOS DE FACHADA SEM PRESENÇA DE VÃOS, ESPESSURA DE 25 MM, ACESSO POR ANDAIME. AF_08/2022 | D28: M² | E28: =E27 -> 308.296 | F28: 40.31 | G28: =ROUND(F28*(1+H$6),2) -> 52.26 | H28: =ROUND(G28*E28,2) -> 16111.55 | I28: =I27 -> (31,22+31,22+10+6)*3*2
A29: 3.9 | B29: 88485 | C29: FUNDO SELADOR ACRÍLICO, APLICAÇÃO MANUAL EM PAREDE, UMA DEMÃO. AF_04/2023 | D29: M² | E29: =E28 -> 308.296 | F29: 4.47 | G29: =ROUND(F29*(1+H$6),2) -> 5.8 | H29: =ROUND(G29*E29,2) -> 1788.12 | I29: =I27 -> (31,22+31,22+10+6)*3*2
A30: 3.10 | B30: 104642 | C30: PINTURA LÁTEX ACRÍLICA STANDARD, APLICAÇÃO MANUAL EM PAREDES, DUAS DEMÃOS. AF_04/2023 | D30: M² | E30: =E29 -> 308.296 | F30: 11.01 | G30: =ROUND(F30*(1+H$6),2) -> 14.27 | H30: =ROUND(G30*E30,2) -> 4399.38 | I30: =I27 -> (31,22+31,22+10+6)*3*2
A31: 4. | C31: COBERTURA | H31: =SUM(H32:H41) -> 227898.51
A32: 4.1 | B32: ED-20577 | C32: FORNECIMENTO DE ESTRUTURA METÁLICA E ENGRADAMENTO METÁLICO PARA TELHADO DE QUADRA POLIESPORTIVA EM AÇO, COBERTURA PADRÃO DO GINÁSIO POLIESPORTIVO, EXCLUSIVE TELHA, INCLUSIVE PILAR METÁLICO, FABRICAÇÃO, TRANSPORTE, MONTAGEM, APLICAÇÃO DE FUNDO PREPARADOR ANTICORROSIVO, UMA (1) DEMÃO E PINTURA ESMALTE, DUAS (2) DEMÃOS | D32: M² | E32: =31.22*10 -> 312.2 | F32: 368.36 | G32: =ROUND(F32*(1+H$6),2) -> 477.58 | H32: =ROUND(G32*E32,2) -> 149100.48 | I32: 31,22*10
A33: 4.2 | B33: 92580 | C33: TRAMA DE AÇO COMPOSTA POR TERÇAS PARA TELHADOS DE ATÉ 2 ÁGUAS PARA TELHA ONDULADA DE FIBROCIMENTO, METÁLICA, PLÁSTICA OU TERMOACÚSTICA, INCLUSO TRANSPORTE VERTICAL. AF_07/2019 | D33: M² | E33: =E35 -> 274.1 | F33: 47.14 | G33: =ROUND(F33*(1+H$6),2) -> 61.12 | H33: =ROUND(G33*E33,2) -> 16752.99 | I33: =I35 -> ((31,22+31,22+10+10)*2,5)+(17*4)
A34: 4.3 | B34: 94213 | C34: TELHAMENTO COM TELHA DE AÇO/ALUMÍNIO E = 0,5 MM, COM ATÉ 2 ÁGUAS pré-pintada, INCLUSO IÇAMENTO. AF_06/2016 | D34: M² | E34: =E32-E36 -> 301.2 | F34: 54.61 | G34: =ROUND(F34*(1+H$6),2) -> 70.8 | H34: =ROUND(G34*E34,2) -> 21324.96 | I34: (31,22*10)-(5*1,1*2)
A35: 4.4 | B35: 94213 | C35: TELHAMENTO COM TELHA DE AÇO/ALUMÍNIO E = 0,5 MM, COM ATÉ 2 ÁGUAS pré-pintada, INCLUSO IÇAMENTO. AF_06/2016 - (FECHAMENTOS LATERAIS) | D35: M² | E35: =((31.22+31.22+10+10)*2.5)+(17*4) -> 274.1 | F35: =F34 -> 54.61 | G35: =ROUND(F35*(1+H$6),2) -> 70.8 | H35: =ROUND(G35*E35,2) -> 19406.28 | I35: ((31,22+31,22+10+10)*2,5)+(17*4)
A36: 4.5 | B36: 94449 | C36: TELHAMENTO COM TELHA ONDULADA DE FIBRA DE VIDRO E = 0,6 MM, PARA TELHADO COM INCLINAÇÃO MAIOR QUE 10°, COM ATÉ 2 ÁGUAS, INCLUSO IÇAMENTO. AF_06/2016 | D36: M² | E36: =5*1.1*2 -> 11 | F36: 71.46 | G36: =ROUND(F36*(1+H$6),2) -> 92.65 | H36: =ROUND(G36*E36,2) -> 1019.15 | I36: 5*1,1*2
A37: 4.6 | B37: 94451 | C37: CUMEEIRA PARA TELHA DE FIBROCIMENTO ESTRUTURAL E = 6 MM, INCLUSO ACESSÓRIOS DE FIXAÇÃO E IÇAMENTO. AF_07/2019 | D37: M² | E37: 31.22 | F37: 77.76 | G37: =ROUND(F37*(1+H$6),2) -> 100.82 | H37: =ROUND(G37*E37,2) -> 3147.6 | I37: 31.22
A38: 4.7 | B38: 94228 | C38: CALHA EM CHAPA DE AÇO GALVANIZADO NÚMERO 24, DESENVOLVIMENTO DE 50 CM, INCLUSO TRANSPORTE VERTICAL. AF_06/2016 | D38: M | E38: =31.2+31.22+8 -> 70.42 | F38: 95.66 | G38: =ROUND(F38*(1+H$6),2) -> 124.02 | H38: =ROUND(G38*E38,2) -> 8733.49 | I38: 31,2+31,22+8
A39: 4.8 | B39: 94231 | C39: RUFO EM CHAPA DE AÇO GALVANIZADO NÚMERO 24, CORTE DE 25 CM, INCLUSO TRANSPORTE VERTICAL. AF_07/2019 | D39: M | E39: =(31.22+10+10+ 31.22) -> 82.44 | F39: 55.5 | G39: =ROUND(F39*(1+H$6),2) -> 71.96 | H39: =ROUND(G39*E39,2) -> 5932.38 | I39: (31,22+10+10+ 31,22)
A40: 4.9 | B40: 89580 | C40: Tubo de queda - Água pluvial DN=150 mm | D40: M | E40: 18 | F40: 75.32 | G40: =ROUND(F40*(1+H$6),2) -> 97.65 | H40: =ROUND(G40*E40,2) -> 1757.7 | I40: 2*9
A41: 4.10 | B41: 89590 | C41: Joelho PVC 90° d=150 mm - tubulação pluvial | D41: Unid. | E41: 4 | F41: 139.51 | G41: =ROUND(F41*(1+H$6),2) -> 180.87 | H41: =ROUND(G41*E41,2) -> 723.48 | I41: 2*2
...

Sheet Cronograma_ff
A2: CRONOGRAMA FISICO/FINANCEIRO
A3: OBRA: | B3: ='PLANILHA de preço'!B3:C3 -> Demolição de reservatório e construção de galpão com muro, piso e cobertura metálica para deposito de materiais | M3: =DBI!J6 -> BDI: | N3: ='PLANILHA de preço'!H6 -> 0.2965
A4: LOCAL: | B4: ='PLANILHA de preço'!B4:C4 -> Rua Júlia Lara, em freta a Sede Saae, Unaí-MG | H4: DATA: | J4: ='PLANILHA de preço'!B5 -> 45978
A5: ITEM | B5: DESCRIÇÃO DOS SERVIÇOS | C5: T.COM BDI R$ | D5: Percentual % | E5: 30 dias | G5: 60 dias | I5: 90 dias | K5: 120 dias | M5: Total
E6: fisico | F6: financeiro | G6: fisico | H6: financeiro | I6: fisico | J6: financeiro | K6: fisico | L6: financeiro | M6: fisico | N6: financeiro
A7: MURO DA ETE
A8: 1. | B8: ='PLANILHA de preço'!C9 -> SERVIÇO PRELIMINAR / ADMINISTRAÇÃO | C8: ='PLANILHA de preço'!H9 -> 29135.46 | D8: =C8/C$17 -> 0.050501599 | E8: 0.5 | F8: =C8*E8 -> 14567.73 | G8: 0.15 | H8: =C8*G8 -> 4370.319 | I8: 0.15 | J8: =C8*I8 -> 4370.319 | K8: 0.2 | L8: =C8*K8 -> 5827.092 | M8: =I8+G8+E8+K8 -> 1 | N8: =F8+H8+J8+L8 -> 29135.46
A9: 2. | B9: ='PLANILHA de preço'!C15 -> DEMOLIÇÃO DE RESERVATÓRIO | C9: ='PLANILHA de preço'!H15 -> 56425.42 | D9: =C9/C$17 -> 0.097804322 | E9: 0.6 | F9: =C9*E9 -> 33855.252 | G9: 0.4 | H9: =C9*G9 -> 22570.168 | I9: 0 | J9: =C9*I9 -> 0 | K9: 0 | L9: =C9*K9 -> 0 | M9: =I9+G9+E9+K9 -> 1 | N9: =F9+H9+J9+L9 -> 56425.42
A10: 3. | B10: ='PLANILHA de preço'!C20 -> FUNDAÇÕES E FECHAMENTO DE ALVENARIA | C10: ='PLANILHA de preço'!H20 -> 97505.95 | D10: =C10/C$17 -> 0.16901076 | E10: 0 | F10: =C10*E10 -> 0 | G10: 0.7 | H10: =C10*G10 -> 68254.165 | I10: 0.3 | J10: =C10*I10 -> 29251.785 | K10: 0 | L10: =C10*K10 -> 0 | M10: =I10+G10+E10+K10 -> 1 | N10: =F10+H10+J10+L10 -> 97505.95
A11: 4. | B11: ='PLANILHA de preço'!C31 -> COBERTURA | C11: ='PLANILHA de preço'!H31 -> 227898.51 | D11: =C11/C$17 -> 0.39502514 | E11: 0 | F11: =C11*E11 -> 0 | G11: 0 | H11: =C11*G11 -> 0 | I11: 0.8 | J11: =C11*I11 -> 182318.81 | K11: 0.2 | L11: =C11*K11 -> 45579.702 | M11: =I11+G11+E11+K11 -> 1 | N11: =F11+H11+J11+L11 -> 227898.51
A12: 5. | B12: ='PLANILHA de preço'!C42 -> Portão | C12: ='PLANILHA de preço'!H42 -> 17523.55 | D12: =C12/C$17 -> 0.030374234 | E12: 0 | F12: =C12*E12 -> 0 | G12: 0 | H12: =C12*G12 -> 0 | I12: 1 | J12: =C12*I12 -> 17523.55 | K12: 0 | L12: =C12*K12 -> 0 | M12: =I12+G12+E12+K12 -> 1 | N12: =F12+H12+J12+L12 -> 17523.55
A13: 6. | B13: ='PLANILHA de preço'!C46 -> PISO EM CONCRETO ARMADO | C13: ='PLANILHA de preço'!H46 -> 61596 | D13: =C13/C$17 -> 0.10676668 | E13: 0 | F13: =C13*E13 -> 0 | G13: 0.2 | H13: =C13*G13 -> 12319.2 | I13: 0.4 | J13: =C13*I13 -> 24638.4 | K13: 0.4 | L13: =C13*K13 -> 24638.4 | M13: =I13+G13+E13+K13 -> 1 | N13: =F13+H13+J13+L13 -> 61596
A14: 7. | B14: ='PLANILHA de preço'!C49 -> LIMPEZA | C14: ='PLANILHA de preço'!H49 -> 3206.6 | D14: =C14/C$17 -> 0.0055581215 | E14: 0.25 | F14: =C14*E14 -> 801.65 | G14: 0.25 | H14: =C14*G14 -> 801.65 | I14: 0.25 | J14: =C14*I14 -> 801.65 | K14: 0.25 | L14: =C14*K14 -> 801.65 | M14: =I14+G14+E14+K14 -> 1 | N14: =F14+H14+J14+L14 -> 3206.6
A15: 8. | B15: ='PLANILHA de preço'!C51 -> EXECUÇÃO DE PRATELEIRA | C15: ='PLANILHA de preço'!H51 -> 83630.05 | D15: =C15/C$17 -> 0.14495914 | E15: 0 | F15: =C15*E15 -> 0 | G15: 0 | H15: =C15*G15 -> 0 | I15: 0 | J15: =C15*I15 -> 0 | K15: 1 | L15: =C15*K15 -> 83630.05 | M15: =I15+G15+E15+K15 -> 1 | N15: =F15+H15+J15+L15 -> 83630.05
B16: TOTAL SIMPLES | C16: =SUM(C8:C15) -> 576921.54 | E16: =SUM(F16/C17) -> 0.085322923 | F16: =SUM(F8:F15) -> 49224.632 | G16: =SUM(H16/C17) -> 0.18774737 | H16: =SUM(H8:H15) -> 108315.5 | I16: =SUM(J16/C17) -> 0.44876902 | J16: =SUM(J8:J15) -> 258904.51 | K16: =SUM(L16/C17) -> 0.27816069 | L16: =SUM(L8:L15) -> 160476.89 | M16: =E16+G16+I16+K16 -> 1 | N16: =SUM(N8:N15) -> 576921.54
B17: TOTAL ACUMULADO | C17: =SUM(C7:C15) -> 576921.54 | E17: =E16 -> 0.085322923 | F17: =SUM(F16) -> 49224.632 | G17: =SUM(E17+G16) -> 0.27307029 | H17: =H16+F17 -> 157540.13 | I17: =SUM(G17+I16) -> 0.72183931 | J17: =J16+H17 -> 416444.65 | K17: =SUM(I17+K16) -> 1 | L17: =L16+J17 -> 576921.54
G21: –––––––––––––––––-----–––––––
G22: Júlio da Costa Oliveira, Mat. 363
G23: Engº. Civil Crea-MG:176499/D

Sheet DBI
A2: PLANILHA DE COMPOSIÇÃO DE BDI - SERVIÇOS
A3: OBRA: | B3: ='PLANILHA de preço'!B3:C3 -> Demolição de reservatório e construção de galpão com muro, piso e cobertura metálica para deposito de materiais
A4: LOCAL: | B4: ='PLANILHA de preço'!B4:C4 -> Rua Júlia Lara, em freta a Sede Saae, Unaí-MG | H4: DATA: | J4: ='PLANILHA de preço'!B5 -> 45978
A5: Regime de execução das obras: EMPREITADA GLOBAL POR PREÇO UNITARIO
A6: Composição do BDI | J6: BDI: | K6: =ROUND((1+(H8+H10+H11)/100)*(1+(H7/100))*(1+(H12/100))/(1-(H13+H17)/100)-1,4) -> 0.2965
A7: 1 | B7: Despesas financeiras (DF) | C7: De | D7: 0.0093 | E7: até | F7: 0.0093 | G7: Despesas financeiras: | H7: 1 | I7: % | J7: BDI=((1+(Ac+S+G+R))×(1+DF)×(1+L))/(1-(I+INSS))
A8: 2 | B8: Administração Central (Ac) | C8: De | D8: 0.055 | E8: até | F8: 0.055 | G8: Administração central: | H8: 5.5 | I8: %
A9: 3 | B9: Seguros (S)+Garantias(G)+ Risco(R) | C9: De | D9: =D10+D11 -> 0.0227 | E9: até | F9: =F10+F11 -> 0.0227 | G9: Garantias | H9: =H10+H11 -> 2.27 | I9: % | J9: Observações:
A10: 3.1 | B10: Seguros (S)+Garantias (G) | C10: De | D10: 0.01 | E10: até | F10: 0.01 | G10: Garantias | H10: 1 | I10: %
A11: 3.2 | B11: Risco (R) | C11: De | D11: 0.0127 | E11: até | F11: 0.0127 | G11: Risco: | H11: 1.27 | I11: %
A12: 4 | B12: Lucro (L) | C12: De | D12: 0.0494 | E12: até | F12: 0.075 | G12: Lucro: | H12: 7.5 | I12: % | J12: i) Composição do BDI, intervalos admissíveis e fórmula de cálculo nos termos do Acórdão 2622/13 do TCU.
A13: 5 | B13: Tributos(I) | C13: De | D13: 0.0365 | E13: até | F13: 0.0615 | G13: Tributos: | H13: =H14+H15+H16 -> 6.15 | I13: %
A14: 5.1 | B14: PIS | C14: De | D14: 0.0065 | E14: até | F14: 0.0065 | G14: PIS | H14: 0.65 | I14: %
A15: 5.2 | B15: COFINS | C15: De | D15: 0.03 | E15: até | F15: 0.03 | G15: COFINS | H15: 3 | I15: % | J15: ii) Tributos adotados = PIS + CONFINS+ ISS
A16: 5.3 | B16: ISS | C16: De | D16: 0.01 | E16: até | F16: 0.025 | G16: ISS | H16: 2.5 | I16: %
A17: 6 | B17: INSS (CPRB) | C17: De | D17: 0.045 | E17: até | F17: 0.045 | G17: INSS (CPRB) | H17: 3.6 | I17: %
D19: –––––––––––––––––-----––––––– | F19: –––––––––––––––––-----––––––– | J19: ––––––––––––––––––––––––
D20: Júlio da Costa Oliveira, Mat. 363 | F20: Júlio da Costa Oliveira, Mat. 363 | J20: Júlio da Costa Oliveira, Mat. 363
D21: Engº. Civil Crea-MG:176499/D | F21: Engº. Civil Crea-MG:176499/D | J21: Engº. Civil Crea-MG:176499/D
