Workbook

Sheet Planilha Orçamentária
B2: PREFEITURA MUNICIPAL DE CARIACICA - ES SECRETARIA MUNICIPAL DE SERVIÇOS - SEMSERV COORDENAÇÃO DE ILUMINAÇÃO PÚBLICA - CIP
B3: Planilha Orçamentária
B4: Objeto: Contratação de empresa de engenharia especializada para execução de serviços de manutenção da Telegestão do sistema municipal de iluminação pública do município de Cariacica/es com fornecimento de software e equipamentos sobressalentes.
B5: Planilha Orçamentária - Lote Único | E5: Data Base: Abril/2024
B7: Descrição | C7: Unidade | D7: Quantidade | E7: Valor Unitário | F7: Valor Total
B9: Serviços de manutenção preventiva e corretiva do sistema de Telegestão do parque de Iluminação Pública do município de Cariacica/ES, com a recuperação de equipamentos, intervenções em campo, replanejamentos de redes, fornecimento de peças e equipamentos sobressalentes | C9: Unid. | D9: =16500*12 -> 198000 | E9: =ROUND('Planilha de Custo'!G17,4) -> 20.9329 | F9: ='Planilha de Custo'!G13 -> 4144714.2
B10: Total do Serviços | F10: =F9 -> 4144714.2

Sheet Planilha de Custo
A1: PREFEITURA MUNICIPAL DE CARIACICA - ES
A2: SECRETARIA MUNICIPAL DE INFRAESTRUTURA
B3: COMPOSIÇÃO DE CUSTOS | F3: DATA BASE: Abril/2024
F4: BDI:30,9%
F5: L.S.: 128,33%
A6: COMP. CUSTO | B6: Item | C6: DESCRIÇÃO DOS SERVIÇOS | D6: UNID. | E6: QUANT. | F6: PREÇO UNITÁRIO | G6: PREÇO TOTAL
A7: 1 | B7: 1.1 | C7: sistema de supervisão e controle (ssc)-software do setema conforme especificação em projeto basico | D7: Mês | E7: 12 | F7: ='C.C.001'!I44 -> 14998.372 | G7: =F7*E7 -> 179980.46
A8: 2 | B8: 1.2 | C8: Equipe de Manutenção para Módulos remotos embarcados, redes de dados do sistema de automação | D8: Mês | E8: 12 | F8: ='C.C.002'!I44 -> 100143.2 | G8: =F8*E8 -> 1201718.4
A9: 3 | B9: 1.3 | C9: Fornecimento e instalaçao de Módulo Transceptor remoto embarcado Tipo 1 | D9: Peças | E9: 2475 | F9: ='C.C.003'!I44 -> 1056.5896 | G9: =F9*E9 -> 2615059.3
A10: 4 | B10: 1.4 | C10: Fornecimento e instalaçao de Módulo Transceptor remoto embarcado Tipo 2 | D10: Peças | E10: 15 | F10: ='C.C.004'!I44 -> 4798.5754 | G10: =F10*E10 -> 71978.631
A11: 5 | B11: 1.5 | C11: Assinatura de Operadora de telefone móvel para transmissão de dados via GPRS/GSM | D11: Mês | E11: 12 | F11: ='C.C.005'!I44 -> 6331.4557 | G11: =F11*E11 -> 75977.468
C13: TOTAL SERVIÇOS | G13: =SUM(G7:G12) -> 4144714.2
G17: =G13/16500/12 -> 20.9329
G18: =G13/(16500*12) -> 20.9329
G20: ='Planilha Orçamentária'!F10 -> 4144714.2
G23: =G20-G13 -> 0
G24: =G23/12 -> 0

Sheet C.C.001
A1: PREFEITURA MUNICIPAL DE CARIACICA
A2: SECRETARIA MUNICIPAL DE DE INFRAESTRUTURA
A3: Obs: Preço-Base: Abril/2024
A4: COMPOSIÇÃO DE CUSTO UNITÁRIO | F4: 1
A5: ITEM | B5: =VLOOKUP(F4,'Planilha de Custo'!1:1048576,2,0) -> 1.1 | C5: =VLOOKUP(F4,'Planilha de Custo'!1:1048576,3,0) -> sistema de supervisão e controle (ssc)-software do setema conforme especificação em projeto basico | H5: Unid.: | I5: =VLOOKUP(F4,'Planilha de Custo'!1:1048576,4,0) -> Mês
A6: Insumo | B6: Unid. | C6: REF/Código | D6: Coefic. | E6: C. Prod. | F6: Pr. Prod. | G6: Pr. Impr. | H6: Pr. Unit. | I6: Sub-Total
A7: Mão-de-Obra (A)
A13: Subtotal | I13: =SUM(I8:I12) -> 0
A14: Materiais (B)
A15: sistema de supervisão e controle (ssc)-software do setema conforme especificação em projeto basico | B15: Unid. | C15: Cotação de Mercado | D15: 1 | E15: 1 | F15: =D51 -> 12600 | G15: 0 | H15: =F15 -> 12600 | I15: =H15*D15 -> 12600
A26: Subtotal | I26: =SUM(I15:I25) -> 12600
A27: Equipamentos (C)
A33: Subtotal | I33: =SUM(I28:I32) -> 0
A34: RESUMO :
A35: Discriminação | H35: Taxa (%) | I35: Valores
A36: Mão-de-Obra (A) | H36: 128.33 | I36: =I13 -> 0
A37: Materiais (B) | I37: =I26 -> 12600
A38: Equipamentos (C) | I38: =I33 -> 0
A39: Produção da Equipe (D) | I39: 1
A40: Custo Horário Total [(A)+(C)] | I40: =I38+I36 -> 0
A41: Custo Unitário da Execução [(A)+(C)/(D)]=(E) | I41: =(I36+I38)/I39 -> 0
A42: Custo Direto Total [(B)+(E)] | I42: =I37+I41 -> 12600
A43: Bonificação e Despesas Indiretas- BDI (Serviço - 33,14% / Materiais - 19,03% / Equipamento 12,68%) | I43: =I13*0.3314+I26*0.1903+I33*0.1268+0.592 -> 2398.372
A44: Custo Unitário (adotado) | I44: =ROUND(I43+I42,4) -> 14998.372
A47: Descrição | B47: Unid. | C47: Fornecedor | D47: Valor
A48: Software de Telegerenciamento em ambiente Web, com comunicação em tempo real bilateral (via GPRS e Wireless) entre módulos remotos embarcados e servidor de controle. | B48: Unid. | C48: SER | D48: 13900
C49: TRAJETO | D49: 9800
C50: GALP | D50: 14100
A51: Média | D51: =AVERAGE(D48:E50) -> 12600

Sheet C.C.002
A1: PREFEITURA MUNICIPAL DE CARIACICA
A2: SECRETARIA MUNICIPAL DE INFRAESTRUTURA
A3: Obs: Preço-Base: Abril/2024
A4: COMPOSIÇÃO DE CUSTO UNITÁRIO | F4: 2
A5: ITEM | B5: =VLOOKUP(F4,'Planilha de Custo'!1:1048576,2,0) -> 1.2 | C5: =VLOOKUP(F4,'Planilha de Custo'!1:1048576,3,0) -> Equipe de Manutenção para Módulos remotos embarcados, redes de dados do sistema de automação | H5: Unid.: | I5: =VLOOKUP(F4,'Planilha de Custo'!1:1048576,4,0) -> Mês
A6: Insumo | B6: Unid. | C6: REF/Código | D6: Coefic. | E6: C. Prod. | F6: Pr. Prod. | G6: Pr. Impr. | H6: Pr. Unit. | I6: Sub-Total
A7: Mão-de-Obra (A)
A8: Eletricista | B8: H | C8: DER ES/010115 | D8: 176 | E8: 1 | F8: 8.84 | G8: 0 | H8: =ROUND(F8*1.5727,2) -> 13.9 | I8: =ROUND(H8*D8,2) -> 2446.4
A9: Ajudante | B9: H | C9: DER ES/010101 | D9: 0 | E9: 1 | F9: 7.46 | G9: 0 | H9: =ROUND(F9*1.5727,2) -> 11.73 | I9: =ROUND(H9*D9,2) -> 0
A10: Motorista Operador de Guindauto | B10: H | C10: DER ES/010285 | D10: 176 | E10: 1 | F10: 9.04 | G10: 0 | H10: =ROUND(F10*1.5727,2) -> 14.22 | I10: =ROUND(H10*D10,2) -> 2502.72
A11: Tecnico de 2º Grau | B11: MÊS | C11: DER ES/920610 | D11: 0.7 | E11: 1 | F11: 10793.15 | G11: 0 | H11: =ROUND(F11*1.5727,2) -> 16974.39 | I11: =ROUND(H11*D11,2) -> 11882.07
A12: Engenheiro Eletricista | B12: MÊS | C12: DER ES/920611 | D12: 0.25 | E12: 1 | F12: 28277.23 | G12: 0 | H12: =ROUND(F12*1.5727,2) -> 44471.6 | I12: =ROUND(H12*D12,2) -> 11117.9
A13: Subtotal | I13: =SUM(I8:I12) -> 27949.09
A14: Materiais (B)
A26: Subtotal | I26: =SUM(I15:I25) -> 0
A27: Equipamentos (C)
A28: Guindauto Hidraulico, capacidade máxima de carga 6200 kg, alcance máximo horizontal 9,70 mts | B28: H | C28: DER ES /081124 | D28: 0.4 | E28: 1 | F28: 139625 | G28: 10.71 | H28: =F28 -> 139625 | I28: =ROUND(H28*D28,2) -> 55850
A33: Subtotal | I33: =SUM(I28:I30) -> 55850
A34: RESUMO :
A35: Discriminação | H35: Taxa (%) | I35: Valores
A36: Mão-de-Obra (A) | H36: 157.27 | I36: =I13 -> 27949.09
A37: Materiais (B) | I37: =I26 -> 0
A38: Equipamentos (C) | I38: =I33 -> 55850
A39: Produção da Equipe (D) | I39: 1
A40: Custo Horário Total [(A)+(C)] | I40: =I38+I36 -> 83799.09
A41: Custo Unitário da Execução [(A)+(C)/(D)]=(E) | I41: =(I36+I38)/I39 -> 83799.09
A42: Custo Direto Total [(B)+(E)] | I42: =I37+I41 -> 83799.09
A43: Bonificação e Despesas Indiretas- BDI (Serviço - 33,14% / Materiais - 19,03% / Equipamento 12,68%) | I43: =I13*0.3314+I26*0.1903+I33*0.1268 -> 16344.108
A44: Custo Unitário (adotado) | I44: =ROUND(I43+I42,4) -> 100143.2

Sheet C.C.003
A1: PREFEITURA MUNICIPAL DE CARIACICA
A2: SECRETARIA MUNICIPAL DE INFRAESTRUTURA
A3: Obs: Preço-Base: Abril/2024
A4: COMPOSIÇÃO DE CUSTO UNITÁRIO | F4: 3
A5: ITEM | B5: =VLOOKUP(F4,'Planilha de Custo'!1:1048576,2,0) -> 1.3 | C5: =VLOOKUP(F4,'Planilha de Custo'!1:1048576,3,0) -> Fornecimento e instalaçao de Módulo Transceptor remoto embarcado Tipo 1 | H5: Unid.: | I5: =VLOOKUP(F4,'Planilha de Custo'!1:1048576,4,0) -> Peças
A6: Insumo | B6: Unid. | C6: REF/Código | D6: Coefic. | E6: C. Prod. | F6: Pr. Prod. | G6: Pr. Impr. | H6: Pr. Unit. | I6: Sub-Total
A7: Mão-de-Obra (A)
A13: Subtotal | I13: =SUM(I8:I12) -> 0
A14: Materiais (B)
A15: Módulo Tranasceptor remoto embarcado tipo 1 | B15: PÇ | C15: Cotação de Mercado | D15: 1 | E15: 1 | F15: =D50 -> 887.66667 | G15: 0 | H15: =F15 -> 887.66667 | I15: =H15*D15 -> 887.66667
A26: Subtotal | I26: =SUM(I15:I25) -> 887.66667
A27: Equipamentos (C)
A33: Subtotal | I33: =SUM(I28:I32) -> 0
A34: RESUMO :
A35: Discriminação | H35: Taxa (%) | I35: Valores
A36: Mão-de-Obra (A) | H36: 128.33 | I36: =I13 -> 0
A37: Materiais (B) | I37: =I26 -> 887.66667
A38: Equipamentos (C) | I38: =I33 -> 0
A39: Produção da Equipe (D) | I39: 1
A40: Custo Horário Total [(A)+(C)] | I40: =I38+I36 -> 0
A41: Custo Unitário da Execução [(A)+(C)/(D)]=(E) | I41: =(I36+I38)/I39 -> 0
A42: Custo Direto Total [(B)+(E)] | I42: =I37+I41 -> 887.66667
A43: Bonificação e Despesas Indiretas- BDI (Serviço - 33,14% / Materiais - 19,03% / Equipamento 12,68%) | I43: =I13*0.3314+I26*0.1903+I33*0.1268 -> 168.92297
A44: Custo Unitário (adotado) | I44: =ROUND(I43+I42,4) -> 1056.5896
A46: Descrição | B46: Unid. | C46: Fornecedor | D46: Valor
A47: Módulo Tranasceptor remoto embarcado tipo 1 | B47: PÇ | C47: SER | D47: 915
C48: TRAJETO | D48: 849
C49: GALP | D49: 899
A50: Média | D50: =AVERAGE(D47:E49) -> 887.66667

Sheet C.C.004
A1: PREFEITURA MUNICIPAL DE CARIACICA
A2: SECRETARIA MUNICIPAL DE INFRAESTRUTURA
A3: Obs: Preço-Base: Abril/2024
A4: COMPOSIÇÃO DE CUSTO UNITÁRIO | F4: 4
A5: ITEM | B5: =VLOOKUP(F4,'Planilha de Custo'!1:1048576,2,0) -> 1.4 | C5: =VLOOKUP(F4,'Planilha de Custo'!1:1048576,3,0) -> Fornecimento e instalaçao de Módulo Transceptor remoto embarcado Tipo 2 | H5: Unid.: | I5: =VLOOKUP(F4,'Planilha de Custo'!1:1048576,4,0) -> Peças
A6: Insumo | B6: Unid. | C6: REF/Código | D6: Coefic. | E6: C. Prod. | F6: Pr. Prod. | G6: Pr. Impr. | H6: Pr. Unit. | I6: Sub-Total
A7: Mão-de-Obra (A)
A13: Subtotal | I13: =SUM(I8:I12) -> 0
A14: Materiais (B)
A15: Módulo Tranasceptor remoto embarcado tipo 2 | B15: PÇ | C15: Cotação de Mercado | D15: 1 | E15: 1 | F15: =D50 -> 4031.4 | G15: 0 | H15: =F15 -> 4031.4 | I15: =D15*H15 -> 4031.4
A26: Subtotal | I26: =SUM(I15:I25) -> 4031.4
A27: Equipamentos (C)
E32: 1 | G32: 0 | I32: =ROUND(H32*D32,2) -> 0
A33: Subtotal | I33: =SUM(I28:I32) -> 0
A34: RESUMO :
A35: Discriminação | H35: Taxa (%) | I35: Valores
A36: Mão-de-Obra (A) | H36: 128.33 | I36: =I13 -> 0
A37: Materiais (B) | I37: =I26 -> 4031.4
A38: Equipamentos (C) | I38: =I33 -> 0
A39: Produção da Equipe (D) | I39: 1
A40: Custo Horário Total [(A)+(C)] | I40: =I38+I36 -> 0
A41: Custo Unitário da Execução [(A)+(C)/(D)]=(E) | I41: =(I36+I38)/I39 -> 0
A42: Custo Direto Total [(B)+(E)] | I42: =I37+I41 -> 4031.4
A43: Bonificação e Despesas Indiretas- BDI (Serviço - 33,14% / Materiais - 19,03% / Equipamento 12,68%) | I43: =I13*0.3314+I26*0.1903+I33*0.1268 -> 767.17542
A44: Custo Unitário (adotado) | I44: =ROUND(I43+I42,4) -> 4798.5754
A46: Descrição | B46: Unid. | C46: Fornecedor | D46: Valor
A47: Módulo Tranasceptor remoto embarcado tipo 2 | B47: PÇ | C47: SER | D47: 4341
C48: TRAJETO | D48: 3970
C49: GALP | D49: 3783.2
A50: Média | D50: =AVERAGE(D47:E49) -> 4031.4

Sheet C.C.005
A1: PREFEITURA MUNICIPAL DE CARIACICA
A2: SECRETARIA MUNICIPAL DE INFRAESTRUTURA
A3: Obs: Preço-Base: Abril/2024
A4: COMPOSIÇÃO DE CUSTO UNITÁRIO | F4: 6
A5: ITEM | B5: =VLOOKUP(F4,'Planilha de Custo'!1:1048576,2,0) -> #N/A | C5: =VLOOKUP(F4,'Planilha de Custo'!1:1048576,3,0) -> #N/A | H5: Unid.: | I5: =VLOOKUP(F4,'Planilha de Custo'!1:1048576,4,0) -> #N/A
A6: Insumo | B6: Unid. | C6: REF/Código | D6: Coefic. | E6: C. Prod. | F6: Pr. Prod. | G6: Pr. Impr. | H6: Pr. Unit. | I6: Sub-Total
A7: Mão-de-Obra (A)
A13: Subtotal | I13: =SUM(I8:I12) -> 0
A14: Materiais (B)
A15: Assinatura da operadora de telefonia móvel para transmissão de dados via GPRS/GSM9 ( pacote com 200 chips). | B15: Mês | C15: Cotação de Mercado | D15: 1 | E15: 1 | F15: =2294.41+3024.8 -> 5319.21 | G15: 0 | H15: =F15 -> 5319.21 | I15: =H15*D15 -> 5319.21
A26: Subtotal | I26: =SUM(I15:I25) -> 5319.21
A27: Equipamentos (C)
A33: Subtotal | I33: =SUM(I28:I32) -> 0
A34: RESUMO :
A35: Discriminação | H35: Taxa (%) | I35: Valores
A36: Mão-de-Obra (A) | H36: 128.33 | I36: =I13 -> 0
A37: Materiais (B) | I37: =I26 -> 5319.21
A38: Equipamentos (C) | I38: =I33 -> 0
A39: Produção da Equipe (D) | I39: 1
A40: Custo Horário Total [(A)+(C)] | I40: =I38+I36 -> 0
A41: Custo Unitário da Execução [(A)+(C)/(D)]=(E) | I41: 0
A42: Custo Direto Total [(B)+(E)] | I42: =I37+I41 -> 5319.21
A43: Bonificação e Despesas Indiretas- BDI (Serviço - 33,14% / Materiais - 19,03% / Equipamento 12,68%) | I43: =I13*0.3314+I26*0.1903+I33*0.1268 -> 1012.2457
A44: Custo Unitário (adotado) | I44: =ROUND(I43+I42,4) -> 6331.4557
