Workbook

Sheet PLANILHA ORÇAMENTÁRIA
C1: PREFEITURA MUNICIPAL DE IBIRAÇU SECRETARIA DE OBRAS, SERVIÇOS E INFRAESTRUTURA
C2: Projeto: | D2: Construção de 25 Unidades Habitacionais de Interesse Social
C3: Proprietário: | D3: Prefeitura Municipal de Ibiraçu
C4: Local: | D4: Loteamento Vista Linda, Bairro São Benedito, Ibiraçu/ES
C5: Convênio: | D5: MCMV - FNHIS SUB50 - Caixa Econômica Federal
A7: Orçamentista: | C7: _______________________ ANDRESSA SILVA CORREA RODRIGUES Arquiteta e Urbanista - A533815 | E7: Referencial: | G7: SINAPI
E8: Bata base: | G8: 45901
E9: BDI: | G9: 0.2037
E10: Encargos: | G10: 1.5727
A12: PLANILHA ORÇAMENTÁRIA - CONSTRUÇÃO DE 25 UNIDADES HABITACIONAIS DE INTERESSE SOCIAL
A14: Item | B14: Referencial | C14: Código | D14: Descrição | E14: Un. | F14: Físico para 25 unidades habitacionais | G14: Financeiro unitário sem BDI | H14: Financeiro unitário com BDI | I14: Financeiro | J14: Físico para 01 unidade habitacional | K14: Financeiro para 01 unidade habitacional | L14: Financeiro total contratado
H16: 0.2037
A18: 1 | D18: ADMINISTRAÇÃO LOCAL
A19: 1.1 | B19: Composição | C19: CPU-01 | D19: Administração Local | E19: UN | F19: 1 | G19: 110223.28 | H19: =ROUND(G19*(1+$H$16),2) -> 132675.76 | I19: =ROUND(F19*H19,2) -> 132675.76 | J19: =ROUND(F19/25,2) -> 0.04 | K19: =ROUND(H19*J19,2) -> 5307.03 | L19: =K19*25 -> 132675.75
A20: 1.2 | B20: Outros | C20: DER-EDF020355 | D20: Aluguel mensal container sanitário, incl porta, básc, 2 ptos luz, 1 pto aterram., 3vasos, 3lavatórios, calha mictório, 6 chuveiros (1 eletrico), torn.,registros, piso comp. Naval pintado, cert NR18 e laudo descontaminação | E20: MÊS | F20: 12 | G20: 1249.4 | H20: =ROUND(G20*(1+$H$16),2) -> 1503.9 | I20: =ROUND(F20*H20,2) -> 18046.8 | J20: =ROUND(F20/25,2) -> 0.48 | K20: =ROUND(H20*J20,2) -> 721.87 | L20: =K20*25 -> 18046.75
A21: Total Item 1 | I21: =SUM(I19:I20) -> 150722.56 | L21: =SUM(L19:L20) -> 150722.5
A23: 2 | D23: SERVIÇOS PRELIMINARES
A24: 2.1 | B24: Outros | C24: DER-EDF010501 | D24: Locação de obra com gabarito de madeira | E24: M2 | F24: 1346.75 | G24: 11.11 | H24: =ROUND(G24*(1+$H$16),2) -> 13.37 | I24: =ROUND(F24*H24,2) -> 18006.05 | J24: =ROUND(F24/25,2) -> 53.87 | K24: =ROUND(H24*J24,2) -> 720.24 | L24: =K24*25 -> 18006
A25: 2.2 | B25: SINAPI | C25: 103689 | D25: FORNECIMENTO E INSTALAÇÃO DE PLACA DE OBRA COM CHAPA GALVANIZADA E ESTRUTURA DE MADEIRA. AF_03/2022_PS | E25: M2 | F25: 6.48 | G25: 469.31 | H25: =ROUND(G25*(1+$H$16),2) -> 564.91 | I25: =ROUND(F25*H25,2) -> 3660.62 | J25: =F25 -> 6.48 | K25: =ROUND(H25*J25,2) -> 3660.62 | L25: =K25 -> 3660.62
A26: 2.3 | B26: Outros | C26: DER-EDF020713 | D26: Rede de luz, incl. padrão entrada de energia trifás., cabo de ligação até barracões, quadro de distrib., disj. e chave de força (quando necessário), cons. 20m entre padrão entrada e QDG, conf. projeto (1 utilização) | E26: M | F26: 10 | G26: 502.01 | H26: =ROUND(G26*(1+$H$16),2) -> 604.27 | I26: =ROUND(F26*H26,2) -> 6042.7 | J26: =F26 -> 10 | K26: =ROUND(H26*J26,2) -> 6042.7 | L26: =K26 -> 6042.7
A27: 2.4 | B27: Outros | C27: DER-EDF020714 | D27: Rede de esgoto, contendo fossa e filtro, inclusive tubos e conexões de ligação entre caixas, considerando distância de 25m, conforme projeto (1 utilização) | E27: M | F27: 10 | G27: 448.25 | H27: =ROUND(G27*(1+$H$16),2) -> 539.56 | I27: =ROUND(F27*H27,2) -> 5395.6 | J27: =F27 -> 10 | K27: =ROUND(H27*J27,2) -> 5395.6 | L27: =K27 -> 5395.6
A28: 2.5 | B28: Outros | C28: DER-EDF020712 | D28: Rede de água com padrão de entrada d'água diâm. 3/4", conf. espec. CESAN, incl. tubos e conexões para alimentação, distribuição, extravasor e limpeza, cons. o padrão a 25m, conf. projeto (1 utilização) | E28: M | F28: 10 | G28: 56.94 | H28: =ROUND(G28*(1+$H$16),2) -> 68.54 | I28: =ROUND(F28*H28,2) -> 685.4 | J28: =F28 -> 10 | K28: =ROUND(H28*J28,2) -> 685.4 | L28: =K28 -> 685.4
A29: 2.6 | B29: Outros | C29: DER-EDF020350 | D29: Tapume Telha Metálica Ondulada em aço galvalume 0,50mm Branca h=2,20m, incl. montagem estr. mad. 8"x8", c/adesivo "DER-ES" 60x60cm a cada 10m, incl. faixas pint. esmalte sint. cores azul c/ h=30cm e rosa c/ h=10cm (Reaproveitamento 2x) | E29: M | F29: 44.48 | G29: 148.86 | H29: =ROUND(G29*(1+$H$16),2) -> 179.18 | I29: =ROUND(F29*H29,2) -> 7969.93 | J29: =F29 -> 44.48 | K29: =ROUND(H29*J29,2) -> 7969.93 | L29: =K29 -> 7969.93
A30: 2.7 | B30: Outros | C30: DER-EDF020709 | D30: Galpão para corte e armação com área de 6.00m2, em peças de madeira 8x8cm e contraventamento de 5x7cm, cobertura de telhas de fibroc. de 6mm, inclusive ponto e cabo de alimentação da máquina, conf. projeto (1 utilização) | E30: M2 | F30: 6 | G30: 289.88 | H30: =ROUND(G30*(1+$H$16),2) -> 348.93 | I30: =ROUND(F30*H30,2) -> 2093.58 | J30: =F30 -> 6 | K30: =ROUND(H30*J30,2) -> 2093.58 | L30: =K30 -> 2093.58
A31: 2.8 | B31: Outros | C31: DER-EDF020702 | D31: Barracão para almoxarifado área de 10.90m2, de chapa de compensado de 12mm e pontalete 8x8cm, piso cimentado e cobertura de telhas de fibrocimento de 6mm, incl. ponto de luz, conf. projeto (1 utilização) | E31: M2 | F31: 10.9 | G31: 600.86 | H31: =ROUND(G31*(1+$H$16),2) -> 723.26 | I31: =ROUND(F31*H31,2) -> 7883.53 | J31: =F31 -> 10.9 | K31: =ROUND(H31*J31,2) -> 7883.53 | L31: =K31 -> 7883.53
A32: 2.9 | B32: Outros | C32: DER-EDF020701 | D32: Barracão para escritório com sanitário área de 14.50 m2, de chapa de compens. 12mm e pontalete 8x8cm, piso cimentado e cobertura de telha de fibroc. 6mm, incl. ponto de luz e cx. de inspeção, conf. projeto (1 utilização) | E32: M2 | F32: 14.5 | G32: 863.7 | H32: =ROUND(G32*(1+$H$16),2) -> 1039.64 | I32: =ROUND(F32*H32,2) -> 15074.78 | J32: =F32 -> 14.5 | K32: =ROUND(H32*J32,2) -> 15074.78 | L32: =K32 -> 15074.78
A33: 2.10 | B33: Outros | C33: DER-EDF020710 | D33: Reservatório de poliestileno de 500L, incl. suporte em madeira de 7x12cm e 5x7cm, elevado de 4m, conf. projeto (1 utilização) | E33: UN | F33: 1 | G33: 1770.47 | H33: =ROUND(G33*(1+$H$16),2) -> 2131.11 | I33: =ROUND(F33*H33,2) -> 2131.11 | J33: =F33 -> 1 | K33: =ROUND(H33*J33,2) -> 2131.11 | L33: =K33 -> 2131.11
A34: Total Item 2 | I34: =SUM(I24:I33) -> 68943.3 | L34: =SUM(L24:L33) -> 68943.25
A36: 3 | D36: SAPATA
A37: 3.1 | B37: SINAPI | C37: 96521 | D37: ESCAVAÇÃO MECANIZADA PARA BLOCO DE COROAMENTO OU SAPATA COM RETROESCAVADEIRA (INCLUINDO ESCAVAÇÃO PARA COLOCAÇÃO DE FÔRMAS). AF_01/2024 | E37: M3 | F37: 218.5 | G37: 44.61 | H37: =ROUND(G37*(1+$H$16),2) -> 53.7 | I37: =ROUND(F37*H37,2) -> 11733.45 | J37: =ROUND(F37/25,2) -> 8.74 | K37: =ROUND(H37*J37,2) -> 469.34 | L37: =K37*25 -> 11733.5
A38: 3.2 | B38: SINAPI | C38: 101616 | D38: PREPARO DE FUNDO DE VALA COM LARGURA MENOR QUE 1,5 M (ACERTO DO SOLO NATURAL). AF_08/2020 | E38: M2 | F38: 117 | G38: 7.7 | H38: =ROUND(G38*(1+$H$16),2) -> 9.27 | I38: =ROUND(F38*H38,2) -> 1084.59 | J38: =ROUND(F38/25,2) -> 4.68 | K38: =ROUND(H38*J38,2) -> 43.38 | L38: =K38*25 -> 1084.5
A39: 3.3 | B39: SINAPI | C39: 96619 | D39: LASTRO DE CONCRETO MAGRO, APLICADO EM BLOCOS DE COROAMENTO OU SAPATAS, ESPESSURA DE 5 CM. AF_01/2024 | E39: M2 | F39: 117 | G39: 42.06 | H39: =ROUND(G39*(1+$H$16),2) -> 50.63 | I39: =ROUND(F39*H39,2) -> 5923.71 | J39: =ROUND(F39/25,2) -> 4.68 | K39: =ROUND(H39*J39,2) -> 236.95 | L39: =K39*25 -> 5923.75
A40: 3.4 | B40: SINAPI | C40: 96541 | D40: FABRICAÇÃO, MONTAGEM E DESMONTAGEM DE FÔRMA PARA SAPATA, EM CHAPA DE MADEIRA COMPENSADA RESINADA, E=17 MM, 4 UTILIZAÇÕES. AF_01/2024 | E40: M2 | F40: 364 | G40: 218.03 | H40: =ROUND(G40*(1+$H$16),2) -> 262.44 | I40: =ROUND(F40*H40,2) -> 95528.16 | J40: =ROUND(F40/25,2) -> 14.56 | K40: =ROUND(H40*J40,2) -> 3821.13 | L40: =K40*25 -> 95528.25
A41: 3.5 | B41: SINAPI | C41: 104919 | D41: ARMAÇÃO DE SAPATA ISOLADA, VIGA BALDRAME E SAPATA CORRIDA UTILIZANDO AÇO CA-50 DE 10 MM - MONTAGEM. AF_01/2024 | E41: KG | F41: 1267.5 | G41: 14.78 | H41: =ROUND(G41*(1+$H$16),2) -> 17.79 | I41: =ROUND(F41*H41,2) -> 22548.83 | J41: =ROUND(F41/25,2) -> 50.7 | K41: =ROUND(H41*J41,2) -> 901.95 | L41: =K41*25 -> 22548.75
A42: 3.6 | B42: SINAPI | C42: 104917 | D42: ARMAÇÃO DE SAPATA ISOLADA, VIGA BALDRAME E SAPATA CORRIDA UTILIZANDO AÇO CA-50 DE 6,3 MM - MONTAGEM. AF_01/2024 | E42: KG | F42: 667.5 | G42: 17.96 | H42: =ROUND(G42*(1+$H$16),2) -> 21.62 | I42: =ROUND(F42*H42,2) -> 14431.35 | J42: =ROUND(F42/25,2) -> 26.7 | K42: =ROUND(H42*J42,2) -> 577.25 | L42: =K42*25 -> 14431.25
A43: 3.7 | B43: SINAPI | C43: 104916 | D43: ARMAÇÃO DE SAPATA ISOLADA, VIGA BALDRAME E SAPATA CORRIDA UTILIZANDO AÇO CA-60 DE 5 MM - MONTAGEM. AF_01/2024 | E43: KG | F43: 320 | G43: 19.45 | H43: =ROUND(G43*(1+$H$16),2) -> 23.41 | I43: =ROUND(F43*H43,2) -> 7491.2 | J43: =ROUND(F43/25,2) -> 12.8 | K43: =ROUND(H43*J43,2) -> 299.65 | L43: =K43*25 -> 7491.25
A44: 3.8 | B44: Composição | C44: 96556_ADP-01 | D44: CONCRETAGEM DE SAPATA, FCK 20 MPA, COM USO DE JERICA - LANÇAMENTO, ADENSAMENTO E ACABAMENTO. | E44: M3 | F44: 35.25 | G44: 875.19 | H44: =ROUND(G44*(1+$H$16),2) -> 1053.47 | I44: =ROUND(F44*H44,2) -> 37134.82 | J44: =ROUND(F44/25,2) -> 1.41 | K44: =ROUND(H44*J44,2) -> 1485.39 | L44: =K44*25 -> 37134.75
A45: 3.9 | B45: SINAPI | C45: 93382 | D45: REATERRO MANUAL DE VALAS, COM COMPACTADOR DE SOLOS DE PERCUSSÃO. AF_08/2023 | E45: M3 | F45: 177.25 | G45: 32.57 | H45: =ROUND(G45*(1+$H$16),2) -> 39.2 | I45: =ROUND(F45*H45,2) -> 6948.2 | J45: =ROUND(F45/25,2) -> 7.09 | K45: =ROUND(H45*J45,2) -> 277.93 | L45: =K45*25 -> 6948.25
A46: Total Item 3 | I46: =SUM(I37:I45) -> 202824.31 | L46: =SUM(L37:L45) -> 202824.25
A48: 4 | D48: BALDRAMES
...

Sheet CRONOGRAMA
D1: PREFEITURA MUNICIPAL DE IBIRAÇU SECRETARIA DE OBRAS, SERVIÇOS E INFRAESTRUTURA
D2: Obra: | F2: ='PLANILHA ORÇAMENTÁRIA'!D2 -> Construção de 25 Unidades Habitacionais de Interesse Social
D3: Proprietário: | F3: ='PLANILHA ORÇAMENTÁRIA'!D3 -> Prefeitura Municipal de Ibiraçu
D4: Local: | F4: ='PLANILHA ORÇAMENTÁRIA'!D4 -> Loteamento Vista Linda, Bairro São Benedito, Ibiraçu/ES
D5: Data: | F5: ='PLANILHA ORÇAMENTÁRIA'!D5 -> MCMV - FNHIS SUB50 - Caixa Econômica Federal
A7: Orçamentista: | F7: ='PLANILHA ORÇAMENTÁRIA'!C7 -> _______________________ ANDRESSA SILVA CORREA RODRIGUES Arquiteta e Urbanista - A533815
A12: CRONOGRAMA FÍSICO FINANCEIRO DE OBRA - CONSTRUÇÃO DE 25 UNIDADES HABITACIONAIS DE INTERESSE SOCIAL
A14: Item | B14: Serviços | G14: Financeiro | H14: 1º mês | I14: 2º mês | J14: 3º mês | K14: 4º mês | L14: 5º mês | M14: 6º mês | N14: 7º mês | O14: 8º mês | P14: 9º mês | Q14: 10º mês | R14: 11º mês | S14: 12º mês
G15: Incidência %
A17: 1 | B17: ='PLANILHA ORÇAMENTÁRIA'!D18 -> ADMINISTRAÇÃO LOCAL | G17: ='PLANILHA ORÇAMENTÁRIA'!L21 -> 150722.5 | S17: =S19*$G17 -> 150722.5
G18: =G17/$G$113 -> 0.040455932
S19: 1
A20: 2 | B20: ='PLANILHA ORÇAMENTÁRIA'!D23 -> SERVIÇOS PRELIMINARES | G20: ='PLANILHA ORÇAMENTÁRIA'!L34 -> 68943.25 | H20: =H22*$G20 -> 68943.25
G21: =G20/$G$113 -> 0.018505289
H22: 1
A23: 3 | B23: ='PLANILHA ORÇAMENTÁRIA'!D36 -> SAPATA | G23: ='PLANILHA ORÇAMENTÁRIA'!L46 -> 202824.25 | H23: =H25*$G23 -> 202824.25
G24: =G23/$G$113 -> 0.054440738
H25: 1
A26: 4 | B26: ='PLANILHA ORÇAMENTÁRIA'!D48 -> BALDRAMES | G26: ='PLANILHA ORÇAMENTÁRIA'!L57 -> 207784 | I26: =I28*$G26 -> 207784
G27: =G26/$G$113 -> 0.055772001
I28: 1
A29: 5 | B29: ='PLANILHA ORÇAMENTÁRIA'!D59 -> IMPERMEABILIZAÇÃO | G29: ='PLANILHA ORÇAMENTÁRIA'!L63 -> 99193.5 | I29: =I31*$G29 -> 99193.5
G30: =G29/$G$113 -> 0.02662486
I31: 1
A32: 6 | B32: ='PLANILHA ORÇAMENTÁRIA'!D65 -> PILARES, VIGAS E LAJES | G32: ='PLANILHA ORÇAMENTÁRIA'!L76 -> 330001.25 | J32: =J34*$G32 -> 330001.25
G33: =G32/$G$113 -> 0.088576744
J34: 1
A35: 7 | B35: ='PLANILHA ORÇAMENTÁRIA'!D78 -> ALVENARIA/FECHAMENTOS | G35: ='PLANILHA ORÇAMENTÁRIA'!L82 -> 279033.5 | K35: =K37*$G35 -> 279033.5
G36: =G35/$G$113 -> 0.074896319
K37: 1
A38: 8 | B38: ='PLANILHA ORÇAMENTÁRIA'!D84 -> ESQUADRIAS METÁLICAS | G38: ='PLANILHA ORÇAMENTÁRIA'!L91 -> 200016.5 | O38: =O40*$G38 -> 200016.5
G39: =G38/$G$113 -> 0.0536871
O40: 1
A41: 9 | B41: ='PLANILHA ORÇAMENTÁRIA'!D93 -> ESQUADRIAS DE MADEIRAS | G41: ='PLANILHA ORÇAMENTÁRIA'!L95 -> 84022.5 | O41: =O43*$G41 -> 84022.5
G42: =G41/$G$113 -> 0.022552761
O43: 1
A44: 10 | B44: ='PLANILHA ORÇAMENTÁRIA'!D97 -> TELHADOS | G44: ='PLANILHA ORÇAMENTÁRIA'!L104 -> 626727.5 | L44: =L46*$G44 -> 626727.5
G45: =G44/$G$113 -> 0.16822203
L46: 1
A47: 11 | B47: ='PLANILHA ORÇAMENTÁRIA'!D106 -> REVESTIMENTOS INTERNOS | G47: ='PLANILHA ORÇAMENTÁRIA'!L113 -> 145021.75 | N47: =N49*$G47 -> 145021.75
...

Sheet relatorio(53)
A1: Item | B1: Fonte/Código | C1: Especificação do Serviço | D1: Und. | E1: Quant. | F1: Preço Unitário | G1: Preço Total
A2: '01 | C2: SERVIÇOS PRELIMINARES
A3: '0102 | C3: DEMOLIÇÕES E RETIRADAS
A4: 010201 | B4: LABOR - 2024 - 010201 - 2 | C4: Demolição manual de piso cimentado espessura de 1,5 cm, inclusive lastro de concreto espessura de 6,0 cm, sem reaproveitamento | D4: m2 | E4: 1 | F4: 16.92 | G4: 16.92
A5: 010202 | B5: LABOR - 2024 - 010202 - 2 | C5: Demolição manual de revestimento cerâmico/porcelanato (pisos), exclusive lastro, sem reaproveitamento | D5: m2 | E5: 1 | F5: 21.13 | G5: 21.13
A6: 010203 | B6: LABOR - 2024 - 010203 - 2 | C6: Demolição manual de revestimento cerâmico/porcelanato (pisos), inclusive lastro de concreto espessura de 6,0 cm, sem reaproveitamento | D6: m2 | E6: 1 | F6: 34.67 | G6: 34.67
A7: 010204 | B7: LABOR - 2024 - 010204 - 2 | C7: Demolição manual de piso de madeira (tacos), exclusive lastro, sem reaproveitamento | D7: m2 | E7: 1 | F7: 12.72 | G7: 12.72
A8: 010205 | B8: LABOR - 2024 - 010205 - 2 | C8: Demolição manual de piso de madeira (tábuas), exclusive lastro, sem reaproveitamento | D8: m2 | E8: 1 | F8: 19.6 | G8: 19.6
A9: 010206 | B9: LABOR - 2024 - 010206 - 2 | C9: Demolição manual de revestimento cerâmico/porcelanato (parede), exclusive emboço/reboco, sem reaproveitamento | D9: m2 | E9: 1 | F9: 23.54 | G9: 23.54
A10: 010207 | B10: LABOR - 2024 - 010207 - 2 | C10: Demolição manual de lambri de madeira em parede, sem reaproveitamento | D10: m2 | E10: 1 | F10: 19.6 | G10: 19.6
A11: '010208 | B11: LABOR - 2024 - 010208 - 2 | C11: Retirada manual de revestimento em argamassa cimento e areia (emboço e reboco), sem reaproveitamento | D11: m2 | E11: 1 | F11: 10.73 | G11: 10.73
A12: '010209 | B12: LABOR - 2024 - 010209 - 2 | C12: Demolição manual de alvenaria de bloco furado (cerâmico), sem reaproveitamento | D12: m3 | E12: 1 | F12: 59.61 | G12: 59.61
A13: '010210 | B13: LABOR - 2024 - 010210 - 2 | C13: Demolição manual de concreto simples, sem reaproveitamento | D13: m3 | E13: 1 | F13: 225.81 | G13: 225.81
A14: '010212 | B14: LABOR - 2024 - 010212 - 2 | C14: Retirada manual cuidadosa de pavimento em paralelepípedos, inclusive limpeza e empilhamento para reaproveitamento | D14: m2 | E14: 1 | F14: 21.51 | G14: 21.51
A15: '010213 | B15: LABOR - 2024 - 010213 - 2 | C15: Retirada manual cuidadosa de blocos pré-moldados de concreto (Blokret), inclusive limpeza e empilhamento para reaproveitamento | D15: m2 | E15: 1 | F15: 17.93 | G15: 17.93
... A48: '010292 | B48: LABOR - 2024 - 010292 - 2 | C48: Retirada manual de alizar de madeira, sem reaproveitamento | D48: m | E48: 1 | F48: 1.54 | G48: 1.54
A49: '0103 | C49: DEMOLIÇÕES E RETIRADAS
A50: '010315 | B50: LABOR - 2024 - 010315 - 2 | C50: Retirada manual de telhas tipo Canalete 49, sem reaproveitamento | D50: m2 | E50: 1 | F50: 5.57 | G50: 5.57
A51: '010317 | B51: LABOR - 2024 - 010317 - 2 | C51: Demolição cuidadosa de alvenaria de forma manual, para abertura de vãos, sem reaproveitamento | D51: m2 | E51: 1 | F51: 102.14 | G51: 102.14
A52: '010318 | B52: LABOR - 2024 - 010318 - 2 | C52: Remoção manual de forro modular apoiados em estruturas em perfis metálicos, sem reaproveitamento | D52: m2 | E52: 1 | F52: 8.77 | G52: 8.77
A53: '010319 | B53: LABOR - 2024 - 010319 - 2 | C53: Remoção manual de pintura antiga a base de óleo ou esmalte sobre esquadrias, com aplicação de removedor | D53: m2 | E53: 1 | F53: 20.21 | G53: 20.21
A54: '010320 | B54: LABOR - 2024 - 010320 - 2 | C54: Remoção manual de revestimento de pisos com forração têxtil, com aplicação de solvente | D54: m2 | E54: 1 | F54: 3.93 | G54: 3.93
A55: '010323 | B55: LABOR - 2024 - 010323 - 2 | C55: Retirada de torneira, sem reaproveitamento | D55: und | E55: 1 | F55: 8.08 | G55: 8.08
A56: '010324 | B56: LABOR - 2024 - 010324 - 2 | C56: Retirada manual de telha tipo Canalete 90, sem reaproveitamento | D56: m2 | E56: 1 | F56: 6.68 | G56: 6.68
A57: '010325 | B57: LABOR - 2024 - 010325 - 2 | C57: Demolição manual de estrutura de madeira para telhado, sem reaproveitamento | D57: m2 | E57: 1 | F57: 7.82 | G57: 7.82
A58: '010326 | B58: LABOR - 2024 - 010326 - 2 | C58: Remoção manual de trama de madeira para cobertura, com reaproveitamento | D58: m2 | E58: 1 | F58: 31.9 | G58: 31.9
A59: '010327 | B59: LABOR - 2024 - 010327 - 2 | C59: Retirada manual de batente (marco) de madeira, sem reaproveitamento | D59: m | E59: 1 | F59: 4.04 | G59: 4.04
A60: '010329 | B60: LABOR - 2024 - 010329 - 2 | C60: Retirada manual de disjuntor monofásico, bifásico ou trifásico, sem reaproveitamento | D60: und | E60: 1 | F60: 6.53 | G60: 6.53
A61: '010331 | B61: LABOR - 2024 - 010331 - 2 | C61: Demolição manual de piso, soleira, peitoris e escadas em mármore ou granito, exclusive regularização, sem reaproveitamento | D61: m2 | E61: 1 | F61: 11.92 | G61: 11.92
... A64: '010344 | B64: LABOR - 2024 - 010344 - 2 | C64: Demolição de lajes, em concreto armado, de forma mecanizada com martelete demolidor elétrico, sem reaproveitamento | D64: m3 | E64: 1 | F64: 89.87 | G64: 89.87
A65: '0104 | C65: LIMPEZA DO TERRENO
A66: '010401 | B66: LABOR - 2024 - 010401 - 2 | C66: Corte manual de capoeira fina com foice | D66: m2 | E66: 1 | F66: 1.52 | G66: 1.52
A67: '010402 | B67: LABOR - 2024 - 010402 - 2 | C67: Raspagem superficial e limpeza manual do terreno, realizado com o uso de ferramentas manuais | D67: m2 | E67: 1 | F67: 4.92 | G67: 4.92
A68: '010403 | B68: LABOR - 2024 - 010403 - 2 | C68: Corte e destocamento manual de árvores com diâmetro de até 15 cm | D68: und | E68: 1 | F68: 59.04 | G68: 59.04
A69: '010404 | B69: LABOR - 2024 - 010404 - 2 | C69: Corte e destocamento mecanizado de árvores com diâmetro superior a 30 cm | D69: und | E69: 1 | F69: 167.59 | G69: 167.59
A70: '0105 | C70: LOCAÇÃO
A71: '010501 | B71: LABOR - 2024 - 010501 - 1 | C71: Locação de obra com gabarito de madeira | D71: m2 | E71: 1 | F71: 11.11 | G71: 11.11
A72: '010512 | B72: LABOR - 2024 - 010512 - 1 | C72: Equipe topográfica para serviços simples de locação e nivelamento (incluindo equipamento, transporte e profissionais nivel médio) | D72: mês | E72: 1 | F72: 23061.18 | G72: 23061.18
A73: '0108 | C73: SERVIÇOS ADMINISTRATIVOS E TÉCNICOS - MENSALISTAS
A74: '010801 | B74: LABOR - 2024 - 010801 - 1 | C74: Engenheiro Junior | D74: mês | E74: 1 | F74: 22315.73 | G74: 22315.73
...
