Workbook
Name BDI: BDI!$C$37
Name DADOS: [1]DADOS!$A$6:$A$13
Name ETAPA: [1]DADOS!$A$2:$A$3

Sheet ORÇAMENTO_GERAL
B2: PLANILHA DE QUANTITATIVOS | G2: SEM DESONERAÇÃO | K2: TAB. REF.: SINAPI, SICRO
B3: PREFEITURA MUNICIPAL DE COLATINA/ES | G3: BDI: 28,24%
B4: OBRA: CONTENÇÃO DE ENCOSTA, DRENAGEM E REVITALIZAÇÃO DE INFRAESTUTURA URBANA. | G4: BDI DIF: -
B5: EXTENSÃO: XXXXXXXXXXX m2 | G5: BONIFICAÇÃO: - | K5: DATA-BASE: SETEMBRO/2025
B6: LOCAL: BAIRRO VISTA DA SERRA, MUNICÍPIO DE COLATINA/ES | G6: LEIS SOCIAIS: SINAPI - 116,89% (hora) 72,95% (mês)
B7: ORÇAMENTISTA: xxxxxxxxxxxxxxxxxxxxxxxxxxxxxxxxx
B8: ITEM | C8: ÓRGÃO | D8: CÓDIGO | E8: DESCRIÇÃO DO SERVIÇO | F8: UNIDADE | G8: QUANTIDADE | H8: CUSTO UNITÁRIO (R$) | I8: BDI | J8: PREÇO UNITÁRIO (R$) C/ BDI | K8: REAJUSTE | M8: CUSTO TOTAL (R$)
K9: ÍNDICE | L9: VALOR
B10: 1 | E10: LABORATÓRIO, CAMPO E TREINAMENTOS
B11: 01.01 | C11: SINAPI-ES | D11: 41089 | E11: TECNICO EM LABORATORIO E CAMPO DE CONSTRUCAO CIVIL (MENSALISTA) | F11: MES | G11: =MEMORIAL_QUANT.!K12 -> 18 | H11: 8758.11 | I11: 0.2824 | J11: =ROUND(H11*(1+I11),2) -> 11231.4 | K11: - | L11: 1 | M11: =ROUND(J11*G11*L11,2) -> 202165.2
B12: 01.02 | C12: SINAPI-ES | D12: 100299 | E12: CURSO DE CAPACITAÇÃO PARA TÉCNICO EM SEGURANÇA DO TRABALHO (ENCARGOS COMPLEMENTARES) - HORISTA | F12: H | G12: =MEMORIAL_QUANT.!K13 -> 800 | H12: 0.63 | I12: 0.2824 | J12: =ROUND(H12*(1+I12),2) -> 0.81 | K12: - | L12: 1 | M12: =ROUND(J12*G12*L12,2) -> 648
B13: 01.03 | C13: SINAPI-ES | D13: 105009 | E13: LOCAÇÃO CONVENCIONAL DE OBRA, UTILIZANDO GABARITO DE TÁBUAS CORRIDAS PONTALETADAS A CADA 1,50M - 2 UTILIZAÇÕES. AF_03/2024 | F13: M | G13: =MEMORIAL_QUANT.!K16 -> 200 | H13: 93.67 | I13: 0.2824 | J13: =ROUND(H13*(1+I13),2) -> 120.12 | K13: - | L13: 1 | M13: =ROUND(J13*G13*L13,2) -> 24024
B14: 01.04 | C14: SINAPI-ES | D14: 105007 | E14: LOCAÇÃO DE PRAÇAS EM PONTALETEAMENTO. AF_03/2024 | F14: UN | G14: =MEMORIAL_QUANT.!K17 -> 1000 | H14: 47.74 | I14: 0.2824 | J14: =ROUND(H14*(1+I14),2) -> 61.22 | K14: - | L14: 1 | M14: =ROUND(J14*G14*L14,2) -> 61220
B15: 01.05 | C15: MERC-01 | D15: - | E15: ENSAIO DE CARACTERIZAÇÃO DE SOLO COMPLETA (GRANULOMETRIA / LL / LP) | F15: UND | G15: =MEMORIAL_QUANT.!K18 -> 11 | H15: 643.55 | I15: 0.2824 | J15: =ROUND(H15*(1+I15),2) -> 825.29 | K15: - | L15: 1 | M15: =ROUND(J15*G15*L15,2) -> 9078.19
B16: 01.06 | C16: MERC-02 | D16: - | E16: ENSAIO DE COMPACTAÇÃO DE SOLO | F16: UND | G16: =MEMORIAL_QUANT.!K19 -> 55 | H16: 2112.81 | I16: 0.2824 | J16: =ROUND(H16*(1+I16),2) -> 2709.47 | K16: - | L16: 1 | M16: =ROUND(J16*G16*L16,2) -> 149020.85
B17: 01.07 | C17: MERC-03 | D17: - | E17: COLETA DE AMOSTRAS DEFORMADAS | F17: UND | G17: =MEMORIAL_QUANT.!K20 -> 55 | H17: 1055 | I17: 0.2824 | J17: =ROUND(H17*(1+I17),2) -> 1352.93 | K17: - | L17: 1 | M17: =ROUND(J17*G17*L17,2) -> 74411.15
K18: TOTAL DO ITEM: | M18: =SUM(M11:M17) -> 520567.39
B20: 2 | E20: MOBILIZAÇÃO E DESMOBILIZAÇÃO
B21: 02.01 | C21: SINAPI-ES | D21: 98459 | E21: TAPUME COM TELHA METÁLICA. AF_03/2024 | F21: M2 | G21: =MEMORIAL_QUANT.!K23 -> 700 | H21: 94.13 | I21: 0.2824 | J21: =ROUND(H21*(1+I21),2) -> 120.71 | K21: - | L21: 1 | M21: =ROUND(J21*G21*L21,2) -> 84497
B22: 02.02 | C22: SINAPI-ES | D22: 34723 | E22: PLACA DE SINALIZACAO EM CHAPA DE ACO NUM 16 COM PINTURA REFLETIVA | F22: M2 | G22: =MEMORIAL_QUANT.!K24 -> 4 | H22: 924 | I22: 0.2824 | J22: =ROUND(H22*(1+I22),2) -> 1184.94 | K22: - | L22: 1 | M22: =ROUND(J22*G22*L22,2) -> 4739.76
B23: 02.03 | C23: SINAPI-ES | D23: 103689 | E23: FORNECIMENTO E INSTALAÇÃO DE PLACA DE OBRA COM CHAPA GALVANIZADA E ESTRUTURA DE MADEIRA. AF_03/2022_PS | F23: M2 | G23: =MEMORIAL_QUANT.!K25 -> 10 | H23: 469.31 | I23: 0.2824 | J23: =ROUND(H23*(1+I23),2) -> 601.84 | K23: - | L23: 1 | M23: =ROUND(J23*G23*L23,2) -> 6018.4
B24: 02.04 | C24: SINAPI-ES | D24: 13244 | E24: CONE DE SINALIZACAO EM PVC RIGIDO COM FAIXA REFLETIVA, H = 70 / 76 CM | F24: UN | G24: =MEMORIAL_QUANT.!K26 -> 30 | H24: 39.69 | I24: 0.2824 | J24: =ROUND(H24*(1+I24),2) -> 50.9 | K24: - | L24: 1 | M24: =ROUND(J24*G24*L24,2) -> 1527
B25: 02.05 | C25: SINAPI-ES | D25: 37524 | E25: TELA PLASTICA LARANJA, TIPO TAPUME PARA SINALIZACAO, MALHA RETANGULAR, ROLO 1.20 X 50 M (L X C) | F25: M | G25: =MEMORIAL_QUANT.!K27 -> 500 | H25: 1.96 | I25: 0.2824 | J25: =ROUND(H25*(1+I25),2) -> 2.51 | K25: - | L25: 1 | M25: =ROUND(J25*G25*L25,2) -> 1255
B26: 02.06 | C26: SINAPI-ES | D26: 101505 | E26: ENTRADA DE ENERGIA ELÉTRICA, AÉREA, TRIFÁSICA, COM CAIXA DE SOBREPOR, CABO DE 10 MM2 E DISJUNTOR DIN 50A (NÃO INCLUSO O POSTE DE CONCRETO). AF_07/2020_PS | F26: UN | G26: =MEMORIAL_QUANT.!K28 -> 2 | H26: 2108.44 | I26: 0.2824 | J26: =ROUND(H26*(1+I26),2) -> 2703.86 | K26: - | L26: 1 | M26: =ROUND(J26*G26*L26,2) -> 5407.72
B27: 02.07 | C27: SINAPI-ES | D27: 105113 | E27: ESTRUTURA DE MADEIRA PROVISÓRIA PARA SUPORTE DE CAIXA D'ÁGUA ELEVADA DE 2000 LITROS. AF_03/2024 | F27: UN | G27: =MEMORIAL_QUANT.!K31 -> 2 | H27: 8474.96 | I27: 0.2824 | J27: =ROUND(H27*(1+I27),2) -> 10868.29 | K27: - | L27: 1 | M27: =ROUND(J27*G27*L27,2) -> 21736.58
B28: 02.08 | C28: SINAPI-ES | D28: 102615 | E28: CAIXA D´ÁGUA EM POLIÉSTER REFORÇADO COM FIBRA DE VIDRO, 2000 LITROS - FORNECIMENTO E INSTALAÇÃO. AF_06/2021 | F28: UN | G28: =MEMORIAL_QUANT.!K32 -> 3 | H28: 1280.99 | I28: 0.2824 | J28: =ROUND(H28*(1+I28),2) -> 1642.74 | K28: - | L28: 1 | M28: =ROUND(J28*G28*L28,2) -> 4928.22
B29: 02.09 | C29: SINAPI-ES | D29: 10775 | E29: LOCACAO DE CONTAINER 2,30 X 6,00 M, ALT. 2,50 M, COM 1 SANITARIO, PARA ESCRITORIO, COMPLETO, SEM DIVISORIAS INTERNAS (NAO INCLUI MOBILIZACAO/DESMOBILIZACAO) | F29: MES | G29: =MEMORIAL_QUANT.!K33 -> 18 | H29: 1250 | I29: 0.2824 | J29: =ROUND(H29*(1+I29),2) -> 1603 | K29: - | L29: 1 | M29: =ROUND(J29*G29*L29,2) -> 28854
B30: 02.10 | C30: SINAPI-ES | D30: 10776 | E30: LOCACAO DE CONTAINER 2,30 X 6,00 M, ALT. 2,50 M, PARA ESCRITORIO, SEM DIVISORIAS INTERNAS E SEM SANITARIO (NAO INCLUI MOBILIZACAO/DESMOBILIZACAO) | F30: MES | G30: =MEMORIAL_QUANT.!K35 -> 360 | H30: 976.56 | I30: 0.2824 | J30: =ROUND(H30*(1+I30),2) -> 1252.34 | K30: - | L30: 1 | M30: =ROUND(J30*G30*L30,2) -> 450842.4
B31: 02.11 | C31: SINAPI-ES | D31: 10778 | E31: LOCACAO DE CONTAINER 2,30 X 6,00 M, ALT. 2,50 M, PARA SANITARIO, COM 4 BACIAS, 8 CHUVEIROS,1 LAVATORIO E 1 MICTORIO (NAO INCLUI MOBILIZACAO/DESMOBILIZACAO) | F31: MES | G31: =MEMORIAL_QUANT.!K40 -> 72 | H31: 1562.5 | I31: 0.2824 | J31: =ROUND(H31*(1+I31),2) -> 2003.75 | K31: - | L31: 1 | M31: =ROUND(J31*G31*L31,2) -> 144270
B32: 02.12 | C32: SINAPI-ES | D32: 105115 | E32: INSTALAÇÃO E DESINSTALAÇÃO MECANIZADA DE CONTÊINER OU MÓDULO HABITÁVEL DE USOS DIVERSOS. AF_03/2024 | F32: UN | G32: =MEMORIAL_QUANT.!K42 -> 25 | H32: 141.42 | I32: 0.2824 | J32: =ROUND(H32*(1+I32),2) -> 181.36 | K32: - | L32: 1 | M32: =ROUND(J32*G32*L32,2) -> 4534
B33: 02.13 | C33: SINAPI-ES | D33: 97637 | E33: REMOÇÃO DE TAPUME/ CHAPAS METÁLICAS E DE MADEIRA, DE FORMA MANUAL, SEM REAPROVEITAMENTO. AF_09/2023 | F33: M2 | G33: =MEMORIAL_QUANT.!K49 -> 700 | H33: 3.75 | I33: 0.2824 | J33: =ROUND(H33*(1+I33),2) -> 4.81 | K33: - | L33: 1 | M33: =ROUND(J33*G33*L33,2) -> 3367
B34: 02.14 | C34: SINAPI-ES | D34: 95879 | E34: TRANSPORTE COM CAMINHÃO BASCULANTE DE 14 M³, EM VIA URBANA PAVIMENTADA, DMT ATÉ 30 KM (UNIDADE: TXKM). AF_07/2020 | F34: TXKM | G34: =MEMORIAL_QUANT.!K50 -> 2000 | H34: 1.47 | I34: 0.2824 | J34: =ROUND(H34*(1+I34),2) -> 1.89 | K34: - | L34: 1 | M34: =ROUND(J34*G34*L34,2) -> 3780
B35: 02.15 | C35: SINAPI-ES | D35: 100999 | E35: CARGA, MANOBRA E DESCARGA DE ENTULHO EM CAMINHÃO BASCULANTE 14 M³ - CARGA COM ESCAVADEIRA HIDRÁULICA (CAÇAMBA DE 0,80 M³ / 111 HP) E DESCARGA LIVRE (UNIDADE: T). AF_07/2020 | F35: T | G35: =MEMORIAL_QUANT.!K51 -> 50 | H35: 6.19 | I35: 0.2824 | J35: =ROUND(H35*(1+I35),2) -> 7.94 | K35: - | L35: 1 | M35: =ROUND(J35*G35*L35,2) -> 397
K36: TOTAL DO ITEM: | M36: =SUM(M21:M35) -> 766154.08
B38: 3 | E38: MOVIMENTAÇÃO DE TERRA
B39: 03.01 | C39: SINAPI-ES | D39: 98525 | E39: LIMPEZA MECANIZADA DE CAMADA VEGETAL, VEGETAÇÃO E PEQUENAS ÁRVORES (DIÂMETRO DE TRONCO MENOR QUE 0,20 M), COM TRATOR DE ESTEIRAS. AF_03/2024 | F39: M2 | G39: =MEMORIAL_QUANT.!K54 -> 16652.9 | H39: 0.75 | I39: 0.2824 | J39: =ROUND(H39*(1+I39),2) -> 0.96 | K39: - | L39: 1 | M39: =ROUND(J39*G39*L39,2) -> 15986.78
B40: 03.02 | C40: SINAPI-ES | D40: 98524 | E40: LIMPEZA MANUAL DE VEGETAÇÃO EM TERRENO COM ENXADA. AF_03/2024 | F40: M2 | G40: =MEMORIAL_QUANT.!K58 -> 4571.6 | H40: 5.7 | I40: 0.2824 | J40: =ROUND(H40*(1+I40),2) -> 7.31 | K40: - | L40: 1 | M40: =ROUND(J40*G40*L40,2) -> 33418.4
B41: 03.03 | C41: SINAPI-ES | D41: 104947 | E41: DRAGAGEM DE MATERIAIS DE 1A CATEGORIA E COMPOSTOS ORGÂNICOS E INORGÂNICOS COM RETROESCAVADEIRA (CAÇAMBA: 0,26 M3/88 HP). AF_03/2024 | F41: M3 | G41: =MEMORIAL_QUANT.!K63 -> 200 | H41: 13.15 | I41: 0.2824 | J41: =ROUND(H41*(1+I41),2) -> 16.86 | K41: - | L41: 1 | M41: =ROUND(J41*G41*L41,2) -> 3372
B42: 03.04 | C42: SINAPI-ES | D42: 101234 | E42: ESCAVAÇÃO VERTICAL PARA INFRAESTRUTURA, COM CARGA, DESCARGA E TRANSPORTE DE SOLO DE 1ª CATEGORIA, COM ESCAVADEIRA HIDRÁULICA (CAÇAMBA: 0,8 M³ / 111HP), FROTA DE 5 CAMINHÕES BASCULANTES DE 14 M³, DMT DE 1,5 KM E VELOCIDADE MÉDIA18 KM/H. AF_05/2020 | F42: M3 | G42: =MEMORIAL_QUANT.!K65 -> 51273.67 | H42: 17.64 | I42: 0.2824 | J42: =ROUND(H42*(1+I42),2) -> 22.62 | K42: - | L42: 1 | M42: =ROUND(J42*G42*L42,2) -> 1159810.4
B43: 03.05 | C43: SINAPI-ES | D43: 101238 | E43: ESCAVAÇÃO VERTICAL PARA INFRAESTRUTURA, COM CARGA, DESCARGA E TRANSPORTE DE SOLO DE 1ª CATEGORIA, COM ESCAVADEIRA HIDRÁULICA (CAÇAMBA: 0,8 M³ / 111HP), FROTA DE 8 CAMINHÕES BASCULANTES DE 14 M³, DMT DE 6 KM E VELOCIDADE MÉDIA 22 KM/H. AF_05/2020 | F43: M3 | G43: =MEMORIAL_QUANT.!K71 -> 79928.67 | H43: 29.03 | I43: 0.2824 | J43: =ROUND(H43*(1+I43),2) -> 37.23 | K43: - | L43: 1 | M43: =ROUND(J43*G43*L43,2) -> 2975744.4
...

Sheet CRONOGRAMA_FF
B2: CRONOGRAMA FÍSICO-FINANCEIRO
E3: SERPENGE Serviços e Projetos de Engenharia Ltda. Contrato: 2273-CO2 Objeto Contratual: Projeto Executivo de Obras de Mitigação de Riscos da Área 01
B6: NATUREZA: CONTENÇÃO DE ENCOSTA, DRENAGEM E REVITALIZAÇÃO DE INFRAESTUTURA URBANA.
B8: LOCALIZAÇÃO: Bairro Vista da Serra, Colatina - ES | AA8: PRAZO DA OBRA EM MESES: | AB8: 18
B10: ITEM | C10: DISCRIMINAÇÃO | F10: MESES | X10: VALOR DO ITEM (sem BDI) | AA10: % sobre o Total
F11: 1 | G11: 2 | H11: 3 | I11: 4 | J11: 5 | K11: 6 | L11: 7 | M11: 8 | N11: 9 | O11: 10 | P11: 11 | Q11: 12 | R11: 13 | S11: 14 | T11: 15 | U11: 16 | V11: 17 | W11: 18
B12: 1 | C12: LABORATÓRIO, CAMPO E TREINAMENTOS | X12: =ORÇAMENTO_GERAL!M18 -> 520567.39 | AA12: =X12/X20 -> 0.027067484
B13: 2 | C13: MOBILIZAÇÃO E DESMOBILIZAÇÃO | X13: =ORÇAMENTO_GERAL!M36 -> 766154.08 | AA13: =X13/X20 -> 0.039837039
B14: 3 | C14: MOVIMENTAÇÃO DE TERRA | X14: =ORÇAMENTO_GERAL!M52 -> 7820001.6 | AA14: =X14/X20 -> 0.40660974
B15: 4 | C15: SOLO GRAMPEADO | X15: =ORÇAMENTO_GERAL!M61 -> 2825940.6 | AA15: =X15/X20 -> 0.14693795
B16: 5 | C16: CORTINA ATIRANTADA | X16: =ORÇAMENTO_GERAL!M80 -> 1667726.3 | AA16: =X16/X20 -> 0.086715296
B17: 6 | C17: SISTEMA DE DRENAGEM | X17: =ORÇAMENTO_GERAL!M101 -> 5310258.6 | AA17: =X17/X20 -> 0.27611284
B18: 7 | C18: RECOMPOSIÇÃO VEGETAL | X18: =ORÇAMENTO_GERAL!M107 -> 214468.83 | AA18: =X18/X20 -> 0.011151547
B19: 8 | C19: PALIÇADAS | X19: =ORÇAMENTO_GERAL!M112 -> 107087.08 | AA19: =X19/X20 -> 0.0055681126
B20: TOTAL GERAL | X20: =SUM(X12:Z19) -> 19232205 | AA20: =SUM(AA12:AB19) -> 1

Sheet MEMORIAL_QUANT.
B2: MEMORIAL QUANTITATIVO
E3: SERPENGE Serviços e Projetos de Engenharia Ltda. Contrato: 2273-CO2 Objeto Contratual: Projeto Executivo de Obras de Mitigação de Riscos da Área 01
B6: Natureza: | D6: CONTENÇÃO DE ENCOSTA, DRENAGEM E REVITALIZAÇÃO DE INFRAESTUTURA URBANA.
B8: Localização: | D8: Bairro Vista da Serra, Colatina - ES
B10: ITEM | C10: FONTE | D10: CÓDIGO | E10: DESCRIÇÃO | H10: UNIDADE | I10: QUANTIDADE | J10: ÍNDICE | K10: TOTAL
B11: 1 | E11: LABORATÓRIO, CAMPO E TREINAMENTOS
B12: 1.1 | C12: SINAPI-ES | D12: 41089 | E12: TECNICO EM LABORATORIO E CAMPO DE CONSTRUCAO CIVIL (MENSALISTA) | H12: MES | I12: 18 | J12: 1 | K12: =ROUND(I12*J12,2) -> 18
B13: 1.2 | C13: SINAPI-ES | D13: 100299 | E13: CURSO DE CAPACITAÇÃO PARA TÉCNICO EM SEGURANÇA DO TRABALHO (ENCARGOS COMPLEMENTARES) - HORISTA | H13: H | I13: =I15 -> 800 | J13: 1 | K13: =ROUND(I13*J13,2) -> 800
B14: a | D14: a | E14: Seção de integração de segurança | H14: H | I14: 8
B15: b | D15: b | E15: Seção de integração para 100 trabalhadores a*100 | H15: H | I15: 800
B16: 1.3 | C16: SINAPI-ES | D16: 105009 | E16: LOCAÇÃO CONVENCIONAL DE OBRA, UTILIZANDO GABARITO DE TÁBUAS CORRIDAS PONTALETADAS A CADA 1,50M - 2 UTILIZAÇÕES. AF_03/2024 | H16: M | I16: 200 | J16: 1 | K16: =ROUND(I16*J16,2) -> 200
B17: 1.4 | C17: SINAPI-ES | D17: 105007 | E17: LOCAÇÃO DE PRAÇAS EM PONTALETEAMENTO. AF_03/2024 | H17: UND | I17: 1000 | J17: 1 | K17: =ROUND(I17*J17,2) -> 1000
B18: 1.5 | C18: LABORATÓRIO | D18: - | E18: ENSAIO DE CARACTERIZAÇÃO DE SOLO COMPLETA (GRANULOMETRIA / LL / LP) | H18: UND | I18: 11 | J18: 1 | K18: =ROUND(I18*J18,2) -> 11
B19: 1.6 | C19: LABORATÓRIO | D19: - | E19: ENSAIO DE COMPACTAÇÃO DE SOLO | H19: UND | I19: 55 | J19: 1 | K19: =ROUND(I19*J19,2) -> 55
B20: 1.7 | C20: LABORATÓRIO | D20: - | E20: COLETA DE AMOSTRAS DEFORMADAS | H20: UND | I20: 55 | J20: 1 | K20: =ROUND(I20*J20,2) -> 55
B22: 2 | E22: MOBILIZAÇÃO E DESMOBILIZAÇÃO
B23: 2.1 | C23: SINAPI-ES | D23: 98459 | E23: TAPUME COM TELHA METÁLICA. AF_03/2024 | H23: M2 | I23: 700 | J23: 1 | K23: =ROUND(I23*J23,2) -> 700
B24: 2.2 | C24: SINAPI-ES | D24: 34723 | E24: PLACA DE SINALIZACAO EM CHAPA DE ACO NUM 16 COM PINTURA REFLETIVA | H24: M2 | I24: 4 | J24: 1 | K24: =ROUND(I24*J24,2) -> 4
B25: 2.3 | C25: SINAPI-ES | D25: 103689 | E25: FORNECIMENTO E INSTALAÇÃO DE PLACA DE OBRA COM CHAPA GALVANIZADA E ESTRUTURA DE MADEIRA. AF_03/2022_PS | H25: M2 | I25: 10 | J25: 1 | K25: =ROUND(I25*J25,2) -> 10
B26: 2.4 | C26: SINAPI-ES | D26: 13244 | E26: CONE DE SINALIZACAO EM PVC RIGIDO COM FAIXA REFLETIVA, H = 70 / 76 CM | H26: UN | I26: 30 | J26: 1 | K26: =ROUND(I26*J26,2) -> 30
B27: 2.5 | C27: SINAPI-ES | D27: 37524 | E27: TELA PLASTICA LARANJA, TIPO TAPUME PARA SINALIZACAO, MALHA RETANGULAR, ROLO 1.20 X 50 M (L X C) | H27: M | I27: 500 | J27: 1 | K27: =ROUND(I27*J27,2) -> 500
B28: 2.6 | C28: SINAPI-ES | D28: 101505 | E28: ENTRADA DE ENERGIA ELÉTRICA, AÉREA, TRIFÁSICA, COM CAIXA DE SOBREPOR, CABO DE 10 MM2 E DISJUNTOR DIN 50A (NÃO INCLUSO O POSTE DE CONCRETO). AF_07/2020_PS | H28: UND | I28: 2 | J28: 1 | K28: =ROUND(I28*J28,2) -> 2
B29: a | D29: a | E29: Entrada de energia elétrica para o Canteiro de montante | H29: UND | I29: 1
B30: a | D30: a | E30: Entrada de energia elétrica para o Canteiro de jusante | H30: UND | I30: 1
B31: 2.7 | C31: SINAPI-ES | D31: 105113 | E31: ESTRUTURA DE MADEIRA PROVISÓRIA PARA SUPORTE DE CAIXA D'ÁGUA ELEVADA DE 2000 LITROS. AF_03/2024 | H31: UND | I31: 2 | J31: 1 | K31: =ROUND(I31*J31,2) -> 2
B32: 2.8 | C32: SINAPI-ES | D32: 102615 | E32: CAIXA D´ÁGUA EM POLIÉSTER REFORÇADO COM FIBRA DE VIDRO, 2000 LITROS - FORNECIMENTO E INSTALAÇÃO. AF_06/2021 | H32: UND | I32: 3 | J32: 1 | K32: =ROUND(I32*J32,2) -> 3
B33: 2.9 | C33: SINAPI-ES | D33: 10775 | E33: LOCACAO DE CONTAINER 2,30 X 6,00 M, ALT. 2,50 M, COM 1 SANITARIO, PARA ESCRITORIO, COMPLETO, SEM DIVISORIAS INTERNAS (NAO INCLUI MOBILIZACAO/DESMOBILIZACAO) | H33: MES | I33: 18 | J33: 1 | K33: =ROUND(I33*J33,2) -> 18
B34: a | D34: a | E34: Locação de 1 container para escritório | H34: UND | I34: 1
B35: 2.10 | C35: SINAPI-ES | D35: 10776 | E35: LOCACAO DE CONTAINER 2,30 X 6,00 M, ALT. 2,50 M, SEM DIVISORIAS INTERNAS E SEM SANITARIO (NAO INCLUI MOBILIZACAO/DESMOBILIZACAO) | H35: MES | I35: 18 | J35: 20 | K35: =ROUND(I35*J35,2) -> 360
B36: a | D36: a | E36: Locação de 2 container para almoxarifado | H36: UND | I36: 2
B37: b | D37: b | E37: Locação de 10 containers para vestiário | H37: UND | I37: 10
B38: c | D38: c | E38: Locação de 8 containers para refeitório | H38: UND | I38: 8
B39: d | D39: d | E39: Locação total de containers a+b+c = 20 containers | H39: UND | I39: 20
B40: 2.11 | C40: SINAPI-ES | D40: 10778 | E40: LOCACAO DE CONTAINER 2,30 X 6,00 M, ALT. 2,50 M, PARA SANITARIO, COM 4 BACIAS, 8 CHUVEIROS,1 LAVATORIO E 1 MICTORIO (NAO INCLUI MOBILIZACAO/DESMOBILIZACAO) | H40: MES | I40: 18 | J40: 4 | K40: =ROUND(I40*J40,2) -> 72
B41: a | D41: a | E41: Locação de 4 containers para sanitário | H41: UND | I41: 4
B42: 2.12 | C42: SINAPI-ES | D42: 105115 | E42: INSTALAÇÃO E DESINSTALAÇÃO MECANIZADA DE CONTÊINER OU MÓDULO HABITÁVEL DE USOS DIVERSOS. AF_03/2024 | H42: UN | I42: =I48 -> 25 | J42: 1 | K42: =ROUND(I42*J42,2) -> 25
B43: a | D43: a | E43: Locação de 2 container para almoxarifado | H43: UND | I43: 2
B44: b | D44: b | E44: Locação de 10 containers para vestiário | H44: UND | I44: 10
B45: c | D45: c | E45: Locação de 8 containers para refeitório | H45: UND | I45: 8
B46: d | D46: d | E46: Locação de 1 container para escritório | H46: UND | I46: 1
...

Sheet CURVA ABC
B2: CURVA ABC | K2: TAB. REF.: SINAPI, SICRO
B3: PREFEITURA MUNICIPAL DE COLATINA/ES
B4: OBRA: CONTENÇÃO DE ENCOSTA, DRENAGEM E REVITALIZAÇÃO DE INFRAESTUTURA URBANA.
B5: EXTENSÃO: XXXXXXXXXXX m2 | K5: DATA-BASE: SETEMBRO/2025
B6: LOCAL: BAIRRO VISTA DA SERRA, MUNICÍPIO DE COLATINA/ES
B7: ORÇAMENTISTA: xxxxxxxxxxxxxxxxxxxxxxxxxxxxxxxxx
B8: ITEM | C8: ÓRGÃO | D8: CÓDIGO | E8: DESCRIÇÃO DO SERVIÇO | F8: UNIDADE | G8: QUANTIDADE | H8: CUSTO UNITÁRIO (R$) | I8: BDI | J8: PREÇO UNITÁRIO (R$) C/ BDI | K8: REAJUSTE | M8: CUSTO TOTAL (R$) | N8: PESO | O8: PESO ACUM. | P8: ITEM NÚMERO | Q8: CLASSIFICAÇÃO
K9: ÍNDICE | L9: VALOR
B10: 03.05 | C10: SINAPI-ES | D10: 101238 | E10: ESCAVAÇÃO VERTICAL PARA INFRAESTRUTURA, COM CARGA, DESCARGA E TRANSPORTE DE SOLO DE 1ª CATEGORIA, COM ESCAVADEIRA HIDRÁULICA (CAÇAMBA: 0,8 M³ / 111HP), FROTA DE 8 CAMINHÕES BASCULANTES DE 14 M³, DMT DE 6 KM E VELOCIDADE MÉDIA 22 KM/H. AF_05/2020 | F10: M3 | G10: =MEMORIAL_QUANT.!K71 -> 79928.67 | H10: 29.03 | I10: 0.2824 | J10: =ROUND(H10*(1+I10),2) -> 37.23 | K10: - | L10: 1 | M10: =ROUND(J10*G10*L10,2) -> 2975744.4 | N10: =M10/$M$96 -> 0.15673091 | O10: =N10 -> 0.15673091 | P10: 1 | Q10: A
B11: 06.13 | C11: SICRO-ES | D11: 3205876 | E11: GABIÃO COLCHÃO ESPESSURA 0,30 M - ZN/AL + PVC - D = 2,0 MM - PEDRA DE MÃO COMERCIAL - FORNECIMENTO E ASSENTAMENTO | F11: M2 | G11: =MEMORIAL_QUANT.!K178 -> 7344.92 | H11: 290.6 | I11: 0.2824 | J11: =ROUND(H11*(1+I11),2) -> 372.67 | K11: Drenagem | L11: 1.009 | M11: =ROUND(J11*G11*L11,2) -> 2761866.4 | N11: =M11/$M$96 -> 0.14546607 | O11: =N11+O10 -> 0.30219698 | P11: 2 | Q11: A
B12: 03.07 | C12: SINAPI-ES | D12: 93358 | E12: ESCAVAÇÃO MANUAL DE VALA. AF_09/2024 | F12: M3 | G12: =MEMORIAL_QUANT.!K85 -> 12201.12 | H12: 105.81 | I12: 0.2824 | J12: =ROUND(H12*(1+I12),2) -> 135.69 | K12: - | L12: 1 | M12: =ROUND(J12*G12*L12,2) -> 1655570 | N12: =M12/$M$96 -> 0.087198012 | O12: =N12+O11 -> 0.389395 | P12: 3 | Q12: A
B13: 04.04 | C13: SINAPI-ES | D13: 104849 | E13: EXECUÇÃO DE PERFURAÇÃO PARA TIRANTE, COMPRIMENTO MAIOR OU IGUAL A 14 M E MENOR QUE 22 M, COM DIÂMETRO DE FURO DE 100 MM EXECUTADO COM HASTE UTILIZANDO PERFURATRIZ MANUAL SOBRE BASE DE MONTAGEM. AF_11/2023 | F13: M | G13: =MEMORIAL_QUANT.!K125 -> 16520.5 | H13: 61.32 | I13: 0.2824 | J13: =ROUND(H13*(1+I13),2) -> 78.64 | K13: - | L13: 1 | M13: =ROUND(J13*G13*L13,2) -> 1299172.1 | N13: =M13/$M$96 -> 0.068426722 | O13: =N13+O12 -> 0.45782172 | P13: 4 | Q13: A
B14: 03.04 | C14: SINAPI-ES | D14: 101234 | E14: ESCAVAÇÃO VERTICAL PARA INFRAESTRUTURA, COM CARGA, DESCARGA E TRANSPORTE DE SOLO DE 1ª CATEGORIA, COM ESCAVADEIRA HIDRÁULICA (CAÇAMBA: 0,8 M³ / 111HP), FROTA DE 5 CAMINHÕES BASCULANTES DE 14 M³, DMT DE 1,5 KM E VELOCIDADE MÉDIA18 KM/H. AF_05/2020 | F14: M3 | G14: =MEMORIAL_QUANT.!K65 -> 51273.67 | H14: 17.64 | I14: 0.2824 | J14: =ROUND(H14*(1+I14),2) -> 22.62 | K14: - | L14: 1 | M14: =ROUND(J14*G14*L14,2) -> 1159810.4 | N14: =M14/$M$96 -> 0.061086613 | O14: =N14+O13 -> 0.51890833 | P14: 5 | Q14: A
B15: 04.05 | C15: SINAPI-ES | D15: 91093 | E15: EXECUÇÃO DE REVESTIMENTO DE CONCRETO PROJETADO COM ESPESSURA DE 10 CM, ARMADO COM TELA, INCLINAÇÃO DE 90°, APLICAÇÃO DESCONTÍNUA, UTILIZANDO EQUIPAMENTO DE PROJEÇÃO COM 3 M3/H DE CAPACIDADE. AF_07/2024 | F15: M2 | G15: =MEMORIAL_QUANT.!K126 -> 2462.72 | H15: 359.51 | I15: 0.2824 | J15: =ROUND(H15*(1+I15),2) -> 461.04 | K15: - | L15: 1 | M15: =ROUND(J15*G15*L15,2) -> 1135412.4 | N15: =M15/$M$96 -> 0.059801584 | O15: =N15+O14 -> 0.57870991 | P15: 6 | Q15: A
B16: 03.10 | C16: SINAPI-ES | D16: 100205 | E16: TRANSPORTE HORIZONTAL COM JERICA DE 60 L, DE MASSA/ GRANEL (UNIDADE: M3XKM). AF_07/2019 | F16: M3XKM | G16: =MEMORIAL_QUANT.!K101 -> 476.46 | H16: 1827.19 | I16: 0.2824 | J16: =ROUND(H16*(1+I16),2) -> 2343.19 | K16: - | L16: 1 | M16: =ROUND(J16*G16*L16,2) -> 1116436.3 | N16: =M16/$M$96 -> 0.058802121 | O16: =N16+O15 -> 0.63751204 | P16: 7 | Q16: A
B17: 05.13 | C17: SICRO-ES | D17: 5605882 | E17: TIRANTE PERMANENTE PROTENDIDO DE AÇO D = 32 MM, TENSÃO DE ESCOAMENTO = 950 MPA E TENSÃO DE RUPTURA = 1.050 MPA - EXCETO PERFURAÇÃO | F17: M | G17: =MEMORIAL_QUANT.!K144 -> 1300 | H17: 377.12 | I17: 0.2824 | J17: =ROUND(H17*(1+I17),2) -> 483.62 | K17: Obras Complementares | L17: 1.008 | M17: =ROUND(J17*G17*L17,2) -> 633735.65 | N17: =M17/$M$96 -> 0.033378528 | O17: =N17+O16 -> 0.67089056 | P17: 8 | Q17: A
B18: 03.06 | C18: SINAPI-ES | D18: 105558 | E18: EXECUÇÃO E COMPACTAÇÃO DE CAMADA FINAL DE ATERRO (100% DE ENERGIA DO PROCTOR NORMAL) COM SOLO PREDOMINANTEMENTE ARGILOSO, EM CAMADAS COM ESPESSURA DE 15 CM - EXCLUSIVE ESCAVAÇÃO, CARGA E TRANSPORTE E SOLO. AF_09/2024 | F18: M3 | G18: =MEMORIAL_QUANT.!K79 -> 31577.52 | H18: 14.97 | I18: 0.2824 | J18: =ROUND(H18*(1+I18),2) -> 19.2 | K18: - | L18: 1 | M18: =ROUND(J18*G18*L18,2) -> 606288.38 | N18: =M18/$M$96 -> 0.031932894 | O18: =N18+O17 -> 0.70282346 | P18: 9 | Q18: A
B19: 06.09 | C19: SINAPI-ES | D19: 102994 | E19: CANALETA MEIA CANA PRÉ-MOLDADA DE CONCRETO (D = 80 CM) - FORNECIMENTO E INSTALAÇÃO. AF_05/2025 | F19: M | G19: =MEMORIAL_QUANT.!K170 -> 1298.87 | H19: 289.12 | I19: 0.2824 | J19: =ROUND(H19*(1+I19),2) -> 370.77 | K19: - | L19: 1 | M19: =ROUND(J19*G19*L19,2) -> 481582.03 | N19: =M19/$M$96 -> 0.025364676 | O19: =N19+O18 -> 0.72818813 | P19: 10 | Q19: A
B20: 06.14 | C20: SICRO-ES | D20: M0107 | E20: GEOCOMPOSTO PARA DRENAGEM | F20: M2 | G20: =MEMORIAL_QUANT.!K183 -> 8344.92 | H20: 43.26 | I20: 0.2824 | J20: =ROUND(H20*(1+I20),2) -> 55.48 | K20: Drenagem | L20: 1.009 | M20: =ROUND(J20*G20*L20,2) -> 467142.95 | N20: =M20/$M$96 -> 0.024604177 | O20: =N20+O19 -> 0.75279231 | P20: 11 | Q20: A
B21: 02.10 | C21: SINAPI-ES | D21: 10776 | E21: LOCACAO DE CONTAINER 2,30 X 6,00 M, ALT. 2,50 M, PARA ESCRITORIO, SEM DIVISORIAS INTERNAS E SEM SANITARIO (NAO INCLUI MOBILIZACAO/DESMOBILIZACAO) | F21: MES | G21: =MEMORIAL_QUANT.!K35 -> 360 | H21: 976.56 | I21: 0.2824 | J21: =ROUND(H21*(1+I21),2) -> 1252.34 | K21: - | L21: 1 | M21: =ROUND(J21*G21*L21,2) -> 450842.4 | N21: =M21/$M$96 -> 0.023745635 | O21: =N21+O20 -> 0.77653795 | P21: 12 | Q21: A
B22: 06.04 | C22: SICRO-ES | D22: 2003415 | E22: DESCIDA D'ÁGUA DE ATERROS EM DEGRAUS - DAD 125-30 - AREIA E BRITA COMERCIAIS | F22: M | G22: =MEMORIAL_QUANT.!K162 -> 375.92 | H22: 874.56 | I22: 0.2824 | J22: =ROUND(H22*(1+I22),2) -> 1121.54 | K22: Drenagem | L22: 1.009 | M22: =ROUND(J22*G22*L22,2) -> 425403.8 | N22: =M22/$M$96 -> 0.022405797 | O22: =N22+O21 -> 0.79894374 | P22: 13 | Q22: A
B23: 06.12 | C23: SICRO-ES | D23: 1505879 | E23: ENROCAMENTO DE PEDRA ARRUMADA MANUALMENTE - PEDRA DE MÃO COMERCIAL - FORNECIMENTO E ASSENTAMENTO | F23: M3 | G23: =MEMORIAL_QUANT.!K174 -> 1093.3 | H23: 292.1 | I23: 0.2824 | J23: =ROUND(H23*(1+I23),2) -> 374.59 | K23: Drenagem | L23: 1.009 | M23: =ROUND(J23*G23*L23,2) -> 413225.1 | N23: =M23/$M$96 -> 0.021764352 | O23: =N23+O22 -> 0.8207081 | P23: 14 | Q23: B
B24: 04.01 | C24: SINAPI-ES | D24: 43055 | E24: ACO CA-50, 12,5 MM OU 16,0 MM, VERGALHAO | F24: KG | G24: =MEMORIAL_QUANT.!K117 -> 28649.23 | H24: 7.94 | I24: 0.2824 | J24: =ROUND(H24*(1+I24),2) -> 10.18 | K24: - | L24: 1 | M24: =ROUND(J24*G24*L24,2) -> 291649.16 | N24: =M24/$M$96 -> 0.01536101 | O24: =N24+O23 -> 0.83606911 | P24: 15 | Q24: B
B25: 05.07 | C25: SINAPI-ES | D25: 100349 | E25: CONCRETAGEM DE CORTINA DE CONTENÇÃO, ATRAVÉS DE BOMBA - LANÇAMENTO, ADENSAMENTO E ACABAMENTO. AF_11/2024 | F25: M3 | G25: =MEMORIAL_QUANT.!K138 -> 205.6 | H25: 772.21 | I25: 0.2824 | J25: =ROUND(H25*(1+I25),2) -> 990.28 | K25: - | L25: 1 | M25: =ROUND(J25*G25*L25,2) -> 203601.57 | N25: =M25/$M$96 -> 0.010723589 | O25: =N25+O24 -> 0.84679269 | P25: 16 | Q25: B
B26: 07.01 | C26: SICRO-ES | D26: 4415673 | E26: REVESTIMENTO VEGETAL COM GRAMA EM MUDAS EM SUPERFÍCIES INCLINADAS | F26: M2 | G26: =MEMORIAL_QUANT.!K203 -> 18927.72 | H26: 8.18 | I26: 0.2824 | J26: =ROUND(H26*(1+I26),2) -> 10.49 | K26: Obras Complementares | L26: 1.008 | M26: =ROUND(J26*G26*L26,2) -> 200140.2 | N26: =M26/$M$96 -> 0.010541281 | O26: =N26+O25 -> 0.85733397 | P26: 17 | Q26: B
B27: 06.05 | C27: SICRO-ES | D27: 2003419 | E27: DESCIDA D'ÁGUA DE ATERROS EM DEGRAUS - DAD 170-35 - AREIA E BRITA COMERCIAIS | F27: M | G27: =MEMORIAL_QUANT.!K164 -> 136.42 | H27: 1059.1 | I27: 0.2824 | J27: =ROUND(H27*(1+I27),2) -> 1358.19 | K27: Drenagem | L27: 1.009 | M27: =ROUND(J27*G27*L27,2) -> 186951.84 | N27: =M27/$M$96 -> 0.0098466564 | O27: =N27+O26 -> 0.86718063 | P27: 18 | Q27: B
B28: 06.15 | C28: SICRO-ES | D28: 5914374 | E28: TRANSPORTE COM CAMINHÃO BASCULANTE DE 10 M³ - RODOVIA EM REVESTIMENTO PRIMÁRIO | F28: TKM | G28: =MEMORIAL_QUANT.!K187 -> 130552.49 | H28: 1 | I28: 0.2824 | J28: =ROUND(H28*(1+I28),2) -> 1.28 | K28: Drenagem | L28: 1.009 | M28: =ROUND(J28*G28*L28,2) -> 168611.15 | N28: =M28/$M$96 -> 0.0088806618 | O28: =N28+O27 -> 0.87606129 | P28: 19 | Q28: B
B29: 05.04 | C29: SINAPI-ES | D29: 100346 | E29: ARMAÇÃO DE CORTINA DE CONTENÇÃO EM CONCRETO ARMADO, COM AÇO CA-50 DE 16 MM - MONTAGEM. AF_11/2024 | F29: KG | G29: =MEMORIAL_QUANT.!K135 -> 11570 | H29: 10.74 | I29: 0.2824 | J29: =ROUND(H29*(1+I29),2) -> 13.77 | K29: - | L29: 1 | M29: =ROUND(J29*G29*L29,2) -> 159318.9 | N29: =M29/$M$96 -> 0.0083912438 | O29: =N29+O28 -> 0.88445254 | P29: 20 | Q29: B
B30: 05.02 | C30: SINAPI-ES | D30: 100344 | E30: ARMAÇÃO DE CORTINA DE CONTENÇÃO EM CONCRETO ARMADO, COM AÇO CA-50 DE 10 MM - MONTAGEM. AF_11/2024 | F30: KG | G30: =MEMORIAL_QUANT.!K133 -> 8621 | H30: 14.31 | I30: 0.2824 | J30: =ROUND(H30*(1+I30),2) -> 18.35 | K30: - | L30: 1 | M30: =ROUND(J30*G30*L30,2) -> 158195.35 | N30: =M30/$M$96 -> 0.008332067 | O30: =N30+O29 -> 0.8927846 | P30: 21 | Q30: B
B31: 02.11 | C31: SINAPI-ES | D31: 10778 | E31: LOCACAO DE CONTAINER 2,30 X 6,00 M, ALT. 2,50 M, PARA SANITARIO, COM 4 BACIAS, 8 CHUVEIROS,1 LAVATORIO E 1 MICTORIO (NAO INCLUI MOBILIZACAO/DESMOBILIZACAO) | F31: MES | G31: =MEMORIAL_QUANT.!K40 -> 72 | H31: 1562.5 | I31: 0.2824 | J31: =ROUND(H31*(1+I31),2) -> 2003.75 | K31: - | L31: 1 | M31: =ROUND(J31*G31*L31,2) -> 144270 | N31: =M31/$M$96 -> 0.0075986261 | O31: =N31+O30 -> 0.90038323 | P31: 22 | Q31: B
B32: 06.06 | C32: SICRO-ES | D32: 6817881 | E32: CORPO DE BSCC - SEÇÃO FECHADA DE 3,0 X 3,0 M - PRÉ-MOLDADO - ALTURA DO ATERRO DE 10,00 A 12,50 M - AREIA E BRITA COMERCIAIS | F32: M | G32: =MEMORIAL_QUANT.!K166 -> 16 | H32: 6729.03 | I32: 0.2824 | J32: =ROUND(H32*(1+I32),2) -> 8629.31 | K32: Drenagem | L32: 1.009 | M32: =ROUND(J32*G32*L32,2) -> 139311.58 | N32: =M32/$M$96 -> 0.0073374687 | O32: =N32+O31 -> 0.9077207 | P32: 23 | Q32: B
B33: 05.05 | C33: SICRO-ES | D33: M0999 | E33: TELA EM AÇO CA 60 SOLDADA NERVURADA | F33: KG | G33: =MEMORIAL_QUANT.!K136 -> 10661 | H33: 9.81 | I33: 0.2824 | J33: =ROUND(H33*(1+I33),2) -> 12.58 | K33: Obras Complementares | L33: 1.008 | M33: =ROUND(J33*G33*L33,2) -> 135188.3 | N33: =M33/$M$96 -> 0.0071202976 | O33: =N33+O32 -> 0.914841 | P33: 24 | Q33: B
B34: 08.01 | C34: SICRO-ES | D34: 4915730 | E34: RECOMPOSIÇÃO TOTAL DE CERCA COM MOURÃO DE MADEIRA | F34: M | G34: =MEMORIAL_QUANT.!K219 -> 2760 | H34: 29.89 | I34: 0.2824 | J34: =ROUND(H34*(1+I34),2) -> 38.33 | K34: Obras Complementares | L34: 1.008 | M34: =ROUND(J34*G34*L34,2) -> 106637.13 | N34: =M34/$M$96 -> 0.0056165223 | O34: =N34+O33 -> 0.92045752 | P34: 25 | Q34: B
B35: 01.01 | C35: SINAPI-ES | D35: 41089 | E35: TECNICO EM LABORATORIO E CAMPO DE CONSTRUCAO CIVIL (MENSALISTA) | F35: MES | G35: =MEMORIAL_QUANT.!K12 -> 18 | H35: 4162.57 | I35: 0.2824 | J35: =ROUND(H35*(1+I35),2) -> 5338.08 | K35: - | L35: 1 | M35: =ROUND(J35*G35*L35,2) -> 96085.44 | N35: =M35/$M$96 -> 0.0050607703 | O35: =N35+O34 -> 0.92551829 | P35: 26 | Q35: B
B36: 04.03 | C36: SINAPI-ES | D36: 90279 | E36: GRAUTE FGK=20 MPA; TRAÇO 1:0,04:1,8:2,1 (EM MASSA SECA DE CIMENTO/ CAL/ AREIA GROSSA/ BRITA 0) - PREPARO MECÂNICO COM BETONEIRA 400 L. AF_09/2021 | F36: M3 | G36: =MEMORIAL_QUANT.!K122 -> 129.75 | H36: 575.49 | I36: 0.2824 | J36: =ROUND(H36*(1+I36),2) -> 738.01 | K36: - | L36: 1 | M36: =ROUND(J36*G36*L36,2) -> 95756.8 | N36: =M36/$M$96 -> 0.005043461 | O36: =N36+O35 -> 0.93056175 | P36: 27 | Q36: B
B37: 03.08 | C37: SICRO-ES | D37: 4815671 | E37: REATERRO E COMPACTAÇÃO COM SOQUETE VIBRATÓRIO | F37: M3 | G37: =MEMORIAL_QUANT.!K91 -> 3917 | H37: 18.54 | I37: 0.2824 | J37: =ROUND(H37*(1+I37),2) -> 23.78 | K37: Terraplenagem | L37: 1.004 | M37: =ROUND(J37*G37*L37,2) -> 93518.85 | N37: =M37/$M$96 -> 0.0049255893 | O37: =N37+O36 -> 0.93548734 | P37: 28 | Q37: B
B38: 05.08 | C38: SINAPI-ES | D38: 104849 | E38: EXECUÇÃO DE PERFURAÇÃO PARA TIRANTE, COMPRIMENTO MAIOR OU IGUAL A 14 M E MENOR QUE 22 M, COM DIÂMETRO DE FURO DE 100 MM EXECUTADO COM HASTE UTILIZANDO PERFURATRIZ MANUAL SOBRE BASE DE MONTAGEM. AF_11/2023 | F38: M | G38: =MEMORIAL_QUANT.!K139 -> 1144 | H38: 61.32 | I38: 0.2824 | J38: =ROUND(H38*(1+I38),2) -> 78.64 | K38: - | L38: 1 | M38: =ROUND(J38*G38*L38,2) -> 89964.16 | N38: =M38/$M$96 -> 0.0047383656 | O38: =N38+O37 -> 0.9402257 | P38: 29 | Q38: B
B39: 03.09 | C39: SINAPI-ES | D39: 93592 | E39: TRANSPORTE COM CAMINHÃO BASCULANTE DE 14 M³, EM VIA URBANA EM REVESTIMENTO PRIMÁRIO (UNIDADE: M3XKM). AF_07/2020 | F39: M3XKM | G39: =MEMORIAL_QUANT.!K95 -> 28587.38 | H39: 2.4 | I39: 0.2824 | J39: =ROUND(H39*(1+I39),2) -> 3.08 | K39: - | L39: 1 | M39: =ROUND(J39*G39*L39,2) -> 88049.13 | N39: =M39/$M$96 -> 0.004637502 | O39: =N39+O38 -> 0.94486321 | P39: 30 | Q39: B
B40: 02.01 | C40: SINAPI-ES | D40: 98459 | E40: TAPUME COM TELHA METÁLICA. AF_03/2024 | F40: M2 | G40: =MEMORIAL_QUANT.!K23 -> 700 | H40: 94.13 | I40: 0.2824 | J40: =ROUND(H40*(1+I40),2) -> 120.71 | K40: - | L40: 1 | M40: =ROUND(J40*G40*L40,2) -> 84497 | N40: =M40/$M$96 -> 0.0044504132 | O40: =N40+O39 -> 0.94931362 | P40: 31 | Q40: B
B41: 06.10 | C41: SICRO-ES | D41: 2003652 | E41: CAIXA DE LIGAÇÃO E PASSAGEM - CLP 06 - AREIA E BRITA COMERCIAIS | F41: UN | G41: =MEMORIAL_QUANT.!K171 -> 14 | H41: 4453.57 | I41: 0.2824 | J41: =ROUND(H41*(1+I41),2) -> 5711.26 | K41: Drenagem | L41: 1.009 | M41: =ROUND(J41*G41*L41,2) -> 80677.26 | N41: =M41/$M$96 -> 0.0042492294 | O41: =N41+O40 -> 0.95356285 | P41: 32 | Q41: B
...

Sheet COTAÇÕES
A1: COTAÇÃO DE MERCADO
A2: =[2]BDI!$A$4 -> OBRA:
A3: =[2]BDI!$A$5 -> ENDEREÇO:
A4: MERC - 01 | B4: DESCRIÇÃO | D4: UND | E4: PREÇO
A5: =COUNTIF($A$4:$A4,$A$4) -> 1 | B5: ENSAIO DE CARACTERIZAÇÃO DE SOLO COMPLETA (GRANULOMETRIA / LL / LP) | D5: UND | E5: =LARGE(E13:E14,1) -> 0
A7: CNPJ | B7: FORNECEDOR | C7: CONTATO | D7: PREÇO
D8: COTAÇÃO | E8: DATA BASE
D9: 45962 | E9: =[2]ORÇAMENTO!J3 -> DER-EDIF/SINAPI/SCORIO → AGO/25
E10: =ROUND(D10*($C$14/$C$13),2) -> 0
E11: =ROUND(D11*($C$14/$C$13),2) -> 0
E12: =ROUND(D12*($C$14/$C$13),2) -> 0
A13: CORREÇÃO DE VALOR | B13: Cotação | C13: 1 | D13: MÉDIA | E13: =ROUND(AVERAGE(E10:E12),2) -> 0
B14: Data Base | C14: 1 | D14: MEDIANA | E14: =ROUND(MEDIAN(E10:E12),2) -> 0
A17: MERC - 02 | B17: DESCRIÇÃO | D17: UND | E17: PREÇO
A18: =COUNTIF($A$4:$A17,$A$4) -> 1 | B18: ENSAIO DE COMPACTAÇÃO DE SOLO | D18: UND | E18: =LARGE(E26:E27,1) -> 0
A20: CNPJ | B20: FORNECEDOR | C20: CONTATO | D20: PREÇO
D21: COTAÇÃO | E21: DATA BASE
D22: 45962 | E22: =[2]ORÇAMENTO!J16 -> 13037.85
E23: =ROUND(D23*($C$14/$C$13),2) -> 0
E24: =ROUND(D24*($C$14/$C$13),2) -> 0
E25: =ROUND(D25*($C$14/$C$13),2) -> 0
A26: CORREÇÃO DE VALOR | B26: Cotação | C26: 1 | D26: MÉDIA | E26: =ROUND(AVERAGE(E23:E25),2) -> 0
B27: Data Base | C27: 1 | D27: MEDIANA | E27: =ROUND(MEDIAN(E23:E25),2) -> 0
A30: MERC - 03 | B30: DESCRIÇÃO | D30: UND | E30: PREÇO
A31: =COUNTIF($A$4:$A30,$A$4) -> 1 | B31: COLETA DE AMOSTRAS DEFORMADAS | D31: UND | E31: =LARGE(E39:E40,1) -> 0
A33: CNPJ | B33: FORNECEDOR | C33: CONTATO | D33: PREÇO
D34: COTAÇÃO | E34: DATA BASE
D35: 45962 | E35: =[2]ORÇAMENTO!J29 -> 15204.65
E36: =ROUND(D36*($C$14/$C$13),2) -> 0
E37: =ROUND(D37*($C$14/$C$13),2) -> 0
E38: =ROUND(D38*($C$14/$C$13),2) -> 0
A39: CORREÇÃO DE VALOR | B39: Cotação | C39: 1 | D39: MÉDIA | E39: =ROUND(AVERAGE(E36:E38),2) -> 0
B40: Data Base | C40: 1 | D40: MEDIANA | E40: =ROUND(MEDIAN(E36:E38),2) -> 0

Sheet BDI
A1: DETALHAMENTO DO BDI
A3: PROPONENTE: | B3: PREFEITURA MUNICIPAL DE COLATINA
A4: OBRA: | B4: CONTENÇÃO DE ENCOSTA, DRENAGEM E REVITALIZAÇÃO DE INFRAESTUTURA URBANA.
A5: ENDEREÇO: | B5: Bairro Vista da Serra, Colatina - ES
A7: 1. Regime de Contribuição Previdenciária
B9: Sem Desoneração
A11: 2. Tipo de Intervenção
B13: Obra de contenção
A15: 3. Incidências sobre o custo | F15: * ATENÇÃO: Se valor da planilha for maior que R$ 330.000,00, alterar os percentuais, conforme tabela abaixo:
A17: A - | B17: Administração Central | C17: 3.26 | D17: % | F17: Não alterar o ISS
A18: B - | B18: Administração Local | C18: 7.63 | D18: % | F18: BDI APENAS PARA OBRAS MUNICIPAIS OU ESTADUAIS - OBRAS COM RECURSO FEDERAL DEVEM SEGUIR O TCU
A19: D - | B19: Custos Financeiros | C19: 0.61 | D19: %
A20: E - | B20: Risco, Garantias e Seguros | C20: 1.5 | D20: %
A22: F - | B22: Lucro | C22: 7 | D22: %
A24: 4 – Incidências sobre o preço de venda
A26: C - | B26: Tributos | C26: =C29+C31+C32+C33 -> 5.65 | D26: %
B28: Percentual da base de cálculo para o ISS: | C28: 100 | D28: %
B29: Alíquota do ISS (sobre a base de cálculo): | C29: 2 | D29: %
B31: COFINS | C31: 3 | D31: %
B32: PIS | C32: 0.65 | D32: %
B33: INSS | C33: 0 | D33: %
A35: 5 – Demonstrativo de cálculo do BDI
B37: BDI = { [ ( 1 + A + B + E ) ] * ( 1 + D ) * ( 1 + F ) } -1 = | C37: =ROUND(((((1+((C17+C18+C20)/100))*(1+(C19/100))*(1+(C22/100)))/(1-(C26/100)))-1),4) -> 0.2824
B38: ( 1 - C )
A40: =CONCATENATE("Declaro para os devidos fins que, conforme legislação tributária municipal, a base de cálculo do ISS para ",B13," é de 100 %, com a respectiva alíquota de ",C29,"%") -> Declaro para os devidos fins que, conforme legislação tributária municipal, a base de cálculo do ISS para Obra de contenção é de 100 %, com a respectiva alíquota de 2%
A41: =CONCATENATE("Declaro para os devidos fins que o regime de Contribuição Previdenciária adotado para elaboração do orçamento foi ",B9,", e que esta é a alternativa mais adequada para a Administração Pública.") -> Declaro para os devidos fins que o regime de Contribuição Previdenciária adotado para elaboração do orçamento foi Sem Desoneração, e que esta é a alternativa mais adequada para a Administração Pública.
A43: BDI de acordo com a Resolução Nº 366, de 22 de novembro de 2022.
A47: Eng./Arq.
A48: CREA/CAU:

Sheet SOLO_GRAMPEADO_QTD
D1: ESPECIFIÇÕES DO PROJETISTA
D2: DRESCRIÇÃO | E2: UND | F2: QUANTIDADE | G2: ÍNDICE | H2: CUSTO UNITÁRIO | I2: CUSTO TOTAL
C3: 43055 | D3: ACO CA-50, 12,5 MM OU 16,0 MM, VERGALHAO | E3: KG | F3: =SUM(F4:F5) -> 28649.226 | G3: 1 | H3: 8 | I3: =F3*G3*H3 -> 229193.81
D4: 893 Grampos com L=18,5m, bitola 16mm, diâmetro do furo 100mm | E4: kg | F4: =893*18.5*1.578 -> 26069.349
D5: 893 com 2 Barrras de suporte para tela com L=1,5m, bitola de 12,5mm | E5: kg | F5: =893*(1.5*2)*0.963 -> 2579.877
C6: 39013 | D6: ESPACADOR/SEPARADOR /CENTRALIZADOR DE BARRA DE ACO, PLASTICO, (CHUMBADOR TIPO CARAMBOLA - CB), DIAMETRO INTERNO ATE 20 MM | E6: UND | F6: 893 | G6: 1 | H6: 1.27 | I6: =F6*G6*H6 -> 1134.11
D7: 893 espaçadores | E7: UND | F7: 893
C8: 90279 | D8: GRAUTE FGK=20 MPA; TRAÇO 1:0,04:1,8:2,1 (EM MASSA SECA DE CIMENTO/ CAL/ AREIA GROSSA/ BRITA 0) - PREPARO MECÂNICO COM BETONEIRA 400 L. AF_09/2021 | E8: M3 | F8: =F10 -> 129.75201 | G8: 1 | H8: 543.83 | I8: =F8*G8*H8 -> 70563.034
C9: a | D9: 893 Grampos com L=18,5m, bitola 16mm, diâmetro do furo 100mm | E9: M | F9: 16520.5
C10: b | D10: Total de Nata de cimento a * 0,007854 m² | E10: M3 | F10: =893*18.5*0.007854 -> 129.75201
C11: 104849 | D11: EXECUÇÃO DE PERFURAÇÃO PARA TIRANTE, COMPRIMENTO MAIOR OU IGUAL A 14 M E MENOR QUE 22 M, COM DIÂMETRO DE FURO DE 100 MM EXECUTADO COM HASTE UTILIZANDO PERFURATRIZ MANUAL SOBRE BASE DE MONTAGEM. AF_11/2023 | E11: M | F11: 16520.5 | G11: 1 | H11: 55.31 | I11: =F11*G11*H11 -> 913748.85
C12: COMP-1 (91076) | D12: EXECUÇÃO DE REVESTIMENTO DE CONCRETO PROJETADO COM ESPESSURA DE 15 CM, ARMADO COM TELA DE AÇO SOLDADA NERVURADA CA-60 Q-283, INCLINAÇÃO DE 90°, APLICAÇÃO CONTÍNUA, UTILIZANDO EQUIPAMENTO DE PROJEÇÃO COM 3 M³/H DE CAPACIDADE. AF_07/2024 | E12: M2 | F12: 2462.72 | G12: 1 | H12: =SUM(I13:I30) -> 471.91735 | I12: =F12*G12*H12 -> 1162200.3
C13: 370 | D13: Areia media - posto jazida/fornecedor (retirado na jazida, sem transporte) | E13: m3 | G13: 0.17385 | H13: 83.34 | I13: =G13*H13 -> 14.488659
C14: 1379 | D14: Cimento portland composto cp ii-32 | E14: kg | G14: 77.115 | H14: 0.66 | I14: =G14*H14 -> 50.8959
C15: 4720 | D15: Pedra britada n. 0, ou pedrisco (4,8 a 9,5 mm) posto pedreira/fornecedor, sem frete | E15: m3 | G15: 0.1122 | H15: 160.78 | I15: =G15*H15 -> 18.039516
C16: 43127 | D16: Tela de aco (Dupla) soldada nervurada, CA-60, Q-283 (4,48 kg/m2), diametro do fio = 6,0 mm, largura = 2,45 x 6,00 m de comprimento, espacamento da malha = 10 x 10 cm | E16: m2 | G16: =2*1.1845 -> 2.369 | H16: 41.1 | I16: =G16*H16 -> 97.3659
C17: 88297 | D17: Operador de máquinas e equipamentos com encargos complementares | E17: h | G17: 1.4775 | H17: 34.54 | I17: =G17*H17 -> 51.03285
C18: 88309 | D18: Pedreiro com encargos complementares | E18: h | G18: 0.7388 | H18: 28.13 | I18: =G18*H18 -> 20.782444
C19: 88316 | D19: Servente com encargos complementares | E19: h | G19: 2.2163 | H19: 21.6 | I19: =G19*H19 -> 47.87208
C20: 88377 | D20: Operador de betoneira estacionária/misturador com encargos complementares | E20: h | G20: 0.7388 | H20: 27.6 | I20: =G20*H20 -> 20.39088
C21: 88830 | D21: Betoneira capacidade nominal de 400 l, capacidade de mistura 280 l, motor elétrico trifásico potência de 2 cv, sem carregador - chp diurno. af_05/2023 | E21: chp | G21: 0.0843 | H21: 1.75 | I21: =G21*H21 -> 0.147525
C22: 88831 | D22: Betoneira capacidade nominal de 400 l, capacidade de mistura 280 l, motor elétrico trifásico potência de 2 cv, sem carregador - chi diurno. af_05/2023 | E22: chi | G22: 0.6545 | H22: 0.36 | I22: =G22*H22 -> 0.23562
C23: 90650 | D23: Bomba centrífuga monoestágio com motor elétrico monofásico, potência 15 hp, diâmetro do rotor 173 mm, hm/q = 30 mca / 90 m3/h a 45 mca / 55 m3/h - chp diurno. af_06/2015 | E23: chp | G23: 0.0407 | H23: 10.23 | I23: =G23*H23 -> 0.416361
C24: 90651 | D24: Bomba centrífuga monoestágio com motor elétrico monofásico, potência 15 hp, diâmetro do rotor 173 mm, hm/q = 30 mca / 90 m3/h a 45 mca / 55 m3/h - chi diurno. af_06/2015 | E24: chi | G24: 0.8712 | H24: 0.99 | I24: =G24*H24 -> 0.862488
C25: 90656 | D25: Bomba de projeção de concreto seco, potência 10 cv, vazão 3 m3/h - chp diurno. af_06/2015 | E25: chp | G25: 0.0407 | H25: 14.02 | I25: =G25*H25 -> 0.570614
C26: 90657 | D26: Bomba de projeção de concreto seco, potência 10 cv, vazão 3 m3/h - chi diurno. af_06/2015 | E26: chi | G26: 0.8712 | H26: 4.51 | I26: =G26*H26 -> 3.929112
C27: 90979 | D27: Compressor de ar rebocável, vazão 748 pcm, pressão efetiva de trabalho 102 psi, motor diesel, potência 210 cv - chp diurno. af_06/2015 | E27: chp | G27: 0.0407 | H27: 200.38 | I27: =G27*H27 -> 8.155466
C28: 90982 | D28: Compressor de ar rebocável, vazão 748 pcm, pressão efetiva de trabalho 102 psi, motor diesel, potência 210 cv - chi diurno. af_06/2015 | E28: chi | G28: 0.8712 | H28: 22.81 | I28: =G28*H28 -> 19.872072
... C30: 102726 | D30: Dreno barbacã, dn 50 mm, com material drenante. af_07/2021 | E30: un | G30: 0.25 | H30: 30.72 | I30: =G30*H30 -> 7.68
G33: Custo Final | I33: =SUM(I12,I11,I6,I3,I8) -> 2376840.1

Sheet TERRAPLENAGEM_QTD
B2: CÁLCULO ÁREAS E VOLUMES (Movimentação de terra)
B3: PROCESSO | C3: LIMPEZA (m²) | E3: CORTE (m³) | G3: ATERRO (m³) | I3: BOTA FORA (m³) | K3: EMPRÉSTIMO (m²)
C4: DESCRIÇÃO | D4: QTD | E4: DESCRIÇÃO | F4: QTD | G4: DESCRIÇÃO | H4: QTD | I4: DESCRIÇÃO | J4: QTD | K4: DESCRIÇÃO | L4: QTD
B5: Geral | C5: Limpeza para implantação do canteiro | D5: 6270
C6: Limpeza para abertura de acesso | D6: 8261.7
B7: 001/VOC/001 e 001/ESC/007 | E7: Escavação mecanizada Taludes de corte | F7: 25499.98 | G7: Aterro compactado | H7: 15285.6 | I7: Inclusive entulho espesura de 2m | J7: =F7-H7 -> 10214.38
E8: Escavação mecanizada Depósitos de sopé | F8: 16800 | H8: 0 | I8: Depósitos de sopé | J8: =F8-H8 -> 16800
E9: Escavação mecanizada Depósito de escorregamento | F9: 27076.88 | G9: Aterro compactado | H9: 11791.2 | I9: Excedente deposito escorregamento | J9: =F9-H9 -> 15285.68
E10: Escavação manual canaleta cortina atirantada | F10: 8.71 | J10: 8.71
B13: 001/SOL/011
E14: Escavação do Taludes do canal | F14: 8157.58 | G14: Aterro do canal | H14: 2589.45 | I14: Canal | J14: =F14-H14 -> 5568.13
E15: Regularização mecanizada taludes erosão | F15: 3700 | J15: 3700
B16: 001/RAV/006 | E16: Regularização manual taludes | F16: 7350 | J16: 7350
E17: Canaletas -Manual | F17: 4187.5 | G17: Canaletas | H17: 2164.18 | I17: Canaletas | J17: 2023.32
E18: Escadas Hidráulicas-Manual | F18: 1966.37 | G18: Escadas Hidráulicas | H18: 633.68 | I18: Escadas Hidráulicas | J18: 1332.69
B19: 001/RAV/005
B21: 001/ERS/010
B23: 001/ESR/004
B26: 001/RAV/002 | G26: Aterro da erosão | H26: 1900
B29: 001/RAV/003
B32: 001/DRE/012
B35: 001/DRE/009
B38: 001/DRE/008 | E38: Bacia de detenção | F38: 5534.99 | G38: Aterro | H38: 11.27 | I38: Bacia de detenção | J38: 5523.72
B41: 001/RAV/013
B52: TOTAL | D52: =SUM(D5:D51) -> 14531.7 | F52: =SUM(F7:F51) -> 100282.01 | H52: =(SUM(H7:H51)) -> 34375.38 | J52: =SUM(J7:J25) -> 62282.91 | L52: =(SUM(L5:L51)) -> 0
G54: =F52-H52 -> 65906.63
I55: =H52+J52 -> 96658.29
G56: =F9-H9 -> 15285.68
G60: 15285.68
E61: 0.8
E62: =((3.1415*(E61^2))/4)/2 -> 0.25132
E65: 0.06283 | F65: 40
E66: 0.1413675 | F66: 60
E67: 0.25132 | F67: 80
