Workbook
Name \a: #REF!
Name \a: #REF!
Name \a: #REF!
Name \a: #REF!
Name \a: #REF!
Name \w: #REF!
Name \w: #REF!
Name \w: #REF!
Name \w: #REF!
Name \w: #REF!
Name ___________________VO1: #REF!
Name ___________________VO1: #REF!
Name ___________________VO1: #REF!
Name ___________________VO1: #REF!
Name ___________________VO1: #REF!
Name __________________VE1: #REF!
Name __________________VE1: #REF!
Name __________________VE1: #REF!
Name __________________VE1: #REF!
Name __________________VE1: #REF!
Name __________________VO1: #REF!
Name __________________VO1: #REF!
Name __________________VO1: #REF!
Name __________________VO1: #REF!
Name __________________VO1: #REF!
Name _________________VE1: #REF!
Name _________________VE1: #REF!
Name _________________VE1: #REF!
Name _________________VE1: #REF!
Name _________________VE1: #REF!
Name ________________VO1: #REF!
Name ________________VO1: #REF!
Name ________________VO1: #REF!
Name ________________VO1: #REF!
Name ________________VO1: #REF!
Name _______________VE1: #REF!
Name _______________VE1: #REF!
Name _______________VE1: #REF!
Name _______________VE1: #REF!
Name _______________VE1: #REF!
Name _______________VO1: #REF!
Name _______________VO1: #REF!
Name _______________VO1: #REF!
Name _______________VO1: #REF!
Name _______________VO1: #REF!
Name ______________VE1: #REF!
Name ______________VE1: #REF!
Name ______________VE1: #REF!
Name ______________VE1: #REF!
Name ______________VE1: #REF!
Name _____________VO1: #REF!
Name _____________VO1: #REF!
Name _____________VO1: #REF!
Name _____________VO1: #REF!
Name _____________VO1: #REF!
Name ____________VE1: #REF!
Name ____________VE1: #REF!
Name ____________VE1: #REF!
Name ____________VE1: #REF!
Name ____________VE1: #REF!

Sheet OR - GERAL
D5: PLANILHA ORÇAMENTÁRIA
D8: Projeto
D9: ENRONCAMENTO DO LADO NORTE DO RIO DOCE - COLATINA. | S9: DATA-BASE: AGOSTO/2026 | Y9: FONTES DE PREÇOS:
D10: Local | Y10: SICRO-ES - 04/2026 | SINAPI-ES 07/2026 | DER-ES Rod. 02/2026
D11: COLATINA - ES | Y11: DER-ES Edificações - 05/2026 | SCO-RIO - 07/2026
D13: Item | G13: Fonte | J13: CÓDIGO | M13: DESCRIÇÃO DO SERVIÇO | P13: UNID. | S13: QUANT. | V13: CUSTO UNITÁRIO (R$) | Y13: BDI (%) | AB13: PREÇO UNITÁRIO (R$) | AE13: VALOR TOTAL (R$) | AH13: PESO RELATIVO (%)
D17: 1. | M17: PROJETOS E LEVANTAMENTOS | AE17: =SUM(AE18,AE25) -> 604757.06 | AH17: =AE17/$AE$190 -> 0.015862026
D18: 1.1 | M18: Elaboração de projetos | AE18: =SUM(AE19:AE23) -> 455611.46 | AH18: =AE18/$AE$190 -> 0.011950122
D19: 1.1.1 | G19: SCORIO | J19: SE 25.10.0050 (A) | M19: Projeto basico para urbanizacao/reurbanizacao de areas, visando a organizacao espacial e das atividades, devendo contemplar: sistema viario (locais para carga e descarga, estacionamento, parada para onibus e etc, faixa exclusiva, sinalizacao e desenho geometrico), passeios, pracas, arborizacao, iluminacao com criterios luminotecnicos, distribuicao e integracao do mobiliario urbano e equipamentos urbanos, inclusive diagnostico urbanistico e de infra-estrutura da area de projeto, levantamento dos projetos pertinentes existentes nas diversas esferas governamentais, concessionarias e permissionarios de servicos publico, aprovacoes pertinentes e a coordenacao dos projetos complementares, apresentado em Autocad nos padroes da contratante. | P19: ha | S19: =VLOOKUP(D19,'MEMÓRIA DE CÁLCULO'!A:H,8,FALSE) -> 2.5 | V19: =ROUND(AM19,2) -> 115874.07 | Y19: =BDI!$E$35 -> 0.2182 | AB19: =ROUND(V19*(1+Y19),2) -> 141157.79 | AE19: =ROUND(AB19*S19,2) -> 352894.48 | AH19: =AE19/$AE$190 -> 0.0092559837 | AL19: 115118.37 | AM19: =IF(G19="SCORIO",AL19*AE$208,IF(G19="DER/Edif.",AL19*AE$207,IF(G19="SINAPI-ES",AL19*AE$208,IF(G19="SICRO-ES",AL19*AE$206,IF(G19="DER/Rod.",AL19*AE$206,"CALCULAR"))))) -> 115874.07
D20: 1.1.2 | G20: SCORIO | J20: SE 25.70.0550 (A) | M20: Fornecimento De Projeto Executivo De Instalação Elétrica Em Autocad Aprovado Na Concessionária Em Urbanização, Considerando A Área Acima De 15000M2. | P20: m² | S20: =VLOOKUP(D20,'MEMÓRIA DE CÁLCULO'!A:H,8,FALSE) -> 22025.82 | V20: =ROUND(AM20,2) -> 2.16 | Y20: =BDI!$E$35 -> 0.2182 | AB20: =ROUND(V20*(1+Y20),2) -> 2.63 | AE20: =ROUND(AB20*S20,2) -> 57927.91 | AH20: =AE20/$AE$190 -> 0.0015193771 | AL20: 2.15 | AM20: =IF(G20="SCORIO",AL20*AE$208,IF(G20="DER/Edif.",AL20*AE$207,IF(G20="SINAPI-ES",AL20*AE$208,IF(G20="SICRO-ES",AL20*AE$206,IF(G20="DER/Rod.",AL20*AE$206,"CALCULAR"))))) -> 2.1641138
D21: 1.1.3 | G21: SCORIO | J21: SE 25.10.0405 (/) | M21: Projeto de implantacao de pavimentacao em vias urbanas, nos padroes da PCRJ, apresentado em Autocad ou similiar, com arquivos no padrao PDF, DWG e PLT, em meio fisico ou digital. Apresentado com plantas, perfis, memorial descritivo e de calculo, contemplando todas as solucoes recomendadas para os trechos. Detalhamento das diversas camadas da pavimentacao e definicao das especificacoes dos servicos e do controle tecnologico de campo a serem executados no subleito, nas camadas granulares e no revestimento asfaltico. Para obras de projecao horizontal inferior a 2 ha. Exclusive levantamentos de campo, contagens de trafego e ensaios geotecnicos de caracterizacao do terreno. | P21: ha | S21: =VLOOKUP(D21,'MEMÓRIA DE CÁLCULO'!A:H,8,FALSE) -> 0.986 | V21: =ROUND(AM21,2) -> 2048.44 | Y21: =BDI!$E$35 -> 0.2182 | AB21: =ROUND(V21*(1+Y21),2) -> 2495.41 | AE21: =ROUND(AB21*S21,2) -> 2460.47 | AH21: =AE21/$AE$190 -> 6.4535071e-05 | AL21: 2035.08 | AM21: =IF(G21="SCORIO",AL21*AE$208,IF(G21="DER/Edif.",AL21*AE$207,IF(G21="SINAPI-ES",AL21*AE$208,IF(G21="SICRO-ES",AL21*AE$206,IF(G21="DER/Rod.",AL21*AE$206,"CALCULAR"))))) -> 2048.4394
D22: 1.1.4 | G22: SCORIO | J22: SE 25.05.0200 (/) | M22: Projeto Executivo De Sistema De Drenagem, Em Autocad, Em Área Acima De 20.000M2. | P22: m² | S22: =VLOOKUP(D22,'MEMÓRIA DE CÁLCULO'!A:H,8,FALSE) -> 22025.82 | V22: =ROUND(AM22,2) -> 0.96 | Y22: =BDI!$E$35 -> 0.2182 | AB22: =ROUND(V22*(1+Y22),2) -> 1.17 | AE22: =ROUND(AB22*S22,2) -> 25770.21 | AH22: =AE22/$AE$190 -> 0.00067592059 | AL22: 0.95 | AM22: =IF(G22="SCORIO",AL22*AE$208,IF(G22="DER/Edif.",AL22*AE$207,IF(G22="SINAPI-ES",AL22*AE$208,IF(G22="SICRO-ES",AL22*AE$206,IF(G22="DER/Rod.",AL22*AE$206,"CALCULAR"))))) -> 0.95623634
D23: 1.1.5 | G23: CPU | J23: C001 | M23: Elaboração De As Built | P23: unid | S23: =VLOOKUP(D23,'MEMÓRIA DE CÁLCULO'!A:H,8,FALSE) -> 1 | V23: ='CPU`s '!V16 -> 13592.503 | Y23: =BDI!$E$35 -> 0.2182 | AB23: =ROUND(V23*(1+Y23),2) -> 16558.39 | AE23: =ROUND(AB23*S23,2) -> 16558.39 | AH23: =AE23/$AE$190 -> 0.00043430599 | AL23: ='CPU`s '!AL16 -> 0 | AM23: OK
D25: 1.2 | M25: Levantamentos, Sondagens e ensaios | AE25: =SUM(AE26:AE27) -> 149145.6 | AH25: =AE25/$AE$190 -> 0.0039119038
D26: 1.2.2 | G26: SCORIO | J26: AD 05.05.0053 (/) | M26: Analise granulometrica completa, em amostra de solo, de acordo com a NBR7181 e NBR6457, compreendendo as fases de peneiramento e sedimentacao, quando constatada a presenca de particulas finas em sua composicao. | P26: unid | S26: =VLOOKUP(D26,'MEMÓRIA DE CÁLCULO'!A:H,8,FALSE) -> 80 | V26: =ROUND(AM26,2) -> 523.82 | Y26: =BDI!$E$35 -> 0.2182 | AB26: =ROUND(V26*(1+Y26),2) -> 638.12 | AE26: =ROUND(AB26*S26,2) -> 51049.6 | AH26: =AE26/$AE$190 -> 0.0013389676 | AL26: 520.4 | AM26: =IF(G26="SCORIO",AL26*AE$208,IF(G26="DER/Edif.",AL26*AE$207,IF(G26="SINAPI-ES",AL26*AE$208,IF(G26="SICRO-ES",AL26*AE$206,IF(G26="DER/Rod.",AL26*AE$206,"CALCULAR"))))) -> 523.8162
D27: 1.2.3 | G27: SCORIO | J27: AD 05.20.0050 (/) | M27: Sondagem a percussao com diametro ate 3", com ensaio de penetracao (SPT) a cada metro, incluindo relatorio contendo classificacao tatil visual das amostras, perfis individuais dos furos, planta de localizacao e respectivas cotas das sondagens. Inclui deslocamento ate 50m de distancia e instalacao do tripe em cada furo dentro do canteiro, excluindo mobilizacao e desmobilizacao. | P27: m | S27: =VLOOKUP(D27,'MEMÓRIA DE CÁLCULO'!A:H,8,FALSE) -> 800 | V27: =ROUND(AM27,2) -> 100.66 | Y27: =BDI!$E$35 -> 0.2182 | AB27: =ROUND(V27*(1+Y27),2) -> 122.62 | AE27: =ROUND(AB27*S27,2) -> 98096 | AH27: =AE27/$AE$190 -> 0.0025729362 | AL27: 100 | AM27: =IF(G27="SCORIO",AL27*AE$208,IF(G27="DER/Edif.",AL27*AE$207,IF(G27="SINAPI-ES",AL27*AE$208,IF(G27="SICRO-ES",AL27*AE$206,IF(G27="DER/Rod.",AL27*AE$206,"CALCULAR"))))) -> 100.65646
D29: 2. | M29: ADMNISTRAÇÃO LOCAL | AE29: =SUM(AE30) -> 1981353.2 | AH29: =AE29/$AE$190 -> 0.051968434
D30: 2.1 | M30: Administração local | AE30: =SUM(AE31:AE32) -> 1981353.2 | AH30: =AE30/$AE$190 -> 0.051968434
D31: 2.1.1 | G31: CPU | J31: C002 | M31: Administração Local | P31: unid | S31: 1 | V31: ='CPU`s '!V23 -> 1626459.7 | Y31: =BDI!$E$35 -> 0.2182 | AB31: =ROUND(V31*(1+Y31),2) -> 1981353.2 | AE31: =ROUND(AB31*S31,2) -> 1981353.2 | AH31: =AE31/$AE$190 -> 0.051968434 | AL31: ='CPU`s '!AL23 -> 0 | AM31: OK
D33: 3. | M33: SERVIÇOS PRELIMINARES | AE33: =SUM(AE34,AE45) -> 308134.6 | AH33: =AE33/$AE$190 -> 0.0080819877
D34: 3.1 | M34: Canteiro de obras | AE34: =SUM(AE35:AE44) -> 142979.96 | AH34: =AE34/$AE$190 -> 0.0037501867
D35: 3.1.1 | G35: DER/Edif. | J35: 20305 | M35: Placa de obra nas dimensões de 2.0 x 4.0 m | P35: m² | S35: =2*4 -> 8 | V35: =ROUND(AM35,2) -> 264.84 | Y35: =BDI!$E$35 -> 0.2182 | AB35: =ROUND(V35*(1+Y35),2) -> 322.63 | AE35: =ROUND(AB35*S35,2) -> 2581.04 | AH35: =AE35/$AE$190 -> 6.7697472e-05 | AL35: 259.49 | AM35: =IF(G35="SCORIO",AL35*AE$208,IF(G35="DER/Edif.",AL35*AE$207,IF(G35="SINAPI-ES",AL35*AE$208,IF(G35="SICRO-ES",AL35*AE$206,IF(G35="DER/Rod.",AL35*AE$206,"CALCULAR"))))) -> 264.83911
D36: 3.1.2 | G36: DER/Edif. | J36: 20356 | M36: Aluguel Mensal Container Para Almoxarifado, Incl. Porta, 2 Janelas, 1 Pt Iluminação, Isolamento Térmico (Teto), Piso Em Comp. Naval Pintado, Cert. Nr18, Incl. Laudo Descontaminação. | P36: mês | S36: 21 | V36: =ROUND(AM36,2) -> 752.7 | Y36: =BDI!$E$35 -> 0.2182 | AB36: =ROUND(V36*(1+Y36),2) -> 916.94 | AE36: =ROUND(AB36*S36,2) -> 19255.74 | AH36: =AE36/$AE$190 -> 0.00050505413 | AL36: 737.5 | AM36: =IF(G36="SCORIO",AL36*AE$208,IF(G36="DER/Edif.",AL36*AE$207,IF(G36="SINAPI-ES",AL36*AE$208,IF(G36="SICRO-ES",AL36*AE$206,IF(G36="DER/Rod.",AL36*AE$206,"CALCULAR"))))) -> 752.70276
D37: 3.1.3 | G37: DER/Edif. | J37: 20353 | M37: Aluguel Mensal Container Para Refeitorio, Incl. Porta, 2 Janelas, Abert P/ Ar Cond., 2 Pt Iluminação, 2 Tomadas Elét. E 1 Tomada Telef. Isolamento Térmico (Paredes E Teto), Piso Em Comp. Naval Pintado, Cert. Nr18, Incl. Laudo Descontaminação. | P37: mês | S37: 21 | V37: =ROUND(AM37,2) -> 1160.95 | Y37: =BDI!$E$35 -> 0.2182 | AB37: =ROUND(V37*(1+Y37),2) -> 1414.27 | AE37: =ROUND(AB37*S37,2) -> 29699.67 | AH37: =AE37/$AE$190 -> 0.00077898544 | AL37: 1137.5 | AM37: =IF(G37="SCORIO",AL37*AE$208,IF(G37="DER/Edif.",AL37*AE$207,IF(G37="SINAPI-ES",AL37*AE$208,IF(G37="SICRO-ES",AL37*AE$206,IF(G37="DER/Rod.",AL37*AE$206,"CALCULAR"))))) -> 1160.9483
D38: 3.1.4 | G38: DER/Edif. | J38: 20355 | M38: Aluguel Mensal Container Sanitário, Incl Porta, Básc, 2 Ptos Luz, 1 Pto Aterram., 3Vasos, 3Lavatórios, Calha Mictório, 6 Chuveiros (1 Eletrico), Torn.,Registros, Piso Comp. Naval Pintado, Cert Nr18 E Laudo Descontaminação | P38: mês | S38: 21 | V38: =ROUND(AM38,2) -> 1194.12 | Y38: =BDI!$E$35 -> 0.2182 | AB38: =ROUND(V38*(1+Y38),2) -> 1454.68 | AE38: =ROUND(AB38*S38,2) -> 30548.28 | AH38: =AE38/$AE$190 -> 0.00080124342 | AL38: 1170 | AM38: =IF(G38="SCORIO",AL38*AE$208,IF(G38="DER/Edif.",AL38*AE$207,IF(G38="SINAPI-ES",AL38*AE$208,IF(G38="SICRO-ES",AL38*AE$206,IF(G38="DER/Rod.",AL38*AE$206,"CALCULAR"))))) -> 1194.1183
D39: 3.1.5 | G39: DER/Edif. | J39: 20352 | M39: Aluguel Mensal Container Para Escritório, Dim. 6.00X2.40M, C/ Banheiro (Vaso+Lavat+Chuveiro E Básc), Incl. Porta, 2 Janelas, Abert P/ Ar Cond., 2 Pt Iluminação, 2 Tom. Elét. E 1 Tom.Telef. Isolam.Térmico(Teto E Paredes), Piso Em Comp. Naval, Cert. Nr18, Incl. Laudo Descontaminação. | P39: mês | S39: 21 | V39: =ROUND(AM39,2) -> 1224.74 | Y39: =BDI!$E$35 -> 0.2182 | AB39: =ROUND(V39*(1+Y39),2) -> 1491.98 | AE39: =ROUND(AB39*S39,2) -> 31331.58 | AH39: =AE39/$AE$190 -> 0.00082178841 | AL39: 1200 | AM39: =IF(G39="SCORIO",AL39*AE$208,IF(G39="DER/Edif.",AL39*AE$207,IF(G39="SINAPI-ES",AL39*AE$208,IF(G39="SICRO-ES",AL39*AE$206,IF(G39="DER/Rod.",AL39*AE$206,"CALCULAR"))))) -> 1224.7367
D40: 3.1.6 | G40: DER/Edif. | J40: 20811 | M40: Reservatório De Poliestileno De 1000 L, Inclusive Suporte Em Madeira De 7X12Cm E 5X7Cm, Elevado De 4M, Conforme Projeto (2 Utilizações) | P40: unid. | S40: 1 | V40: =ROUND(AM40,2) -> 1070.02 | Y40: =BDI!$E$35 -> 0.2182 | AB40: =ROUND(V40*(1+Y40),2) -> 1303.5 | AE40: =ROUND(AB40*S40,2) -> 1303.5 | AH40: =AE40/$AE$190 -> 3.4189185e-05 | AL40: 1048.41 | AM40: =IF(G40="SCORIO",AL40*AE$208,IF(G40="DER/Edif.",AL40*AE$207,IF(G40="SINAPI-ES",AL40*AE$208,IF(G40="SICRO-ES",AL40*AE$206,IF(G40="DER/Rod.",AL40*AE$206,"CALCULAR"))))) -> 1070.0218
D41: 3.1.7 | G41: DER/Edif. | J41: 20812 | M41: Rede De Água, Com Padrão De Entrada D'Água Diâm. 3/4", Conf. Espec. Incl. Tubos E Conexões Para Alimentação, Distribuição, Extravasor E Limpeza, Cons. O Padrão A 25M, Conf. Projeto (2 Utilizações) | P41: m | S41: 25 | V41: =ROUND(AM41,2) -> 43.35 | Y41: =BDI!$E$35 -> 0.2182 | AB41: =ROUND(V41*(1+Y41),2) -> 52.81 | AE41: =ROUND(AB41*S41,2) -> 1320.25 | AH41: =AE41/$AE$190 -> 3.4628517e-05 | AL41: 42.47 | AM41: =IF(G41="SCORIO",AL41*AE$208,IF(G41="DER/Edif.",AL41*AE$207,IF(G41="SINAPI-ES",AL41*AE$208,IF(G41="SICRO-ES",AL41*AE$206,IF(G41="DER/Rod.",AL41*AE$206,"CALCULAR"))))) -> 43.345473
D42: 3.1.8 | G42: DER/Edif. | J42: 20713 | M42: Rede De Luz, Incl. Padrão Entrada De Energia Trifás., Cabo De Ligação Até Barracões, Quadro De Distrib., Disj. E Chave De Força (Quando Necessário), Cons. 20M Entre Padrão Entrada E Qdg, Conf. Projeto (1 Utilização) | P42: m | S42: 20 | V42: =ROUND(AM42,2) -> 524.89 | Y42: =BDI!$E$35 -> 0.2182 | AB42: =ROUND(V42*(1+Y42),2) -> 639.42 | AE42: =ROUND(AB42*S42,2) -> 12788.4 | AH42: =AE42/$AE$190 -> 0.00033542384 | AL42: 514.29 | AM42: =IF(G42="SCORIO",AL42*AE$208,IF(G42="DER/Edif.",AL42*AE$207,IF(G42="SINAPI-ES",AL42*AE$208,IF(G42="SICRO-ES",AL42*AE$206,IF(G42="DER/Rod.",AL42*AE$206,"CALCULAR"))))) -> 524.89153
D43: 3.1.9 | G43: DER/Edif. | J43: 20714 | M43: Rede De Esgoto, Contendo Fossa E Filtro, Inclusive Tubos E Conexões De Ligação Entre Caixas, Considerando Distância De 25M, Conforme Projeto (1 Utilização) | P43: m | S43: 25 | V43: =ROUND(AM43,2) -> 464.67 | Y43: =BDI!$E$35 -> 0.2182 | AB43: =ROUND(V43*(1+Y43),2) -> 566.06 | AE43: =ROUND(AB43*S43,2) -> 14151.5 | AH43: =AE43/$AE$190 -> 0.00037117626 | AL43: 455.28 | AM43: =IF(G43="SCORIO",AL43*AE$208,IF(G43="DER/Edif.",AL43*AE$207,IF(G43="SINAPI-ES",AL43*AE$208,IF(G43="SICRO-ES",AL43*AE$206,IF(G43="DER/Rod.",AL43*AE$206,"CALCULAR"))))) -> 464.6651
D45: 3.2 | M45: Mobilizações e desmobilizações | AE45: =SUM(AE46:AE47) -> 165154.64 | AH45: =AE45/$AE$190 -> 0.004331801
D46: 3.2.1 | G46: DER/Rod. | J46: 41544 | M46: Mobilização e desmobilização de equipamentos com carreta prancha (máximo) | P46: h | S46: =12*4*4 -> 192 | V46: =ROUND(AM46,2) -> 640.94 | Y46: =BDI!$E$35 -> 0.2182 | AB46: =ROUND(V46*(1+Y46),2) -> 780.79 | AE46: =ROUND(AB46*S46,2) -> 149911.68 | AH46: =AE46/$AE$190 -> 0.0039319971 | AL46: 622.54 | AM46: =IF(G46="SCORIO",AL46*AE$208,IF(G46="DER/Edif.",AL46*AE$207,IF(G46="SINAPI-ES",AL46*AE$208,IF(G46="SICRO-ES",AL46*AE$206,IF(G46="DER/Rod.",AL46*AE$206,"CALCULAR"))))) -> 640.94312
D47: 3.2.2 | G47: DER/Edif. | J47: 20344 | M47: Mobilização E Desmobilização De Conteiner Locado Para Barracão De Obra | P47: unid | S47: 8 | V47: =ROUND(AM47,2) -> 1564.09 | Y47: =BDI!$E$35 -> 0.2182 | AB47: =ROUND(V47*(1+Y47),2) -> 1905.37 | AE47: =ROUND(AB47*S47,2) -> 15242.96 | AH47: =AE47/$AE$190 -> 0.0003998039 | AL47: 1532.5 | AM47: =IF(G47="SCORIO",AL47*AE$208,IF(G47="DER/Edif.",AL47*AE$207,IF(G47="SINAPI-ES",AL47*AE$208,IF(G47="SICRO-ES",AL47*AE$206,IF(G47="DER/Rod.",AL47*AE$206,"CALCULAR"))))) -> 1564.0908
D49: 4. | M49: TERRAPLENAGEM | AE49: =SUM(AE50,AE58) -> 2628820.5 | AH49: =AE49/$AE$190 -> 0.068950696
D50: 4.1 | M50: Limpeza do terreno | AE50: =SUM(AE51:AE56) -> 183014.53 | AH50: =AE50/$AE$190 -> 0.0048002437
D51: 4.1.1 | G51: SINAPI-ES | J51: 98525 | M51: limpeza mecanizada de camada vegetal, vegetação e pequenas árvores (diâmetro de tronco menor que 0,20 m), com trator de esteiras.af_05/2018 | P51: m² | S51: =VLOOKUP(D51,'MEMÓRIA DE CÁLCULO'!A:H,8,FALSE) -> 22025.82 | V51: =ROUND(AM51,2) -> 0.81 | Y51: =BDI!$E$35 -> 0.2182 | AB51: =ROUND(V51*(1+Y51),2) -> 0.99 | AE51: =ROUND(AB51*S51,2) -> 21805.56 | AH51: =AE51/$AE$190 -> 0.00057193274 | AL51: 0.8 | AM51: =IF(G51="SCORIO",AL51*AE$208,IF(G51="DER/Edif.",AL51*AE$207,IF(G51="SINAPI-ES",AL51*AE$208,IF(G51="SICRO-ES",AL51*AE$206,IF(G51="DER/Rod.",AL51*AE$206,"CALCULAR"))))) -> 0.80525166
D52: 4.1.2 | G52: SINAPI-ES | J52: 100983 | M52: carga, manobra e descarga de entulho em caminhão basculante 14 m³ - carga com escavadeira hidráulica (caçamba de 0,80 m³ / 111 hp) e descarga livre | P52: m³ | S52: =VLOOKUP(D52,'MEMÓRIA DE CÁLCULO'!A:H,8,FALSE) -> 4405.164 | V52: =ROUND(AM52,2) -> 10.17 | Y52: =BDI!$E$35 -> 0.2182 | AB52: =ROUND(V52*(1+Y52),2) -> 12.39 | AE52: =ROUND(AB52*S52,2) -> 54579.98 | AH52: =AE52/$AE$190 -> 0.0014315651 | AL52: 10.1 | AM52: =IF(G52="SCORIO",AL52*AE$208,IF(G52="DER/Edif.",AL52*AE$207,IF(G52="SINAPI-ES",AL52*AE$208,IF(G52="SICRO-ES",AL52*AE$206,IF(G52="DER/Rod.",AL52*AE$206,"CALCULAR"))))) -> 10.166302
D53: 4.1.3 | G53: SINAPI-ES | J53: 98529 | M53: Corte Raso E Recorte De Árvore Com Diâmetro De Tronco Maior Ou Igual A 0,20 M E Menor Que 0,40 M | P53: unid | S53: =VLOOKUP(D53,'MEMÓRIA DE CÁLCULO'!A:H,8,FALSE) -> 50 | V53: =ROUND(AM53,2) -> 103.33 | Y53: =BDI!$E$35 -> 0.2182 | AB53: =ROUND(V53*(1+Y53),2) -> 125.88 | AE53: =ROUND(AB53*S53,2) -> 6294 | AH53: =AE53/$AE$190 -> 0.0001650838 | AL53: 102.66 | AM53: =IF(G53="SCORIO",AL53*AE$208,IF(G53="DER/Edif.",AL53*AE$207,IF(G53="SINAPI-ES",AL53*AE$208,IF(G53="SICRO-ES",AL53*AE$206,IF(G53="DER/Rod.",AL53*AE$206,"CALCULAR"))))) -> 103.33392
D54: 4.1.4 | G54: SINAPI-ES | J54: 98526 | M54: Remoção De Raízes Remanescentes De Tronco De Árvore Com Diâmetro Maior Ou Igual A 0,20 M E Menor Que 0,40M | P54: unid | S54: =VLOOKUP(D54,'MEMÓRIA DE CÁLCULO'!A:H,8,FALSE) -> 50 | V54: =ROUND(AM54,2) -> 162.85 | Y54: =BDI!$E$35 -> 0.2182 | AB54: =ROUND(V54*(1+Y54),2) -> 198.38 | AE54: =ROUND(AB54*S54,2) -> 9919 | AH54: =AE54/$AE$190 -> 0.00026016304 | AL54: 161.79 | AM54: =IF(G54="SCORIO",AL54*AE$208,IF(G54="DER/Edif.",AL54*AE$207,IF(G54="SINAPI-ES",AL54*AE$208,IF(G54="SICRO-ES",AL54*AE$206,IF(G54="DER/Rod.",AL54*AE$206,"CALCULAR"))))) -> 162.85208
D55: 4.1.5 | G55: SICRO-ES | J55: 5915321 | M55: Transporte com caminhão basculante de 14 m³ - rodovia pavimentada | P55: txkm | S55: =VLOOKUP(D55,'MEMÓRIA DE CÁLCULO'!A:H,8,FALSE) -> 77090.37 | V55: =ROUND(AM55,2) -> 0.76 | Y55: =BDI!$E$35 -> 0.2182 | AB55: =ROUND(V55*(1+Y55),2) -> 0.93 | AE55: =ROUND(AB55*S55,2) -> 71694.04 | AH55: =AE55/$AE$190 -> 0.0018804456 | AL55: 0.74 | AM55: =IF(G55="SCORIO",AL55*AE$208,IF(G55="DER/Edif.",AL55*AE$207,IF(G55="SINAPI-ES",AL55*AE$208,IF(G55="SICRO-ES",AL55*AE$206,IF(G55="DER/Rod.",AL55*AE$206,"CALCULAR"))))) -> 0.76187539
...

Sheet MEMÓRIA DE CÁLCULO
D5: MEMÓRIA DE CÁLCULO PARA LEVANTAMENTO DE QUANTITATIVOS
D8: Projeto
D9: ='OR - GERAL'!D9 -> ENRONCAMENTO DO LADO NORTE DO RIO DOCE - COLATINA.
D15: 1. | E15: =VLOOKUP($D15,'OR - GERAL'!D:AB,10,FALSE) -> PROJETOS E LEVANTAMENTOS
D16: 1.1 | E16: =VLOOKUP($D16,'OR - GERAL'!D:AB,10,FALSE) -> Elaboração de projetos
D17: 1.1.1 | E17: =VLOOKUP($D17,'OR - GERAL'!$D:$AB,4,FALSE) -> SCORIO | F17: =VLOOKUP($D17,'OR - GERAL'!$D:$AB,7,FALSE) -> SE 25.10.0050 (A) | G17: =VLOOKUP($D17,'OR - GERAL'!D:AB,10,FALSE) -> Projeto basico para urbanizacao/reurbanizacao de areas, visando a organizacao espacial e das atividades, devendo contemplar: sistema viario (locais para carga e descarga, estacionamento, parada para onibus e etc, faixa exclusiva, sinalizacao e desenho geometrico), passeios, pracas, arborizacao, iluminacao com criterios luminotecnicos, distribuicao e integracao do mobiliario urbano e equipamentos urbanos, inclusive diagnostico urbanistico e de infra-estrutura da area de projeto, levantamento dos projetos pertinentes existentes nas diversas esferas governamentais, concessionarias e permissionarios de servicos publico, aprovacoes pertinentes e a coordenacao dos projetos complementares, apresentado em Autocad nos padroes da contratante. | P17: =VLOOKUP($D17,'OR - GERAL'!$D:$AB,13,FALSE) -> ha
E19: Área total de projeto = área total de intervenção (m²)
A21: =D17 -> 1.1.1 | G21: =CONCATENATE(V21," ","total de"," ",X21," =") -> Área total de PROJETO BÁSICO = | H21: 2.5 | I21: =P17 -> ha | V21: =IF(P17="Unid","Quantidade",IF(P17="m","Extensão",IF(OR(P17="m²",P17="m2",P17="ha"),"Área",IF(P17="m³","Volume",IF(P17="kg","Massa",IF(P17="t","massa",IF(P17="m³xkm","transporte",IF(P17="txkm","transporte",IF(P17="gl","Quantidade",IF(P17="vb","Quantidade",IF(P17="%","percentual",IF(P17="mês","Período","")))))))))))) -> Área | X21: PROJETO BÁSICO
D23: 1.1.2 | E23: =VLOOKUP($D23,'OR - GERAL'!$D:$AB,4,FALSE) -> SCORIO | F23: =VLOOKUP($D23,'OR - GERAL'!$D:$AB,7,FALSE) -> SE 25.70.0550 (A) | G23: =VLOOKUP($D23,'OR - GERAL'!D:AB,10,FALSE) -> Fornecimento De Projeto Executivo De Instalação Elétrica Em Autocad Aprovado Na Concessionária Em Urbanização, Considerando A Área Acima De 15000M2. | P23: =VLOOKUP($D23,'OR - GERAL'!$D:$AB,13,FALSE) -> m²
E25: Área total de projeto = área total de intervenção (m²)
A27: =D23 -> 1.1.2 | G27: =CONCATENATE(V27," ","total de"," ",X27," =") -> Área total de PROJETO EXECUTIVO = | H27: 22025.82 | I27: =P23 -> m² | V27: =IF(P23="Unid","Quantidade",IF(P23="m","Extensão",IF(OR(P23="m²",P23="m2",P23="ha"),"Área",IF(P23="m³","Volume",IF(P23="kg","Massa",IF(P23="t","massa",IF(P23="m³xkm","transporte",IF(P23="txkm","transporte",IF(P23="gl","Quantidade",IF(P23="vb","Quantidade",IF(P23="%","percentual",IF(P23="mês","Período","")))))))))))) -> Área | X27: PROJETO EXECUTIVO
D29: 1.1.3 | E29: =VLOOKUP($D29,'OR - GERAL'!$D:$AB,4,FALSE) -> SCORIO | F29: =VLOOKUP($D29,'OR - GERAL'!$D:$AB,7,FALSE) -> SE 25.10.0405 (/) | G29: =VLOOKUP($D29,'OR - GERAL'!D:AB,10,FALSE) -> Projeto de implantacao de pavimentacao em vias urbanas, nos padroes da PCRJ, apresentado em Autocad ou similiar, com arquivos no padrao PDF, DWG e PLT, em meio fisico ou digital. Apresentado com plantas, perfis, memorial descritivo e de calculo, contemplando todas as solucoes recomendadas para os trechos. Detalhamento das diversas camadas da pavimentacao e definicao das especificacoes dos servicos e do controle tecnologico de campo a serem executados no subleito, nas camadas granulares e no revestimento asfaltico. Para obras de projecao horizontal inferior a 2 ha. Exclusive levantamentos de campo, contagens de trafego e ensaios geotecnicos de caracterizacao do terreno. | P29: =VLOOKUP($D29,'OR - GERAL'!$D:$AB,13,FALSE) -> ha
A31: =D29 -> 1.1.3 | G31: =CONCATENATE(V31," ","total de"," ",X31," =") -> Área total de PAVIMENTAÇÃO = | H31: =0.0001*4930*2 -> 0.986 | I31: =P29 -> ha | V31: =IF(P29="Unid","Quantidade",IF(P29="m","Extensão",IF(OR(P29="m²",P29="m2",P29="ha"),"Área",IF(P29="m³","Volume",IF(P29="kg","Massa",IF(P29="t","massa",IF(P29="m³xkm","transporte",IF(P29="txkm","transporte",IF(P29="gl","Quantidade",IF(P29="vb","Quantidade",IF(P29="%","percentual",IF(P29="mês","Período","")))))))))))) -> Área | X31: PAVIMENTAÇÃO
D33: 1.1.4 | E33: =VLOOKUP($D33,'OR - GERAL'!$D:$AB,4,FALSE) -> SCORIO | F33: =VLOOKUP($D33,'OR - GERAL'!$D:$AB,7,FALSE) -> SE 25.05.0200 (/) | G33: =VLOOKUP($D33,'OR - GERAL'!D:AB,10,FALSE) -> Projeto Executivo De Sistema De Drenagem, Em Autocad, Em Área Acima De 20.000M2. | P33: =VLOOKUP($D33,'OR - GERAL'!$D:$AB,13,FALSE) -> m²
E35: Área total de projeto = área total de intervenção (m²)
A37: =D33 -> 1.1.4 | G37: =CONCATENATE(V37," ","total de"," ",X37," =") -> Área total de DRENAGEM = | H37: 22025.82 | I37: =P33 -> m² | V37: =IF(P33="Unid","Quantidade",IF(P33="m","Extensão",IF(P33="m²","Área",IF(P33="m³","Volume",IF(P33="kg","Massa",IF(P33="t","massa",IF(P33="m³xkm","transporte",IF(P33="txkm","transporte",IF(P33="gl","Quantidade",IF(P33="vb","Quantidade",IF(P33="%","percentual",IF(P33="mês","Período","")))))))))))) -> Área | X37: DRENAGEM
D39: 1.1.5 | E39: =VLOOKUP($D39,'OR - GERAL'!$D:$AB,4,FALSE) -> CPU | F39: =VLOOKUP($D39,'OR - GERAL'!$D:$AB,7,FALSE) -> C001 | G39: =VLOOKUP($D39,'OR - GERAL'!D:AB,10,FALSE) -> Elaboração De As Built | P39: =VLOOKUP($D39,'OR - GERAL'!$D:$AB,13,FALSE) -> unid
E41: Quantidade de projeto "As-built"
A43: =D39 -> 1.1.5 | G43: =CONCATENATE(V43," ","total de"," ",X43," =") -> Quantidade total de AS BUILT = | H43: 1 | I43: =P39 -> unid | V43: =IF(P39="Unid","Quantidade",IF(P39="m","Extensão",IF(OR(P39="m²",P39="m2",P39="ha"),"Área",IF(P39="m³","Volume",IF(P39="kg","Massa",IF(P39="t","massa",IF(P39="m³xkm","transporte",IF(P39="txkm","transporte",IF(P39="gl","Quantidade",IF(P39="vb","Quantidade",IF(P39="%","percentual",IF(P39="mês","Período","")))))))))))) -> Quantidade | X43: AS BUILT
D45: 1.2 | E45: =VLOOKUP($D45,'OR - GERAL'!D:AB,10,FALSE) -> Levantamentos, Sondagens e ensaios
D47: 1.2.2 | E47: =VLOOKUP($D47,'OR - GERAL'!$D:$AB,4,FALSE) -> SCORIO | F47: =VLOOKUP($D47,'OR - GERAL'!$D:$AB,7,FALSE) -> AD 05.05.0053 (/) | G47: =VLOOKUP($D47,'OR - GERAL'!D:AB,10,FALSE) -> Analise granulometrica completa, em amostra de solo, de acordo com a NBR7181 e NBR6457, compreendendo as fases de peneiramento e sedimentacao, quando constatada a presenca de particulas finas em sua composicao. | P47: =VLOOKUP($D47,'OR - GERAL'!$D:$AB,13,FALSE) -> unid
E49: Quantidade total estimada de análises granulometricas
A51: =D47 -> 1.2.2 | G51: =CONCATENATE(V51," ","total de"," ",X51," =") -> Quantidade total de ANÁLISE = | H51: =400/5 -> 80 | I51: =P47 -> unid | V51: =IF(P47="Unid","Quantidade",IF(P47="m","Extensão",IF(OR(P47="m²",P47="m2",P47="ha"),"Área",IF(P47="m³","Volume",IF(P47="kg","Massa",IF(P47="t","massa",IF(P47="m³xkm","transporte",IF(P47="txkm","transporte",IF(P47="gl","Quantidade",IF(P47="vb","Quantidade",IF(P47="%","percentual",IF(P47="mês","Período","")))))))))))) -> Quantidade | X51: ANÁLISE
D53: 1.2.3 | E53: =VLOOKUP($D53,'OR - GERAL'!$D:$AB,4,FALSE) -> SCORIO | F53: =VLOOKUP($D53,'OR - GERAL'!$D:$AB,7,FALSE) -> AD 05.20.0050 (/) | G53: =VLOOKUP($D53,'OR - GERAL'!D:AB,10,FALSE) -> Sondagem a percussao com diametro ate 3", com ensaio de penetracao (SPT) a cada metro, incluindo relatorio contendo classificacao tatil visual das amostras, perfis individuais dos furos, planta de localizacao e respectivas cotas das sondagens. Inclui deslocamento ate 50m de distancia e instalacao do tripe em cada furo dentro do canteiro, excluindo mobilizacao e desmobilizacao. | P53: =VLOOKUP($D53,'OR - GERAL'!$D:$AB,13,FALSE) -> m
E55: Extensão total de furos de sondagens igual = Quantidade total de furos (Unid) x Profundidade média dos furos das sondagens (m)
G57: Quantidade | I57: Profundidade
E58: Extensão total = | G58: 40 | H58: x | I58: 20 | J58: = | K58: =G58*I58 -> 800
A60: =D53 -> 1.2.3 | G60: =CONCATENATE(V60," ","total de"," ",X60," =") -> Extensão total de SONDAGEM = | H60: =K58 -> 800 | I60: =P53 -> m | V60: =IF(P53="Unid","Quantidade",IF(P53="m","Extensão",IF(OR(P53="m²",P53="m2",P53="ha"),"Área",IF(P53="m³","Volume",IF(P53="kg","Massa",IF(P53="t","massa",IF(P53="m³xkm","transporte",IF(P53="txkm","transporte",IF(P53="gl","Quantidade",IF(P53="vb","Quantidade",IF(P53="%","percentual",IF(P53="mês","Período","")))))))))))) -> Extensão | X60: SONDAGEM
D63: 2. | E63: =VLOOKUP($D63,'OR - GERAL'!D:AB,10,FALSE) -> ADMNISTRAÇÃO LOCAL
D64: 2.1 | E64: =VLOOKUP($D64,'OR - GERAL'!D:AB,10,FALSE) -> Administração local
D65: 2.1.1 | E65: =VLOOKUP($D65,'OR - GERAL'!$D:$AB,4,FALSE) -> CPU | F65: =VLOOKUP($D65,'OR - GERAL'!$D:$AB,7,FALSE) -> C002 | G65: =VLOOKUP($D65,'OR - GERAL'!D:AB,10,FALSE) -> Administração Local | P65: =VLOOKUP($D65,'OR - GERAL'!$D:$AB,13,FALSE) -> unid
E67: Período de execução de obra conforme cronograma
A69: =D65 -> 2.1.1 | G69: =CONCATENATE(V69," ","total de"," ",X69," =") -> Quantidade total de ADMNISTRAÇÃO LOCAL = | H69: 1 | I69: =P65 -> unid | V69: =IF(P65="Unid","Quantidade",IF(P65="m","Extensão",IF(OR(P65="m²",P65="m2",P65="ha"),"Área",IF(P65="m³","Volume",IF(P65="kg","Massa",IF(P65="t","massa",IF(P65="m³xkm","transporte",IF(P65="txkm","transporte",IF(P65="gl","Quantidade",IF(P65="vb","Quantidade",IF(P65="%","percentual",IF(P65="mês","Período","")))))))))))) -> Quantidade | X69: ADMNISTRAÇÃO LOCAL
D71: 3. | E71: =VLOOKUP($D71,'OR - GERAL'!D:AB,10,FALSE) -> SERVIÇOS PRELIMINARES
D72: 3.1 | E72: =VLOOKUP($D72,'OR - GERAL'!D:AB,10,FALSE) -> Canteiro de obras
D73: 3.1.1 | E73: =VLOOKUP($D73,'OR - GERAL'!$D:$AB,4,FALSE) -> DER/Edif. | F73: =VLOOKUP($D73,'OR - GERAL'!$D:$AB,7,FALSE) -> 20305 | G73: =VLOOKUP($D73,'OR - GERAL'!D:AB,10,FALSE) -> Placa de obra nas dimensões de 2.0 x 4.0 m | P73: =VLOOKUP($D73,'OR - GERAL'!$D:$AB,13,FALSE) -> m²
E75: Área total de placa
A77: =D73 -> 3.1.1 | G77: =CONCATENATE(V77," ","total de"," ",X77," =") -> Área total de PLACA = | H77: =2*4 -> 8 | I77: =P73 -> m² | V77: =IF(P73="Unid","Quantidade",IF(P73="m","Extensão",IF(OR(P73="m²",P73="m2",P73="ha"),"Área",IF(P73="m³","Volume",IF(P73="kg","Massa",IF(P73="t","massa",IF(P73="m³xkm","transporte",IF(P73="txkm","transporte",IF(P73="gl","Quantidade",IF(P73="vb","Quantidade",IF(P73="%","percentual",IF(P73="mês","Período","")))))))))))) -> Área | X77: PLACA
D79: 3.1.2 | E79: =VLOOKUP($D79,'OR - GERAL'!$D:$AB,4,FALSE) -> DER/Edif. | F79: =VLOOKUP($D79,'OR - GERAL'!$D:$AB,7,FALSE) -> 20356 | G79: =VLOOKUP($D79,'OR - GERAL'!D:AB,10,FALSE) -> Aluguel Mensal Container Para Almoxarifado, Incl. Porta, 2 Janelas, 1 Pt Iluminação, Isolamento Térmico (Teto), Piso Em Comp. Naval Pintado, Cert. Nr18, Incl. Laudo Descontaminação. | P79: =VLOOKUP($D79,'OR - GERAL'!$D:$AB,13,FALSE) -> mês
E81: Período de execução de obra conforme cronograma
...

Sheet BDI
A1: DETALHAMENTO DO BDI
A3: OBRA: | B3: Enroncamento do lado norte do Rio doce - Colatina.
A4: CONTRATO:
A6: 1. Regime de Contribuição Previdenciária
B7: Sem Desoneração
A9: 2. Tipo de Intervenção
B10: Rodovias e Ferrovias
A12: 3. Incidências sobre o custo
B14: Administração Central - AC | E14: 2 | F14: %
B15: Riscos - R | E15: 3.5 | F15: %
B16: Seguros e Garantias Contratuais - S+G | E16: 1.5 | F16: %
B17: Despesas e Encargos Financeiros - DF | E17: 1.5 | F17: %
B19: Lucro - L | E19: 5.83 | F19: %
A21: 4 – Incidências sobre o preço de venda
B23: Despesas Tributárias - I | E23: =E25+E29+E30+E31 -> 5.65 | F23: %
B25: ISS | E25: 2 | F25: %
B26: Base de cálculo | E26: 100 | F26: %
B27: Alíquota do ISS (sobre a base de cálculo) | E27: 5 | F27: %
B29: COFINS | E29: 3 | F29: %
B30: PIS | E30: 0.65 | F30: %
B31: INSS | E31: 0 | F31: %
A33: 5 – Demonstrativo de cálculo do BDI
B35: BDI = | C35: (1+(AC+S+R+G))(1+DF)(1+L)) -1 = | E35: =ROUND((((1+($E$14/100)+($E$16/100)+($E$15/100))*(1+($E$17/100))*(1+($E$19/100)))/(1-$E$23/100)-1),4) -> 0.2182
C36: ( 1- I )
A37: Declarações
A39: =CONCATENATE("1- Declaro para os devidos fins que, conforme legislação tributária municipal, a base de cálculo do ISS para ", B10," é de ",E26," %",", com a respectiva alíquota de ",E27," %.") -> 1- Declaro para os devidos fins que, conforme legislação tributária municipal, a base de cálculo do ISS para Rodovias e Ferrovias é de 100 %, com a respectiva alíquota de 5 %.
A42: =CONCATENATE("2- Declaro para os devidos fins que o regime de Contribuição Previdenciária adotado para elaboração do orçamento foi ",B7,", e que esta é a alternativa mais adequada para a Administração Pública.") -> 2- Declaro para os devidos fins que o regime de Contribuição Previdenciária adotado para elaboração do orçamento foi Sem Desoneração, e que esta é a alternativa mais adequada para a Administração Pública.
B47: Resp. Técnico do Orçamento | E47: Representante Legal
A48: Nome: | B48: Felipe Dutra Torezani | D48: Nome: | E48: João Guerino Balestrassi
A49: CREA-ES: | B49: 46116/D | D49: CARGO: | E49: PREFEITO MUNICIPAL

Sheet CPU`s 
D4: COMPOSIÇÕES DE CUSTO UNITÁRIO
D7: Projeto
D8: ='OR - GERAL'!D9 -> ENRONCAMENTO DO LADO NORTE DO RIO DOCE - COLATINA.
D9: Local
D10: ='OR - GERAL'!D11 -> COLATINA - ES
D12: ITEM | J12: DESCRIÇÃO DO SERVIÇO | M12: UNID. | P12: QUANT. | S12: CUSTO UNITÁRIO (R$) | V12: VALOR TOTAL (R$)
D14: . | E14: . | F14: . | G14: . | H14: . | I14: . | J14: . | K14: . | L14: . | M14: . | N14: . | O14: . | P14: . | Q14: . | R14: . | S14: . | T14: . | U14: . | V14: .
D15: . | E15: . | F15: . | G15: . | H15: . | I15: . | J15: . | K15: . | L15: . | M15: . | N15: . | O15: . | P15: . | Q15: . | R15: . | S15: . | T15: . | U15: . | V15: .
D16: CPU | G16: C001 | J16: Elaboração De As Built | M16: unid. | P16: 1 | V16: =SUM(V17:V19) -> 13592.503
D17: SINAPI-ES Composição | G17: 90775 | J17: desenhista projetista com encargos complementares | M17: h | P17: =8*6*2*2 -> 192 | S17: 35.74 | V17: =S17*P17 -> 6862.08
D18: SINAPI-ES Composição | G18: 88597 | J18: desenhista detalhista com encargos complementares | M18: h | P18: =8*6*2*2 -> 192 | S18: =30.46*'OR - GERAL'!AE209 -> 35.054289 | V18: =S18*P18 -> 6730.4235
D23: CPU | G23: C002 | J23: Administração Local | M23: unid. | P23: 1 | V23: =SUM(V24:V29) -> 1626459.7
D24: SINAPI-ES Composição | G24: 90777 | J24: Engenheiro civil de obra junior com encargos complementares | M24: mês | P24: =160*21 -> 3360 | S24: 148.91 | V24: =S24*P24 -> 500337.6
D25: SINAPI-ES Composição | G25: 90767 | J25: Apontador ou apropriador com encargos complementares | M25: mês | P25: =200*21 -> 4200 | S25: 37.73 | V25: =S25*P25 -> 158466
D26: SINAPI-ES Composição | G26: 90780 | J26: Mestre de obras com encargos complementares | M26: mês | P26: =180*21 -> 3780 | S26: 84.88 | V26: =S26*P26 -> 320846.4
D27: SINAPI-ES Composição | G27: 90776 | J27: Encarregado geral com encargos complementares | M27: mês | P27: =180*21 -> 3780 | S27: 56.39 | V27: =S27*P27 -> 213154.2
D28: SINAPI-ES Composição | G28: 100309 | J28: Técnico em segurança do trabalho com encargos complementares | M28: mês | P28: =180*21 -> 3780 | S28: 49.23 | V28: =S28*P28 -> 186089.4
D29: DER/Edif | G29: 100309 | J29: Serviço De Topografia E Agrimensura Para Fins De Projeto, Levantamento E Fiscalização | M29: mês | P29: =10 -> 10 | S29: =21511.96*'OR - GERAL'!AE209 -> 24756.614 | V29: =S29*P29 -> 247566.14
D34: CPU | G34: C003 | J34: Fornecimento E Instalação De Iluminação Pública Exceto postes e lâmpadas | M34: m | V34: =SUM(V35:V51) -> 152.45392
D35: SINAPI | G35: 91931 | J35: Cabo De Cobre, Flexivel, Classe 4 Ou 5, Isolacao Em Pvc/A, Antichama Bwf-B, Cobertura Pvc-St1, Antichama Bwf-B, 1 Condutor, 0,6/1 Kv, Secao Nominal 6 Mm2 | M35: m | P35: 1 | S35: 13.55 | V35: =S35*P35 -> 13.55
D36: SINAPI | G36: 91933 | J36: Cabo De Cobre, Flexivel, Classe 4 Ou 5, Isolacao Em Pvc/A, Antichama Bwf-B, Cobertura Pvc-St1, Antichama Bwf-B, 1 Condutor, 0,6/1 Kv, Secao Nominal 10 Mm2 | M36: m | P36: 1 | S36: 21.62 | V36: =S36*P36 -> 21.62
D37: SINAPI | G37: 2446 | J37: Eletroduto/Duto Pead Flexivel Parede Simples, Corrugacao Helicoidal, Cor Preta, Sem Rosca, De 2", Para Cabeamento Subterraneo (Nbr 15715) | M37: m | P37: 1 | S37: =7.95*'OR - GERAL'!AE209 -> 9.1491003 | V37: =S37*P37 -> 9.1491003
D38: SINAPI | G38: 91926 | J38: Cabo De Cobre, Flexivel, Classe 4 Ou 5, Isolacao Em Pvc/A, Antichama Bwf-B, Cobertura Pvc-St1, Antichama Bwf-B, 1 Condutor, 0,6/1 Kv, Secao Nominal 2,5 Mm2 | M38: m | P38: 1 | S38: 6.55 | V38: =S38*P38 -> 6.55
D39: SINAPI | G39: 41627 | J39: Caixa De Concreto Armado Pre-Moldado, Com Fundo E Tampa, Dimensoes De 0,30 X 0,30 X 0,30 M | M39: un | P39: =1/18 -> 0.055555556 | S39: =178.7*'OR - GERAL'!AE209 -> 205.65336 | V39: =S39*P39 -> 11.425187
D40: SINAPI | G40: 20111 | J40: Fita Isolante Adesiva Antichama, Uso Ate 750 V, Em Rolo De 19 Mm X 20 M | M40: un | P40: =1/18 -> 0.055555556 | S40: =11.15*'OR - GERAL'!AE209 -> 12.831757 | V40: =S40*P40 -> 0.71287539
D41: SINAPI | G41: 404 | J41: Fita Isolante De Borracha Autofusao, Uso Ate 69 Kv (Alta Tensao) | M41: m | P41: 1 | S41: =1.52*'OR - GERAL'!AE209 -> 1.749262 | V41: =S41*P41 -> 1.749262
D42: SINAPI | G42: 2510 | J42: Rele Fotoeletrico Interno E Externo Bivolt 1000 W, De Conector, Sem Base | M42: un | P42: =1/18 -> 0.055555556 | S42: =37.04*'OR - GERAL'!AE209 -> 42.626752 | V42: =S42*P42 -> 2.3681529
D43: SINAPI | G43: 39380 | J43: Base Para Rele Com Suporte Metalico | M43: un | P43: =1/18 -> 0.055555556 | S43: =21.19*'OR - GERAL'!AE209 -> 24.386093 | V43: =S43*P43 -> 1.3547829
D44: SINAPI | G44: 96985 | J44: Haste De Aterramento Em Aco Com 3,00 M De Comprimento E Dn = 5/8", Revestida Com Baixa Camada De Cobre, Com Conector Tipo Grampo | M44: un | P44: =1/18 -> 0.055555556 | S44: 83.89 | V44: =S44*P44 -> 4.6605556
D45: SINAPI | G45: 90099 | J45: Escavação mecanizada de vala com prof. até 1,5 m (média montante e jusante/uma composição por trecho), retroescav. (0,26 m3), larg. menor que 0,8 m, em solo de 1a categoria, em locais com alto nível de interferência. af_02/2021 | M45: m3 | P45: =0.8*0.6*0.8 -> 0.384 | S45: 18.02 | V45: =S45*P45 -> 6.91968
D46: SINAPI | G46: 93358 | J46: Escavação manual de vala com profundidade menor ou igual a 1,30 m. af_02/2021 | M46: m3 | P46: =0.8*0.6*0.2 -> 0.096 | S46: 119.34 | V46: =S46*P46 -> 11.45664
D47: SINAPI | G47: 93382 | J47: Reaterro manual de valas, com compactador de solos de percussão. af_08/2023 | M47: m3 | P47: =(P45+P46)-P49 -> 0.36 | S47: 35.99 | V47: =S47*P47 -> 12.9564
D48: SINAPI | G48: 101616 | J48: Preparo de fundo de vala com largura menor que 1,5 m (acerto do solo natural). af_08/2020 | M48: m2 | P48: 0.6 | S48: 10.15 | V48: =S48*P48 -> 6.09
D49: SINAPI | G49: 101618 | J49: Preparo de fundo de vala com largura menor que 1,5 m, com camada de areia, lançamento manual. af_08/2020 | M49: m3 | P49: =0.6*0.2 -> 0.12 | S49: 269.3 | V49: =S49*P49 -> 32.316
D50: SINAPI-ES | G50: 100983 | J50: Carga, manobra e descarga de entulho em caminhão basculante 14 m³ - carga com escavadeira hidráulica (caçamba de 0,80 m³ / 111 hp) e descarga livre (unidade: m3). af_07/2020 | M50: m3 | P50: =P47*1.3 -> 0.468 | S50: 10.1 | V50: =S50*P50 -> 4.7268
D51: SICRO-ES | G51: 5915321 | J51: Transporte com caminhão basculante de 14 m³ - rodovia pavimentada | M51: txkm | P51: =P50*1.4*10 -> 6.552 | S51: 0.74 | V51: =S51*P51 -> 4.84848
D55: CPU | G55: C004 | J55: ENROCAMENTO - ROCHA 9,3/15,5T ( 12,25T) - FORNECIMENTO/CARGA/DESCARGA/COLOCAÇÃO | M55: m³ | V55: =SUM(V56:V61) -> 206.47414
D56: SICRO | G56: M1097 | J56: pedra de mão | M56: m³ | P56: 1.05 | S56: =111.1187*'OR - GERAL'!AE209 -> 127.87876 | V56: =S56*P56 -> 134.2727
D57: SICRO | G57: E9672 P | J57: caminhão basculante para rocha com capacidade de 12 m³ - 188 kw | M57: CHP | P57: 0.022 | S57: =314.0039*'OR - GERAL'!AE209 -> 361.36518 | V57: =S57*P57 -> 7.950034
D58: SICRO | G58: E9672 I | J58: caminhão basculante para rocha com capacidade de 12 m³ - 188 kw | M58: CHI | P58: 0.00020347 | S58: =101.3906*'OR - GERAL'!AE209 -> 116.68337 | V58: =S58*P58 -> 0.023741565
...

Sheet CURVA ABC
D4: CURVA ABC
D7: Projeto
D8: ='OR - GERAL'!D9 -> ENRONCAMENTO DO LADO NORTE DO RIO DOCE - COLATINA.
D9: Local
D10: ='OR - GERAL'!D11 -> COLATINA - ES
D12: ITEM | G12: DESCRIÇÃO DO SERVIÇO | M12: CURVA | P12: VALOR TOTAL (R$) | S12: PESO RELATIVO (%) | V12: % ACUMULADO | Y12: OBSERVAÇÕES
D14: 5.1 | G14: =VLOOKUP(D14,'OR - GERAL'!D:MR,10,FALSE) -> Enrocamento | M14: =IF(V14<69.9999%,"A",IF(AND(V14>=70%,V14<89.99999%),"B",(IF(V14>=90%,"C","-")))) -> A | P14: =VLOOKUP(D14,'OR - GERAL'!D:AE,28,FALSE) -> 25219426 | S14: =P14/$S$40 -> 0.6614742 | V14: =S14+V13 -> 0.6614742
D15: 7.3 | G15: =VLOOKUP(D15,'OR - GERAL'!D:MR,10,FALSE) -> Calçadas e demais áreas | M15: =IF(V15<69.9999%,"A",IF(AND(V15>=70%,V15<89.99999%),"B",(IF(V15>=90%,"C","-")))) -> B | P15: =VLOOKUP(D15,'OR - GERAL'!D:AE,28,FALSE) -> 2537870.4 | S15: =P15/$S$40 -> 0.066565187 | V15: =S15+V14 -> 0.72803939
D16: 4.2 | G16: =VLOOKUP(D16,'OR - GERAL'!D:MR,10,FALSE) -> Terraplenagem | M16: =IF(V16<69.9999%,"A",IF(AND(V16>=70%,V16<89.99999%),"B",(IF(V16>=90%,"C","-")))) -> B | P16: =VLOOKUP(D16,'OR - GERAL'!D:AE,28,FALSE) -> 2445806 | S16: =P16/$S$40 -> 0.064150453 | V16: =S16+V15 -> 0.79218984
D17: 2.1 | G17: =VLOOKUP(D17,'OR - GERAL'!D:MR,10,FALSE) -> Administração local | M17: =IF(V17<69.9999%,"A",IF(AND(V17>=70%,V17<89.99999%),"B",(IF(V17>=90%,"C","-")))) -> B | P17: =VLOOKUP(D17,'OR - GERAL'!D:AE,28,FALSE) -> 1981353.2 | S17: =P17/$S$40 -> 0.051968434 | V17: =S17+V16 -> 0.84415827
D18: 11.3 | G18: =VLOOKUP(D18,'OR - GERAL'!D:MR,10,FALSE) -> Mobiliário urbano | M18: =IF(V18<69.9999%,"A",IF(AND(V18>=70%,V18<89.99999%),"B",(IF(V18>=90%,"C","-")))) -> B | P18: =VLOOKUP(D18,'OR - GERAL'!D:AE,28,FALSE) -> 1177404 | S18: =P18/$S$40 -> 0.030881843 | V18: =S18+V17 -> 0.87504012
D19: 7.1 | G19: =VLOOKUP(D19,'OR - GERAL'!D:MR,10,FALSE) -> Pavimentação - Viário | M19: =IF(V19<69.9999%,"A",IF(AND(V19>=70%,V19<89.99999%),"B",(IF(V19>=90%,"C","-")))) -> B | P19: =VLOOKUP(D19,'OR - GERAL'!D:AE,28,FALSE) -> 904560.49 | S19: =P19/$S$40 -> 0.023725498 | V19: =S19+V18 -> 0.89876561
D20: 8.1 | G20: =VLOOKUP(D20,'OR - GERAL'!D:MR,10,FALSE) -> Iluminação Pública | M20: =IF(V20<69.9999%,"A",IF(AND(V20>=70%,V20<89.99999%),"B",(IF(V20>=90%,"C","-")))) -> C | P20: =VLOOKUP(D20,'OR - GERAL'!D:AE,28,FALSE) -> 710526.47 | S20: =P20/$S$40 -> 0.018636226 | V20: =S20+V19 -> 0.91740184
D21: 11.1 | G21: =VLOOKUP(D21,'OR - GERAL'!D:MR,10,FALSE) -> Quadras Poliesportivas | M21: =IF(V21<69.9999%,"A",IF(AND(V21>=70%,V21<89.99999%),"B",(IF(V21>=90%,"C","-")))) -> C | P21: =VLOOKUP(D21,'OR - GERAL'!D:AE,28,FALSE) -> 532455.26 | S21: =P21/$S$40 -> 0.01396564 | V21: =S21+V20 -> 0.93136748
D22: 1.1 | G22: =VLOOKUP(D22,'OR - GERAL'!D:MR,10,FALSE) -> Elaboração de projetos | M22: =IF(V22<69.9999%,"A",IF(AND(V22>=70%,V22<89.99999%),"B",(IF(V22>=90%,"C","-")))) -> C | P22: =VLOOKUP(D22,'OR - GERAL'!D:AE,28,FALSE) -> 455611.46 | S22: =P22/$S$40 -> 0.011950122 | V22: =S22+V21 -> 0.9433176
D23: 6.1 | G23: =VLOOKUP(D23,'OR - GERAL'!D:MR,10,FALSE) -> Drenagem | M23: =IF(V23<69.9999%,"A",IF(AND(V23>=70%,V23<89.99999%),"B",(IF(V23>=90%,"C","-")))) -> C | P23: =VLOOKUP(D23,'OR - GERAL'!D:AE,28,FALSE) -> 331454.45 | S23: =P23/$S$40 -> 0.0086936383 | V23: =S23+V22 -> 0.95201124
D24: 7.4 | G24: =VLOOKUP(D24,'OR - GERAL'!D:MR,10,FALSE) -> Guias e Sarjetas | M24: =IF(V24<69.9999%,"A",IF(AND(V24>=70%,V24<89.99999%),"B",(IF(V24>=90%,"C","-")))) -> C | P24: =VLOOKUP(D24,'OR - GERAL'!D:AE,28,FALSE) -> 310310.83 | S24: =P24/$S$40 -> 0.0081390675 | V24: =S24+V23 -> 0.96015031
D25: 1.2 | G25: =VLOOKUP(D25,'OR - GERAL'!D:MR,10,FALSE) -> Levantamentos, Sondagens e ensaios | M25: =IF(V25<69.9999%,"A",IF(AND(V25>=70%,V25<89.99999%),"B",(IF(V25>=90%,"C","-")))) -> C | P25: =VLOOKUP(D25,'OR - GERAL'!D:AE,28,FALSE) -> 149145.6 | S25: =P25/$S$40 -> 0.0039119038 | V25: =S25+V24 -> 0.96406221
... D36: 11.4 | G36: =VLOOKUP(D36,'OR - GERAL'!D:MR,10,FALSE) -> Playground | M36: =IF(V36<69.9999%,"A",IF(AND(V36>=70%,V36<89.99999%),"B",(IF(V36>=90%,"C","-")))) -> C | P36: =VLOOKUP(D36,'OR - GERAL'!D:AE,28,FALSE) -> 43309.06 | S36: =P36/$S$40 -> 0.0011359428 | V36: =S36+V35 -> 1
P40: PREÇO TOTAL (R$) | S40: =SUM(P14:P36) -> 38126091 | V40: =SUM(S14:S36) -> 1
N41: 0.30150744 | S41: =S40*N41 -> 11495300
P42: VALOR TOTAL GERAL DO EMPREENDIMENTO (R$) | S42: =S40+S41 -> 49621391
D44: LEGENDA
G46: - Curva A do orçamento
G48: - Curva B do orçamento
G50: - Curva C do orçamento

Sheet ACEITABILIDADE DE PREÇOS
D4: CRITÉRIO DE ACEITABILIDADE DE PREÇOS
D7: Projeto
D8: ='CURVA ABC'!D8 -> ENRONCAMENTO DO LADO NORTE DO RIO DOCE - COLATINA.
D9: Local
D10: ='CURVA ABC'!D10 -> COLATINA - ES
D12: ITEM | G12: DESCRIÇÃO DO SERVIÇO | M12: CURVA | P12: MÍNIMO | S12: MÁXIMO | V12: OBSERVAÇÕES
D14: ='CURVA ABC'!D14 -> 5.1 | G14: ='CURVA ABC'!G14 -> Enrocamento | M14: ='CURVA ABC'!M14 -> A | P14: =S14*0.6 -> 0.39688452 | S14: ='CURVA ABC'!S14 -> 0.6614742
D15: ='CURVA ABC'!D15 -> 7.3 | G15: ='CURVA ABC'!G15 -> Calçadas e demais áreas | M15: ='CURVA ABC'!M15 -> B | P15: =S15*0.6 -> 0.039939112 | S15: ='CURVA ABC'!S15 -> 0.066565187
D16: ='CURVA ABC'!D16 -> 4.2 | G16: ='CURVA ABC'!G16 -> Terraplenagem | M16: ='CURVA ABC'!M16 -> B | P16: =S16*0.6 -> 0.038490272 | S16: ='CURVA ABC'!S16 -> 0.064150453
D17: ='CURVA ABC'!D17 -> 2.1 | G17: ='CURVA ABC'!G17 -> Administração local | M17: ='CURVA ABC'!M17 -> B | P17: =S17*0.6 -> 0.03118106 | S17: ='CURVA ABC'!S17 -> 0.051968434
D18: ='CURVA ABC'!D18 -> 11.3 | G18: ='CURVA ABC'!G18 -> Mobiliário urbano | M18: ='CURVA ABC'!M18 -> B | P18: =S18*0.6 -> 0.018529106 | S18: ='CURVA ABC'!S18 -> 0.030881843
D19: ='CURVA ABC'!D19 -> 7.1 | G19: ='CURVA ABC'!G19 -> Pavimentação - Viário | M19: ='CURVA ABC'!M19 -> B | P19: =S19*0.6 -> 0.014235299 | S19: ='CURVA ABC'!S19 -> 0.023725498
D20: ='CURVA ABC'!D20 -> 8.1 | G20: ='CURVA ABC'!G20 -> Iluminação Pública | M20: ='CURVA ABC'!M20 -> C | P20: =S20*0.6 -> 0.011181736 | S20: ='CURVA ABC'!S20 -> 0.018636226
D21: ='CURVA ABC'!D21 -> 11.1 | G21: ='CURVA ABC'!G21 -> Quadras Poliesportivas | M21: ='CURVA ABC'!M21 -> C | P21: =S21*0.6 -> 0.0083793839 | S21: ='CURVA ABC'!S21 -> 0.01396564
D22: ='CURVA ABC'!D22 -> 1.1 | G22: ='CURVA ABC'!G22 -> Elaboração de projetos | M22: ='CURVA ABC'!M22 -> C | P22: =S22*0.6 -> 0.0071700735 | S22: ='CURVA ABC'!S22 -> 0.011950122
D23: ='CURVA ABC'!D23 -> 6.1 | G23: ='CURVA ABC'!G23 -> Drenagem | M23: ='CURVA ABC'!M23 -> C | P23: =S23*0.6 -> 0.005216183 | S23: ='CURVA ABC'!S23 -> 0.0086936383
D24: ='CURVA ABC'!D24 -> 7.4 | G24: ='CURVA ABC'!G24 -> Guias e Sarjetas | M24: ='CURVA ABC'!M24 -> C | P24: =S24*0.6 -> 0.0048834405 | S24: ='CURVA ABC'!S24 -> 0.0081390675
D25: ='CURVA ABC'!D25 -> 1.2 | G25: ='CURVA ABC'!G25 -> Levantamentos, Sondagens e ensaios | M25: ='CURVA ABC'!M25 -> C | P25: =S25*0.6 -> 0.0023471423 | S25: ='CURVA ABC'!S25 -> 0.0039119038
... D36: ='CURVA ABC'!D36 -> 11.4 | G36: ='CURVA ABC'!G36 -> Playground | M36: ='CURVA ABC'!M36 -> C | P36: =S36*0.6 -> 0.0006815657 | S36: ='CURVA ABC'!S36 -> 0.0011359428
P40: =SUM(P14:P36) -> 0.6

Sheet CRONOGRAMA FISICO
D2: CRONONOGRAMA FISICO
B3: =25+30 -> 55
DU4: Revisão: 11 | DX4: =#REF!*#REF! -> #REF!
B5: =35 -> 35 | D5: ID | E5: DESCRIÇÃO | F5: MÊS 1 | J5: MÊS 2 | N5: MÊS 3 | R5: MÊS 4 | V5: MÊS 5 | Z5: MÊS 6 | AD5: MÊS 7 | AH5: MÊS 8 | AL5: MÊS 9 | AP5: MÊS 10 | AT5: MÊS 11 | AX5: MÊS 12 | BB5: MÊS 13 | BF5: MÊS 14 | BJ5: MÊS 15 | BN5: MÊS 16 | BR5: MÊS 17 | BV5: MÊS 18 | BZ5: MÊS 19 | CD5: MÊS 20 | CH5: MÊS 21 | CL5: MÊS 22 | CP5: MÊS 23 | CT5: MÊS 24 | CX5: MÊS 25 | DB5: MÊS 26 | DF5: MÊS 27 | DJ5: MÊS 28 | DN5: MÊS 29 | DR5: MÊS 30
D6: 1. | E6: =VLOOKUP(D6,'OR - GERAL'!D:MR,10,FALSE) -> PROJETOS E LEVANTAMENTOS
D8: 1.1.1 | E8: =VLOOKUP(D8,'OR - GERAL'!D:MR,10,FALSE) -> Projeto basico para urbanizacao/reurbanizacao de areas, visando a organizacao espacial e das atividades, devendo contemplar: sistema viario (locais para carga e descarga, estacionamento, parada para onibus e etc, faixa exclusiva, sinalizacao e desenho geometrico), passeios, pracas, arborizacao, iluminacao com criterios luminotecnicos, distribuicao e integracao do mobiliario urbano e equipamentos urbanos, inclusive diagnostico urbanistico e de infra-estrutura da area de projeto, levantamento dos projetos pertinentes existentes nas diversas esferas governamentais, concessionarias e permissionarios de servicos publico, aprovacoes pertinentes e a coordenacao dos projetos complementares, apresentado em Autocad nos padroes da contratante.
D10: 1.1.2 | E10: =VLOOKUP(D10,'OR - GERAL'!D:MR,10,FALSE) -> Fornecimento De Projeto Executivo De Instalação Elétrica Em Autocad Aprovado Na Concessionária Em Urbanização, Considerando A Área Acima De 15000M2.
D12: 1.1.3 | E12: =VLOOKUP(D12,'OR - GERAL'!D:MR,10,FALSE) -> Projeto de implantacao de pavimentacao em vias urbanas, nos padroes da PCRJ, apresentado em Autocad ou similiar, com arquivos no padrao PDF, DWG e PLT, em meio fisico ou digital. Apresentado com plantas, perfis, memorial descritivo e de calculo, contemplando todas as solucoes recomendadas para os trechos. Detalhamento das diversas camadas da pavimentacao e definicao das especificacoes dos servicos e do controle tecnologico de campo a serem executados no subleito, nas camadas granulares e no revestimento asfaltico. Para obras de projecao horizontal inferior a 2 ha. Exclusive levantamentos de campo, contagens de trafego e ensaios geotecnicos de caracterizacao do terreno.
D14: 1.1.4 | E14: =VLOOKUP(D14,'OR - GERAL'!D:MR,10,FALSE) -> Projeto Executivo De Sistema De Drenagem, Em Autocad, Em Área Acima De 20.000M2.
D16: 1.2 | E16: =VLOOKUP(D16,'OR - GERAL'!D:MR,10,FALSE) -> Levantamentos, Sondagens e ensaios
D17: 2. | E17: =VLOOKUP(D17,'OR - GERAL'!D:MR,10,FALSE) -> ADMNISTRAÇÃO LOCAL
D19: 2.1 | E19: =VLOOKUP(D19,'OR - GERAL'!D:MR,10,FALSE) -> Administração local
D20: 3. | E20: =VLOOKUP(D20,'OR - GERAL'!D:MR,10,FALSE) -> SERVIÇOS PRELIMINARES
D22: 3.1 | E22: =VLOOKUP(D22,'OR - GERAL'!D:MR,10,FALSE) -> Canteiro de obras
D24: 3.2.1 | E24: =VLOOKUP(D24,'OR - GERAL'!D:MR,10,FALSE) -> Mobilização e desmobilização de equipamentos com carreta prancha (máximo)
D26: 3.2.2 | E26: =VLOOKUP(D26,'OR - GERAL'!D:MR,10,FALSE) -> Mobilização E Desmobilização De Conteiner Locado Para Barracão De Obra
D28: 3.2.3 | E28: =VLOOKUP(D28,'OR - GERAL'!D:MR,10,FALSE) -> #N/A
E29: =VLOOKUP(D30,'OR - GERAL'!D:MR,10,FALSE) -> #N/A
D30: 3.2.4
E31: =VLOOKUP(D32,'OR - GERAL'!D:MR,10,FALSE) -> #N/A
D32: 3.2.5
C33: 0.25 | D33: 4. | E33: =VLOOKUP(D33,'OR - GERAL'!D:MR,10,FALSE) -> TERRAPLENAGEM
B35: =#REF! -> #REF! | D35: 4.1 | E35: =VLOOKUP(D35,'OR - GERAL'!D:MR,10,FALSE) -> Limpeza do terreno
B37: =SUM(#REF!,#REF!,#REF!,#REF!,#REF!) -> #REF! | D37: 4.2 | E37: =VLOOKUP(D37,'OR - GERAL'!D:MR,10,FALSE) -> Terraplenagem
B39: =SUM(#REF!,#REF!,#REF!,#REF!,#REF!) -> #REF! | D39: 4.3 | E39: =VLOOKUP(D39,'OR - GERAL'!D:MR,10,FALSE) -> #N/A
C40: 0.25 | D40: 5. | E40: =VLOOKUP(D40,'OR - GERAL'!D:MR,10,FALSE) -> ENROCAMENTO/ATERRO
B42: =SUM(#REF!,#REF!,#REF!) -> #REF! | D42: 5.1 | E42: =VLOOKUP(D42,'OR - GERAL'!D:MR,10,FALSE) -> Enrocamento
C43: =SUM(#REF!,#REF!) -> #REF!
B44: =#REF! -> #REF! | C44: =SUM(#REF!,#REF!,#REF!,#REF!,#REF!,#REF!,#REF!,#REF!,#REF!,#REF!,#REF!,#REF!,) -> #REF! | D44: 5.2 | E44: =VLOOKUP(D44,'OR - GERAL'!D:MR,10,FALSE) -> #N/A
B46: =#REF! -> #REF! | D46: 5.3 | E46: =VLOOKUP(D46,'OR - GERAL'!D:MR,10,FALSE) -> #N/A
B48: =#REF! -> #REF! | D48: 5.4 | E48: =VLOOKUP(D48,'OR - GERAL'!D:MR,10,FALSE) -> #N/A
B50: =#REF! -> #REF! | D50: 5.5 | E50: =VLOOKUP(D50,'OR - GERAL'!D:MR,10,FALSE) -> #N/A
B52: =#REF! -> #REF! | D52: 5.5a | E52: =VLOOKUP(D52,'OR - GERAL'!D:MR,10,FALSE) -> #N/A
B54: =#REF! -> #REF! | D54: 5.6 | E54: =VLOOKUP(D54,'OR - GERAL'!D:MR,10,FALSE) -> #N/A
B56: =#REF! -> #REF! | D56: 5.6a | E56: =VLOOKUP(D56,'OR - GERAL'!D:MR,10,FALSE) -> #N/A
B58: =#REF! -> #REF! | D58: 5.7 | E58: =VLOOKUP(D58,'OR - GERAL'!D:MR,10,FALSE) -> #N/A
B60: =#REF! -> #REF! | D60: 5.8 | E60: =VLOOKUP(D60,'OR - GERAL'!D:MR,10,FALSE) -> #N/A
B62: =#REF! -> #REF! | D62: 5.9 | E62: =VLOOKUP(D62,'OR - GERAL'!D:MR,10,FALSE) -> #N/A
B64: =#REF! -> #REF! | D64: 5.10 | E64: =VLOOKUP(D64,'OR - GERAL'!D:MR,10,FALSE) -> #N/A
C65: 0.18 | D65: 6. | E65: =VLOOKUP(D65,'OR - GERAL'!D:MR,10,FALSE) -> DRENAGEM
...

Sheet CRONOGRAMA FISICO FINACEIRO
D2: CRONONOGRAMA FISICO FINANCEIRO
B3: =25+30 -> 55
B5: =35 -> 35 | D5: ID | E5: DESCRIÇÃO | F5: TOTAL CUSTO (R$) | G5: TOTAL + BDI (R$) | H5: MÊS 1 | L5: MÊS 2 | P5: MÊS 3 | T5: MÊS 4 | X5: MÊS 5 | AB5: MÊS 6 | AF5: MÊS 7 | AJ5: MÊS 8 | AN5: MÊS 9 | AR5: MÊS 10 | AV5: MÊS 11 | AZ5: MÊS 12 | BD5: MÊS 13 | BH5: MÊS 14 | BL5: MÊS 15 | BP5: MÊS 16 | BT5: MÊS 17 | BX5: MÊS 18 | CB5: MÊS 19 | CF5: MÊS 20 | CJ5: MÊS 21 | CN5: MÊS 22 | CR5: MÊS 23 | CV5: MÊS 24 | CZ5: MÊS 25 | DD5: MÊS 26 | DH5: MÊS 27 | DL5: MÊS 28 | DP5: MÊS 29 | DT5: MÊS 30
E6: ETAPA | F6: TOTAL Mês | H6: =SUMIF($D$11:$D$91,"<>",H11:K91) -> 250369.42 | L6: =SUMIF($D$11:$D$91,"<>",L11:O91) -> 250369.42 | P6: =SUMIF($D$11:$D$91,"<>",P11:S91) -> 125184.71 | T6: =SUMIF($D$11:$D$91,"<>",T11:W91) -> 284876.83 | X6: =SUMIF($D$11:$D$91,"<>",X11:AA91) -> 199409.3 | AB6: =SUMIF($D$11:$D$91,"<>",AB11:AE91) -> 526600.82 | AF6: =SUMIF($D$11:$D$91,"<>",AF11:AI91) -> 526600.82 | AJ6: =SUMIF($D$11:$D$91,"<>",AJ11:AM91) -> 526600.82 | AN6: =SUMIF($D$11:$D$91,"<>",AN11:AQ91) -> 4876951.8 | AR6: =SUMIF($D$11:$D$91,"<>",AR11:AU91) -> 4876951.8 | AV6: =SUMIF($D$11:$D$91,"<>",AV11:AY91) -> 4876951.8 | AZ6: =SUMIF($D$11:$D$91,"<>",AZ11:BC91) -> 4455050.2 | BD6: =SUMIF($D$11:$D$91,"<>",BD11:BG91) -> 4455050.2 | BH6: =SUMIF($D$11:$D$91,"<>",BH11:BK91) -> 4626577.9 | BL6: =SUMIF($D$11:$D$91,"<>",BL11:BO91) -> 276226.96 | BP6: =SUMIF($D$11:$D$91,"<>",BP11:BS91) -> 406420.46 | BT6: =SUMIF($D$11:$D$91,"<>",BT11:BW91) -> 406420.46 | BX6: =SUMIF($D$11:$D$91,"<>",BX11:CA91) -> 931759.63 | CB6: =SUMIF($D$11:$D$91,"<>",CB11:CE91) -> 931759.63 | CF6: =SUMIF($D$11:$D$91,"<>",CF11:CI91) -> 820411.18 | CJ6: =SUMIF($D$11:$D$91,"<>",CJ11:CM91) -> 1040847.7 | CN6: =SUMIF($D$11:$D$91,"<>",CN11:CQ91) -> 972231.67 | CR6: =SUMIF($D$11:$D$91,"<>",CR11:CU91) -> 1109424.5 | CV6: =SUMIF($D$11:$D$91,"<>",CV11:CY91) -> 1707456.6 | DZ6: 0.05 | EA6: =CV7-DZ6 -> -0.0067299865 | EB6: =EA6*G10 -> -265568.66
H7: =H6/$G$10 -> 0.0063448105 | L7: =L6/$G$10 -> 0.0063448105 | P7: =P6/$G$10 -> 0.0031724052 | T7: =T6/$G$10 -> 0.00721929 | X7: =X6/$G$10 -> 0.0050533895 | AB7: =AB6/$G$10 -> 0.01334501 | AF7: =AF6/$G$10 -> 0.01334501 | AJ7: =AJ6/$G$10 -> 0.01334501 | AN7: =AN6/$G$10 -> 0.12359071 | AR7: =AR6/$G$10 -> 0.12359071 | AV7: =AV6/$G$10 -> 0.12359071 | AZ7: =AZ6/$G$10 -> 0.11289897 | BD7: =BD6/$G$10 -> 0.11289897 | BH7: =BH6/$G$10 -> 0.11724579 | BL7: =BL6/$G$10 -> 0.0070000868 | BP7: =BP6/$G$10 -> 0.010299424 | BT7: =BT6/$G$10 -> 0.010299424 | BX7: =BX6/$G$10 -> 0.023612461 | CB7: =CB6/$G$10 -> 0.023612461 | CF7: =CF6/$G$10 -> 0.020790692 | CJ7: =CJ6/$G$10 -> 0.026376948 | CN7: =CN6/$G$10 -> 0.024638095 | CR7: =CR6/$G$10 -> 0.028114809 | CV7: =CV6/$G$10 -> 0.043270014 | DY7: =CV7+CN7+CR7 -> 0.096022918 | DZ7: 0.1 | EA7: =DY7-DZ7 -> -0.0039770824
G8: =SUM('OR - GERAL'!Y191:AB191) -> 0.035
C9: =C10-F10 -> #REF! | F9: TOTAL ACUMULADO | H9: =H6 -> 250369.42 | L9: =L6+H9 -> 500738.85 | P9: =P6+L9 -> 625923.56 | T9: =T6+P9 -> 910800.38 | X9: =X6+T9 -> 1110209.7 | AB9: =AB6+X9 -> 1636810.5 | AF9: =AF6+AB9 -> 2163411.3 | AJ9: =AJ6+AF9 -> 2690012.1 | AN9: =AN6+AJ9 -> 7566963.9 | AR9: =AR6+AN9 -> 12443916 | AV9: =AV6+AR9 -> 17320867 | AZ9: =AZ6+AV9 -> 21775918 | BD9: =BD6+AZ9 -> 26230968 | BH9: =BH6+BD9 -> 30857546 | BL9: =BL6+BH9 -> 31133773 | BP9: =BP6+BL9 -> 31540193 | BT9: =BT6+BP9 -> 31946614 | BX9: =BX6+BT9 -> 32878373 | CB9: =CB6+BX9 -> 33810133 | CF9: =CF6+CB9 -> 34630544 | CJ9: =CJ6+CF9 -> 35671392 | CN9: =CN6+CJ9 -> 36643623 | CR9: =CR6+CN9 -> 37753048 | CV9: =CV6+CR9 -> 39460505 | DZ9: =CV9=G10 -> TRUE
C10: =#REF! -> #REF! | F10: =SUM(F11:F91) -> 38126091 | G10: =SUM(G11:G91) -> 39460505 | H10: =H9/$G$10 -> 0.0063448105 | L10: =L9/$G$10 -> 0.012689621 | P10: =P9/$G$10 -> 0.015862026 | T10: =T9/$G$10 -> 0.023081316 | X10: =X9/$G$10 -> 0.028134706 | AB10: =AB9/$G$10 -> 0.041479715 | AF10: =AF9/$G$10 -> 0.054824725 | AJ10: =AJ9/$G$10 -> 0.068169735 | AN10: =AN9/$G$10 -> 0.19176044 | AR10: =AR9/$G$10 -> 0.31535115 | AV10: =AV9/$G$10 -> 0.43894186 | AZ10: =AZ9/$G$10 -> 0.55184083 | BD10: =BD9/$G$10 -> 0.6647398 | BH10: =BH9/$G$10 -> 0.78198559 | BL10: =BL9/$G$10 -> 0.78898567 | BP10: =BP9/$G$10 -> 0.7992851 | BT10: =BT9/$G$10 -> 0.80958452 | BX10: =BX9/$G$10 -> 0.83319698 | CB10: =CB9/$G$10 -> 0.85680944 | CF10: =CF9/$G$10 -> 0.87760013 | CJ10: =CJ9/$G$10 -> 0.90397708 | CN10: =CN9/$G$10 -> 0.92861518 | CR10: =CR9/$G$10 -> 0.95672999 | CV10: =CV9/$G$10 -> 1 | DZ10: =G10-CV9 -> 0
D11: 1. | E11: =VLOOKUP(D11,'OR - GERAL'!D:MR,10,FALSE) -> PROJETOS E LEVANTAMENTOS
D13: 1.1 | E13: =VLOOKUP(D13,'OR - GERAL'!D:MR,10,FALSE) -> Elaboração de projetos | F13: =VLOOKUP(D13,'OR - GERAL'!D:AH,28,FALSE) -> 455611.46 | G13: =(F13*$F$8)+(F13*$G$8)+F13 -> 471557.86 | H13: =H14*$G$13 -> 188623.14 | L13: =L14*$G$13 -> 188623.14 | P13: =P14*$G$13 -> 94311.572 | T13: =T14*$G$13 -> 0 | X13: =X14*$G$13 -> 0 | AB13: =AB14*$G$13 -> 0 | AF13: =AF14*$G$13 -> 0 | AJ13: =AJ14*$G$13 -> 0 | AN13: =AN14*$G$13 -> 0 | AR13: =AR14*$G$13 -> 0 | AV13: =AV14*$G$13 -> 0 | AZ13: =AZ14*$G$13 -> 0 | BD13: =BD14*$G$13 -> 0 | BH13: =BH14*$G$13 -> 0 | BL13: =BL14*$G$13 -> 0 | BP13: =BP14*$G$13 -> 0 | BT13: =BT14*$G$13 -> 0 | BX13: =BX14*$G$13 -> 0 | CB13: =CB14*$G$13 -> 0 | CF13: =CF14*$G$13 -> 0 | CJ13: =CJ14*$G$13 -> 0 | CN13: =CN14*$G$13 -> 0 | CR13: =CR14*$G$13 -> 0 | CV13: =CV14*$G$13 -> 0 | DY13: =SUM(H13:DW13) -> 471557.86 | DZ13: =DY13=G13 -> TRUE
H14: 0.4 | L14: 0.4 | P14: 0.2
D16: 1.2 | E16: =VLOOKUP(D16,'OR - GERAL'!D:MR,10,FALSE) -> Levantamentos, Sondagens e ensaios | F16: =VLOOKUP(D16,'OR - GERAL'!D:AH,28,FALSE) -> 149145.6 | G16: =(F16*$F$8)+(F16*$G$8)+F16 -> 154365.7 | H16: =H17*$G$16 -> 61746.278 | L16: =L17*$G$16 -> 61746.278 | P16: =P17*$G$16 -> 30873.139 | T16: =T17*$G$16 -> 0 | X16: =X17*$G$16 -> 0 | AB16: =AB17*$G$16 -> 0 | AF16: =AF17*$G$16 -> 0 | AJ16: =AJ17*$G$16 -> 0 | AN16: =AN17*$G$16 -> 0 | AR16: =AR17*$G$16 -> 0 | AV16: =AV17*$G$16 -> 0 | AZ16: =AZ17*$G$16 -> 0 | BD16: =BD17*$G$16 -> 0 | BH16: =BH17*$G$16 -> 0 | BL16: =BL17*$G$16 -> 0 | BP16: =BP17*$G$16 -> 0 | BT16: =BT17*$G$16 -> 0 | BX16: =BX17*$G$16 -> 0 | CB16: =CB17*$G$16 -> 0 | CF16: =CF17*$G$16 -> 0 | CJ16: =CJ17*$G$16 -> 0 | CN16: =CN17*$G$16 -> 0 | CR16: =CR17*$G$16 -> 0 | CV16: =CV17*$G$16 -> 0 | DY16: =SUM(H16:DW16) -> 154365.7 | DZ16: =DY16=G16 -> TRUE
H17: 0.4 | L17: 0.4 | P17: 0.2
D18: 2. | E18: =VLOOKUP(D18,'OR - GERAL'!D:MR,10,FALSE) -> ADMNISTRAÇÃO LOCAL
D20: 2.1 | E20: =VLOOKUP(D20,'OR - GERAL'!D:MR,10,FALSE) -> Administração local | F20: =VLOOKUP(D20,'OR - GERAL'!D:AH,28,FALSE) -> 1981353.2 | G20: =(F20*$F$8)+(F20*$G$8)+F20 -> 2050700.6 | H20: =H21*$G$20 -> 0 | L20: =L21*$G$20 -> 0 | P20: =P21*$G$20 -> 0 | T20: =T21*$G$20 -> 97652.41 | X20: =X21*$G$20 -> 97652.41 | AB20: =AB21*$G$20 -> 97652.41 | AF20: =AF21*$G$20 -> 97652.41 | AJ20: =AJ21*$G$20 -> 97652.41 | AN20: =AN21*$G$20 -> 97652.41 | AR20: =AR21*$G$20 -> 97652.41 | AV20: =AV21*$G$20 -> 97652.41 | AZ20: =AZ21*$G$20 -> 97652.41 | BD20: =BD21*$G$20 -> 97652.41 | BH20: =BH21*$G$20 -> 97652.41 | BL20: =BL21*$G$20 -> 97652.41 | BP20: =BP21*$G$20 -> 97652.41 | BT20: =BT21*$G$20 -> 97652.41 | BX20: =BX21*$G$20 -> 97652.41 | CB20: =CB21*$G$20 -> 97652.41 | CF20: =CF21*$G$20 -> 97652.41 | CJ20: =CJ21*$G$20 -> 97652.41 | CN20: =CN21*$G$20 -> 97652.41 | CR20: =CR21*$G$20 -> 97652.41 | CV20: =CV21*$G$20 -> 97652.41 | DY20: =SUM(H20:DW20) -> 2050700.6 | DZ20: =DY20=G20 -> TRUE | EA20: =DY20-G20 -> 0
T21: =1/21 -> 0.047619048 | X21: =1/21 -> 0.047619048 | AB21: =1/21 -> 0.047619048 | AF21: =1/21 -> 0.047619048 | AJ21: =1/21 -> 0.047619048 | AN21: =1/21 -> 0.047619048 | AR21: =1/21 -> 0.047619048 | AV21: =1/21 -> 0.047619048 | AZ21: =1/21 -> 0.047619048 | BD21: =1/21 -> 0.047619048 | BH21: =1/21 -> 0.047619048 | BL21: =1/21 -> 0.047619048 | BP21: =1/21 -> 0.047619048 | BT21: =1/21 -> 0.047619048 | BX21: =1/21 -> 0.047619048 | CB21: =1/21 -> 0.047619048 | CF21: =1/21 -> 0.047619048 | CJ21: =1/21 -> 0.047619048 | CN21: =1/21 -> 0.047619048 | CR21: =1/21 -> 0.047619048 | CV21: =1/21 -> 0.047619048
D22: 3. | E22: =VLOOKUP(D22,'OR - GERAL'!D:MR,10,FALSE) -> SERVIÇOS PRELIMINARES
