Workbook

Sheet Memória de Cálculo
C2: MEMÓRIA DE CÁLCULO
B3: OBRA: IMPLANTAÇÃO DE REDE DE ESGOTO DO SISTEMA PENITENCIÁRIO DO IBC, LOCALIZADO NA AVENIDA DAS NAÇÕES, NO BAIRRO BENJAMIN CARLOS DOS SANTOS | P3: PLANILHA BASE: CESAN_AGOSTO_2025
P4: BDI = 30,43 % LS = 157,27% | T4: 0.3043
B6: CÓDIGO | C6: ITEM | D6: DESCRIÇÃO | N6: UNID. | O6: QUANT. | P6: P.UNITÁRIO S/BDI | Q6: P.UNITÁRIO C/BDI | R6: SUB.TOTAL
B8: 7010100110 | C8: 1.1 | D8: PLACA OBRA PAD CESAN E AGENTE FINANCEIRO | N8: M² | O8: =J10 -> 8 | P8: 195.93 | Q8: =ROUND(P8*(1+$T4),2) -> 255.55 | R8: =ROUND(O8*Q8,2) -> 2044.4
D9: Placa de obra | F9: Largura | H9: Altura | J9: Área
F10: 4 | H10: 2 | J10: =F10*H10 -> 8
B12: 7010100180 | C12: 2.1 | D12: CONTAINER SANIT/VESTIARIO DE 6,0X2,4M | N12: UNM | O12: =F14 -> 5 | P12: 1419.27 | Q12: =ROUND(P12*(1+$T4),2) -> 1851.15 | R12: =ROUND(O12*Q12,2) -> 9255.75
D13: CONTAINER | F13: MESES
D14: ALUGUEL | F14: 5
B16: 7010100170 | C16: 2.2 | D16: CONTAINER DEPOSITO MAT 6,0X2,4M S/ BANH | N16: UNM | O16: =F18 -> 5 | P16: 976.56 | Q16: =ROUND(P16*(1+$T4),2) -> 1273.73 | R16: =ROUND(O16*Q16,2) -> 6368.65
D17: CONTAINER | F17: MESES
D18: ALUGUEL | F18: 5
B20: 7010100190 | C20: 2.3 | D20: MOBILIZACAO/DESMOBILIZAÇÃO DE CONTAINER | N20: UND | O20: 2 | P20: 1003.48 | Q20: =ROUND(P20*(1+$T4),2) -> 1308.84 | R20: =ROUND(O20*Q20,2) -> 2617.68
D21: QUANTIDADE CONTAINER | F21: 5
B24: 7260100060 | C24: 3.1 | D24: REDE COLETORA DE ESGOTO, EM TUBOS PVC NBR 7362 COM DIÂMETRO DE 150 MM COM PROFUNDIDADE DE 1,26 A 1,75 M, EM ARRUAMENTOS COM PAVIMENTAÇÃO ASFÁLTICA, INCLUSIVE FORNECIMENTO DE MATERIAIS | N24: M | O24: =K27 -> 80 | P24: 429.25 | Q24: =ROUND(P24*(1+$T4),2) -> 559.87 | R24: =ROUND(O24*Q24,2) -> 44789.6
D25: Trecho | F25: Altura Inicial | H25: Altura Final | J25: Altura Média | K25: Comprimento
D26: PV 1 - PV 2 | F26: 1.5 | H26: 1.9 | J26: =(F26+H26)/2 -> 1.7 | K26: 80
D27: Total | K27: =SUM(K26:M26) -> 80
B29: 7260100100 | C29: 3.2 | D29: REDE COLETORA DE ESGOTO, EM TUBOS PVC NBR 7362 COM DIÂMETRO DE 150 MM COM PROFUNDIDADE DE 1,76 A 2,25 M, EM ARRUAMENTOS COM PAVIMENTAÇÃO ASFÁLTICA, INCLUSIVE FORNECIMENTO DE MATERIAIS | N29: M | O29: =K35 -> 319.98 | P29: 461.83 | Q29: =ROUND(P29*(1+$T4),2) -> 602.36 | R29: =ROUND(O29*Q29,2) -> 192743.15
D30: Trecho | F30: Altura Inicial | H30: Altura Final | J30: Altura Média | K30: Comprimento
D31: PV 2- PV 3 | F31: 1.9 | H31: 1.9 | J31: =(F31+H31)/2 -> 1.9 | K31: 79.99
D32: PV 3 - PV 4 | F32: =H31 -> 1.9 | H32: 1.73 | J32: =(F32+H32)/2 -> 1.815 | K32: 80
D33: PV 4 - PV 5 | F33: =H32 -> 1.73 | H33: 2.07 | J33: =(F33+H33)/2 -> 1.9 | K33: 79.99
D34: PV 5 - PV 6 | F34: =H33 -> 2.07 | H34: 2.25 | J34: =(F34+H34)/2 -> 2.16 | K34: 80
D35: Total | K35: =SUM(K31:M34) -> 319.98
B37: 7260100140 | C37: 3.3 | D37: REDE COLETORA DE ESGOTO, EM TUBOS PVC NBR 7362 COM DIÂMETRO DE 150 MM COM PROFUNDIDADE DE 2,26 A 2,75 M, EM ARRUAMENTOS COM PAVIMENTAÇÃO ASFÁLTICA, INCLUSIVE FORNECIMENTO DE MATERIAIS | N37: M | O37: =K42 -> 237.71 | P37: 528.07 | Q37: =ROUND(P37*(1+$T4),2) -> 688.76 | R37: =ROUND(O37*Q37,2) -> 163725.14
D38: Trecho | F38: Altura Inicial | H38: Altura Final | J38: Altura Média | K38: Comprimento
D39: PV 6 - PV 7 | F39: 2.25 | H39: 2.48 | J39: =(F39+H39)/2 -> 2.365 | K39: 80
D40: PV 7- PV 8 | F40: =H39 -> 2.48 | H40: 2.55 | J40: =(F40+H40)/2 -> 2.515 | K40: 80
D41: PV8 - PV 9 | F41: =H40 -> 2.55 | H41: 2.64 | J41: =(F41+H41)/2 -> 2.595 | K41: 77.71
D42: Total | K42: =SUM(K39:M41) -> 237.71
B44: 7260100180 | C44: 3.4 | D44: REDE COLETORA DE ESGOTO, EM TUBOS PVC NBR 7362 COM DIÂMETRO DE 150 MM COM PROFUNDIDADE DE 2,76 A 3,25 M, EM ARRUAMENTOS COM PAVIMENTAÇÃO ASFÁLTICA, INCLUSIVE FORNECIMENTO DE MATERIAIS | N44: M | O44: =K47 -> 66.5 | P44: 563.63 | Q44: =ROUND(P44*(1+$T4),2) -> 735.14 | R44: =ROUND(O44*Q44,2) -> 48886.81
D45: Trecho | F45: Altura Inicial | H45: Altura Final | J45: Altura Média | K45: Comprimento
D46: PV 9 - PV 10 | F46: 2.64 | H46: 3.02 | J46: =(F46+H46)/2 -> 2.83 | K46: 66.5
D47: Total | K47: =SUM(K46:M46) -> 66.5
B49: 7260100220 | C49: 3.5 | D49: REDE COLETORA DE ESGOTO, EM TUBOS PVC NBR 7362 COM DIÂMETRO DE 150 MM COM PROFUNDIDADE DE 3,26 A 3,75 M, EM ARRUAMENTOS COM PAVIMENTAÇÃO ASFÁLTICA, INCLUSIVE FORNECIMENTO DE MATERIAIS | N49: M | O49: =K52 -> 9.02 | P49: 639.56 | Q49: =ROUND(P49*(1+$T4),2) -> 834.18 | R49: =ROUND(O49*Q49,2) -> 7524.3
D50: Trecho | F50: Altura Inicial | H50: Altura Final | J50: Altura Média | K50: Comprimento
D51: PV 10 - PV 11 | F51: 3.02 | H51: 3.5 | J51: =(F51+H51)/2 -> 3.26 | K51: 9.02
D52: Total | K52: =SUM(K51:M51) -> 9.02
...

Sheet Planilha Orçamentária
B1: PLANILHA ORÇAMENTÁRIA | N1: SEM DESONERAÇÃO | P1: Assinaturas | R1: TABELA REF: CESAN DATA BASE: JANEIRO/2026
B2: PREFEITURA MUNICIPAL DE COLATINA | N2: BDI: 30,43%
B3: OBRA: IMPLANTAÇÃO DE REDE DE ESGOTO DO SISTEMA PENITENCIÁRIO DO IBC, LOCALIZADO NA AVENIDA DAS NAÇÕES, NO BAIRRO BENJAMIN CARLOS DOS SANTOS | N3: BDI DIFERENCIADO: 15,57%
B4: EXTENSÃO: 780 m
B5: LOCAL: MUNICÍPIO DE COLATINA/ES | E5: CREA/ES-12983/D | N5: LEIS SOCIAIS: 157,27%
A6: ORÇAMENTISTA: WELDER HINTZ DA SILVA
B8: ITEM | C8: ÓRGAO | D8: CÓDIGO | E8: DESCRIÇÃO DO SERVIÇO | M8: UNIDADE | N8: QUANTIDADE | O8: CUSTO UNIT. (R$) | P8: BDI | Q8: PREÇO UNIT. (R$) C/BDI | R8: CUSTO TOTAL R$
B10: 1 | E10: SERVIÇOS PRELIMINARES | R10: =R11 -> 2044.4
B11: 1.1 | C11: CESAN | D11: 7010100110 | E11: PLACA OBRA PAD CESAN E AGENTE FINANCEIRO | M11: M2 | N11: ='Memória de Cálculo'!O8 -> 8 | O11: ='Memória de Cálculo'!P8 -> 195.93 | P11: ='Memória de Cálculo'!$T$4 -> 0.3043 | Q11: ='Memória de Cálculo'!Q8 -> 255.55 | R11: =ROUND(Q11*N11,2) -> 2044.4
B12: 2 | E12: CANTEIRO DE OBRA | R12: =SUM(R13:R15) -> 18242.08
B13: 2.1 | C13: CESAN | D13: 7010100180 | E13: CONTAINER SANIT/VESTIARIO DE 6,0X2,4M | M13: UNM | N13: ='Memória de Cálculo'!O12 -> 5 | O13: ='Memória de Cálculo'!P12 -> 1419.27 | P13: ='Memória de Cálculo'!$T$4 -> 0.3043 | Q13: ='Memória de Cálculo'!Q12 -> 1851.15 | R13: =ROUND(Q13*N13,2) -> 9255.75
B14: 2.2 | C14: CESAN | D14: 7010100170 | E14: CONTAINER DEPOSITO MAT 6,0X2,4M S/ BANH | M14: UNM | N14: ='Memória de Cálculo'!O16 -> 5 | O14: ='Memória de Cálculo'!P16 -> 976.56 | P14: ='Memória de Cálculo'!$T$4 -> 0.3043 | Q14: ='Memória de Cálculo'!Q16 -> 1273.73 | R14: =ROUND(Q14*N14,2) -> 6368.65
B15: 2.3 | C15: CESAN | D15: 7010100190 | E15: MOBILIZACAO/DESMOBILIZAÇÃO DE CONTAINER | M15: UND | N15: ='Memória de Cálculo'!O20 -> 2 | O15: ='Memória de Cálculo'!P20 -> 1003.48 | P15: ='Memória de Cálculo'!$T$4 -> 0.3043 | Q15: ='Memória de Cálculo'!Q20 -> 1308.84 | R15: =ROUND(Q15*N15,2) -> 2617.68
B16: 3 | E16: EXECUÇÃO DA REDE | R16: =SUM(R17:R28) -> 555297.29 | S16: =+(R10+R12)/R16 -> 0.036532647
B17: 3.1 | C17: CESAN | D17: 7260100060 | E17: REDE COLETORA DE ESGOTO, EM TUBOS PVC NBR 7362 COM DIÂMETRO DE 150 MM COM PROFUNDIDADE DE 1,26 A 1,75 M, EM ARRUAMENTOS COM PAVIMENTAÇÃO ASFÁLTICA, INCLUSIVE FORNECIMENTO DE MATERIAIS | M17: M | N17: ='Memória de Cálculo'!O24 -> 80 | O17: ='Memória de Cálculo'!P24 -> 429.25 | P17: ='Memória de Cálculo'!$T$4 -> 0.3043 | Q17: ='Memória de Cálculo'!Q24 -> 559.87 | R17: =ROUND(Q17*N17,2) -> 44789.6
B18: 3.2 | C18: CESAN | D18: 7260100100 | E18: REDE COLETORA DE ESGOTO, EM TUBOS PVC NBR 7362 COM DIÂMETRO DE 150 MM COM PROFUNDIDADE DE 1,76 A 2,25 M, EM ARRUAMENTOS COM PAVIMENTAÇÃO ASFÁLTICA, INCLUSIVE FORNECIMENTO DE MATERIAIS | M18: M | N18: ='Memória de Cálculo'!O29 -> 319.98 | O18: ='Memória de Cálculo'!P29 -> 461.83 | P18: ='Memória de Cálculo'!$T$4 -> 0.3043 | Q18: ='Memória de Cálculo'!Q29 -> 602.36 | R18: =ROUND(Q18*N18,2) -> 192743.15
B19: 3.3 | C19: CESAN | D19: 7260100140 | E19: REDE COLETORA DE ESGOTO, EM TUBOS PVC NBR 7362 COM DIÂMETRO DE 150 MM COM PROFUNDIDADE DE 2,26 A 2,75 M, EM ARRUAMENTOS COM PAVIMENTAÇÃO ASFÁLTICA, INCLUSIVE FORNECIMENTO DE MATERIAIS | M19: M | N19: ='Memória de Cálculo'!O37 -> 237.71 | O19: ='Memória de Cálculo'!P37 -> 528.07 | P19: ='Memória de Cálculo'!$T$4 -> 0.3043 | Q19: ='Memória de Cálculo'!Q37 -> 688.76 | R19: =ROUND(Q19*N19,2) -> 163725.14
B20: 3.4 | C20: CESAN | D20: 7260100180 | E20: REDE COLETORA DE ESGOTO, EM TUBOS PVC NBR 7362 COM DIÂMETRO DE 150 MM COM PROFUNDIDADE DE 2,76 A 3,25 M, EM ARRUAMENTOS COM PAVIMENTAÇÃO ASFÁLTICA, INCLUSIVE FORNECIMENTO DE MATERIAIS | M20: M | N20: ='Memória de Cálculo'!O44 -> 66.5 | O20: ='Memória de Cálculo'!P44 -> 563.63 | P20: ='Memória de Cálculo'!$T$4 -> 0.3043 | Q20: ='Memória de Cálculo'!Q44 -> 735.14 | R20: =ROUND(Q20*N20,2) -> 48886.81
B21: 3.5 | C21: CESAN | D21: 7260100220 | E21: REDE COLETORA DE ESGOTO, EM TUBOS PVC NBR 7362 COM DIÂMETRO DE 150 MM COM PROFUNDIDADE DE 3,26 A 3,75 M, EM ARRUAMENTOS COM PAVIMENTAÇÃO ASFÁLTICA, INCLUSIVE FORNECIMENTO DE MATERIAIS | M21: M | N21: ='Memória de Cálculo'!O49 -> 9.02 | O21: ='Memória de Cálculo'!P49 -> 639.56 | P21: ='Memória de Cálculo'!$T$4 -> 0.3043 | Q21: ='Memória de Cálculo'!Q49 -> 834.18 | R21: =ROUND(Q21*N21,2) -> 7524.3
B22: 3.6 | C22: CESAN | D22: 7260100130 | E22: REDE COLETORA DE ESGOTO, EM TUBOS PVC NBR 7362 COM DIÂMETRO DE 150 MM COM PROFUNDIDADE DE 2,26 A 2,75 M, SEM PAVIMENTAÇÃO (TERRA BATIDA), INCLUSIVE FORNECIMENTO DE MATERIAIS | M22: M | N22: ='Memória de Cálculo'!O54 -> 30 | O22: ='Memória de Cálculo'!P54 -> 370.37 | P22: ='Memória de Cálculo'!$T$4 -> 0.3043 | Q22: ='Memória de Cálculo'!Q54 -> 483.07 | R22: =ROUND(Q22*N22,2) -> 14492.1
B23: 3.7 | C23: CESAN | D23: 7260100070 | E23: REDE COLETORA DE ESGOTO, EM TUBOS PVC NBR 7362 COM DIÂMETRO DE 150 MM COM PROFUNDIDADE DE 1,26 A 1,75 M, EM ARRUAMENTOS COM PAVIMENTAÇÃO EM BLOQUETES PRÉ-MOLDADOS DE CONCRETO OU PARALELEPÍPEDOS DE PEDRA, INCLUSIVE FORNECIMENTO DE MATERIAIS | M23: M | N23: ='Memória de Cálculo'!O59 -> 36.36 | O23: ='Memória de Cálculo'!P59 -> 371.69 | P23: ='Memória de Cálculo'!$T$4 -> 0.3043 | Q23: ='Memória de Cálculo'!Q59 -> 484.8 | R23: =ROUND(Q23*N23,2) -> 17627.33
B24: 3.8 | C24: CESAN | D24: 7080100020 | E24: PV ANEL DE CONCRETO DN 1000 MM PROFUNDIDADE DE 1,26 M A 1,75 M | M24: UND | N24: ='Memória de Cálculo'!O64 -> 2 | O24: ='Memória de Cálculo'!P64 -> 3750.75 | P24: ='Memória de Cálculo'!$T$4 -> 0.3043 | Q24: ='Memória de Cálculo'!Q64 -> 4892.1 | R24: =ROUND(Q24*N24,2) -> 9784.2
B25: 3.9 | C25: CESAN | D25: 7080100030 | E25: PV ANEL DE CONCRETO DN 1000 MM PROFUNDIDADE DE 1,76 M A 2,25 M | M25: UND | N25: ='Memória de Cálculo'!O69 -> 4 | O25: ='Memória de Cálculo'!P69 -> 4152.61 | P25: ='Memória de Cálculo'!$T$4 -> 0.3043 | Q25: ='Memória de Cálculo'!Q69 -> 5416.25 | R25: =ROUND(Q25*N25,2) -> 21665
B26: 3.10 | C26: CESAN | D26: 7080100040 | E26: PV ANEL DE CONCRETO DN 1000 MM PROFUNDIDADE DE 2,26 M A 2,75 M | M26: UND | N26: ='Memória de Cálculo'!O76 -> 3 | O26: ='Memória de Cálculo'!P76 -> 4554.47 | P26: ='Memória de Cálculo'!$T$4 -> 0.3043 | Q26: ='Memória de Cálculo'!Q76 -> 5940.4 | R26: =ROUND(Q26*N26,2) -> 17821.2
B27: 3.11 | C27: CESAN | D27: 7080100050 | E27: PV ANEL DE CONCRETO DN 1200 MM PROFUNDIDADE DE 2,76 M A 3,25 M | M27: UND | N27: ='Memória de Cálculo'!O82 -> 1 | O27: ='Memória de Cálculo'!P82 -> 5983.75 | P27: ='Memória de Cálculo'!$T$4 -> 0.3043 | Q27: ='Memória de Cálculo'!Q82 -> 7804.61 | R27: =ROUND(Q27*N27,2) -> 7804.61
B28: 3.12 | C28: CESAN | D28: 7080100060 | E28: PV ANEL DE CONCRETO DN 12000 MM PROFUNDIDADE DE 3,26 M A 3,75 M | M28: UND | N28: ='Memória de Cálculo'!O86 -> 1 | O28: ='Memória de Cálculo'!P86 -> 6466.19 | P28: ='Memória de Cálculo'!$T$4 -> 0.3043 | Q28: ='Memória de Cálculo'!Q86 -> 8433.85 | R28: =ROUND(Q28*N28,2) -> 8433.85
A29: TOTAL | R29: =R16+R12+R10 -> 575583.77
R32: 575583.77

Sheet Cronograma
A2: CRONOGRAMA FINANCEIRO
A3: ITEM | B3: DESCRIÇÃO | C3: VALOR (R$) | E3: Mês 1 | F3: Mês 2 | G3: Mês 3 | H3: Mês 4 | I3: Mês 5
A4: 1 | B4: Serviços Preliminares | C4: ='Planilha Orçamentária'!R10 -> 2044.4 | D4: %P | E4: 1
D5: P | E5: =C4*E4 -> 2044.4
A6: 2 | B6: Canteiro de obra | C6: ='Planilha Orçamentária'!R12 -> 18242.08 | D6: %P | E6: 0.6 | F6: 0.1 | G6: 0.1 | H6: 0.1 | I6: 0.1
D7: P | E7: =$C$6*E6 -> 10945.248 | F7: =$C$6*F6 -> 1824.208 | G7: =$C$6*G6 -> 1824.208 | H7: =$C$6*H6 -> 1824.208 | I7: =$C$6*I6 -> 1824.208
A8: 3 | B8: Execução de rede | C8: ='Planilha Orçamentária'!R16 -> 555297.29 | D8: %P | E8: 0.2 | F8: 0.2 | G8: 0.2 | H8: 0.2 | I8: 0.2
D9: P | E9: =$C$8*E8 -> 111059.46 | F9: =$C$8*F8 -> 111059.46 | G9: =$C$8*G8 -> 111059.46 | H9: =$C$8*H8 -> 111059.46 | I9: =$C$8*I8 -> 111059.46
A10: TOTAL MÊS | E10: =E5+E7+E9 -> 124049.11 | F10: =F5+F7+F9 -> 112883.67 | G10: =G5+G7+G9 -> 112883.67 | H10: =H5+H7+H9 -> 112883.67 | I10: =I5+I7+I9 -> 112883.67
A11: TOTAL | I11: =C4+C6+C8 -> 575583.77

Sheet Curva ABC
B1: ITEM | C1: ÓRGAO | D1: CÓDIGO | E1: DESCRIÇÃO DO SERVIÇO | F1: UNIDADE | G1: QUANTIDADE | H1: CUSTO UNIT. (R$) | I1: BDI | J1: PREÇO UNIT. (R$) C/BDI | K1: CUSTO TOTAL R$ | L1: PORCENTAGEM INDIVIDUAL | M1: PORCENTAGEM ACUMULADO | N1: ABC
B2: 3.2 | C2: CESAN | D2: 7260100100 | E2: REDE COLETORA DE ESGOTO, EM TUBOS PVC NBR 7362 COM DIÂMETRO DE 150 MM COM PROFUNDIDADE DE 1,76 A 2,25 M, EM ARRUAMENTOS COM PAVIMENTAÇÃO ASFÁLTICA, INCLUSIVE FORNECIMENTO DE MATERIAIS | F2: M | G2: ='Memória de Cálculo'!O29 -> 319.98 | H2: ='Memória de Cálculo'!P29 -> 461.83 | I2: ='Memória de Cálculo'!$T$4 -> 0.3043 | J2: ='Memória de Cálculo'!Q29 -> 602.36 | K2: =ROUND(J2*G2,2) -> 192743.15 | L2: =K2/$K$18 -> 0.33486551 | M2: =L2 -> 0.33486551 | N2: =IF(M2<=$E$39,"A",IF(M2<=$E$40,"B","C")) -> A
B3: 3.3 | C3: CESAN | D3: 7260100140 | E3: REDE COLETORA DE ESGOTO, EM TUBOS PVC NBR 7362 COM DIÂMETRO DE 150 MM COM PROFUNDIDADE DE 2,26 A 2,75 M, EM ARRUAMENTOS COM PAVIMENTAÇÃO ASFÁLTICA, INCLUSIVE FORNECIMENTO DE MATERIAIS | F3: M | G3: ='Memória de Cálculo'!O37 -> 237.71 | H3: ='Memória de Cálculo'!P37 -> 528.07 | I3: ='Memória de Cálculo'!$T$4 -> 0.3043 | J3: ='Memória de Cálculo'!Q37 -> 688.76 | K3: =ROUND(J3*G3,2) -> 163725.14 | L3: =K3/$K$18 -> 0.28445058 | M3: =M2+L3 -> 0.61931609 | N3: =IF(M3<=$E$39,"A",IF(M3<=$E$40,"B","C")) -> A
B4: 3.4 | C4: CESAN | D4: 7260100180 | E4: REDE COLETORA DE ESGOTO, EM TUBOS PVC NBR 7362 COM DIÂMETRO DE 150 MM COM PROFUNDIDADE DE 2,76 A 3,25 M, EM ARRUAMENTOS COM PAVIMENTAÇÃO ASFÁLTICA, INCLUSIVE FORNECIMENTO DE MATERIAIS | F4: M | G4: ='Memória de Cálculo'!O44 -> 66.5 | H4: ='Memória de Cálculo'!P44 -> 563.63 | I4: ='Memória de Cálculo'!$T$4 -> 0.3043 | J4: ='Memória de Cálculo'!Q44 -> 735.14 | K4: =ROUND(J4*G4,2) -> 48886.81 | L4: =K4/$K$18 -> 0.084934309 | M4: =M3+L4 -> 0.7042504 | N4: =IF(M4<=$E$39,"A",IF(M4<=$E$40,"B","C")) -> A
B5: 3.1 | C5: CESAN | D5: 7260100060 | E5: REDE COLETORA DE ESGOTO, EM TUBOS PVC NBR 7362 COM DIÂMETRO DE 150 MM COM PROFUNDIDADE DE 1,26 A 1,75 M, EM ARRUAMENTOS COM PAVIMENTAÇÃO ASFÁLTICA, INCLUSIVE FORNECIMENTO DE MATERIAIS | F5: M | G5: ='Memória de Cálculo'!O24 -> 80 | H5: ='Memória de Cálculo'!P24 -> 429.25 | I5: ='Memória de Cálculo'!$T$4 -> 0.3043 | J5: ='Memória de Cálculo'!Q24 -> 559.87 | K5: =ROUND(J5*G5,2) -> 44789.6 | L5: =K5/$K$18 -> 0.077815954 | M5: =M4+L5 -> 0.78206635 | N5: =IF(M5<=$E$39,"A",IF(M5<=$E$40,"B","C")) -> A
B6: 3.9 | C6: CESAN | D6: 7080100030 | E6: PV ANEL DE CONCRETO DN 1000 MM PROFUNDIDADE DE 1,76 M A 2,25 M | F6: UND | G6: ='Memória de Cálculo'!O69 -> 4 | H6: ='Memória de Cálculo'!P69 -> 4152.61 | I6: ='Memória de Cálculo'!$T$4 -> 0.3043 | J6: ='Memória de Cálculo'!Q69 -> 5416.25 | K6: =ROUND(J6*G6,2) -> 21665 | L6: =K6/$K$18 -> 0.037640047 | M6: =M5+L6 -> 0.8197064 | N6: =IF(M6<=$E$39,"A",IF(M6<=$E$40,"B","C")) -> B
B7: 3.10 | C7: CESAN | D7: 7080100040 | E7: PV ANEL DE CONCRETO DN 1000 MM PROFUNDIDADE DE 2,26 M A 2,75 M | F7: UND | G7: ='Memória de Cálculo'!O76 -> 3 | H7: ='Memória de Cálculo'!P76 -> 4554.47 | I7: ='Memória de Cálculo'!$T$4 -> 0.3043 | J7: ='Memória de Cálculo'!Q76 -> 5940.4 | K7: =ROUND(J7*G7,2) -> 17821.2 | L7: =K7/$K$18 -> 0.030961957 | M7: =M6+L7 -> 0.85066836 | N7: =IF(M7<=$E$39,"A",IF(M7<=$E$40,"B","C")) -> B
B8: 3.7 | C8: CESAN | D8: 7260100070 | E8: REDE COLETORA DE ESGOTO, EM TUBOS PVC NBR 7362 COM DIÂMETRO DE 150 MM COM PROFUNDIDADE DE 1,26 A 1,75 M, EM ARRUAMENTOS COM PAVIMENTAÇÃO EM BLOQUETES PRÉ-MOLDADOS DE CONCRETO OU PARALELEPÍPEDOS DE PEDRA, INCLUSIVE FORNECIMENTO DE MATERIAIS | F8: M | G8: ='Memória de Cálculo'!O59 -> 36.36 | H8: ='Memória de Cálculo'!P59 -> 371.69 | I8: ='Memória de Cálculo'!$T$4 -> 0.3043 | J8: ='Memória de Cálculo'!Q59 -> 484.8 | K8: =ROUND(J8*G8,2) -> 17627.33 | L8: =K8/$K$18 -> 0.030625134 | M8: =M7+L8 -> 0.88129349 | N8: =IF(M8<=$E$39,"A",IF(M8<=$E$40,"B","C")) -> B
B9: 3.6 | C9: CESAN | D9: 7260100130 | E9: REDE COLETORA DE ESGOTO, EM TUBOS PVC NBR 7362 COM DIÂMETRO DE 150 MM COM PROFUNDIDADE DE 2,26 A 2,75 M, SEM PAVIMENTAÇÃO (TERRA BATIDA), INCLUSIVE FORNECIMENTO DE MATERIAIS | F9: M | G9: ='Memória de Cálculo'!O54 -> 30 | H9: ='Memória de Cálculo'!P54 -> 370.37 | I9: ='Memória de Cálculo'!$T$4 -> 0.3043 | J9: ='Memória de Cálculo'!Q54 -> 483.07 | K9: =ROUND(J9*G9,2) -> 14492.1 | L9: =K9/$K$18 -> 0.02517809 | M9: =M8+L9 -> 0.90647158 | N9: =IF(M9<=$E$39,"A",IF(M9<=$E$40,"B","C")) -> B
B10: 3.8 | C10: CESAN | D10: 7080100020 | E10: PV ANEL DE CONCRETO DN 1000 MM PROFUNDIDADE DE 1,26 M A 1,75 M | F10: UND | G10: ='Memória de Cálculo'!O64 -> 2 | H10: ='Memória de Cálculo'!P64 -> 3750.75 | I10: ='Memória de Cálculo'!$T$4 -> 0.3043 | J10: ='Memória de Cálculo'!Q64 -> 4892.1 | K10: =ROUND(J10*G10,2) -> 9784.2 | L10: =K10/$K$18 -> 0.016998742 | M10: =M9+L10 -> 0.92347032 | N10: =IF(M10<=$E$39,"A",IF(M10<=$E$40,"B","C")) -> B
B11: 2.1 | C11: CESAN | D11: 7010100180 | E11: CONTAINER SANIT/VESTIARIO DE 6,0X2,4M | F11: UNM | G11: ='Memória de Cálculo'!O12 -> 5 | H11: ='Memória de Cálculo'!P12 -> 1419.27 | I11: ='Memória de Cálculo'!$T$4 -> 0.3043 | J11: ='Memória de Cálculo'!Q12 -> 1851.15 | K11: =ROUND(J11*G11,2) -> 9255.75 | L11: =K11/$K$18 -> 0.016080631 | M11: =M10+L11 -> 0.93955095 | N11: =IF(M11<=$E$39,"A",IF(M11<=$E$40,"B","C")) -> B
B12: 3.12 | C12: CESAN | D12: 7080100060 | E12: PV ANEL DE CONCRETO DN 12000 MM PROFUNDIDADE DE 3,26 M A 3,75 M | F12: UND | G12: ='Memória de Cálculo'!O86 -> 1 | H12: ='Memória de Cálculo'!P86 -> 6466.19 | I12: ='Memória de Cálculo'!$T$4 -> 0.3043 | J12: ='Memória de Cálculo'!Q86 -> 8433.85 | K12: =ROUND(J12*G12,2) -> 8433.85 | L12: =K12/$K$18 -> 0.014652689 | M12: =M11+L12 -> 0.95420364 | N12: =IF(M12<=$E$39,"A",IF(M12<=$E$40,"B","C")) -> C
B13: 3.11 | C13: CESAN | D13: 7080100050 | E13: PV ANEL DE CONCRETO DN 1200 MM PROFUNDIDADE DE 2,76 M A 3,25 M | F13: UND | G13: ='Memória de Cálculo'!O82 -> 1 | H13: ='Memória de Cálculo'!P82 -> 5983.75 | I13: ='Memória de Cálculo'!$T$4 -> 0.3043 | J13: ='Memória de Cálculo'!Q82 -> 7804.61 | K13: =ROUND(J13*G13,2) -> 7804.61 | L13: =K13/$K$18 -> 0.013559469 | M13: =M12+L13 -> 0.96776311 | N13: =IF(M13<=$E$39,"A",IF(M13<=$E$40,"B","C")) -> C
B14: 3.5 | C14: CESAN | D14: 7260100220 | E14: REDE COLETORA DE ESGOTO, EM TUBOS PVC NBR 7362 COM DIÂMETRO DE 150 MM COM PROFUNDIDADE DE 3,26 A 3,75 M, EM ARRUAMENTOS COM PAVIMENTAÇÃO ASFÁLTICA, INCLUSIVE FORNECIMENTO DE MATERIAIS | F14: M | G14: ='Memória de Cálculo'!O49 -> 9.02 | H14: ='Memória de Cálculo'!P49 -> 639.56 | I14: ='Memória de Cálculo'!$T$4 -> 0.3043 | J14: ='Memória de Cálculo'!Q49 -> 834.18 | K14: =ROUND(J14*G14,2) -> 7524.3 | L14: =K14/$K$18 -> 0.013072467 | M14: =M13+L14 -> 0.98083558 | N14: =IF(M14<=$E$39,"A",IF(M14<=$E$40,"B","C")) -> C
B15: 2.2 | C15: CESAN | D15: 7010100170 | E15: CONTAINER DEPOSITO MAT 6,0X2,4M S/ BANH | F15: UNM | G15: ='Memória de Cálculo'!O16 -> 5 | H15: ='Memória de Cálculo'!P16 -> 976.56 | I15: ='Memória de Cálculo'!$T$4 -> 0.3043 | J15: ='Memória de Cálculo'!Q16 -> 1273.73 | K15: =ROUND(J15*G15,2) -> 6368.65 | L15: =K15/$K$18 -> 0.01106468 | M15: =M14+L15 -> 0.99190026 | N15: =IF(M15<=$E$39,"A",IF(M15<=$E$40,"B","C")) -> C
B16: 2.3 | C16: CESAN | D16: 7010100190 | E16: MOBILIZACAO/DESMOBILIZAÇÃO DE CONTAINER | F16: UND | G16: ='Memória de Cálculo'!O20 -> 2 | H16: ='Memória de Cálculo'!P20 -> 1003.48 | I16: ='Memória de Cálculo'!$T$4 -> 0.3043 | J16: ='Memória de Cálculo'!Q20 -> 1308.84 | K16: =ROUND(J16*G16,2) -> 2617.68 | L16: =K16/$K$18 -> 0.0045478697 | M16: =M15+L16 -> 0.99644813 | N16: =IF(M16<=$E$39,"A",IF(M16<=$E$40,"B","C")) -> C
B17: 1.1 | C17: CESAN | D17: 7010100110 | E17: PLACA OBRA PAD CESAN E AGENTE FINANCEIRO | F17: M2 | G17: ='Memória de Cálculo'!O8 -> 8 | H17: ='Memória de Cálculo'!P8 -> 195.93 | I17: ='Memória de Cálculo'!$T$4 -> 0.3043 | J17: ='Memória de Cálculo'!Q8 -> 255.55 | K17: =ROUND(J17*G17,2) -> 2044.4 | L17: =K17/$K$18 -> 0.0035518722 | M17: =M16+L17 -> 1 | N17: =IF(M17<=$E$39,"A",IF(M17<=$E$40,"B","C")) -> C
A18: TOTAL | K18: =SUM(K2:K17) -> 575583.77
B28: CLASSE | C28: CORTE
B29: A | C29: 0.8
B30: B | C30: 0.95
B31: C | C31: 1
D38: CLASSE | E38: CORTE
D39: A | E39: 0.8
D40: B | E40: 0.95
D41: C | E41: 1

Sheet Planilha1
