Workbook

Sheet RES
A1: PREFEITURA MUNICIPAL DE SANTA TERESA Secretaria Municipal de Planejamento e Assuntos Estratégicos RESUMO GERAL DO ORÇAMENTO
A2: PROJETO: VISCONDE DE INHAUMA | C2: BDI: 34,71% | BDI Diferenc. : 15,57%
A3: LOCAL: Rua 25 de Março, 186, Santo Antônio do Canaâ, CEP 29654-00, Santa Teresa-ES | C3: REF: DER-ES EDIF. (jan-24). SINAPI (jan-24). DER-ES ROD. (jan-23). SCO-RIO (jan-24). ORSE (jan-24).
A4: ÁREA: | B4: 1112.79 | C4: Data Base: jan-24
A5: ITEM | B5: DISCRIMINAÇÃO | C5: VALOR PARCIAL (R$) | D5: VALOR P/ m² R$ | E5: % sobre o Total
A6: 1.0 | B6: =VLOOKUP(A6,ORÇ!C:K,2,0) -> INSTALAÇÃO MANUT. CANTEIRO MOB., DESMOB. E PLACA DE OBRA | C6: =VLOOKUP(A6,ORÇ!C:Z,8,0) -> 0 | D6: =C6/$B$4 -> 0 | E6: =C6/$C$15 -> #DIV/0!
A7: 2.0 | B7: =VLOOKUP(A7,ORÇ!C:K,2,0) -> SERVIÇOS PRELIMINARES | C7: =VLOOKUP(A7,ORÇ!C:Z,8,0) -> 0 | D7: =C7/$B$4 -> 0 | E7: =C7/$C$15 -> #DIV/0!
A8: 3.0 | B8: =VLOOKUP(A8,ORÇ!C:K,2,0) -> ESTRUTURA | C8: =VLOOKUP(A8,ORÇ!C:Z,8,0) -> 0 | D8: =C8/$B$4 -> 0 | E8: =C8/$C$15 -> #DIV/0!
A9: 4.0 | B9: =VLOOKUP(A9,ORÇ!C:K,2,0) -> SISTEMA DE VEDAÇÃO VERTICAL E COBERTURA | C9: =VLOOKUP(A9,ORÇ!C:Z,8,0) -> 0 | D9: =C9/$B$4 -> 0 | E9: =C9/$C$15 -> #DIV/0!
A10: 5.0 | B10: =VLOOKUP(A10,ORÇ!C:K,2,0) -> INSTALAÇÕES ELÉTRICAS | C10: =VLOOKUP(A10,ORÇ!C:Z,8,0) -> 0 | D10: =C10/$B$4 -> 0 | E10: =C10/$C$15 -> #DIV/0!
A11: 6.0 | B11: =VLOOKUP(A11,ORÇ!C:K,2,0) -> CABEAMENTO ESTRUTURADO | C11: =VLOOKUP(A11,ORÇ!C:Z,8,0) -> 0 | D11: =C11/$B$4 -> 0 | E11: =C11/$C$15 -> #DIV/0!
A12: 7.0 | B12: =VLOOKUP(A12,ORÇ!C:K,2,0) -> ESQUADRIAS | C12: =VLOOKUP(A12,ORÇ!C:Z,8,0) -> 0 | D12: =C12/$B$4 -> 0 | E12: =C12/$C$15 -> #DIV/0!
A13: 8.0 | B13: =VLOOKUP(A13,ORÇ!C:K,2,0) -> ACABAMENTOS | C13: =VLOOKUP(A13,ORÇ!C:Z,8,0) -> 0 | D13: =C13/$B$4 -> 0 | E13: =C13/$C$15 -> #DIV/0!
A14: 9.0 | B14: =VLOOKUP(A14,ORÇ!C:K,2,0) -> SERVIÇOS COMPLEMENTARES E FINAIS | C14: =VLOOKUP(A14,ORÇ!C:Z,8,0) -> 0 | D14: =C14/$B$4 -> 0 | E14: =C14/$C$15 -> #DIV/0!
A15: TOTAL GERAL | C15: =SUM(C5:C14) -> 0 | D15: =SUM(D5:D14) -> 0 | E15: =SUM(E6:E14) -> #DIV/0!

Sheet ORÇ
J1: MANTER COLUNA APENAS PARA O TOTAL DOS SERVIÇOS
A2: PROJETO: VISCONDE DE INHAUMA | E2: BDI: | F2: 0.3471 | G2: BDI Diferenc. : | H2: 0.1557
A3: LOCAL: Rua 25 de Março, 186, Santo Antônio do Canaâ, CEP 29654-00, Santa Teresa-ES | E3: REF: DER-ES EDIF. (jan-24). SINAPI (jan-24). DER-ES ROD. (jan-23). SCO-RIO (jan-24). ORSE (jan-24).
A4: PRAZO OBRA PREV.: | C4: 5 | E4: Não Desonerado - LS: Conforme referenciais
A5: ÁREA: | B5: 1112.79 | E5: Data Base: jan-24
A6: CÓD | B6: ÓRGÃO | C6: ITEM | D6: DISCRIMINAÇÃO DO SERVIÇO | E6: UNID | F6: QTDE | G6: PREÇO UNITÁRIO (R$) SEM BDI | H6: PREÇO UNITÁRIO (R$) COM BDI | I6: PREÇO TOTAL (R$)
A7: SERVIÇOS GERAIS
C8: 1.0 | D8: INSTALAÇÃO MANUT. CANTEIRO MOB., DESMOB. E PLACA DE OBRA | J8: =I13 -> 0
A9: 20305 | B9: DER-ES EDIF. | C9: 1.1 | D9: Placa de obra nas dimensões de 2.0 x 4.0 m, padrão DER | E9: m2 | F9: =VLOOKUP(C9,MEMÓRIA!$1:$1048576,16,0) -> 8
A10: 20350 | B10: DER-ES EDIF. | C10: 1.2 | D10: Tapume Telha Metálica Ondulada em aço galvalume 0,50mm Branca h=2,20m, incl. montagem estr. mad. 8"x8", c/adesivo "DER-ES" 60x60cm a cada 10m, incl. faixas pint. esmalte sint. cores azul c/ h=30cm e rosa c/ h=10cm (Reaproveitamento 2x) | E10: m | F10: =VLOOKUP(C10,MEMÓRIA!$1:$1048576,16,0) -> 50
A11: 20352 | B11: DER-ES EDIF. | C11: 1.3 | D11: Aluguel mensal container para escritório, dim. 6.00x2.40m, c/ banheiro (vaso+lavat+chuveiro e básc), incl. porta, 2 janelas, abert p/ ar cond., 2 pt iluminação, 2 tom. elét. e 1 tom.telef. Isolam.térmico(teto e paredes), piso em comp. Naval, cert. NR18, incl. laudo descontaminação. | E11: ms | F11: =VLOOKUP(C11,MEMÓRIA!$1:$1048576,16,0) -> 5
A12: 20344 | B12: DER-ES EDIF. | C12: 1.4 | D12: Mobilização e desmobilização de conteiner locado para barracão de obra | E12: und | F12: =VLOOKUP(C12,MEMÓRIA!$1:$1048576,16,0) -> 1
A13: =_xlfn.CONCAT("SUB - TOTAL ",D8) -> SUB - TOTAL INSTALAÇÃO MANUT. CANTEIRO MOB., DESMOB. E PLACA DE OBRA | I13: =SUM(I9:I12) -> 0
C15: 2.0 | D15: SERVIÇOS PRELIMINARES | J15: =I26 -> 0
A16: 10203 | B16: DER-ES EDIF. | C16: 2.1 | D16: Demolição de piso revestido com cerâmica inclusive lastro de concreto | E16: m2 | F16: =VLOOKUP(C16,MEMÓRIA!$1:$1048576,16,0) -> 79.732
A17: 10325 | B17: DER-ES EDIF. | C17: 2.2 | D17: Demolição de estrutura de madeira para telhado | E17: m2 | F17: =VLOOKUP(C17,MEMÓRIA!$1:$1048576,16,0) -> 79.732
A18: 97622 | B18: SINAPI | C18: 2.3 | D18: DEMOLIÇÃO DE ALVENARIA DE BLOCO FURADO, DE FORMA MANUAL, SEM REAPROVEITAMENTO. AF_09/2023 | E18: M3 | F18: =VLOOKUP(C18,MEMÓRIA!$1:$1048576,16,0) -> 16.947
A19: 97627 | B19: SINAPI | C19: 2.4 | D19: DEMOLIÇÃO DE PILARES E VIGAS EM CONCRETO ARMADO, DE FORMA MECANIZADA COM MARTELETE, SEM REAPROVEITAMENTO. AF_09/2023 | E19: M3 | F19: =VLOOKUP(C19,MEMÓRIA!$1:$1048576,16,0) -> 36.708
A20: 97629 | B20: SINAPI | C20: 2.5 | D20: DEMOLIÇÃO DE LAJES, EM CONCRETO ARMADO, DE FORMA MECANIZADA COM MARTELETE, SEM REAPROVEITAMENTO. AF_09/2023 | E20: M3 | F20: =VLOOKUP(C20,MEMÓRIA!$1:$1048576,16,0) -> 7.9732
A21: 9 | B21: ORSE | C21: 2.6 | D21: Remoção de telhamento com telhas cerâmicas | E21: m2 | F21: =VLOOKUP(C21,MEMÓRIA!$1:$1048576,16,0) -> 79.732
A22: 10216 | B22: DER-ES EDIF. | C22: 2.7 | D22: Retirada de meio-fio de concreto | E22: m | F22: =VLOOKUP(C22,MEMÓRIA!$1:$1048576,16,0) -> 69.01
A23: 10210 | B23: DER-ES EDIF. | C23: 2.8 | D23: Demolição manual de concreto simples (EMOP 05.001.001) | E23: m3 | F23: =VLOOKUP(C23,MEMÓRIA!$1:$1048576,16,0) -> 1.7655
A24: 12362 | B24: ORSE | C24: 2.9 | D24: Restauro - Reboco especial de parede, spessura 3cm, com argamassa traço 1:0,2 4:0,74 ( cal, arenoso e areia média) | E24: m2 | F24: =VLOOKUP(C24,MEMÓRIA!$1:$1048576,16,0) -> 95.1
A25: 30304 | B25: DER-ES EDIF. | C25: 2.10 | D25: Índice de preço para remoção de entulho decorrente da execução de obras (Classe A CONAMA - NBR 10.004 - Classe II-B), incluindo aluguel da caçamba, carga, transporte e descarga em área licenciada | E25: m3 | F25: =VLOOKUP(C25,MEMÓRIA!$1:$1048576,16,0) -> 425.29315
A26: =_xlfn.CONCAT("SUB - TOTAL ",D15) -> SUB - TOTAL SERVIÇOS PRELIMINARES | I26: =SUM(I16:I25) -> 0
C28: 3.0 | D28: ESTRUTURA | J28: =I43 -> 0
A29: 10501 | B29: DER-ES EDIF. | C29: 3.1 | D29: Locação de obra com gabarito de madeira | E29: m2 | F29: =VLOOKUP(C29,MEMÓRIA!$1:$1048576,16,0) -> 105
A30: 30101 | B30: DER-ES EDIF. | C30: 3.2 | D30: Escavação manual em material de 1a. categoria, até 1.50 m de profundidade | E30: m3 | F30: =VLOOKUP(C30,MEMÓRIA!$1:$1048576,16,0) -> 67.463475
A31: 30119 | B31: DER-ES EDIF. | C31: 3.3 | D31: Apiloamento do fundo de vala com maço de 30 a 60kg | E31: m2 | F31: =VLOOKUP(C31,MEMÓRIA!$1:$1048576,16,0) -> 20.1811
A32: 9962 | B32: ORSE | C32: 3.4 | D32: Lastro de brita graduada apiloada e=10cm | E32: m2 | F32: =VLOOKUP(C32,MEMÓRIA!$1:$1048576,16,0) -> 154.84
A33: 97087 | B33: SINAPI | C33: 3.5 | D33: CAMADA SEPARADORA PARA EXECUÇÃO DE RADIER, PISO DE CONCRETO OU LAJE SOBRE SOLO, EM LONA PLÁSTICA. AF_09/2021 | E33: M2 | F33: =VLOOKUP(C33,MEMÓRIA!$1:$1048576,16,0) -> 154.84
A34: 97088 | B34: SINAPI | C34: 3.6 | D34: ARMAÇÃO PARA EXECUÇÃO DE RADIER, PISO DE CONCRETO OU LAJE SOBRE SOLO, COM USO DE TELA Q-92. AF_09/2021 | E34: KG | F34: =VLOOKUP(C34,MEMÓRIA!$1:$1048576,16,0) -> 229.1632
A35: 40231 | B35: DER-ES EDIF. | C35: 3.7 | D35: Fornecimento, preparo e aplicação de concreto magro com consumo mínimo de cimento de 250 kg/m3 (brita 1 e 2) - (5% de perdas já incluído no custo) | E35: m3 | F35: =VLOOKUP(C35,MEMÓRIA!$1:$1048576,16,0) -> 1.009055
A36: 40243 | B36: DER-ES EDIF. | C36: 3.8 | D36: Fornecimento, dobragem e colocação em fôrma, de armadura CA-50 A média, diâmetro de 6.3 a 10.0 mm | E36: kg | F36: =VLOOKUP(C36,MEMÓRIA!$1:$1048576,16,0) -> 1407.2992
A37: 40245 | B37: DER-ES EDIF. | C37: 3.9 | D37: Fornecimento, dobragem e colocação em fôrma, de armadura CA-50 A grossa diâmetro de 12.5 a 25.0 mm (1/2 a 1") | E37: kg | F37: =VLOOKUP(C37,MEMÓRIA!$1:$1048576,16,0) -> 133.857
A38: 40246 | B38: DER-ES EDIF. | C38: 3.10 | D38: Fornecimento, dobragem e colocação em fôrma, de armadura CA-60 B fina, diâmetro de 4.0 a 7.0mm | E38: kg | F38: =VLOOKUP(C38,MEMÓRIA!$1:$1048576,16,0) -> 366.3622
A39: 40337 | B39: DER-ES EDIF. | C39: 3.11 | D39: Fôrma em chapa de madeira compensada plastificada 12mm para estrutura em geral, 5 reaproveitamentos, reforçada com sarrafos de madeira 2.5x10cm (incl material, corte, montagem, escoras em eucalipto e desforma) | E39: m2 | F39: =VLOOKUP(C39,MEMÓRIA!$1:$1048576,16,0) -> 240.26
A40: 40237 | B40: DER-ES EDIF. | C40: 3.12 | D40: Fornecimento, preparo e aplicação de concreto Fck=25 MPa (brita 1 e 2) - (5% de perdas já incluído no custo) | E40: m3 | F40: =VLOOKUP(C40,MEMÓRIA!$1:$1048576,16,0) -> 28.81
... A42: 100203 | B42: DER-ES EDIF. | C42: 3.14 | D42: Pintura impermeabilizante com igolflex ou equivalente a 3 demãos | E42: m2 | F42: =VLOOKUP(C42,MEMÓRIA!$1:$1048576,16,0) -> 323.97
A43: =_xlfn.CONCAT("SUB - TOTAL ",D28) -> SUB - TOTAL ESTRUTURA | I43: =SUM(I29:I42) -> 0
...

Sheet CRON
A4: PROJETO: VISCONDE DE INHAUMA | H4: BDI: 34,71% | BDI Diferenc. : 15,57%
A5: LOCAL: Rua 25 de Março, 186, Santo Antônio do Canaâ, CEP 29654-00, Santa Teresa-ES | H5: REF: DER-ES EDIF. (jan-24). SINAPI (jan-24). DER-ES ROD. (jan-23). SCO-RIO (jan-24). ORSE (jan-24).
A6: ÁREA: | B6: 1112.79 | H6: Data Base: jan-24
A7: CRONOGRAMA FÍSICO - FINANCEIRO
A8: ITEM | B8: DISCRIMINAÇÃO DOS SERVIÇOS | C8: REPASSE | D8: VALOR DAS OBRAS | E8: 1º MÊS (%) | F8: 2º MÊS (%) | G8: 3º MÊS (%) | H8: 4º MÊS (%) | I8: 5º MÊS (%)
A9: 1.0 | B9: =VLOOKUP(A9,ORÇ!C:K,2,0) -> INSTALAÇÃO MANUT. CANTEIRO MOB., DESMOB. E PLACA DE OBRA | C9: R$ | D9: =VLOOKUP(A9,ORÇ!C:Z,8,0) -> 0 | E9: =E12+E15+E18+E21 -> 0 | F9: =F12+F15+F18+F21 -> 0 | G9: =G12+G15+G18+G21 -> 0 | H9: =H12+H15+H18+H21 -> 0 | I9: =I12+I15+I18+I21 -> 0 | M9: =D9 -> 0
C11: % | E11: =E9/$D$9 -> #DIV/0! | F11: =F9/$D$9 -> #DIV/0! | G11: =G9/$D$9 -> #DIV/0! | H11: =H9/$D$9 -> #DIV/0! | I11: =I9/$D$9 -> #DIV/0! | J11: 0 | K11: 1 | L11: =SUM(E11:J11) -> #DIV/0!
A12: 1.1 | B12: =VLOOKUP(A12,ORÇ!C:K,2,0) -> Placa de obra nas dimensões de 2.0 x 4.0 m, padrão DER | C12: R$ | D12: =VLOOKUP(A12,ORÇ!C:Z,7,0) -> 0 | E12: =E14*$M12 -> 0 | M12: =D12 -> 0
C14: % | E14: 1 | J14: 0 | K14: 1 | L14: =SUM(E14:J14) -> 1
A15: 1.2 | B15: =VLOOKUP(A15,ORÇ!C:K,2,0) -> Tapume Telha Metálica Ondulada em aço galvalume 0,50mm Branca h=2,20m, incl. montagem estr. mad. 8"x8", c/adesivo "DER-ES" 60x60cm a cada 10m, incl. faixas pint. esmalte sint. cores azul c/ h=30cm e rosa c/ h=10cm (Reaproveitamento 2x) | C15: R$ | D15: =VLOOKUP(A15,ORÇ!C:Z,7,0) -> 0 | E15: =E17*$M15 -> 0 | M15: =D15 -> 0
C17: % | E17: 1 | J17: 0 | K17: 1 | L17: =SUM(E17:J17) -> 1
A18: 1.3 | B18: =VLOOKUP(A18,ORÇ!C:K,2,0) -> Aluguel mensal container para escritório, dim. 6.00x2.40m, c/ banheiro (vaso+lavat+chuveiro e básc), incl. porta, 2 janelas, abert p/ ar cond., 2 pt iluminação, 2 tom. elét. e 1 tom.telef. Isolam.térmico(teto e paredes), piso em comp. Naval, cert. NR18, incl. laudo descontaminação. | C18: R$ | D18: =VLOOKUP(A18,ORÇ!C:Z,7,0) -> 0 | E18: =E20*$M18 -> 0 | F18: =F20*$M18 -> 0 | G18: =G20*$M18 -> 0 | H18: =H20*$M18 -> 0 | I18: =I20*$M18 -> 0 | M18: =D18 -> 0
C20: % | E20: 0.2 | F20: 0.2 | G20: 0.2 | H20: 0.2 | I20: 0.2 | J20: 0 | K20: 1 | L20: =SUM(E20:J20) -> 1
A21: 1.4 | B21: =VLOOKUP(A21,ORÇ!C:K,2,0) -> Mobilização e desmobilização de conteiner locado para barracão de obra | C21: R$ | D21: =VLOOKUP(A21,ORÇ!C:Z,7,0) -> 0 | E21: =E23*$M21 -> 0 | F21: =F23*$M21 -> 0 | G21: =G23*$M21 -> 0 | H21: =H23*$M21 -> 0 | I21: =I23*$M21 -> 0 | M21: =D21 -> 0
C23: % | E23: 0.2 | F23: 0.2 | G23: 0.2 | H23: 0.2 | I23: 0.2 | J23: 0 | K23: 1 | L23: =SUM(E23:J23) -> 1
A24: 2.0 | B24: =VLOOKUP(A24,ORÇ!C:K,2,0) -> SERVIÇOS PRELIMINARES | C24: R$ | D24: =VLOOKUP(A24,ORÇ!C:Z,8,0) -> 0 | E24: =E26*$M24 -> 0 | F24: =F26*$M24 -> 0 | M24: =D24 -> 0
C26: % | E26: 0.2 | F26: 0.8 | J26: 0 | K26: 1 | L26: =SUM(E26:J26) -> 1
A27: 2.1 | B27: =VLOOKUP(A27,ORÇ!C:K,2,0) -> Demolição de piso revestido com cerâmica inclusive lastro de concreto | C27: R$ | D27: =VLOOKUP(A27,ORÇ!C:Z,7,0) -> 0 | E27: =E29*$M27 -> 0 | F27: =F29*$M27 -> 0 | M27: =D27 -> 0
C29: % | E29: 0.2 | F29: 0.8 | J29: 0 | K29: 1 | L29: =SUM(E29:J29) -> 1
A30: 2.2 | B30: =VLOOKUP(A30,ORÇ!C:K,2,0) -> Demolição de estrutura de madeira para telhado | C30: R$ | D30: =VLOOKUP(A30,ORÇ!C:Z,7,0) -> 0 | E30: =E32*$M30 -> 0 | F30: =F32*$M30 -> 0 | M30: =D30 -> 0
C32: % | E32: 0.2 | F32: 0.8 | J32: 0 | K32: 1 | L32: =SUM(E32:J32) -> 1
A33: 2.3 | B33: =VLOOKUP(A33,ORÇ!C:K,2,0) -> DEMOLIÇÃO DE ALVENARIA DE BLOCO FURADO, DE FORMA MANUAL, SEM REAPROVEITAMENTO. AF_09/2023 | C33: R$ | D33: =VLOOKUP(A33,ORÇ!C:Z,7,0) -> 0 | E33: =E35*$M33 -> 0 | F33: =F35*$M33 -> 0 | M33: =D33 -> 0
C35: % | E35: 0.2 | F35: 0.8 | J35: 0 | K35: 1 | L35: =SUM(E35:J35) -> 1
A36: 2.4 | B36: =VLOOKUP(A36,ORÇ!C:K,2,0) -> DEMOLIÇÃO DE PILARES E VIGAS EM CONCRETO ARMADO, DE FORMA MECANIZADA COM MARTELETE, SEM REAPROVEITAMENTO. AF_09/2023 | C36: R$ | D36: =VLOOKUP(A36,ORÇ!C:Z,7,0) -> 0 | E36: =E38*$M36 -> 0 | F36: =F38*$M36 -> 0 | M36: =D36 -> 0
C38: % | E38: 0.2 | F38: 0.8 | J38: 0 | K38: 1 | L38: =SUM(E38:J38) -> 1
A39: 2.5 | B39: =VLOOKUP(A39,ORÇ!C:K,2,0) -> DEMOLIÇÃO DE LAJES, EM CONCRETO ARMADO, DE FORMA MECANIZADA COM MARTELETE, SEM REAPROVEITAMENTO. AF_09/2023 | C39: R$ | D39: =VLOOKUP(A39,ORÇ!C:Z,7,0) -> 0 | E39: =E41*$M39 -> 0 | F39: =F41*$M39 -> 0 | M39: =D39 -> 0
C41: % | E41: 0.2 | F41: 0.8 | J41: 0 | K41: 1 | L41: =SUM(E41:J41) -> 1
A42: 2.6 | B42: =VLOOKUP(A42,ORÇ!C:K,2,0) -> Remoção de telhamento com telhas cerâmicas | C42: R$ | D42: =VLOOKUP(A42,ORÇ!C:Z,7,0) -> 0 | E42: =E44*$M42 -> 0 | F42: =F44*$M42 -> 0 | M42: =D42 -> 0
C44: % | E44: 0.2 | F44: 0.8 | J44: 0 | K44: 1 | L44: =SUM(E44:J44) -> 1
A45: 2.7 | B45: =VLOOKUP(A45,ORÇ!C:K,2,0) -> Retirada de meio-fio de concreto | C45: R$ | D45: =VLOOKUP(A45,ORÇ!C:Z,7,0) -> 0 | E45: =E47*$M45 -> 0 | F45: =F47*$M45 -> 0 | M45: =D45 -> 0
C47: % | E47: 0.2 | F47: 0.8 | J47: 0 | K47: 1 | L47: =SUM(E47:J47) -> 1
A48: 2.8 | B48: =VLOOKUP(A48,ORÇ!C:K,2,0) -> Demolição manual de concreto simples (EMOP 05.001.001) | C48: R$ | D48: =VLOOKUP(A48,ORÇ!C:Z,7,0) -> 0 | E48: =E50*$M48 -> 0 | F48: =F50*$M48 -> 0 | M48: =D48 -> 0
C50: % | E50: 0.2 | F50: 0.8 | J50: 0 | K50: 1 | L50: =SUM(E50:J50) -> 1
A51: 2.9 | B51: =VLOOKUP(A51,ORÇ!C:K,2,0) -> Restauro - Reboco especial de parede, spessura 3cm, com argamassa traço 1:0,2 4:0,74 ( cal, arenoso e areia média) | C51: R$ | D51: =VLOOKUP(A51,ORÇ!C:Z,7,0) -> 0 | E51: =E53*$M51 -> 0 | F51: =F53*$M51 -> 0 | M51: =D51 -> 0
C53: % | E53: 0.2 | F53: 0.8 | J53: 0 | K53: 1 | L53: =SUM(E53:J53) -> 1
A54: 2.10 | B54: =VLOOKUP(A54,ORÇ!C:K,2,0) -> Índice de preço para remoção de entulho decorrente da execução de obras (Classe A CONAMA - NBR 10.004 - Classe II-B), incluindo aluguel da caçamba, carga, transporte e descarga em área licenciada | C54: R$ | D54: =VLOOKUP(A54,ORÇ!C:Z,7,0) -> 0 | E54: =E56*$M54 -> 0 | F54: =F56*$M54 -> 0 | M54: =D54 -> 0
C56: % | E56: 0.2 | F56: 0.8 | J56: 0 | K56: 1 | L56: =SUM(E56:J56) -> 1
A57: 3.0 | B57: =VLOOKUP(A57,ORÇ!C:K,2,0) -> ESTRUTURA | C57: R$ | D57: =VLOOKUP(A57,ORÇ!C:Z,8,0) -> 0 | F57: =F59*$M57 -> 0 | M57: =D57 -> 0
C59: % | F59: 1 | J59: 0 | K59: 1 | L59: =SUM(E59:I59) -> 1
A60: 3.1 | B60: =VLOOKUP(A60,ORÇ!C:K,2,0) -> Locação de obra com gabarito de madeira | C60: R$ | D60: =VLOOKUP(A60,ORÇ!C:Z,7,0) -> 0 | F60: =F62*$M60 -> 0 | M60: =D60 -> 0
...

Sheet ABC
A2: ITEM | B2: DISCRIMINAÇÃO DO SERVIÇO | C2: UNID | D2: QTDE | E2: PREÇO UNITÁRIO (R$) COM BDI | F2: PREÇO TOTAL (R$) | G2: % | H2: % ACUM. | I2: CLASS.
A3: 8.7 | B3: Reboco tipo paulista de argamassa de cimento, cal hidratada CH1 e areia lavada traço 1:0.5:6, espessura 25 mm | C3: m2 | D3: 573.79 | G3: 0.076716999 | H3: 0.076716999 | I3: A
A4: 2.10 | B4: Índice de preço para remoção de entulho decorrente da execução de obras (Classe A CONAMA - NBR 10.004 - Classe II-B), incluindo aluguel da caçamba, carga, transporte e descarga em área licenciada | C4: m3 | D4: 425.29315 | G4: 0.066302546 | H4: 0.14301955 | I4: A
A5: 4.3 | B5: Estrutura de madeira de lei tipo Paraju, peroba mica, angelim pedra ou equivalente para telhado de telha cerâmica tipo capa e canal, com pontaletes, terças, caibros e ripas, inclusive tratamento com cupinicida, exclusive telhas | C5: m2 | D5: 140.14 | G5: 0.063899334 | H5: 0.20691888 | I5: A
A6: 3.13 | B6: Laje pré-fabricada treliçada, h =8cm, inclusive escoramento | C6: m² | D6: 229.16 | G6: 0.057221566 | H6: 0.26414045 | I6: A
A7: 3.11 | B7: Fôrma em chapa de madeira compensada plastificada 12mm para estrutura em geral, 5 reaproveitamentos, reforçada com sarrafos de madeira 2.5x10cm (incl material, corte, montagem, escoras em eucalipto e desforma) | C7: m2 | D7: 240.26 | G7: 0.048785239 | H7: 0.31292569 | I7: A
A8: 3.12 | B8: Fornecimento, preparo e aplicação de concreto Fck=25 MPa (brita 1 e 2) - (5% de perdas já incluído no custo) | C8: m3 | D8: 28.81 | G8: 0.042949631 | H8: 0.35587532 | I8: A
A9: 8.10 | B9: Pintura com tinta acrílica Suvinil, Coral ou Metalatex, inclusive selador acrílico, em paredes externas a três demãos | C9: m2 | D9: 706.79 | G9: 0.039410635 | H9: 0.39528595 | I9: A
A10: 4.4 | B10: Cobertura nova de telhas cerâmicas tipo capa e canal inclusive cumeeiras (telhas compradas na fábrica, posto obra) | C10: m2 | D10: 140.14 | G10: 0.036904008 | H10: 0.43218996 | I10: A
A11: 3.8 | B11: Fornecimento, dobragem e colocação em fôrma, de armadura CA-50 A média, diâmetro de 6.3 a 10.0 mm | C11: kg | D11: 1407.2992 | G11: 0.032138855 | H11: 0.46432881 | I11: A
A12: 3.14 | B12: Pintura impermeabilizante com igolflex ou equivalente a 3 demãos | C12: m2 | D12: 323.97 | G12: 0.031993072 | H12: 0.49632189 | I12: A
A13: 9.1 | B13: Passeio de cimentado camurçado com argamassa de cimento e areia no traço 1:3 esp. 1.5cm, e lastro de concreto com 8cm de espessura, inclusive preparo de caixa | C13: m2 | D13: 101.757 | G13: 0.031986033 | H13: 0.52830792 | I13: A
A14: 4.1 | B14: Alvenaria de blocos cerâmicos 10 furos 10x20x20cm, assentados c/argamassa de cimento, cal hidratada CH1 e areia traço 1:0,5:8, esp. das juntas 12mm e esp. das paredes s/revestimento, 10cm (bloco comprado na fábrica, posto obra) | C14: m2 | D14: 214.36 | G14: 0.028944536 | H14: 0.55725246 | I14: A
... A117: 5.3.1 | B117: Bucha com arruela em liga especial zamak p/eletroduto 25mm, d=1" | C117: un | D117: 3 | G117: 1.0100795e-05 | H117: 1 | I117: C

Sheet MEMÓRIA
A2: ITEM | B2: DESCRIÇÃO DOS SERVIÇOS PREVISTOS | C2: DESCRIÇÃO DOS PARÂMETROS UNITÁRIOS DA MEMÓRIA | M2: TOTAL | N2: UND | O2: OBSERVAÇÕES
A3: 1.0 | B3: INSTALAÇÃO MANUT. CANTEIRO MOB., DESMOB. E PLACA DE OBRA
A4: 1.1 | B4: Placa de obra nas dimensões de 2.0 x 4.0 m, padrão DER | C4: Largura (m) | D4: Altura (m) | E4: Quantidade | M4: Total | O4: Placa de Obras | P4: =M6 -> 8
C5: 4 | D5: 2 | E5: 1 | M5: =C5*D5*E5 -> 8 | N5: m2
M6: =M5 -> 8 | N6: m2
A7: 1.2 | B7: Tapume Telha Metálica Ondulada em aço galvalume 0,50mm Branca h=2,20m, incl. montagem estr. mad. 8"x8", c/adesivo "DER-ES" 60x60cm a cada 10m, incl. faixas pint. esmalte sint. cores azul c/ h=30cm e rosa c/ h=10cm (Reaproveitamento 2x) | C7: Comprimento (m) | D7: Largura (m) | E7: Perímetro (m) | M7: Total | O7: Tapume previsto para obra, contorno da obra | P7: =M9 -> 50
B8: Tapume para obra | C8: Var | D8: Var | E8: 50 | M8: =E8 -> 50 | N8: m
M9: =SUM(M8:M8) -> 50 | N9: m
A10: 1.3 | B10: Aluguel mensal container para escritório, dim. 6.00x2.40m, c/ banheiro (vaso+lavat+chuveiro e básc), incl. porta, 2 janelas, abert p/ ar cond., 2 pt iluminação, 2 tom. elét. e 1 tom.telef. Isolam.térmico(teto e paredes), piso em comp. Naval, cert. NR18, incl. laudo descontaminação. | C10: Quantidade | D10: Meses | M10: Total | O10: Quantitativos previstos de acordo com o layout do Canteiro apresentado | P10: =M12 -> 5
C11: 1 | D11: 5 | M11: =C11*D11 -> 5 | N11: ms
M12: =M11 -> 5 | N12: ms
A13: 1.4 | B13: Mobilização e desmobilização de conteiner locado para barracão de obra | C13: Quantidade | D13: Mobilização | E13: Desmobili. | M13: Total | O13: Quantidade de Containers previstos para o canteiro de obras | P13: =M15 -> 1
B14: Aluguel mensal container para escritório | C14: 1 | D14: 0.5 | E14: 0.5 | M14: =C14 -> 1 | N14: und
M15: =SUM(M14:M14) -> 1 | N15: und
A16: 2.0 | B16: SERVIÇOS PRELIMINARES
A17: 2.1 | B17: Demolição de piso revestido com cerâmica inclusive lastro de concreto | C17: Extensão (m) | D17: Largura (m) | M17: Total | P17: =M19 -> 79.732
C18: 12.4 | D18: 6.43 | M18: =C18*D18 -> 79.732 | N18: m2
M19: =M18 -> 79.732 | N19: m2
A20: 2.2 | B20: Demolição de estrutura de madeira para telhado | C20: Extensão (m) | D20: Largura (m) | M20: Total | P20: =M22 -> 79.732
C21: 12.4 | D21: 6.43 | M21: =C21*D21 -> 79.732 | N21: m2
M22: =SUM(M21:M21) -> 79.732 | N22: m2
A23: 2.3 | B23: DEMOLIÇÃO DE ALVENARIA DE BLOCO FURADO, DE FORMA MANUAL, SEM REAPROVEITAMENTO. AF_09/2023 | C23: Extensão (m) | D23: Largura (m) | E23: Altura (m) | M23: Total | P23: =M25 -> 16.947
C24: 12.4 | D24: 6.43 | E24: 3 | M24: =(C24*E24*0.15*2)+(D24*E24*0.15*2) -> 16.947 | N24: M3
M25: =M24 -> 16.947 | N25: M3
A26: 2.4 | B26: DEMOLIÇÃO DE PILARES E VIGAS EM CONCRETO ARMADO, DE FORMA MECANIZADA COM MARTELETE, SEM REAPROVEITAMENTO. AF_09/2023 | M26: Total | P26: =M28 -> 36.708
M27: =(12.4*2+6.43*2*0.4*2)+(12*0.15*0.3*3) -> 36.708 | N27: M3
M28: =M27 -> 36.708 | N28: M3
A29: 2.5 | B29: DEMOLIÇÃO DE LAJES, EM CONCRETO ARMADO, DE FORMA MECANIZADA COM MARTELETE, SEM REAPROVEITAMENTO. AF_09/2023 | C29: Extensão (m) | D29: Largura (m) | E29: Espessura (m) | M29: Total | P29: =M31 -> 7.9732
C30: 12.4 | D30: 6.43 | E30: 0.1 | M30: =C30*D30*E30 -> 7.9732 | N30: M3
M31: =M30 -> 7.9732 | N31: M3
A32: 2.6 | B32: Remoção de telhamento com telhas cerâmicas | C32: Extensão (m) | D32: Largura (m) | M32: Total | P32: =M34 -> 79.732
C33: 12.4 | D33: 6.43 | M33: =C33*D33 -> 79.732 | N33: m2
M34: =M33 -> 79.732 | N34: m2
A35: 2.7 | B35: Retirada de meio-fio de concreto | C35: Extensão (m) | M35: Total | P35: =M38 -> 69.01
C36: 21.46 | M36: =C36 -> 21.46 | N36: m
B37: Calçada existente | C37: 47.55 | M37: =C37 -> 47.55 | N37: m
M38: =SUM(M36:M37) -> 69.01 | N38: m
A39: 2.8 | B39: Demolição manual de concreto simples (EMOP 05.001.001) | C39: Extensão (m) | D39: Largura (m) | E39: Espessura (m) | M39: Total | P39: =M41 -> 1.7655
B40: Calçada existente | C40: 8.25 | D40: 2.14 | E40: 0.1 | M40: =C40*D40*E40 -> 1.7655 | N40: m3
M41: =M40 -> 1.7655 | N41: m3
...

Sheet COMPS.
A1: CÓD: | B1: 200001 | C1: Laje pré-fabricada treliçada, h =8cm, inclusive escoramento
A2: DATA-BASE: | C2: DER-ES EDIF. (jan-24). | G2: UNIDADE: | H2: m² | I2: -
A3: ÓRG. | B3: CÓD. | C3: EQUIPAMENTO | D3: COND. DE TRAB. | E3: UTILIZAÇÃO | H3: CUSTO OPERACIONAL
E4: QUANT | F4: PROD | G4: IMPR | H4: PROD | I4: IMPR | J4: CUSTO
A6: ( A ) TOTAL | J6: =SUM(J4:J5) -> 0
A7: ÓRG. | B7: CÓD. | C7: MÃO DE OBRA SUPLEMENTAR | D7: UND | E7: QTDE | F7: SAL. S/ ENC. | G7: ENC. SOCIAIS | H7: SAL. C/ ENC. | J7: CUSTO HORÁRIO
A8: DER-ES EDIF. | B8: 10139 | C8: PEDREIRO (OFICIAL - SINDUSCON) | D8: H | E8: 0.37 | F8: 8.84 | G8: 157,27 % | H8: =F8*(1+G8) -> 22.742668 | J8: =ROUND(H8*E8,2) -> 8.41
A9: DER-ES EDIF. | B9: 10146 | C9: SERVENTE (AUXILIAR DE OBRAS - SINDUSCON) | D9: H | E9: 0.74 | F9: 6.56 | G9: 157,27 % | H9: =F9*(1+G9) -> 16.876912 | J9: =ROUND(H9*E9,2) -> 12.49
A10: ( B ) TOTAL | J10: =SUM(J7:J9) -> 20.9
A11: ( C ) ADICIONAL DE FERRAMENTAS MANUAIS | I11: 0.05 | J11: =ROUND(J10*I11,2) -> 1.05
A12: ( D ) PRODUÇÃO DA EQUIPE | J12: 1
A13: CUSTO UNITÁRIO DA EXECUÇÃO ( A + B + C) / D = ( E ) | J13: =ROUND((J6+J10+J11)/J12,2) -> 21.95
A14: ÓRG. | B14: CÓD. | C14: MATERIAIS | D14: UND | E14: CONSUMO | H14: CUSTO UNITÁRIO | J14: CUSTO
A15: DER-ES EDIF. | B15: 22002 | C15: LAJE PRE-FABRICADA TRELIÇADA H= 8CM - SOBRECARGA 300 KG/M2 - PARA PISO - EXCLUSIVE CAPEAMENTO | D15: M2 | E15: 1 | H15: 76.3 | J15: =ROUND(H15*E15,2) -> 76.3
A16: DER-ES EDIF. | B16: 21009 | C16: PONTALETE DE MADEIRA BRUTA DE 3ª 8.0 X 8.0 CM | D16: M | E16: 1.13 | H16: 9.74 | J16: =ROUND(H16*E16,2) -> 11.01
A17: DER-ES EDIF. | B17: 26569 | C17: PREGO 18X27 | D17: KG | E17: 0.03 | H17: 14.69 | J17: =ROUND(H17*E17,2) -> 0.44
A18: DER-ES EDIF. | B18: 20985 | C18: SARRAFO DE MADEIRA PINUS 10 X 2.5CM | D18: M | E18: 0.67 | H18: 4.08 | J18: =ROUND(H18*E18,2) -> 2.73
A19: DER-ES EDIF. | B19: 20987 | C19: TABUA DE MADEIRA PINUS 30 X 2.5 CM (TAIPA DE 1ª) | D19: M2 | E19: 0.189 | H19: 48.88 | J19: =ROUND(H19*E19,2) -> 9.24
A20: ( F ) TOTAL | J20: =SUM(J14:J19) -> 99.72
A21: ÓRG. | B21: CÓD. | C21: ATIVIDADES AUXILIARES | D21: UND | E21: CONSUMO | H21: CUSTO UNITÁRIO | J21: CUSTO
A23: ( G ) TOTAL | J23: =SUM(J21:J22) -> 0
A24: ÓRG. | B24: CÓD. | C24: TEMPO FIXO | D24: UND | E24: CONSUMO | H24: CUSTO UNITÁRIO | J24: CUSTO
J25: =ROUND(H25*E25,2) -> 0
A26: ( H ) TOTAL | J26: =SUM(J24:J25) -> 0
A27: ÓRG. | B27: CÓD. | C27: TRANSPORTE | D27: D.M.T. | F27: CONSUMO (tkm) | H27: CUSTO UNITÁRIO | J27: CUSTO
D28: XP | E28: XR
J29: =ROUND(H29*F29,2) -> 0
A30: ( I ) TOTAL | J30: =SUM(J28:J29) -> 0
A31: CUSTO DIRETO TOTAL ( E ) + ( F ) + ( G ) + ( H ) + ( I ) | J31: =J13+J20+J23+J30+J26 -> 121.67
A32: CÓD: | B32: 400001 | C32: PERGOLADO EM MADEIRA DE LEI, COBERTURA EM POLICARBONATO
A33: DATA-BASE: | C33: DER-ES EDIF. (jan-24). SINAPI (jan-24). ORSE (jan-24). | G33: UNIDADE: | H33: M | I33: -
A34: ÓRG. | B34: CÓD. | C34: EQUIPAMENTO | D34: COND. DE TRAB. | E34: UTILIZAÇÃO | H34: CUSTO OPERACIONAL
E35: QUANT | F35: PROD | G35: IMPR | H35: PROD | I35: IMPR | J35: CUSTO
A37: ( A ) TOTAL | J37: =SUM(J35:J36) -> 0
A38: ÓRG. | B38: CÓD. | C38: MÃO DE OBRA SUPLEMENTAR | D38: UND | E38: QTDE | F38: SAL. S/ ENC. | G38: ENC. SOCIAIS | H38: SAL. C/ ENC. | J38: CUSTO HORÁRIO
A39: DER-ES EDIF. | B39: 10139 | C39: PEDREIRO (OFICIAL - SINDUSCON) | D39: H | E39: 0.25 | F39: 8.84 | G39: 157,27 % | H39: =F39*(1+G39) -> 22.742668 | J39: =ROUND(H39*E39,2) -> 5.69
A40: DER-ES EDIF. | B40: 10146 | C40: SERVENTE (AUXILIAR DE OBRAS - SINDUSCON) | D40: H | E40: 0.5 | F40: 6.56 | G40: 157,27 % | H40: =F40*(1+G40) -> 16.876912 | J40: =ROUND(H40*E40,2) -> 8.44
A41: SINAPI | B41: 12868 | C41: MARCENEIRO (HORISTA) | D41: H | E41: 0.25 | F41: 10.17691 | G41: 1.1706 | H41: =F41*(1+G41) -> 22.09 | J41: =ROUND(H41*E41,2) -> 5.52
A42: ( B ) TOTAL | J42: =SUM(J38:J41) -> 19.65
A43: ( C ) ADICIONAL DE FERRAMENTAS MANUAIS | I43: 0.05 | J43: =ROUND(J42*I43,2) -> 0.98
...

Sheet BDI-TCE-ES
A1: DETALHAMENTO DO BDI
A3: PROPONENTE: | B3: PREFEITURA MUNICIPAL DE SANTA TERESA
A4: OBRA: | B4: VISCONDE DE INHAUMA
A5: ENDEREÇO: | B5: Rua 25 de Março, 186, Santo Antônio do Canaâ, CEP 29654-00, Santa Teresa-ES
A7: 1. Regime de Contribuição Previdenciária
B9: Sem Desoneração
A11: 2. Tipo de Intervenção
B13: Edificações
A15: 3. Incidências sobre o custo
A17: A - | B17: Administração Central | C17: 4.06 | D17: %
A18: B - | B18: Administração Local | C18: 8.19 | D18: %
A19: D - | B19: Custos Financeiros | C19: 0.61 | D19: %
A20: E - | B20: Risco, Garantias e Seguros | C20: 1 | D20: %
A22: F - | B22: Lucro | C22: 8 | D22: %
A24: 4 – Incidências sobre o preço de venda
A26: C - | B26: Tributos | C26: 8.65 | D26: %
B28: Percentual da base de cálculo para o ISS: | C28: 100 | D28: %
B29: Alíquota do ISS (sobre a base de cálculo): | C29: 5 | D29: %
B31: COFINS | C31: 3 | D31: %
B32: PIS | C32: 0.65 | D32: %
B33: INSS | C33: 0 | D33: %
A35: 5 – Demonstrativo de cálculo do BDI
B37: BDI = { [ ( 1 + A + B + E ) ] * ( 1 + D ) * ( 1 + F ) } -1 = | C37: 0.3471
B38: ( 1 - C )
A40: Declaro para os devidos fins que, conforme legislação tributária municipal, a base de cálculo do ISS para Edificações é de 100 %, com a respectiva alíquota de 5%
A41: Declaro para os devidos fins que o regime de Contribuição Previdenciária adotado para elaboração do orçamento foi Sem Desoneração, e que esta é a alternativa mais adequada para a Administração Pública.
A43: BDI de acordo com a Resolução Nº 366, de 22 de novembro de 2022.

Sheet BDI DIF.
A1: DETALHAMENTO DO BDI DIFERENCIADO
A3: PROPONENTE: | B3: PREFEITURA MUNICIPAL DE SANTA TERESA
A4: OBRA: | B4: VISCONDE DE INHAUMA
A5: ENDEREÇO: | B5: Rua 25 de Março, 186, Santo Antônio do Canaâ, CEP 29654-00, Santa Teresa-ES
A7: 1. Regime de Contribuição Previdenciária
B9: Sem Desoneração
A11: 2. Tipo de Intervenção
B13: Fornecimento de Materiais e Equipamentos
A15: 3. Incidências sobre o custo
A17: A - | B17: Administração Central | C17: 2 | D17: %
A18: B - | B18: Administração Local | C18: 1.72 | D18: %
A19: D - | B19: Custos Financeiros | C19: 0.61 | D19: %
A20: E - | B20: Risco, Garantias e Seguros | C20: 1.5 | D20: %
A22: F - | B22: Lucro | C22: 3 | D22: %
A24: 4 – Incidências sobre o preço de venda
A26: C - | B26: Tributos | C26: 5.65 | D26: %
B28: Percentual da base de cálculo para o ISS: | C28: 100 | D28: %
B29: Alíquota do ISS (sobre a base de cálculo): | C29: 2 | D29: %
B31: COFINS | C31: 3 | D31: %
B32: PIS | C32: 0.65 | D32: %
B33: INSS | C33: 0 | D33: %
A35: 5 – Demonstrativo de cálculo do BDI
B37: BDI = { [ ( 1 + A + B + E ) ] * ( 1 + D ) * ( 1 + F ) } -1 = | C37: 0.1557
B38: ( 1 - C )
A40: Declaro para os devidos fins que, conforme legislação tributária municipal, a base de cálculo do ISS para Fornecimento de Materiais e Equipamentos é de 100 %, com a respectiva alíquota de 2%
A41: Declaro para os devidos fins que o regime de Contribuição Previdenciária adotado para elaboração do orçamento foi Sem Desoneração, e que esta é a alternativa mais adequada para a Administração Pública.
A43: BDI de acordo com a Resolução Nº 366, de 22 de novembro de 2022.

Sheet LS
A1: COMPOSIÇÃO DE LEIS SOCIAIS HORISTAS - BASE DE CÁLCULO - DER-ES EDIFICAÇÕES
A2: GRUPO A - Encargos Sociais Básicos | C2: %
A3: A.1 | B3: INSS (Art. 22 da Lei 8.212/91) | C3: 0.2
A4: A.2 | B4: FGTS (Art. 27 do Decreto 99.684/90) | C4: 0.08
A5: A.3 | B5: SESI/SESC (Lei 8.029/90 e Lei 8.036/90) | C5: 0.018
A6: A.4 | B6: SENAI/SENAC (Lei 8.029/90 e Decreto-Lei 6246/44) | C6: 0.013
A7: A.5 | B7: SEBRAE (já considerado no item A.3 e A.4) | C7: 0
A8: A.6 | B8: INCRA (Lei 2.613/55 e Decreto 1.146/70) | C8: 0.002
A9: A.7 | B9: SALÁRIO-EDUCAÇÃO (Decreto 87.043/82) | C9: 0.025
A10: A.8 | B10: SEGURO ACIDENTE DO TRABALHO (Lei 8.212/91 e Decreto 3.048/99) | C10: 0.03
A11: A.9 | B11: SECONCI/Medicina do Trabalho | C11: 0.01
A12: TOTAL GRUPO A | C12: 0.378
A13: GRUPO B - Encargos Sociais que recebem a incidência do grupo A | C13: %
A14: B.1 | B14: Descanso Semanal Remunerado (Art. 66 da CLT e Art. 7º da CF/88) | C14: 0.1752
A15: B.2 | B15: Feriados (Art. 70 da CLT e Lei 605/49) | C15: 0.0391
A16: B.3 | B16: Auxílio doença e acidente do trabalho (Lei 3.607/60 e Art. 131 da CLT) | C16: 0.0076
A17: B.4 | B17: Licença Paternidade (Art. 7º da CF/88) | C17: 0.0011
A18: B.5 | B18: Faltas Legais (Art. 473 da CLT) | C18: 0.0067
A19: B.6 | B19: 13º Salário (Lei nº 4090/62) | C19: 0.1011
A20: B.7 | B20: Aviso Prévio Trabalhado (Art. 7º, inciso XXI da CF/88) | C20: 0.0034
A21: TOTAL GRUPO B | C21: 0.3342
A22: GRUPO C - Encargos Sociais que não recebem a incidência do grupo A | C22: %
A23: C.1 | B23: Dispensa sem justa causa (LC 110/01) | C23: 0.0534
A24: C.2 | B24: Férias indenizadas (Art. 129 a 148 da CLT) | C24: 0.112
A25: C.3 | B25: Aviso prévio indenizado (Art. 7º, inciso XXI da CF/88) | C25: 0.1129
A26: C.4 | B26: FGTS sobre aviso prévio indenizado (Súmula 305 TST) | C26: 0.009
A27: C.5 | B27: INSS sobre aviso prévio indenizado (Decreto 6.727/09) | C27: 0.0226
A28: TOTAL GRUPO C | C28: 0.3099
A29: GRUPO D - Reincidência dos encargos sociais básicos | C29: %
A30: D.1 | B30: Incidência do grupo A sobre o grupo B | C30: 0.1263
A31: TOTAL GRUPO D | C31: 0.1263
A32: TOTAL DOS GRUPOS (A+B+C+D)
A33: GRUPO E - Encargos complementares | C33: %
A34: E.1 | B34: Refeição/alimentação (Convenção Coletiva do Trabalho 2014/2016) | C34: 0.2575
A35: E.2 | B35: Vale Transporte (Lei nº 7418/85 e Decreto 95.247/87) | C35: 0.0603
A36: E.3 | B36: Uniforme/equipamento de segurança (Art. 166 da CLT e NR-18 da Lei nº 6.514/77 e Convenção | C36: 0.0267
A37: E.4 | B37: Plano de Saúde (Convenção Coletiva do Trabalho 2014/2016) | C37: 0.0798
A38: TOTAL GRUPO E | C38: 0.4243
A39: TOTAL DOS GRUPO (A+B+C+D+E) | C39: 1.5727
