Workbook
Name A: OFFSET(#REF!,1,0):OFFSET(#REF!,-1,0)
Name aa: OFFSET(#REF!,-1,0)
Name AAA: #REF!
Name B: COUNTIF(#REF!,"<>"&"")
Name COMP: #REF!
Name creaPLE: #REF!
Name CVCV: OFFSET(#REF!,-1,0)
Name CXXXXV: #REF!
Name D: #REF!
Name deactivatedados.form1: IF(#REF!="","",VALUE(LEFT(#REF!,(FIND("-",#REF!,1))-1)))
Name Detalhamento.OpçõesExibição: #REF!
Name Detalhamento.OpçõesServiços: #REF!
Name DF: #REF!
Name ED: #REF!
Name EDRCFG: #REF!
Name Eventos: OFFSET(#REF!,1,0):OFFSET(#REF!,-1,0)
Name FDD: #REF!
Name FDF: OFFSET(#REF!,1,0):OFFSET(#REF!,-1,0)
Name FDFFDF: OFFSET(#REF!,1,0):OFFSET(#REF!,-1,0)
Name hoje: TODAY()
Name Import.Município: #REF!
Name Import.numEventos: OFFSET(#REF!,1,0):OFFSET(#REF!,-1,0)
Name Import.PLE: OFFSET(#REF!,1,0):OFFSET(#REF!,-1,0)
Name Import.PLQ: OFFSET(#REF!,1,0):OFFSET(#REF!,-1,0)
Name LForçamento: OFFSET(#REF!,-1,0)
Name LIorçamento: OFFSET(#REF!,1,0)
Name mediçao: #REF!
Name MEMORIA: OFFSET(#REF!,1,0):OFFSET(#REF!,-1,0)
Name numFrentes: COUNTIF(#REF!,"<>"&"")
Name PreçoServiçoPorFrente: OFFSET(#REF!,1,0):OFFSET(#REF!,-1,0)
Name respPLE: #REF!
Name SSDS: OFFSET(#REF!,1,0):OFFSET(#REF!,-1,0)
Name TituloEventos: OFFSET(#REF!,1,0):OFFSET(#REF!,-1,0)
Name XVCXVC: OFFSET(#REF!,1,0)
Name ZXD: OFFSET(#REF!,1,0):OFFSET(#REF!,-1,0)
Name A: OFFSET(#REF!,1,0):OFFSET(#REF!,-1,0)
Name aa: OFFSET(#REF!,-1,0)
Name AAA: #REF!
Name B: COUNTIF(#REF!,"<>"&"")
Name COMP: #REF!
Name creaPLE: #REF!
Name CVCV: OFFSET(#REF!,-1,0)
Name CXXXXV: #REF!
Name D: #REF!
Name deactivatedados.form1: IF(#REF!="","",VALUE(LEFT(#REF!,(FIND("-",#REF!,1))-1)))
Name Detalhamento.OpçõesExibição: #REF!
Name Detalhamento.OpçõesServiços: #REF!
Name DF: #REF!
Name ED: #REF!
Name EDRCFG: #REF!
Name Eventos: OFFSET(#REF!,1,0):OFFSET(#REF!,-1,0)
Name FDD: #REF!
Name FDF: OFFSET(#REF!,1,0):OFFSET(#REF!,-1,0)
Name FDFFDF: OFFSET(#REF!,1,0):OFFSET(#REF!,-1,0)
Name Import.Município: #REF!
Name Import.numEventos: OFFSET(#REF!,1,0):OFFSET(#REF!,-1,0)
Name Import.PLE: OFFSET(#REF!,1,0):OFFSET(#REF!,-1,0)
Name Import.PLQ: OFFSET(#REF!,1,0):OFFSET(#REF!,-1,0)
Name LForçamento: OFFSET(#REF!,-1,0)
Name LIorçamento: OFFSET(#REF!,1,0)

Sheet Planilha São Valentin
A4: ASSENTAMENTO DE BLOCOS, MEIO FIO E DRENAGEM EM DIVERSOS TRECHOS DO MUNICÍPIO DE SANTA TERESA- ESPÍRITO SANTO | H4: SÃO VALENTIN 1100 M² DE PAV. E 411 M DE MEIO FIO CONTRATO 356/2024 SEAG
A5: PLANILHA DE CUSTOS REFERENCIAIS
A6: Preço de Referência: DER-Edificações 04/2024 DER-Rodovias julho/2023 CESAN Julho/2024
A7: BDI - 24,67% / LS - 157,27% | E7: BDI | F7: 0.2467
A8: ITEM | B8: CÓDIGO | C8: REF. | D8: ESPECIFICAÇÃO | E8: UND. | F8: QUANT. | G8: PREÇO UNIT. | H8: PREÇO UNIT. C/BDI | I8: TOTAL
A9: 01 | D9: SERVIÇOS PRELIMINARES
A10: 01.01 | B10: 20305 | C10: DER EDIFICAÇÕES | D10: Placa de obra nas dimensões de 2.0 x 4.0 m, padrão DER | E10: m² | F10: =VLOOKUP(A10,'Memoria São Valentin'!$A:$K,11,) -> 8 | G10: =VLOOKUP(B10,'TRP 04.2024'!$C:$I,7,FALSE) -> 244.31 | H10: =ROUND(G10*(1+$F$7),2) -> 304.58 | I10: =ROUND(H10*F10,2) -> 2436.64
A11: 01.02 | B11: 10512 | C11: DER EDIFICAÇÕES | D11: Equipe topográfica para serviços simples de locação e nivelamento (incluindo equipamento, transporte e profissionais nivel médio) | E11: mês | F11: =VLOOKUP(A11,'Memoria São Valentin'!$A:$K,11,) -> 0.05 | G11: =VLOOKUP(B11,'TRP 04.2024'!$C:$I,7,FALSE) -> 22087.47 | H11: =ROUND(G11*(1+$F$7),2) -> 27536.45 | I11: =ROUND(H11*F11,2) -> 1376.82
A12: 01.03 | B12: 42046 | C12: DER RODOVIAS | D12: Cones para sinalização, fornecimento e colocação | E12: und | F12: =VLOOKUP(A12,'Memoria São Valentin'!$A:$K,11,) -> 20 | G12: 135.15 | H12: =ROUND(G12*(1+$F$7),2) -> 168.49 | I12: =ROUND(H12*F12,2) -> 3369.8
A13: 01.04 | B13: 42047 | C13: DER RODOVIAS | D13: Elementos de madeira para sinalização - cavaletes | E13: und | F13: =VLOOKUP(A13,'Memoria São Valentin'!$A:$K,11,) -> 4 | G13: 52.77 | H13: =ROUND(G13*(1+$F$7),2) -> 65.79 | I13: =ROUND(H13*F13,2) -> 263.16
A14: 01.05 | B14: 41359 | C14: DER RODOVIAS | D14: Tela de proteção de segurança de PVC cor laranja com suporte para sinalização de obras | E14: m | F14: =VLOOKUP(A14,'Memoria São Valentin'!$A:$K,11,) -> 40 | G14: 27.18 | H14: =ROUND(G14*(1+$F$7),2) -> 33.89 | I14: =ROUND(H14*F14,2) -> 1355.6
A15: 01.06 | B15: 020356 | C15: DER EDIFICAÇÕES | D15: Aluguel mensal container para almoxarifado, incl. porta, 2 janelas, 1 pt iluminação, Isolamento térmico (teto), piso em comp. Naval pintado, cert. NR18, incl. laudo descontaminação. | E15: mês | F15: =VLOOKUP(A15,'Memoria São Valentin'!$A:$K,11,) -> 3 | G15: 792.5 | H15: =ROUND(G15*(1+$F$7),2) -> 988.01 | I15: =ROUND(H15*F15,2) -> 2964.03
A16: 01.07 | B16: 020344 | C16: DER EDIFICAÇÕES | D16: Mobilização e desmobilização de conteiner locado para barracão de obra | E16: und | F16: =VLOOKUP(A16,'Memoria São Valentin'!$A:$K,11,) -> 1 | G16: 1700 | H16: =ROUND(G16*(1+$F$7),2) -> 2119.39 | I16: =ROUND(H16*F16,2) -> 2119.39
A17: 01.08 | B17: 7010100210 | C17: CESAN | D17: BANHEIRO QUIMICO | E17: unm | F17: =VLOOKUP(A17,'Memoria São Valentin'!$A:$K,11,) -> 3 | G17: 2018.83 | H17: =ROUND(G17*(1+$F$7),2) -> 2516.88 | I17: =ROUND(H17*F17,2) -> 7550.64
A18: SUB-TOTAL DO ITEM | I18: =SUBTOTAL(9,I10:I17) -> 21436.08
A19: 02 | D19: PAVIMENTAÇÃO
A20: 02.01 | B20: Comp. 01 (Item referencia 200202) | C20: DER EDIFICAÇÕES | D20: Assentamento de meio-fio de concreto pré-moldado com dimensões de 15x12x30x100 cm , rejuntados com argamassa de cimento e areia no traço 1:3 - Exclusive Meio-fio (Doados pela SEAG-ES) | E20: m | F20: =VLOOKUP(A20,'Memoria São Valentin'!$A:$K,11,) -> 411 | G20: 24.82 | H20: =ROUND(G20*(1+$F$7),2) -> 30.94 | I20: =ROUND(H20*F20,2) -> 12716.34
A21: 02.02 | B21: Comp. 02 (Item referencia 200206) | C21: DER EDIFICAÇÕES | D21: Assentamento de Blocos pré-moldados de concreto tipo tijolo holandês 10 x 20 cm., espessura de 8 cm e resistência a compressão mínima de 35MPa, assentados sobre colchão de pó de pedra na espessura de 10 cm - Exclusive blocos (Doados pela SEAG-ES) | E21: m² | F21: =VLOOKUP(A21,'Memoria São Valentin'!$A:$K,11,) -> 1100 | G21: =COMP.02!E32 -> 25.685 | H21: =ROUND(G21*(1+$F$7),2) -> 32.02 | I21: =ROUND(H21*F21,2) -> 35222
A22: 02.03 | B22: 30208 | C22: DER EDIFICAÇÕES | D22: Aterro manual para regularização do terreno em argila, inclusive adensamento manual e fornecimento do material (máximo de 100m3) | E22: m³ | F22: =VLOOKUP(A22,'Memoria São Valentin'!$A:$K,11,) -> 65.76 | G22: =VLOOKUP(B22,'TRP 04.2024'!$C:$I,7,FALSE) -> 166.96 | H22: =ROUND(G22*(1+$F$7),2) -> 208.15 | I22: =ROUND(H22*F22,2) -> 13687.94
A23: 02.04 | B23: 40233 | C23: DER EDIFICAÇÕES | D23: Fornecimento, preparo e aplicação de concreto Fck=15 MPa (brita 1 e 2) - (5% de perdas já incluído no custo) | E23: m³ | F23: =VLOOKUP(A23,'Memoria São Valentin'!$A:$K,11,) -> 12.84 | G23: =VLOOKUP(B23,'TRP 04.2024'!$C:$I,7,FALSE) -> 676.08 | H23: =ROUND(G23*(1+$F$7),2) -> 842.87 | I23: =ROUND(H23*F23,2) -> 10822.45
A24: 02.05 | B24: 40754 | C24: DER - RODOVIAS | D24: Regularização e compactação do sub-leito (100% P.I.) H = 0,20 m | E24: M² | F24: =VLOOKUP(A24,'Memoria São Valentin'!$A:$K,11) -> 1100 | G24: 1.84 | H24: =ROUND(G24*(1+$F$7),2) -> 2.29 | I24: =ROUND(H24*F24,2) -> 2519
A25: SUB-TOTAL DO ITEM | I25: =SUBTOTAL(9,I20:I24) -> 74967.73
A26: 03 | D26: SERVIÇOS DE MÁQUINA/ APOIO
A27: 03.01 | B27: COMP. 05 | C27: DER - RODOVIAS | D27: CAMINHÃO BASCULANTE | E27: H | F27: =VLOOKUP(A27,'Memoria São Valentin'!$A:$K,11,) -> 68.85 | G27: =COMP.05!H39 -> 347.66 | H27: =ROUND(G27*(1+$F$7),2) -> 433.43 | I27: =ROUND(H27*F27,2) -> 29841.66
A28: 03.02 | B28: COMP. 06 | C28: DER - RODOVIAS | D28: RETROESCAVADEIRA | E28: H | F28: =VLOOKUP(A28,'Memoria São Valentin'!$A:$K,11,) -> 40 | G28: =COMP.06!H39 -> 229.79 | H28: =ROUND(G28*(1+$F$7),2) -> 286.48 | I28: =ROUND(H28*F28,2) -> 11459.2
A29: 03.03 | B29: COMP. 03 | C29: DER EDIFICAÇÕES | D29: Equipe de apoio nas atividadades de carga, transporte e posicionamento do material no trecho de pavimentação | E29: m | F29: =VLOOKUP(A29,'Memoria São Valentin'!$A:$K,11,) -> 200 | G29: =COMP.03!D22 -> 7.2138508 | H29: =ROUND(G29*(1+$F$7),2) -> 8.99 | I29: =ROUND(H29*F29,2) -> 1798
A30: 03.04 | B30: 41546 | C30: DER - RODOVIAS | D30: Mobilização e desmobilização de caminhão basculante (máximo) | E30: H | F30: =VLOOKUP(A30,'Memoria São Valentin'!$A:$K,11,) -> 4 | G30: 381.2 | H30: =ROUND(G30*(1+$F$7),2) -> 475.24 | I30: =ROUND(H30*F30,2) -> 1900.96
A31: 03.05 | B31: 41544 | C31: DER - RODOVIAS | D31: Mobilização e desmobilização de equipamentos com carreta prancha (máximo) | E31: H | F31: =VLOOKUP(A31,'Memoria São Valentin'!$A:$K,11,) -> 16 | G31: 611.61 | H31: =ROUND(G31*(1+$F$7),2) -> 762.49 | I31: =ROUND(H31*F31,2) -> 12199.84
A32: SUB-TOTAL DO ITEM | I32: =SUBTOTAL(9,I27:I31) -> 57199.66
A33: 04 | D33: DRENAGEM
A34: 04.01 | B34: 30103 | C34: DER EDIFICAÇÕES | D34: Escavação mecânica em material de 1a. Categoria | E34: m3 | F34: =VLOOKUP(A34,'Memoria São Valentin'!$A:$K,11,) -> 4.62 | G34: =VLOOKUP(B34,'TRP 04.2024'!$C:$I,7,FALSE) -> 16.32 | H34: =ROUND(G34*(1+$F$7),2) -> 20.35 | I34: =ROUND(H34*F34,2) -> 94.02
A35: 04.02 | B35: COMP. 04 | C35: DER - RODOVIAS | D35: Corpo BSTC (greide) diâmetro 0,80 m CA-1 PB inclusive escavação, reaterro e transporte do tubo | E35: m | F35: =VLOOKUP(A35,'Memoria São Valentin'!$A:$K,11,) -> 6 | G35: =COMP.04!H46 -> 812.6029 | H35: =ROUND(G35*(1+$F$7),2) -> 1013.07 | I35: =ROUND(H35*F35,2) -> 6078.42
A36: 04.03 | B36: 40666 | C36: DER - RODOVIAS | D36: Sarjeta de concreto DP-1 (0,081 m³/m) calha triangular, inclusive caiação | E36: m | F36: =VLOOKUP(A36,'Memoria São Valentin'!$A:$K,11,) -> 400 | G36: 96.04 | H36: =ROUND(G36*(1+$F$7),2) -> 119.73 | I36: =ROUND(H36*F36,2) -> 47892
A37: 04.04 | B37: 41176 | C37: DER - RODOVIAS | D37: Berço em brita para BSTC diam. = 0,80 m em Vias Urbanas | E37: m | F37: =VLOOKUP(A37,'Memoria São Valentin'!$A:$K,11,) -> 6 | G37: 45.56 | H37: =ROUND(G37*(1+$F$7),2) -> 56.8 | I37: =ROUND(H37*F37,2) -> 340.8
A38: 04.05 | B38: 102993 | C38: SINAPI 04/2024 | D38: CANALETA MEIA CANA PRÉ-MOLDADA DE CONCRETO (D = 60 CM) - FORNECIMENTO E INSTALAÇÃO. AF_08/2021 | E38: M | F38: =VLOOKUP(A38,'Memoria São Valentin'!$A:$K,11,) -> 12 | G38: =ROUND((111.55*(1+F7))*0.67,2) -> 93.18 | H38: =ROUND(G38*(1+$F$7),2) -> 116.17 | I38: =ROUND(H38*F38,2) -> 1394.04
A39: 04.06 | B39: 40675 | C39: DER - RODOVIAS | D39: Entrada para descida d'agua DP-1 (calha/degraus) inclusive caiação | E39: UND | F39: =VLOOKUP(A39,'Memoria São Valentin'!$A:$K,11,) -> 2 | G39: 233.45 | H39: =ROUND(G39*(1+$F$7),2) -> 291.04 | I39: =ROUND(H39*F39,2) -> 582.08
A40: 04.07 | B40: 40687 | C40: DER - RODOVIAS | D40: Descida d'água concreto armado DP-1 (degraus) c/ caiação | E40: M | F40: =VLOOKUP(A40,'Memoria São Valentin'!$A:$K,11,) -> 10 | G40: 519.4 | H40: =ROUND(G40*(1+$F$7),2) -> 647.54 | I40: =ROUND(H40*F40,2) -> 6475.4
A41: SUB-TOTAL DO ITEM | I41: =SUBTOTAL(9,I34:I40) -> 62856.76 | K41: Preço todas as planilhas
A42: 05 | D42: SERVIÇOS COMPLEMENTARES
A43: 05.01 | B43: 200576 | C43: DER EDIFICAÇÕES | D43: Placa para inauguração de obra em alumínio polido e=4mm, dimensões 40 x 50 cm, gravação em baixo relevo, inclusive pintura e fixação | E43: und | F43: =VLOOKUP(A43,'Memoria São Valentin'!$A:$K,11,) -> 1 | G43: =VLOOKUP(B43,'TRP 04.2024'!$C:$I,7,FALSE) -> 643.79 | H43: =ROUND(G43*(1+$F$7),2) -> 802.61 | I43: =ROUND(H43*F43,2) -> 802.61
...

Sheet Memoria São Valentin
A6: MEMORIA DE CÁLCULO | E6: ATA DE REGISTRO DE PREÇO DE ASSENTAMENTO DE BLOCOS, MEIO FIO E DRENAGEM EM DIVERSOS TRECHOS DO MUNICÍPIO
A7: REFERÊNCIA: TABELA CUSTOS LABOR/CT-UFES PADRÃO DER EDIFICAÇÕES MARÇO/2023 E DER RODOVIAS JULHO/2022 SEM DESONERAÇÃO
A8: BDI - 27,06% / LS - 157,27%
A10: SERVIÇOS PRELIMINARES
A11: 01.01 | B11: 020305 | C11: DER EDIFICAÇÕES | D11: Placa de obra nas dimensões de 2.0 x 4.0 m, padrão DER | E11: UND. | F11: QUANTIDADE | G11: COMPRIMENTO (M) | H11: LARGURA (M) | I11: ÁREA (M2) | J11: SUBTOTAL | K11: =ROUND(SUM(J12),2) -> 8
F12: 1 | G12: 4 | H12: 2 | I12: =H12*G12*F12 -> 8 | J12: =I12 -> 8
A14: 01.02 | B14: 10512 | C14: DER EDIFICAÇÕES | D14: Equipe topográfica para serviços simples de locação e nivelamento (incluindo equipamento, transporte e profissionais nivel médio) | J14: MÊS | K14: =ROUND(SUM(J15),2) -> 0.05 | O14: =ROUND(2/60,2) -> 0.03
D15: Considerado tres dias de equipe topografica para locação do eixo da rua | J15: =3/60 -> 0.05
A17: 01.03 | B17: =VLOOKUP(A17,'Planilha São Valentin'!$A:$I,2,FALSE) -> 42046 | C17: =VLOOKUP(A17,'Planilha São Valentin'!$A:$I,3,FALSE) -> DER RODOVIAS | D17: =VLOOKUP(A17,'Planilha São Valentin'!$A:$I,4,FALSE) -> Cones para sinalização, fornecimento e colocação | E17: =VLOOKUP(A17,'Planilha São Valentin'!$A:$I,5,FALSE) -> und | F17: QUANTIDADE | G17: COMPRIMENTO (M) | H17: LARGURA (M) | I17: ÁREA (M2) | J17: SUBTOTAL | K17: =ROUND(J18,2) -> 20
E18: 20 | J18: =E18 -> 20
A20: 01.04 | B20: =VLOOKUP(A20,'Planilha São Valentin'!$A:$I,2,FALSE) -> 42047 | C20: =VLOOKUP(A20,'Planilha São Valentin'!$A:$I,3,FALSE) -> DER RODOVIAS | D20: =VLOOKUP(A20,'Planilha São Valentin'!$A:$I,4,FALSE) -> Elementos de madeira para sinalização - cavaletes | E20: =VLOOKUP(A20,'Planilha São Valentin'!$A:$I,5,FALSE) -> und | J20: MÊS | K20: =ROUND(SUM(J21),2) -> 4 | O20: =ROUND(2/60,2) -> 0.03
E21: 4 | J21: =E21 -> 4
A23: 01.05 | B23: =VLOOKUP(A23,'Planilha São Valentin'!$A:$I,2,FALSE) -> 41359 | C23: =VLOOKUP(A23,'Planilha São Valentin'!$A:$I,3,FALSE) -> DER RODOVIAS | D23: =VLOOKUP(A23,'Planilha São Valentin'!$A:$I,4,FALSE) -> Tela de proteção de segurança de PVC cor laranja com suporte para sinalização de obras | E23: =VLOOKUP(A23,'Planilha São Valentin'!$A:$I,5,FALSE) -> m | F23: QUANTIDADE | G23: COMPRIMENTO (M) | H23: LARGURA (M) | I23: ÁREA (M2) | J23: SUBTOTAL | K23: =ROUND((J24),2) -> 40
E24: 40 | J24: =E24 -> 40
A26: 01.06 | B26: =VLOOKUP(A26,'Planilha São Valentin'!$A:$I,2,FALSE) -> 020356 | C26: =VLOOKUP(A26,'Planilha São Valentin'!$A:$I,3,FALSE) -> DER EDIFICAÇÕES | D26: =VLOOKUP(A26,'Planilha São Valentin'!$A:$I,4,FALSE) -> Aluguel mensal container para almoxarifado, incl. porta, 2 janelas, 1 pt iluminação, Isolamento térmico (teto), piso em comp. Naval pintado, cert. NR18, incl. laudo descontaminação. | E26: =VLOOKUP(A26,'Planilha São Valentin'!$A:$I,5,FALSE) -> mês | F26: QUANTIDADE | G26: COMPRIMENTO (M) | H26: LARGURA (M) | I26: ÁREA (M2) | J26: SUBTOTAL | K26: =ROUND((J27),2) -> 3
E27: 3 | J27: =E27 -> 3
A29: 01.07 | B29: =VLOOKUP(A29,'Planilha São Valentin'!$A:$I,2,FALSE) -> 020344 | C29: =VLOOKUP(A29,'Planilha São Valentin'!$A:$I,3,FALSE) -> DER EDIFICAÇÕES | D29: =VLOOKUP(A29,'Planilha São Valentin'!$A:$I,4,FALSE) -> Mobilização e desmobilização de conteiner locado para barracão de obra | E29: =VLOOKUP(A29,'Planilha São Valentin'!$A:$I,5,FALSE) -> und | F29: QUANTIDADE | G29: COMPRIMENTO (M) | H29: LARGURA (M) | I29: ÁREA (M2) | J29: SUBTOTAL | K29: =ROUND((J30),2) -> 1
E30: 1 | J30: =E30 -> 1
A32: 01.08 | B32: =VLOOKUP(A32,'Planilha São Valentin'!$A:$I,2,FALSE) -> 7010100210 | C32: =VLOOKUP(A32,'Planilha São Valentin'!$A:$I,3,FALSE) -> CESAN | D32: =VLOOKUP(A32,'Planilha São Valentin'!$A:$I,4,FALSE) -> BANHEIRO QUIMICO | E32: =VLOOKUP(A32,'Planilha São Valentin'!$A:$I,5,FALSE) -> unm | F32: QUANTIDADE | G32: COMPRIMENTO (M) | H32: LARGURA (M) | I32: ÁREA (M2) | J32: SUBTOTAL | K32: =ROUND((J33),2) -> 3
E33: 3 | J33: =E33 -> 3
A35: PAVIMENTAÇÃO
A36: 02.01 | B36: Comp. 01 (Item referencia 200202) | C36: DER EDIFICAÇÕES | D36: Assentamento de meio-fio de concreto pré-moldado com dimensões de 15x12x30x100 cm , rejuntados com argamassa de cimento e areia no traço 1:3 - Exclusive Meio-fio (Doados pela SEAG-ES) | I36: COMPRIMENTO (M) | J36: SUBTOTAL | K36: =ROUND(SUM(J37),2) -> 411
D37: Observação: a liberação da execução dos trechos serão de acordo com a liberação de meio fio da SEAG | I37: 411 | J37: =I37 -> 411
A40: 02.02 | B40: Comp. 02 (Item referencia 200206) | C40: DER EDIFICAÇÕES | D40: Assentamento de Blocos pré-moldados de concreto tipo tijolo holandês 10 x 20 cm., espessura de 8 cm e resistência a compressão mínima de 35MPa, assentados sobre colchão de areia na espessura de 10 cm - Exclusive blocos (Doados pela SEAG-ES) | I40: ÁREA (M2) | J40: SUBTOTAL | K40: =ROUND(SUM(J41),2) -> 1100
D41: Observação: a liberação da execução dos trechos serão de acordo com a liberação de blocos da SEAG | I41: 1100 | J41: =I41 -> 1100
A44: 02.03 | B44: 030208 | C44: DER EDIFICAÇÕES | D44: Aterro manual para regularização do terreno em argila, inclusive adensamento manual e fornecimento do material (máximo de 100m3) | F44: ALTURA (M) | G44: COMPRIMENTO (M) | H44: LARGURA (M) | I44: VOLUME (M3) | J44: SUBTOTAL | K44: =ROUND(SUM(J45),2) -> 65.76 | M44: =I41*0.08*1.2 -> 105.6 | N44: =M44*2.4 -> 253.44
F45: 0.4 | G45: 411 | H45: 0.4 | I45: =H45*G45*F45 -> 65.76 | J45: =I45 -> 65.76 | N45: =N44/8 -> 31.68
N46: =N45*0.25 -> 7.92
A47: 02.04 | B47: 040233 | C47: DER EDIFICAÇÕES | D47: Fornecimento, preparo e aplicação de concreto Fck=15 MPa (brita 1 e 2) - (5% de perdas já incluído no custo) | E47: ALTURA (M) | F47: COMPRIMENTO (M) | G47: LARGURA (M) | H47: VOLUME (M3) | I47: QUANTIDADE | J47: SUBTOTAL | K47: =ROUND(SUM(J48:J50),2) -> 12.84
D48: Transversal a cada 15 metros | E48: 0.4 | F48: 5.5 | G48: 0.15 | H48: =G48*F48*E48 -> 0.33 | I48: =ROUNDUP((200/15),0) -> 14 | J48: =I48*H48 -> 4.62
D49: Por trás do Meio Fio | E49: 0.1 | F49: =I37 -> 411 | G49: 0.2 | J49: =G49*F49*E49 -> 8.22
A52: 02.05 | B52: =VLOOKUP(A52,'Planilha 15 de agosto(igreja)'!A:H,2,FALSE) -> 40243 | D52: =VLOOKUP(A52,'Planilha 15 de agosto(igreja)'!A:H,4,FALSE) -> Fornecimento, dobragem e colocação em fôrma, de armadura CA-50 A média, diâmetro de 6.3 a 10.0 mm | E52: =VLOOKUP(A52,'Planilha 15 de agosto(igreja)'!A:H,5,FALSE) -> kg | I52: ÁREA | J52: SUBTOTAL | K52: =ROUND(SUM(J53),2) -> 1100
D53: Pavimentação | I53: =I41 -> 1100 | J53: =I53 -> 1100
A54: SERVIÇOS DE MÁQUINAS
A55: 03.01 | B55: COMP.05 | C55: DER - RODOVIAS | D55: CAMINHÃO BASCULANTE | F55: Tempo médio deslocamento ida e volta (horas) | G55: viajens nescessárias | H55: Peso por m3 | I55: Total peso do trecho (T) | J55: HORAS | K55: =ROUND(SUM(J56:J60),2) -> 68.85
D56: Bloco Pavi-s | F56: 0.3 | G56: =I56/8 -> 31.68 | I56: =J41*0.08*1.2*2.4 -> 253.44 | J56: =F56*G56 -> 9.504
D57: Meio fio | F57: 0.3 | G57: =I57/8 -> 11.98476 | I57: =((0.15+0.12)*0.3)*I37*1.2*2.4 -> 95.87808 | J57: =ROUND(F57*G57,2) -> 3.6
C58: Material do item 02.02 | D58: Pó de Pedra | F58: 0.3 | G58: =I58/8 -> 18.5625 | H58: 1.35 | I58: =0.1*I41*H58 -> 148.5 | J58: =ROUND(F58*G58,2) -> 5.57
C59: Material do Item 02.01 | D59: Areia lavada média (Meio fio) | F59: 0.3 | G59: =I59/8 -> 0.593073 | H59: 1.48 | I59: =I37*0.0078*H59 -> 4.744584 | J59: =ROUND(F59*G59,2) -> 0.18
J60: 50
...

Sheet CRO-FISICO FINANC São Valentin
C1: PREFEITURA DE SANTA TERESA-ES
A3: CRONOGRAMA FÍSICO FINANCEIRO
A4: Objeto: | C4: ='Planilha São Valentin'!A4 -> ASSENTAMENTO DE BLOCOS, MEIO FIO E DRENAGEM EM DIVERSOS TRECHOS DO MUNICÍPIO DE SANTA TERESA- ESPÍRITO SANTO
A5: Endereço: | C5: São Valentin, Municipio de Santa Teresa-ES
A6: Data base: | C6: ='Planilha São Valentin'!A6 -> Preço de Referência: DER-Edificações 04/2024 DER-Rodovias julho/2023 CESAN Julho/2024
A7: ITEM | C7: DESCRIÇÃO DOS SERVIÇOS | D7: VALOR DOS SERVIÇOS | G7: SOMA ITENS
E8: MÊS 01 | F8: MÊS 02
A9: ='[1]PLANILHA DE CUSTOS'!A8 -> 01 | C9: ='Planilha São Valentin'!D9 -> SERVIÇOS PRELIMINARES | D9: =D10/D19 -> 0.098664272 | E9: 0.77 | F9: 0.23 | G9: =SUM(E9:F9) -> 1
D10: ='Planilha São Valentin'!I18 -> 21436.08 | E10: =D10*E9 -> 16505.782 | F10: =D10*F9 -> 4930.2984 | G10: =SUM(E10:F10) -> 21436.08
A11: ='[1]PLANILHA DE CUSTOS'!A18 -> 02 | C11: ='Planilha São Valentin'!D19 -> PAVIMENTAÇÃO | D11: =D12/D19 -> 0.34505546 | E11: 0.7 | F11: 0.3 | G11: =SUM(E11:F11) -> 1 | H11: 13801.74
D12: ='Planilha São Valentin'!I25 -> 74967.73 | E12: =D12*E11 -> 52477.411 | F12: =D12*F11 -> 22490.319 | G12: =SUM(E12:F12) -> 74967.73
A13: ='[1]PLANILHA DE CUSTOS'!A32 -> 03 | C13: ='Planilha São Valentin'!D26 -> SERVIÇOS DE MÁQUINA/ APOIO | D13: =D14/D19 -> 0.26327401 | E13: 0.5 | F13: 0.5 | G13: =SUM(E13:F13) -> 1
D14: ='Planilha São Valentin'!I32 -> 57199.66 | E14: =D14*E13 -> 28599.83 | F14: =D14*F13 -> 28599.83 | G14: =SUM(E14:F14) -> 57199.66
A15: ='[1]PLANILHA DE CUSTOS'!A39 -> 04 | C15: ='Planilha São Valentin'!D33 -> DRENAGEM | D15: =D16/D19 -> 0.28931206 | E15: 1 | G15: =SUM(E15:F15) -> 1
D16: ='Planilha São Valentin'!I41 -> 62856.76 | E16: =D16*E15 -> 62856.76 | G16: =SUM(E16:F16) -> 62856.76
A17: ='[1]PLANILHA DE CUSTOS'!A43 -> 05 | C17: ='Planilha São Valentin'!D42 -> SERVIÇOS COMPLEMENTARES | D17: =D18/D21 -> 0.003694189 | E17: 0.5 | F17: 0.5
D18: ='Planilha São Valentin'!I44 -> 802.61 | E18: =D18*E17 -> 401.305 | F18: =D18*F17 -> 401.305
C19: TOTAL SIMPLES - R$ | D19: ='Planilha São Valentin'!I45 -> 217262.84 | E19: =E10+E12+E14+E16+E18 -> 160841.09 | F19: =F10+F12+F14+F16+F18 -> 56421.752 | G19: =SUM(E19:F19) -> 217262.84
C20: TOTAL SIMPLES - % | D20: 1 | E20: =E19/D19 -> 0.74030648 | F20: =F19/D19 -> 0.25969352
C21: TOTAL ACUMULADO - R$ | D21: =D10+D12+D14+D16+D18 -> 217262.84 | E21: =E19 -> 160841.09 | F21: =E21+F19 -> 217262.84
C22: TOTAL ACUMULADO - % | D22: =D9+D11+D13+D15+D17 -> 1 | E22: =E20 -> 0.74030648 | F22: =E22+F20 -> 1
C24: __________________________________________________________
C25: ADAUBERTO DO MEIRELES JUNIOR
C26: CREA-ES: 54574/D

Sheet Curva ABC São VALENTIN
A4: CURVA ABC DE SERVIÇOS
A5: ITEM | B5: CÓDIGO | C5: REF. | D5: ESPECIFICAÇÃO | E5: TOTAL | F5: % | G5: %ACUMULADA | H5: CONCEITO
A6: 04.03 | B6: 40666 | C6: DER - RODOVIAS | D6: Sarjeta de concreto DP-1 (0,081 m³/m) calha triangular, inclusive caiação | E6: 47892 | F6: =E6/$E$32 -> 0.22043346 | G6: =F6 -> 0.22043346 | H6: =IF(G6<$K$8,$K$7,IF(G6<$L$8,$L$7,$M$7)) -> A | K6: Classificação
A7: 02.02 | B7: Comp. 02 (Item referencia 200206) | C7: DER EDIFICAÇÕES | D7: Assentamento de Blocos pré-moldados de concreto tipo tijolo holandês 10 x 20 cm., espessura de 8 cm e resistência a compressão mínima de 35MPa, assentados sobre colchão de areia na espessura de 10 cm - Exclusive blocos (Doados pela SEAG-ES) | E7: 35222 | F7: =E7/$E$32 -> 0.162117 | G7: =G6+F7 -> 0.38255046 | H7: =IF(G7<$K$8,$K$7,IF(G7<$L$8,$L$7,$M$7)) -> A | K7: A | L7: B | M7: C
A8: 03.01 | B8: COMP. 05 | C8: DER - RODOVIAS | D8: CAMINHÃO BASCULANTE | E8: 29841.66 | F8: =E8/$E$32 -> 0.1373528 | G8: =G7+F8 -> 0.51990327 | H8: =IF(G8<$K$8,$K$7,IF(G8<$L$8,$L$7,$M$7)) -> A | K8: 0.8 | L8: 0.95 | M8: 1
A9: 02.03 | B9: 30208 | C9: DER EDIFICAÇÕES | D9: Aterro manual para regularização do terreno em argila, inclusive adensamento manual e fornecimento do material (máximo de 100m3) | E9: 13687.94 | F9: =E9/$E$32 -> 0.063001754 | G9: =G8+F9 -> 0.58290502 | H9: =IF(G9<$K$8,$K$7,IF(G9<$L$8,$L$7,$M$7)) -> A
A10: 02.01 | B10: Comp. 01 (Item referencia 200202) | C10: DER EDIFICAÇÕES | D10: Assentamento de meio-fio de concreto pré-moldado com dimensões de 15x12x30x100 cm , rejuntados com argamassa de cimento e areia no traço 1:3 - Exclusive Meio-fio (Doados pela SEAG-ES) | E10: 12716.34 | F10: =E10/$E$32 -> 0.058529751 | G10: =G9+F10 -> 0.64143477 | H10: =IF(G10<$K$8,$K$7,IF(G10<$L$8,$L$7,$M$7)) -> A
A11: 03.05 | B11: 41544 | C11: DER - RODOVIAS | D11: Mobilização e desmobilização de equipamentos com carreta prancha (máximo) | E11: 12199.84 | F11: =E11/$E$32 -> 0.056152447 | G11: =G10+F11 -> 0.69758722 | H11: =IF(G11<$K$8,$K$7,IF(G11<$L$8,$L$7,$M$7)) -> A
A12: 03.02 | B12: COMP. 06 | C12: DER - RODOVIAS | D12: RETROESCAVADEIRA | E12: 11459.2 | F12: =E12/$E$32 -> 0.052743488 | G12: =G11+F12 -> 0.75033071 | H12: =IF(G12<$K$8,$K$7,IF(G12<$L$8,$L$7,$M$7)) -> A
A13: 02.04 | B13: 40233 | C13: DER EDIFICAÇÕES | D13: Fornecimento, preparo e aplicação de concreto Fck=15 MPa (brita 1 e 2) - (5% de perdas já incluído no custo) | E13: 10822.45 | F13: =E13/$E$32 -> 0.049812706 | G13: =G12+F13 -> 0.80014341 | H13: =IF(G13<$K$8,$K$7,IF(G13<$L$8,$L$7,$M$7)) -> B
A14: 01.08 | B14: 7010100210 | C14: CESAN | D14: BANHEIRO QUIMICO | E14: 7550.64 | F14: =E14/$E$32 -> 0.034753481 | G14: =G13+F14 -> 0.83489689 | H14: =IF(G14<$K$8,$K$7,IF(G14<$L$8,$L$7,$M$7)) -> B
A15: 04.07 | B15: 40687 | C15: DER - RODOVIAS | D15: Descida d'água concreto armado DP-1 (degraus) c/ caiação | E15: 6475.4 | F15: =E15/$E$32 -> 0.029804453 | G15: =G14+F15 -> 0.86470135 | H15: =IF(G15<$K$8,$K$7,IF(G15<$L$8,$L$7,$M$7)) -> B
A16: 04.02 | B16: COMP. 04 | C16: DER - RODOVIAS | D16: Corpo BSTC (greide) diâmetro 0,80 m CA-1 PB inclusive escavação, reaterro e transporte do tubo | E16: 6078.42 | F16: =E16/$E$32 -> 0.027977265 | G16: =G15+F16 -> 0.89267861 | H16: =IF(G16<$K$8,$K$7,IF(G16<$L$8,$L$7,$M$7)) -> B
A17: 01.03 | B17: 42046 | C17: DER RODOVIAS | D17: Cones para sinalização, fornecimento e colocação | E17: 3369.8 | F17: =E17/$E$32 -> 0.015510246 | G17: =G16+F17 -> 0.90818886 | H17: =IF(G17<$K$8,$K$7,IF(G17<$L$8,$L$7,$M$7)) -> B
A18: 01.06 | B18: 020356 | C18: DER EDIFICAÇÕES | D18: Aluguel mensal container para almoxarifado, incl. porta, 2 janelas, 1 pt iluminação, Isolamento térmico (teto), piso em comp. Naval pintado, cert. NR18, incl. laudo descontaminação. | E18: 2964.03 | F18: =E18/$E$32 -> 0.0136426 | G18: =G17+F18 -> 0.92183146 | H18: =IF(G18<$K$8,$K$7,IF(G18<$L$8,$L$7,$M$7)) -> B
A19: 02.05 | B19: 40754 | C19: DER - RODOVIAS | D19: Regularização e compactação do sub-leito (100% P.I.) H = 0,20 m | E19: 2519 | F19: =E19/$E$32 -> 0.011594251 | G19: =G18+F19 -> 0.93342571 | H19: =IF(G19<$K$8,$K$7,IF(G19<$L$8,$L$7,$M$7)) -> B
A20: 01.01 | B20: 20305 | C20: DER EDIFICAÇÕES | D20: Placa de obra nas dimensões de 2.0 x 4.0 m, padrão DER | E20: 2436.64 | F20: =E20/$E$32 -> 0.011215171 | G20: =G19+F20 -> 0.94464088 | H20: =IF(G20<$K$8,$K$7,IF(G20<$L$8,$L$7,$M$7)) -> B
A21: 01.07 | B21: 020344 | C21: DER EDIFICAÇÕES | D21: Mobilização e desmobilização de conteiner locado para barracão de obra | E21: 2119.39 | F21: =E21/$E$32 -> 0.0097549586 | G21: =G20+F21 -> 0.95439584 | H21: =IF(G21<$K$8,$K$7,IF(G21<$L$8,$L$7,$M$7)) -> C
A22: 03.04 | B22: 41546 | C22: DER - RODOVIAS | D22: Mobilização e desmobilização de caminhão basculante (máximo) | E22: 1900.96 | F22: =E22/$E$32 -> 0.0087495864 | G22: =G21+F22 -> 0.96314542 | H22: =IF(G22<$K$8,$K$7,IF(G22<$L$8,$L$7,$M$7)) -> C
A23: 03.03 | B23: COMP. 03 | C23: DER EDIFICAÇÕES | D23: Equipe de apoio nas atividadades de carga, transporte e posicionamento do material no trecho de pavimentação | E23: 1798 | F23: =E23/$E$32 -> 0.0082756904 | G23: =G22+F23 -> 0.97142111 | H23: =IF(G23<$K$8,$K$7,IF(G23<$L$8,$L$7,$M$7)) -> C
A24: 04.05 | B24: 102993 | C24: SINAPI 04/2024 | D24: CANALETA MEIA CANA PRÉ-MOLDADA DE CONCRETO (D = 60 CM) - FORNECIMENTO E INSTALAÇÃO. AF_08/2021 | E24: 1394.04 | F24: =E24/$E$32 -> 0.0064163757 | G24: =G23+F24 -> 0.97783749 | H24: =IF(G24<$K$8,$K$7,IF(G24<$L$8,$L$7,$M$7)) -> C
A25: 01.02 | B25: 10512 | C25: DER EDIFICAÇÕES | D25: Equipe topográfica para serviços simples de locação e nivelamento (incluindo equipamento, transporte e profissionais nivel médio) | E25: 1376.82 | F25: =E25/$E$32 -> 0.0063371168 | G25: =G24+F25 -> 0.98417461 | H25: =IF(G25<$K$8,$K$7,IF(G25<$L$8,$L$7,$M$7)) -> C
A26: 01.05 | B26: 41359 | C26: DER RODOVIAS | D26: Tela de proteção de segurança de PVC cor laranja com suporte para sinalização de obras | E26: 1355.6 | F26: =E26/$E$32 -> 0.0062394471 | G26: =G25+F26 -> 0.99041405 | H26: =IF(G26<$K$8,$K$7,IF(G26<$L$8,$L$7,$M$7)) -> C
A27: 05.01 | B27: 200576 | C27: DER EDIFICAÇÕES | D27: Placa para inauguração de obra em alumínio polido e=4mm, dimensões 40 x 50 cm, gravação em baixo relevo, inclusive pintura e fixação | E27: 802.61 | F27: =E27/$E$32 -> 0.003694189 | G27: =G26+F27 -> 0.99410824 | H27: =IF(G27<$K$8,$K$7,IF(G27<$L$8,$L$7,$M$7)) -> C
A28: 04.06 | B28: 40675 | C28: DER - RODOVIAS | D28: Entrada para descida d'agua DP-1 (calha/degraus) inclusive caiação | E28: 582.08 | F28: =E28/$E$32 -> 0.0026791512 | G28: =G27+F28 -> 0.99678739 | H28: =IF(G28<$K$8,$K$7,IF(G28<$L$8,$L$7,$M$7)) -> C
A29: 04.04 | B29: 41176 | C29: DER - RODOVIAS | D29: Berço em brita para BSTC diam. = 0,80 m em Vias Urbanas | E29: 340.8 | F29: =E29/$E$32 -> 0.0015686069 | G29: =G28+F29 -> 0.998356 | H29: =IF(G29<$K$8,$K$7,IF(G29<$L$8,$L$7,$M$7)) -> C
A30: 01.04 | B30: 42047 | C30: DER RODOVIAS | D30: Elementos de madeira para sinalização - cavaletes | E30: 263.16 | F30: =E30/$E$32 -> 0.0012112518 | G30: =G29+F30 -> 0.99956725 | H30: =IF(G30<$K$8,$K$7,IF(G30<$L$8,$L$7,$M$7)) -> C
A31: 04.01 | B31: 30103 | C31: DER EDIFICAÇÕES | D31: Escavação mecânica em material de 1a. Categoria | E31: 94.02 | F31: =E31/$E$32 -> 0.00043274773 | G31: =G30+F31 -> 1 | H31: =IF(G31<$K$8,$K$7,IF(G31<$L$8,$L$7,$M$7)) -> C
A32: TOTAL | E32: ='Planilha São Valentin'!I45 -> 217262.84
D35: __________________________________________________________
D36: ADAUBERTO DO MEIRELES JUNIOR
D37: CREA-ES: 54574/D

Sheet Planilha Alto Céu
A4: ASSENTAMENTO DE BLOCOS, MEIO FIO E DRENAGEM EM DIVERSOS TRECHOS DO MUNICÍPIO DE SANTA TERESA- ESPÍRITO SANTO | H4: ALTO PARAÍSO 2370 M² DE PAV. E 1400 M DE MEIO FIO CONTRATO 389/2024 SEAG
A5: PLANILHA DE CUSTOS REFERENCIAIS
A6: Preço de Referência: DER-Edificações 04/2024 DER-Rodovias julho/2023
A7: BDI - 24,67% / LS - 157,27% | E7: BDI | F7: 0.2467
A8: ITEM | B8: CÓDIGO | C8: REF. | D8: ESPECIFICAÇÃO | E8: UND. | F8: QUANT. | G8: PREÇO UNIT. | H8: PREÇO UNIT. C/BDI | I8: TOTAL
A9: 01 | D9: SERVIÇOS PRELIMINARES
A10: 01.01 | B10: 20305 | C10: DER EDIFICAÇÕES | D10: Placa de obra nas dimensões de 2.0 x 4.0 m, padrão DER | E10: m² | F10: =VLOOKUP(A10,'Memoria Alto Céu'!$A:$K,11,) -> 8 | G10: =VLOOKUP(B10,'TRP 04.2024'!$C:$I,7,FALSE) -> 244.31 | H10: =ROUND(G10*(1+$F$7),2) -> 304.58 | I10: =ROUND(H10*F10,2) -> 2436.64
A11: 01.02 | B11: 10512 | C11: DER EDIFICAÇÕES | D11: Equipe topográfica para serviços simples de locação e nivelamento (incluindo equipamento, transporte e profissionais nivel médio) | E11: mês | F11: =VLOOKUP(A11,'Memoria Alto Céu'!$A:$K,11,) -> 0.05 | G11: =VLOOKUP(B11,'TRP 04.2024'!$C:$I,7,FALSE) -> 22087.47 | H11: =ROUND(G11*(1+$F$7),2) -> 27536.45 | I11: =ROUND(H11*F11,2) -> 1376.82
A12: 01.03 | B12: 42046 | C12: DER RODOVIAS | D12: Cones para sinalização, fornecimento e colocação | E12: und | F12: =VLOOKUP(A12,'Memoria Alto Céu'!$A:$K,11,) -> 20 | G12: 135.15 | H12: =ROUND(G12*(1+$F$7),2) -> 168.49 | I12: =ROUND(H12*F12,2) -> 3369.8
A13: 01.04 | B13: 42047 | C13: DER RODOVIAS | D13: Elementos de madeira para sinalização - cavaletes | E13: und | F13: =VLOOKUP(A13,'Memoria Alto Céu'!$A:$K,11,) -> 4 | G13: 52.77 | H13: =ROUND(G13*(1+$F$7),2) -> 65.79 | I13: =ROUND(H13*F13,2) -> 263.16
A14: 01.05 | B14: 41359 | C14: DER RODOVIAS | D14: Tela de proteção de segurança de PVC cor laranja com suporte para sinalização de obras | E14: m | F14: =VLOOKUP(A14,'Memoria Alto Céu'!$A:$K,11,) -> 40 | G14: 27.18 | H14: =ROUND(G14*(1+$F$7),2) -> 33.89 | I14: =ROUND(H14*F14,2) -> 1355.6
A15: 01.06 | B15: 020356 | C15: DER EDIFICAÇÕES | D15: Aluguel mensal container para almoxarifado, incl. porta, 2 janelas, 1 pt iluminação, Isolamento térmico (teto), piso em comp. Naval pintado, cert. NR18, incl. laudo descontaminação. | E15: mês | F15: =VLOOKUP(A15,'Memoria Alto Céu'!$A:$K,11,) -> 3 | G15: 792.5 | H15: =ROUND(G15*(1+$F$7),2) -> 988.01 | I15: =ROUND(H15*F15,2) -> 2964.03
A16: 01.07 | B16: 020344 | C16: DER EDIFICAÇÕES | D16: Mobilização e desmobilização de conteiner locado para barracão de obra | E16: und | F16: =VLOOKUP(A16,'Memoria Alto Céu'!$A:$K,11,) -> 1 | G16: 1700 | H16: =ROUND(G16*(1+$F$7),2) -> 2119.39 | I16: =ROUND(H16*F16,2) -> 2119.39
A17: 01.08 | B17: 7010100210 | C17: CESAN | D17: BANHEIRO QUIMICO | E17: unm | F17: =VLOOKUP(A17,'Memoria Alto Céu'!$A:$K,11,) -> 3 | G17: 2018.83 | H17: =ROUND(G17*(1+$F$7),2) -> 2516.88 | I17: =ROUND(H17*F17,2) -> 7550.64
A18: SUB-TOTAL DO ITEM | I18: =SUBTOTAL(9,I10:I17) -> 21436.08
A19: 02 | D19: PAVIMENTAÇÃO
A20: 02.01 | B20: Comp. 01 (Item referencia 200202) | C20: DER EDIFICAÇÕES | D20: Assentamento de meio-fio de concreto pré-moldado com dimensões de 15x12x30x100 cm , rejuntados com argamassa de cimento e areia no traço 1:3 - Exclusive Meio-fio (Doados pela SEAG-ES) | E20: m | F20: =VLOOKUP(A20,'Memoria Alto Céu'!$A:$K,11,) -> 1400 | G20: 24.82 | H20: =ROUND(G20*(1+$F$7),2) -> 30.94 | I20: =ROUND(H20*F20,2) -> 43316
A21: 02.02 | B21: Comp. 02 (Item referencia 200206) | C21: DER EDIFICAÇÕES | D21: Assentamento de Blocos pré-moldados de concreto tipo tijolo holandês 10 x 20 cm., espessura de 8 cm e resistência a compressão mínima de 35MPa, assentados sobre colchão de pó de pedra na espessura de 10 cm - Exclusive blocos (Doados pela SEAG-ES) | E21: m² | F21: =VLOOKUP(A21,'Memoria Alto Céu'!$A:$K,11,) -> 2370 | G21: =COMP.02!E32 -> 25.685 | H21: =ROUND(G21*(1+$F$7),2) -> 32.02 | I21: =ROUND(H21*F21,2) -> 75887.4
A22: 02.03 | B22: 30208 | C22: DER EDIFICAÇÕES | D22: Aterro manual para regularização do terreno em argila, inclusive adensamento manual e fornecimento do material (máximo de 100m3) | E22: m³ | F22: =VLOOKUP(A22,'Memoria Alto Céu'!$A:$K,11,) -> 42 | G22: =VLOOKUP(B22,'TRP 04.2024'!$C:$I,7,FALSE) -> 166.96 | H22: =ROUND(G22*(1+$F$7),2) -> 208.15 | I22: =ROUND(H22*F22,2) -> 8742.3
A23: 02.04 | B23: 40233 | C23: DER EDIFICAÇÕES | D23: Fornecimento, preparo e aplicação de concreto Fck=15 MPa (brita 1 e 2) - (5% de perdas já incluído no custo) | E23: m³ | F23: =VLOOKUP(A23,'Memoria Alto Céu'!$A:$K,11,) -> 43.18 | G23: =VLOOKUP(B23,'TRP 04.2024'!$C:$I,7,FALSE) -> 676.08 | H23: =ROUND(G23*(1+$F$7),2) -> 842.87 | I23: =ROUND(H23*F23,2) -> 36395.13
A24: 02.05 | B24: 40754 | C24: DER - RODOVIAS | D24: Regularização e compactação do sub-leito (100% P.I.) H = 0,20 m | E24: M² | F24: =VLOOKUP(A24,'Memoria Alto Céu'!$A:$K,11,) -> 2370 | G24: 1.84 | H24: =ROUND(G24*(1+$F$7),2) -> 2.29 | I24: =ROUND(H24*F24,2) -> 5427.3
A25: 02.06 | B25: 40206 | C25: DER - EDIFICAÇÕES | D25: Fôrma de tábua de madeira de 2.5 x 30.0 cm para fundações, levando-se em conta a utilização 5 vezes (incluido o material, corte, montagem, escoramento e desforma) | E25: M² | F25: =VLOOKUP(A25,'Memoria Alto Céu'!$A:$K,11,) -> 202.4 | G25: =VLOOKUP(B25,'TRP 04.2024'!$C:$I,7,FALSE) -> 81.62 | H25: =ROUND(G25*(1+$F$7),2) -> 101.76 | I25: =ROUND(H25*F25,2) -> 20596.22
A26: SUB-TOTAL DO ITEM | I26: =SUBTOTAL(9,I20:I25) -> 190364.35
A27: 03 | D27: SERVIÇOS DE MÁQUINA/ APOIO
A28: 03.01 | B28: COMP. 05 | C28: DER - RODOVIAS | D28: CAMINHÃO BASCULANTE | E28: H | F28: =VLOOKUP(A28,'Memoria Alto Céu'!$A:$K,11,) -> 50.51 | G28: =COMP.05!H39 -> 347.66 | H28: =ROUND(G28*(1+$F$7),2) -> 433.43 | I28: =ROUND(H28*F28,2) -> 21892.55
A29: 03.02 | B29: COMP. 06 | C29: DER - RODOVIAS | D29: RETROESCAVADEIRA | E29: H | F29: =VLOOKUP(A29,'Memoria Alto Céu'!$A:$K,11,) -> 40 | G29: =COMP.06!H39 -> 229.79 | H29: =ROUND(G29*(1+$F$7),2) -> 286.48 | I29: =ROUND(H29*F29,2) -> 11459.2
A30: 03.03 | B30: COMP. 03 | C30: DER EDIFICAÇÕES | D30: Equipe de apoio nas atividadades de carga, transporte e posicionamento do material no trecho de pavimentação | E30: m | F30: =VLOOKUP(A30,'Memoria Alto Céu'!$A:$K,11,) -> 678 | G30: =COMP.03!D22 -> 7.2138508 | H30: =ROUND(G30*(1+$F$7),2) -> 8.99 | I30: =ROUND(H30*F30,2) -> 6095.22
A31: 03.04 | B31: 41546 | C31: DER - RODOVIAS | D31: Mobilização e desmobilização de caminhão basculante (máximo) | E31: H | F31: =VLOOKUP(A31,'Memoria Alto Céu'!$A:$K,11,) -> 2 | G31: 381.2 | H31: =ROUND(G31*(1+$F$7),2) -> 475.24 | I31: =ROUND(H31*F31,2) -> 950.48
A32: 03.05 | B32: 41544 | C32: DER - RODOVIAS | D32: Mobilização e desmobilização de equipamentos com carreta prancha (máximo) | E32: H | F32: =VLOOKUP(A32,'Memoria Alto Céu'!$A:$K,11,) -> 8 | G32: 611.61 | H32: =ROUND(G32*(1+$F$7),2) -> 762.49 | I32: =ROUND(H32*F32,2) -> 6099.92
A33: SUB-TOTAL DO ITEM | I33: =SUBTOTAL(9,I28:I32) -> 46497.37
A34: 04 | D34: DRENAGEM
A35: 04.01 | B35: 30103 | C35: DER EDIFICAÇÕES | D35: Escavação mecânica em material de 1a. Categoria | E35: m3 | F35: =VLOOKUP(A35,'Memoria Alto Céu'!$A:$K,11,) -> 43.18 | G35: =VLOOKUP(B35,'TRP 04.2024'!$C:$I,7,FALSE) -> 16.32 | H35: =ROUND(G35*(1+$F$7),2) -> 20.35 | I35: =ROUND(H35*F35,2) -> 878.71
A36: 04.02 | B36: COMP. 04 | C36: DER - RODOVIAS | D36: Corpo BSTC (greide) diâmetro 0,80 m CA-1 PB inclusive escavação, reaterro e transporte do tubo | E36: m | F36: =VLOOKUP(A36,'Memoria Alto Céu'!$A:$K,11,) -> 55 | G36: =COMP.04!H46 -> 812.6029 | H36: =ROUND(G36*(1+$F$7),2) -> 1013.07 | I36: =ROUND(H36*F36,2) -> 55718.85
A37: 04.03 | B37: 41176 | C37: DER - RODOVIAS | D37: Berço em brita para BSTC diam. = 0,80 m em Vias Urbanas | E37: m | F37: =VLOOKUP(A37,'Memoria Alto Céu'!$A:$K,11,) -> 55 | G37: 45.56 | H37: =ROUND(G37*(1+$F$7),2) -> 56.8 | I37: =ROUND(H37*F37,2) -> 3124
A38: 04.04 | B38: 40531 | C38: DER - RODOVIAS | D38: Boca de concreto ciclópico para BSTC diâmetro 0,80 m | E38: und | F38: =VLOOKUP(A38,'Memoria Alto Céu'!$A:$K,11,) -> 12 | G38: 2103.84 | H38: =ROUND(G38*(1+$F$7),2) -> 2622.86 | I38: =ROUND(H38*F38,2) -> 31474.32
A39: 04.05 | B39: 41164 | C39: DER - RODOVIAS | D39: Caixa de passagem em bloco pré-moldado para d=0,80m (1,20 x 1,20m) em Vias Urbanas | E39: und | F39: =VLOOKUP(A39,'Memoria Alto Céu'!$A:$K,11,) -> 10 | G39: 3607.3 | H39: =ROUND(G39*(1+$F$7),2) -> 4497.22 | I39: =ROUND(H39*F39,2) -> 44972.2
A40: SUB-TOTAL DO ITEM | I40: =SUBTOTAL(9,I35:I39) -> 136168.08
A41: 05 | D41: SERVIÇOS COMPLEMENTARES
A42: 05.01 | B42: 200576 | C42: DER EDIFICAÇÕES | D42: Placa para inauguração de obra em alumínio polido e=4mm, dimensões 40 x 50 cm, gravação em baixo relevo, inclusive pintura e fixação | E42: und | F42: =VLOOKUP(A42,'Memoria Alto Céu'!$A:$K,11,) -> 1 | G42: =VLOOKUP(B42,'TRP 04.2024'!$C:$I,7,FALSE) -> 643.79 | H42: =ROUND(G42*(1+$F$7),2) -> 802.61 | I42: =ROUND(H42*F42,2) -> 802.61
A43: SUB-TOTAL DO ITEM | I43: =SUBTOTAL(9,I42) -> 802.61
...

Sheet Memoria Alto Céu
A6: MEMORIA DE CÁLCULO | E6: ATA DE REGISTRO DE PREÇO DE ASSENTAMENTO DE BLOCOS, MEIO FIO E DRENAGEM EM DIVERSOS TRECHOS DO MUNICÍPIO
A7: REFERÊNCIA: TABELA CUSTOS LABOR/CT-UFES PADRÃO DER EDIFICAÇÕES MARÇO/2023 E DER RODOVIAS JULHO/2022 SEM DESONERAÇÃO
A8: BDI - 27,06% / LS - 157,27%
A10: SERVIÇOS PRELIMINARES
A11: 01.01 | B11: 020305 | C11: DER EDIFICAÇÕES | D11: Placa de obra nas dimensões de 2.0 x 4.0 m, padrão DER | E11: UND. | F11: QUANTIDADE | G11: COMPRIMENTO (M) | H11: LARGURA (M) | I11: ÁREA (M2) | J11: SUBTOTAL | K11: =SUM(J12) -> 8
F12: 1 | G12: 4 | H12: 2 | I12: =H12*G12*F12 -> 8 | J12: =I12 -> 8
A14: 01.02 | B14: 10512 | C14: DER EDIFICAÇÕES | D14: Equipe topográfica para serviços simples de locação e nivelamento (incluindo equipamento, transporte e profissionais nivel médio) | J14: MÊS | K14: =SUM(J15) -> 0.05 | O14: =ROUND(2/60,2) -> 0.03
D15: Considerado dois dias de equipe topografica para locação do eixo da rua | J15: =3/60 -> 0.05
A17: 01.03 | B17: =VLOOKUP(A17,'Planilha São Valentin'!$A:$I,2,FALSE) -> 42046 | C17: =VLOOKUP(A17,'Planilha São Valentin'!$A:$I,3,FALSE) -> DER RODOVIAS | D17: =VLOOKUP(A17,'Planilha São Valentin'!$A:$I,4,FALSE) -> Cones para sinalização, fornecimento e colocação | E17: =VLOOKUP(A17,'Planilha São Valentin'!$A:$I,5,FALSE) -> und | F17: QUANTIDADE | G17: COMPRIMENTO (M) | H17: LARGURA (M) | I17: ÁREA (M2) | J17: SUBTOTAL | K17: =ROUND(J18,2) -> 20
E18: 20 | J18: =E18 -> 20
A20: 01.04 | B20: =VLOOKUP(A20,'Planilha São Valentin'!$A:$I,2,FALSE) -> 42047 | C20: =VLOOKUP(A20,'Planilha São Valentin'!$A:$I,3,FALSE) -> DER RODOVIAS | D20: =VLOOKUP(A20,'Planilha São Valentin'!$A:$I,4,FALSE) -> Elementos de madeira para sinalização - cavaletes | E20: =VLOOKUP(A20,'Planilha São Valentin'!$A:$I,5,FALSE) -> und | J20: MÊS | K20: =ROUND(SUM(J21),2) -> 4 | O20: =ROUND(2/60,2) -> 0.03
E21: 4 | J21: =E21 -> 4
A23: 01.05 | B23: =VLOOKUP(A23,'Planilha São Valentin'!$A:$I,2,FALSE) -> 41359 | C23: =VLOOKUP(A23,'Planilha São Valentin'!$A:$I,3,FALSE) -> DER RODOVIAS | D23: =VLOOKUP(A23,'Planilha São Valentin'!$A:$I,4,FALSE) -> Tela de proteção de segurança de PVC cor laranja com suporte para sinalização de obras | E23: =VLOOKUP(A23,'Planilha São Valentin'!$A:$I,5,FALSE) -> m | F23: QUANTIDADE | G23: COMPRIMENTO (M) | H23: LARGURA (M) | I23: ÁREA (M2) | J23: SUBTOTAL | K23: =ROUND((J24),2) -> 40
E24: 40 | J24: =E24 -> 40
A26: 01.06 | B26: =VLOOKUP(A26,'Planilha São Valentin'!$A:$I,2,FALSE) -> 020356 | C26: =VLOOKUP(A26,'Planilha São Valentin'!$A:$I,3,FALSE) -> DER EDIFICAÇÕES | D26: =VLOOKUP(A26,'Planilha São Valentin'!$A:$I,4,FALSE) -> Aluguel mensal container para almoxarifado, incl. porta, 2 janelas, 1 pt iluminação, Isolamento térmico (teto), piso em comp. Naval pintado, cert. NR18, incl. laudo descontaminação. | E26: =VLOOKUP(A26,'Planilha São Valentin'!$A:$I,5,FALSE) -> mês | F26: QUANTIDADE | G26: COMPRIMENTO (M) | H26: LARGURA (M) | I26: ÁREA (M2) | J26: SUBTOTAL | K26: =ROUND((J27),2) -> 3
E27: 3 | J27: =E27 -> 3
A29: 01.07 | B29: =VLOOKUP(A29,'Planilha São Valentin'!$A:$I,2,FALSE) -> 020344 | C29: =VLOOKUP(A29,'Planilha São Valentin'!$A:$I,3,FALSE) -> DER EDIFICAÇÕES | D29: =VLOOKUP(A29,'Planilha São Valentin'!$A:$I,4,FALSE) -> Mobilização e desmobilização de conteiner locado para barracão de obra | E29: =VLOOKUP(A29,'Planilha São Valentin'!$A:$I,5,FALSE) -> und | F29: QUANTIDADE | G29: COMPRIMENTO (M) | H29: LARGURA (M) | I29: ÁREA (M2) | J29: SUBTOTAL | K29: =ROUND((J30),2) -> 1
E30: 1 | J30: =E30 -> 1
A32: 01.08 | B32: =VLOOKUP(A32,'Planilha São Valentin'!$A:$I,2,FALSE) -> 7010100210 | C32: =VLOOKUP(A32,'Planilha São Valentin'!$A:$I,3,FALSE) -> CESAN | D32: =VLOOKUP(A32,'Planilha São Valentin'!$A:$I,4,FALSE) -> BANHEIRO QUIMICO | E32: =VLOOKUP(A32,'Planilha São Valentin'!$A:$I,5,FALSE) -> unm | F32: QUANTIDADE | G32: COMPRIMENTO (M) | H32: LARGURA (M) | I32: ÁREA (M2) | J32: SUBTOTAL | K32: =ROUND((J33),2) -> 3
E33: 3 | J33: =E33 -> 3
A35: PAVIMENTAÇÃO
A36: 02.01 | B36: Comp. 01 (Item referencia 200202) | C36: DER EDIFICAÇÕES | D36: Assentamento de meio-fio de concreto pré-moldado com dimensões de 15x12x30x100 cm , rejuntados com argamassa de cimento e areia no traço 1:3 - Exclusive Meio-fio (Doados pela SEAG-ES) | I36: COMPRIMENTO (M) | J36: SUBTOTAL | K36: =SUM(J37) -> 1400
D37: Observação: a liberação da execução dos trechos serão de acordo com a liberação de meio fio da SEAG | I37: 1400 | J37: =I37 -> 1400
A40: 02.02 | B40: Comp. 02 (Item referencia 200206) | C40: DER EDIFICAÇÕES | D40: Assentamento de Blocos pré-moldados de concreto tipo tijolo holandês 10 x 20 cm., espessura de 8 cm e resistência a compressão mínima de 35MPa, assentados sobre colchão de areia na espessura de 10 cm - Exclusive blocos (Doados pela SEAG-ES) | I40: ÁREA (M2) | J40: SUBTOTAL | K40: =SUM(J41) -> 2370
D41: Observação: a liberação da execução dos trechos serão de acordo com a liberação de blocos da SEAG | I41: 2370 | J41: =I41 -> 2370
A44: 02.03 | B44: 030208 | C44: DER EDIFICAÇÕES | D44: Aterro manual para regularização do terreno em argila, inclusive adensamento manual e fornecimento do material (máximo de 100m3) | F44: ALTURA (M) | G44: COMPRIMENTO (M) | H44: LARGURA (M) | I44: VOLUME (M3) | J44: SUBTOTAL | K44: =SUM(J45) -> 42 | M44: =I41*0.08*1.2 -> 227.52 | N44: =M44*2.4 -> 546.048
F45: 0.2 | G45: =I37 -> 1400 | H45: 0.15 | I45: =H45*G45*F45 -> 42 | J45: =I45 -> 42 | N45: =N44/8 -> 68.256
N46: =N45*0.25 -> 17.064
A47: 02.04 | B47: 040233 | C47: DER EDIFICAÇÕES | D47: Fornecimento, preparo e aplicação de concreto Fck=15 MPa (brita 1 e 2) - (5% de perdas já incluído no custo) | E47: ALTURA (M) | F47: COMPRIMENTO (M) | G47: LARGURA (M) | H47: VOLUME (M3) | I47: QUANTIDADE | J47: SUBTOTAL | K47: =SUM(J48:J50) -> 43.18
D48: Transversal a cada 15 metros | E48: 0.4 | F48: 5.5 | G48: 0.15 | H48: =G48*F48*E48 -> 0.33 | I48: =ROUNDUP((678/15),0) -> 46 | J48: =I48*H48 -> 15.18
D49: Por trás do Meio Fio | E49: 0.1 | F49: =I37 -> 1400 | G49: 0.2 | J49: =G49*F49*E49 -> 28
A52: 02.05 | B52: =VLOOKUP(A52,'Planilha 15 de agosto(igreja)'!A:H,2,FALSE) -> 40243 | D52: =VLOOKUP(A52,'Planilha 15 de agosto(igreja)'!$A:$H,4,FALSE) -> Fornecimento, dobragem e colocação em fôrma, de armadura CA-50 A média, diâmetro de 6.3 a 10.0 mm | E52: =VLOOKUP(A52,'Planilha 15 de agosto(igreja)'!A:H,5,FALSE) -> kg | I52: ÁREA | J52: SUBTOTAL | K52: =SUM(J53) -> 2370
D53: Pavimentação | I53: =I41 -> 2370 | J53: =I53 -> 2370
A55: 02.06 | B55: =VLOOKUP(A55,'Planilha 15 de agosto(igreja)'!A:H,2,FALSE) -> 40754 | D55: =VLOOKUP(A55,'Planilha 15 de agosto(igreja)'!$A:$H,4,FALSE) -> Regularização e compactação do sub-leito (100% P.I.) H = 0,20 m | E55: =VLOOKUP(A55,'Planilha 15 de agosto(igreja)'!A:H,5,FALSE) -> M² | F55: ALTURA | G55: COMPRIMENTO | H55: QUANTIDADE | I55: ÁREA | J55: SUBTOTAL | K55: =SUM(J56:J57) -> 202.4
D56: Transversais | F56: =E48 -> 0.4 | G56: =F48 -> 5.5 | H56: =I48*2 -> 92 | I56: =G56*F56 -> 2.2 | J56: =(I56*H56) -> 202.4
I57: =H57*G57*F57 -> 0 | J57: =I57 -> 0
A59: SERVIÇOS DE MÁQUINAS
A60: 03.01 | B60: COMP.05 | C60: DER - RODOVIAS | D60: CAMINHÃO BASCULANTE | F60: Tempo médio deslocamento ida e volta (horas) | G60: viajens nescessárias | H60: Peso por m3 | I60: Total peso do trecho (T) | J60: HORAS | K60: =SUM(J61:J64) -> 50.51
C62: Material do item 02.02 | D62: Pó de Pedra | F62: 0.25 | G62: =I62/8 -> 39.99375 | H62: 1.35 | I62: =0.1*I41*H62 -> 319.95 | J62: =ROUND(F62*G62,2) -> 10
C63: Material do Item 02.01 | D63: Areia lavada média (Meio fio) | F63: 0.25 | G63: =I63/8 -> 2.0202 | H63: 1.48 | I63: =I37*0.0078*H63 -> 16.1616 | J63: =ROUND(F63*G63,2) -> 0.51
...

Sheet CRO-FISICO FINANC Alto Céu
C1: PREFEITURA DE SANTA TERESA-ES
A3: CRONOGRAMA FÍSICO FINANCEIRO
A4: Objeto: | C4: ='Planilha São Valentin'!A4 -> ASSENTAMENTO DE BLOCOS, MEIO FIO E DRENAGEM EM DIVERSOS TRECHOS DO MUNICÍPIO DE SANTA TERESA- ESPÍRITO SANTO
A5: Endereço: | C5: Alto Paraíso (Zeca Legarsi), Municipio de Santa Teresa-ES
A6: Data base: | C6: ='Planilha São Valentin'!A6 -> Preço de Referência: DER-Edificações 04/2024 DER-Rodovias julho/2023 CESAN Julho/2024
A7: ITEM | C7: DESCRIÇÃO DOS SERVIÇOS | D7: VALOR DOS SERVIÇOS | G7: SOMA ITENS
E8: MÊS 01 | F8: MÊS 02
A9: ='[1]PLANILHA DE CUSTOS'!A8 -> 01 | C9: ='Planilha Alto Céu'!D9 -> SERVIÇOS PRELIMINARES | D9: =D10/D19 -> 0.054231695 | E9: 0.77 | F9: 0.23 | G9: =SUM(E9:F9) -> 1
D10: ='Planilha Alto Céu'!I18 -> 21436.08 | E10: =D10*E9 -> 16505.782 | F10: =D10*F9 -> 4930.2984 | G10: =SUM(E10:F10) -> 21436.08
A11: ='[1]PLANILHA DE CUSTOS'!A18 -> 02 | C11: ='Planilha Alto Céu'!D19 -> PAVIMENTAÇÃO | D11: =D12/D19 -> 0.4816077 | E11: 0.7 | F11: 0.3 | G11: =SUM(E11:F11) -> 1 | H11: 13801.74
D12: ='Planilha Alto Céu'!I26 -> 190364.35 | E12: =D12*E11 -> 133255.05 | F12: =D12*F11 -> 57109.305 | G12: =SUM(E12:F12) -> 190364.35
A13: ='[1]PLANILHA DE CUSTOS'!A32 -> 03 | C13: ='Planilha Alto Céu'!D27 -> SERVIÇOS DE MÁQUINA/ APOIO | D13: =D14/D19 -> 0.1176349 | E13: 0.5 | F13: 0.5 | G13: =SUM(E13:F13) -> 1
D14: ='Planilha Alto Céu'!I33 -> 46497.37 | E14: =D14*E13 -> 23248.685 | F14: =D14*F13 -> 23248.685 | G14: =SUM(E14:F14) -> 46497.37
A15: ='[1]PLANILHA DE CUSTOS'!A39 -> 04 | C15: ='Planilha Alto Céu'!D34 -> DRENAGEM | D15: =D16/D19 -> 0.34449516 | E15: 1 | G15: =SUM(E15:F15) -> 1
D16: ='Planilha Alto Céu'!I40 -> 136168.08 | E16: =D16*E15 -> 136168.08 | G16: =SUM(E16:F16) -> 136168.08
A17: ='[1]PLANILHA DE CUSTOS'!A43 -> 05 | C17: ='Planilha Alto Céu'!D41 -> SERVIÇOS COMPLEMENTARES | D17: =D18/D21 -> 0.0020305438 | E17: 0.5 | F17: 0.5
D18: ='Planilha Alto Céu'!I43 -> 802.61 | E18: =D18*E17 -> 401.305 | F18: =D18*F17 -> 401.305
C19: TOTAL SIMPLES - R$ | D19: ='Planilha Alto Céu'!I44 -> 395268.49 | E19: =E10+E12+E14+E16+E18 -> 309578.9 | F19: =F10+F12+F14+F16+F18 -> 85689.593 | G19: =SUM(E19:F19) -> 395268.49
C20: TOTAL SIMPLES - % | D20: 1 | E20: =E19/D19 -> 0.78321168 | F20: =F19/D19 -> 0.21678832 | G20: =SUM(E20:F20) -> 1
C21: TOTAL ACUMULADO - R$ | D21: =D10+D12+D14+D16+D18 -> 395268.49 | E21: =E19 -> 309578.9 | F21: =E21+F19 -> 395268.49
C22: TOTAL ACUMULADO - % | D22: =D9+D11+D13+D15+D17 -> 1 | E22: =E20 -> 0.78321168 | F22: =E22+F20 -> 1
C25: __________________________________________________________
C26: ADAUBERTO DO MEIRELES JUNIOR
C27: CREA-ES: 54574/D

Sheet Curva ABC Alto Céu
A3: CURVA ABC DE SERVIÇOS
A4: ITEM | B4: CÓDIGO | C4: REF. | D4: ESPECIFICAÇÃO | E4: TOTAL | F4: % | G4: %ACUMULADA | H4: CONCEITO
A5: 02.02 | B5: Comp. 02 (Item referencia 200206) | C5: DER EDIFICAÇÕES | D5: Assentamento de Blocos pré-moldados de concreto tipo tijolo holandês 10 x 20 cm., espessura de 8 cm e resistência a compressão mínima de 35MPa, assentados sobre colchão de areia na espessura de 10 cm - Exclusive blocos (Doados pela SEAG-ES) | E5: 75887.4 | F5: =E5/$E$30 -> 0.1919895 | G5: =F5 -> 0.1919895 | H5: =IF(G5<$K$7,$K$6,IF(G5<$L$7,$L$6,$M$6)) -> A | K5: Classificação
A6: 04.02 | B6: COMP. 04 | C6: DER - RODOVIAS | D6: Corpo BSTC (greide) diâmetro 0,80 m CA-1 PB inclusive escavação, reaterro e transporte do tubo | E6: 55718.85 | F6: =E6/$E$30 -> 0.14096456 | G6: =G5+F6 -> 0.33295406 | H6: =IF(G6<$K$7,$K$6,IF(G6<$L$7,$L$6,$M$6)) -> A | K6: A | L6: B | M6: C
A7: 04.05 | B7: 41164 | C7: DER - RODOVIAS | D7: Caixa de passagem em bloco pré-moldado para d=0,80m (1,20 x 1,20m) em Vias Urbanas | E7: 44972.2 | F7: =E7/$E$30 -> 0.11377633 | G7: =G6+F7 -> 0.4467304 | H7: =IF(G7<$K$7,$K$6,IF(G7<$L$7,$L$6,$M$6)) -> A | K7: 0.8 | L7: 0.95 | M7: 1
A8: 02.01 | B8: Comp. 01 (Item referencia 200202) | C8: DER EDIFICAÇÕES | D8: Assentamento de meio-fio de concreto pré-moldado com dimensões de 15x12x30x100 cm , rejuntados com argamassa de cimento e areia no traço 1:3 - Exclusive Meio-fio (Doados pela SEAG-ES) | E8: 43316 | F8: =E8/$E$30 -> 0.10958627 | G8: =G7+F8 -> 0.55631667 | H8: =IF(G8<$K$7,$K$6,IF(G8<$L$7,$L$6,$M$6)) -> A
A9: 02.04 | B9: 40233 | C9: DER EDIFICAÇÕES | D9: Fornecimento, preparo e aplicação de concreto Fck=15 MPa (brita 1 e 2) - (5% de perdas já incluído no custo) | E9: 36395.13 | F9: =E9/$E$30 -> 0.092076983 | G9: =G8+F9 -> 0.64839365 | H9: =IF(G9<$K$7,$K$6,IF(G9<$L$7,$L$6,$M$6)) -> A
A10: 04.04 | B10: 40531 | C10: DER - RODOVIAS | D10: Boca de concreto ciclópico para BSTC diâmetro 0,80 m | E10: 31474.32 | F10: =E10/$E$30 -> 0.079627698 | G10: =G9+F10 -> 0.72802135 | H10: =IF(G10<$K$7,$K$6,IF(G10<$L$7,$L$6,$M$6)) -> A
A11: 03.01 | B11: COMP. 05 | C11: DER - RODOVIAS | D11: CAMINHÃO BASCULANTE | E11: 21892.55 | F11: =E11/$E$30 -> 0.05538653 | G11: =G10+F11 -> 0.78340788 | H11: =IF(G11<$K$7,$K$6,IF(G11<$L$7,$L$6,$M$6)) -> A
A12: 02.06 | B12: 40206 | C12: DER - EDIFICAÇÕES | D12: Fôrma de tábua de madeira de 2.5 x 30.0 cm para fundações, levando-se em conta a utilização 5 vezes (incluido o material, corte, montagem, escoramento e desforma) | E12: 20596.22 | F12: =E12/$E$30 -> 0.052106911 | G12: =G11+F12 -> 0.83551479 | H12: =IF(G12<$K$7,$K$6,IF(G12<$L$7,$L$6,$M$6)) -> B
A13: 03.02 | B13: COMP. 06 | C13: DER - RODOVIAS | D13: RETROESCAVADEIRA | E13: 11459.2 | F13: =E13/$E$30 -> 0.028990927 | G13: =G12+F13 -> 0.86450572 | H13: =IF(G13<$K$7,$K$6,IF(G13<$L$7,$L$6,$M$6)) -> B
A14: 02.03 | B14: 30208 | C14: DER EDIFICAÇÕES | D14: Aterro manual para regularização do terreno em argila, inclusive adensamento manual e fornecimento do material (máximo de 100m3) | E14: 8742.3 | F14: =E14/$E$30 -> 0.022117371 | G14: =G13+F14 -> 0.88662309 | H14: =IF(G14<$K$7,$K$6,IF(G14<$L$7,$L$6,$M$6)) -> B
A15: 01.08 | B15: 7010100210 | C15: CESAN | D15: BANHEIRO QUIMICO | E15: 7550.64 | F15: =E15/$E$30 -> 0.01910256 | G15: =G14+F15 -> 0.90572565 | H15: =IF(G15<$K$7,$K$6,IF(G15<$L$7,$L$6,$M$6)) -> B
A16: 03.05 | B16: 41544 | C16: DER - RODOVIAS | D16: Mobilização e desmobilização de equipamentos com carreta prancha (máximo) | E16: 6099.92 | F16: =E16/$E$30 -> 0.015432346 | G16: =G15+F16 -> 0.921158 | H16: =IF(G16<$K$7,$K$6,IF(G16<$L$7,$L$6,$M$6)) -> B
A17: 03.03 | B17: COMP. 03 | C17: DER EDIFICAÇÕES | D17: Equipe de apoio nas atividadades de carga, transporte e posicionamento do material no trecho de pavimentação | E17: 6095.22 | F17: =E17/$E$30 -> 0.015420455 | G17: =G16+F17 -> 0.93657845 | H17: =IF(G17<$K$7,$K$6,IF(G17<$L$7,$L$6,$M$6)) -> B
A18: 02.05 | B18: 40754 | C18: DER - RODOVIAS | D18: Regularização e compactação do sub-leito (100% P.I.) H = 0,20 m | E18: 5427.3 | F18: =E18/$E$30 -> 0.013730667 | G18: =G17+F18 -> 0.95030912 | H18: =IF(G18<$K$7,$K$6,IF(G18<$L$7,$L$6,$M$6)) -> C
A19: 01.03 | B19: 42046 | C19: DER RODOVIAS | D19: Cones para sinalização, fornecimento e colocação | E19: 3369.8 | F19: =E19/$E$30 -> 0.0085253444 | G19: =G18+F19 -> 0.95883446 | H19: =IF(G19<$K$7,$K$6,IF(G19<$L$7,$L$6,$M$6)) -> C
A20: 04.03 | B20: 41176 | C20: DER - RODOVIAS | D20: Berço em brita para BSTC diam. = 0,80 m em Vias Urbanas | E20: 3124 | F20: =E20/$E$30 -> 0.0079034886 | G20: =G19+F20 -> 0.96673795 | H20: =IF(G20<$K$7,$K$6,IF(G20<$L$7,$L$6,$M$6)) -> C
A21: 01.06 | B21: 020356 | C21: DER EDIFICAÇÕES | D21: Aluguel mensal container para almoxarifado, incl. porta, 2 janelas, 1 pt iluminação, Isolamento térmico (teto), piso em comp. Naval pintado, cert. NR18, incl. laudo descontaminação. | E21: 2964.03 | F21: =E21/$E$30 -> 0.0074987763 | G21: =G20+F21 -> 0.97423673 | H21: =IF(G21<$K$7,$K$6,IF(G21<$L$7,$L$6,$M$6)) -> C
A22: 01.01 | B22: 20305 | C22: DER EDIFICAÇÕES | D22: Placa de obra nas dimensões de 2.0 x 4.0 m, padrão DER | E22: 2436.64 | F22: =E22/$E$30 -> 0.0061645187 | G22: =G21+F22 -> 0.98040125 | H22: =IF(G22<$K$7,$K$6,IF(G22<$L$7,$L$6,$M$6)) -> C
A23: 01.07 | B23: 020344 | C23: DER EDIFICAÇÕES | D23: Mobilização e desmobilização de conteiner locado para barracão de obra | E23: 2119.39 | F23: =E23/$E$30 -> 0.0053618997 | G23: =G22+F23 -> 0.98576315 | H23: =IF(G23<$K$7,$K$6,IF(G23<$L$7,$L$6,$M$6)) -> C
A24: 01.02 | B24: 10512 | C24: DER EDIFICAÇÕES | D24: Equipe topográfica para serviços simples de locação e nivelamento (incluindo equipamento, transporte e profissionais nivel médio) | E24: 1376.82 | F24: =E24/$E$30 -> 0.0034832526 | G24: =G23+F24 -> 0.9892464 | H24: =IF(G24<$K$7,$K$6,IF(G24<$L$7,$L$6,$M$6)) -> C
A25: 01.05 | B25: 41359 | C25: DER RODOVIAS | D25: Tela de proteção de segurança de PVC cor laranja com suporte para sinalização de obras | E25: 1355.6 | F25: =E25/$E$30 -> 0.0034295676 | G25: =G24+F25 -> 0.99267597 | H25: =IF(G25<$K$7,$K$6,IF(G25<$L$7,$L$6,$M$6)) -> C
A26: 03.04 | B26: 41546 | C26: DER - RODOVIAS | D26: Mobilização e desmobilização de caminhão basculante (máximo) | E26: 950.48 | F26: =E26/$E$30 -> 0.002404644 | G26: =G25+F26 -> 0.99508061 | H26: =IF(G26<$K$7,$K$6,IF(G26<$L$7,$L$6,$M$6)) -> C
A27: 04.01 | B27: 30103 | C27: DER EDIFICAÇÕES | D27: Escavação mecânica em material de 1a. Categoria | E27: 878.71 | F27: =E27/$E$30 -> 0.0022230712 | G27: =G26+F27 -> 0.99730368 | H27: =IF(G27<$K$7,$K$6,IF(G27<$L$7,$L$6,$M$6)) -> C
A28: 05.01 | B28: 200576 | C28: DER EDIFICAÇÕES | D28: Placa para inauguração de obra em alumínio polido e=4mm, dimensões 40 x 50 cm, gravação em baixo relevo, inclusive pintura e fixação | E28: 802.61 | F28: =E28/$E$30 -> 0.0020305438 | G28: =G27+F28 -> 0.99933422 | H28: =IF(G28<$K$7,$K$6,IF(G28<$L$7,$L$6,$M$6)) -> C
A29: 01.04 | B29: 42047 | C29: DER RODOVIAS | D29: Elementos de madeira para sinalização - cavaletes | E29: 263.16 | F29: =E29/$E$30 -> 0.00066577531 | G29: =G28+F29 -> 1 | H29: =IF(G29<$K$7,$K$6,IF(G29<$L$7,$L$6,$M$6)) -> C
D30: VALOR GERAL DA OBRA TOTAL | E30: ='Planilha Alto Céu'!I44 -> 395268.49
D33: __________________________________________________________
D34: ADAUBERTO DO MEIRELES JUNIOR
D35: CREA-ES: 54574/D

Sheet Planilha 15 de agosto(igreja)
A4: ASSENTAMENTO DE BLOCOS, MEIO FIO E DRENAGEM EM DIVERSOS TRECHOS DO MUNICÍPIO DE SANTA TERESA- ESPÍRITO SANTO | H4: 15 DE AGOSTO (IGREJA) 3375 M² DE PAV. E 721 M DE MEIO FIO CONTRATO 387/2024 SEAG
A5: PLANILHA DE CUSTOS REFERENCIAIS
A6: Preço de Referência: DER-Edificações 04/2024 DER-Rodovias julho/2023
A7: BDI - 24,67% / LS - 157,27% | F7: BDI | G7: 0.2467
A8: ITEM | B8: CÓDIGO | C8: REF. | D8: ESPECIFICAÇÃO | E8: UND. | F8: QUANT. | G8: PREÇO UNIT. | H8: PREÇO UNIT. C/BDI | I8: TOTAL
A9: 01 | D9: SERVIÇOS PRELIMINARES
A10: 01.01 | B10: 20305 | C10: DER EDIFICAÇÕES | D10: Placa de obra nas dimensões de 2.0 x 4.0 m, padrão DER | E10: m² | F10: =ROUND(VLOOKUP(A10,'memorial 15 de agosto (Igreja)'!$A:$K,11,),2) -> 8 | G10: =VLOOKUP(B10,'TRP 04.2024'!$C:$I,7,FALSE) -> 244.31 | H10: =ROUND(G10*(1+$G$7),2) -> 304.58 | I10: =ROUND(H10*F10,2) -> 2436.64
A11: 01.02 | B11: 10512 | C11: DER EDIFICAÇÕES | D11: Equipe topográfica para serviços simples de locação e nivelamento (incluindo equipamento, transporte e profissionais nivel médio) | E11: mês | F11: =ROUND(VLOOKUP(A11,'memorial 15 de agosto (Igreja)'!$A:$K,11,),2) -> 0.05 | G11: =VLOOKUP(B11,'TRP 04.2024'!$C:$I,7,FALSE) -> 22087.47 | H11: =ROUND(G11*(1+$G$7),2) -> 27536.45 | I11: =ROUND(H11*F11,2) -> 1376.82
A12: 01.03 | B12: 42046 | C12: DER RODOVIAS | D12: Cones para sinalização, fornecimento e colocação | E12: und | F12: =ROUND(VLOOKUP(A12,'memorial 15 de agosto (Igreja)'!$A:$K,11,),2) -> 20 | G12: 135.15 | H12: =ROUND(G12*(1+$G$7),2) -> 168.49 | I12: =ROUND(H12*F12,2) -> 3369.8
A13: 01.04 | B13: 42047 | C13: DER RODOVIAS | D13: Elementos de madeira para sinalização - cavaletes | E13: und | F13: =ROUND(VLOOKUP(A13,'memorial 15 de agosto (Igreja)'!$A:$K,11,),2) -> 4 | G13: 52.77 | H13: =ROUND(G13*(1+$G$7),2) -> 65.79 | I13: =ROUND(H13*F13,2) -> 263.16
A14: 01.05 | B14: 41359 | C14: DER RODOVIAS | D14: Tela de proteção de segurança de PVC cor laranja com suporte para sinalização de obras | E14: m | F14: =ROUND(VLOOKUP(A14,'memorial 15 de agosto (Igreja)'!$A:$K,11,),2) -> 40 | G14: 27.18 | H14: =ROUND(G14*(1+$G$7),2) -> 33.89 | I14: =ROUND(H14*F14,2) -> 1355.6
A15: 01.06 | B15: 020356 | C15: DER EDIFICAÇÕES | D15: Aluguel mensal container para almoxarifado, incl. porta, 2 janelas, 1 pt iluminação, Isolamento térmico (teto), piso em comp. Naval pintado, cert. NR18, incl. laudo descontaminação. | E15: mês | F15: =ROUND(VLOOKUP(A15,'memorial 15 de agosto (Igreja)'!$A:$K,11,),2) -> 3 | G15: 792.5 | H15: =ROUND(G15*(1+$G$7),2) -> 988.01 | I15: =ROUND(H15*F15,2) -> 2964.03
A16: 01.07 | B16: 020344 | C16: DER EDIFICAÇÕES | D16: Mobilização e desmobilização de conteiner locado para barracão de obra | E16: und | F16: =ROUND(VLOOKUP(A16,'memorial 15 de agosto (Igreja)'!$A:$K,11,),2) -> 1 | G16: 1700 | H16: =ROUND(G16*(1+$G$7),2) -> 2119.39 | I16: =ROUND(H16*F16,2) -> 2119.39
A17: 01.08 | B17: 7010100210 | C17: CESAN | D17: BANHEIRO QUIMICO | E17: unm | F17: =ROUND(VLOOKUP(A17,'memorial 15 de agosto (Igreja)'!$A:$K,11,),2) -> 3 | G17: 2018.83 | H17: =ROUND(G17*(1+$G$7),2) -> 2516.88 | I17: =ROUND(H17*F17,2) -> 7550.64
A18: SUB-TOTAL DO ITEM | I18: =SUBTOTAL(9,I10:I17) -> 21436.08
A19: 02 | D19: PAVIMENTAÇÃO
A20: 02.01 | B20: Comp. 01 (Item referencia 200202) | C20: DER EDIFICAÇÕES | D20: Assentamento de meio-fio de concreto pré-moldado com dimensões de 15x12x30x100 cm , rejuntados com argamassa de cimento e areia no traço 1:3 - Exclusive Meio-fio (Doados pela SEAG-ES) | E20: m | F20: =ROUND(VLOOKUP(A20,'memorial 15 de agosto (Igreja)'!$A:$K,11,),2) -> 721 | G20: 24.82 | H20: =ROUND(G20*(1+$G$7),2) -> 30.94 | I20: =ROUND(H20*F20,2) -> 22307.74
A21: 02.02 | B21: Comp. 02 (Item referencia 200206) | C21: DER EDIFICAÇÕES | D21: Assentamento de Blocos pré-moldados de concreto tipo tijolo holandês 10 x 20 cm., espessura de 8 cm e resistência a compressão mínima de 35MPa, assentados sobre colchão de pó de pedra na espessura de 10 cm - Exclusive blocos (Doados pela SEAG-ES) | E21: m² | F21: =ROUND(VLOOKUP(A21,'memorial 15 de agosto (Igreja)'!$A:$K,11,),2) -> 3375 | G21: =COMP.02!E32 -> 25.685 | H21: =ROUND(G21*(1+$G$7),2) -> 32.02 | I21: =ROUND(H21*F21,2) -> 108067.5
