Workbook
Name JR_PAGE_ANCHOR_0_1: RESUMO!#REF!
Name JR_PAGE_ANCHOR_1_1: 'PLANILHA ORCAMENTARIA'!$A$5
Name JR_PAGE_ANCHOR_2_1: 'MEMORIA DE CALCULO'!$A$5
Name JR_PAGE_ANCHOR_3_1: 'SINTETICO PROPRIAS'!$A$2
Name JR_PAGE_ANCHOR_4_1: 'COMPOSICOES PROPRIAS'!$A$4
Name JR_PAGE_ANCHOR_5_1: 'COMPOSICOES AUXILIARES'!$A$4
Name JR_PAGE_ANCHOR_6_1: COMPOSICOES!$A$4
Name JR_PAGE_ANCHOR_7_1: 'CURVA ABC SERVICOS'!$A$4
Name JR_PAGE_ANCHOR_8_1: 'CURVA ABC INSUMOS'!$A$4
Name JR_PAGE_ANCHOR_9_1: CRONOGRAMA!$A$5
Name VALOR_TOTAL: 'PLANILHA ORCAMENTARIA'!$J$410

Sheet RESUMO
A1: RESUMO DO ORÇAMENTO
B2: OBRA: Restauro da Igreja de Nossa Senhora da Conceição e Reforma da Praça Barbosa Leão, Serra Centro Serra/ES. | C2: DATA: 30/06/2026
B3: DESCRIÇÃO: Restauro da Igreja de Nossa Senhora da Conceição e Reforma da Praça Barbosa Leão | C3: BDI: 33,25% | Encargos Sociais: 157,27%
B4: LOCAL: Praça Barbosa Leão, Serra Centro, Serra - ES | CEP: 29176-050 | C4: DATA BASE: MARÇO/2026
B5: PROPONENTE: PREFEITURA MUNICIPAL DA SERRA
A6: 1 | B6: CANTEIRO DE OBRAS | D6: ='PLANILHA ORCAMENTARIA'!J8 -> 788734.25 | E6: =D6/$D$12 -> 0.108979
A7: 2 | B7: SERVIÇOS PRELIMINARES | D7: ='PLANILHA ORCAMENTARIA'!J19 -> 51983.22 | E7: =D7/$D$12 -> 0.0071824945
A8: 3 | B8: IGREJA | D8: ='PLANILHA ORCAMENTARIA'!J35 -> 4588873.1 | E8: =D8/$D$12 -> 0.63404221
A9: 4 | B9: ENTORNO DA IGREJA - PRAÇA | D9: ='PLANILHA ORCAMENTARIA'!J335 -> 1738290.7 | E9: =D9/$D$12 -> 0.24017872
A10: 5 | B10: PAISAGISMO | D10: ='PLANILHA ORCAMENTARIA'!J401 -> 57663.84 | E10: =D10/$D$12 -> 0.0079673828
A11: 6 | B11: SERVIÇOS FINAIS | D11: ='PLANILHA ORCAMENTARIA'!J407 -> 11943.24 | E11: =D11/$D$12 -> 0.0016501913
C12: VALOR TOTAL: | D12: =D11+D10+D9+D8+D7+D6 -> 7237488.3 | E12: =SUM(E6:E11) -> 1
A17: CARLOS RAPHAEL MONTEIRO DE LEMOS ENGENHEIRO CIVIL | CREA-ES 011.840/D

Sheet CRONOGRAMA
B1: CRONOGRAMA
B2: OBRA: Restauro da Igreja de Nossa Senhora da Conceição e Reforma da Praça Barbosa Leão, Serra Centro Serra/ES. | L2: DATA: 30/06/2026
B3: DESCRIÇÃO: Restauro da Igreja de Nossa Senhora da Conceição e Reforma da Praça Barbosa Leão | L3: BDI: 33,25% | Encargos Sociais: 157,27%
B4: LOCAL: Praça Barbosa Leão, Serra Centro, Serra - ES | CEP: 29176-050 | L4: DATA BASE: MARÇO/2026
B5: PROPONENTE: PREFEITURA MUNICIPAL DA SERRA
A6: CRONOGRAMA FÍSICO FINANCEIRO
A7: ITEM | B7: DESCRIÇÃO | C7: VALOR (R$) | D7: MÊS 1 | E7: MÊS 2 | F7: MÊS 3 | G7: MÊS 4 | H7: MÊS 5 | J7: MÊS 6 | K7: MÊS 7 | L7: MÊS 8 | M7: MÊS 9 | N7: MÊS 10 | O7: MÊS 11 | P7: MÊS 12 | Q7: Total parcela
A8: 1 | B8: CANTEIRO DE OBRAS | C8: =RESUMO!D6 -> 788734.25 | D8: 0.8757 | E8: 0.0113 | F8: 0.0113 | G8: 0.0113 | H8: 0.0113 | J8: 0.0113 | K8: 0.0113 | L8: 0.0113 | M8: 0.0113 | N8: 0.0113 | O8: 0.0113 | P8: 0.0113 | Q8: =SUM(D8:P8) -> 1
D9: =IF(D8>0,ROUND(C8*D8,2),"") -> 690694.58 | E9: =IF(E8>0,IF(AND(SUM(D8:E8)=1,Q8=1),C8-SUM(D9:D9),ROUND(C8*E8,2)),"") -> 8912.7 | F9: =IF(F8>0,IF(AND(SUM(D8:F8)=1,Q8=1),C8-SUM(D9:E9),ROUND(C8*F8,2)),"") -> 8912.7 | G9: =IF(G8>0,IF(AND(SUM(D8:G8)=1,Q8=1),C8-SUM(D9:F9),ROUND(C8*G8,2)),"") -> 8912.7 | H9: =IF(H8>0,IF(AND(SUM(D8:H8)=1,Q8=1),C8-SUM(D9:G9),ROUND(C8*H8,2)),"") -> 8912.7 | I9: =IF(I8>0,IF(AND(SUM(D8:I8)=1,Q8=1),C8-SUM(D9:H9),ROUND(C8*I8,2)),"") | J9: =IF(J8>0,IF(AND(SUM(D8:J8)=1,Q8=1),C8-SUM(D9:I9),ROUND(C8*J8,2)),"") -> 8912.7 | K9: =IF(K8>0,IF(AND(SUM(D8:K8)=1,Q8=1),C8-SUM(D9:J9),ROUND(C8*K8,2)),"") -> 8912.7 | L9: =IF(L8>0,IF(AND(SUM(D8:L8)=1,Q8=1),C8-SUM(D9:K9),ROUND(C8*L8,2)),"") -> 8912.7 | M9: =IF(M8>0,IF(AND(SUM(D8:M8)=1,Q8=1),C8-SUM(D9:L9),ROUND(C8*M8,2)),"") -> 8912.7 | N9: =IF(N8>0,IF(AND(SUM(D8:N8)=1,Q8=1),C8-SUM(D9:M9),ROUND(C8*N8,2)),"") -> 8912.7 | O9: =IF(O8>0,IF(AND(SUM(D8:O8)=1,Q8=1),C8-SUM(D9:N9),ROUND(C8*O8,2)),"") -> 8912.7 | P9: =IF(P8>0,IF(AND(SUM(D8:P8)=1,Q8=1),C8-SUM(D9:O9),ROUND(C8*P8,2)),"") -> 8912.67 | Q9: =SUM(D9:P9) -> 788734.25
A10: 2 | B10: SERVIÇOS PRELIMINARES | C10: =RESUMO!D7 -> 51983.22 | D10: 1 | Q10: =SUM(D10:P10) -> 1
D11: =IF(D10>0,ROUND(C10*D10,2),"") -> 51983.22 | E11: =IF(E10>0,IF(AND(SUM(D10:E10)=1,Q10=1),C10-SUM(D11:D11),ROUND(C10*E10,2)),"") | F11: =IF(F10>0,IF(AND(SUM(D10:F10)=1,Q10=1),C10-SUM(D11:E11),ROUND(C10*F10,2)),"") | G11: =IF(G10>0,IF(AND(SUM(D10:G10)=1,Q10=1),C10-SUM(D11:F11),ROUND(C10*G10,2)),"") | H11: =IF(H10>0,IF(AND(SUM(D10:H10)=1,Q10=1),C10-SUM(D11:G11),ROUND(C10*H10,2)),"") | I11: =IF(I10>0,IF(AND(SUM(D10:I10)=1,Q10=1),C10-SUM(D11:H11),ROUND(C10*I10,2)),"") | J11: =IF(J10>0,IF(AND(SUM(D10:J10)=1,Q10=1),C10-SUM(D11:I11),ROUND(C10*J10,2)),"") | K11: =IF(K10>0,IF(AND(SUM(D10:K10)=1,Q10=1),C10-SUM(D11:J11),ROUND(C10*K10,2)),"") | L11: =IF(L10>0,IF(AND(SUM(D10:L10)=1,Q10=1),C10-SUM(D11:K11),ROUND(C10*L10,2)),"") | M11: =IF(M10>0,IF(AND(SUM(D10:M10)=1,Q10=1),C10-SUM(D11:L11),ROUND(C10*M10,2)),"") | N11: =IF(N10>0,IF(AND(SUM(D10:N10)=1,Q10=1),C10-SUM(D11:M11),ROUND(C10*N10,2)),"") | O11: =IF(O10>0,IF(AND(SUM(D10:O10)=1,Q10=1),C10-SUM(D11:N11),ROUND(C10*O10,2)),"") | P11: =IF(P10>0,IF(AND(SUM(D10:P10)=1,Q10=1),C10-SUM(D11:O11),ROUND(C10*P10,2)),"") | Q11: =SUM(D11:P11) -> 51983.22
A12: 3 | B12: IGREJA | C12: =RESUMO!D8 -> 4588873.1 | E12: 0.1 | F12: 0.1 | G12: 0.1 | H12: 0.1 | J12: 0.1 | K12: 0.1 | L12: 0.1 | M12: 0.1 | N12: 0.1 | O12: 0.1 | Q12: =SUM(D12:P12) -> 1
D13: =IF(D12>0,ROUND(C12*D12,2),"") | E13: =IF(E12>0,IF(AND(SUM(D12:E12)=1,Q12=1),C12-SUM(D13:D13),ROUND(C12*E12,2)),"") -> 458887.31 | F13: =IF(F12>0,IF(AND(SUM(D12:F12)=1,Q12=1),C12-SUM(D13:E13),ROUND(C12*F12,2)),"") -> 458887.31 | G13: =IF(G12>0,IF(AND(SUM(D12:G12)=1,Q12=1),C12-SUM(D13:F13),ROUND(C12*G12,2)),"") -> 458887.31 | H13: =IF(H12>0,IF(AND(SUM(D12:H12)=1,Q12=1),C12-SUM(D13:G13),ROUND(C12*H12,2)),"") -> 458887.31 | I13: =IF(I12>0,IF(AND(SUM(D12:I12)=1,Q12=1),C12-SUM(D13:H13),ROUND(C12*I12,2)),"") | J13: =IF(J12>0,IF(AND(SUM(D12:J12)=1,Q12=1),C12-SUM(D13:I13),ROUND(C12*J12,2)),"") -> 458887.31 | K13: =IF(K12>0,IF(AND(SUM(D12:K12)=1,Q12=1),C12-SUM(D13:J13),ROUND(C12*K12,2)),"") -> 458887.31 | L13: =IF(L12>0,IF(AND(SUM(D12:L12)=1,Q12=1),C12-SUM(D13:K13),ROUND(C12*L12,2)),"") -> 458887.31 | M13: =IF(M12>0,IF(AND(SUM(D12:M12)=1,Q12=1),C12-SUM(D13:L13),ROUND(C12*M12,2)),"") -> 458887.31 | N13: =IF(N12>0,IF(AND(SUM(D12:N12)=1,Q12=1),C12-SUM(D13:M13),ROUND(C12*N12,2)),"") -> 458887.31 | O13: =IF(O12>0,IF(AND(SUM(D12:O12)=1,Q12=1),C12-SUM(D13:N13),ROUND(C12*O12,2)),"") -> 458887.33 | P13: =IF(P12>0,IF(AND(SUM(D12:P12)=1,Q12=1),C12-SUM(D13:O13),ROUND(C12*P12,2)),"") | Q13: =SUM(D13:P13) -> 4588873.1
A14: 4 | B14: ENTORNO DA IGREJA - PRAÇA | C14: =RESUMO!D9 -> 1738290.7 | E14: 0.2 | F14: 0.2 | G14: 0.2 | H14: 0.2 | J14: 0.2 | Q14: =SUM(D14:P14) -> 1
D15: =IF(D14>0,ROUND(C14*D14,2),"") | E15: =IF(E14>0,IF(AND(SUM(D14:E14)=1,Q14=1),C14-SUM(D15:D15),ROUND(C14*E14,2)),"") -> 347658.14 | F15: =IF(F14>0,IF(AND(SUM(D14:F14)=1,Q14=1),C14-SUM(D15:E15),ROUND(C14*F14,2)),"") -> 347658.14 | G15: =IF(G14>0,IF(AND(SUM(D14:G14)=1,Q14=1),C14-SUM(D15:F15),ROUND(C14*G14,2)),"") -> 347658.14 | H15: =IF(H14>0,IF(AND(SUM(D14:H14)=1,Q14=1),C14-SUM(D15:G15),ROUND(C14*H14,2)),"") -> 347658.14 | I15: =IF(I14>0,IF(AND(SUM(D14:I14)=1,Q14=1),C14-SUM(D15:H15),ROUND(C14*I14,2)),"") | J15: =IF(J14>0,IF(AND(SUM(D14:J14)=1,Q14=1),C14-SUM(D15:I15),ROUND(C14*J14,2)),"") -> 347658.12 | K15: =IF(K14>0,IF(AND(SUM(D14:K14)=1,Q14=1),C14-SUM(D15:J15),ROUND(C14*K14,2)),"") | L15: =IF(L14>0,IF(AND(SUM(D14:L14)=1,Q14=1),C14-SUM(D15:K15),ROUND(C14*L14,2)),"") | M15: =IF(M14>0,IF(AND(SUM(D14:M14)=1,Q14=1),C14-SUM(D15:L15),ROUND(C14*M14,2)),"") | N15: =IF(N14>0,IF(AND(SUM(D14:N14)=1,Q14=1),C14-SUM(D15:M15),ROUND(C14*N14,2)),"") | O15: =IF(O14>0,IF(AND(SUM(D14:O14)=1,Q14=1),C14-SUM(D15:N15),ROUND(C14*O14,2)),"") | P15: =IF(P14>0,IF(AND(SUM(D14:P14)=1,Q14=1),C14-SUM(D15:O15),ROUND(C14*P14,2)),"") | Q15: =SUM(D15:P15) -> 1738290.7
A16: 5 | B16: PAISAGISMO | C16: =RESUMO!D10 -> 57663.84 | M16: 1 | Q16: =SUM(D16:P16) -> 1
D17: =IF(D16>0,ROUND(C16*D16,2),"") | E17: =IF(E16>0,IF(AND(SUM(D16:E16)=1,Q16=1),C16-SUM(D17:D17),ROUND(C16*E16,2)),"") | F17: =IF(F16>0,IF(AND(SUM(D16:F16)=1,Q16=1),C16-SUM(D17:E17),ROUND(C16*F16,2)),"") | G17: =IF(G16>0,IF(AND(SUM(D16:G16)=1,Q16=1),C16-SUM(D17:F17),ROUND(C16*G16,2)),"") | H17: =IF(H16>0,IF(AND(SUM(D16:H16)=1,Q16=1),C16-SUM(D17:G17),ROUND(C16*H16,2)),"") | I17: =IF(I16>0,IF(AND(SUM(D16:I16)=1,Q16=1),C16-SUM(D17:H17),ROUND(C16*I16,2)),"") | J17: =IF(J16>0,IF(AND(SUM(D16:J16)=1,Q16=1),C16-SUM(D17:I17),ROUND(C16*J16,2)),"") | K17: =IF(K16>0,IF(AND(SUM(D16:K16)=1,Q16=1),C16-SUM(D17:J17),ROUND(C16*K16,2)),"") | L17: =IF(L16>0,IF(AND(SUM(D16:L16)=1,Q16=1),C16-SUM(D17:K17),ROUND(C16*L16,2)),"") | M17: =IF(M16>0,IF(AND(SUM(D16:M16)=1,Q16=1),C16-SUM(D17:L17),ROUND(C16*M16,2)),"") -> 57663.84 | N17: =IF(N16>0,IF(AND(SUM(D16:N16)=1,Q16=1),C16-SUM(D17:M17),ROUND(C16*N16,2)),"") | O17: =IF(O16>0,IF(AND(SUM(D16:O16)=1,Q16=1),C16-SUM(D17:N17),ROUND(C16*O16,2)),"") | P17: =IF(P16>0,IF(AND(SUM(D16:P16)=1,Q16=1),C16-SUM(D17:O17),ROUND(C16*P16,2)),"") | Q17: =SUM(D17:P17) -> 57663.84
A18: 6 | B18: SERVIÇOS FINAIS | C18: =RESUMO!D11 -> 11943.24 | E18: 0.2 | F18: 0.2 | G18: 0.2 | H18: 0.2 | J18: 0.2 | Q18: =SUM(D18:P18) -> 1
D19: =IF(D18>0,ROUND(C18*D18,2),"") | E19: =IF(E18>0,IF(AND(SUM(D18:E18)=1,Q18=1),C18-SUM(D19:D19),ROUND(C18*E18,2)),"") -> 2388.65 | F19: =IF(F18>0,IF(AND(SUM(D18:F18)=1,Q18=1),C18-SUM(D19:E19),ROUND(C18*F18,2)),"") -> 2388.65 | G19: =IF(G18>0,IF(AND(SUM(D18:G18)=1,Q18=1),C18-SUM(D19:F19),ROUND(C18*G18,2)),"") -> 2388.65 | H19: =IF(H18>0,IF(AND(SUM(D18:H18)=1,Q18=1),C18-SUM(D19:G19),ROUND(C18*H18,2)),"") -> 2388.65 | I19: =IF(I18>0,IF(AND(SUM(D18:I18)=1,Q18=1),C18-SUM(D19:H19),ROUND(C18*I18,2)),"") | J19: =IF(J18>0,IF(AND(SUM(D18:J18)=1,Q18=1),C18-SUM(D19:I19),ROUND(C18*J18,2)),"") -> 2388.64 | K19: =IF(K18>0,IF(AND(SUM(D18:K18)=1,Q18=1),C18-SUM(D19:J19),ROUND(C18*K18,2)),"") | L19: =IF(L18>0,IF(AND(SUM(D18:L18)=1,Q18=1),C18-SUM(D19:K19),ROUND(C18*L18,2)),"") | M19: =IF(M18>0,IF(AND(SUM(D18:M18)=1,Q18=1),C18-SUM(D19:L19),ROUND(C18*M18,2)),"") | N19: =IF(N18>0,IF(AND(SUM(D18:N18)=1,Q18=1),C18-SUM(D19:M19),ROUND(C18*N18,2)),"") | O19: =IF(O18>0,IF(AND(SUM(D18:O18)=1,Q18=1),C18-SUM(D19:N19),ROUND(C18*O18,2)),"") | P19: =IF(P18>0,IF(AND(SUM(D18:P18)=1,Q18=1),C18-SUM(D19:O19),ROUND(C18*P18,2)),"") | Q19: =SUM(D19:P19) -> 11943.24
C20: =SUM(C8:C19) -> 7237488.3 | D20: =SUM(D9,D11,D13,D15,D17,D19) -> 742677.8 | E20: =SUM(E9,E11,E13,E15,E17,E19) -> 817846.8 | F20: =SUM(F9,F11,F13,F15,F17,F19) -> 817846.8 | G20: =SUM(G9,G11,G13,G15,G17,G19) -> 817846.8 | H20: =SUM(H9,H11,H13,H15,H17,H19) -> 817846.8 | J20: =SUM(J9,J11,J13,J15,J17,J19) -> 817846.77 | K20: =SUM(K9,K11,K13,K15,K17,K19) -> 467800.01 | L20: =SUM(L9,L11,L13,L15,L17,L19) -> 467800.01 | M20: =SUM(M9,M11,M13,M15,M17,M19) -> 525463.85 | N20: =SUM(N9,N11,N13,N15,N17,N19) -> 467800.01 | O20: =SUM(O9,O11,O13,O15,O17,O19) -> 467800.03 | P20: =SUM(P9,P11,P13,P15,P17,P19) -> 8912.67 | Q20: =C20 -> 7237488.3
D21: =D20 -> 742677.8 | E21: =E20 -> 817846.8 | F21: =F20 -> 817846.8 | G21: =G20 -> 817846.8 | H21: =H20 -> 817846.8 | I21: =I20 -> 0 | J21: =J20 -> 817846.77 | K21: =K20 -> 467800.01 | ... P21: =P20 -> 8912.67
A23: CARLOS RAPHAEL MONTEIRO DE LEMOS ENGENHEIRO CIVIL | CREA-ES 011.840/D

Sheet PLANILHA ORCAMENTARIA
A1: PLANILHA ORÇAMENTÁRIA
B2: OBRA: Restauro da Igreja de Nossa Senhora da Conceição e Reforma da Praça Barbosa Leão, Serra Centro Serra/ES. | H2: DATA: 30/06/2026
B3: DESCRIÇÃO: Restauro da Igreja de Nossa Senhora da Conceição e Reforma da Praça Barbosa Leão | H3: BDI: 33,25% | Encargos Sociais: 157,27%
B4: LOCAL: Praça Barbosa Leão, Serra Centro, Serra - ES | CEP: 29176-050 | H4: DATA BASE: MARÇO/2026
B5: PROPONENTE: PREFEITURA MUNICIPAL DA SERRA
A6: ITEM | B6: FONTE | C6: CÓDIGO | D6: DESCRIÇÃO | E6: UNID | F6: QUANTIDADE | G6: PREÇO UNITÁRIO R$ | H6: PREÇO UNITÁRIO R$ | I6: PREÇO TOTAL R$
G7: SEM BDI | H7: COM BDI | I7: SEM BDI | J7: COM BDI
A8: 1 | D8: CANTEIRO DE OBRAS | I8: =ROUND(SUM(I9:I18),2) -> 591923.54 | J8: =ROUND(SUM(J9:J18),2) -> 788734.25 | N8: =SUM(J9:J18) -> 788734.25 | O8: =J8-N8 -> 0 | Q8: =F8*H8 -> 0
A9: 1.1 | B9: DER-ES | C9: 20305 | D9: Placa de obra nas dimensões de 2.0 x 4.0 m, padrão DER | E9: m2 | F9: 16 | G9: 241.93 | H9: =ROUND(G9*ROUND(1+(33.25/100),4),2) -> 322.37 | I9: =ROUND(ROUND(F9,2)*ROUND(G9,2),2) -> 3870.88 | J9: =ROUND(ROUND(F9,2)*ROUND(H9,2),2) -> 5157.92 | L9: =F9*H9 -> 5157.92 | O9: =J9-N9 -> 5157.92 | Q9: =F9*H9 -> 5157.92
A10: 1.2 | B10: SBC | C10: 11739 | D10: ADMINISTRACAO LOCAL DA OBRA | E10: Mês | F10: 6 | G10: 69025.65 | H10: =ROUND(G10*ROUND(1+(33.25/100),4),2) -> 91976.68 | I10: =ROUND(ROUND(F10,2)*ROUND(G10,2),2) -> 414153.9 | J10: =ROUND(ROUND(F10,2)*ROUND(H10,2),2) -> 551860.08 | L10: =F10*H10 -> 551860.08 | O10: =J10-N10 -> 551860.08 | Q10: =F10*H10 -> 551860.08
A11: 1.3 | B11: DER-ES | C11: 20702 | D11: Barracão para almoxarifado área de 10.90m2, de chapa de compensado de 12mm e pontalete 8x8cm, piso cimentado e cobertura de telhas de fibrocimento de 6mm, incl. ponto de luz, conf. projeto (1 utilização) | E11: m2 | F11: 19 | G11: 603.45 | H11: =ROUND(G11*ROUND(1+(33.25/100),4),2) -> 804.1 | I11: =ROUND(ROUND(F11,2)*ROUND(G11,2),2) -> 11465.55 | J11: =ROUND(ROUND(F11,2)*ROUND(H11,2),2) -> 15277.9 | L11: =F11*H11 -> 15277.9 | O11: =J11-N11 -> 15277.9 | Q11: =F11*H11 -> 15277.9
A12: 1.4 | B12: DER-ES | C12: 020704 | D12: Refeitório com paredes de chapa de compens. 12mm e pontaletes 8x8cm, piso ciment. e cob. de telhas fibroc. 6mm, incl. ponto de luz e cx. de inspeção (cons. 1.21 m2/func./turno), conf. projeto (1 utilização) | E12: m2 | F12: 24.2 | G12: 480.68 | H12: =ROUND(G12*ROUND(1+(33.25/100),4),2) -> 640.51 | I12: =ROUND(ROUND(F12,2)*ROUND(G12,2),2) -> 11632.46 | J12: =ROUND(ROUND(F12,2)*ROUND(H12,2),2) -> 15500.34 | O12: =J12-N12 -> 15500.34 | Q12: =F12*H12 -> 15500.342
A13: 1.5 | B13: DER-ES | C13: 20701 | D13: Barracão para escritório com sanitário área de 14.50 m2, de chapa de compens. 12mm e pontalete 8x8cm, piso cimentado e cobertura de telha de fibroc. 6mm, incl. ponto de luz e cx. de inspeção, conf. projeto (1 utilização) | E13: m2 | F13: 14.5 | G13: 876.88 | H13: =ROUND(G13*ROUND(1+(33.25/100),4),2) -> 1168.44 | I13: =ROUND(ROUND(F13,2)*ROUND(G13,2),2) -> 12714.76 | J13: =ROUND(ROUND(F13,2)*ROUND(H13,2),2) -> 16942.38 | L13: =F13*H13 -> 16942.38 | O13: =J13-N13 -> 16942.38 | Q13: =F13*H13 -> 16942.38
A14: 1.6 | B14: DER-ES | C14: 20355 | D14: Aluguel mensal container sanitário, incl porta, básc, 2 ptos luz, 1 pto aterram., 3vasos, 3lavatórios, calha mictório, 6 chuveiros (1 eletrico), torn.,registros, piso comp. Naval pintado, cert NR18 e laudo descontaminação | E14: ms | F14: 12 | G14: 1199.25 | H14: =ROUND(G14*ROUND(1+(33.25/100),4),2) -> 1598 | I14: =ROUND(ROUND(F14,2)*ROUND(G14,2),2) -> 14391 | J14: =ROUND(ROUND(F14,2)*ROUND(H14,2),2) -> 19176 | L14: =F14*H14 -> 19176 | O14: =J14-N14 -> 19176 | Q14: =F14*H14 -> 19176
A15: 1.7 | B15: DER-ES | C15: 20344 | D15: Mobilização e desmobilização de conteiner locado para barracão de obra | E15: und | F15: 1 | G15: 1766.67 | H15: =ROUND(G15*ROUND(1+(33.25/100),4),2) -> 2354.09 | I15: =ROUND(ROUND(F15,2)*ROUND(G15,2),2) -> 1766.67 | J15: =ROUND(ROUND(F15,2)*ROUND(H15,2),2) -> 2354.09 | L15: =F15*H15 -> 2354.09 | O15: =J15-N15 -> 2354.09 | Q15: =F15*H15 -> 2354.09
A16: 1.8 | B16: DER-ES | C16: 20350 | D16: Tapume Telha Metálica Ondulada em aço galvalume 0,50mm Branca h=2,20m, incl. montagem estr. mad. 8"x8", c/adesivo "DER-ES" 60x60cm a cada 10m, incl. faixas pint. esmalte sint. cores azul c/ h=30cm e rosa c/ h=10cm (Reaproveitamento 2x) | E16: m | F16: 698 | G16: 158.66 | H16: =ROUND(G16*ROUND(1+(33.25/100),4),2) -> 211.41 | I16: =ROUND(ROUND(F16,2)*ROUND(G16,2),2) -> 110744.68 | J16: =ROUND(ROUND(F16,2)*ROUND(H16,2),2) -> 147564.18 | L16: =F16*H16 -> 147564.18 | O16: =J16-N16 -> 147564.18 | Q16: =F16*H16 -> 147564.18
A17: 1.9 | B17: DER-ES | C17: 20346 | D17: Locação de andaime metálico para fachada - tipo torre (aluguel mensal) | E17: m | F17: 468 | G17: 21.78 | H17: =ROUND(G17*ROUND(1+(33.25/100),4),2) -> 29.02 | I17: =ROUND(ROUND(F17,2)*ROUND(G17,2),2) -> 10193.04 | J17: =ROUND(ROUND(F17,2)*ROUND(H17,2),2) -> 13581.36 | L17: =F17*H17 -> 13581.36 | O17: =J17-N17 -> 13581.36 | Q17: =F17*H17 -> 13581.36
A18: 1.10 | B18: PRÓPRIA | C18: RES-018 | D18: Restauro - Cobertura provisória p/ proteção de fachadas, executadas sobre andaimes existentes ao longo do passeio, com telha fibrocimento 4mm, apoiada em peças mistas 7,5 x 7,5cm, utilização = 2 vezes (Não incluido o custo c/ o andaime) | E18: m | F18: 30 | G18: 33.02 | H18: =ROUND(G18*ROUND(1+(33.25/100),4),2) -> 44 | I18: =ROUND(ROUND(F18,2)*ROUND(G18,2),2) -> 990.6 | J18: =ROUND(ROUND(F18,2)*ROUND(H18,2),2) -> 1320 | L18: =F18*H18 -> 1320 | O18: =J18-N18 -> 1320 | Q18: =F18*H18 -> 1320
A19: 2 | D19: SERVIÇOS PRELIMINARES | I19: =ROUND(I20+I336+I344,2) -> 105602.59 | J19: =ROUND(J20,2) -> 51983.22 | L19: =F19*H19 -> 0 | O19: =J19-N19 -> 51983.22 | Q19: =F19*H19 -> 0
A20: 2.1 | D20: DEMOLIÇÕES E RETIRADAS | I20: =ROUND(SUM(I21:I34),2) -> 39012.19 | J20: =ROUND(SUM(J21:J34),2) -> 51983.22 | L20: =F20*H20 -> 0 | N20: =SUM(J21:J34) -> 51983.22 | O20: =J20-N20 -> 0 | Q20: =F20*H20 -> 0
A21: 2.1.1 | B21: SINAPI | C21: 97622 | D21: DEMOLIÇÃO DE ALVENARIA DE BLOCO FURADO, DE FORMA MANUAL, SEM REAPROVEITAMENTO. AF_09/2023 | E21: M3 | F21: 48.9 | G21: 75.82 | H21: =ROUND(G21*ROUND(1+(33.25/100),4),2) -> 101.03 | I21: =ROUND(ROUND(F21,2)*ROUND(G21,2),2) -> 3707.6 | J21: =ROUND(ROUND(F21,2)*ROUND(H21,2),2) -> 4940.37 | L21: =F21*H21 -> 4940.367 | O21: =J21-N21 -> 4940.37 | Q21: =F21*H21 -> 4940.367
A22: 2.1.2 | B22: DER-ES | C22: 10344 | D22: Demolição de lajes, em concreto armado, de forma mecanizada com martelete demolidor elétrico, sem reaproveitamento | E22: m3 | F22: 39.9 | G22: 95.82 | H22: =ROUND(G22*ROUND(1+(33.25/100),4),2) -> 127.68 | I22: =ROUND(ROUND(F22,2)*ROUND(G22,2),2) -> 3823.22 | J22: =ROUND(ROUND(F22,2)*ROUND(H22,2),2) -> 5094.43 | L22: =F22*H22 -> 5094.432 | O22: =J22-N22 -> 5094.43 | Q22: =F22*H22 -> 5094.432
A23: 2.1.3 | B23: SINAPI | C23: 97627 | D23: DEMOLIÇÃO DE PILARES E VIGAS EM CONCRETO ARMADO, DE FORMA MECANIZADA COM MARTELETE, SEM REAPROVEITAMENTO. AF_09/2023 | E23: M3 | F23: 12.9 | G23: 244.09 | H23: =ROUND(G23*ROUND(1+(33.25/100),4),2) -> 325.25 | I23: =ROUND(ROUND(F23,2)*ROUND(G23,2),2) -> 3148.76 | J23: =ROUND(ROUND(F23,2)*ROUND(H23,2),2) -> 4195.73 | L23: =F23*H23 -> 4195.725 | O23: =J23-N23 -> 4195.73 | Q23: =F23*H23 -> 4195.725
A24: 2.1.4 | B24: DER-ES | C24: 10325 | D24: Demolição manual de estrutura de madeira para telhado, sem reaproveitamento | E24: m2 | F24: 562.65 | G24: 7.82 | H24: =ROUND(G24*ROUND(1+(33.25/100),4),2) -> 10.42 | I24: =ROUND(ROUND(F24,2)*ROUND(G24,2),2) -> 4399.92 | J24: =ROUND(ROUND(F24,2)*ROUND(H24,2),2) -> 5862.81 | L24: =F24*H24 -> 5862.813 | O24: =J24-N24 -> 5862.81 | Q24: =F24*H24 -> 5862.813
A25: 2.1.5 | B25: DER-ES | C25: 10255 | D25: Remoção manual de telhas cerâmicas, tipo colonial, inclusive cumeeira, sem reaproveitamento | E25: m2 | F25: 562.65 | G25: 15.67 | H25: =ROUND(G25*ROUND(1+(33.25/100),4),2) -> 20.88 | I25: =ROUND(ROUND(F25,2)*ROUND(G25,2),2) -> 8816.73 | J25: =ROUND(ROUND(F25,2)*ROUND(H25,2),2) -> 11748.13 | L25: =F25*H25 -> 11748.132 | O25: =J25-N25 -> 11748.13 | Q25: =F25*H25 -> 11748.132
A26: 2.1.6 | B26: DER-ES | C26: 010240 | D26: Retirada manual de interruptores e tomadas, sem reaproveitamento | E26: und | F26: 80 | G26: 0.63 | H26: =ROUND(G26*ROUND(1+(33.25/100),4),2) -> 0.84 | I26: =ROUND(ROUND(F26,2)*ROUND(G26,2),2) -> 50.4 | J26: =ROUND(ROUND(F26,2)*ROUND(H26,2),2) -> 67.2 | O26: =J26-N26 -> 67.2 | Q26: =F26*H26 -> 67.2
A27: 2.1.7 | B27: DER-ES | C27: 010329 | D27: Retirada manual de disjuntor monofásico, bifásico ou trifásico, sem reaproveitamento | E27: und | F27: 18 | G27: 6.53 | H27: =ROUND(G27*ROUND(1+(33.25/100),4),2) -> 8.7 | I27: =ROUND(ROUND(F27,2)*ROUND(G27,2),2) -> 117.54 | J27: =ROUND(ROUND(F27,2)*ROUND(H27,2),2) -> 156.6 | O27: =J27-N27 -> 156.6 | Q27: =F27*H27 -> 156.6
A28: 2.1.8 | B28: DER-ES | C28: 10224 | D28: Retirada manual de grades, gradis, alambrados, cercas e portões metálicos, inclusive remoção de argamassa de chumbamento, acessórios de fixação e corte de soldas | E28: m2 | F28: 42.9 | G28: 13.14 | H28: =ROUND(G28*ROUND(1+(33.25/100),4),2) -> 17.51 | I28: =ROUND(ROUND(F28,2)*ROUND(G28,2),2) -> 563.71 | J28: =ROUND(ROUND(F28,2)*ROUND(H28,2),2) -> 751.18 | L28: =F28*H28 -> 751.179 | O28: =J28-N28 -> 751.18 | Q28: =F28*H28 -> 751.179
A29: 2.1.9 | B29: DER-ES | C29: 10214 | D29: Retirada manual de portas e janelas de madeira, inclusive batentes (marcos), sem reaproveitamento | E29: m2 | F29: 2.73 | G29: 23.54 | H29: =ROUND(G29*ROUND(1+(33.25/100),4),2) -> 31.37 | I29: =ROUND(ROUND(F29,2)*ROUND(G29,2),2) -> 64.26 | J29: =ROUND(ROUND(F29,2)*ROUND(H29,2),2) -> 85.64 | L29: =F29*H29 -> 85.6401 | O29: =J29-N29 -> 85.64 | Q29: =F29*H29 -> 85.6401
A30: 2.1.10 | B30: DER-ES | C30: 10226 | D30: Retirada de tanque em mármore sintético, cantoneiras de fixação, inclusive vedação dos pontos de esgoto e água fria, sem reaproveitamento | E30: und | F30: 2 | G30: 21.34 | H30: =ROUND(G30*ROUND(1+(33.25/100),4),2) -> 28.44 | I30: =ROUND(ROUND(F30,2)*ROUND(G30,2),2) -> 42.68 | J30: =ROUND(ROUND(F30,2)*ROUND(H30,2),2) -> 56.88 | L30: =F30*H30 -> 56.88 | O30: =J30-N30 -> 56.88 | Q30: =F30*H30 -> 56.88
A31: 2.1.11 | B31: DER-ES | C31: 10223 | D31: Retirada manual de louças sanitárias, inclusive vedação dos pontos de esgoto e água fria, sem reaproveitamento | E31: und | F31: 4 | G31: 13.74 | H31: =ROUND(G31*ROUND(1+(33.25/100),4),2) -> 18.31 | I31: =ROUND(ROUND(F31,2)*ROUND(G31,2),2) -> 54.96 | J31: =ROUND(ROUND(F31,2)*ROUND(H31,2),2) -> 73.24 | L31: =F31*H31 -> 73.24 | O31: =J31-N31 -> 73.24 | Q31: =F31*H31 -> 73.24
A32: 2.1.12 | B32: PRÓPRIA | C32: DEM-005 | D32: Retirada manual de caixa d'água, sem considerar o reaproveitamento do reservatório, inclusive remoção dos flanges, boia e vedação dos pontos de alimentação de água fria | E32: und | F32: 1 | G32: 67.16 | H32: =ROUND(G32*ROUND(1+(33.25/100),4),2) -> 89.49 | I32: =ROUND(ROUND(F32,2)*ROUND(G32,2),2) -> 67.16 | J32: =ROUND(ROUND(F32,2)*ROUND(H32,2),2) -> 89.49 | L32: =F32*H32 -> 89.49 | O32: =J32-N32 -> 89.49 | Q32: =F32*H32 -> 89.49
A33: 2.1.13 | B33: SINAPI | C33: 104790 | D33: DEMOLIÇÃO DE PISO DE CONCRETO SIMPLES, DE FORMA MECANIZADA COM MARTELETE, SEM REAPROVEITAMENTO. AF_09/2023 | E33: M3 | F33: 9.27 | G33: 129.32 | H33: =ROUND(G33*ROUND(1+(33.25/100),4),2) -> 172.32 | I33: =ROUND(ROUND(F33,2)*ROUND(G33,2),2) -> 1198.8 | J33: =ROUND(ROUND(F33,2)*ROUND(H33,2),2) -> 1597.41 | L33: =F33*H33 -> 1597.4064 | O33: =J33-N33 -> 1597.41 | Q33: =F33*H33 -> 1597.4064
A34: 2.1.14 | B34: DER-ES | C34: 30304 | D34: Índice de preço para remoção de entulho decorrente da execução de obras (Classe A CONAMA - NBR 10.004 - Classe II-B), incluindo aluguel da caçamba, carga, transporte e descarga em área licenciada | E34: m3 | F34: 145.48 | G34: 89.06 | H34: =ROUND(G34*ROUND(1+(33.25/100),4),2) -> 118.67 | I34: =ROUND(ROUND(F34,2)*ROUND(G34,2),2) -> 12956.45 | J34: =ROUND(ROUND(F34,2)*ROUND(H34,2),2) -> 17264.11 | L34: =F34*H34 -> 17264.112 | O34: =J34-N34 -> 17264.11 | Q34: =F34*H34 -> 17264.112
A35: 3 | D35: IGREJA | I35: =ROUND(I36+I40+I46+I55+I61+I74+I92+I96+I210,2) -> 3115886.6 | J35: =ROUND(J36+J40+J46+J55+J61+J74+J92+J96+J210+J101+J135+J151+J172+J189+J198,2) -> 4588873.1 | L35: =F35*H35 -> 0 | O35: =J35-N35 -> 4588873.1 | Q35: =F35*H35 -> 0
A36: 3.1 | D36: PAREDES E PAINÉIS | I36: =ROUND(SUM(I37:I39),2) -> 70378.71 | J36: =ROUND(SUM(J37:J39),2) -> 93777.01 | L36: =F36*H36 -> 0 | N36: =SUM(J37:J39) -> 93777.01 | O36: =J36-N36 -> 0 | Q36: =F36*H36 -> 0
A37: 3.1.1 | B37: PRÓPRIA | C37: REV-002 | D37: PAREDE DRYWALL ESP.78MM,ESTRUT.MONTANTES AUTOPORTANTES 48MM,ESPACADAS ENTRE SI A CADA 400MM,GUIAS HORIZONTAIS 48MM,AMBOSACO GALV.ESP.0,5MM,C/DUAS CHAPAS GESSO ACARTONADO,RU(RESISTENTE A UMIDADE),ESP.15MM,LARG.1200MM,C/TRATAMENTO DE JUNTASC/MASSA E FITA P/UNIF.DA SUPERF.DAS CHAPAS DE GESSO ACARTONADO.APLICACAO EM AREA SECA E UMIDA.FORNECIMENTO E COLOCACAO | E37: M2 | F37: 11.55 | G37: 124.47 | H37: =ROUND(G37*ROUND(1+(33.25/100),4),2) -> 165.86 | I37: =ROUND(ROUND(F37,2)*ROUND(G37,2),2) -> 1437.63 | J37: =ROUND(ROUND(F37,2)*ROUND(H37,2),2) -> 1915.68 | L37: =F37*H37 -> 1915.683 | O37: =J37-N37 -> 1915.68 | Q37: =F37*H37 -> 1915.683
A38: 3.1.2 | B38: DER-ES | C38: 120303 | D38: Reboco tipo paulista de argamassa de cimento, cal hidratada CH1 e areia média ou grossa lavada no traço 1:0.5:6, espessura 25 mm | E38: m2 | F38: 626 | G38: 65.96 | H38: =ROUND(G38*ROUND(1+(33.25/100),4),2) -> 87.89 | I38: =ROUND(ROUND(F38,2)*ROUND(G38,2),2) -> 41290.96 | J38: =ROUND(ROUND(F38,2)*ROUND(H38,2),2) -> 55019.14 | L38: =F38*H38 -> 55019.14 | O38: =J38-N38 -> 55019.14 | Q38: =F38*H38 -> 55019.14
A39: 3.1.3 | B39: DER-ES | C39: 50605 | D39: Alvenaria de vedação com blocos cerâmicos furados 9x19x19cm, assentados c/ argamassa de cimento, cal hidratada CH1 e areia no traço 1:0,5:8, preparo com betoneira, juntas 10mm e esp. das paredes s/revestimento, 9cm (bloco comprado na praça de Vitória, posto obra) | E39: m2 | F39: 389 | G39: 71.08 | H39: =ROUND(G39*ROUND(1+(33.25/100),4),2) -> 94.71 | I39: =ROUND(ROUND(F39,2)*ROUND(G39,2),2) -> 27650.12 | J39: =ROUND(ROUND(F39,2)*ROUND(H39,2),2) -> 36842.19 | L39: =F39*H39 -> 36842.19 | O39: =J39-N39 -> 36842.19 | Q39: =F39*H39 -> 36842.19
A40: 3.2 | D40: REVESTIMENTOS DE PAREDES | I40: =ROUND(SUM(I41:I45),2) -> 105651.38 | J40: =ROUND(SUM(J41:J45),2) -> 140783.65 | L40: =F40*H40 -> 0 | N40: =SUM(J41:J45) -> 140783.65 | O40: =J40-N40 -> 0 | Q40: =F40*H40 -> 0
...

Sheet MEMORIA DE CALCULO
A1: MEMÓRIA DE CÁLCULO
B2: OBRA: Restauro da Igreja de Nossa Senhora da Conceição e Reforma da Praça Barbosa Leão, Serra Centro Serra/ES. | G2: DATA: 30/06/2026
B3: DESCRIÇÃO: Restauro da Igreja de Nossa Senhora da Conceição e Reforma da Praça Barbosa Leão | G3: BDI: 33,25% | Encargos Sociais: 157,27%
B4: LOCAL: Praça Barbosa Leão, Serra Centro, Serra - ES | CEP: 29176-050 | G4: DATA BASE: MARÇO/2026
B5: PROPONENTE: PREFEITURA MUNICIPAL DA SERRA | G5: CARLOS RAPHAEL MONTEIRO DE LEMOS ENGENHEIRO CIVIL | CREA-ES 011.840/D
A6: 1. ​CANTEIRO DE OBRAS
A8: 1.1. ​S020305​ Placa de obra nas dimensões de 2.0 x 4.0 m, padrão DER​ (m2)
D9: QTD
A10: PLACA - IDENTIFICAÇÃO DE OBRA | B10: 1 | C10: 16 | D10: 16
D11: 16
D13: ="TOTAL DA MEMÓRIA DE CÁLCULO: "&TEXT(ROUND(SUM(D11),2),"0,00") -> TOTAL DA MEMÓRIA DE CÁLCULO: 16,00
A15: 1.2. ​S020702​ Barracão para almoxarifado área de 10.90m2, de chapa de compensado de 12mm e pontalete 8x8cm, piso cimentado e cobertura de telhas de fibrocimento de 6mm, incl. ponto de luz, conf. projeto (1 utilização)​ (m2)
D16: QTD
A17: 1 BARRACÃO | B17: 10,90 | C17: 10.9 | D17: =ROUND(10.9,2) -> 10.9
D18: =ROUND(SUM(D17:D17),2) -> 10.9
D20: ="TOTAL DA MEMÓRIA DE CÁLCULO: "&TEXT(ROUND(SUM(D18),2),"0,00") -> TOTAL DA MEMÓRIA DE CÁLCULO: 10,90
A22: 1.3. ​S020704​ Refeitório com paredes de chapa de compens. 12mm e pontaletes 8x8cm, piso ciment. e cob. de telhas fibroc. 6mm, incl. ponto de luz e cx. de inspeção (cons. 1.21 m2/func./turno), conf. projeto (1 utilização)
D23: QTD
A24: 1 REFEITORIO | B24: 24.2 | C24: 24.2 | D24: 24.2
D25: =ROUND(SUM(D24:D24),2) -> 24.2
D27: ="TOTAL DA MEMÓRIA DE CÁLCULO: "&TEXT(ROUND(SUM(D25),2),"0,00") -> TOTAL DA MEMÓRIA DE CÁLCULO: 24,20
A29: 1.4. ​S020701​ Barracão para escritório com sanitário área de 14.50 m2, de chapa de compens. 12mm e pontalete 8x8cm, piso cimentado e cobertura de telha de fibroc. 6mm, incl. ponto de luz e cx. de inspeção, conf. projeto (1 utilização)​ (m2)
D30: QTD
A31: 1 BARRACÃO | B31: 14,50 | C31: 14.5 | D31: =ROUND(14.5,2) -> 14.5
D32: =ROUND(SUM(D31:D31),2) -> 14.5
D34: ="TOTAL DA MEMÓRIA DE CÁLCULO: "&TEXT(ROUND(SUM(D32),2),"0,00") -> TOTAL DA MEMÓRIA DE CÁLCULO: 14,50
A36: 1.5. ​S020355​ Aluguel mensal container sanitário, incl porta, básc, 2 ptos luz, 1 pto aterram., 3vasos, 3lavatórios, calha mictório, 6 chuveiros (1 eletrico), torn.,registros, piso comp. Naval pintado, cert NR18 e laudo descontaminação​ (ms)
D37: QTD
A38: 12 MESES | B38: 12 | C38: 12 | D38: =ROUND(12,2) -> 12
D39: =ROUND(SUM(D38:D38),2) -> 12
D41: ="TOTAL DA MEMÓRIA DE CÁLCULO: "&TEXT(ROUND(SUM(D39),2),"0,00") -> TOTAL DA MEMÓRIA DE CÁLCULO: 12,00
A43: 1.6. ​S020344​ Mobilização e desmobilização de conteiner locado para barracão de obra​ (und)
D44: QTD
A45: container sanitário | B45: 1 | C45: 1 | D45: =ROUND(1,2) -> 1
D46: =ROUND(SUM(D45:D45),2) -> 1
D48: ="TOTAL DA MEMÓRIA DE CÁLCULO: "&TEXT(ROUND(SUM(D46),2),"0,00") -> TOTAL DA MEMÓRIA DE CÁLCULO: 1,00
A50: 1.7. ​S020350​ Tapume Telha Metálica Ondulada em aço galvalume 0,50mm Branca h=2,20m, incl. montagem estr. mad. 8"x8", c/adesivo "DER-ES" 60x60cm a cada 10m, incl. faixas pint. esmalte sint. cores azul c/ h=30cm e rosa c/ h=10cm (Reaproveitamento 2x)​ (m)
A51: PRAÇA 1 | D51: QTD
A52: PERÍMETRO | B52: 201,53 | C52: 201.53 | D52: =ROUND(201.53,2) -> 201.53
A54: PRAÇA 1 | D54: =ROUND(SUM(D52:D53),2) -> 201.53
...

Sheet SINTETICO PROPRIAS
A1: SINTETICO PRÓPRIAS
B2: OBRA: Restauro da Igreja de Nossa Senhora da Conceição e Reforma da Praça Barbosa Leão, Serra Centro Serra/ES. | E2: DATA: 30/06/2026
B3: DESCRIÇÃO: Restauro da Igreja de Nossa Senhora da Conceição e Reforma da Praça Barbosa Leão | E3: BDI: 33,25% | Encargos Sociais: 157,27%
B4: LOCAL: Praça Barbosa Leão, Serra Centro, Serra - ES | CEP: 29176-050 | E4: DATA BASE: MARÇO/2026
B5: PROPONENTE: PREFEITURA MUNICIPAL DA SERRA
A6: CÓDIGO | B6: DESCRIÇÃO | C6: FONTE | D6: UND | E6: QUANTIDADE | F6: PREÇO UNITÁRIO R$ | G6: PREÇO TOTAL R$
A7: CAB-001 | B7: Antena WI-FI dual band access point, bandas simultâneas - 1750Mbps | C7: PRÓPRIA | D7: UN | E7: 6 | F7: 893.43 | G7: =ROUND(ROUND(E7,2)*ROUND(F7,2),2) -> 5360.58
A8: SER-002 | B8: Aplicação de neutralizador de ferrugem, com duas demãos, e Remoção de ferrugem em esquadrias ou estruturas metálicas com escova de aço. | C8: PRÓPRIA | D8: m2 | E8: 0.04 | F8: 73.89 | G8: =ROUND(ROUND(E8,2)*ROUND(F8,2),2) -> 2.96
A9: URB-020 | B9: BANCO DE MADEIRA DE MACARANDUBA EM RIPAS DE (1,5X4)CM, FIXADAS EM ESTRUTURA DE (7, 50X3, 75)CM, COM VERNIZ. TUDO INCLUÍDO. | C9: PRÓPRIA | D9: UND | E9: 2 | F9: 939.94 | G9: =ROUND(ROUND(E9,2)*ROUND(F9,2),2) -> 1879.88
A10: PPCI-001 | B10: BLOCO AUTÔNOMO DE ILUMINAÇÃO DE EMERGÊNCIA COM DOIS REFLETORES | C10: PRÓPRIA | D10: UN | E10: 39 | F10: 267.31 | G10: =ROUND(ROUND(E10,2)*ROUND(F10,2),2) -> 10425.09
A11: ACE-002 | B11: Bancada de granito tipo Branco Siena, com espessura de 2 cm, com acabamento polido, inclusive chumbamento na alvenaria, exclusive cantoneira de apoio. Saia h=10cm e rodabanca h=10cm. Tudo incluído. | C11: PRÓPRIA | D11: m2 | E11: 2.21 | F11: 825.2 | G11: =ROUND(ROUND(E11,2)*ROUND(F11,2),2) -> 1823.69
A12: CLI-003 | B12: CORTINA DE AR COM DUAS VELOCIDADES, PARA VAO DE 1, 50M.FORNECIMENTO E COLOCACÃO. | C12: PRÓPRIA | D12: UN | E12: 2 | F12: 750.01 | G12: =ROUND(ROUND(E12,2)*ROUND(F12,2),2) -> 1500.02
A13: CAB-004 | B13: CURVA 90 GRAUS PARA ELETRODUTO, PVC, ROSCÁVEL, DN 32 MM (1"), PARA CIRCUITOS TERMINAIS - FORNECIMENTO E INSTALAÇÃO. | C13: PRÓPRIA | D13: UN | E13: 20 | F13: 22.81 | G13: =ROUND(ROUND(E13,2)*ROUND(F13,2),2) -> 456.2
A14: ELE-011 | B14: Caixa de embutir marca de referência Tigreflex, 4x4" OCTOGONAL | C14: PRÓPRIA | D14: und | E14: 135 | F14: 16.72 | G14: =ROUND(ROUND(E14,2)*ROUND(F14,2),2) -> 2257.2
A15: ELE-012 | B15: Caixa de passagem com tampão ferro fundido, 300×300×300mm | C15: PRÓPRIA | D15: und | E15: 8 | F15: 188.11 | G15: =ROUND(ROUND(E15,2)*ROUND(F15,2),2) -> 1504.88
A16: DEM-004 | B16: DEMOLICÃO MANUAL DE PISO INTERTRAVADO COM EMPILHAMENTO | C16: PRÓPRIA | D16: m2 | E16: 1181.5 | F16: 2.56 | G16: =ROUND(ROUND(E16,2)*ROUND(F16,2),2) -> 3024.64
A17: DEM-003 | B17: DEMOLIÇÃO DE CALÇADA PORTUGUESA. | C17: PRÓPRIA | D17: M2 | E17: 869.67 | F17: 6.22 | G17: =ROUND(ROUND(E17,2)*ROUND(F17,2),2) -> 5409.35
A18: ELE-015 | B18: DISJUNTOR BIPOLAR TIPO DIN, CORRENTE NOMINAL DE 63A - FORNECIMENTO E INSTALAÇÃO. | C18: PRÓPRIA | D18: UN | E18: 1 | F18: 58.26 | G18: =ROUND(ROUND(E18,2)*ROUND(F18,2),2) -> 58.26
... A59: SPDA-002 | B59: Terminal aéreo em aço galvanizado 3/8" x 50cm, com fixação horizontal | C59: PRÓPRIA | D59: un | E59: 1 | F59: 30.86 | G59: =ROUND(ROUND(E59,2)*ROUND(F59,2),2) -> 30.86
A61: CARLOS RAPHAEL MONTEIRO DE LEMOS ENGENHEIRO CIVIL | CREA-ES 011.840/D | G61: =ROUND(ROUND(E61,2)*ROUND(F61,2),2) -> 0

Sheet COMPOSICOES PROPRIAS
A1: COMPOSIÇÕES DE CUSTOS PRÓPRIAS
B2: OBRA: Restauro da Igreja de Nossa Senhora da Conceição e Reforma da Praça Barbosa Leão, Serra Centro Serra/ES. | H2: DATA: 30/06/2026
B3: DESCRIÇÃO: Restauro da Igreja de Nossa Senhora da Conceição e Reforma da Praça Barbosa Leão | H3: BDI: 33,25% | Encargos Sociais: 157,27%
B4: LOCAL: Praça Barbosa Leão, Serra Centro, Serra - ES | CEP: 29176-050 | H4: DATA BASE: MARÇO/2026
A5: PROPONENTE: PREFEITURA MUNICIPAL DA SERRA
A6: ​RES-018​ Restauro - Cobertura provisória p/ proteção de fachadas, executadas sobre andaimes existentes ao longo do passeio, com telha fibrocimento 4mm, apoiada em peças mistas 7,5 x 7,5cm, utilização = 2 vezes (Não incluido o custo c/ o andaime)​ (m)
A7: Material | C7: FONTE | E7: UNID | F7: COEFICIENTE | G7: PREÇO UNITÁRIO | H7: TOTAL
A8: I027003 | B8: ARAME GALVANIZADO N.12 BWG | C8: DER-ES EDIF | E8: KG | F8: 0.1 | G8: 14.37 | H8: =ROUND(ROUND(F8,8)*G8,2) -> 1.44
A9: I01607S | B9: Conjunto arruelas de vedacao 5/16" para telha fibrocimento (uma arruela metalica e uma arruela pvc - conicas) | C9: ORSE | E9: cj | F9: 0.71 | G9: 0.28 | H9: =ROUND(ROUND(F9,8)*G9,2) -> 0.2
A10: I01569 | B10: Madeira mista serrada (barrote) 6 x 6cm - 0,0036 m3/m (angelim, louro) | C10: ORSE | E10: m | F10: 1.1 | G10: 6.69 | H10: =ROUND(ROUND(F10,8)*G10,2) -> 7.36
A11: I04299S | B11: Parafuso zincado rosca soberba, cabeca sextavada, 5/16" x 110 mm, para fixacao de telha em madeira | C11: ORSE | E11: un | F11: 0.71 | G11: 1.5 | H11: =ROUND(ROUND(F11,8)*G11,2) -> 1.07
A12: I02193 | B12: Telha fibrocimento ondulada, dim: 2,44 x 0,50m, esp=4 mm, s/ acessorios | C12: ORSE | E12: m2 | F12: 0.59 | G12: 21.85 | H12: =ROUND(ROUND(F12,8)*G12,2) -> 12.89
F13: TOTAL Material: | H13: =SUM(H8:H12) -> 22.96
A14: Mão de Obra | C14: FONTE | E14: UNID | F14: COEFICIENTE | G14: PREÇO UNITÁRIO | H14: TOTAL
A15: I010111 | B15: CARPINTEIRO (OFICIAL - SINDUSCON) | C15: DER-ES EDIF | E15: H | F15: 0.22 | G15: 26.03 | H15: =ROUND(ROUND(F15,8)*G15,2) -> 5.73
A16: I010146 | B16: SERVENTE (AUXILIAR DE OBRAS - SINDUSCON) | C16: DER-ES EDIF | E16: H | F16: 0.22 | G16: 19.68 | H16: =ROUND(ROUND(F16,8)*G16,2) -> 4.33
F17: TOTAL Mão de Obra: | H17: =SUM(H15:H16) -> 10.06
A18: Observações: COPIA ORSE - SE - 2026/03 (REF: 05/2026) 51291 - S08626 | F18: VALOR: | H18: 33.02
A20: ​DEM-005​ Retirada manual de caixa d'água, sem considerar o reaproveitamento do reservatório, inclusive remoção dos flanges, boia e vedação dos pontos de alimentação de água fria​ (und)
A21: MÃO DE OBRA | E21: UNID | F21: CONSUMO | G21: SALÁRIO HORA | H21: CUSTO HORÁRIO
A22: I010101 | B22: AJUDANTE (AJUDANTE PRATICO - SINDUSCON) | E22: H | F22: 1.4 | G22: 21.94 | H22: =ROUND(ROUND(F22,8)*G22,2) -> 30.72
A23: I010118 | B23: ENCANADOR (OFICIAL - SINDUSCON) | E23: H | F23: 1.4 | G23: 26.03 | H23: =ROUND(ROUND(F23,8)*G23,2) -> 36.44
F24: TOTAL MÃO DE OBRA: | H24: =SUM(H22:H23) -> 67.16
F25: Custo Horário da Execução: | H25: =SUM(H24) -> 67.16
F26: Produção da Equipe: | H26: 1
F27: Custo Unitário da Execução: | H27: =ROUND(H25/H26,4) -> 67.16
F28: Custo Direto Total: | H28: =SUM(H27) -> 67.16
A29: Observações: COPIA IOPES - ES - 2026/01 (REF: 03/2026) 50803 S010227 | F29: VALOR: | H29: 67.16
A31: ​DEM-003​ DEMOLIÇÃO DE CALÇADA PORTUGUESA.​ (M2)
A32: Mão de Obra | C32: FONTE | E32: UNID | F32: COEFICIENTE | G32: PREÇO UNITÁRIO | H32: TOTAL
A33: I010139 | B33: PEDREIRO (OFICIAL - SINDUSCON) | C33: DER-ES EDIF | E33: H | F33: 0.05 | G33: 26.03 | H33: =ROUND(ROUND(F33,8)*G33,2) -> 1.3
A34: I010146 | B34: SERVENTE (AUXILIAR DE OBRAS - SINDUSCON) | C34: DER-ES EDIF | E34: H | F34: 0.25 | G34: 19.68 | H34: =ROUND(ROUND(F34,8)*G34,2) -> 4.92
F35: TOTAL Mão de Obra: | H35: =SUM(H33:H34) -> 6.22
A36: Observações: COPIA SUDECAP - MG - 2026/01 SEM DESONERAÇÃO (REF: 03/2026) 50806 02.11.03 | F36: VALOR: | H36: 6.22
A38: ​DEM-004​ DEMOLICÃO MANUAL DE PISO INTERTRAVADO COM EMPILHAMENTO​ (m2)
A39: Mão de Obra | C39: FONTE | E39: UNID | F39: COEFICIENTE | G39: PREÇO UNITÁRIO | H39: TOTAL
A40: I010139 | B40: PEDREIRO (OFICIAL - SINDUSCON) | C40: DER-ES EDIF | E40: H | F40: 0.056 | G40: 26.03 | H40: =ROUND(ROUND(F40,8)*G40,2) -> 1.46
A41: I010146 | B41: SERVENTE (AUXILIAR DE OBRAS - SINDUSCON) | C41: DER-ES EDIF | E41: H | F41: 0.056 | G41: 19.68 | H41: =ROUND(ROUND(F41,8)*G41,2) -> 1.1
F42: TOTAL Mão de Obra: | H42: =SUM(H40:H41) -> 2.56
A43: Observações: COPIA GOINFRA CIVIL - GO - T327 2025/12 SEM DESONERAÇÃO (REF: 03/2026) 50633 020126 | F43: VALOR: | H43: 2.56
...

Sheet COMPOSICOES AUXILIARES
A1: COMPOSIÇÕES DE CUSTOS AUXILIARES
B2: OBRA: Restauro da Igreja de Nossa Senhora da Conceição e Reforma da Praça Barbosa Leão, Serra Centro Serra/ES. | J2: DATA: 30/06/2026
B3: DESCRIÇÃO: Restauro da Igreja de Nossa Senhora da Conceição e Reforma da Praça Barbosa Leão | J3: BDI: 33,25% | Encargos Sociais: 157,27%
B4: LOCAL: Praça Barbosa Leão, Serra Centro, Serra - ES | CEP: 29176-050 | J4: DATA BASE: MARÇO/2026
B5: PROPONENTE: PREFEITURA MUNICIPAL DA SERRA
A6: ​88238​ AJUDANTE DE ARMADOR COM ENCARGOS COMPLEMENTARES​ (H)
A7: Encargos Complementares | D7: FONTE | G7: UNID | H7: COEFICIENTE | J7: PREÇO UNITÁRIO | L7: TOTAL
A8: 00037370 | B8: ALIMENTACAO - HORISTA (COLETADO CAIXA - ENCARGOS COMPLEMENTARES) | D8: SINAPI | G8: H | H8: 1 | J8: 7.63 | L8: =TRUNC(TRUNC(H8,8)*J8,2) -> 7.63
A9: 00043489 | B9: EPI - FAMILIA PEDREIRO - HORISTA (ENCARGOS COMPLEMENTARES - COLETADO CAIXA) | D9: SINAPI | G9: H | H9: 1 | J9: 1.28 | L9: =TRUNC(TRUNC(H9,8)*J9,2) -> 1.28
A10: 00037372 | B10: EXAMES - HORISTA (COLETADO CAIXA - ENCARGOS COMPLEMENTARES) | D10: SINAPI | G10: H | H10: 1 | J10: 1.62 | L10: =TRUNC(TRUNC(H10,8)*J10,2) -> 1.62
A11: 00043465 | B11: FERRAMENTAS - FAMILIA PEDREIRO - HORISTA (ENCARGOS COMPLEMENTARES - COLETADO CAIXA) | D11: SINAPI | G11: H | H11: 1 | J11: 0.68 | L11: =TRUNC(TRUNC(H11,8)*J11,2) -> 0.68
A12: 00037373 | B12: SEGURO - HORISTA (COLETADO CAIXA - ENCARGOS COMPLEMENTARES) | D12: SINAPI | G12: H | H12: 1 | J12: 0.11 | L12: =TRUNC(TRUNC(H12,8)*J12,2) -> 0.11
A13: 00037371 | B13: TRANSPORTE - HORISTA (COLETADO CAIXA - ENCARGOS COMPLEMENTARES) | D13: SINAPI | G13: H | H13: 1 | J13: 0.66 | L13: =TRUNC(TRUNC(H13,8)*J13,2) -> 0.66
H14: TOTAL Encargos Complementares: | L14: =SUM(L8:L13) -> 11.98
A15: Mão de Obra | D15: FONTE | G15: UNID | H15: COEFICIENTE | J15: PREÇO UNITÁRIO | L15: TOTAL
A16: 00006114 | B16: AJUDANTE DE ARMADOR (HORISTA) | D16: SINAPI | G16: H | H16: 1 | J16: 18.94 | L16: =TRUNC(TRUNC(H16,8)*J16,2) -> 18.94
H17: TOTAL Mão de Obra: | L17: =SUM(L16:L16) -> 18.94
A18: Serviço | D18: FONTE | G18: UNID | H18: COEFICIENTE | J18: PREÇO UNITÁRIO | L18: TOTAL
A19: 95308 | B19: CURSO DE CAPACITAÇÃO PARA AJUDANTE DE ARMADOR (ENCARGOS COMPLEMENTARES) - HORISTA | D19: SINAPI | G19: H | H19: 1 | J19: 0.21 | L19: =TRUNC(TRUNC(H19,8)*J19,2) -> 0.21
H20: TOTAL Serviço: | L20: =SUM(L19:L19) -> 0.21
H21: VALOR: | L21: =ROUND(SUM(L14,L17,L20),2) -> 31.13
A23: ​88239​ AJUDANTE DE CARPINTEIRO COM ENCARGOS COMPLEMENTARES​ (H)
A24: Encargos Complementares | D24: FONTE | G24: UNID | H24: COEFICIENTE | J24: PREÇO UNITÁRIO | L24: TOTAL
A25: 00037370 | B25: ALIMENTACAO - HORISTA (COLETADO CAIXA - ENCARGOS COMPLEMENTARES) | D25: SINAPI | G25: H | H25: 1 | J25: 7.63 | L25: =TRUNC(TRUNC(H25,8)*J25,2) -> 7.63
A26: 00043483 | B26: EPI - FAMILIA CARPINTEIRO DE FORMAS - HORISTA (ENCARGOS COMPLEMENTARES - COLETADO CAIXA) | D26: SINAPI | G26: H | H26: 1 | J26: 1.26 | L26: =TRUNC(TRUNC(H26,8)*J26,2) -> 1.26
A27: 00037372 | B27: EXAMES - HORISTA (COLETADO CAIXA - ENCARGOS COMPLEMENTARES) | D27: SINAPI | G27: H | H27: 1 | J27: 1.62 | L27: =TRUNC(TRUNC(H27,8)*J27,2) -> 1.62
A28: 00043459 | B28: FERRAMENTAS - FAMILIA CARPINTEIRO DE FORMAS - HORISTA (ENCARGOS COMPLEMENTARES - COLETADO CAIXA) | D28: SINAPI | G28: H | H28: 1 | J28: 0.28 | L28: =TRUNC(TRUNC(H28,8)*J28,2) -> 0.28
A29: 00037373 | B29: SEGURO - HORISTA (COLETADO CAIXA - ENCARGOS COMPLEMENTARES) | D29: SINAPI | G29: H | H29: 1 | J29: 0.11 | L29: =TRUNC(TRUNC(H29,8)*J29,2) -> 0.11
A30: 00037371 | B30: TRANSPORTE - HORISTA (COLETADO CAIXA - ENCARGOS COMPLEMENTARES) | D30: SINAPI | G30: H | H30: 1 | J30: 0.66 | L30: =TRUNC(TRUNC(H30,8)*J30,2) -> 0.66
H31: TOTAL Encargos Complementares: | L31: =SUM(L25:L30) -> 11.56
A32: Mão de Obra | D32: FONTE | G32: UNID | H32: COEFICIENTE | J32: PREÇO UNITÁRIO | L32: TOTAL
A33: 00006117 | B33: CARPINTEIRO AUXILIAR (HORISTA) | D33: SINAPI | G33: H | H33: 1 | J33: 18.94 | L33: =TRUNC(TRUNC(H33,8)*J33,2) -> 18.94
H34: TOTAL Mão de Obra: | L34: =SUM(L33:L33) -> 18.94
A35: Serviço | D35: FONTE | G35: UNID | H35: COEFICIENTE | J35: PREÇO UNITÁRIO | L35: TOTAL
A36: 95309 | B36: CURSO DE CAPACITAÇÃO PARA AJUDANTE DE CARPINTEIRO (ENCARGOS COMPLEMENTARES) - HORISTA | D36: SINAPI | G36: H | H36: 1 | J36: 0.27 | L36: =TRUNC(TRUNC(H36,8)*J36,2) -> 0.27
H37: TOTAL Serviço: | L37: =SUM(L36:L36) -> 0.27
H38: VALOR: | L38: =ROUND(SUM(L31,L34,L37),2) -> 30.77
A40: ​88243​ AJUDANTE ESPECIALIZADO COM ENCARGOS COMPLEMENTARES​ (H)
A41: Encargos Complementares | D41: FONTE | G41: UNID | H41: COEFICIENTE | J41: PREÇO UNITÁRIO | L41: TOTAL
A42: 00037370 | B42: ALIMENTACAO - HORISTA (COLETADO CAIXA - ENCARGOS COMPLEMENTARES) | D42: SINAPI | G42: H | H42: 1 | J42: 7.63 | L42: =TRUNC(TRUNC(H42,8)*J42,2) -> 7.63
...

Sheet COMPOSICOES
A1: COMPOSIÇÕES DE CUSTOS
B2: OBRA: Restauro da Igreja de Nossa Senhora da Conceição e Reforma da Praça Barbosa Leão, Serra Centro Serra/ES. | J2: DATA: 30/06/2026
B3: DESCRIÇÃO: Restauro da Igreja de Nossa Senhora da Conceição e Reforma da Praça Barbosa Leão | J3: BDI: 33,25% | Encargos Sociais: 157,27%
B4: LOCAL: Praça Barbosa Leão, Serra Centro, Serra - ES | CEP: 29176-050 | J4: DATA BASE: MARÇO/2026
B5: PROPONENTE: PREFEITURA MUNICIPAL DA SERRA
A6: ​S020305​ Placa de obra nas dimensões de 2.0 x 4.0 m, padrão DER​ (m2)
A7: MÃO DE OBRA | G7: UNID | H7: CONSUMO | J7: SALÁRIO HORA | L7: CUSTO HORÁRIO
A8: I010111 | B8: CARPINTEIRO (OFICIAL - SINDUSCON) | G8: H | H8: 0.5 | J8: 26.03 | L8: =TRUNC(TRUNC(H8,8)*J8,2) -> 13.01
A9: I010146 | B9: SERVENTE (AUXILIAR DE OBRAS - SINDUSCON) | G9: H | H9: 0.5 | J9: 19.68 | L9: =TRUNC(TRUNC(H9,8)*J9,2) -> 9.84
H10: TOTAL MÃO DE OBRA: | L10: =SUM(L8:L9) -> 22.85
H11: Custo Horário da Execução: | L11: =SUM(L10) -> 22.85
H12: Produção da Equipe: | L12: 1
H13: Custo Unitário da Execução: | L13: =TRUNC(L11/L12,4) -> 22.85
A14: MATERIAIS | G14: UNID | H14: CONSUMO | J14: VALOR UNITÁRIO | L14: CUSTO UNITÁRIO
A15: I039002 | B15: PLACA DE OBRA CHAPA DE AÇO Nº 22, REQUADRO EM METALON - IMPRESSÃO DIGITAL | G15: M2 | H15: 1 | J15: 203.33 | L15: =TRUNC(TRUNC(H15,8)*J15,2) -> 203.33
A16: I021009 | B16: PONTALETE DE MADEIRA BRUTA DE 3ª 8.0 X 8.0 CM | G16: M | H16: 1.5 | J16: 8.7 | L16: =TRUNC(TRUNC(H16,8)*J16,2) -> 13.05
A17: I026569 | B17: PREGO 18X27 | G17: KG | H17: 0.125 | J17: 13.65 | L17: =TRUNC(TRUNC(H17,8)*J17,2) -> 1.7
A18: I020985 | B18: SARRAFO DE MADEIRA PINUS 10 X 2.5CM | G18: M | H18: 0.25 | J18: 4.01 | L18: =TRUNC(TRUNC(H18,8)*J18,2) -> 1
H19: TOTAL MATERIAIS: | L19: =SUM(L15:L18) -> 219.08
H20: Custo Direto Total: | L20: =SUM(L13,L19) -> 241.93
H21: VALOR: | L21: =ROUND(SUM(L20),2) -> 241.93
A23: ​S020702​ Barracão para almoxarifado área de 10.90m2, de chapa de compensado de 12mm e pontalete 8x8cm, piso cimentado e cobertura de telhas de fibrocimento de 6mm, incl. ponto de luz, conf. projeto (1 utilização)​ (m2)
A24: MÃO DE OBRA | G24: UNID | H24: CONSUMO | J24: SALÁRIO HORA | L24: CUSTO HORÁRIO
A25: I010111 | B25: CARPINTEIRO (OFICIAL - SINDUSCON) | G25: H | H25: 1.506 | J25: 26.03 | L25: =TRUNC(TRUNC(H25,8)*J25,2) -> 39.2
A26: I010115 | B26: ELETRICISTA (OFICIAL - SINDUSCON) | G26: H | H26: 0.692175 | J26: 26.03 | L26: =TRUNC(TRUNC(H26,8)*J26,2) -> 18.01
A27: I010140 | B27: PINTOR (OFICIAL - SINDUSCON) | G27: H | H27: 2.1538 | J27: 26.03 | L27: =TRUNC(TRUNC(H27,8)*J27,2) -> 56.06
A28: I010146 | B28: SERVENTE (AUXILIAR DE OBRAS - SINDUSCON) | G28: H | H28: 4.64103 | J28: 19.68 | L28: =TRUNC(TRUNC(H28,8)*J28,2) -> 91.33
A29: I010150 | B29: TELHADISTA (OFICIAL - SINDUSCON) | G29: H | H29: 0.31552 | J29: 26.03 | L29: =TRUNC(TRUNC(H29,8)*J29,2) -> 8.21
H30: TOTAL MÃO DE OBRA: | L30: =SUM(L25:L29) -> 212.81
H31: Custo Horário da Execução: | L31: =SUM(L30) -> 212.81
H32: Produção da Equipe: | L32: 1
H33: Custo Unitário da Execução: | L33: =TRUNC(L31/L32,4) -> 212.81
A34: MATERIAIS | G34: UNID | H34: CONSUMO | J34: VALOR UNITÁRIO | L34: CUSTO UNITÁRIO
A35: I048534 | B35: ABRACADEIRA EM ACO GALV. P/ AMARRACAO DE ELETRODUTOS, TIPO "U" SIMPLES - 3/4" | G35: UN | H35: 0.55 | J35: 0.55 | L35: =TRUNC(TRUNC(H35,8)*J35,2) -> 0.3
A36: I038001 | B36: AGUARRAS MINERAL - SUVINIL, CORAL OU EQUIVALENTE | G36: L | H36: 0.3916 | J36: 15.92 | L36: =TRUNC(TRUNC(H36,8)*J36,2) -> 6.23
A37: I020503 | B37: AREIA LAVADA MEDIA | G37: M3 | H37: 0.0354 | J37: 152 | L37: =TRUNC(TRUNC(H37,8)*J37,2) -> 5.38
A38: I048516 | B38: ARRUELA DE ALUMINIO FUNDIDO 3/4" - WETZEL OU EQUIVALENTE | G38: UN | H38: 0.27 | J38: 0.85 | L38: =TRUNC(TRUNC(H38,8)*J38,2) -> 0.22
A39: I049505 | B39: BOCAL PORCELANA C/ ROSCA P/ LAMPADA INCANDESCENTE | G39: UN | H39: 0.091 | J39: 2.46 | L39: =TRUNC(TRUNC(H39,8)*J39,2) -> 0.22
A40: I020519 | B40: BRITA 3 | G40: M3 | H40: 0.06 | J40: 180.54 | L40: =TRUNC(TRUNC(H40,8)*J40,2) -> 10.83
A41: I048502 | B41: BUCHA DE ALUMINIO FUNDIDO 3/4" C/ ROSCA BSP- WETZEL OU EQUIVALENTE | G41: UN | H41: 0.27 | J41: 1.61 | L41: =TRUNC(TRUNC(H41,8)*J41,2) -> 0.43
...

Sheet CURVA ABC SERVICOS
A1: CURVA ABC - SERVIÇOS
B2: OBRA: Restauro da Igreja de Nossa Senhora da Conceição e Reforma da Praça Barbosa Leão, Serra Centro Serra/ES. | G2: DATA: 30/06/2026
B3: DESCRIÇÃO: Restauro da Igreja de Nossa Senhora da Conceição e Reforma da Praça Barbosa Leão | G3: BDI: 33,25% | Encargos Sociais: 157,27%
B4: LOCAL: Praça Barbosa Leão, Serra Centro, Serra - ES | CEP: 29176-050 | G4: DATA BASE: MARÇO/2026
B5: PROPONENTE: PREFEITURA MUNICIPAL DA SERRA
A6: CÓDIGO | B6: DESCRIÇÃO | C6: FONTE | D6: TIPO | E6: UNIDADE | F6: QUANTIDADE | G6: PREÇO UNITÁRIO | H6: PREÇO TOTAL | I6: % | J6: ACUMUL. % | K6: CL
A7: S130230 | B7: Piso argamassa alta resistência tipo granilite ou equiv de qualidade comprovada, esp de 10mm, com juntas plástica em quadros de 1m, na cor natural, com acabamento anti-derrapante mecanizado, inclusive regularização e=3.0cm | C7: DER-ES EDIF | D7: Serviço | E7: m2 | F7: 1286.86 | G7: 195.7 | H7: =ROUND(F7*G7,2) -> 251838.5 | I7: =H7/VALOR_TOTAL*100 -> 3.4796395 | J7: =I7 -> 3.4796395 | K7: =IF(J7<=50,"A",IF(J7<=80,"B","C")) -> A
A8: 94993 | B8: EXECUÇÃO DE PASSEIO (CALÇADA) OU PISO DE CONCRETO COM CONCRETO MOLDADO IN LOCO, USINADO, ACABAMENTO CONVENCIONAL, ESPESSURA 6 CM, ARMADO. AF_08/2022 | C8: SINAPI | D8: Serviço | E8: M2 | F8: 1911.18 | G8: 111.88 | H8: =ROUND(F8*G8,2) -> 213822.82 | I8: =H8/VALOR_TOTAL*100 -> 2.9543788 | J8: =I8+J7 -> 6.4340182 | K8: =IF(J8<=50,"A",IF(J8<=80,"B","C")) -> A
A9: 104658 | B9: PISO PODOTÁTIL DE ALERTA OU DIRECIONAL, DE CONCRETO, ASSENTADO SOBRE ARGAMASSA. AF_03/2024 | C9: SINAPI | D9: Serviço | E9: M2 | F9: 639.83 | G9: 243.67 | H9: =ROUND(F9*G9,2) -> 155907.38 | I9: =H9/VALOR_TOTAL*100 -> 2.1541642 | J9: =I9+J8 -> 8.5881824 | K9: =IF(J9<=50,"A",IF(J9<=80,"B","C")) -> A
A10: S130230 | B10: Piso argamassa alta resistência tipo granilite ou equiv de qualidade comprovada, esp de 10mm, com juntas plástica em quadros de 1m, colorido com pó xadrez, com acabamento anti-derrapante mecanizado, inclusive regularização e=3.0cm | C10: IOPES | D10: Serviço | E10: m2 | F10: 624.32 | G10: 213.39 | H10: =ROUND(F10*G10,2) -> 133223.64 | I10: =H10/VALOR_TOTAL*100 -> 1.8407441 | J10: =I10+J9 -> 10.428926 | K10: =IF(J10<=50,"A",IF(J10<=80,"B","C")) -> A
A11: S020350 | B11: Tapume Telha Metálica Ondulada em aço galvalume 0,50mm Branca h=2,20m, incl. montagem estr. mad. 8"x8", c/adesivo "DER-ES" 60x60cm a cada 10m, incl. faixas pint. esmalte sint. cores azul c/ h=30cm e rosa c/ h=10cm (Reaproveitamento 2x) | C11: DER-ES EDIF | D11: Serviço | E11: m | F11: 457.06 | G11: 211.41 | H11: =ROUND(F11*G11,2) -> 96627.05 | I11: =H11/VALOR_TOTAL*100 -> 1.3350909 | J11: =I11+J10 -> 11.764017 | K11: =IF(J11<=50,"A",IF(J11<=80,"B","C")) -> A
A12: RES-015 | B12: Piso em ladrilho hidráulico colorido/Mosaico colorido, 20 x 20 cm,aplicado com argamassa industrializada ac-i, rejuntado, exclusive regularização de base ou emboço | C12: PRÓPRIA | D12: Serviço | E12: m2 | F12: 111.98 | G12: 764.06 | H12: =ROUND(F12*G12,2) -> 85559.44 | I12: =H12/VALOR_TOTAL*100 -> 1.1821703 | J12: =I12+J11 -> 12.946188 | K12: =IF(J12<=50,"A",IF(J12<=80,"B","C")) -> A
A13: S200202 | B13: Assentamento de meio-fio pré-moldado de concreto com dimensões de 15 x 12 x 30 x 100 cm, rejuntado com argamassa de cimento e areia no traço 1:3 | C13: DER-ES EDIF | D13: Serviço | E13: m | F13: 831.4 | G13: 96.19 | H13: =ROUND(F13*G13,2) -> 79972.37 | I13: =H13/VALOR_TOTAL*100 -> 1.1049741 | J13: =I13+J12 -> 14.051162 | K13: =IF(J13<=50,"A",IF(J13<=80,"B","C")) -> A
A14: PAV-005 | B14: PISO DE BORRACHA 1X1M, ESPESSURA 15MM, ASSENTADO COM ARGAMASSA. COLORIDO. | C14: PRÓPRIA | D14: Serviço | E14: M2 | F14: 113.92 | G14: 498.3 | H14: =ROUND(F14*G14,2) -> 56766.34 | I14: =H14/VALOR_TOTAL*100 -> 0.78433757 | J14: =I14+J13 -> 14.835499 | K14: =IF(J14<=50,"A",IF(J14<=80,"B","C")) -> A
A15: S120303 | B15: Reboco tipo paulista de argamassa de cimento, cal hidratada CH1 e areia média ou grossa lavada no traço 1:0.5:6, espessura 25 mm | C15: DER-ES EDIF | D15: Serviço | E15: m2 | F15: 601.78 | G15: 87.89 | H15: =ROUND(F15*G15,2) -> 52890.44 | I15: =H15/VALOR_TOTAL*100 -> 0.73078446 | J15: =I15+J14 -> 15.566284 | K15: =IF(J15<=50,"A",IF(J15<=80,"B","C")) -> A
A16: RES-021 | B16: Restauro - Recuperação de esquadria de madeira de obras históricas c/ aproveitamento de 75%. | C16: PRÓPRIA | D16: Serviço | E16: m2 | F16: 89.5 | G16: 461.67 | H16: =ROUND(F16*G16,2) -> 41319.47 | I16: =H16/VALOR_TOTAL*100 -> 0.57090897 | J16: =I16+J15 -> 16.137193 | K16: =IF(J16<=50,"A",IF(J16<=80,"B","C")) -> A
A17: 4011276 | B17: Base ou sub-base de brita graduada com brita comercial - 100% Proctor modificado | C17: SICRO NOVO | D17: Serviço | E17: m³ | F17: 114.67 | G17: 349.43 | H17: =ROUND(F17*G17,2) -> 40069.14 | I17: =H17/VALOR_TOTAL*100 -> 0.55363322 | J17: =I17+J16 -> 16.690826 | K17: =IF(J17<=50,"A",IF(J17<=80,"B","C")) -> A
A18: S160707 | B18: Pintura com tinta látex PVA Suvinil, Coral ou Metalatex, inclusive selador em paredes internas e forros a três demãos | C18: DER-ES EDIF | D18: Serviço | E18: m2 | F18: 909.07 | G18: 41.03 | H18: =ROUND(F18*G18,2) -> 37299.14 | I18: =H18/VALOR_TOTAL*100 -> 0.51536028 | J18: =I18+J17 -> 17.206186 | K18: =IF(J18<=50,"A",IF(J18<=80,"B","C")) -> A
A19: 100620 | B19: POSTE DE AÇO CÔNICO CONTÍNUO CURVO SIMPLES, FLANGEADO, H=9M - FORNECIMENTO E INSTALAÇÃO. AF_04/2025 | C19: SINAPI | D19: Serviço | E19: UN | F19: 10 | G19: 3721.11 | H19: =ROUND(F19*G19,2) -> 37211.1 | I19: =H19/VALOR_TOTAL*100 -> 0.51414383 | J19: =I19+J18 -> 17.72033 | K19: =IF(J19<=50,"A",IF(J19<=80,"B","C")) -> A
... A185: SER-002 | B185: Aplicação de neutralizador de ferrugem, com duas demãos, e Remoção de ferrugem em esquadrias ou estruturas metálicas com escova de aço. | C185: PRÓPRIA | D185: Serviço | E185: m2 | F185: 0.04 | G185: 98.46 | H185: =ROUND(F185*G185,2) -> 3.94 | I185: =H185/VALOR_TOTAL*100 -> 5.4438775e-05 | J185: =I185+J184 -> 30.061224 | K185: =IF(J185<=50,"A",IF(J185<=80,"B","C")) -> A
G187: ="Subtotal até "&TRUNC(J185,2)&"%" -> Subtotal até 30,06% | I187: =SUM(H7:H185) -> 2175677.6
G188: Outros: | I188: =I189-I187 -> 323.86
G189: Valor total do Orçamento: | I189: 2176001.4
A190: CARLOS RAPHAEL MONTEIRO DE LEMOS ENGENHEIRO CIVIL | CREA-ES 011.840/D

Sheet CURVA ABC INSUMOS
A1: CURVA ABC - INSUMOS
B2: OBRA: Restauro da Igreja de Nossa Senhora da Conceição e Reforma da Praça Barbosa Leão, Serra Centro Serra/ES. | G2: DATA: 30/06/2026
B3: DESCRIÇÃO: Restauro da Igreja de Nossa Senhora da Conceição e Reforma da Praça Barbosa Leão | G3: BDI: 33,25% | Encargos Sociais: 157,27%
B4: LOCAL: Praça Barbosa Leão, Serra Centro, Serra - ES | CEP: 29176-050 | G4: DATA BASE: MARÇO/2026
B5: PROPONENTE: PREFEITURA MUNICIPAL DA SERRA
A6: CÓDIGO | B6: DESCRIÇÃO | C6: FONTE | D6: TIPO | E6: UNIDADE | F6: QUANTIDADE | G6: PREÇO UNITÁRIO | H6: PREÇO TOTAL | I6: % | J6: ACUMUL. % | K6: CL
A7: I010146 | B7: SERVENTE (AUXILIAR DE OBRAS - SINDUSCON) | C7: DER-ES EDIF | D7: Mão de Obra | E7: H | F7: 9099.401 | G7: 19.68 | H7: =ROUND(F7*G7,2) -> 179076.21 | I7: =H7/VALOR_TOTAL*100 -> 2.4742867 | J7: =I7 -> 2.4742867 | K7: =IF(J7<=50,"A",IF(J7<=80,"B","C")) -> A
A8: I010139 | B8: PEDREIRO (OFICIAL - SINDUSCON) | C8: DER-ES EDIF | D8: Mão de Obra | E8: H | F8: 3450.8367 | G8: 26.03 | H8: =ROUND(F8*G8,2) -> 89825.28 | I8: =H8/VALOR_TOTAL*100 -> 1.2411112 | J8: =I8+J7 -> 3.7153979 | K8: =IF(J8<=50,"A",IF(J8<=80,"B","C")) -> A
A9: 00034492 | B9: CONCRETO USINADO BOMBEAVEL, CLASSE DE RESISTENCIA C20, COM BRITA 0 E 1, SLUMP = 100 +/- 20 MM, EXCLUI SERVICO DE BOMBEAMENTO (NBR 8953) | C9: SINAPI | D9: Material | E9: M3 | F9: 141.2362 | G9: 587.5 | H9: =ROUND(F9*G9,2) -> 82976.27 | I9: =H9/VALOR_TOTAL*100 -> 1.1464788 | J9: =I9+J8 -> 4.8618767 | K9: =IF(J9<=50,"A",IF(J9<=80,"B","C")) -> A
A10: 00036178 | B10: PISO TATIL / PODOTATIL, LADRILHO HIDRAULICO/CONCRETO, *40 X 40* CM, E= 2,5* CM, PADRAO TATIL ALERTA OU DIRECIONAL, COR NATURAL | C10: SINAPI | D10: Material | E10: UN | F10: 4122.2462 | G10: 17.1 | H10: =ROUND(F10*G10,2) -> 70490.41 | I10: =H10/VALOR_TOTAL*100 -> 0.97396233 | J10: =I10+J9 -> 5.835839 | K10: =IF(J10<=50,"A",IF(J10<=80,"B","C")) -> A
A11: I12556 | B11: Ladrilho hidráulico Mosaico colorido 20 x 20cm | C11: ORSE | D11: Material | E11: m2 | F11: 117.579 | G11: 522.28 | H11: =ROUND(F11*G11,2) -> 61409.16 | I11: =H11/VALOR_TOTAL*100 -> 0.84848717 | J11: =I11+J10 -> 6.6843262 | K11: =IF(J11<=50,"A",IF(J11<=80,"B","C")) -> A
A12: I010124 | B12: GRANITEIRO/MARMORISTA (OFICIAL - SINDUSCON) | C12: DER-ES EDIF | D12: Mão de Obra | E12: H | F12: 2204.1435 | G12: 26.03 | H12: =ROUND(F12*G12,2) -> 57373.86 | I12: =H12/VALOR_TOTAL*100 -> 0.79273164 | J12: =I12+J11 -> 7.4770578 | K12: =IF(J12<=50,"A",IF(J12<=80,"B","C")) -> A
A13: 00007156 | B13: TELA DE ACO SOLDADA NERVURADA, CA-60, Q-196, (3,11 KG/M2), DIAMETRO DO FIO = 5,0 MM, LARGURA = 2,45 M, ESPACAMENTO DA MALHA = 10 X 10 CM | C13: SINAPI | D13: Material | E13: M2 | F13: 2067.1323 | G13: 25.47 | H13: =ROUND(F13*G13,2) -> 52649.86 | I13: =H13/VALOR_TOTAL*100 -> 0.72746038 | J13: =I13+J12 -> 8.2045182 | K13: =IF(J13<=50,"A",IF(J13<=80,"B","C")) -> A
A14: I010101 | B14: AJUDANTE (AJUDANTE PRATICO - SINDUSCON) | C14: DER-ES EDIF | D14: Mão de Obra | E14: H | F14: 2188.2704 | G14: 21.94 | H14: =ROUND(F14*G14,2) -> 48010.65 | I14: =H14/VALOR_TOTAL*100 -> 0.66336065 | J14: =I14+J13 -> 8.8678789 | K14: =IF(J14<=50,"A",IF(J14<=80,"B","C")) -> A
A15: I010140 | B15: PINTOR (OFICIAL - SINDUSCON) | C15: DER-ES EDIF | D15: Mão de Obra | E15: H | F15: 1709.1957 | G15: 26.03 | H15: =ROUND(F15*G15,2) -> 44490.36 | I15: =H15/VALOR_TOTAL*100 -> 0.61472099 | J15: =I15+J14 -> 9.4825999 | K15: =IF(J15<=50,"A",IF(J15<=80,"B","C")) -> A
A16: I035504 | B16: AGREGADO DE ALTA RESISTENCIA PARA PISOS | C16: DER-ES EDIF | D16: Material | E16: KG | F16: 30578.88 | G16: 1.24 | H16: =ROUND(F16*G16,2) -> 37917.81 | I16: =H16/VALOR_TOTAL*100 -> 0.52390841 | J16: =I16+J15 -> 10.006508 | K16: =IF(J16<=50,"A",IF(J16<=80,"B","C")) -> A
A17: INS-84363879 | B17: PISO DE BORRACHA EM PLACA DE 100X100CM E=15MM, AMARELO | C17: COTAÇÃO | D17: Material | E17: M2 | F17: 120.7552 | G17: 309.68 | H17: =ROUND(F17*G17,2) -> 37395.47 | I17: =H17/VALOR_TOTAL*100 -> 0.51669126 | J17: =I17+J16 -> 10.5232 | K17: =IF(J17<=50,"A",IF(J17<=80,"B","C")) -> A
A18: I025841 | B18: TELHA METALICA ONDULADA ACO GALVALUME ESP 0.5MM PRE PINTADA 1 FACE COR RAL 9003 (BRANCA) | C18: DER-ES EDIF | D18: Material | E18: M2 | F18: 527.9043 | G18: 65.04 | H18: =ROUND(F18*G18,2) -> 34334.9 | I18: =H18/VALOR_TOTAL*100 -> 0.47440353 | J18: =I18+J17 -> 10.997603 | K18: =IF(J18<=50,"A",IF(J18<=80,"B","C")) -> A
A19: I020508 | B19: CIMENTO PORTLAND CP III - 40 | C19: DER-ES EDIF | D19: Material | E19: KG | F19: 57833.89 | G19: 0.57 | H19: =ROUND(F19*G19,2) -> 32965.32 | I19: =H19/VALOR_TOTAL*100 -> 0.45548011 | J19: =I19+J18 -> 11.453083 | K19: =IF(J19<=50,"A",IF(J19<=80,"B","C")) -> A
... A223: I038016 | B223: MASSA PARA MADEIRA A BASE D'AGUA SUVINIL/CORAL/EQUIVALENTE | C223: DER-ES EDIF | D223: Material | E223: KG | F223: 20.1375 | G223: 17.81 | H223: =ROUND(F223*G223,2) -> 358.65 | I223: =H223/VALOR_TOTAL*100 -> 0.0049554484 | J223: =I223+J222 -> 22.1298 | K223: =IF(J223<=50,"A",IF(J223<=80,"B","C")) -> A
A224: FIC | B224: Fator de Incidencia de Chuva | D224: OUTROS | E224: - | F224: 1 | G224: 355.73 | H224: =ROUND(F224*G224,2) -> 355.73 | I224: =H224/VALOR_TOTAL*100 -> 0.0049151029 | J224: =I224+J223 -> 22.134715 | K224: =IF(J224<=50,"A",IF(J224<=80,"B","C")) -> A
A225: 00004491 | B225: PONTALETE *7,5 X 7,5* CM EM PINUS, MISTA OU EQUIVALENTE DA REGIAO - BRUTA | C225: SINAPI | D225: Material | E225: M | F225: 44.282105 | G225: 8.03 | H225: =ROUND(F225*G225,2) -> 355.59 | I225: =H225/VALOR_TOTAL*100 -> 0.0049131685 | J225: =I225+J224 -> 22.139628 | K225: =IF(J225<=50,"A",IF(J225<=80,"B","C")) -> A
A226: I08693 | B226: Madeira angelim serrada, não aparelhada | C226: ORSE | D226: Material | E226: m³ | F226: 0.1079 | G226: 3103.48 | H226: =ROUND(F226*G226,2) -> 334.87 | I226: =H226/VALOR_TOTAL*100 -> 0.0046268814 | J226: =I226+J225 -> 22.144255 | K226: =IF(J226<=50,"A",IF(J226<=80,"B","C")) -> A
A227: I010150 | B227: TELHADISTA (OFICIAL - SINDUSCON) | C227: DER-ES EDIF | D227: Mão de Obra | E227: H | F227: 12.547848 | G227: 26.03 | H227: =ROUND(F227*G227,2) -> 326.62 | I227: =H227/VALOR_TOTAL*100 -> 0.0045128915 | J227: =I227+J226 -> 22.148768 | K227: =IF(J227<=50,"A",IF(J227<=80,"B","C")) -> A
A228: 00043484 | B228: EPI - FAMILIA ELETRICISTA - HORISTA (ENCARGOS COMPLEMENTARES - COLETADO CAIXA) | C228: SINAPI | D228: Encargos Complementares | E228: H | F228: 268.08136 | G228: 1.2 | H228: =ROUND(F228*G228,2) -> 321.7 | I228: =H228/VALOR_TOTAL*100 -> 0.0044449122 | J228: =I228+J227 -> 22.153213 | K228: =IF(J228<=50,"A",IF(J228<=80,"B","C")) -> A
A229: I03315S | B229: Gesso em po para revestimentos/molduras/sancas e uso geral | C229: ORSE | D229: Material | E229: kg | F229: 322.56 | G229: 0.96 | H229: =ROUND(F229*G229,2) -> 309.66 | I229: =H229/VALOR_TOTAL*100 -> 0.0042785561 | J229: =I229+J228 -> 22.157491 | K229: =IF(J229<=50,"A",IF(J229<=80,"B","C")) -> A
A230: I043180 | B230: CABO FLEX ISOL. TERMOPLAST. 0,6/1KV - 10MM2 - 90º HEPR | C230: DER-ES EDIF | D230: Material | E230: M | F230: 30.6 | G230: 10.11 | H230: =ROUND(F230*G230,2) -> 309.37 | I230: =H230/VALOR_TOTAL*100 -> 0.0042745492 | J230: =I230+J229 -> 22.161766 | K230: =IF(J230<=50,"A",IF(J230<=80,"B","C")) -> A
A231: 00010712 | B231: GUINDAUTO HIDRAULICO, CAPACIDADE MAXIMA DE CARGA 3300 KG, MOMENTO MAXIMO DE CARGA 5,8 TM, ALCANCE MAXIMO HORIZONTAL 7,60 M, PARA MONTAGEM SOBRE CHASSI DE CAMINHAO PBT MINIMO 8000 KG (INCLUI MONTAGEM, NAO INCLUI CAMINHAO) | C231: SINAPI | D231: Equipamento | E231: UN | F231: 0.0029520843 | G231: 102197.26 | H231: =ROUND(F231*G231,2) -> 301.69 | I231: =H231/VALOR_TOTAL*100 -> 0.004168435 | J231: =I231+J230 -> 22.165934 | K231: =IF(J231<=50,"A",IF(J231<=80,"B","C")) -> A
