Workbook

Sheet  ORÇ. DESONERADO
E4: Data do Orçamento:SETEMBRO/2026
A5: OBRA: REFORMA ESCOLA MUNICIPAL VEREADOR ANTONIO LAURINDO | G5: AGETOP 06/2026 ONERADO
A6: LOCAL:Rua Tupã, Qd. 10, Bairro Águas Claras, Iporá - GO | E6: BDI= | F6: 0.25 | G6: SINAPI 07/2026 ONERADO
B7: ORÇAMENTO SINTÉTICO DETALHADO
A8: CÓDIGO | B8: ITEM | C8: DISCRIMINAÇÃO DOS SERVIÇOS | D8: UN. | E8: QTDE. | F8: Preço Unitário | G8: Preço Unitário com BDI | H8: PREÇO TOTAL com BDI | I8: % ITEM
B9: 01 | C9: SERVIÇOS PRELIMINARES
A10: 021301-GO | B10: 1.1 | C10: PLACA DE OBRA | D10: M² | E10: 2.7 | F10: 419.66 | G10: =F10+(F10*$F$6) -> 524.575 | H10: =ROUND((G10*E10),2) -> 1416.35 | I10: =H10/$H$61 -> 0.011823489
A11: SUB-TOTAL | F11: 0 | G11: =F11+(F11*$F$6) -> 0 | H11: =SUM(H10:H10) -> 1416.35 | I11: =H11/$H$61 -> 0.011823489
B12: 02 | C12: DEMOLIÇÕES | I12: =H12/$H$61 -> 0
A13: 020101-GO | B13: 2.1 | C13: DEMOLIÇÃO MANUAL DE COBERTURA EM TELHA CERAMICA COM TRANSPORTE ATÉ CAÇAMBDA E CARGA | D13: M² | E13: 25 | F13: 8.54 | G13: =F13+(F13*$F$6) -> 10.675 | H13: =ROUND((G13*E13),2) -> 266.88 | I13: =H13/$H$61 -> 0.0022278763
A14: 020111-GO | B14: 2.2 | C14: DEMOLIÇÃO MANUAL DE PISO CERÂMICO SOBRE LASTRO DE CONCRETO COM TRANSPORTE ATÉ CAÇAMBA E CARGA | D14: M² | E14: 138.85 | F14: 13.3 | G14: =F14+(F14*$F$6) -> 16.625 | H14: =ROUND((G14*E14),2) -> 2308.38 | I14: =H14/$H$61 -> 0.019270028
A15: 020115-GO | B15: 2.3 | C15: DEMOLIÇÃO MANUAL DE REVESTIMENTOS COM AZULEJO COM TRANSPORTE ATE CAÇAMBA E CARGA | D15: M² | E15: 113.24 | F15: 5.93 | G15: =F15+(F15*$F$6) -> 7.4125 | H15: =ROUND((G15*E15),2) -> 839.39 | I15: =H15/$H$61 -> 0.0070071085
A16: 020121-GO | B16: 2.4 | C16: DEMOLIÇÃO MANUAL EM CONCRETO SIMPLES COM TRANSPORTE ATÉ CAÇAMBA E CARGA | D16: M³ | E16: 10 | F16: 247.14 | G16: =F16+(F16*$F$6) -> 308.925 | H16: =ROUND((G16*E16),2) -> 3089.25 | I16: =H16/$H$61 -> 0.02578862
A17: 020137-GO | B17: 2.5 | C17: REMOÇÃO MANUAL DE BACIA SANITÁRIA COM TRANSPORTE ATÉ CAÇAMBA E CARGA | D17: UND. | E17: 6 | F17: 5.95 | G17: =F17+(F17*$F$6) -> 7.4375 | H17: =ROUND((G17*E17),2) -> 44.63 | I17: =H17/$H$61 -> 0.0003725649
A18: 020138-GO | B18: 2.6 | C18: REMOÇÃO MANUAL DE LAVATÓRIO COM TRANSPORTE ATÉ CAÇAMBA E CARGA | D18: UND. | E18: 6 | F18: 7.93 | G18: =F18+(F18*$F$6) -> 9.9125 | H18: =ROUND((G18*E18),2) -> 59.48 | I18: =H18/$H$61 -> 0.00049653059
A19: 020140-GO | B19: 2.7 | C19: REMOÇÃO MANUAL DE METAL SANITÁRIO(VÁLVULAS/SIFÃO/REGISTROS/TORNEIRAS /OUTROS) COM TRANSPORTE ATÉ CAÇAMBA E CARGA | D19: UND. | E19: 16 | F19: 7 | G19: =F19+(F19*$F$6) -> 8.75 | H19: =ROUND((G19*E19),2) -> 140 | I19: =H19/$H$61 -> 0.0011687001
A20: SUB-TOTAL | H20: =SUM(H13:H19) -> 6748.01 | I20: =H20/$H$61 -> 0.056331429
B21: 03 | C21: COBERTURA | I21: =H21/$H$61 -> 0
A22: 120104-GO | B22: 3.1 | C22: MANTA AUTOPROTEGIDA ALUMINIO TIPO III - B | D22: M² | E22: 100 | F22: 113.31 | G22: =F22+(F22*$F$6) -> 141.6375 | H22: =ROUND((G22*E22),2) -> 14163.75 | I22: =H22/$H$61 -> 0.11823697
A23: 160501-GO | B23: 3.2 | C23: COBERTURA COM TELHA ONDULADA DE FIBROCIMENTO | D23: M² | E23: 50 | F23: 46.3 | G23: =F23+(F23*$F$6) -> 57.875 | H23: =ROUND((G23*E23),2) -> 2893.75 | I23: =H23/$H$61 -> 0.024156614
A24: 160502-GO | B24: 3.3 | C24: CUMEEIRA PARA TELHA ONDULADA DE FIBROCIMENTO | D24: M | E24: 30.75 | F24: 52.66 | G24: =F24+(F24*$F$6) -> 65.825 | H24: =ROUND((G24*E24),2) -> 2024.12 | I24: =H24/$H$61 -> 0.016897066
A25: 160100-GO | B25: 3.4 | C25: COBERTURA COM TELHA AMERICANA RESINADA COR VERMELHA | D25: M² | E25: 25 | F25: 45.29 | G25: =F25+(F25*$F$6) -> 56.6125 | H25: =ROUND((G25*E25),2) -> 1415.31 | I25: =H25/$H$61 -> 0.011814807
A26: 160601-GO | B26: 3.5 | C26: CALHA DE CHAPA GALVANIZADA Nº 26 DESENVOLVIMENTO 60 CM | D26: M | E26: 4.4 | F26: 75.23 | G26: =F26+(F26*$F$6) -> 94.0375 | H26: =ROUND((G26*E26),2) -> 413.77 | I26: =H26/$H$61 -> 0.0034540932
A27: 142-SI | B27: 3.6 | C27: SELANTE ELASTICO MONOCOMPONENTE A BASE DE POLIURETANO (PU) | D27: M | E27: 50 | F27: 32.18 | G27: =F27+(F27*$F$6) -> 40.225 | H27: =ROUND((G27*E27),2) -> 2011.25 | I27: =H27/$H$61 -> 0.016789629
A28: 4939-ORSE | B28: 3.7 | C28: PINTURA COM TINTA EMBORRACHADA 02 DEMÃOS | D28: M² | E28: 490 | F28: 26.56 | G28: =F28+(F28*$F$6) -> 33.2 | H28: =ROUND((G28*E28),2) -> 16268 | I28: =H28/$H$61 -> 0.13580295
A29: SUB-TOTAL | H29: =SUM(H22:H28) -> 39189.95 | I29: =H29/$H$61 -> 0.32715213
B30: 04 | C30: PINTURA | I30: =H30/$H$61 -> 0
A31: 88489-SI | B31: 4.1 | C31: Pintura em latex acrílico 02 demãos sobre paredes internas | D31: M² | E31: 375.37 | F31: 14.62 | G31: =F31+(F31*$F$6) -> 18.275 | H31: =ROUND((G31*E31),2) -> 6859.89 | I31: =H31/$H$61 -> 0.057265387 | J31: 6859.89
A32: 88489-SI | B32: 4.2 | C32: Pintura em latex acrílico 02 demãos sobre paredes externas | D32: M² | E32: 691.62 | F32: 14.62 | G32: =F32+(F32*$F$6) -> 18.275 | H32: =ROUND((G32*E32),2) -> 12639.36 | I32: =H32/$H$61 -> 0.10551158 | J32: 12639.36
A33: 261307-GO | B33: 4.3 | C33: Pintura em latex PVA 02 demãos sobre lajes internas e externas | D33: M² | E33: 481.37 | F33: 11.78 | G33: =F33+(F33*$F$6) -> 14.725 | H33: =ROUND((G33*E33),2) -> 7088.17 | I33: =H33/$H$61 -> 0.059171036 | J33: 7088.17
A34: 261550-GO | B34: 4.4 | C34: PINTURA TINTA ESMALTE SINTETICO PARA PAREDES - 2 DEMÃOS C/SELADOR | D34: M² | E34: 375.37 | F34: 18.83 | G34: =F34+(F34*$F$6) -> 23.5375 | H34: =ROUND((G34*E34),2) -> 8835.27 | I34: =H34/$H$61 -> 0.073755579 | J34: 8835.27
A35: 261602-GO | B35: 4.5 | C35: Pintura em esmalte sintético 02 demãos em esquadrias de ferro | D35: M² | E35: 203.12 | F35: 32.23 | G35: =F35+(F35*$F$6) -> 40.2875 | H35: =ROUND((G35*E35),2) -> 8183.2 | I35: =H35/$H$61 -> 0.068312191 | J35: 8183.2
A36: SUB-TOTAL | E36: 0 | H36: =SUM(H31:H35) -> 43605.89 | I36: =H36/$H$61 -> 0.36401577 | J36: =SUM(J31:J35) -> 43605.89
B37: 05 | C37: REVESTIMENTO DE PISO | I37: =H37/$H$61 -> 0
A38: 220311-GO | B38: 5.3 | C38: CERÂMICA ANTIDERRAPANTE PEI MAIOR OU IGUAL A 4 COM CONTRA PISO (1CI:3ARML) E ARGAMASSA COLANTE | D38: M² | E38: 138.85 | F38: 89.39 | G38: =F38+(F38*$F$6) -> 111.7375 | H38: =ROUND((G38*E38),2) -> 15514.75 | I38: =H38/$H$61 -> 0.12951493
A39: 220312-GO | B39: 5.4 | C39: RODAPÉ DE CERÂMICA ANTIDERRAPANTE COM ARGAMASSA COLANTE | D39: M | E39: 66.97 | F39: 11.77 | G39: =F39+(F39*$F$6) -> 14.7125 | H39: =ROUND((G39*E39),2) -> 985.3 | I39: =H39/$H$61 -> 0.0082251444
A40: SUB-TOTAL | E40: 0 | H40: =SUM(H38:H39) -> 16500.05 | I40: =H40/$H$61 -> 0.13774007
B41: 06 | C41: RAMPA | I41: =H41/$H$61 -> 0
A42: 220102-GO | B42: 6.1 | C42: PISO CONCRETO DESEMPENADO ESPESSURA = 5 CM 1:2,5:3,5 (rampa menor) | D42: M² | E42: 3.95 | F42: 43.37 | G42: =F42+(F42*$F$6) -> 54.2125 | H42: =ROUND((G42*E42),2) -> 214.14 | I42: =H42/$H$61 -> 0.0017876103
A43: 180340-GO | B43: 6.2 | C43: GUARDA CORPO EM TUBO INDUSTRIAL DE 2" COM MONTANTES SECUNDÁRIOS DE 1" E CORRIMÃO DUPLO DE 1.1/2" (rampa menor) | D43: M² | E43: 3.08 | F43: 326.65 | G43: =F43+(F43*$F$6) -> 408.3125 | H43: =ROUND((G43*E43),2) -> 1257.6 | I43: =H43/$H$61 -> 0.010498266
A44: SUB-TOTAL | H44: =SUM(H42:H43) -> 1471.74 | I44: =H44/$H$61 -> 0.012285876
B45: 07 | C45: DIVERSOS | I45: =H45/$H$61 -> 0
A46: 080502-GO | B46: 7.1 | C46: VASO SANITÁRIO | D46: UND. | E46: 6 | F46: 364.88 | G46: =F46+(F46*$F$6) -> 456.1 | H46: =ROUND((G46*E46),2) -> 2736.6 | I46: =H46/$H$61 -> 0.022844748
A47: 080510-GO | B47: 7.2 | C47: ANEL DE VEDAÇÃO PARA VASO SANITÁRIO | D47: UND. | E47: 6 | F47: 19.25 | G47: =F47+(F47*$F$6) -> 24.0625 | H47: =ROUND((G47*E47),2) -> 144.38 | I47: =H47/$H$61 -> 0.0012052637
A48: 080513-GO | B48: 7.3 | C48: TUBO PARA VÁLVULA DE DESCARGA ( CURTO 1.1/4" ) | D48: UND. | E48: 6 | F48: 26.08 | G48: =F48+(F48*$F$6) -> 32.6 | H48: =ROUND((G48*E48),2) -> 195.6 | I48: =H48/$H$61 -> 0.001632841
A49: 080514-GO | B49: 7.4 | C49: TUBO DE LIGACAO PVC CROMADO 1.1/2" / ESPUDE - (ENTRADA) | D49: UND. | E49: 6 | F49: 49.26 | G49: =F49+(F49*$F$6) -> 61.575 | H49: =ROUND((G49*E49),2) -> 369.45 | I49: =H49/$H$61 -> 0.0030841161
A50: 080517-GO | B50: 7.5 | C50: VÁLVULA DE DESCARGA DUPLO ACIONAMENTO COM ACABAMENTO CROMADO | D50: UND. | E50: 6 | F50: 409.4 | G50: =F50+(F50*$F$6) -> 511.75 | H50: =ROUND((G50*E50),2) -> 3070.5 | I50: =H50/$H$61 -> 0.025632098
A51: 080520-GO | B51: 7.6 | C51: CONJUNTO DE FIXACAO P/VASO SANITARIO (PAR) | D51: UND. | E51: 6 | F51: 24.25 | G51: =F51+(F51*$F$6) -> 30.3125 | H51: =ROUND((G51*E51),2) -> 181.88 | I51: =H51/$H$61 -> 0.0015183084
A52: 100849-SI | B52: 7.7 | C52: ASSENTO EM POLIPROPILENO PARA VASO SANITÁRIO | D52: UND. | E52: 6 | F52: 43.28 | G52: =F52+(F52*$F$6) -> 54.1 | H52: =ROUND((G52*E52),2) -> 324.6 | I52: =H52/$H$61 -> 0.0027097147
A53: 18.006.0007-A EMOP | B53: 7.8 | C53: LAVATÓRIO MÉDIO COM COLUNA - MEDIDAS APROXIMADAS 360X460X180 MM (C x L xA) | D53: UND. | E53: 6 | F53: 110.84 | G53: =F53+(F53*$F$6) -> 138.55 | H53: =ROUND((G53*E53),2) -> 831.3 | I53: =H53/$H$61 -> 0.0069395743
A54: 080550-GO | B54: 7.9 | C54: FIXACAO P/LAVATORIO (PAR) | D54: UND. | E54: 6 | F54: 21.45 | G54: =F54+(F54*$F$6) -> 26.8125 | H54: =ROUND((G54*E54),2) -> 160.88 | I54: =H54/$H$61 -> 0.0013430034
A55: 080556-GO | B55: 7.10 | C55: LIGAÇÃO FLEXÍVEL PVC DIAM.1/2" (ENGATE) | D55: UND. | E55: 6 | F55: 17.48 | G55: =F55+(F55*$F$6) -> 21.85 | H55: =ROUND((G55*E55),2) -> 131.1 | I55: =H55/$H$61 -> 0.0010944042
A56: 080561-GO | B56: 7.11 | C56: SIFAO PARA LAVATORIO PVC DIAM.1"X1.1/2" | D56: UND. | E56: 6 | F56: 30.92 | G56: =F56+(F56*$F$6) -> 38.65 | H56: =ROUND((G56*E56),2) -> 231.9 | I56: =H56/$H$61 -> 0.0019358682
A57: 080572-GO | B57: 7.12 | C57: TORNEIRA DE MESA COM FECHAMENTO AUTOMÁTICO TEMPORIZADO PARA LAVATÓRIO DIÂMETRO DE 1/2" | D57: UND. | E57: 6 | F57: 205.85 | G57: =F57+(F57*$F$6) -> 257.3125 | H57: =ROUND((G57*E57),2) -> 1543.88 | I57: =H57/$H$61 -> 0.012888091
... A59: 080903-GO | B59: 7.14 | C59: REGISTRO DE GAVETA BRUTO DIAMETRO 1" | D59: UND. | E59: 4 | F59: 93.17 | G59: =F59+(F59*$F$6) -> 116.4625 | H59: =ROUND((G59*E59),2) -> 465.85 | I59: =H59/$H$61 -> 0.0038888496
A60: SUB-TOTAL | E60: 0 | H60: =SUM(H46:H59) -> 10859.22 | I60: =H60/$H$61 -> 0.090651226
B61: TOTAL GERAL | H61: =H60+H36+H29+H20+H11+H40+H44 -> 119791.21 | I61: =H61/$H$61 -> 1
C66: FELIPE GUARESCHI BERIGO
C67: ENG° CIVIL - CREA -10161494765/D-GO

Sheet CRONOGRAMA DESONERADO
A3: OBRA: REFORMA ESCOLA MUNICIPAL VEREADOR ANTONIO LAURINDO
A4: LOCAL:Rua Tupã, Qd. 10, Bairro Águas Claras, Iporá - GO
A5: Data: Setembro/ 2026
A6: CRONOGRAMA FÍSICO - FINANCEIRO - DESONERADO
A7: DESCRIÇÃO DOS SERVIÇOS | D7: Percentual
D8: do Item | E8: 1º mês | G8: 2º mês | I8: 3º mês | K8: 4º mês
A9: Item | B9: CONSTRUÇÃO CIVIL | C9: Valor R$ | D9: (%) | E9: Valor R$ | F9: (%) | G9: Valor R$ | H9: (%) | I9: Valor R$ | J9: (%) | K9: Valor R$ | L9: (%)
A10: 1 | B10: SERVIÇOS PRELIMINARES | C10: =' ORÇ. DESONERADO'!H11 -> 1416.35 | D10: =C10/$C$17*100 -> 1.1823489 | E10: =C10*F10/100 -> 1416.35 | F10: 100 | G10: =C10*H10/100 -> 0 | H10: 0 | I10: =E10*J10/100 -> 0 | J10: 0 | K10: =G10*L10/100 -> 0 | L10: 0 | M10: =L10+F10+J10+H10 -> 100
A11: 2 | B11: DEMOLIÇÕES | C11: =' ORÇ. DESONERADO'!H20 -> 6748.01 | D11: =C11/$C$17*100 -> 5.6331429 | E11: =C11*F11/100 -> 6748.01 | F11: 100 | G11: =C11*H11/100 -> 0 | H11: 0 | I11: =E11*J11/100 -> 0 | J11: 0 | K11: =G11*L11/100 -> 0 | L11: 0 | M11: =L11+F11+J11+H11 -> 100
A12: 3 | B12: COBERTURA | C12: =' ORÇ. DESONERADO'!H29 -> 39189.95 | D12: =C12/$C$17*100 -> 32.715213 | E12: =C12*F12/100 -> 9797.4875 | F12: 25 | G12: =C12*H12/100 -> 9797.4875 | H12: 25 | I12: =C12*J12/100 -> 9797.4875 | J12: 25 | K12: =C12*L12/100 -> 9797.4875 | L12: 25 | M12: =L12+F12+J12+H12 -> 100
A13: 4 | B13: PINTURA | C13: =' ORÇ. DESONERADO'!H36 -> 43605.89 | D13: =C13/$C$17*100 -> 36.401577 | E13: =C13*F13/100 -> 10901.472 | F13: 25 | G13: =C13*H13/100 -> 10901.472 | H13: 25 | I13: =C13*J13/100 -> 10901.472 | J13: 25 | K13: =C13*L13/100 -> 10901.472 | L13: 25 | M13: =L13+F13+J13+H13 -> 100
A14: 5 | B14: REVESTIMENTO DE PISO | C14: =' ORÇ. DESONERADO'!H40 -> 16500.05 | D14: =C14/$C$17*100 -> 13.774007 | E14: =C14*F14/100 -> 2475.0075 | F14: 15 | G14: =C14*H14/100 -> 4125.0125 | H14: 25 | I14: =C14*J14/100 -> 4125.0125 | J14: 25 | K14: =C14*L14/100 -> 5775.0175 | L14: 35 | M14: =L14+F14+J14+H14 -> 100
A15: 6 | B15: RAMPA MENOR | C15: =' ORÇ. DESONERADO'!H44 -> 1471.74 | D15: =C15/$C$17*100 -> 1.2285876 | E15: =C15*F15/100 -> 1471.74 | F15: 100 | G15: =C15*H15/100 -> 0 | H15: 0 | I15: =C15*J15/100 -> 0 | J15: 0 | K15: =C15*L15/100 -> 0 | L15: 0 | M15: =L15+F15+J15+H15 -> 100
A16: 7 | B16: DIVERSOS | C16: =' ORÇ. DESONERADO'!H60 -> 10859.22 | D16: =C16/$C$17*100 -> 9.0651226 | E16: =C16*F16/100 -> 0 | F16: 0 | G16: =C16*H16/100 -> 5429.61 | H16: 50 | I16: =C16*J16/100 -> 5429.61 | J16: 50 | K16: =C16*L16/100 -> 0 | L16: 0 | M16: =L16+F16+J16+H16 -> 100
A17: TOTAL PREVISTO (R$) | C17: =SUM(C10:C16) -> 119791.21 | D17: =SUM(D10:D16) -> 100 | E17: =SUM(E10:E16) -> 32810.067 | F17: =E17/$C$17 -> 0.27389378 | G17: =SUM(G10:G16) -> 30253.583 | H17: =G17/$C$17 -> 0.25255261 | I17: =SUM(I10:I16) -> 30253.583 | J17: =I17/$C$17 -> 0.25255261 | K17: =SUM(K10:K16) -> 26473.978 | L17: =K17/$C$17 -> 0.221001 | M17: =L17+F17+J17+H17 -> 1
A18: PREVISTO ACUMULADO (%) | C18: =C17 -> 119791.21 | E18: =E17 -> 32810.067 | G18: =G17+E17 -> 63063.65 | I18: =I17+G17+E17 -> 93317.232 | K18: =K17+I17+G17+E17 -> 119791.21
C23: FELIPE GUARESCHI BERIGO
C24: ENG° CIVIL - CREA -10161494765/D-GO

Sheet MEMORIA DE CALCULO SEM RAMPA
A4: OBRA: REFORMA ESCOLA MUNICIPAL VEREADOR ANTONIO LAURINDO
A5: LOCAL:Rua Tupã, Qd. 10, Bairro Águas Claras, Iporá - GO
A6: Data do Orçamento:Setembro/2026
A7: DEMOLIÇÃO DE REVESTIMENTO CERÂMICO
A8: PAREDE Nº | B8: Dr1 | C8: Dr2 | D8: Dr3 | E8: Dr4 | F8: Dr5 | G8: Dr6 | H8: Dr7 | I8: Dr8 | J8: Dr9 | K8: Dr10
A9: Nº DE VEZES | B9: 1 | C9: 1 | D9: 1 | E9: 1 | F9: 1 | G9: 1 | H9: 1 | I9: 1 | J9: 1 | K9: 1
A10: COMPRIMENTO | B10: 2.8 | C10: 2.8 | D10: 4.44 | E10: 4.44 | F10: 3.65 | G10: 3.65 | H10: 1.3 | I10: 1.3 | J10: 1.3 | K10: 1.3
A11: PÉ DIREITO | B11: 3 | C11: 3 | D11: 3 | E11: 3 | F11: 2 | G11: 2 | H11: 2 | I11: 2 | J11: 2 | K11: 2
A12: DESCONTO | B12: 0 | C12: 1.68 | D12: 1.68 | E12: 0 | F12: 3.78 | G12: 3.78 | H12: 0 | I12: 0 | J12: 0 | K12: 0
A13: DEMOL. CERAMICA: | B13: =(B10*B11)-B12 -> 8.4 | C13: =(C10*C11)-C12 -> 6.72 | D13: =(D10*D11)-D12 -> 11.64 | E13: =(E10*E11)-E12 -> 13.32 | F13: =(F10*F11)-F12 -> 3.52 | G13: =(G10*G11)-G12 -> 3.52 | H13: =(H10*H11)-H12 -> 2.6 | I13: =(I10*I11)-I12 -> 2.6 | ... K13: =(K10*K11)-K12 -> 2.6
A14: DEM. DE VER. CERÂMICO TOTAL | C14: =SUM(B13:K13) -> 57.52 | D14: M²
A15: PAREDE Nº | B15: Dr11 | C15: Dr12 | D15: Dr13 | E15: Dr14 | F15: Dr15 | G15: Dr16 | H15: Dr17 | I15: Dr18 | J15: Dr19 | K15: Dr20
A16: Nº DE VEZES | B16: 1 | C16: 1 | D16: 1 | E16: 1 | F16: 1 | G16: 1 | H16: 1 | I16: 1 | J16: 1 | K16: 1
A17: COMPRIMENTO | B17: 1.3 | C17: 1.3 | D17: 3.3 | E17: 3.3 | F17: 2.8 | G17: 2.8 | H17: 1.3 | I17: 1.3 | J17: 1.3 | K17: 1.3
A18: PÉ DIREITO | B18: 2 | C18: 2 | D18: 3 | E18: 3 | F18: 3 | G18: 3 | H18: 2 | I18: 2 | J18: 2 | K18: 2
A19: DESCONTO | B19: 0 | C19: 0 | D19: 1.68 | E19: 0 | F19: 0 | G19: 0 | H19: 0 | I19: 0 | J19: 0 | K19: 0
A20: DEMOL. CERAMICA: | B20: =(B17*B18)-B19 -> 2.6 | C20: =(C17*C18)-C19 -> 2.6 | D20: =(D17*D18)-D19 -> 8.22 | E20: =(E17*E18)-E19 -> 9.9 | F20: =(F17*F18)-F19 -> 8.4 | G20: =(G17*G18)-G19 -> 8.4 | H20: =(H17*H18)-H19 -> 2.6 | I20: =(I17*I18)-I19 -> 2.6 | ... K20: =(K17*K18)-K19 -> 2.6
A21: DEM. DE VER. CERÂMICO TOTAL | C21: =SUM(B20:K20) -> 50.52 | D21: M²
A22: PAREDE Nº | B22: Dr21 | C22: Dr22 | D22: Dr23 | E22: Dr24 | F22: Dr25 | G22: Dr26 | H22: Dr27 | I22: Dr28 | J22: Dr29 | K22: Dr30
A23: Nº DE VEZES | B23: 1 | C23: 1 | D23: 0 | E23: 0 | F23: 0 | G23: 0 | H23: 0 | I23: 0 | J23: 0 | K23: 0
A24: COMPRIMENTO | B24: 1.3 | C24: 1.3 | D24: 0 | E24: 0 | F24: 0 | G24: 0 | H24: 0 | I24: 0 | J24: 0 | K24: 0
A25: PÉ DIREITO | B25: 2 | C25: 2 | D25: 0 | E25: 0 | F25: 0 | G25: 0 | H25: 0 | I25: 0 | J25: 0 | K25: 0
A26: DESCONTO | B26: 0 | C26: 0 | D26: 0 | E26: 0 | F26: 0 | G26: 0 | H26: 0 | I26: 0 | J26: 0 | K26: 0
A27: DEMOL. CERAMICA: | B27: =(B24*B25)-B26 -> 2.6 | C27: =(C24*C25)-C26 -> 2.6 | D27: =(D24*D25)-D26 -> 0 | E27: =(E24*E25)-E26 -> 0 | F27: =(F24*F25)-F26 -> 0 | G27: =(G24*G25)-G26 -> 0 | H27: =(H24*H25)-H26 -> 0 | I27: =(I24*I25)-I26 -> 0 | ... K27: =(K24*K25)-K26 -> 0
A28: DEM. DE VER. CERÂMICO TOTAL | C28: =SUM(B27:K27) -> 5.2 | D28: M²
A29: TOTAL DE DEMOLIÇÃO DE REVESTIMENTO CERÂMICO: | G29: =C28+C21+C14 -> 113.24 | J29: 113,24m²
A30: PINTURA INTERNA
A31: PAREDE Nº | B31: Pi1 | C31: Pi2 | D31: Pi3 | E31: Pi4 | F31: Pi5 | G31: Pi6 | H31: Pi7 | I31: Pi8 | J31: Pi9 | K31: Pi10
A32: Nº DE VEZES | B32: 1 | C32: 1 | D32: 1 | E32: 1 | F32: 1 | G32: 1 | H32: 1 | I32: 1 | J32: 1 | K32: 1
A33: COMPRIMENTO | B33: 3.75 | C33: 3.9 | D33: 3.75 | E33: 3.9 | F33: 3 | G33: 2.95 | H33: 2 | I33: 1.94 | J33: 1.4 | K33: 1.94
A34: PÉ DIREITO | B34: 3 | C34: 3 | D34: 3 | E34: 3 | F34: 3 | G34: 3 | H34: 3 | I34: 3 | J34: 3 | K34: 3
A35: DESCONTO | B35: 2.16 | C35: 3 | D35: 1.68 | E35: 1.7 | F35: 3 | G35: 3 | H35: 1.68 | I35: 0 | J35: 0 | K35: 0
A36: PINTURA | B36: =(B33*B34)-B35 -> 9.09 | C36: =(C33*C34)-C35 -> 8.7 | D36: =(D33*D34)-D35 -> 9.57 | E36: =(E33*E34)-E35 -> 10 | F36: =(F33*F34)-F35 -> 6 | G36: =(G33*G34)-G35 -> 5.85 | H36: =(H33*H34)-H35 -> 4.32 | I36: =(I33*I34)-I35 -> 5.82 | ... K36: =(K33*K34)-K35 -> 5.82
A37: PINTURA INTERNA TOTAL | C37: =SUM(B36:K36) -> 69.37 | D37: M²
A38: PAREDE Nº | B38: Pi11 | C38: Pi12 | D38: Pi13 | E38: Pi14 | F38: Pi15 | G38: Pi16 | H38: Pi17 | I38: Pi18 | J38: Pi19 | K38: Pi20
A39: Nº DE VEZES | B39: 1 | C39: 1 | D39: 1 | E39: 1 | F39: 1 | G39: 1 | H39: 1 | I39: 1 | J39: 1 | K39: 1
A40: COMPRIMENTO | B40: 1.4 | C40: 3.4 | D40: 4.1 | E40: 3.2 | F40: 1.8 | G40: 3.2 | H40: 4 | I40: 6.7 | J40: 2.75 | K40: 2.95
A41: PÉ DIREITO | B41: 3 | C41: 3 | D41: 3 | E41: 3 | F41: 3 | G41: 3 | H41: 3 | I41: 3 | J41: 3 | K41: 3
A42: DESCONTO | B42: 0 | C42: 0 | D42: 0 | E42: 0 | F42: 1.68 | G42: 0 | H42: 0 | I42: 0 | J42: 2.7 | K42: 1.68
A43: PINTURA | B43: =(B40*B41)-B42 -> 4.2 | C43: =(C40*C41)-C42 -> 10.2 | D43: =(D40*D41)-D42 -> 12.3 | E43: =(E40*E41)-E42 -> 9.6 | F43: =(F40*F41)-F42 -> 3.72 | G43: =(G40*G41)-G42 -> 9.6 | H43: =(H40*H41)-H42 -> 12 | I43: =(I40*I41)-I42 -> 20.1 | ... K43: =(K40*K41)-K42 -> 7.17
A44: PINTURA INTERNA TOTAL | C44: =SUM(B43:K43) -> 94.44 | D44: M²
A45: PAREDE Nº | B45: Pi21 | C45: Pi22 | D45: Pi23 | E45: Pi24 | F45: Pi25 | G45: Pi26 | H45: Pi27 | I45: Pi28 | J45: Pi29 | K45: Pi30
A46: Nº DE VEZES | B46: 1 | C46: 1 | D46: 1 | E46: 1 | F46: 1 | G46: 1 | H46: 1 | I46: 1 | J46: 1 | K46: 1
A47: COMPRIMENTO | B47: 1.7 | C47: 3.1 | D47: 2.16 | E47: 1.8 | F47: 1.8 | G47: 1.65 | H47: 2.8 | I47: 1.65 | J47: 2.8 | K47: 2.38
A48: PÉ DIREITO | B48: 3 | C48: 3 | D48: 3 | E48: 3 | F48: 3 | G48: 3 | H48: 3 | I48: 3 | J48: 3 | K48: 3
A49: DESCONTO | B49: 0 | C49: 1.68 | D49: 1.68 | E49: 1.68 | F49: 1.68 | G49: 1.68 | H49: 0 | I49: 0 | J49: 1.68 | K49: 1.68
A50: PINTURA | B50: =(B47*B48)-B49 -> 5.1 | C50: =(C47*C48)-C49 -> 7.62 | D50: =(D47*D48)-D49 -> 4.8 | E50: =(E47*E48)-E49 -> 3.72 | F50: =(F47*F48)-F49 -> 3.72 | G50: =(G47*G48)-G49 -> 3.27 | H50: =(H47*H48)-H49 -> 8.4 | I50: =(I47*I48)-I49 -> 4.95 | ... K50: =(K47*K48)-K49 -> 5.46
A51: PINTURA INTERNA TOTAL | C51: =SUM(B50:K50) -> 53.76 | D51: M²
A52: PAREDE Nº | B52: Pi31 | C52: Pi32 | D52: Pi33 | E52: Pi34 | F52: Pi35 | G52: Pi36 | H52: Pi37 | I52: Pi38 | J52: Pi39 | K52: Pi40
A53: Nº DE VEZES | B53: 1 | C53: 1 | D53: 1 | E53: 1 | F53: 1 | G53: 1 | H53: 1 | I53: 1 | J53: 1 | K53: 1
A54: COMPRIMENTO | B54: 2.8 | C54: 2.38 | D54: 2.8 | E54: 6.04 | F54: 7.2 | G54: 6.04 | H54: 7.2 | I54: 6.04 | J54: 7.2 | K54: 6.04
A55: PÉ DIREITO | B55: 3 | C55: 3 | D55: 3 | E55: 3 | F55: 3 | G55: 3 | H55: 3 | I55: 3 | J55: 3 | K55: 3
A56: DESCONTO | B56: 0 | C56: 0 | D56: 0 | E56: 0 | F56: 6.68 | G56: 0 | H56: 0 | I56: 1.68 | J56: 0 | K56: 0
A57: PINTURA | B57: =(B54*B55)-B56 -> 8.4 | C57: =(C54*C55)-C56 -> 7.14 | D57: =(D54*D55)-D56 -> 8.4 | E57: =(E54*E55)-E56 -> 18.12 | F57: =(F54*F55)-F56 -> 14.92 | G57: =(G54*G55)-G56 -> 18.12 | H57: =(H54*H55)-H56 -> 21.6 | I57: =(I54*I55)-I56 -> 16.44 | ... K57: =(K54*K55)-K56 -> 18.12
A58: PINTURA INTERNA TOTAL | C58: =SUM(B57:K57) -> 152.86 | D58: M²
A59: PAREDE Nº | B59: Pi41 | C59: Pi42 | D59: Pi43 | E59: Pi44 | F59: Pi45 | G59: Pi46 | H59: Pi47 | I59: Pi48 | J59: Pi49 | K59: Pi50
A60: Nº DE VEZES | B60: 1 | C60: 1 | D60: 1 | E60: 1 | F60: 1 | G60: 1 | H60: 1 | I60: 1 | J60: 1 | K60: 1
A61: COMPRIMENTO | B61: 7.2 | C61: 12.4 | D61: 2.05 | E61: 12.4 | F61: 6.04 | G61: 7.2 | H61: 6.04 | I61: 7.2 | J61: 7.2 | K61: 6.04
A62: PÉ DIREITO | B62: 3 | C62: 3 | D62: 3 | E62: 3 | F62: 3 | G62: 3 | H62: 3 | I62: 3 | J62: 3 | K62: 3
A63: DESCONTO | B63: 4 | C63: 1.68 | D63: 0 | E63: 1.68 | F63: 1.68 | G63: 4 | H63: 0 | I63: 0 | J63: 0 | K63: 0
A64: PINTURA | B64: =(B61*B62)-B63 -> 17.6 | C64: =(C61*C62)-C63 -> 35.52 | D64: =(D61*D62)-D63 -> 6.15 | E64: =(E61*E62)-E63 -> 35.52 | F64: =(F61*F62)-F63 -> 16.44 | G64: =(G61*G62)-G63 -> 17.6 | H64: =(H61*H62)-H63 -> 18.12 | I64: =(I61*I62)-I63 -> 21.6 | ... K64: =(K61*K62)-K63 -> 18.12
A65: PINTURA INTERNA TOTAL | C65: =SUM(B64:K64) -> 208.27 | D65: M²
A66: PAREDE Nº | B66: Pi51 | C66: Pi52 | D66: Pi53 | E66: Pi54 | F66: Pi55 | G66: Pi56 | H66: Pi57 | I66: Pi58 | J66: Pi59 | K66: Pi60
A67: Nº DE VEZES | B67: 1 | C67: 1 | D67: 1 | E67: 1 | F67: 1 | G67: 1 | H67: 1 | I67: 1 | J67: 1 | K67: 1
A68: COMPRIMENTO | B68: 7.2 | C68: 6.04 | D68: 6.1 | E68: 7.2 | F68: 6.1 | G68: 7.2 | H68: 6.1 | I68: 7.2 | J68: 6.1 | K68: 7.2
A69: PÉ DIREITO | B69: 3 | C69: 3 | D69: 3 | E69: 3 | F69: 3 | G69: 3 | H69: 3 | I69: 3 | J69: 3 | K69: 3
A70: DESCONTO | B70: 6.68 | C70: 0 | D70: 0 | E70: 4 | F70: 0 | G70: 6.3 | H70: 0 | I70: 4 | J70: 0 | K70: 6.3
A71: PINTURA | B71: =(B68*B69)-B70 -> 14.92 | C71: =(C68*C69)-C70 -> 18.12 | D71: =(D68*D69)-D70 -> 18.3 | E71: =(E68*E69)-E70 -> 17.6 | F71: =(F68*F69)-F70 -> 18.3 | G71: =(G68*G69)-G70 -> 15.3 | H71: =(H68*H69)-H70 -> 18.3 | I71: =(I68*I69)-I70 -> 17.6 | ... K71: =(K68*K69)-K70 -> 15.3
A72: PINTURA INTERNA TOTAL | C72: =SUM(B71:K71) -> 172.04 | D72: M²
A73: TOTAL DE pintura interna: | G73: =C72+C65+C58+C51+C44+C37 -> 750.74 | J73: 750,74m²
A74: BARRADO EM ESMALTE: | G74: =G73/2 -> 375.37 | J74: 375,37m²
A75: PINTURA EXTERNA
A76: PAREDE Nº | B76: Pe1 | C76: Pe2 | D76: Pe3 | E76: Pe4 | F76: Pe5 | G76: Pe6 | H76: Pe7 | I76: Pe8 | J76: Pe9 | K76: Pe10
A77: Nº DE VEZES | B77: 1 | C77: 1 | D77: 1 | E77: 1 | F77: 1 | G77: 1 | H77: 1 | I77: 1 | J77: 1 | K77: 1
A78: COMPRIMENTO | B78: 4.7 | C78: 5.86 | D78: 4.7 | E78: 5.86 | F78: 3.75 | G78: 3 | H78: 7.8 | I78: 12.46 | J78: 7 | K78: 12.46
A79: PÉ DIREITO | B79: 4 | C79: 4 | D79: 4 | E79: 4 | F79: 4 | G79: 4 | H79: 4 | I79: 4 | J79: 4 | K79: 4
A80: DESCONTO | B80: 0 | C80: 1.7 | D80: 0 | E80: 3.38 | F80: 7.4 | G80: 6 | H80: 3.38 | I80: 6 | J80: 0 | K80: 0
A81: PINTURA | B81: =(B78*B79)-B80 -> 18.8 | C81: =(C78*C79)-C80 -> 21.74 | D81: =(D78*D79)-D80 -> 18.8 | E81: =(E78*E79)-E80 -> 20.06 | F81: =(F78*F79)-F80 -> 7.6 | G81: =(G78*G79)-G80 -> 6 | H81: =(H78*H79)-H80 -> 27.82 | I81: =(I78*I79)-I80 -> 43.84 | ... K81: =(K78*K79)-K80 -> 49.84
A82: PINTURA EXTERNA TOTAL | C82: =SUM(B81:K81) -> 242.5 | D82: M²
A83: PAREDE Nº | B83: Pe11 | C83: Pe12 | D83: Pe13 | E83: Pe14 | F83: Pe15 | G83: Pe16 | H83: Pe17 | I83: Pe18 | J83: Pe19 | K83: Pe20
A84: Nº DE VEZES | B84: 1 | C84: 1 | D84: 1 | E84: 1 | F84: 1 | G84: 1 | H84: 1 | I84: 1 | J84: 1 | K84: 1
A85: COMPRIMENTO | B85: 12.46 | C85: 20.21 | D85: 12.46 | E85: 20.21 | F85: 14.86 | G85: 14.86 | H85: 14.86 | I85: 8.36 | J85: 14.86 | K85: 8.36
A86: PÉ DIREITO | B86: 4 | C86: 4 | D86: 4 | E86: 4 | F86: 4 | G86: 4 | H86: 4 | I86: 4 | J86: 4 | K86: 4
A87: DESCONTO | B87: 6.72 | C87: 9.68 | D87: 0 | E87: 9.68 | F87: 29.72 | G87: 29.72 | H87: 11.76 | I87: 3.5 | J87: 12.6 | K87: 3.5
A88: PINTURA | B88: =(B85*B86)-B87 -> 43.12 | C88: =(C85*C86)-C87 -> 71.16 | D88: =(D85*D86)-D87 -> 49.84 | E88: =(E85*E86)-E87 -> 71.16 | F88: =(F85*F86)-F87 -> 29.72 | G88: =(G85*G86)-G87 -> 29.72 | H88: =(H85*H86)-H87 -> 47.68 | I88: =(I85*I86)-I87 -> 29.94 | ... K88: =(K85*K86)-K87 -> 29.94
A89: PINTURA EXTERNA TOTAL | C89: =SUM(B88:K88) -> 449.12 | D89: M²
A90: TOTAL DE ALVENARIA: | G90: =C89+C82 -> 691.62 | J90: 691,62m²
A91: PINTURA DE ESQUADRIAS
A92: PINTURA DE PORTAS
A93: ITEM | D93: LARG. | E93: ALTURA | F93: TOTAL | G93: QUANT. | H93: TOTAL M²
A94: PORTA | D94: 0.8 | E94: 2.1 | F94: =E94*D94 -> 1.68 | G94: 18 | H94: =F94*G94 -> 30.24
A95: PORTA | D95: 0.7 | E95: 1.7 | F95: =E95*D95 -> 1.19 | G95: 6 | H95: =F95*G95 -> 7.14
A96: PORTÃO | D96: 1 | E96: 2.1 | F96: =E96*D96 -> 2.1 | G96: 2 | H96: =F96*G96 -> 4.2
A97: PORTÃO | D97: 1.6 | E97: 2.1 | F97: =E97*D97 -> 3.36 | G97: 1 | H97: =F97*G97 -> 3.36
H98: =SUM(H94:H97)*2 -> 89.88 | I98: M²
A99: PINTURA DE JANELAS
A100: ITEM | D100: LARG. | E100: ALTURA | F100: TOTAL | G100: QUANT. | H100: TOTAL M²
A101: JANELA | D101: 1.7 | E101: 1 | F101: =E101*D101 -> 1.7 | G101: 3 | H101: =F101*G101 -> 5.1
A102: JANELA | D102: 3 | E102: 1 | F102: =E102*D102 -> 3 | G102: 3 | H102: =F102*G102 -> 9
A103: JANELA | D103: 2.8 | E103: 0.6 | F103: =E103*D103 -> 1.68 | G103: 2 | H103: =F103*G103 -> 3.36
...

Sheet Itens de Maior Relevância
A4: OBRA: REFORMA ESCOLA MUNICIPAL VEREADOR ANTONIO LAURINDO
A5: LOCAL:Rua Tupã, Qd. 10, Bairro Águas Claras, Iporá - GO
A6: Data do Orçamento:Setembro/2026
A7: ITENS DE MAIOR RELEVÂNCIA
A8: CÓDIGO | B8: BANCO | C8: DISCRIMINAÇÃO DOS SERVIÇOS | D8: UN. | E8: QTDE. | F8: QUANTIDADE MÍNIMA PARA LICITAÇÃO | G8: PESO(%)
A9: 120101 | B9: GOINFRA | C9: PISO EM CONCRETO | D9: M² | E9: 608.83 | F9: =E9/2 -> 304.415 | G9: 13.93
A10: 4939 | B10: ORSE | C10: PINTURA EMBORRACHADA | D10: M² | E10: 490 | F10: =E10/2 -> 245 | G10: 11.07
A11: 220311 | B11: GOINFRA | C11: PISO EM CERÂMICA | D11: M² | E11: 138.85 | F11: =E11/2 -> 69.425 | G11: 10.56
C24: FELIPE GUARESCHI BERIGO
C25: ENG° CIVIL - CREA -10161494765/D-GO
