Workbook

Sheet  ORÇ. DESONERADO
E4: Data do Orçamento:SETEMBRO/2026
A5: OBRA: REFORMA ESCOLA MUNICIPAL VEREADOR ANTONIO LAURINDO | G5: AGETOP 06/2026 ONERADO
A6: LOCAL:Rua Tupã, Qd. 10, Bairro Águas Claras, Iporá - GO | E6: BDI= | F6: 0.25 | G6: SINAPI 07/2026 ONERADO
B7: ORÇAMENTO SINTÉTICO DETALHADO
A8: CÓDIGO | B8: ITEM | C8: DISCRIMINAÇÃO DOS SERVIÇOS | D8: UN. | E8: QTDE. | F8: Preço Unitário | G8: Preço Unitário com BDI | H8: PREÇO TOTAL com BDI | I8: % ITEM
B9: 01 | C9: SERVIÇOS PRELIMINARES
A10: 021301-GO | B10: 1.1 | C10: PLACA DE OBRA | D10: M² | E10: 2.7 | F10: 419.66 | G10: =F10+(F10*$F$6) -> 524.575 | H10: =ROUND((G10*E10),2) -> 1416.35 | I10: =H10/$H$61 -> 0.011823489
A11: SUB-TOTAL | F11: 0 | G11: =F11+(F11*$F$6) -> 0 | H11: =SUM(H10:H10) -> 1416.35 | I11: =H11/$H$61 -> 0.011823489
B12: 02 | C12: DEMOLIÇÕES | I12: =H12/$H$61 -> 0
A13: 020101-GO | B13: 2.1 | C13: DEMOLIÇÃO MANUAL DE COBERTURA EM TELHA CERAMICA COM TRANSPORTE ATÉ CAÇAMBDA E CARGA | D13: M² | E13: 25 | F13: 8.54 | G13: =F13+(F13*$F$6) -> 10.675 | H13: =ROUND((G13*E13),2) -> 266.88 | I13: =H13/$H$61 -> 0.0022278763
A14: 020111-GO | B14: 2.2 | C14: DEMOLIÇÃO MANUAL DE PISO CERÂMICO SOBRE LASTRO DE CONCRETO COM TRANSPORTE ATÉ CAÇAMBA E CARGA | D14: M² | E14: 138.85 | F14: 13.3 | G14: =F14+(F14*$F$6) -> 16.625 | H14: =ROUND((G14*E14),2) -> 2308.38 | I14: =H14/$H$61 -> 0.019270028
A15: 020115-GO | B15: 2.3 | C15: DEMOLIÇÃO MANUAL DE REVESTIMENTOS COM AZULEJO COM TRANSPORTE ATE CAÇAMBA E CARGA | D15: M² | E15: 113.24 | F15: 5.93 | G15: =F15+(F15*$F$6) -> 7.4125 | H15: =ROUND((G15*E15),2) -> 839.39 | I15: =H15/$H$61 -> 0.0070071085
A16: 020121-GO | B16: 2.4 | C16: DEMOLIÇÃO MANUAL EM CONCRETO SIMPLES COM TRANSPORTE ATÉ CAÇAMBA E CARGA | D16: M³ | E16: 10 | F16: 247.14 | G16: =F16+(F16*$F$6) -> 308.925 | H16: =ROUND((G16*E16),2) -> 3089.25 | I16: =H16/$H$61 -> 0.02578862
A17: 020137-GO | B17: 2.5 | C17: REMOÇÃO MANUAL DE BACIA SANITÁRIA COM TRANSPORTE ATÉ CAÇAMBA E CARGA | D17: UND. | E17: 6 | F17: 5.95 | G17: =F17+(F17*$F$6) -> 7.4375 | H17: =ROUND((G17*E17),2) -> 44.63 | I17: =H17/$H$61 -> 0.0003725649
A18: 020138-GO | B18: 2.6 | C18: REMOÇÃO MANUAL DE LAVATÓRIO COM TRANSPORTE ATÉ CAÇAMBA E CARGA | D18: UND. | E18: 6 | F18: 7.93 | G18: =F18+(F18*$F$6) -> 9.9125 | H18: =ROUND((G18*E18),2) -> 59.48 | I18: =H18/$H$61 -> 0.00049653059
A19: 020140-GO | B19: 2.7 | C19: REMOÇÃO MANUAL DE METAL SANITÁRIO(VÁLVULAS/SIFÃO/REGISTROS/TORNEIRAS /OUTROS) COM TRANSPORTE ATÉ CAÇAMBA E CARGA | D19: UND. | E19: 16 | F19: 7 | G19: =F19+(F19*$F$6) -> 8.75 | H19: =ROUND((G19*E19),2) -> 140 | I19: =H19/$H$61 -> 0.0011687001
A20: SUB-TOTAL | H20: =SUM(H13:H19) -> 6748.01 | I20: =H20/$H$61 -> 0.056331429
B21: 03 | C21: COBERTURA | I21: =H21/$H$61 -> 0
A22: 120104-GO | B22: 3.1 | C22: MANTA AUTOPROTEGIDA ALUMINIO TIPO III - B | D22: M² | E22: 100 | F22: 113.31 | G22: =F22+(F22*$F$6) -> 141.6375 | H22: =ROUND((G22*E22),2) -> 14163.75 | I22: =H22/$H$61 -> 0.11823697
A23: 160501-GO | B23: 3.2 | C23: COBERTURA COM TELHA ONDULADA DE FIBROCIMENTO | D23: M² | E23: 50 | F23: 46.3 | G23: =F23+(F23*$F$6) -> 57.875 | H23: =ROUND((G23*E23),2) -> 2893.75 | I23: =H23/$H$61 -> 0.024156614
A24: 160502-GO | B24: 3.3 | C24: CUMEEIRA PARA TELHA ONDULADA DE FIBROCIMENTO | D24: M | E24: 30.75 | F24: 52.66 | G24: =F24+(F24*$F$6) -> 65.825 | H24: =ROUND((G24*E24),2) -> 2024.12 | I24: =H24/$H$61 -> 0.016897066
A25: 160100-GO | B25: 3.4 | C25: COBERTURA COM TELHA AMERICANA RESINADA COR VERMELHA | D25: M² | E25: 25 | F25: 45.29 | G25: =F25+(F25*$F$6) -> 56.6125 | H25: =ROUND((G25*E25),2) -> 1415.31 | I25: =H25/$H$61 -> 0.011814807
A26: 160601-GO | B26: 3.5 | C26: CALHA DE CHAPA GALVANIZADA Nº 26 DESENVOLVIMENTO 60 CM | D26: M | E26: 4.4 | F26: 75.23 | G26: =F26+(F26*$F$6) -> 94.0375 | H26: =ROUND((G26*E26),2) -> 413.77 | I26: =H26/$H$61 -> 0.0034540932
A27: 142-SI | B27: 3.6 | C27: SELANTE ELASTICO MONOCOMPONENTE A BASE DE POLIURETANO (PU) | D27: M | E27: 50 | F27: 32.18 | G27: =F27+(F27*$F$6) -> 40.225 | H27: =ROUND((G27*E27),2) -> 2011.25 | I27: =H27/$H$61 -> 0.016789629
A28: 4939-ORSE | B28: 3.7 | C28: PINTURA COM TINTA EMBORRACHADA 02 DEMÃOS | D28: M² | E28: 490 | F28: 26.56 | G28: =F28+(F28*$F$6) -> 33.2 | H28: =ROUND((G28*E28),2) -> 16268 | I28: =H28/$H$61 -> 0.13580295
A29: SUB-TOTAL | H29: =SUM(H22:H28) -> 39189.95 | I29: =H29/$H$61 -> 0.32715213
B30: 04 | C30: PINTURA | I30: =H30/$H$61 -> 0
A31: 88489-SI | B31: 4.1 | C31: Pintura em latex acrílico 02 demãos sobre paredes internas | D31: M² | E31: 375.37 | F31: 14.62 | G31: =F31+(F31*$F$6) -> 18.275 | H31: =ROUND((G31*E31),2) -> 6859.89 | I31: =H31/$H$61 -> 0.057265387 | J31: 6859.89
A32: 88489-SI | B32: 4.2 | C32: Pintura em latex acrílico 02 demãos sobre paredes externas | D32: M² | E32: 691.62 | F32: 14.62 | G32: =F32+(F32*$F$6) -> 18.275 | H32: =ROUND((G32*E32),2) -> 12639.36 | I32: =H32/$H$61 -> 0.10551158 | J32: 12639.36
A33: 261307-GO | B33: 4.3 | C33: Pintura em latex PVA 02 demãos sobre lajes internas e externas | D33: M² | E33: 481.37 | F33: 11.78 | G33: =F33+(F33*$F$6) -> 14.725 | H33: =ROUND((G33*E33),2) -> 7088.17 | I33: =H33/$H$61 -> 0.059171036 | J33: 7088.17
A34: 261550-GO | B34: 4.4 | C34: PINTURA TINTA ESMALTE SINTETICO PARA PAREDES - 2 DEMÃOS C/SELADOR | D34: M² | E34: 375.37 | F34: 18.83 | G34: =F34+(F34*$F$6) -> 23.5375 | H34: =ROUND((G34*E34),2) -> 8835.27 | I34: =H34/$H$61 -> 0.073755579 | J34: 8835.27
A35: 261602-GO | B35: 4.5 | C35: Pintura em esmalte sintético 02 demãos em esquadrias de ferro | D35: M² | E35: 203.12 | F35: 32.23 | G35: =F35+(F35*$F$6) -> 40.2875 | H35: =ROUND((G35*E35),2) -> 8183.2 | I35: =H35/$H$61 -> 0.068312191 | J35: 8183.2
A36: SUB-TOTAL | E36: 0 | H36: =SUM(H31:H35) -> 43605.89 | I36: =H36/$H$61 -> 0.36401577 | J36: =SUM(J31:J35) -> 43605.89
B37: 05 | C37: REVESTIMENTO DE PISO | I37: =H37/$H$61 -> 0
A38: 220311-GO | B38: 5.3 | C38: CERÂMICA ANTIDERRAPANTE PEI MAIOR OU IGUAL A 4 COM CONTRA PISO (1CI:3ARML) E ARGAMASSA COLANTE | D38: M² | E38: 138.85 | F38: 89.39 | G38: =F38+(F38*$F$6) -> 111.7375 | H38: =ROUND((G38*E38),2) -> 15514.75 | I38: =H38/$H$61 -> 0.12951493
A39: 220312-GO | B39: 5.4 | C39: RODAPÉ DE CERÂMICA ANTIDERRAPANTE COM ARGAMASSA COLANTE | D39: M | E39: 66.97 | F39: 11.77 | G39: =F39+(F39*$F$6) -> 14.7125 | H39: =ROUND((G39*E39),2) -> 985.3 | I39: =H39/$H$61 -> 0.0082251444
A40: SUB-TOTAL | E40: 0 | H40: =SUM(H38:H39) -> 16500.05 | I40: =H40/$H$61 -> 0.13774007
B41: 06 | C41: RAMPA | I41: =H41/$H$61 -> 0
A42: 220102-GO | B42: 6.1 | C42: PISO CONCRETO DESEMPENADO ESPESSURA = 5 CM 1:2,5:3,5 (rampa menor) | D42: M² | E42: 3.95 | F42: 43.37 | G42: =F42+(F42*$F$6) -> 54.2125 | H42: =ROUND((G42*E42),2) -> 214.14 | I42: =H42/$H$61 -> 0.0017876103
A43: 180340-GO | B43: 6.2 | C43: GUARDA CORPO EM TUBO INDUSTRIAL DE 2" COM MONTANTES SECUNDÁRIOS DE 1" E CORRIMÃO DUPLO DE 1.1/2" (rampa menor) | D43: M² | E43: 3.08 | F43: 326.65 | G43: =F43+(F43*$F$6) -> 408.3125 | H43: =ROUND((G43*E43),2) -> 1257.6 | I43: =H43/$H$61 -> 0.010498266
...

Sheet CRONOGRAMA DESONERADO
A3: OBRA: REFORMA ESCOLA MUNICIPAL VEREADOR ANTONIO LAURINDO
A4: LOCAL:Rua Tupã, Qd. 10, Bairro Águas Claras, Iporá - GO
A5: Data: Setembro/ 2026
A6: CRONOGRAMA FÍSICO - FINANCEIRO - DESONERADO
A7: DESCRIÇÃO DOS SERVIÇOS | D7: Percentual
D8: do Item | E8: 1º mês | G8: 2º mês | I8: 3º mês | K8: 4º mês
A9: Item | B9: CONSTRUÇÃO CIVIL | C9: Valor R$ | D9: (%) | E9: Valor R$ | F9: (%) | G9: Valor R$ | H9: (%) | I9: Valor R$ | J9: (%) | K9: Valor R$ | L9: (%)
A10: 1 | B10: SERVIÇOS PRELIMINARES | C10: =' ORÇ. DESONERADO'!H11 -> 1416.35 | D10: =C10/$C$17*100 -> 1.1823489 | E10: =C10*F10/100 -> 1416.35 | F10: 100 | G10: =C10*H10/100 -> 0 | H10: 0 | I10: =E10*J10/100 -> 0 | J10: 0 | K10: =G10*L10/100 -> 0 | L10: 0 | M10: =L10+F10+J10+H10 -> 100
A11: 2 | B11: DEMOLIÇÕES | C11: =' ORÇ. DESONERADO'!H20 -> 6748.01 | D11: =C11/$C$17*100 -> 5.6331429 | E11: =C11*F11/100 -> 6748.01 | F11: 100 | G11: =C11*H11/100 -> 0 | H11: 0 | I11: =E11*J11/100 -> 0 | J11: 0 | K11: =G11*L11/100 -> 0 | L11: 0 | M11: =L11+F11+J11+H11 -> 100
A12: 3 | B12: COBERTURA | C12: =' ORÇ. DESONERADO'!H29 -> 39189.95 | D12: =C12/$C$17*100 -> 32.715213 | E12: =C12*F12/100 -> 9797.4875 | F12: 25 | G12: =C12*H12/100 -> 9797.4875 | H12: 25 | I12: =C12*J12/100 -> 9797.4875 | J12: 25 | K12: =C12*L12/100 -> 9797.4875 | L12: 25 | M12: =L12+F12+J12+H12 -> 100
A13: 4 | B13: PINTURA | C13: =' ORÇ. DESONERADO'!H36 -> 43605.89 | D13: =C13/$C$17*100 -> 36.401577 | E13: =C13*F13/100 -> 10901.472 | F13: 25 | G13: =C13*H13/100 -> 10901.472 | H13: 25 | I13: =C13*J13/100 -> 10901.472 | J13: 25 | K13: =C13*L13/100 -> 10901.472 | L13: 25 | M13: =L13+F13+J13+H13 -> 100
A14: 5 | B14: REVESTIMENTO DE PISO | C14: =' ORÇ. DESONERADO'!H40 -> 16500.05 | D14: =C14/$C$17*100 -> 13.774007 | E14: =C14*F14/100 -> 2475.0075 | F14: 15 | G14: =C14*H14/100 -> 4125.0125 | H14: 25 | I14: =C14*J14/100 -> 4125.0125 | J14: 25 | K14: =C14*L14/100 -> 5775.0175 | L14: 35 | M14: =L14+F14+J14+H14 -> 100
A15: 6 | B15: RAMPA MENOR | C15: =' ORÇ. DESONERADO'!H44 -> 1471.74 | D15: =C15/$C$17*100 -> 1.2285876 | E15: =C15*F15/100 -> 1471.74 | F15: 100 | G15: =C15*H15/100 -> 0 | H15: 0 | I15: =C15*J15/100 -> 0 | J15: 0 | K15: =C15*L15/100 -> 0 | L15: 0 | M15: =L15+F15+J15+H15 -> 100
A16: 7 | B16: DIVERSOS | C16: =' ORÇ. DESONERADO'!H60 -> 10859.22 | D16: =C16/$C$17*100 -> 9.0651226 | E16: =C16*F16/100 -> 0 | F16: 0 | G16: =C16*H16/100 -> 5429.61 | H16: 50 | I16: =C16*J16/100 -> 5429.61 | J16: 50 | K16: =C16*L16/100 -> 0 | L16: 0 | M16: =L16+F16+J16+H16 -> 100
A17: TOTAL PREVISTO (R$) | C17: =SUM(C10:C16) -> 119791.21 | D17: =SUM(D10:D16) -> 100 | E17: =SUM(E10:E16) -> 32810.067 | F17: =E17/$C$17 -> 0.27389378 | G17: =SUM(G10:G16) -> 30253.583 | H17: =G17/$C$17 -> 0.25255261 | I17: =SUM(I10:I16) -> 30253.583 | J17: =I17/$C$17 -> 0.25255261 | K17: =SUM(K10:K16) -> 26473.978 | L17: =K17/$C$17 -> 0.221001 | M17: =L17+F17+J17+H17 -> 1
A18: PREVISTO ACUMULADO (%) | C18: =C17 -> 119791.21 | E18: =E17 -> 32810.067 | G18: =G17+E17 -> 63063.65 | I18: =I17+G17+E17 -> 93317.232 | K18: =K17+I17+G17+E17 -> 119791.21
C23: FELIPE GUARESCHI BERIGO
C24: ENG° CIVIL - CREA -10161494765/D-GO

Sheet MEMORIA DE CALCULO SEM RAMPA
A4: OBRA: REFORMA ESCOLA MUNICIPAL VEREADOR ANTONIO LAURINDO
A5: LOCAL:Rua Tupã, Qd. 10, Bairro Águas Claras, Iporá - GO
A6: Data do Orçamento:Setembro/2026
A7: DEMOLIÇÃO DE REVESTIMENTO CERÂMICO
A8: PAREDE Nº | B8: Dr1 | C8: Dr2 | D8: Dr3 | E8: Dr4 | F8: Dr5 | G8: Dr6 | H8: Dr7 | I8: Dr8 | J8: Dr9 | K8: Dr10
A9: Nº DE VEZES | B9: 1 | C9: 1 | D9: 1 | E9: 1 | F9: 1 | G9: 1 | H9: 1 | I9: 1 | J9: 1 | K9: 1
A10: COMPRIMENTO | B10: 2.8 | C10: 2.8 | D10: 4.44 | E10: 4.44 | F10: 3.65 | G10: 3.65 | H10: 1.3 | I10: 1.3 | J10: 1.3 | K10: 1.3
A11: PÉ DIREITO | B11: 3 | C11: 3 | D11: 3 | E11: 3 | F11: 2 | G11: 2 | H11: 2 | I11: 2 | J11: 2 | K11: 2
A12: DESCONTO | B12: 0 | C12: 1.68 | D12: 1.68 | E12: 0 | F12: 3.78 | G12: 3.78 | H12: 0 | I12: 0 | J12: 0 | K12: 0
A13: DEMOL. CERAMICA: | B13: =(B10*B11)-B12 -> 8.4 | C13: =(C10*C11)-C12 -> 6.72 | D13: =(D10*D11)-D12 -> 11.64 | E13: =(E10*E11)-E12 -> 13.32 | F13: =(F10*F11)-F12 -> 3.52 | G13: =(G10*G11)-G12 -> 3.52 | H13: =(H10*H11)-H12 -> 2.6 | I13: =(I10*I11)-I12 -> 2.6 | ... K13: =(K10*K11)-K12 -> 2.6
A14: DEM. DE VER. CERÂMICO TOTAL | C14: =SUM(B13:K13) -> 57.52 | D14: M²
A15: PAREDE Nº | B15: Dr11 | C15: Dr12 | D15: Dr13 | E15: Dr14 | F15: Dr15 | G15: Dr16 | H15: Dr17 | I15: Dr18 | J15: Dr19 | K15: Dr20
A16: Nº DE VEZES | B16: 1 | C16: 1 | D16: 1 | E16: 1 | F16: 1 | G16: 1 | H16: 1 | I16: 1 | J16: 1 | K16: 1
A17: COMPRIMENTO | B17: 1.3 | C17: 1.3 | D17: 3.3 | E17: 3.3 | F17: 2.8 | G17: 2.8 | H17: 1.3 | I17: 1.3 | J17: 1.3 | K17: 1.3
A18: PÉ DIREITO | B18: 2 | C18: 2 | D18: 3 | E18: 3 | F18: 3 | G18: 3 | H18: 2 | I18: 2 | J18: 2 | K18: 2
A19: DESCONTO | B19: 0 | C19: 0 | D19: 1.68 | E19: 0 | F19: 0 | G19: 0 | H19: 0 | I19: 0 | J19: 0 | K19: 0
A20: DEMOL. CERAMICA: | B20: =(B17*B18)-B19 -> 2.6 | C20: =(C17*C18)-C19 -> 2.6 | D20: =(D17*D18)-D19 -> 8.22 | E20: =(E17*E18)-E19 -> 9.9 | F20: =(F17*F18)-F19 -> 8.4 | G20: =(G17*G18)-G19 -> 8.4 | H20: =(H17*H18)-H19 -> 2.6 | I20: =(I17*I18)-I19 -> 2.6 | ... K20: =(K17*K18)-K19 -> 2.6
A21: DEM. DE VER. CERÂMICO TOTAL | C21: =SUM(B20:K20) -> 50.52 | D21: M²
A22: PAREDE Nº | B22: Dr21 | C22: Dr22 | D22: Dr23 | E22: Dr24 | F22: Dr25 | G22: Dr26 | H22: Dr27 | I22: Dr28 | J22: Dr29 | K22: Dr30
A23: Nº DE VEZES | B23: 1 | C23: 1 | D23: 0 | E23: 0 | F23: 0 | G23: 0 | H23: 0 | I23: 0 | J23: 0 | K23: 0
A24: COMPRIMENTO | B24: 1.3 | C24: 1.3 | D24: 0 | E24: 0 | F24: 0 | G24: 0 | H24: 0 | I24: 0 | J24: 0 | K24: 0
A25: PÉ DIREITO | B25: 2 | C25: 2 | D25: 0 | E25: 0 | F25: 0 | G25: 0 | H25: 0 | I25: 0 | J25: 0 | K25: 0
A26: DESCONTO | B26: 0 | C26: 0 | D26: 0 | E26: 0 | F26: 0 | G26: 0 | H26: 0 | I26: 0 | J26: 0 | K26: 0
A27: DEMOL. CERAMICA: | B27: =(B24*B25)-B26 -> 2.6 | C27: =(C24*C25)-C26 -> 2.6 | D27: =(D24*D25)-D26 -> 0 | E27: =(E24*E25)-E26 -> 0 | F27: =(F24*F25)-F26 -> 0 | G27: =(G24*G25)-G26 -> 0 | H27: =(H24*H25)-H26 -> 0 | I27: =(I24*I25)-I26 -> 0 | ... K27: =(K24*K25)-K26 -> 0
A28: DEM. DE VER. CERÂMICO TOTAL | C28: =SUM(B27:K27) -> 5.2 | D28: M²
A29: TOTAL DE DEMOLIÇÃO DE REVESTIMENTO CERÂMICO: | G29: =C28+C21+C14 -> 113.24 | J29: 113,24m²
A30: PINTURA INTERNA
A31: PAREDE Nº | B31: Pi1 | C31: Pi2 | D31: Pi3 | E31: Pi4 | F31: Pi5 | G31: Pi6 | H31: Pi7 | I31: Pi8 | J31: Pi9 | K31: Pi10
A32: Nº DE VEZES | B32: 1 | C32: 1 | D32: 1 | E32: 1 | F32: 1 | G32: 1 | H32: 1 | I32: 1 | J32: 1 | K32: 1
A33: COMPRIMENTO | B33: 3.75 | C33: 3.9 | D33: 3.75 | E33: 3.9 | F33: 3 | G33: 2.95 | H33: 2 | I33: 1.94 | J33: 1.4 | K33: 1.94
A34: PÉ DIREITO | B34: 3 | C34: 3 | D34: 3 | E34: 3 | F34: 3 | G34: 3 | H34: 3 | I34: 3 | J34: 3 | K34: 3
A35: DESCONTO | B35: 2.16 | C35: 3 | D35: 1.68 | E35: 1.7 | F35: 3 | G35: 3 | H35: 1.68 | I35: 0 | J35: 0 | K35: 0
A36: PINTURA | B36: =(B33*B34)-B35 -> 9.09 | C36: =(C33*C34)-C35 -> 8.7 | D36: =(D33*D34)-D35 -> 9.57 | E36: =(E33*E34)-E35 -> 10 | F36: =(F33*F34)-F35 -> 6 | G36: =(G33*G34)-G35 -> 5.85 | H36: =(H33*H34)-H35 -> 4.32 | I36: =(I33*I34)-I35 -> 5.82 | ... K36: =(K33*K34)-K35 -> 5.82
A37: PINTURA INTERNA TOTAL | C37: =SUM(B36:K36) -> 69.37 | D37: M²
A38: PAREDE Nº | B38: Pi11 | C38: Pi12 | D38: Pi13 | E38: Pi14 | F38: Pi15 | G38: Pi16 | H38: Pi17 | I38: Pi18 | J38: Pi19 | K38: Pi20
A39: Nº DE VEZES | B39: 1 | C39: 1 | D39: 1 | E39: 1 | F39: 1 | G39: 1 | H39: 1 | I39: 1 | J39: 1 | K39: 1
A40: COMPRIMENTO | B40: 1.4 | C40: 3.4 | D40: 4.1 | E40: 3.2 | F40: 1.8 | G40: 3.2 | H40: 4 | I40: 6.7 | J40: 2.75 | K40: 2.95
A41: PÉ DIREITO | B41: 3 | C41: 3 | D41: 3 | E41: 3 | F41: 3 | G41: 3 | H41: 3 | I41: 3 | J41: 3 | K41: 3
A42: DESCONTO | B42: 0 | C42: 0 | D42: 0 | E42: 0 | F42: 1.68 | G42: 0 | H42: 0 | I42: 0 | J42: 2.7 | K42: 1.68
A43: PINTURA | B43: =(B40*B41)-B42 -> 4.2 | C43: =(C40*C41)-C42 -> 10.2 | D43: =(D40*D41)-D42 -> 12.3 | E43: =(E40*E41)-E42 -> 9.6 | F43: =(F40*F41)-F42 -> 3.72 | G43: =(G40*G41)-G42 -> 9.6 | H43: =(H40*H41)-H42 -> 12 | I43: =(I40*I41)-I42 -> 20.1 | ... K43: =(K40*K41)-K42 -> 7.17
...

Sheet Itens de Maior Relevância
A4: OBRA: REFORMA ESCOLA MUNICIPAL VEREADOR ANTONIO LAURINDO
A5: LOCAL:Rua Tupã, Qd. 10, Bairro Águas Claras, Iporá - GO
A6: Data do Orçamento:Setembro/2026
A7: ITENS DE MAIOR RELEVÂNCIA
A8: CÓDIGO | B8: BANCO | C8: DISCRIMINAÇÃO DOS SERVIÇOS | D8: UN. | E8: QTDE. | F8: QUANTIDADE MÍNIMA PARA LICITAÇÃO | G8: PESO(%)
A9: 120101 | B9: GOINFRA | C9: PISO EM CONCRETO | D9: M² | E9: 608.83 | F9: =E9/2 -> 304.415 | G9: 13.93
A10: 4939 | B10: ORSE | C10: PINTURA EMBORRACHADA | D10: M² | E10: 490 | F10: =E10/2 -> 245 | G10: 11.07
A11: 220311 | B11: GOINFRA | C11: PISO EM CERÂMICA | D11: M² | E11: 138.85 | F11: =E11/2 -> 69.425 | G11: 10.56
C24: FELIPE GUARESCHI BERIGO
C25: ENG° CIVIL - CREA -10161494765/D-GO
