Workbook

Sheet DETALHADA
B2: PLANILHA ORÇAMENTÁRIA DE CONTRATAÇÃO DE EMPRESA ESPECIALIZADA EM OBRAS DA REDE DE HIDRANTES
B5: PLANILHA ORÇAMENTÁRIA - DETALHADA
B7: A | D7: Obras do Sistema de Hidrantes do Porto de São Francsico do Sul e Terminal Graneleiro
B9: A1 | C9: Rde Hidráulica
B10: Subitem | C10: Tipo | D10: Fonte | E10: Codigo | F10: Descrição | G10: Qtd | H10: Un | I10: Preços Unitários s/BDI | J10: BDI (%) | K10: Preços Unitários c/BDI | L10: Total do subitem
B12: 1 | C12: Composição Própria | D12: SINAPI 05/2026 (ref - 101918) | E12: 14 | F12: TUBO DE AÇO GALVANIZADO COM COSTURA, CLASSE MÉDIA, CONEXÃO RANHURADA, DN 100 (4"), CONEXÃO ROSQUEADA, INSTALADO EM PRUMADAS - FORNECIMENTO E INSTALAÇÃO. | G12: 2154 | H12: M | K12: =I12*(1+J12) -> 0 | L12: =K12*G12 -> 0 | M12: MÉDIA COLETA
B13: 2 | C13: Composição | D13: SINAPI 05/2026 | E13: 92336 | F13: TUBO DE AÇO GALVANIZADO COM COSTURA, CLASSE MÉDIA, CONEXÃO RANHURADA, DN 65 (2 1/2"), INSTALADO EM PRUMADAS - FORNECIMENTO E INSTALAÇÃO. AF_01/2026 | G13: 2106 | H13: M | K13: =I13*(1+J13) -> 0 | L13: =K13*G13 -> 0
B14: 3 | C14: Insumo | D14: SINAPI 05/2026 | E14: 39126 | F14: ABRACADEIRA EM ACO PARA AMARRACAO DE ELETRODUTOS, TIPO D, COM 4" E CUNHA DE FIXACAO | G14: 750 | H14: Un | K14: =I14*(1+J14) -> 0 | L14: =K14*G14 -> 0
B15: 4 | C15: Insumo | D15: SINAPI 05/2026 | E15: 39133 | F15: ABRACADEIRA EM ACO PARA AMARRACAO DE ELETRODUTOS, TIPO D, COM 2 1/2" E CUNHA DE FIXACAO | G15: 750 | H15: Un | K15: =I15*(1+J15) -> 0 | L15: =K15*G15 -> 0
B16: 5 | C16: Composição | D16: SINAPI 05/2026 | E16: 97435 | F16: CURVA 45 GRAUS, EM AÇO, CONEXÃO RANHURADA, DN 65 (2 1/2"), INSTALADO EM PRUMADAS - FORNECIMENTO E INSTALAÇÃO. AF_01/2026 | G16: 55 | H16: Un | K16: =I16*(1+J16) -> 0 | L16: =K16*G16 -> 0
B17: 6 | C17: Composição Própria | D17: SINAPI 05/2026 | E17: 16 | F17: PATINS DESLIZANTE | G17: 550 | H17: Un | K17: =I17*(1+J17) -> 0 | L17: =K17*G17 -> 0 | M17: SOMENTE 1 FORNECEDOR ENVIOU COTAÇÃO
B18: 7 | C18: Composição Própria | D18: SINAPI 05/2026 | E18: 19 | F18: ABRAÇADEIRA BIPARTIDA 4" GALV | G18: 550 | H18: Un | K18: =I18*(1+J18) -> 0 | L18: =K18*G18 -> 0 | M18: SOMENTE 1 FORNECEDOR ENVIOU COTAÇÃO
B19: 8 | C19: Composição Própria | D19: SINAPI 05/2026 | E19: 17 | F19: BARRA ROSCADA 4.8 DIN13 GALV | G19: 1100 | H19: Un | K19: =I19*(1+J19) -> 0 | L19: =K19*G19 -> 0 | M19: SOMENTE 1 FORNECEDOR ENVIOU COTAÇÃO
B20: 9 | C20: Composição Própria | D20: SINAPI 05/2026 | E20: 18 | F20: CURVA 45 GRAUS, EM AÇO, CONEXÃO RANHURADA, DN 100 (4"), INSTALADO EM PRUMADAS - FORNECIMENTO E INSTALAÇÃO | G20: 55 | H20: Un | K20: =I20*(1+J20) -> 0 | L20: =K20*G20 -> 0 | M20: MÉDIA COLETA
B21: 10 | C21: Composição | D21: SINAPI 05/2026 | E21: 97436 | F21: CURVA 90 GRAUS, EM AÇO, CONEXÃO RANHURADA, DN 65 (2 1/2"), INSTALADO EM PRUMADAS - FORNECIMENTO E INSTALAÇÃO. AF_01/2026 | G21: 45 | H21: Un | K21: =I21*(1+J21) -> 0 | L21: =K21*G21 -> 0
B22: 11 | C22: Composição Própria | D22: SINAPI 05/2026 | E22: 20 | F22: CURVA 90 GRAUS, EM AÇO, CONEXÃO RANHURADA, DN 100 (4"), INSTALADO EM PRUMADAS - FORNECIMENTO E INSTALAÇÃO. | G22: 45 | H22: Un | K22: =I22*(1+J22) -> 0 | L22: =K22*G22 -> 0 | M22: MÉDIA COLETA
B23: 12 | C23: Composição | D23: SINAPI 05/2026 | E23: 101921 | F23: LUVA DE REDUÇÃO, EM FERRO GALVANIZADO, 4" X 2 1/2", CONEXÃO ROSQUEADA, INSTALADO EM PRUMADAS - FORNECIMENTO E INSTALAÇÃO. AF_01/2026 | G23: 50 | H23: Un | K23: =I23*(1+J23) -> 0 | L23: =K23*G23 -> 0
B24: 13 | C24: Composição | D24: SINAPI 05/2026 | E24: 97431 | F24: ACOPLAMENTO RÍGIDO EM AÇO, CONEXÃO RANHURADA, DN 65 (2 1/2"), INSTALADO EM PRUMADAS - FORNECIMENTO E INSTALAÇÃO. AF_01/2026 | G24: 75 | H24: Un | K24: =I24*(1+J24) -> 0 | L24: =K24*G24 -> 0
B25: 14 | C25: Composição Própria | D25: SINAPI 05/2026 | E25: 21 | F25: ACOPLAMENTO RÍGIDO EM AÇO, CONEXÃO RANHURADA, DN 100 (4"), INSTALADO EM PRUMADAS - FORNECIMENTO E INSTALAÇÃO. | G25: 75 | H25: Un | K25: =I25*(1+J25) -> 0 | L25: =K25*G25 -> 0 | M25: MÉDIA COLETA
B26: 15 | C26: Composição | D26: SINAPI 05/2026 | E26: 97440 | F26: TÊ, EM AÇO, CONEXÃO RANHURADA, DN 65 (2 1/2"), INSTALADO EM PRUMADAS - FORNECIMENTO E INSTALAÇÃO. AF_01/2026 | G26: 35 | H26: Un | K26: =I26*(1+J26) -> 0 | L26: =K26*G26 -> 0
B27: 16 | C27: Composição Própria | D27: SINAPI 05/2026 | E27: 22 | F27: TÊ, EM AÇO, CONEXÃO RANHURADA, DN 100 (4"), INSTALADO EM PRUMADAS - FORNECIMENTO E INSTALAÇÃO. | G27: 35 | H27: Un | K27: =I27*(1+J27) -> 0 | L27: =K27*G27 -> 0 | M27: MÉDIA COLETA
B28: 17 | C28: Composição | D28: SINAPI 05/2026 | E28: 90462 | F28: SUPORTE PARA 2 TUBOS VERTICAIS, ESPAÇADO A CADA 150 CM, EM PERFILADO COM COMPRIMENTO DE 25 CM FIXADO EM PAREDE, POR METRO DE TUBULAÇÃO FIXADA. AF_09/2023 | G28: 225 | H28: M | K28: =I28*(1+J28) -> 0 | L28: =K28*G28 -> 0
B29: 18 | C29: Composição | D29: SINAPI 05/2026 | E29: 90460 | F29: SUPORTE PARA 2 TUBOS HORIZONTAIS, ESPAÇADO A CADA 56 CM, EM PERFILADO COM COMPRIMENTO DE 25 CM FIXADO EM LAJE, POR METRO DE TUBULAÇÃO FIXADA. AF_09/2023 | G29: 830 | H29: M | K29: =I29*(1+J29) -> 0 | L29: =K29*G29 -> 0
B30: 19 | C30: Insumo | D30: SINAPI 05/2026 | E30: 21032 | F30: MANGUEIRA DE INCENDIO, TIPO 2, DE 1 1/2", COMPRIMENTO = 30 M, TECIDO EM FIO DE POLIESTER E TUBO INTERNO EM BORRACHA SINTETICA, COM UNIOES ENGATE RÁPIDO | G30: 184 | H30: Un | K30: =I30*(1+J30) -> 0 | L30: =K30*G30 -> 0
B31: 20 | C31: Insumo | D31: SINAPI 05/2026 | E31: 21034 | F31: MANGUEIRA DE INCENDIO, TIPO 2, DE 1 1/2", COMPRIMENTO = 15 M, TECIDO EM FIO DE POLIESTER E TUBO INTERNO EM BORRACHA SINTETICA, COM UNIOES ENGATE RÁPIDO | G31: 56 | H31: Un | K31: =I31*(1+J31) -> 0 | L31: =K31*G31 -> 0
B32: 21 | C32: Composição | D32: SINAPI 05/2026 | E32: 106677 | F32: REGISTRO DE RECALQUE, HIDRANTE SUBTERRÂNEO PREDIAL, 65 MM - FORNECIMENTO E INSTALAÇÃO. AF_01/2026 | G32: 2 | H32: Un | K32: =I32*(1+J32) -> 0 | L32: =K32*G32 -> 0
B33: 22 | C33: Composição Própria | D33: SINAPI 05/2026 | E33: 23 | F33: HIDRANTE EXTERNO DUPLO DN2.12" - ABRIGO DE MANGUEIRAS D= 900 x 1200 x 30 | G33: 46 | H33: Un | K33: =I33*(1+J33) -> 0 | L33: =K33*G33 -> 0 | M33: MÉDIA COLETA
B34: 23 | C34: Composição Própria | D34: SINAPI 05/2026 | E34: 24 | F34: HIDRANTE DE RECALQUE | G34: 2 | H34: Un | K34: =I34*(1+J34) -> 0 | L34: =K34*G34 -> 0
B35: 24 | C35: Insumo | D35: SINAPI 05/2026 | E35: 37554 | F35: ESGUICHO JATO REGULAVEL, TIPO ELKHART, ENGATE RAPIDO 1 1/2", PARA COMBATE A INCENDIO | G35: 92 | H35: Un | K35: =I35*(1+J35) -> 0 | L35: =K35*G35 -> 0
B36: 25 | C36: Composição | D36: SINAPI 05/2026 | E36: 101914 | F36: CAIXA DE INCENDIO/ABRIGO PARA MANGUEIRA, DE SOBREPOR/EXTERNA, COM 90 X 60 X 17 CM, EM CHAPA DE ACO, PORTA COM VENTILACAO, VISOR COM A INSCRICAO "INCENDIO", SUPORTE/CESTA INTERNA PARA A MANGUEIRA, PINTURA ELETROSTATICA VERMELHA | G36: 46 | H36: Un | K36: =I36*(1+J36) -> 0 | L36: =K36*G36 -> 0
B37: 26 | C37: Insumo | D37: SINAPI 05/2026 | E37: 10904 | F37: REGISTRO OU VALVULA GLOBO ANGULAR EM LATAO, PARA HIDRANTES EM INSTALACAO PREDIAL DE INCENDIO, 45 GRAUS, DIAMETRO DE 2 1/2", COM VOLANTE, CLASSE DE PRESSAO DE ATE 200 PSI | G37: 92 | H37: Un | K37: =I37*(1+J37) -> 0 | L37: =K37*G37 -> 0
B38: 27 | C38: Insumo | D38: SINAPI 05/2026 | E38: 10900 | F38: ADAPTADOR EM LATAO, ENGATE RAPIDO1 1/2" X ROSCA INTERNA 5 FIOS 2 1/2", PARA INSTALACAO PREDIAL DE COMBATE A INCENDIO | G38: 92 | H38: Un | K38: =I38*(1+J38) -> 0 | L38: =K38*G38 -> 0
B39: 28 | C39: Insumo | D39: SINAPI 05/2026 | E39: 20971 | F39: CHAVE DUPLA PARA CONEXOES TIPO STORZ, ENGATE RAPIDO 1 1/2" X 2 1/2", EM LATAO, PARA INSTALACAO PREDIAL COMBATE A INCENDIO | G39: 92 | H39: Un | K39: =I39*(1+J39) -> 0 | L39: =K39*G39 -> 0
B40: 29 | C40: Composição | D40: SINAPI 05/2026 | E40: 99624 | F40: VÁLVULA DE RETENÇÃO HORIZONTAL, DE BRONZE, ROSCÁVEL, 2 1/2" - FORNECIMENTO E INSTALAÇÃO. AF_08/2021 | G40: 4 | H40: Un | K40: =I40*(1+J40) -> 0 | L40: =K40*G40 -> 0
B41: 30 | C41: Composição Própria | D41: SINAPI 05/2026 | E41: 25 | F41: VÁLVULA DE RETENÇÃO HORIZONTAL 4" RANHURADA | G41: 4 | H41: Un | K41: =I41*(1+J41) -> 0 | L41: =K41*G41 -> 0 | M41: SOMENTE 1 FORNECEDOR ENVIOU COTAÇÃO
B42: 31 | C42: Composição | D42: SINAPI 05/2026 | E42: 96525 | F42: ESCAVAÇÃO MECANIZADA PARA VIGA BALDRAME OU SAPATA CORRIDA COM MINI-ESCAVADEIRA (INCLUINDO ESCAVAÇÃO PARA COLOCAÇÃO DE FÔRMAS). AF_01/2024 | G42: 210 | H42: M³ | K42: =I42*(1+J42) -> 0 | L42: =K42*G42 -> 0
B43: 32 | C43: Composição | D43: SINAPI 05/2026 | E43: 104733 | F43: REATERRO MECANIZADO DE VALA COM RETROESCAVADEIRA (CAPACIDADE DA CAÇAMBA DA RETRO: 0,26 M³/POTÊNCIA: 88 HP), LARGURA ATÉ 0,8 M, PROFUNDIDADE ATÉ 1,5 M, COM SOLO (SEM SUBSTITUIÇÃO) DE 1ª CATEGORIA, COM PLACA VIBRATÓRIA. AF_08/2023 | G43: 120 | H43: M³ | K43: =I43*(1+J43) -> 0 | L43: =K43*G43 -> 0
B44: 33 | C44: Composição | D44: SICRO 01/2026 | E44: 2019764 | F44: CANAL MONOBLOCO COM CORPO E GRELHA EM CONCRETO POLÍMERO COM EFEITO AUTOLIMPANTE - CARGA DE CONTROLE DE 400 kN - 100x15,0x23,0 cm - COM FORNECIMENTO E INSTALAÇÃO EM PAVIMENTO DE CONCRETO | G44: 401 | H44: Un | K44: =I44*(1+J44) -> 0 | L44: =K44*G44 -> 0
B45: 34 | C45: Composição | D45: SINAPI 05/2026 | E45: 99624 | F45: VÁLVULA DE RETENÇÃO HORIZONTAL, DE BRONZE, ROSCÁVEL, 2 1/2" - FORNECIMENTO E INSTALAÇÃO. AF_08/2021 | G45: 4 | H45: Un | K45: =I45*(1+J45) -> 0 | L45: =K45*G45 -> 0
B46: 35 | C46: Composição | D46: SINAPI 05/2026 | E46: 95696 | F46: SPRINKLER TIPO PENDENTE, 68 °C, UNIÃO POR ROSCA DN 15 (1/2") - FORNECIMENTO E INSTALAÇÃO. AF_01/2026 | G46: 365 | H46: Un | K46: =I46*(1+J46) -> 0 | L46: =K46*G46 -> 0
...

Sheet SINTETICA
B2: PLANILHA MODELO PARA COMPOSIÇÃO DO TERMO DE REFERÊNCIA
B4: MODELO DE PROPOSTA - SINTÉTICA
B5: Nº Item | C5: Descrição | D5: Valor
B6: A | C6: =DETALHADA!D7 -> Obras do Sistema de Hidrantes do Porto de São Francsico do Sul e Terminal Graneleiro
B7: A1 | C7: =DETALHADA!C9 -> Rde Hidráulica | D7: =DETALHADA!I63 -> 0
B8: A2 | C8: =DETALHADA!C65 -> RTI - 75.000 Litros | D8: =DETALHADA!I83 -> 0
B9: A3 | C9: =DETALHADA!C85 -> RTI - 35.000 Litros | D9: =DETALHADA!I103 -> 0
B10: B | C10: =DETALHADA!D105 -> CASA DE BOMBAS - SUPORTES (PILARETES) CONSTRUÇÃO CIVIL
B11: B1 | C11: =DETALHADA!C107 -> Execução das Obras dos Suportes (Pilaretes) | D11: =DETALHADA!I114 -> 0
B12: B2 | C12: =DETALHADA!C116 -> Execução das Obras da Casa de Bomas (RTI - 75.000 Litros) Alvenaria e Pintura | D12: =DETALHADA!I132 -> 0
B13: B3 | C13: =DETALHADA!C134 -> Custo das Instalações Elétricas e Hidráulicas (Casa de Bomas - RTI - 75.000 Litros) | D13: =DETALHADA!I150 -> 0
B14: B4 | C14: =DETALHADA!C152 -> Execução das Obras da Casa de Bomas (RTI - 35.000 Litros) Alvenaria e Pintura | D14: =DETALHADA!I168 -> 0
B15: B5 | C15: =DETALHADA!C170 -> Custo das Instalações Elétricas e Hidráulicas (Casa de Bomas - RTI - 35.000 Litros) | D15: =DETALHADA!I186 -> 0
B16: B6 | C16: =DETALHADA!C188 -> Custo de Mobilização e Desmobilização | D16: =DETALHADA!I196 -> 0
B17: C | C17: =DETALHADA!D198 -> EQUIPE TÉCNICA
B18: C1 | C18: =DETALHADA!C200 -> Custo da Administração Local | D18: =DETALHADA!I211 -> 0
B19: C2 | C19: =DETALHADA!C213 -> Custo do Escritório Canteiros de Obras | D19: =DETALHADA!I219 -> 0
B20: C3 | C20: =DETALHADA!C221 -> Custo do Projeto Executivo | D20: =DETALHADA!I226 -> 0
B21: TOTAL | D21: =SUM(D6:D20) -> 0
