Workbook

Sheet DETALHADA
B2: PLANILHA ORÇAMENTÁRIA DE CONTRATAÇÃO DE EMPRESA ESPECIALIZADA EM OBRAS DA REDE DE HIDRANTES
B5: PLANILHA ORÇAMENTÁRIA - DETALHADA
B7: A | D7: Obras do Sistema de Hidrantes do Porto de São Francsico do Sul e Terminal Graneleiro
B9: A1 | C9: Rde Hidráulica
B10: Subitem | C10: Tipo | D10: Fonte | E10: Codigo | F10: Descrição | G10: Qtd | H10: Un | I10: Preços Unitários s/BDI | J10: BDI (%) | K10: Preços Unitários c/BDI | L10: Total do subitem
B12: 1 | C12: Composição Própria | D12: SINAPI 05/2026 (ref - 101918) | E12: 14 | F12: TUBO DE AÇO GALVANIZADO COM COSTURA, CLASSE MÉDIA, CONEXÃO RANHURADA, DN 100 (4"), CONEXÃO ROSQUEADA, INSTALADO EM PRUMADAS - FORNECIMENTO E INSTALAÇÃO. | G12: 2154 | H12: M | K12: =I12*(1+J12) -> 0 | L12: =K12*G12 -> 0 | M12: MÉDIA COLETA
B13: 2 | C13: Composição | D13: SINAPI 05/2026 | E13: 92336 | F13: TUBO DE AÇO GALVANIZADO COM COSTURA, CLASSE MÉDIA, CONEXÃO RANHURADA, DN 65 (2 1/2"), INSTALADO EM PRUMADAS - FORNECIMENTO E INSTALAÇÃO. AF_01/2026 | G13: 2106 | H13: M | K13: =I13*(1+J13) -> 0 | L13: =K13*G13 -> 0
B14: 3 | C14: Insumo | D14: SINAPI 05/2026 | E14: 39126 | F14: ABRACADEIRA EM ACO PARA AMARRACAO DE ELETRODUTOS, TIPO D, COM 4" E CUNHA DE FIXACAO | G14: 750 | H14: Un | K14: =I14*(1+J14) -> 0 | L14: =K14*G14 -> 0
B15: 4 | C15: Insumo | D15: SINAPI 05/2026 | E15: 39133 | F15: ABRACADEIRA EM ACO PARA AMARRACAO DE ELETRODUTOS, TIPO D, COM 2 1/2" E CUNHA DE FIXACAO | G15: 750 | H15: Un | K15: =I15*(1+J15) -> 0 | L15: =K15*G15 -> 0
B16: 5 | C16: Composição | D16: SINAPI 05/2026 | E16: 97435 | F16: CURVA 45 GRAUS, EM AÇO, CONEXÃO RANHURADA, DN 65 (2 1/2"), INSTALADO EM PRUMADAS - FORNECIMENTO E INSTALAÇÃO. AF_01/2026 | G16: 55 | H16: Un | K16: =I16*(1+J16) -> 0 | L16: =K16*G16 -> 0
B17: 6 | C17: Composição Própria | D17: SINAPI 05/2026 | E17: 16 | F17: PATINS DESLIZANTE | G17: 550 | H17: Un | K17: =I17*(1+J17) -> 0 | L17: =K17*G17 -> 0 | M17: SOMENTE 1 FORNECEDOR ENVIOU COTAÇÃO
B18: 7 | C18: Composição Própria | D18: SINAPI 05/2026 | E18: 19 | F18: ABRAÇADEIRA BIPARTIDA 4" GALV | G18: 550 | H18: Un | K18: =I18*(1+J18) -> 0 | L18: =K18*G18 -> 0 | M18: SOMENTE 1 FORNECEDOR ENVIOU COTAÇÃO
B19: 8 | C19: Composição Própria | D19: SINAPI 05/2026 | E19: 17 | F19: BARRA ROSCADA 4.8 DIN13 GALV | G19: 1100 | H19: Un | K19: =I19*(1+J19) -> 0 | L19: =K19*G19 -> 0 | M19: SOMENTE 1 FORNECEDOR ENVIOU COTAÇÃO
B20: 9 | C20: Composição Própria | D20: SINAPI 05/2026 | E20: 18 | F20: CURVA 45 GRAUS, EM AÇO, CONEXÃO RANHURADA, DN 100 (4"), INSTALADO EM PRUMADAS - FORNECIMENTO E INSTALAÇÃO | G20: 55 | H20: Un | K20: =I20*(1+J20) -> 0 | L20: =K20*G20 -> 0 | M20: MÉDIA COLETA
B21: 10 | C21: Composição | D21: SINAPI 05/2026 | E21: 97436 | F21: CURVA 90 GRAUS, EM AÇO, CONEXÃO RANHURADA, DN 65 (2 1/2"), INSTALADO EM PRUMADAS - FORNECIMENTO E INSTALAÇÃO. AF_01/2026 | G21: 45 | H21: Un | K21: =I21*(1+J21) -> 0 | L21: =K21*G21 -> 0
B22: 11 | C22: Composição Própria | D22: SINAPI 05/2026 | E22: 20 | F22: CURVA 90 GRAUS, EM AÇO, CONEXÃO RANHURADA, DN 100 (4"), INSTALADO EM PRUMADAS - FORNECIMENTO E INSTALAÇÃO. | G22: 45 | H22: Un | K22: =I22*(1+J22) -> 0 | L22: =K22*G22 -> 0 | M22: MÉDIA COLETA
B23: 12 | C23: Composição | D23: SINAPI 05/2026 | E23: 101921 | F23: LUVA DE REDUÇÃO, EM FERRO GALVANIZADO, 4" X 2 1/2", CONEXÃO ROSQUEADA, INSTALADO EM PRUMADAS - FORNECIMENTO E INSTALAÇÃO. AF_01/2026 | G23: 50 | H23: Un | K23: =I23*(1+J23) -> 0 | L23: =K23*G23 -> 0
B24: 13 | C24: Composição | D24: SINAPI 05/2026 | E24: 97431 | F24: ACOPLAMENTO RÍGIDO EM AÇO, CONEXÃO RANHURADA, DN 65 (2 1/2"), INSTALADO EM PRUMADAS - FORNECIMENTO E INSTALAÇÃO. AF_01/2026 | G24: 75 | H24: Un | K24: =I24*(1+J24) -> 0 | L24: =K24*G24 -> 0
B25: 14 | C25: Composição Própria | D25: SINAPI 05/2026 | E25: 21 | F25: ACOPLAMENTO RÍGIDO EM AÇO, CONEXÃO RANHURADA, DN 100 (4"), INSTALADO EM PRUMADAS - FORNECIMENTO E INSTALAÇÃO. | G25: 75 | H25: Un | K25: =I25*(1+J25) -> 0 | L25: =K25*G25 -> 0 | M25: MÉDIA COLETA
B26: 15 | C26: Composição | D26: SINAPI 05/2026 | E26: 97440 | F26: TÊ, EM AÇO, CONEXÃO RANHURADA, DN 65 (2 1/2"), INSTALADO EM PRUMADAS - FORNECIMENTO E INSTALAÇÃO. AF_01/2026 | G26: 35 | H26: Un | K26: =I26*(1+J26) -> 0 | L26: =K26*G26 -> 0
B27: 16 | C27: Composição Própria | D27: SINAPI 05/2026 | E27: 22 | F27: TÊ, EM AÇO, CONEXÃO RANHURADA, DN 100 (4"), INSTALADO EM PRUMADAS - FORNECIMENTO E INSTALAÇÃO. | G27: 35 | H27: Un | K27: =I27*(1+J27) -> 0 | L27: =K27*G27 -> 0 | M27: MÉDIA COLETA
B28: 17 | C28: Composição | D28: SINAPI 05/2026 | E28: 90462 | F28: SUPORTE PARA 2 TUBOS VERTICAIS, ESPAÇADO A CADA 150 CM, EM PERFILADO COM COMPRIMENTO DE 25 CM FIXADO EM PAREDE, POR METRO DE TUBULAÇÃO FIXADA. AF_09/2023 | G28: 225 | H28: M | K28: =I28*(1+J28) -> 0 | L28: =K28*G28 -> 0
B29: 18 | C29: Composição | D29: SINAPI 05/2026 | E29: 90460 | F29: SUPORTE PARA 2 TUBOS HORIZONTAIS, ESPAÇADO A CADA 56 CM, EM PERFILADO COM COMPRIMENTO DE 25 CM FIXADO EM LAJE, POR METRO DE TUBULAÇÃO FIXADA. AF_09/2023 | G29: 830 | H29: M | K29: =I29*(1+J29) -> 0 | L29: =K29*G29 -> 0
B30: 19 | C30: Insumo | D30: SINAPI 05/2026 | E30: 21032 | F30: MANGUEIRA DE INCENDIO, TIPO 2, DE 1 1/2", COMPRIMENTO = 30 M, TECIDO EM FIO DE POLIESTER E TUBO INTERNO EM BORRACHA SINTETICA, COM UNIOES ENGATE RÁPIDO | G30: 184 | H30: Un | K30: =I30*(1+J30) -> 0 | L30: =K30*G30 -> 0
B31: 20 | C31: Insumo | D31: SINAPI 05/2026 | E31: 21034 | F31: MANGUEIRA DE INCENDIO, TIPO 2, DE 1 1/2", COMPRIMENTO = 15 M, TECIDO EM FIO DE POLIESTER E TUBO INTERNO EM BORRACHA SINTETICA, COM UNIOES ENGATE RÁPIDO | G31: 56 | H31: Un | K31: =I31*(1+J31) -> 0 | L31: =K31*G31 -> 0
B32: 21 | C32: Composição | D32: SINAPI 05/2026 | E32: 106677 | F32: REGISTRO DE RECALQUE, HIDRANTE SUBTERRÂNEO PREDIAL, 65 MM - FORNECIMENTO E INSTALAÇÃO. AF_01/2026 | G32: 2 | H32: Un | K32: =I32*(1+J32) -> 0 | L32: =K32*G32 -> 0
B33: 22 | C33: Composição Própria | D33: SINAPI 05/2026 | E33: 23 | F33: HIDRANTE EXTERNO DUPLO DN2.12" - ABRIGO DE MANGUEIRAS D= 900 x 1200 x 30 | G33: 46 | H33: Un | K33: =I33*(1+J33) -> 0 | L33: =K33*G33 -> 0 | M33: MÉDIA COLETA
B34: 23 | C34: Composição Própria | D34: SINAPI 05/2026 | E34: 24 | F34: HIDRANTE DE RECALQUE | G34: 2 | H34: Un | K34: =I34*(1+J34) -> 0 | L34: =K34*G34 -> 0
B35: 24 | C35: Insumo | D35: SINAPI 05/2026 | E35: 37554 | F35: ESGUICHO JATO REGULAVEL, TIPO ELKHART, ENGATE RAPIDO 1 1/2", PARA COMBATE A INCENDIO | G35: 92 | H35: Un | K35: =I35*(1+J35) -> 0 | L35: =K35*G35 -> 0
B36: 25 | C36: Composição | D36: SINAPI 05/2026 | E36: 101914 | F36: CAIXA DE INCENDIO/ABRIGO PARA MANGUEIRA, DE SOBREPOR/EXTERNA, COM 90 X 60 X 17 CM, EM CHAPA DE ACO, PORTA COM VENTILACAO, VISOR COM A INSCRICAO "INCENDIO", SUPORTE/CESTA INTERNA PARA A MANGUEIRA, PINTURA ELETROSTATICA VERMELHA | G36: 46 | H36: Un | K36: =I36*(1+J36) -> 0 | L36: =K36*G36 -> 0
B37: 26 | C37: Insumo | D37: SINAPI 05/2026 | E37: 10904 | F37: REGISTRO OU VALVULA GLOBO ANGULAR EM LATAO, PARA HIDRANTES EM INSTALACAO PREDIAL DE INCENDIO, 45 GRAUS, DIAMETRO DE 2 1/2", COM VOLANTE, CLASSE DE PRESSAO DE ATE 200 PSI | G37: 92 | H37: Un | K37: =I37*(1+J37) -> 0 | L37: =K37*G37 -> 0
B38: 27 | C38: Insumo | D38: SINAPI 05/2026 | E38: 10900 | F38: ADAPTADOR EM LATAO, ENGATE RAPIDO1 1/2" X ROSCA INTERNA 5 FIOS 2 1/2", PARA INSTALACAO PREDIAL DE COMBATE A INCENDIO | G38: 92 | H38: Un | K38: =I38*(1+J38) -> 0 | L38: =K38*G38 -> 0
B39: 28 | C39: Insumo | D39: SINAPI 05/2026 | E39: 20971 | F39: CHAVE DUPLA PARA CONEXOES TIPO STORZ, ENGATE RAPIDO 1 1/2" X 2 1/2", EM LATAO, PARA INSTALACAO PREDIAL COMBATE A INCENDIO | G39: 92 | H39: Un | K39: =I39*(1+J39) -> 0 | L39: =K39*G39 -> 0
B40: 29 | C40: Composição | D40: SINAPI 05/2026 | E40: 99624 | F40: VÁLVULA DE RETENÇÃO HORIZONTAL, DE BRONZE, ROSCÁVEL, 2 1/2" - FORNECIMENTO E INSTALAÇÃO. AF_08/2021 | G40: 4 | H40: Un | K40: =I40*(1+J40) -> 0 | L40: =K40*G40 -> 0
B41: 30 | C41: Composição Própria | D41: SINAPI 05/2026 | E41: 25 | F41: VÁLVULA DE RETENÇÃO HORIZONTAL 4" RANHURADA | G41: 4 | H41: Un | K41: =I41*(1+J41) -> 0 | L41: =K41*G41 -> 0 | M41: SOMENTE 1 FORNECEDOR ENVIOU COTAÇÃO
B42: 31 | C42: Composição | D42: SINAPI 05/2026 | E42: 96525 | F42: ESCAVAÇÃO MECANIZADA PARA VIGA BALDRAME OU SAPATA CORRIDA COM MINI-ESCAVADEIRA (INCLUINDO ESCAVAÇÃO PARA COLOCAÇÃO DE FÔRMAS). AF_01/2024 | G42: 210 | H42: M³ | K42: =I42*(1+J42) -> 0 | L42: =K42*G42 -> 0
B43: 32 | C43: Composição | D43: SINAPI 05/2026 | E43: 104733 | F43: REATERRO MECANIZADO DE VALA COM RETROESCAVADEIRA (CAPACIDADE DA CAÇAMBA DA RETRO: 0,26 M³/POTÊNCIA: 88 HP), LARGURA ATÉ 0,8 M, PROFUNDIDADE ATÉ 1,5 M, COM SOLO (SEM SUBSTITUIÇÃO) DE 1ª CATEGORIA, COM PLACA VIBRATÓRIA. AF_08/2023 | G43: 120 | H43: M³ | K43: =I43*(1+J43) -> 0 | L43: =K43*G43 -> 0
B44: 33 | C44: Composição | D44: SICRO 01/2026 | E44: 2019764 | F44: CANAL MONOBLOCO COM CORPO E GRELHA EM CONCRETO POLÍMERO COM EFEITO AUTOLIMPANTE - CARGA DE CONTROLE DE 400 kN - 100x15,0x23,0 cm - COM FORNECIMENTO E INSTALAÇÃO EM PAVIMENTO DE CONCRETO | G44: 401 | H44: Un | K44: =I44*(1+J44) -> 0 | L44: =K44*G44 -> 0
B45: 34 | C45: Composição | D45: SINAPI 05/2026 | E45: 99624 | F45: VÁLVULA DE RETENÇÃO HORIZONTAL, DE BRONZE, ROSCÁVEL, 2 1/2" - FORNECIMENTO E INSTALAÇÃO. AF_08/2021 | G45: 4 | H45: Un | K45: =I45*(1+J45) -> 0 | L45: =K45*G45 -> 0
B46: 35 | C46: Composição | D46: SINAPI 05/2026 | E46: 95696 | F46: SPRINKLER TIPO PENDENTE, 68 °C, UNIÃO POR ROSCA DN 15 (1/2") - FORNECIMENTO E INSTALAÇÃO. AF_01/2026 | G46: 365 | H46: Un | K46: =I46*(1+J46) -> 0 | L46: =K46*G46 -> 0
B47: 36 | C47: Insumo | D47: SINAPI 05/2026 | E47: 21148 | F47: TUBO ACO CARBONO SEM COSTURA 2", E= *3,91* MM, SCHEDULE 40, *5,43* KG/M | G47: 1680 | H47: M | K47: =I47*(1+J47) -> 0 | L47: =K47*G47 -> 0
B48: 37 | C48: Insumo | D48: SINAPI 05/2026 | E48: 39132 | F48: ABRACADEIRA EM ACO PARA AMARRACAO DE ELETRODUTOS, TIPO D, COM 2" E CUNHA DE FIXACAO | G48: 650 | H48: Un | K48: =I48*(1+J48) -> 0 | L48: =K48*G48 -> 0
B49: 38 | C49: Composição | D49: SINAPI 05/2026 | E49: 97433 | F49: CURVA 45 GRAUS, EM AÇO, CONEXÃO RANHURADA, DN 50 (2"), INSTALADO EM PRUMADAS - FORNECIMENTO E INSTALAÇÃO. AF_01/2026 | G49: 45 | H49: Un | K49: =I49*(1+J49) -> 0 | L49: =K49*G49 -> 0
B50: 39 | C50: Composição | D50: SINAPI 05/2026 | E50: 97434 | F50: CURVA 90 GRAUS, EM AÇO, CONEXÃO RANHURADA, DN 50 (2"), INSTALADO EM PRUMADAS - FORNECIMENTO E INSTALAÇÃO. AF_01/2026 | G50: 40 | H50: Un | K50: =I50*(1+J50) -> 0 | L50: =K50*G50 -> 0
B51: 40 | C51: Composição | D51: SINAPI 05/2026 | E51: 97439 | F51: TÊ, EM AÇO, CONEXÃO RANHURADA, DN 50 (2"), INSTALADO EM PRUMADAS - FORNECIMENTO E INSTALAÇÃO. AF_01/2026 | G51: 50 | H51: Un | K51: =I51*(1+J51) -> 0 | L51: =K51*G51 -> 0
B52: 41 | C52: Composição | D52: SINAPI 05/2026 | E52: 97430 | F52: ACOPLAMENTO RÍGIDO EM AÇO, CONEXÃO RANHURADA, DN 50 (2"), INSTALADO EM PRUMADAS - FORNECIMENTO E INSTALAÇÃO. AF_01/2026 | G52: 45 | H52: Un | K52: =I52*(1+J52) -> 0 | L52: =K52*G52 -> 0
B53: 42 | C53: Composição | D53: SINAPI 05/2026 | E53: 92948 | F53: LUVA DE REDUÇÃO, EM FERRO GALVANIZADO, 2" X 1", CONEXÃO ROSQUEADA, INSTALADO EM REDE DE ALIMENTAÇÃO PARA SPRINKLER - FORNECIMENTO E INSTALAÇÃO. AF_01/2026 | G53: 30 | H53: Un | K53: =I53*(1+J53) -> 0 | L53: =K53*G53 -> 0
... B55: 44 | C55: Composição | D55: SINAPI 05/2026 | E55: 92685 | F55: TÊ, EM FERRO GALVANIZADO, CONEXÃO ROSQUEADA, DN 65 (2 1/2"), INSTALADO EM REDE DE ALIMENTAÇÃO PARA SPRINKLER - FORNECIMENTO E INSTALAÇÃO. AF_01/2026 | G55: 350 | H55: Un | K55: =I55*(1+J55) -> 0 | L55: =K55*G55 -> 0
B56: 45 | C56: Composição Própria | D56: SINAPI 05/2026 | E56: 27 | F56: BOMBA DIESEL - UL - MODELO ref: SIPEC SCF 125-100-300 | G56: 2 | H56: CJ | K56: =I56*(1+J56) -> 0 | L56: =K56*G56 -> 0 | M56: Cotação
B57: 46 | C57: Composição Própria | D57: SINAPI 05/2026 | E57: 28 | F57: BOMBA ELÉTRICA - UL - MODELO ref: CNP NM FIRE SCF100-80-250 | G57: 2 | H57: CJ | K57: =I57*(1+J57) -> 0 | L57: =K57*G57 -> 0 | M57: Cotação
B58: 47 | C58: Composição Própria | D58: SINAPI 05/2026 | E58: 29 | F58: BOMBA JOCKEY - UL - MODELO ref: CDL2-10 | G58: 2 | H58: CJ | K58: =I58*(1+J58) -> 0 | L58: =K58*G58 -> 0 | M58: Cotação
B59: 48 | C59: Composição Própria | D59: SINAPI 05/2026 | E59: 26 | F59: STARTUP, VALVULA DE ALIVIO - CLA-VAL. 2050B-4KG1, WASTE CONE (3" X 5", MEDIDOR DE VAZÃO (4”-300-G) | G59: 2 | H59: CJ | K59: =I59*(1+J59) -> 0 | L59: =K59*G59 -> 0 | M59: Cotação
B60: 49 | C60: Composição | D60: SINAPI 05/2026 | E60: 94483 | F60: CONJUNTO HIDRÁULICO EM AÇO ROSCÁVEL PARA INSTALAÇÃO DE BOMBA, DN SUCÇÃO 32 MM (1 1/4") E DN RECALQUE 25 MM (1"), PARA EDIFICAÇÃO COM 4 PAVIMENTOS - FORNECIMENTO E INSTALAÇÃO. AF_04/2024 | G60: 4 | H60: Un | K60: =I60*(1+J60) -> 0 | L60: =K60*G60 -> 0
B61: 50 | C61: Composição | D61: SINAPI 05/2026 | E61: 98397 | F61: PINTURA ANTICORROSIVA DE DUTO METÁLICO. AF_03/2024 | G61: 1200 | H61: M² | K61: =I61*(1+J61) -> 0 | L61: =K61*G61 -> 0
B62: 51 | C62: Composição | D62: SINAPI 05/2026 | E62: 102513 | F62: PINTURA DE SÍMBOLOS E TEXTOS COM TINTA ACRÍLICA, DEMARCAÇÃO COM FITA ADESIVA E APLICAÇÃO COM ROLO. AF_05/2021 | G62: 150 | H62: M² | K62: =I62*(1+J62) -> 0 | L62: =K62*G62 -> 0
B63: TOTAL ITEM A1 | I63: =SUM(L12:L62) -> 0 | M63: 2500000
B65: A2 | C65: RTI - 75.000 Litros
B66: Subitem | C66: Tipo | D66: Fonte | E66: Codigo | F66: Descrição | G66: Qtd | H66: Un | I66: Preços Unitários s/BDI | J66: BDI (%) | K66: Preços Unitários c/BDI | L66: Total do subitem
B68: 1 | C68: Composição | D68: SINAPI 05/2026 | E68: 91283 | F68: CORTADORA DE PISO COM MOTOR 4 TEMPOS A GASOLINA, POTÊNCIA DE 13 HP, COM DISCO DE CORTE DIAMANTADO SEGMENTADO PARA CONCRETO, DIÂMETRO DE 350 MM, FURO DE 1" (14 X 1") - CHP DIURNO. AF_08/2015 | G68: 80 | H68: Hora | K68: =I68*(1+J68) -> 0 | L68: =K68*G68 -> 0
B69: 2 | C69: Composição | D69: SINAPI 05/2026 | E69: 96521 | F69: ESCAVAÇÃO MECANIZADA PARA BLOCO DE COROAMENTO OU SAPATA COM RETROESCAVADEIRA (INCLUINDO ESCAVAÇÃO PARA COLOCAÇÃO DE FÔRMAS). AF_01/2024 | G69: 153.9 | H69: M³ | K69: =I69*(1+J69) -> 0 | L69: =K69*G69 -> 0
B70: 3 | C70: Composição | D70: SINAPI 05/2026 | E70: 97083 | F70: COMPACTAÇÃO MECÂNICA DE SOLO PARA EXECUÇÃO DE RADIER, PISO DE CONCRETO OU LAJE SOBRE SOLO, COM COMPACTADOR DE SOLOS A PERCUSSÃO. AF_09/2021 | G70: 75.69 | H70: M² | K70: =I70*(1+J70) -> 0 | L70: =K70*G70 -> 0
B71: 4 | C71: Composição | D71: SINAPI 05/2026 | E71: 95240 | F71: LASTRO DE CONCRETO MAGRO, APLICADO EM PISOS, LAJES SOBRE SOLO OU RADIERS, ESPESSURA DE 3 CM. AF_01/2024 | G71: 75.69 | H71: M² | K71: =I71*(1+J71) -> 0 | L71: =K71*G71 -> 0
B72: 5 | C72: Composição | D72: SINAPI 05/2026 | E72: 103072 | F72: EXECUÇÃO DE RADIER, ESPESSURA DE 25 CM, FCK = 30 MPA, COM USO DE FORMAS EM MADEIRA SERRADA. AF_09/2021 | G72: 64 | H72: M² | K72: =I72*(1+J72) -> 0 | L72: =K72*G72 -> 0
B73: 6 | C73: Composição | D73: SINAPI 05/2026 | E73: 96531 | F73: FABRICAÇÃO, MONTAGEM E DESMONTAGEM DE FÔRMA PARA BLOCO DE COROAMENTO, EM MADEIRA SERRADA, E=25 MM, 2 UTILIZAÇÕES. AF_01/2024 | G73: 80.64 | H73: M² | K73: =I73*(1+J73) -> 0 | L73: =K73*G73 -> 0
B74: 7 | C74: Composição | D74: SICRO 01/2026 | E74: 407819 | F74: Armação em aço CA-50 - fornecimento, preparo e colocação | G74: 2840.5 | H74: KG | K74: =I74*(1+J74) -> 0 | L74: =K74*G74 -> 0
B75: 8 | C75: Composição | D75: SINAPI 05/2026 | E75: 96557 | F75: CONCRETAGEM DE BLOCO DE COROAMENTO OU VIGA BALDRAME, FCK 30 MPA, COM USO DE BOMBA - LANÇAMENTO, ADENSAMENTO E ACABAMENTO. AF_01/2024 | G75: 21.85 | H75: M³ | K75: =I75*(1+J75) -> 0 | L75: =K75*G75 -> 0
B76: 9 | C76: Composição | D76: SINAPI 05/2026 | E76: 92510 | F76: MONTAGEM E DESMONTAGEM DE FÔRMA DE LAJE MACIÇA, PÉ-DIREITO SIMPLES, EM CHAPA DE MADEIRA COMPENSADA RESINADA, 2 UTILIZAÇÕES. AF_09/2020 | G76: 64 | H76: M² | K76: =I76*(1+J76) -> 0 | L76: =K76*G76 -> 0
B77: 10 | C77: Composição | D77: SINAPI 05/2026 | E77: 98555 | F77: IMPERMEABILIZAÇÃO DE SUPERFÍCIE COM ARGAMASSA POLIMÉRICA / MEMBRANA ACRÍLICA, 3 DEMÃOS. AF_09/2023 | G77: 102.4 | H77: M² | K77: =I77*(1+J77) -> 0 | L77: =K77*G77 -> 0
B78: 11 | C78: Composição | D78: SINAPI 05/2026 | E78: 98557 | F78: IMPERMEABILIZAÇÃO DE SUPERFÍCIE COM EMULSÃO ASFÁLTICA, 2 DEMÃOS. AF_09/2023 | G78: 64 | H78: M² | K78: =I78*(1+J78) -> 0 | L78: =K78*G78 -> 0
B79: 12 | C79: Composição | D79: SINAPI 05/2026 | E79: 98566 | F79: PROTEÇÃO MECÂNICA DE SUPERFÍCIE VERTICAL COM ARGAMASSA DE CIMENTO E AREIA, TRAÇO 1:3, E=3CM. AF_09/2023 | G79: 38.4 | H79: M² | K79: =I79*(1+J79) -> 0 | L79: =K79*G79 -> 0
... B82: 15 | C82: Composição | D82: SICRO 01/2026 | E82: 4815671 | F82: Reaterro e compactação com soquete vibratório | G82: 8.7 | H82: M³ | K82: =I82*(1+J82) -> 0 | L82: =K82*G82 -> 0
B83: TOTAL ITEM A2 | I83: =SUM(L68:M82) -> 0
B85: A3 | C85: RTI - 35.000 Litros
B86: Subitem | C86: Tipo | D86: Fonte | E86: Codigo | F86: Descrição | G86: Qtd | H86: Un | I86: Preços Unitários s/BDI | J86: BDI (%) | K86: Preços Unitários c/BDI | L86: Total do subitem
B88: 1 | C88: Composição | D88: SINAPI 05/2026 | E88: 91283 | F88: CORTADORA DE PISO COM MOTOR 4 TEMPOS A GASOLINA, POTÊNCIA DE 13 HP, COM DISCO DE CORTE DIAMANTADO SEGMENTADO PARA CONCRETO, DIÂMETRO DE 350 MM, FURO DE 1" (14 X 1") - CHP DIURNO. AF_08/2015 | G88: 38 | H88: Hora | K88: =I88*(1+J88) -> 0 | L88: =K88*G88 -> 0
B89: 2 | C89: Composição | D89: SINAPI 05/2026 | E89: 96521 | F89: ESCAVAÇÃO MECANIZADA PARA BLOCO DE COROAMENTO OU SAPATA COM RETROESCAVADEIRA (INCLUINDO ESCAVAÇÃO PARA COLOCAÇÃO DE FÔRMAS). AF_01/2024 | G89: 68.4 | H89: M³ | K89: =I89*(1+J89) -> 0 | L89: =K89*G89 -> 0
B90: 3 | C90: Composição | D90: SINAPI 05/2026 | E90: 97083 | F90: COMPACTAÇÃO MECÂNICA DE SOLO PARA EXECUÇÃO DE RADIER, PISO DE CONCRETO OU LAJE SOBRE SOLO, COM COMPACTADOR DE SOLOS A PERCUSSÃO. AF_09/2021 | G90: 29.16 | H90: M² | K90: =I90*(1+J90) -> 0 | L90: =K90*G90 -> 0
B91: 4 | C91: Composição | D91: SINAPI 05/2026 | E91: 95240 | F91: LASTRO DE CONCRETO MAGRO, APLICADO EM PISOS, LAJES SOBRE SOLO OU RADIERS, ESPESSURA DE 3 CM. AF_01/2024 | G91: 29.16 | H91: M² | K91: =I91*(1+J91) -> 0 | L91: =K91*G91 -> 0
B92: 5 | C92: Composição | D92: SINAPI 05/2026 | E92: 103072 | F92: EXECUÇÃO DE RADIER, ESPESSURA DE 25 CM, FCK = 30 MPA, COM USO DE FORMAS EM MADEIRA SERRADA. AF_09/2021 | G92: 25 | H92: M² | K92: =I92*(1+J92) -> 0 | L92: =K92*G92 -> 0
B93: 6 | C93: Composição | D93: SINAPI 05/2026 | E93: 96531 | F93: FABRICAÇÃO, MONTAGEM E DESMONTAGEM DE FÔRMA PARA BLOCO DE COROAMENTO, EM MADEIRA SERRADA, E=25 MM, 2 UTILIZAÇÕES. AF_01/2024 | G93: 56 | H93: M² | K93: =I93*(1+J93) -> 0 | L93: =K93*G93 -> 0
B94: 7 | C94: Composição | D94: SICRO 01/2026 | E94: 407819 | F94: Armação em aço CA-50 - fornecimento, preparo e colocação | G94: 1378 | H94: KG | K94: =I94*(1+J94) -> 0 | L94: =K94*G94 -> 0
B95: 8 | C95: Composição | D95: SINAPI 05/2026 | E95: 96557 | F95: CONCRETAGEM DE BLOCO DE COROAMENTO OU VIGA BALDRAME, FCK 30 MPA, COM USO DE BOMBA - LANÇAMENTO, ADENSAMENTO E ACABAMENTO. AF_01/2024 | G95: 10.6 | H95: M³ | K95: =I95*(1+J95) -> 0 | L95: =K95*G95 -> 0
B96: 9 | C96: Composição | D96: SINAPI 05/2026 | E96: 92510 | F96: MONTAGEM E DESMONTAGEM DE FÔRMA DE LAJE MACIÇA, PÉ-DIREITO SIMPLES, EM CHAPA DE MADEIRA COMPENSADA RESINADA, 2 UTILIZAÇÕES. AF_09/2020 | G96: 25 | H96: M² | K96: =I96*(1+J96) -> 0 | L96: =K96*G96 -> 0
B97: 10 | C97: Composição | D97: SINAPI 05/2026 | E97: 98555 | F97: IMPERMEABILIZAÇÃO DE SUPERFÍCIE COM ARGAMASSA POLIMÉRICA / MEMBRANA ACRÍLICA, 3 DEMÃOS. AF_09/2023 | G97: 53 | H97: M² | K97: =I97*(1+J97) -> 0 | L97: =K97*G97 -> 0
B98: 11 | C98: Composição | D98: SINAPI 05/2026 | E98: 98557 | F98: IMPERMEABILIZAÇÃO DE SUPERFÍCIE COM EMULSÃO ASFÁLTICA, 2 DEMÃOS. AF_09/2023 | G98: 25 | H98: M² | K98: =I98*(1+J98) -> 0 | L98: =K98*G98 -> 0
B99: 12 | C99: Composição | D99: SINAPI 05/2026 | E99: 98566 | F99: PROTEÇÃO MECÂNICA DE SUPERFÍCIE VERTICAL COM ARGAMASSA DE CIMENTO E AREIA, TRAÇO 1:3, E=3CM. AF_09/2023 | G99: 28 | H99: M² | K99: =I99*(1+J99) -> 0 | L99: =K99*G99 -> 0
... B102: 15 | C102: Composição | D102: SICRO 01/2026 | E102: 4815671 | F102: Reaterro e compactação com soquete vibratório | G102: 4.2 | H102: M³ | K102: =I102*(1+J102) -> 0 | L102: =K102*G102 -> 0
B103: TOTAL ITEM A3 | I103: =SUM(L88:L102) -> 0
B105: B | D105: CASA DE BOMBAS - SUPORTES (PILARETES) CONSTRUÇÃO CIVIL
B107: B1 | C107: Execução das Obras dos Suportes (Pilaretes)
B108: Subitem | C108: Tipo | D108: Fonte | E108: Codigo | F108: Descrição | G108: Qtd | H108: Un | I108: Preços Unitários s/BDI | J108: BDI (%) | K108: Preços Unitários c/BDI | L108: Total do subitem
B110: 1 | C110: Composição | D110: SINAPI 05/2026 | E110: 91283 | F110: CORTADORA DE PISO COM MOTOR 4 TEMPOS A GASOLINA, POTÊNCIA DE 13 HP, COM DISCO DE CORTE DIAMANTADO SEGMENTADO PARA CONCRETO, DIÂMETRO DE 350 MM, FURO DE 1" (14 X 1") - CHP DIURNO. AF_08/2015 | G110: 100 | H110: Hora | K110: =I110*(1+J110) -> 0 | L110: =K110*G110 -> 0
B111: 3 | C111: Composição | D111: SINAPI 05/2026 | E111: 89455 | F111: PILARETES-SUPORTES-ALVENARIA DE BLOCOS DE CONCRETO ESTRUTURAL 14X19X39 CM (ESPESSURA 14 CM), FBK = 14 MPA, UTILIZANDO PALHETA. AF_10/2022 | G111: 420 | H111: M² | K111: =I111*(1+J111) -> 0 | L111: =K111*G111 -> 0
B112: 3 | C112: Composição | D112: SINAPI 05/2026 | E112: 97103 | F112: BASE DOS PILARETES-SUPORTE-EXECUÇÃO DE RADIER, ESPESSURA DE 20 CM, FCK = 30 MPA, COM USO DE FORMAS EM MADEIRA SERRADA. AF_09/2021 | G112: 105 | H112: M² | K112: =I112*(1+J112) -> 0 | L112: =K112*G112 -> 0
B113: 4 | C113: Composição | D113: SINAPI 05/2026 | E113: 97097 | F113: ACABAMENTO POLIDO PARA PISO DE CONCRETO ARMADO OU LAJE SOBRE SOLO DE ALTA RESISTÊNCIA. AF_09/2021 | G113: 420 | H113: M² | K113: =I113*(1+J113) -> 0 | L113: =K113*G113 -> 0
B114: TOTAL ITEM B1 | I114: =SUM(L110:L113) -> 0
B116: B2 | C116: Execução das Obras da Casa de Bomas (RTI - 75.000 Litros) Alvenaria e Pintura | F116: Custo da Administração Local
B117: Subitem | C117: Tipo | D117: Fonte | E117: Codigo | F117: Descrição | G117: Qtd | H117: Un | I117: Preços Unitários s/BDI | J117: BDI (%) | K117: Preços Unitários c/BDI | L117: Total do subitem
B119: 1 | C119: Composição | D119: SINAPI 05/2026 | E119: 97102 | F119: EXECUÇÃO DE RADIER, ESPESSURA DE 15 CM, FCK = 30 MPA, COM USO DE FORMAS EM MADEIRA SERRADA. AF_09/2021 | G119: 45 | H119: M² | K119: =I119*(1+J119) -> 0 | L119: =K119*G119 -> 0
B120: 2 | C120: Composição | D120: SINAPI 05/2026 | E120: 103672 | F120: CONCRETAGEM DE PILARES, FCK = 25 MPA, COM USO DE BOMBA - LANÇAMENTO, ADENSAMENTO E ACABAMENTO. AF_02/2022_PS | G120: 7 | H120: M³ | K120: =I120*(1+J120) -> 0 | L120: =K120*G120 -> 0
...

Sheet SINTETICA
B2: PLANILHA MODELO PARA COMPOSIÇÃO DO TERMO DE REFERÊNCIA
B4: MODELO DE PROPOSTA - SINTÉTICA
B5: Nº Item | C5: Descrição | D5: Valor
B6: A | C6: =DETALHADA!D7 -> Obras do Sistema de Hidrantes do Porto de São Francsico do Sul e Terminal Graneleiro
B7: A1 | C7: =DETALHADA!C9 -> Rde Hidráulica | D7: =DETALHADA!I63 -> 0
B8: A2 | C8: =DETALHADA!C65 -> RTI - 75.000 Litros | D8: =DETALHADA!I83 -> 0
B9: A3 | C9: =DETALHADA!C85 -> RTI - 35.000 Litros | D9: =DETALHADA!I103 -> 0
B10: B | C10: =DETALHADA!D105 -> CASA DE BOMBAS - SUPORTES (PILARETES) CONSTRUÇÃO CIVIL
B11: B1 | C11: =DETALHADA!C107 -> Execução das Obras dos Suportes (Pilaretes) | D11: =DETALHADA!I114 -> 0
B12: B2 | C12: =DETALHADA!C116 -> Execução das Obras da Casa de Bomas (RTI - 75.000 Litros) Alvenaria e Pintura | D12: =DETALHADA!I132 -> 0
B13: B3 | C13: =DETALHADA!C134 -> Custo das Instalações Elétricas e Hidráulicas (Casa de Bomas - RTI - 75.000 Litros) | D13: =DETALHADA!I150 -> 0
B14: B4 | C14: =DETALHADA!C152 -> Execução das Obras da Casa de Bomas (RTI - 35.000 Litros) Alvenaria e Pintura | D14: =DETALHADA!I168 -> 0
B15: B5 | C15: =DETALHADA!C170 -> Custo das Instalações Elétricas e Hidráulicas (Casa de Bomas - RTI - 35.000 Litros) | D15: =DETALHADA!I186 -> 0
B16: B6 | C16: =DETALHADA!C188 -> Custo de Mobilização e Desmobilização | D16: =DETALHADA!I196 -> 0
B17: C | C17: =DETALHADA!D198 -> EQUIPE TÉCNICA
B18: C1 | C18: =DETALHADA!C200 -> Custo da Administração Local | D18: =DETALHADA!I211 -> 0
B19: C2 | C19: =DETALHADA!C213 -> Custo do Escritório Canteiros de Obras | D19: =DETALHADA!I219 -> 0
B20: C3 | C20: =DETALHADA!C221 -> Custo do Projeto Executivo | D20: =DETALHADA!I226 -> 0
B21: TOTAL | D21: =SUM(D6:D20) -> 0
