Workbook
Name Descrição: Tabelas!$I$2:$I$5
Name identificador: Tabelas!$G$3:$G$4

Sheet Lotes
A1: Lote | B1: Item | C1: Código BBM | D1: Código Próprio | E1: Descrição Produto | F1: Descrição Técnica Produto | G1: Quantidade | H1: Descrição unidade | I1: Unidade | J1: Preço de Referência | K1: Valor Total | L1: Observação | M1: ICMS / IPI | N1: ICMS / IPI - Destino (UF) | O1: Alíquota ICMS % | P1: Tipo ICMS | Q1: Exigir Marca do Produto | R1: Anexar Arquivos Técnicos | S1: Divulgar Preço de Referência | T1: Quantidade de Casas Decimais | U1: Variação Mínima | V1: Participação do Licitante
A2: 1 | B2: 1 | E2: TESTE 1 | F2: TESTE 1 | G2: 10 | H2: Unidade | I2: =IF(ISBLANK(H2),"",VLOOKUP(H2,Tabelas!$A$3:$B$219,2,FALSE)) -> 5 | J2: 5 | K2: =G2*J2 -> 50 | Q2: Sim | R2: PROP | S2: Sim | T2: 2 | U2: 0 | V2: Ampla Participação
A3: 2 | B3: 1 | I3: =IF(ISBLANK(H3),"",VLOOKUP(H3,Tabelas!$A$3:$B$219,2,FALSE)) | K3: =G3*J3 -> 0
I4: =IF(ISBLANK(H4),"",VLOOKUP(H4,Tabelas!$A$3:$B$219,2,FALSE)) | K4: =G4*J4 -> 0
I5: =IF(ISBLANK(H5),"",VLOOKUP(H5,Tabelas!$A$3:$B$219,2,FALSE)) | K5: =G5*J5 -> 0
I6: =IF(ISBLANK(H6),"",VLOOKUP(H6,Tabelas!$A$3:$B$219,2,FALSE)) | K6: =G6*J6 -> 0
I7: =IF(ISBLANK(H7),"",VLOOKUP(H7,Tabelas!$A$3:$B$219,2,FALSE)) | K7: =G7*J7 -> 0
I8: =IF(ISBLANK(H8),"",VLOOKUP(H8,Tabelas!$A$3:$B$219,2,FALSE)) | K8: =G8*J8 -> 0
I9: =IF(ISBLANK(H9),"",VLOOKUP(H9,Tabelas!$A$3:$B$219,2,FALSE)) | K9: =G9*J9 -> 0
I10: =IF(ISBLANK(H10),"",VLOOKUP(H10,Tabelas!$A$3:$B$219,2,FALSE)) | K10: =G10*J10 -> 0
I11: =IF(ISBLANK(H11),"",VLOOKUP(H11,Tabelas!$A$3:$B$219,2,FALSE)) | K11: =G11*J11 -> 0
I12: =IF(ISBLANK(H12),"",VLOOKUP(H12,Tabelas!$A$3:$B$219,2,FALSE)) | K12: =G12*J12 -> 0
I13: =IF(ISBLANK(H13),"",VLOOKUP(H13,Tabelas!$A$3:$B$219,2,FALSE)) | K13: =G13*J13 -> 0
I14: =IF(ISBLANK(H14),"",VLOOKUP(H14,Tabelas!$A$3:$B$219,2,FALSE)) | K14: =G14*J14 -> 0
I15: =IF(ISBLANK(H15),"",VLOOKUP(H15,Tabelas!$A$3:$B$219,2,FALSE)) | K15: =G15*J15 -> 0
... I4000: =IF(ISBLANK(H4000),"",VLOOKUP(H4000,Tabelas!$A$3:$B$219,2,FALSE)) | K4000: =G4000*J4000 -> 0

Sheet Tabelas
A1: Unidades De Medida | D1: Tipo ICMS | G1: Identificador | I1: Participação Licitante | L1: Cacarteres por linha na Descrição Produto | N1: Proposta Final
A2: Descrição | B2: Código | D2: Código | E2: Descrição | G2: Código | I2: Descrição | K2: Linha | L2: Quantidade | N2: Código
A3: Adesivo | B3: 111 | D3: 0 | E3: Nenhum | G3: Sim | I3: Ampla Participação | K3: 2 | L3: =LEN(Lotes!E2) -> 7 | N3: Sim
A4: Amarrado | B4: 112 | D4: 1 | E4: Investimento | G4: Não | I4: Diferenciado para ME/EPP/COOP (cota 25%) | K4: 3 | L4: =LEN(Lotes!E3) -> 0 | N4: Não
A5: Ampola | B5: 113 | D5: 2 | E5: Consumo / Desembolso | I5: Participação exclusiva Me/EPP/COOP | K5: 4 | L5: =LEN(Lotes!E4) -> 0
A6: Ampola | B6: 31 | K6: 5 | L6: =LEN(Lotes!E5) -> 0
A7: Anual | B7: 77 | K7: 6 | L7: =LEN(Lotes!E6) -> 0
A8: Arroba | B8: 11 | K8: 7 | L8: =LEN(Lotes!E7) -> 0
A9: Balde | B9: 60 | K9: 8 | L9: =LEN(Lotes!E8) -> 0
A10: Baldes | B10: 114 | K10: 9 | L10: =LEN(Lotes!E9) -> 0
A11: Bandeja | B11: 115 | K11: 10 | L11: =LEN(Lotes!E10) -> 0
A12: Bandeja | B12: 71 | K12: 11 | L12: =LEN(Lotes!E11) -> 0
A13: Barra | B13: 62 | K13: 12 | L13: =LEN(Lotes!E12) -> 0
A14: Barra | B14: 116 | K14: 13 | L14: =LEN(Lotes!E13) -> 0
A15: Barrica | B15: 125 | K15: 14 | L15: =LEN(Lotes!E14) -> 0
A16: Bastao | B16: 117 | K16: 15 | L16: =LEN(Lotes!E15) -> 0
A17: Bisnaga | B17: 118 | K17: 16 | L17: =LEN(Lotes!E16) -> 0
... A221: Sessão | B221: 221 | K221: 220 | L221: =LEN(Lotes!E220) -> 0
K222: 221 | L222: =LEN(Lotes!E221) -> 0
K223: 222 | L223: =LEN(Lotes!E222) -> 0
K224: 223 | L224: =LEN(Lotes!E223) -> 0
K225: 224 | L225: =LEN(Lotes!E224) -> 0
K226: 225 | L226: =LEN(Lotes!E225) -> 0
K227: 226 | L227: =LEN(Lotes!E226) -> 0
K228: 227 | L228: =LEN(Lotes!E227) -> 0
K229: 228 | L229: =LEN(Lotes!E228) -> 0
K230: 229 | L230: =LEN(Lotes!E229) -> 0
K231: 230 | L231: =LEN(Lotes!E230) -> 0
K232: 231 | L232: =LEN(Lotes!E231) -> 0
K233: 232 | L233: =LEN(Lotes!E232) -> 0
... K4001: 4000 | L4001: =LEN(Lotes!E4000) -> 0

Sheet Exemplo
A1: Lote | B1: Item | C1: Descrição Produto | D1: Descrição Técnica Produto | E1: Quantidade | F1: Descrição Unidade | G1: Unidade | H1: Preço de Referência | I1: Valor Total | J1: Exigir Marca do Produto | K1: Anexar Arquivos Técnicos | L1: Divulgar Preço de Referência | M1: Quantidade de Casas Decimais | N1: Variação Mínima | O1: Participação do Licitante
A2: 1 | B2: 1 | C2: ND | D2: ND | E2: 5 | F2: Unidade | G2: 5 | H2: 500 | I2: =E2*H2 -> 2500 | J2: Sim | K2: Não | L2: Sim | M2: 2 | N2: 1 | O2: Ampla Participação
A3: 2 | B3: 1 | C3: Mouse wireless | D3: ND | E3: 5 | F3: Unidade | G3: 5 | H3: 200 | I3: =E3*H3 -> 1000 | J3: Não | K3: Não | L3: Sim | M3: 2 | N3: 0.5 | O3: Diferenciado para ME/EPP/COOP (cota 25%)
