Workbook
Name ÁREA_CONSTRUIDA: 'PLANILHA ORÇAMENTÁRIA'!$N$3
Name ÁREA_CONSTRUIDA_BARRA: #REF!
Name ÁREA_CONSTRUIDA_NI: #REF!
Name ÁREA_CONSTRUIDA_REF: #REF!
Name DT_CT_ENC_PREDIAL: '[1]CONT PAG PREDIAL'!$M$14
Name DT_CT_PREDIAL: '[1]CONT PAG PREDIAL'!$H$14
Name PERCENT_REAL_PREDIAL: '[1]CONT PAG PREDIAL'!$M$29
Name PRAZO_DE_OBRA: 'PLANILHA ORÇAMENTÁRIA'!$N$4
Name Qtd_MO_PREDIAL: '[1]PAINEL CONTRATOS'!$H$25
Name TOTAL_PAGO_PREDIAL: '[1]CONT PAG PREDIAL'!$M$28
Name VLR_CT_PREDIAL: '[1]CONT PAG PREDIAL'!$M$19

Sheet PLANILHA ORÇAMENTÁRIA
E1: PLANILHA ORÇAMENTÁRIA OBRAS E REFORMAS DE UNIDADES
E3: FORNECEDOR | J3: VALOR MÁXIMO | M3: ÁREA CONSTRUÍDA (m²) | N3: 1150.02
E4: RESPONSÁVEL TÉCNICO | M4: PRAZO DE OBRA (em dias corridos) | N4: 105
E5: CREA / CAU
E6: DATA
E8: UNIDADE SEBRAE | F8: ESCOLA SEBRAE DE NEGÓCIOS
E9: ENDEREÇO | F9: {=IFERROR(_xlfn.IFS(F8=AUXILIAR!B1,AUXILIAR!D1,F8=AUXILIAR!B2,AUXILIAR!D2,F8=AUXILIAR!B3,AUXILIAR!D3),"")} -> AV. MARECHAL CÂMARA, 171 - 2º ANDAR - CENTRO
A11: FILT. | B11: IND. | C11: Coluna1 | D11: . | E11: ITEM | F11: ESCOPO - DESCRITIVO | G11: ETAPA | H11: QUANT | I11: UNID | J11: VALOR UNIT MÁX. | K11: VALOR TOTAL MÁX.
A12: {=_xlfn.IFS(B12<1,"",B12<=2,1,B12<=4,2,B12<=8,3)} -> 1 | B12: =LEN('PLANILHA ORÇAMENTÁRIA'!$E12) -> 1 | C12: =IF(Tabela6[[#This Row],[QUANT]]="x","x","") | E12: 1 | F12: SERVIÇOS PRELIMINARES | H12: =IF(SUM(H13:H34)=0,"x","") | K12: =SUMIF($A$12:$A$34,"2",K12:K34) -> 305406.29
A13: {=_xlfn.IFS(B13<1,"",B13<=2,1,B13<=4,2,B13<=8,3)} -> 2 | B13: =LEN('PLANILHA ORÇAMENTÁRIA'!$E13) -> 3 | C13: =IF(Tabela6[[#This Row],[QUANT]]="x","x","") | E13: 1.1 | F13: DOCUMENTAÇÃO E TAXAS | H13: =IF(SUM(H14:H19)=0,"x","") | K13: =SUMIF($A$14:$A$19,"3",K14:K19) -> 31340.83
A14: {=_xlfn.IFS(B14<1,"",B14<=2,1,B14<=4,2,B14<=8,3)} -> 3 | B14: =LEN('PLANILHA ORÇAMENTÁRIA'!$E14) -> 5 | C14: =IF(AND(Tabela6[[#This Row],[IND.]]>=5,Tabela6[[#This Row],[QUANT]]=0),"X","") | E14: 1.1.1 | F14: PLACA DE OBRA | G14: ETAPA ÚNICA | H14: 1 | I14: UN | J14: 868.73 | K14: 868.73
A15: {=_xlfn.IFS(B15<1,"",B15<=2,1,B15<=4,2,B15<=8,3)} -> 3 | B15: =LEN('PLANILHA ORÇAMENTÁRIA'!$E15) -> 5 | C15: =IF(AND(Tabela6[[#This Row],[IND.]]>=5,Tabela6[[#This Row],[QUANT]]=0),"X","") | E15: 1.1.2 | F15: ART - ATESTADO DE RESPONSABILIDADE TÉCNICA | G15: ETAPA ÚNICA | H15: 1 | I15: VB | J15: 638.5 | K15: 638.5
A16: {=_xlfn.IFS(B16<1,"",B16<=2,1,B16<=4,2,B16<=8,3)} -> 3 | B16: =LEN('PLANILHA ORÇAMENTÁRIA'!$E16) -> 5 | C16: =IF(AND(Tabela6[[#This Row],[IND.]]>=5,Tabela6[[#This Row],[QUANT]]=0),"X","") | E16: 1.1.3 | F16: SEGURO DE OBRA | G16: ETAPA ÚNICA | H16: 1 | I16: VB | J16: 17980.4 | K16: 17980.4
A17: {=_xlfn.IFS(B17<1,"",B17<=2,1,B17<=4,2,B17<=8,3)} -> 3 | B17: =LEN('PLANILHA ORÇAMENTÁRIA'!$E17) -> 5 | C17: =IF(AND(Tabela6[[#This Row],[IND.]]>=5,Tabela6[[#This Row],[QUANT]]=0),"X","") | E17: 1.1.4 | F17: APROVAÇÃO DE PROJETO DE CORPO DE BOMBEIROS | G17: ETAPA ÚNICA | H17: 1 | I17: VB | J17: 6938 | K17: 6938
A18: {=_xlfn.IFS(B18<1,"",B18<=2,1,B18<=4,2,B18<=8,3)} -> 3 | B18: =LEN('PLANILHA ORÇAMENTÁRIA'!$E18) -> 5 | C18: =IF(AND(Tabela6[[#This Row],[IND.]]>=5,Tabela6[[#This Row],[QUANT]]=0),"X","") -> X | E18: 1.1.5 | F18: APROVAÇÃO DE PROJETO JUNTO AO CONDOMÍNIO LOCAL | G18: ETAPA ÚNICA | I18: VB | J18: 0 | K18: 0
A19: {=_xlfn.IFS(B19<1,"",B19<=2,1,B19<=4,2,B19<=8,3)} -> 3 | B19: =LEN('PLANILHA ORÇAMENTÁRIA'!$E19) -> 5 | C19: =IF(AND(Tabela6[[#This Row],[IND.]]>=5,Tabela6[[#This Row],[QUANT]]=0),"X","") | E19: 1.1.5 | F19: APROVAÇÃO DE PROJETO NO GEM | G19: ETAPA ÚNICA | H19: 1 | I19: VB | J19: 4915.2 | K19: 4915.2
A20: {=_xlfn.IFS(B20<1,"",B20<=2,1,B20<=4,2,B20<=8,3)} -> 2 | B20: =LEN('PLANILHA ORÇAMENTÁRIA'!$E20) -> 3 | C20: =IF(Tabela6[[#This Row],[QUANT]]="x","x","") | E20: 1.2 | F20: INSTALAÇÕES PROVISÓRIAS | H20: =IF(SUM(H21:H25)=0,"x","") | K20: =SUMIF($A$21:$A$25,"3",K21:K25) -> 21417.568
A21: {=_xlfn.IFS(B21<1,"",B21<=2,1,B21<=4,2,B21<=8,3)} -> 3 | B21: =LEN('PLANILHA ORÇAMENTÁRIA'!$E21) -> 5 | C21: =IF(AND(Tabela6[[#This Row],[IND.]]>=5,Tabela6[[#This Row],[QUANT]]=0),"X","") | E21: 1.2.1 | F21: IMPLANTAÇÃO DE CANTEIRO / ESCRITÓRIO DE OBRA | G21: ETAPA ÚNICA | H21: =ÁREA_CONSTRUIDA -> 1150.02 | I21: M2 | J21: 16.38 | K21: 18837.328
A22: {=_xlfn.IFS(B22<1,"",B22<=2,1,B22<=4,2,B22<=8,3)} -> 3 | B22: =LEN('PLANILHA ORÇAMENTÁRIA'!$E22) -> 5 | C22: =IF(AND(Tabela6[[#This Row],[IND.]]>=5,Tabela6[[#This Row],[QUANT]]=0),"X","") -> X | E22: 1.2.2 | F22: INSTALAÇÕES ELÉTRICAS PROVISÓRIAS | G22: ETAPA ÚNICA | I22: M2 | J22: 0 | K22: 0
A23: {=_xlfn.IFS(B23<1,"",B23<=2,1,B23<=4,2,B23<=8,3)} -> 3 | B23: =LEN('PLANILHA ORÇAMENTÁRIA'!$E23) -> 5 | C23: =IF(AND(Tabela6[[#This Row],[IND.]]>=5,Tabela6[[#This Row],[QUANT]]=0),"X","") -> X | E23: 1.2.3 | F23: INSTALAÇÕES HIDROSSANITÁRIAS PROVISÓRIAS | G23: ETAPA ÚNICA | I23: M2 | J23: 0 | K23: 0
A24: {=_xlfn.IFS(B24<1,"",B24<=2,1,B24<=4,2,B24<=8,3)} -> 3 | B24: =LEN('PLANILHA ORÇAMENTÁRIA'!$E24) -> 5 | C24: =IF(AND(Tabela6[[#This Row],[IND.]]>=5,Tabela6[[#This Row],[QUANT]]=0),"X","") | E24: 1.2.4 | F24: EQUIPAMENTOS DE SUPORTE (FILTRO, GELADEIRA, MICROONDAS, ETC) | G24: ETAPA ÚNICA | H24: 1 | I24: VB | J24: 1250.07 | K24: 1250.07
A25: {=_xlfn.IFS(B25<1,"",B25<=2,1,B25<=4,2,B25<=8,3)} -> 3 | B25: =LEN('PLANILHA ORÇAMENTÁRIA'!$E25) -> 5 | C25: =IF(AND(Tabela6[[#This Row],[IND.]]>=5,Tabela6[[#This Row],[QUANT]]=0),"X","") | E25: 1.2.5 | F25: MOBILIÁRIO PROVISÓRIO (MESA E CADEIRA) | G25: ETAPA ÚNICA | H25: 1 | I25: VB | J25: 1330.17 | K25: 1330.17
A26: {=_xlfn.IFS(B26<1,"",B26<=2,1,B26<=4,2,B26<=8,3)} -> 2 | B26: =LEN('PLANILHA ORÇAMENTÁRIA'!$E26) -> 3 | C26: =IF(Tabela6[[#This Row],[QUANT]]="x","x","") | E26: 1.3 | F26: ELABORAÇÃO DE PROJETOS EXECUTIVOS | H26: =IF(SUM(H27:H34)=0,"x","") | K26: =SUMIF($A$27:$A$34,"3",K27:K34) -> 252647.89
A27: {=_xlfn.IFS(B27<1,"",B27<=2,1,B27<=4,2,B27<=8,3)} -> 3 | B27: =LEN('PLANILHA ORÇAMENTÁRIA'!$E27) -> 5 | C27: =IF(AND(Tabela6[[#This Row],[IND.]]>=5,Tabela6[[#This Row],[QUANT]]=0),"X","") | E27: 1.3.1 | F27: PROJETO EXECUTIVO DE ARQUITETURA | G27: ETAPA ÚNICA | H27: =ÁREA_CONSTRUIDA -> 1150.02 | I27: M2 | J27: 44.38 | K27: 51037.888
A28: {=_xlfn.IFS(B28<1,"",B28<=2,1,B28<=4,2,B28<=8,3)} -> 3 | B28: =LEN('PLANILHA ORÇAMENTÁRIA'!$E28) -> 5 | C28: =IF(AND(Tabela6[[#This Row],[IND.]]>=5,Tabela6[[#This Row],[QUANT]]=0),"X","") | E28: 1.3.2 | F28: PROJETO EXECUTIVO DE INSTALAÇÕES ELÉTRICAS | G28: ETAPA ÚNICA | H28: =ÁREA_CONSTRUIDA -> 1150.02 | I28: M2 | J28: 23.72 | K28: 27278.474
A29: {=_xlfn.IFS(B29<1,"",B29<=2,1,B29<=4,2,B29<=8,3)} -> 3 | B29: =LEN('PLANILHA ORÇAMENTÁRIA'!$E29) -> 5 | C29: =IF(AND(Tabela6[[#This Row],[IND.]]>=5,Tabela6[[#This Row],[QUANT]]=0),"X","") | E29: 1.3.3 | F29: PROJETO EXECUTIVO DE INSTALAÇÕES HIDROSSANITÁRIAS | G29: ETAPA ÚNICA | H29: =ÁREA_CONSTRUIDA -> 1150.02 | I29: M2 | J29: 24.32 | K29: 27968.486
A30: {=_xlfn.IFS(B30<1,"",B30<=2,1,B30<=4,2,B30<=8,3)} -> 3 | B30: =LEN('PLANILHA ORÇAMENTÁRIA'!$E30) -> 5 | C30: =IF(AND(Tabela6[[#This Row],[IND.]]>=5,Tabela6[[#This Row],[QUANT]]=0),"X","") | E30: 1.3.4 | F30: PROJETO EXECUTIVO DE INSTALAÇÕES DE DADOS E VOZ | G30: ETAPA ÚNICA | H30: =ÁREA_CONSTRUIDA -> 1150.02 | I30: M2 | J30: 19.65 | K30: 22597.893
A31: {=_xlfn.IFS(B31<1,"",B31<=2,1,B31<=4,2,B31<=8,3)} -> 3 | B31: =LEN('PLANILHA ORÇAMENTÁRIA'!$E31) -> 5 | C31: =IF(AND(Tabela6[[#This Row],[IND.]]>=5,Tabela6[[#This Row],[QUANT]]=0),"X","") | E31: 1.3.5 | F31: PROJETO EXECUTIVO DE INSTALAÇÕES DE AR CONDICIONADO E EXAUSTÃO | G31: ETAPA ÚNICA | H31: =ÁREA_CONSTRUIDA -> 1150.02 | I31: M2 | J31: 28.46 | K31: 32729.569
A32: {=_xlfn.IFS(B32<1,"",B32<=2,1,B32<=4,2,B32<=8,3)} -> 3 | B32: =LEN('PLANILHA ORÇAMENTÁRIA'!$E32) -> 5 | C32: =IF(AND(Tabela6[[#This Row],[IND.]]>=5,Tabela6[[#This Row],[QUANT]]=0),"X","") | E32: 1.3.6 | F32: PROJETO EXECUTIVO DE INSTALAÇÕES DE CFTV | G32: ETAPA ÚNICA | H32: =ÁREA_CONSTRUIDA -> 1150.02 | I32: M2 | J32: 19.03 | K32: 21884.881
A33: {=_xlfn.IFS(B33<1,"",B33<=2,1,B33<=4,2,B33<=8,3)} -> 3 | B33: =LEN('PLANILHA ORÇAMENTÁRIA'!$E33) -> 5 | C33: =IF(AND(Tabela6[[#This Row],[IND.]]>=5,Tabela6[[#This Row],[QUANT]]=0),"X","") | E33: 1.3.7 | F33: PROJETO EXECUTIVO DE INSTALAÇÕES DE DETECÇÃO | G33: ETAPA ÚNICA | H33: =ÁREA_CONSTRUIDA -> 1150.02 | I33: M2 | J33: 26.23 | K33: 30165.025
A34: {=_xlfn.IFS(B34<1,"",B34<=2,1,B34<=4,2,B34<=8,3)} -> 3 | B34: =LEN('PLANILHA ORÇAMENTÁRIA'!$E34) -> 5 | C34: =IF(AND(Tabela6[[#This Row],[IND.]]>=5,Tabela6[[#This Row],[QUANT]]=0),"X","") | E34: 1.3.8 | F34: PROJETO EXECUTIVO DE INSTALAÇÕES DE PROTEÇÃO E COMBATE AO INCÊNDIO | G34: ETAPA ÚNICA | H34: =ÁREA_CONSTRUIDA -> 1150.02 | I34: M2 | J34: 33.9 | K34: 38985.678
A35: {=_xlfn.IFS(B35<1,"",B35<=2,1,B35<=4,2,B35<=8,3)} -> 1 | B35: =LEN('PLANILHA ORÇAMENTÁRIA'!$E35) -> 1 | C35: =IF(Tabela6[[#This Row],[QUANT]]="x","x","") | E35: 2 | F35: ADMINISTRATIVO | H35: =IF(SUM(H36:H56)=0,"x","") | K35: =SUMIF($A$35:$A$56,"2",K35:K56) -> 194730.84
A36: {=_xlfn.IFS(B36<1,"",B36<=2,1,B36<=4,2,B36<=8,3)} -> 2 | B36: =LEN('PLANILHA ORÇAMENTÁRIA'!$E36) -> 3 | C36: =IF(Tabela6[[#This Row],[QUANT]]="x","x","") | E36: 2.1 | F36: EQUIPE TÉCNICA | H36: =IF(SUM(H37:H39)=0,"x","") | K36: =SUMIF($A$37:$A$39,"3",K37:K39) -> 73962.4
A37: {=_xlfn.IFS(B37<1,"",B37<=2,1,B37<=4,2,B37<=8,3)} -> 3 | B37: =LEN('PLANILHA ORÇAMENTÁRIA'!$E37) -> 5 | C37: =IF(AND(Tabela6[[#This Row],[IND.]]>=5,Tabela6[[#This Row],[QUANT]]=0),"X","") | E37: 2.1.1 | F37: ENCARREGADO DE OBRA | G37: ETAPA ÚNICA | H37: =ROUNDUP(((PRAZO_DE_OBRA-30)/7)*44,0) -> 472 | I37: HORAS | J37: 39.64 | K37: 18710.08
A38: {=_xlfn.IFS(B38<1,"",B38<=2,1,B38<=4,2,B38<=8,3)} -> 3 | B38: =LEN('PLANILHA ORÇAMENTÁRIA'!$E38) -> 5 | C38: =IF(AND(Tabela6[[#This Row],[IND.]]>=5,Tabela6[[#This Row],[QUANT]]=0),"X","") | E38: 2.1.2 | F38: ENGENHEIRO / ARQUITETO RESIDENTE | G38: ETAPA ÚNICA | H38: =ROUNDUP(((PRAZO_DE_OBRA-30)/7)*44,0) -> 472 | I38: HORAS | J38: 86.25 | K38: 40710
A39: {=_xlfn.IFS(B39<1,"",B39<=2,1,B39<=4,2,B39<=8,3)} -> 3 | B39: =LEN('PLANILHA ORÇAMENTÁRIA'!$E39) -> 5 | C39: =IF(AND(Tabela6[[#This Row],[IND.]]>=5,Tabela6[[#This Row],[QUANT]]=0),"X","") | E39: 2.1.3 | F39: TÉCNICO DE SEGURANÇA DO TRABALHO | G39: ETAPA ÚNICA | H39: =ROUNDUP(((PRAZO_DE_OBRA-30)/7)*44,0) -> 472 | I39: HORAS | J39: 30.81 | K39: 14542.32
A40: {=_xlfn.IFS(B40<1,"",B40<=2,1,B40<=4,2,B40<=8,3)} -> 2 | B40: =LEN('PLANILHA ORÇAMENTÁRIA'!$E40) -> 3 | C40: =IF(Tabela6[[#This Row],[QUANT]]="x","x","") | E40: 2.2 | F40: ADMINISTRAÇÃO DE OBRA | H40: =IF(SUM(H41:H43)=0,"x","") | K40: =SUMIF($A$41:$A$43,"3",K41:K43) -> 83700.645
A41: {=_xlfn.IFS(B41<1,"",B41<=2,1,B41<=4,2,B41<=8,3)} -> 3 | B41: =LEN('PLANILHA ORÇAMENTÁRIA'!$E41) -> 5 | C41: =IF(AND(Tabela6[[#This Row],[IND.]]>=5,Tabela6[[#This Row],[QUANT]]=0),"X","") | E41: 2.2.1 | F41: EPI | G41: ETAPA ÚNICA | H41: 1 | I41: VB | J41: 4105.4 | K41: 4105.4
A42: {=_xlfn.IFS(B42<1,"",B42<=2,1,B42<=4,2,B42<=8,3)} -> 3 | B42: =LEN('PLANILHA ORÇAMENTÁRIA'!$E42) -> 5 | C42: =IF(AND(Tabela6[[#This Row],[IND.]]>=5,Tabela6[[#This Row],[QUANT]]=0),"X","") | E42: 2.2.2 | F42: DOCUMENTAÇÃO DE EQUIPE TÉCNICA | G42: ETAPA ÚNICA | H42: 1 | I42: VB | J42: 2233.4 | K42: 2233.4
A43: {=_xlfn.IFS(B43<1,"",B43<=2,1,B43<=4,2,B43<=8,3)} -> 3 | B43: =LEN('PLANILHA ORÇAMENTÁRIA'!$E43) -> 5 | C43: =IF(AND(Tabela6[[#This Row],[IND.]]>=5,Tabela6[[#This Row],[QUANT]]=0),"X","") | E43: 2.2.3 | F43: CUSTO FIXO CANTEIRO DE OBRA | G43: ETAPA ÚNICA | H43: =ÁREA_CONSTRUIDA -> 1150.02 | I43: M2 | J43: 67.27 | K43: 77361.845
...

Sheet PLANILHA RESUMO
A1: PLANILHA ORÇAMENTÁRIA RESUMO OBRAS E REFORMAS ESCRITÓRIOS REGIONAIS
A3: FORNECEDOR | B3: ='PLANILHA ORÇAMENTÁRIA'!F3 -> 0 | C3: CNPJ | D3: ='PLANILHA ORÇAMENTÁRIA'!K3 -> 0
A4: RESPONSÁVEL TÉCNICO | B4: ='PLANILHA ORÇAMENTÁRIA'!F4 -> 0 | C4: CONTATO - TELEFONE | D4: ='PLANILHA ORÇAMENTÁRIA'!K4 -> 0
A5: CREA / CAU | B5: ='PLANILHA ORÇAMENTÁRIA'!F5 -> 0 | C5: CONTATO - EMAIL | D5: ='PLANILHA ORÇAMENTÁRIA'!K5 -> 0
A6: DATA | B6: ='PLANILHA ORÇAMENTÁRIA'!F6 -> 0 | C6: REVISÃO | D6: ='PLANILHA ORÇAMENTÁRIA'!K6 -> 0
A8: UNIDADE SEBRAE | B8: ='PLANILHA ORÇAMENTÁRIA'!F8 -> ESCOLA SEBRAE DE NEGÓCIOS | C8: ÁREA CONSTRUÍDA | D8: ='PLANILHA ORÇAMENTÁRIA'!N3 -> 1150.02
A9: ENDEREÇO | B9: ='PLANILHA ORÇAMENTÁRIA'!F9 -> AV. MARECHAL CÂMARA, 171 - 2º ANDAR - CENTRO | C9: PRAZO DE OBRA | D9: ='PLANILHA ORÇAMENTÁRIA'!K9 -> 0
A11: ITEM | B11: DESCRITIVO | D11: VALOR TOTAL C/ BDI
A12: 1 | B12: =IFERROR(VLOOKUP('PLANILHA RESUMO'!$A12,Tabela6[[ITEM]:[ESCOPO - DESCRITIVO]],2,0),"") -> SERVIÇOS PRELIMINARES | D12: =IFERROR(VLOOKUP('PLANILHA RESUMO'!$A12,Tabela6[[ITEM]:[VALOR TOTAL MÁX.]],10,0),"")*(1+'PLANILHA ORÇAMENTÁRIA'!$K$493) -> #VALUE!
A13: 2 | B13: =IFERROR(VLOOKUP('PLANILHA RESUMO'!$A13,Tabela6[[ITEM]:[ESCOPO - DESCRITIVO]],2,0),"") -> ADMINISTRATIVO | D13: =IFERROR(VLOOKUP('PLANILHA RESUMO'!$A13,Tabela6[[ITEM]:[VALOR TOTAL MÁX.]],10,0),"")*(1+'PLANILHA ORÇAMENTÁRIA'!$K$493) -> #VALUE!
A14: 3 | B14: =IFERROR(VLOOKUP('PLANILHA RESUMO'!$A14,Tabela6[[ITEM]:[ESCOPO - DESCRITIVO]],2,0),"") -> DEMOLIÇÃO | D14: =IFERROR(VLOOKUP('PLANILHA RESUMO'!$A14,Tabela6[[ITEM]:[VALOR TOTAL MÁX.]],10,0),"")*(1+'PLANILHA ORÇAMENTÁRIA'!$K$493) -> #VALUE!
A15: 4 | B15: =IFERROR(VLOOKUP('PLANILHA RESUMO'!$A15,Tabela6[[ITEM]:[ESCOPO - DESCRITIVO]],2,0),"") -> CONSTRUÇÃO | D15: =IFERROR(VLOOKUP('PLANILHA RESUMO'!$A15,Tabela6[[ITEM]:[VALOR TOTAL MÁX.]],10,0),"")*(1+'PLANILHA ORÇAMENTÁRIA'!$K$493) -> #VALUE!
A16: 5 | B16: =IFERROR(VLOOKUP('PLANILHA RESUMO'!$A16,Tabela6[[ITEM]:[ESCOPO - DESCRITIVO]],2,0),"") -> REVESTIMENTOS | D16: =IFERROR(VLOOKUP('PLANILHA RESUMO'!$A16,Tabela6[[ITEM]:[VALOR TOTAL MÁX.]],10,0),"")*(1+'PLANILHA ORÇAMENTÁRIA'!$K$493) -> #VALUE!
A17: 6 | B17: =IFERROR(VLOOKUP('PLANILHA RESUMO'!$A17,Tabela6[[ITEM]:[ESCOPO - DESCRITIVO]],2,0),"") -> INSTALAÇÕES | D17: =IFERROR(VLOOKUP('PLANILHA RESUMO'!$A17,Tabela6[[ITEM]:[VALOR TOTAL MÁX.]],10,0),"")*(1+'PLANILHA ORÇAMENTÁRIA'!$K$493) -> #VALUE!
A18: 7 | B18: =IFERROR(VLOOKUP('PLANILHA RESUMO'!$A18,Tabela6[[ITEM]:[ESCOPO - DESCRITIVO]],2,0),"") -> SISTEMA DE REFRIGERAÇÃO | D18: =IFERROR(VLOOKUP('PLANILHA RESUMO'!$A18,Tabela6[[ITEM]:[VALOR TOTAL MÁX.]],10,0),"")*(1+'PLANILHA ORÇAMENTÁRIA'!$K$493) -> #VALUE!
A19: 8 | B19: =IFERROR(VLOOKUP('PLANILHA RESUMO'!$A19,Tabela6[[ITEM]:[ESCOPO - DESCRITIVO]],2,0),"") -> PINTURA | D19: =IFERROR(VLOOKUP('PLANILHA RESUMO'!$A19,Tabela6[[ITEM]:[VALOR TOTAL MÁX.]],10,0),"")*(1+'PLANILHA ORÇAMENTÁRIA'!$K$493) -> #VALUE!
A20: 9 | B20: =IFERROR(VLOOKUP('PLANILHA RESUMO'!$A20,Tabela6[[ITEM]:[ESCOPO - DESCRITIVO]],2,0),"") -> ESQUADRIAS | D20: =IFERROR(VLOOKUP('PLANILHA RESUMO'!$A20,Tabela6[[ITEM]:[VALOR TOTAL MÁX.]],10,0),"")*(1+'PLANILHA ORÇAMENTÁRIA'!$K$493) -> #VALUE!
A21: 10 | B21: =IFERROR(VLOOKUP('PLANILHA RESUMO'!$A21,Tabela6[[ITEM]:[ESCOPO - DESCRITIVO]],2,0),"") -> MARMORARIA | D21: =IFERROR(VLOOKUP('PLANILHA RESUMO'!$A21,Tabela6[[ITEM]:[VALOR TOTAL MÁX.]],10,0),"")*(1+'PLANILHA ORÇAMENTÁRIA'!$K$493) -> #VALUE!
A22: 11 | B22: =IFERROR(VLOOKUP('PLANILHA RESUMO'!$A22,Tabela6[[ITEM]:[ESCOPO - DESCRITIVO]],2,0),"") -> SISTEMA DE PROTEÇÃO E COMBATE A INCÊNDIO | D22: =IFERROR(VLOOKUP('PLANILHA RESUMO'!$A22,Tabela6[[ITEM]:[VALOR TOTAL MÁX.]],10,0),"")*(1+'PLANILHA ORÇAMENTÁRIA'!$K$493) -> #VALUE!
A23: 12 | B23: =IFERROR(VLOOKUP('PLANILHA RESUMO'!$A23,Tabela6[[ITEM]:[ESCOPO - DESCRITIVO]],2,0),"") -> MARCENARIA E SERRALHERIA | D23: =IFERROR(VLOOKUP('PLANILHA RESUMO'!$A23,Tabela6[[ITEM]:[VALOR TOTAL MÁX.]],10,0),"")*(1+'PLANILHA ORÇAMENTÁRIA'!$K$493) -> #VALUE!
... A25: 14 | B25: =IFERROR(VLOOKUP('PLANILHA RESUMO'!$A25,Tabela6[[ITEM]:[ESCOPO - DESCRITIVO]],2,0),"") -> LIMPEZA FINAL DE OBRA | D25: =IFERROR(VLOOKUP('PLANILHA RESUMO'!$A25,Tabela6[[ITEM]:[VALOR TOTAL MÁX.]],10,0),"")*(1+'PLANILHA ORÇAMENTÁRIA'!$K$493) -> #VALUE!
D26: =IFERROR(VLOOKUP('PLANILHA RESUMO'!$A26,Tabela6[[ITEM]:[VALOR TOTAL MÁX.]],9,0),"")
A27: VALOR TOTAL | D27: =SUM(D12:D25) -> #VALUE!

Sheet CRONOGRAMA FÍSICO FINANCEIRO
A1: CRONOGRAMA FÍSICO FINANCEIRO OBRAS E REFORMAS ESCRITÓRIOS REGIONAIS
A3: FORNECEDOR | B3: ='PLANILHA ORÇAMENTÁRIA'!F3 -> 0 | N3: CNPJ | P3: ='PLANILHA ORÇAMENTÁRIA'!K3 -> 0
A4: RESPONSÁVEL TÉCNICO | B4: ='PLANILHA ORÇAMENTÁRIA'!F4 -> 0 | N4: CONTATO - TELEFONE | P4: ='PLANILHA ORÇAMENTÁRIA'!K4 -> 0
A5: CREA / CAU | B5: ='PLANILHA ORÇAMENTÁRIA'!F5 -> 0 | N5: CONTATO - EMAIL | P5: ='PLANILHA ORÇAMENTÁRIA'!K5 -> 0
A6: DATA | B6: ='PLANILHA ORÇAMENTÁRIA'!F6 -> 0 | N6: REVISÃO | P6: ='PLANILHA ORÇAMENTÁRIA'!K6 -> 0
A8: UNIDADE SEBRAE | B8: ='PLANILHA ORÇAMENTÁRIA'!F8 -> ESCOLA SEBRAE DE NEGÓCIOS | N8: ÁREA CONSTRUÍDA | P8: =ÁREA_CONSTRUIDA -> 1150.02
A9: ENDEREÇO | B9: ='PLANILHA ORÇAMENTÁRIA'!F9 -> AV. MARECHAL CÂMARA, 171 - 2º ANDAR - CENTRO | N9: PRAZO DE OBRA | P9: =PRAZO_DE_OBRA -> 105
A12: ITEM | B12: ESCOPO | C12: ETAPA | D12: QUINZENA DE INÍCIO | E12: QUINZENA DE FINALIZAÇÃO | F12: QUINZENA | G12: QUINZENA | H12: QUINZENA | I12: QUINZENA | J12: QUINZENA | K12: QUINZENA | L12: QUINZENA | M12: QUINZENA | N12: QUINZENA | O12: QUINZENA | P12: QUINZENA DE MEDIÇÃO | Q12: VALOR DA MEDIÇÃO (com bdi)
F13: 1 | G13: =F13+1 -> 2 | H13: =G13+1 -> 3 | I13: =H13+1 -> 4 | J13: =I13+1 -> 5 | K13: =J13+1 -> 6 | L13: =K13+1 -> 7 | M13: 8 | N13: =M13+1 -> 9 | O13: 10
A14: 1 | B14: =IFERROR(VLOOKUP(A14,Tabela6[[ITEM]:[ESCOPO - DESCRITIVO]],2,0),"") -> SERVIÇOS PRELIMINARES | C14: ETAPA ÚNICA | D14: 1 | E14: 2 | F14: =IF(AND($D14<=F$13,$E14>=F$13),"x","") -> x | G14: =IF(AND($D14<=G$13,$E14>=G$13),"x","") -> x | H14: =IF(AND($D14<=H$13,$E14>=H$13),"x","") | I14: =IF(AND($D14<=I$13,$E14>=I$13),"x","") | J14: =IF(AND($D14<=J$13,$E14>=J$13),"x","") | K14: =IF(AND($D14<=K$13,$E14>=K$13),"x","") | L14: =IF(AND($D14<=L$13,$E14>=L$13),"x","") | M14: =IF(AND($D14<=M$13,$E14>=M$13),"x","") | ... O14: =IF(AND($D14<=O$13,$E14>=O$13),"x","") | P14: {=IFERROR(_xlfn.IFS(O14="X",$O$13,N14="X",$N$13,M14="X",$M$13,L14="X",$L$13,K14="X",$K$13,J14="X",$J$13,I14="X",$I$13,H14="X",$H$13,G14="X",$G$13,F14="X",$F$13),"")} -> 2 | Q14: =SUMIF('PLANILHA ORÇAMENTÁRIA'!G14:G34,C14,'PLANILHA ORÇAMENTÁRIA'!K14:K34)*(1+'PLANILHA ORÇAMENTÁRIA'!$K$493) -> 396631.15
A15: 2 | B15: =IFERROR(VLOOKUP(A15,Tabela6[[ITEM]:[ESCOPO - DESCRITIVO]],2,0),"") -> ADMINISTRATIVO | C15: ETAPA ÚNICA | D15: 3 | E15: 7 | F15: =IF(AND($D15<=F$13,$E15>=F$13),"x","") | H15: =IF(AND($D15<=H$13,$E15>=H$13),"x","") -> x | I15: =IF(AND($D15<=I$13,$E15>=I$13),"x","") -> x | J15: =IF(AND($D15<=J$13,$E15>=J$13),"x","") -> x | K15: =IF(AND($D15<=K$13,$E15>=K$13),"x","") -> x | L15: =IF(AND($D15<=L$13,$E15>=L$13),"x","") -> x | M15: =IF(AND($D15<=M$13,$E15>=M$13),"x","") | N15: =IF(AND($D15<=N$13,$E15>=N$13),"x","") | O15: =IF(AND($D15<=O$13,$E15>=O$13),"x","") | P15: {=IFERROR(_xlfn.IFS(O15="X",$O$13,N15="X",$N$13,M15="X",$M$13,L15="X",$L$13,K15="X",$K$13,J15="X",$J$13,I15="X",$I$13,H15="X",$H$13,G15="X",$G$13,F15="X",$F$13),"")} -> 7 | Q15: =SUMIF('PLANILHA ORÇAMENTÁRIA'!G37:G56,C15,'PLANILHA ORÇAMENTÁRIA'!K37:K56)*(1+'PLANILHA ORÇAMENTÁRIA'!$K$493) -> 252896.94
A16: 3 | B16: =IFERROR(VLOOKUP(A16,Tabela6[[ITEM]:[ESCOPO - DESCRITIVO]],2,0),"") -> DEMOLIÇÃO | C16: ETAPA ÚNICA | D16: 3 | E16: 3 | F16: =IF(AND($D16<=F$13,$E16>=F$13),"x","") | G16: =IF(AND($D16<=G$13,$E16>=G$13),"x","") | H16: =IF(AND($D16<=H$13,$E16>=H$13),"x","") -> x | I16: =IF(AND($D16<=I$13,$E16>=I$13),"x","") | J16: =IF(AND($D16<=J$13,$E16>=J$13),"x","") | K16: =IF(AND($D16<=K$13,$E16>=K$13),"x","") | L16: =IF(AND($D16<=L$13,$E16>=L$13),"x","") | M16: =IF(AND($D16<=M$13,$E16>=M$13),"x","") | ... O16: =IF(AND($D16<=O$13,$E16>=O$13),"x","") | P16: {=IFERROR(_xlfn.IFS(O16="X",$O$13,N16="X",$N$13,M16="X",$M$13,L16="X",$L$13,K16="X",$K$13,J16="X",$J$13,I16="X",$I$13,H16="X",$H$13,G16="X",$G$13,F16="X",$F$13),"")} -> 3 | Q16: =SUMIF('PLANILHA ORÇAMENTÁRIA'!G59:G111,C16,'PLANILHA ORÇAMENTÁRIA'!K59:K111)*(1+'PLANILHA ORÇAMENTÁRIA'!$K$493) -> 115914
A17: 4 | B17: =IFERROR(VLOOKUP(A17,Tabela6[[ITEM]:[ESCOPO - DESCRITIVO]],2,0),"") -> CONSTRUÇÃO | C17: ETAPA 1 | D17: 4 | E17: 4 | F17: =IF(AND($D17<=F$13,$E17>=F$13),"x","") | G17: =IF(AND($D17<=G$13,$E17>=G$13),"x","") | H17: =IF(AND($D17<=H$13,$E17>=H$13),"x","") | I17: =IF(AND($D17<=I$13,$E17>=I$13),"x","") -> x | J17: =IF(AND($D17<=J$13,$E17>=J$13),"x","") | K17: =IF(AND($D17<=K$13,$E17>=K$13),"x","") | L17: =IF(AND($D17<=L$13,$E17>=L$13),"x","") | M17: =IF(AND($D17<=M$13,$E17>=M$13),"x","") | ... O17: =IF(AND($D17<=O$13,$E17>=O$13),"x","") | P17: {=IFERROR(_xlfn.IFS(O17="X",$O$13,N17="X",$N$13,M17="X",$M$13,L17="X",$L$13,K17="X",$K$13,J17="X",$J$13,I17="X",$I$13,H17="X",$H$13,G17="X",$G$13,F17="X",$F$13),"")} -> 4 | Q17: =SUMIF('PLANILHA ORÇAMENTÁRIA'!G114:G160,C17,'PLANILHA ORÇAMENTÁRIA'!K114:K160)*(1+'PLANILHA ORÇAMENTÁRIA'!$K$493) -> 110059.94
C18: ETAPA 2 | D18: 5 | E18: 6 | F18: =IF(AND($D18<=F$13,$E18>=F$13),"x","") | G18: =IF(AND($D18<=G$13,$E18>=G$13),"x","") | H18: =IF(AND($D18<=H$13,$E18>=H$13),"x","") | I18: =IF(AND($D18<=I$13,$E18>=I$13),"x","") | J18: =IF(AND($D18<=J$13,$E18>=J$13),"x","") -> x | K18: =IF(AND($D18<=K$13,$E18>=K$13),"x","") -> x | L18: =IF(AND($D18<=L$13,$E18>=L$13),"x","") | M18: =IF(AND($D18<=M$13,$E18>=M$13),"x","") | ... O18: =IF(AND($D18<=O$13,$E18>=O$13),"x","") | P18: {=IFERROR(_xlfn.IFS(O18="X",$O$13,N18="X",$N$13,M18="X",$M$13,L18="X",$L$13,K18="X",$K$13,J18="X",$J$13,I18="X",$I$13,H18="X",$H$13,G18="X",$G$13,F18="X",$F$13),"")} -> 6 | Q18: =SUMIF('PLANILHA ORÇAMENTÁRIA'!G115:G161,C18,'PLANILHA ORÇAMENTÁRIA'!K115:K161)*(1+'PLANILHA ORÇAMENTÁRIA'!$K$493) -> 605941.8
A19: 5 | B19: =IFERROR(VLOOKUP(A19,Tabela6[[ITEM]:[ESCOPO - DESCRITIVO]],2,0),"") -> REVESTIMENTOS | C19: ETAPA ÚNICA | D19: 7 | E19: 7 | F19: =IF(AND($D19<=F$13,$E19>=F$13),"x","") | G19: =IF(AND($D19<=G$13,$E19>=G$13),"x","") | H19: =IF(AND($D19<=H$13,$E19>=H$13),"x","") | I19: =IF(AND($D19<=I$13,$E19>=I$13),"x","") | J19: =IF(AND($D19<=J$13,$E19>=J$13),"x","") | K19: =IF(AND($D19<=K$13,$E19>=K$13),"x","") | L19: =IF(AND($D19<=L$13,$E19>=L$13),"x","") -> x | M19: =IF(AND($D19<=M$13,$E19>=M$13),"x","") | ... O19: =IF(AND($D19<=O$13,$E19>=O$13),"x","") | P19: {=IFERROR(_xlfn.IFS(O19="X",$O$13,N19="X",$N$13,M19="X",$M$13,L19="X",$L$13,K19="X",$K$13,J19="X",$J$13,I19="X",$I$13,H19="X",$H$13,G19="X",$G$13,F19="X",$F$13),"")} -> 7 | Q19: =SUMIF('PLANILHA ORÇAMENTÁRIA'!G161:G188,C19,'PLANILHA ORÇAMENTÁRIA'!K161:K188)*(1+'PLANILHA ORÇAMENTÁRIA'!$K$493) -> 452088.74
A20: 6 | B20: =IFERROR(VLOOKUP(A20,Tabela6[[ITEM]:[ESCOPO - DESCRITIVO]],2,0),"") -> INSTALAÇÕES | C20: ETAPA 1 | D20: 5 | E20: 6 | F20: =IF(AND($D20<=F$13,$E20>=F$13),"x","") | G20: =IF(AND($D20<=G$13,$E20>=G$13),"x","") | H20: =IF(AND($D20<=H$13,$E20>=H$13),"x","") | I20: =IF(AND($D20<=I$13,$E20>=I$13),"x","") | J20: =IF(AND($D20<=J$13,$E20>=J$13),"x","") -> x | K20: =IF(AND($D20<=K$13,$E20>=K$13),"x","") -> x | L20: =IF(AND($D20<=L$13,$E20>=L$13),"x","") | M20: =IF(AND($D20<=M$13,$E20>=M$13),"x","") | ... O20: =IF(AND($D20<=O$13,$E20>=O$13),"x","") | P20: {=IFERROR(_xlfn.IFS(O20="X",$O$13,N20="X",$N$13,M20="X",$M$13,L20="X",$L$13,K20="X",$K$13,J20="X",$J$13,I20="X",$I$13,H20="X",$H$13,G20="X",$G$13,F20="X",$F$13),"")} -> 6 | Q20: =SUMIF('PLANILHA ORÇAMENTÁRIA'!G191:G314,C20,'PLANILHA ORÇAMENTÁRIA'!K191:K314)*(1+'PLANILHA ORÇAMENTÁRIA'!$K$493) -> 303054.99
C21: ETAPA 2 | D21: 6 | E21: 7 | F21: =IF(AND($D21<=F$13,$E21>=F$13),"x","") | G21: =IF(AND($D21<=G$13,$E21>=G$13),"x","") | H21: =IF(AND($D21<=H$13,$E21>=H$13),"x","") | I21: =IF(AND($D21<=I$13,$E21>=I$13),"x","") | J21: =IF(AND($D21<=J$13,$E21>=J$13),"x","") | K21: =IF(AND($D21<=K$13,$E21>=K$13),"x","") -> x | L21: =IF(AND($D21<=L$13,$E21>=L$13),"x","") -> x | M21: =IF(AND($D21<=M$13,$E21>=M$13),"x","") | ... O21: =IF(AND($D21<=O$13,$E21>=O$13),"x","") | P21: {=IFERROR(_xlfn.IFS(O21="X",$O$13,N21="X",$N$13,M21="X",$M$13,L21="X",$L$13,K21="X",$K$13,J21="X",$J$13,I21="X",$I$13,H21="X",$H$13,G21="X",$G$13,F21="X",$F$13),"")} -> 7 | Q21: =SUMIF('PLANILHA ORÇAMENTÁRIA'!G193:G315,C21,'PLANILHA ORÇAMENTÁRIA'!K193:K315)*(1+'PLANILHA ORÇAMENTÁRIA'!$K$493) -> 118869.97
A22: 7 | B22: =IFERROR(VLOOKUP(A22,Tabela6[[ITEM]:[ESCOPO - DESCRITIVO]],2,0),"") -> SISTEMA DE REFRIGERAÇÃO | C22: ETAPA 1 | D22: 5 | E22: 6 | F22: =IF(AND($D22<=F$13,$E22>=F$13),"x","") | G22: =IF(AND($D22<=G$13,$E22>=G$13),"x","") | H22: =IF(AND($D22<=H$13,$E22>=H$13),"x","") | I22: =IF(AND($D22<=I$13,$E22>=I$13),"x","") | J22: =IF(AND($D22<=J$13,$E22>=J$13),"x","") -> x | K22: =IF(AND($D22<=K$13,$E22>=K$13),"x","") -> x | L22: =IF(AND($D22<=L$13,$E22>=L$13),"x","") | M22: =IF(AND($D22<=M$13,$E22>=M$13),"x","") | ... O22: =IF(AND($D22<=O$13,$E22>=O$13),"x","") | P22: {=IFERROR(_xlfn.IFS(O22="X",$O$13,N22="X",$N$13,M22="X",$M$13,L22="X",$L$13,K22="X",$K$13,J22="X",$J$13,I22="X",$I$13,H22="X",$H$13,G22="X",$G$13,F22="X",$F$13),"")} -> 6 | Q22: =SUMIF('PLANILHA ORÇAMENTÁRIA'!G317:G340,C22,'PLANILHA ORÇAMENTÁRIA'!K317:K340)*(1+'PLANILHA ORÇAMENTÁRIA'!$K$493) -> 194468.89
C23: ETAPA 2 | D23: 6 | E23: 7 | F23: =IF(AND($D23<=F$13,$E23>=F$13),"x","") | G23: =IF(AND($D23<=G$13,$E23>=G$13),"x","") | H23: =IF(AND($D23<=H$13,$E23>=H$13),"x","") | I23: =IF(AND($D23<=I$13,$E23>=I$13),"x","") | J23: =IF(AND($D23<=J$13,$E23>=J$13),"x","") | K23: =IF(AND($D23<=K$13,$E23>=K$13),"x","") -> x | L23: =IF(AND($D23<=L$13,$E23>=L$13),"x","") -> x | M23: =IF(AND($D23<=M$13,$E23>=M$13),"x","") | ... O23: =IF(AND($D23<=O$13,$E23>=O$13),"x","") | P23: {=IFERROR(_xlfn.IFS(O23="X",$O$13,N23="X",$N$13,M23="X",$M$13,L23="X",$L$13,K23="X",$K$13,J23="X",$J$13,I23="X",$I$13,H23="X",$H$13,G23="X",$G$13,F23="X",$F$13),"")} -> 7 | Q23: =SUMIF('PLANILHA ORÇAMENTÁRIA'!G318:G341,C23,'PLANILHA ORÇAMENTÁRIA'!K318:K341)*(1+'PLANILHA ORÇAMENTÁRIA'!$K$493) -> 92077.96
A24: 8 | B24: =IFERROR(VLOOKUP(A24,Tabela6[[ITEM]:[ESCOPO - DESCRITIVO]],2,0),"") -> PINTURA | C24: ETAPA ÚNICA | D24: 6 | E24: 7 | F24: =IF(AND($D24<=F$13,$E24>=F$13),"x","") | G24: =IF(AND($D24<=G$13,$E24>=G$13),"x","") | H24: =IF(AND($D24<=H$13,$E24>=H$13),"x","") | I24: =IF(AND($D24<=I$13,$E24>=I$13),"x","") | J24: =IF(AND($D24<=J$13,$E24>=J$13),"x","") | K24: =IF(AND($D24<=K$13,$E24>=K$13),"x","") -> x | L24: =IF(AND($D24<=L$13,$E24>=L$13),"x","") -> x | M24: =IF(AND($D24<=M$13,$E24>=M$13),"x","") | ... O24: =IF(AND($D24<=O$13,$E24>=O$13),"x","") | P24: {=IFERROR(_xlfn.IFS(O24="X",$O$13,N24="X",$N$13,M24="X",$M$13,L24="X",$L$13,K24="X",$K$13,J24="X",$J$13,I24="X",$I$13,H24="X",$H$13,G24="X",$G$13,F24="X",$F$13),"")} -> 7 | Q24: =SUMIF('PLANILHA ORÇAMENTÁRIA'!G343:G373,C24,'PLANILHA ORÇAMENTÁRIA'!K343:K373)*(1+'PLANILHA ORÇAMENTÁRIA'!$K$493) -> 186924.39
A25: 9 | B25: =IFERROR(VLOOKUP(A25,Tabela6[[ITEM]:[ESCOPO - DESCRITIVO]],2,0),"") -> ESQUADRIAS | C25: ETAPA ÚNICA | D25: 6 | E25: 6 | F25: =IF(AND($D25<=F$13,$E25>=F$13),"x","") | G25: =IF(AND($D25<=G$13,$E25>=G$13),"x","") | H25: =IF(AND($D25<=H$13,$E25>=H$13),"x","") | I25: =IF(AND($D25<=I$13,$E25>=I$13),"x","") | J25: =IF(AND($D25<=J$13,$E25>=J$13),"x","") | K25: =IF(AND($D25<=K$13,$E25>=K$13),"x","") -> x | L25: =IF(AND($D25<=L$13,$E25>=L$13),"x","") | M25: =IF(AND($D25<=M$13,$E25>=M$13),"x","") | ... O25: =IF(AND($D25<=O$13,$E25>=O$13),"x","") | P25: {=IFERROR(_xlfn.IFS(O25="X",$O$13,N25="X",$N$13,M25="X",$M$13,L25="X",$L$13,K25="X",$K$13,J25="X",$J$13,I25="X",$I$13,H25="X",$H$13,G25="X",$G$13,F25="X",$F$13),"")} -> 6 | Q25: =SUMIF('PLANILHA ORÇAMENTÁRIA'!G376:G430,C25,'PLANILHA ORÇAMENTÁRIA'!K376:K430)*(1+'PLANILHA ORÇAMENTÁRIA'!$K$493) -> 38135.027
A26: 10 | B26: =IFERROR(VLOOKUP(A26,Tabela6[[ITEM]:[ESCOPO - DESCRITIVO]],2,0),"") -> MARMORARIA | C26: ETAPA ÚNICA | F26: =IF(AND($D26<=F$13,$E26>=F$13),"x","") | G26: =IF(AND($D26<=G$13,$E26>=G$13),"x","") | H26: =IF(AND($D26<=H$13,$E26>=H$13),"x","") | I26: =IF(AND($D26<=I$13,$E26>=I$13),"x","") | J26: =IF(AND($D26<=J$13,$E26>=J$13),"x","") | K26: =IF(AND($D26<=K$13,$E26>=K$13),"x","") | L26: =IF(AND($D26<=L$13,$E26>=L$13),"x","") | M26: =IF(AND($D26<=M$13,$E26>=M$13),"x","") | ... O26: =IF(AND($D26<=O$13,$E26>=O$13),"x","") | P26: {=IFERROR(_xlfn.IFS(O26="X",$O$13,N26="X",$N$13,M26="X",$M$13,L26="X",$L$13,K26="X",$K$13,J26="X",$J$13,I26="X",$I$13,H26="X",$H$13,G26="X",$G$13,F26="X",$F$13),"")} | Q26: =SUMIF('PLANILHA ORÇAMENTÁRIA'!G433:G445,C26,'PLANILHA ORÇAMENTÁRIA'!K433:K445)*(1+'PLANILHA ORÇAMENTÁRIA'!$K$493) -> 0
A27: 11 | B27: =IFERROR(VLOOKUP(A27,Tabela6[[ITEM]:[ESCOPO - DESCRITIVO]],2,0),"") -> SISTEMA DE PROTEÇÃO E COMBATE A INCÊNDIO | C27: ETAPA 1 | D27: 5 | E27: 6 | F27: =IF(AND($D27<=F$13,$E27>=F$13),"x","") | G27: =IF(AND($D27<=G$13,$E27>=G$13),"x","") | H27: =IF(AND($D27<=H$13,$E27>=H$13),"x","") | I27: =IF(AND($D27<=I$13,$E27>=I$13),"x","") | J27: =IF(AND($D27<=J$13,$E27>=J$13),"x","") -> x | K27: =IF(AND($D27<=K$13,$E27>=K$13),"x","") -> x | L27: =IF(AND($D27<=L$13,$E27>=L$13),"x","") | M27: =IF(AND($D27<=M$13,$E27>=M$13),"x","") | ... O27: =IF(AND($D27<=O$13,$E27>=O$13),"x","") | P27: {=IFERROR(_xlfn.IFS(O27="X",$O$13,N27="X",$N$13,M27="X",$M$13,L27="X",$L$13,K27="X",$K$13,J27="X",$J$13,I27="X",$I$13,H27="X",$H$13,G27="X",$G$13,F27="X",$F$13),"")} -> 6 | Q27: =SUMIF('PLANILHA ORÇAMENTÁRIA'!G448:G459,C27,'PLANILHA ORÇAMENTÁRIA'!K448:K459)*(1+'PLANILHA ORÇAMENTÁRIA'!$K$493) -> 70308.683
C28: ETAPA 2 | D28: 7 | E28: 7 | F28: =IF(AND($D28<=F$13,$E28>=F$13),"x","") | G28: =IF(AND($D28<=G$13,$E28>=G$13),"x","") | H28: =IF(AND($D28<=H$13,$E28>=H$13),"x","") | I28: =IF(AND($D28<=I$13,$E28>=I$13),"x","") | J28: =IF(AND($D28<=J$13,$E28>=J$13),"x","") | K28: =IF(AND($D28<=K$13,$E28>=K$13),"x","") | L28: =IF(AND($D28<=L$13,$E28>=L$13),"x","") -> x | M28: =IF(AND($D28<=M$13,$E28>=M$13),"x","") | ... O28: =IF(AND($D28<=O$13,$E28>=O$13),"x","") | P28: {=IFERROR(_xlfn.IFS(O28="X",$O$13,N28="X",$N$13,M28="X",$M$13,L28="X",$L$13,K28="X",$K$13,J28="X",$J$13,I28="X",$I$13,H28="X",$H$13,G28="X",$G$13,F28="X",$F$13),"")} -> 7 | Q28: =SUMIF('PLANILHA ORÇAMENTÁRIA'!G449:G467,C28,'PLANILHA ORÇAMENTÁRIA'!K449:K467)*(1+'PLANILHA ORÇAMENTÁRIA'!$K$493) -> 52048.844
A29: 12 | B29: =IFERROR(VLOOKUP(A29,Tabela6[[ITEM]:[ESCOPO - DESCRITIVO]],2,0),"") -> MARCENARIA E SERRALHERIA | C29: ETAPA ÚNICA | D29: 7 | E29: 7 | F29: =IF(AND($D29<=F$13,$E29>=F$13),"x","") | G29: =IF(AND($D29<=G$13,$E29>=G$13),"x","") | H29: =IF(AND($D29<=H$13,$E29>=H$13),"x","") | I29: =IF(AND($D29<=I$13,$E29>=I$13),"x","") | J29: =IF(AND($D29<=J$13,$E29>=J$13),"x","") | K29: =IF(AND($D29<=K$13,$E29>=K$13),"x","") | L29: =IF(AND($D29<=L$13,$E29>=L$13),"x","") -> x | M29: =IF(AND($D29<=M$13,$E29>=M$13),"x","") | ... O29: =IF(AND($D29<=O$13,$E29>=O$13),"x","") | P29: {=IFERROR(_xlfn.IFS(O29="X",$O$13,N29="X",$N$13,M29="X",$M$13,L29="X",$L$13,K29="X",$K$13,J29="X",$J$13,I29="X",$I$13,H29="X",$H$13,G29="X",$G$13,F29="X",$F$13),"")} -> 7 | Q29: =SUMIF('PLANILHA ORÇAMENTÁRIA'!G460:G488,C29,'PLANILHA ORÇAMENTÁRIA'!K460:K488)*(1+'PLANILHA ORÇAMENTÁRIA'!$K$493) -> 48536.185
A30: 13 | B30: =IFERROR(VLOOKUP(A30,Tabela6[[ITEM]:[ESCOPO - DESCRITIVO]],2,0),"") -> OMISSOS | C30: ETAPA ÚNICA | D30: 1 | E30: 7 | F30: =IF(AND($D30<=F$13,$E30>=F$13),"x","") -> x | G30: =IF(AND($D30<=G$13,$E30>=G$13),"x","") -> x | H30: =IF(AND($D30<=H$13,$E30>=H$13),"x","") -> x | I30: =IF(AND($D30<=I$13,$E30>=I$13),"x","") -> x | J30: =IF(AND($D30<=J$13,$E30>=J$13),"x","") -> x | K30: =IF(AND($D30<=K$13,$E30>=K$13),"x","") -> x | L30: =IF(AND($D30<=L$13,$E30>=L$13),"x","") -> x | M30: =IF(AND($D30<=M$13,$E30>=M$13),"x","") | ... O30: =IF(AND($D30<=O$13,$E30>=O$13),"x","") | P30: {=IFERROR(_xlfn.IFS(O30="X",$O$13,N30="X",$N$13,M30="X",$M$13,L30="X",$L$13,K30="X",$K$13,J30="X",$J$13,I30="X",$I$13,H30="X",$H$13,G30="X",$G$13,F30="X",$F$13),"")} -> 7 | Q30: =SUMIF('PLANILHA ORÇAMENTÁRIA'!G470:G487,C30,'PLANILHA ORÇAMENTÁRIA'!K470:K487)*(1+'PLANILHA ORÇAMENTÁRIA'!$K$493) -> 0
A31: 14 | B31: =IFERROR(VLOOKUP(A31,Tabela6[[ITEM]:[ESCOPO - DESCRITIVO]],2,0),"") -> LIMPEZA FINAL DE OBRA | C31: ETAPA ÚNICA | D31: 7 | E31: 7 | F31: =IF(AND($D31<=F$13,$E31>=F$13),"x","") | G31: =IF(AND($D31<=G$13,$E31>=G$13),"x","") | H31: =IF(AND($D31<=H$13,$E31>=H$13),"x","") | I31: =IF(AND($D31<=I$13,$E31>=I$13),"x","") | J31: =IF(AND($D31<=J$13,$E31>=J$13),"x","") | K31: =IF(AND($D31<=K$13,$E31>=K$13),"x","") | L31: =IF(AND($D31<=L$13,$E31>=L$13),"x","") -> x | M31: =IF(AND($D31<=M$13,$E31>=M$13),"x","") | ... O31: =IF(AND($D31<=O$13,$E31>=O$13),"x","") | P31: {=IFERROR(_xlfn.IFS(O31="X",$O$13,N31="X",$N$13,M31="X",$M$13,L31="X",$L$13,K31="X",$K$13,J31="X",$J$13,I31="X",$I$13,H31="X",$H$13,G31="X",$G$13,F31="X",$F$13),"")} -> 7 | Q31: =SUMIF('PLANILHA ORÇAMENTÁRIA'!G488:G490,C31,'PLANILHA ORÇAMENTÁRIA'!K488:K490)*(1+'PLANILHA ORÇAMENTÁRIA'!$K$493) -> 12560.595
A34: CRONOGRAMA DE PAGAMENTOS
A35: QUINZENA DE MEDIÇÃO | B35: VALOR A PAGAR | C35: PRAZO DE PAGAMENTO
A36: 1 | B36: =(IF($P$14=A36,$Q$14,0)+SUMIF($P$16:$P$31,A36,$Q$16:$Q$31))*0.9 -> 0 | C36: ="QUINZENA "&A37 -> QUINZENA 2
A37: 2 | B37: =(IF($P$14=A37,$Q$14,0)+SUMIF($P$16:$P$31,A37,$Q$16:$Q$31))*0.9 -> 356968.04 | C37: ="QUINZENA "&A38 -> QUINZENA 3
A38: 3 | B38: =(IF($P$14=A38,$Q$14,0)+SUMIF($P$16:$P$31,A38,$Q$16:$Q$31)+($Q$15/($E$15-$D$15+1)))*0.9 -> 149844.05 | C38: ="QUINZENA "&A39 -> QUINZENA 4
A39: 4 | B39: =(IF($P$14=A39,$Q$14,0)+SUMIF($P$16:$P$31,A39,$Q$16:$Q$31)+($Q$15/($E$15-$D$15+1)))*0.9 -> 144575.39 | C39: ="QUINZENA "&A40 -> QUINZENA 5
A40: 5 | B40: =(IF($P$14=A40,$Q$14,0)+SUMIF($P$16:$P$31,A40,$Q$16:$Q$31)+($Q$15/($E$15-$D$15+1)))*0.9 -> 45521.448 | C40: ="QUINZENA "&A41 -> QUINZENA 6
A41: 6 | B41: =(IF($P$14=A41,$Q$14,0)+SUMIF($P$16:$P$31,A41,$Q$16:$Q$31)+($Q$15/($E$15-$D$15+1)))*0.9 -> 1136239.9 | C41: ="QUINZENA "&A42 -> QUINZENA 7
A42: 7 | B42: =(IF($P$14=A42,$Q$14,0)+SUMIF($P$16:$P$31,A42,$Q$16:$Q$31)+($Q$15/($E$15-$D$15+1)))*0.9 -> 912317.47 | C42: ="QUINZENA "&A42+1 -> QUINZENA 8
A43: RECEBIMENTO PROVISÓRIO (5%) | B43: =SUM(Q14:Q31)*0.05 -> 152525.91 | C43: 15 DIAS APÓS RECEBIMENTO PROVISÓRIO
A44: RECEBIMENTO DEFINITIVO (5%) | B44: =SUM(Q14:Q31)*0.05 -> 152525.91 | C44: 15 DIAS APÓS RECEBIMENTO DEFINITIVO
B46: =IF(SUM(B36:B44)<>(SUM(Q14:Q31)),"VERIFICAR VALORES","")

Sheet AUXILIAR
B1: ESCOLA SEBRAE DE NEGÓCIOS | D1: AV. MARECHAL CÂMARA, 171 - 2º ANDAR - CENTRO
B6: ETAPA
B7: ETAPA ÚNICA
B8: ETAPA 1
B9: ETAPA 2
