Workbook
Name \C: #REF!
Name \C: #REF!
Name \C: #REF!
Name \C: #REF!
Name \d: #N/A
Name \D: #REF!
Name \D: #REF!
Name \d: #N/A
Name \f: #N/A
Name \G: #REF!
Name \G: #REF!
Name \G: #REF!
Name \G: #REF!
Name \I: #REF!
Name \I: #REF!
Name \I: #REF!
Name \I: #REF!
Name \l: #REF!
Name \l: #REF!
Name \l: #REF!
Name \l: #REF!
Name \M: #REF!
Name \M: #REF!
Name \M: #REF!
Name \M: #REF!
Name \p: #N/A
Name \P: #REF!
Name \P: #REF!
Name \p: #N/A
Name \q: #REF!
Name \q: #REF!
Name \q: #REF!
Name \q: #REF!
Name \R: #REF!
Name \R: #REF!
Name \R: #REF!
Name \R: #REF!
Name \s: #REF!
Name \s: #REF!
Name \s: #REF!
Name \s: #REF!
Name \t: #REF!
Name \t: #REF!
Name \t: #REF!
Name \t: #REF!
Name \Y: #REF!
Name \Y: #REF!
Name \Y: #REF!
Name \Y: #REF!
Name _: #REF!
Name _: #REF!
Name _: #REF!
Name _: #REF!
Name ___\C: #REF!
Name ___\C: #REF!
Name ___\C: #REF!
Name ___\C: #REF!
Name ___\D: #REF!
Name ___\D: #REF!
Name ___\D: #REF!

Sheet Resumo do Orçamento - Vantajoso
D1: Obra | E1: Bancos | F1: B.D.I. | I1: Encargos Sociais
D2: CONSTRUÇÃO DE CRECHE 10 SALAS - FUNDAÇÃO RASA, NO DISTRITO DE UMARI, BOM JARDIM/PE | E2: SINAPI - 04/2025 - Pernambuco | F2: 20,5% | I2: Não Desonerado: embutido nos preços unitário dos insumos de mão de obra, de acordo com as bases.
A3: Planilha Orçamentária Resumida - VANTAJOSO
A4: Item | D4: Descrição | H4: Quant. | I4: Total | J4: Peso (%)
A5: 1 | D5: ADMINISTRAÇÃO LOCAL | H5: 1 | I5: 334535.04 | J5: =I5 / 7467019.56 -> 0.044801683
A6: 2 | D6: TERRAPLENAGEM | H6: 1 | I6: 1288606.7 | J6: =I6 / 7467019.56 -> 0.1725731
A7: 3 | D7: INSTALAÇÕES PROVISÓRIAS | H7: 1 | I7: 139281.1 | J7: =I7 / 7467019.56 -> 0.018652837
A8: 4 | D8: INFRAESTRUTURA | H8: 1 | I8: 236769.64 | J8: =I8 / 7467019.56 -> 0.031708721
A9: 5 | D9: SUPERESTRUTURA | H9: 1 | I9: 577093.46 | J9: =I9 / 7467019.56 -> 0.07728565
A10: 6 | D10: PAREDES E DIVISÓRIAS | H10: 1 | I10: 356105.95 | J10: =I10 / 7467019.56 -> 0.047690507
A11: 7 | D11: COBERTURA E IMPERMEABILIZAÇÃO | H11: 1 | I11: 554285.99 | J11: =I11 / 7467019.56 -> 0.074231222
A12: 8 | D12: PORTAS E ESQUADRIAS | H12: 1 | I12: 263515.88 | J12: =I12 / 7467019.56 -> 0.035290637
A13: 9 | D13: REVESTIMENTOS | H13: 1 | I13: 780012.78 | J13: =I13 / 7467019.56 -> 0.10446106
A14: 10 | D14: PINTURA | H14: 1 | I14: 228894.43 | J14: =I14 / 7467019.56 -> 0.030654055
A15: 11 | D15: IINSTALAÇÕES HIDROSANITÁRIAS E PLUVIAIS | H15: 1 | I15: 347858.73 | J15: =I15 / 7467019.56 -> 0.046586021
A16: 12 | D16: LOUÇAS E METAIS | H16: 1 | I16: 104993.85 | J16: =I16 / 7467019.56 -> 0.014061012
... A25: 21 | D25: PISO EXTERNO, CALÇAMENTO E PAISAGISMO | H25: 1 | I25: 249750.67 | J25: =I25 / 7467019.56 -> 0.03344717
F27: Total sem BDI | H27: 6197167.2
F28: Total do BDI | H28: 1269852.3
F29: Total Geral | H29: 7467019.6

Sheet Sintético c MO
D1: Obra | E1: Bancos | F1: B.D.I. | I1: Encargos Sociais
D2: CONSTRUÇÃO DE CRECHE 10 SALAS - FUNDAÇÃO RASA, NO DISTRITO DE UMARI, BOM JARDIM/PE | E2: SINAPI - 04/2025 - Pernambuco | F2: 20,5% | I2: Não Desonerado: embutido nos preços unitário dos insumos de mão de obra, de acordo com as bases.
A3: Planilha Orçamentária Sintética Com Valor da Mão de Obra
A4: Item | B4: Código | C4: Banco | D4: Descrição | E4: Tipo | F4: Und | G4: Quant. | H4: Valor Unit | I4: Valor Unit com BDI | J4: Mão de Obra | L4: Total | M4: Peso (%)
J5: Valor | K5: %
A6: 1 | D6: ADMINISTRAÇÃO LOCAL | L6: 334535.04 | M6: =L6 / 7467019.56 -> 0.044801683
A7: 1.1 | B7: 4975 | C7: Próprio | D7: ADMINISTRAÇÃO LOCAL CRECHE 10 SALAS | F7: un | G7: 1 | H7: 277622.44 | I7: =TRUNC(H7 * (1 + 20.5 / 100), 2) -> 334535.04 | J7: 308645.28 | K7: =ROUND((J7 * 100 / TRUNC(G7 * I7, 2)), 2) -> 92.26 | L7: =TRUNC(G7 * I7, 2) -> 334535.04 | M7: =L7 / 7467019.56 -> 0.044801683
A8: 2 | D8: TERRAPLENAGEM | L8: 1288606.7 | M8: =L8 / 7467019.56 -> 0.1725731
A9: 2.1 | B9: 102291 | C9: SINAPI | D9: ESCAVAÇÃO MECANIZADA DE VALA COM PROF. ATÉ 1,5 M (MÉDIA MONTANTE E JUSANTE/UMA COMPOSIÇÃO POR TRECHO), ESCAVADEIRA (0,8 M3), LARG. DE 1,5 M A 2,5 M, EM SOLO MOLE, LOCAIS COM BAIXO NÍVEL DE INTERFERÊNCIA. AF_09/2024 | E9: Escavação de Valas | F9: m³ | G9: 6806 | H9: 8.06 | I9: =TRUNC(H9 * (1 + 20.5 / 100), 2) -> 9.71 | J9: 13135.58 | K9: =ROUND((J9 * 100 / TRUNC(G9 * I9, 2)), 2) -> 19.88 | L9: =TRUNC(G9 * I9, 2) -> 66086.26 | M9: =L9 / 7467019.56 -> 0.0088504201
A10: 2.2 | B10: 104738 | C10: SINAPI | D10: ATERRO MECANIZADO DE VALA COM MINICARREGADEIRA, COM SOLO ARGILO-ARENOSO. AF_08/2023 | E10: Aterro e Reaterro de Valas | F10: m³ | G10: 1985.32 | H10: 80.36 | I10: =TRUNC(H10 * (1 + 20.5 / 100), 2) -> 96.83 | J10: 21262.78 | K10: =ROUND((J10 * 100 / TRUNC(G10 * I10, 2)), 2) -> 11.06 | L10: =TRUNC(G10 * I10, 2) -> 192238.53 | M10: =L10 / 7467019.56 -> 0.025745015
A11: 2.3 | B11: 95876 | C11: SINAPI | D11: TRANSPORTE COM CAMINHÃO BASCULANTE DE 14 M³, EM VIA URBANA PAVIMENTADA, DMT ATÉ 30 KM (UNIDADE: M3XKM). AF_07/2020 | E11: Transporte, Carga e Descarga de Materiais | F11: M3XKM | G11: 8860 | H11: 2.14 | I11: =TRUNC(H11 * (1 + 20.5 / 100), 2) -> 2.57 | J11: 1772 | K11: =ROUND((J11 * 100 / TRUNC(G11 * I11, 2)), 2) -> 7.78 | L11: =TRUNC(G11 * I11, 2) -> 22770.2 | M11: =L11 / 7467019.56 -> 0.0030494362
A12: 2.4 | B12: 103800 | C12: SINAPI | D12: PEDRA ARGAMASSADA COM CIMENTO E AREIA 1:3, 40% DE ARGAMASSA EM VOLUME - AREIA E PEDRA DE MÃO COMERCIAIS - FORNECIMENTO E ASSENTAMENTO. AF_08/2022 | E12: Dissipadores de Energia | F12: m³ | G12: 1589.06 | H12: 526.17 | I12: =TRUNC(H12 * (1 + 20.5 / 100), 2) -> 634.03 | J12: 302954.29 | K12: =ROUND((J12 * 100 / TRUNC(G12 * I12, 2)), 2) -> 30.07 | L12: =TRUNC(G12 * I12, 2) -> 1007511.7 | M12: =L12 / 7467019.56 -> 0.13492823
A13: 3 | D13: INSTALAÇÕES PROVISÓRIAS | L13: 139281.1 | M13: =L13 / 7467019.56 -> 0.018652837
A14: 3.1 | B14: 103689 | C14: SINAPI | D14: FORNECIMENTO E INSTALAÇÃO DE PLACA DE OBRA COM CHAPA GALVANIZADA E ESTRUTURA DE MADEIRA. AF_03/2022_PS | E14: Sinalização Vertical Viária | F14: m² | G14: 15 | H14: 465.96 | I14: =TRUNC(H14 * (1 + 20.5 / 100), 2) -> 561.48 | J14: 555 | K14: =ROUND((J14 * 100 / TRUNC(G14 * I14, 2)), 2) -> 6.59 | L14: =TRUNC(G14 * I14, 2) -> 8422.2 | M14: =L14 / 7467019.56 -> 0.0011279199
A15: 3.2 | B15: 344 | C15: Próprio | D15: LIGACAO PROVISORIA DE AGUA -PARA MEDICAO DE AGUA - ENTRADA PRINCIPAL, EM PVC SOLDÁVEL DN 25 (¾") FORNECIMENTO E INSTALAÇÃO (INCLUSIVE HIDRÔMETRO) | F15: un | G15: 1 | H15: 360.44 | I15: =TRUNC(H15 * (1 + 20.5 / 100), 2) -> 434.33 | J15: 78.75 | K15: =ROUND((J15 * 100 / TRUNC(G15 * I15, 2)), 2) -> 18.13 | L15: =TRUNC(G15 * I15, 2) -> 434.33 | M15: =L15 / 7467019.56 -> 5.8166447e-05
A16: 3.3 | B16: 345 | C16: Próprio | D16: INSTALACAO/LIGACAO PROVISORIA ELETRICA BAIXA TENSAO P/CANTEIRO DE OBRA | F16: un | G16: 1 | H16: 2016.64 | I16: =TRUNC(H16 * (1 + 20.5 / 100), 2) -> 2430.05 | J16: 1094.4 | K16: =ROUND((J16 * 100 / TRUNC(G16 * I16, 2)), 2) -> 45.04 | L16: =TRUNC(G16 * I16, 2) -> 2430.05 | M16: =L16 / 7467019.56 -> 0.00032543774
A17: 3.4 | B17: 98459 | C17: SINAPI | D17: TAPUME COM TELHA METÁLICA. AF_03/2024 | E17: Instalações para Canteiros de Obras | F17: m² | G17: 480 | H17: 95.96 | I17: =TRUNC(H17 * (1 + 20.5 / 100), 2) -> 115.63 | J17: 14534.4 | K17: =ROUND((J17 * 100 / TRUNC(G17 * I17, 2)), 2) -> 26.19 | L17: =TRUNC(G17 * I17, 2) -> 55502.4 | M17: =L17 / 7467019.56 -> 0.0074330058
A18: 3.5 | B18: 99059 | C18: SINAPI | D18: LOCAÇÃO CONVENCIONAL DE OBRA, UTILIZANDO GABARITO DE TÁBUAS CORRIDAS PONTALETADAS A CADA 2,00M - 2 UTILIZAÇÕES. AF_03/2024 | E18: Locação de Obras | F18: M | G18: 200 | H18: 67.09 | I18: =TRUNC(H18 * (1 + 20.5 / 100), 2) -> 80.84 | J18: 6914 | K18: =ROUND((J18 * 100 / TRUNC(G18 * I18, 2)), 2) -> 42.76 | L18: =TRUNC(G18 * I18, 2) -> 16168 | M18: =L18 / 7467019.56 -> 0.0021652548
A19: 3.6 | B19: 4976 | C19: Próprio | D19: MOBILIZAÇÃO CRECHE 10 SALAS | F19: un | G19: 1 | H19: 4164.69 | I19: =TRUNC(H19 * (1 + 20.5 / 100), 2) -> 5018.45 | J19: 0 | K19: =ROUND((J19 * 100 / TRUNC(G19 * I19, 2)), 2) -> 0 | L19: =TRUNC(G19 * I19, 2) -> 5018.45 | M19: =L19 / 7467019.56 -> 0.00067208208
A20: 3.7 | B20: 4979 | C20: Próprio | D20: DESMOBILIZAÇÃO CRECHE 10 SALAS | F20: un | G20: 1 | H20: 4164.69 | I20: =TRUNC(H20 * (1 + 20.5 / 100), 2) -> 5018.45 | J20: 0 | K20: =ROUND((J20 * 100 / TRUNC(G20 * I20, 2)), 2) -> 0 | L20: =TRUNC(G20 * I20, 2) -> 5018.45 | M20: =L20 / 7467019.56 -> 0.00067208208
A21: 3.8 | B21: 4981 | C21: Próprio | D21: ADESIVO PARA APLICAÇÃO EM TAPUME DE TELHA METÁLICA DE CONSTRUÇÃO | F21: un | G21: 119.13 | H21: 45 | I21: =TRUNC(H21 * (1 + 20.5 / 100), 2) -> 54.22 | J21: 0 | K21: =ROUND((J21 * 100 / TRUNC(G21 * I21, 2)), 2) -> 0 | L21: =TRUNC(G21 * I21, 2) -> 6459.22 | M21: =L21 / 7467019.56 -> 0.00086503322
A22: 3.9 | B22: 2069 | C22: Próprio | D22: LOCACAO DE CONTAINER 2,30 X 6,00 M, ALT. 2,50 M, COM 1 SANITARIO, PARA ESCRITORIO, COMPLETO, SEM DIVISORIAS INTERNAS (NAO INCLUI MOBILIZACAO/DESMOBILIZACAO) | E22: SERP - SERVIÇOS PRELIMINARES | F22: MES | G22: 24 | H22: 847.5 | I22: =TRUNC(H22 * (1 + 20.5 / 100), 2) -> 1021.23 | J22: 0 | K22: =ROUND((J22 * 100 / TRUNC(G22 * I22, 2)), 2) -> 0 | L22: =TRUNC(G22 * I22, 2) -> 24509.52 | M22: =L22 / 7467019.56 -> 0.0032823699
A23: 3.10 | B23: 2068 | C23: Próprio | D23: LOCACAO DE CONTAINER 2,30 X 4,30 M, ALT. 2,50 M, P/ SANITARIO, C/ 5 BACIAS, 1 LAVATORIO E 4 MICTORIOS (NAO INCLUI MOBILIZACAO/DESMOBILIZACAO) | E23: SERP - SERVIÇOS PRELIMINARES | F23: MES | G23: 12 | H23: 1059.37 | I23: =TRUNC(H23 * (1 + 20.5 / 100), 2) -> 1276.54 | J23: 0 | K23: =ROUND((J23 * 100 / TRUNC(G23 * I23, 2)), 2) -> 0 | L23: =TRUNC(G23 * I23, 2) -> 15318.48 | M23: =L23 / 7467019.56 -> 0.0020514852
A24: 4 | D24: INFRAESTRUTURA | L24: 236769.64 | M24: =L24 / 7467019.56 -> 0.031708721
A25: 4.1 | B25: 104916 | C25: SINAPI | D25: ARMAÇÃO DE SAPATA ISOLADA, VIGA BALDRAME E SAPATA CORRIDA UTILIZANDO AÇO CA-60 DE 5 MM - MONTAGEM. AF_01/2024 | E25: Fundações Rasas (Blocos, Sapatas, Vigas Baldrame) | F25: KG | G25: 519.82 | H25: 17 | I25: =TRUNC(H25 * (1 + 20.5 / 100), 2) -> 20.48 | J25: 3742.7 | K25: =ROUND((J25 * 100 / TRUNC(G25 * I25, 2)), 2) -> 35.16 | L25: =TRUNC(G25 * I25, 2) -> 10645.91 | M25: =L25 / 7467019.56 -> 0.0014257241
A26: 4.2 | B26: 104918 | C26: SINAPI | D26: ARMAÇÃO DE SAPATA ISOLADA, VIGA BALDRAME E SAPATA CORRIDA UTILIZANDO AÇO CA-50 DE 8 MM - MONTAGEM. AF_01/2024 | E26: Fundações Rasas (Blocos, Sapatas, Vigas Baldrame) | F26: KG | G26: 1239.09 | H26: 14.57 | I26: =TRUNC(H26 * (1 + 20.5 / 100), 2) -> 17.55 | J26: 4758.11 | K26: =ROUND((J26 * 100 / TRUNC(G26 * I26, 2)), 2) -> 21.88 | L26: =TRUNC(G26 * I26, 2) -> 21746.02 | M26: =L26 / 7467019.56 -> 0.0029122758
A27: 4.3 | B27: 104917 | C27: SINAPI | D27: ARMAÇÃO DE SAPATA ISOLADA, VIGA BALDRAME E SAPATA CORRIDA UTILIZANDO AÇO CA-50 DE 6,3 MM - MONTAGEM. AF_01/2024 | E27: Fundações Rasas (Blocos, Sapatas, Vigas Baldrame) | F27: KG | G27: 0.36 | H27: 15.75 | I27: =TRUNC(H27 * (1 + 20.5 / 100), 2) -> 18.97 | J27: 1.88 | K27: =ROUND((J27 * 100 / TRUNC(G27 * I27, 2)), 2) -> 27.57 | L27: =TRUNC(G27 * I27, 2) -> 6.82 | M27: =L27 / 7467019.56 -> 9.1334969e-07
A28: 4.4 | B28: 104919 | C28: SINAPI | D28: ARMAÇÃO DE SAPATA ISOLADA, VIGA BALDRAME E SAPATA CORRIDA UTILIZANDO AÇO CA-50 DE 10 MM - MONTAGEM. AF_01/2024 | E28: Fundações Rasas (Blocos, Sapatas, Vigas Baldrame) | F28: KG | G28: 557.09 | H28: 12.95 | I28: =TRUNC(H28 * (1 + 20.5 / 100), 2) -> 15.6 | J28: 1621.13 | K28: =ROUND((J28 * 100 / TRUNC(G28 * I28, 2)), 2) -> 18.65 | L28: =TRUNC(G28 * I28, 2) -> 8690.6 | M28: =L28 / 7467019.56 -> 0.0011638646
A29: 4.5 | B29: 104920 | C29: SINAPI | D29: ARMAÇÃO DE BLOCO, SAPATA ISOLADA, VIGA BALDRAME E SAPATA CORRIDA UTILIZANDO AÇO CA-50 DE 12,5 MM - MONTAGEM. AF_01/2024 | E29: Fundações Rasas (Blocos, Sapatas, Vigas Baldrame) | F29: KG | G29: 412.64 | H29: 10.95 | I29: =TRUNC(H29 * (1 + 20.5 / 100), 2) -> 13.19 | J29: 928.44 | K29: =ROUND((J29 * 100 / TRUNC(G29 * I29, 2)), 2) -> 17.06 | L29: =TRUNC(G29 * I29, 2) -> 5442.72 | M29: =L29 / 7467019.56 -> 0.00072890126
A30: 4.6 | B30: 96558 | C30: SINAPI | D30: CONCRETAGEM DE SAPATA, FCK 30 MPA, COM USO DE BOMBA - LANÇAMENTO, ADENSAMENTO E ACABAMENTO. AF_01/2024 | E30: Fundações Rasas (Blocos, Sapatas, Vigas Baldrame) | F30: m³ | G30: 21.15 | H30: 702.57 | I30: =TRUNC(H30 * (1 + 20.5 / 100), 2) -> 846.59 | J30: 681.24 | K30: =ROUND((J30 * 100 / TRUNC(G30 * I30, 2)), 2) -> 3.8 | L30: =TRUNC(G30 * I30, 2) -> 17905.37 | M30: =L30 / 7467019.56 -> 0.0023979273
A31: 4.7 | B31: 96538 | C31: SINAPI | D31: FABRICAÇÃO, MONTAGEM E DESMONTAGEM DE FÔRMA PARA SAPATA, EM CHAPA DE MADEIRA COMPENSADA RESINADA, E=17 MM, 2 UTILIZAÇÕES. AF_01/2024 | E31: Fundações Rasas (Blocos, Sapatas, Vigas Baldrame) | F31: m² | G31: 99.25 | H31: 248.52 | I31: =TRUNC(H31 * (1 + 20.5 / 100), 2) -> 299.46 | J31: 14571.89 | K31: =ROUND((J31 * 100 / TRUNC(G31 * I31, 2)), 2) -> 49.03 | L31: =TRUNC(G31 * I31, 2) -> 29721.4 | M31: =L31 / 7467019.56 -> 0.0039803565
A32: 4.8 | B32: 96616 | C32: SINAPI | D32: LASTRO DE CONCRETO MAGRO, APLICADO EM BLOCOS DE COROAMENTO OU SAPATAS. AF_01/2024 | E32: Lastro | F32: m³ | G32: 6.35 | H32: 809.8 | I32: =TRUNC(H32 * (1 + 20.5 / 100), 2) -> 975.8 | J32: 1991.68 | K32: =ROUND((J32 * 100 / TRUNC(G32 * I32, 2)), 2) -> 32.14 | L32: =TRUNC(G32 * I32, 2) -> 6196.33 | M32: =L32 / 7467019.56 -> 0.00082982641
A33: 4.9 | B33: 96521 | C33: SINAPI | D33: ESCAVAÇÃO MECANIZADA PARA BLOCO DE COROAMENTO OU SAPATA COM RETROESCAVADEIRA (INCLUINDO ESCAVAÇÃO PARA COLOCAÇÃO DE FÔRMAS). AF_01/2024 | E33: Fundações Rasas (Blocos, Sapatas, Vigas Baldrame) | F33: m³ | G33: 228.54 | H33: 40.6 | I33: =TRUNC(H33 * (1 + 20.5 / 100), 2) -> 48.92 | J33: 3025.87 | K33: =ROUND((J33 * 100 / TRUNC(G33 * I33, 2)), 2) -> 27.06 | L33: =TRUNC(G33 * I33, 2) -> 11180.17 | M33: =L33 / 7467019.56 -> 0.0014972734
A34: 4.10 | B34: 96527 | C34: SINAPI | D34: ESCAVAÇÃO MANUAL PARA VIGA BALDRAME OU SAPATA CORRIDA (INCLUINDO ESCAVAÇÃO PARA COLOCAÇÃO DE FÔRMAS). AF_01/2024 | E34: Fundações Rasas (Blocos, Sapatas, Vigas Baldrame) | F34: m³ | G34: 74.75 | H34: 109.11 | I34: =TRUNC(H34 * (1 + 20.5 / 100), 2) -> 131.47 | J34: 7030.99 | K34: =ROUND((J34 * 100 / TRUNC(G34 * I34, 2)), 2) -> 71.54 | L34: =TRUNC(G34 * I34, 2) -> 9827.38 | M34: =L34 / 7467019.56 -> 0.0013161048
A35: 4.11 | B35: 104741 | C35: SINAPI | D35: REATERRO MECANIZADO DE VALA COM MINICARREGADEIRA, COM PLACA VIBRATÓRIA. AF_08/2023 | E35: Aterro e Reaterro de Valas | F35: m³ | G35: 242.96 | H35: 23.21 | I35: =TRUNC(H35 * (1 + 20.5 / 100), 2) -> 27.96 | J35: 1980.12 | K35: =ROUND((J35 * 100 / TRUNC(G35 * I35, 2)), 2) -> 29.15 | L35: =TRUNC(G35 * I35, 2) -> 6793.16 | M35: =L35 / 7467019.56 -> 0.00090975522
A36: 4.12 | B36: 96557 | C36: SINAPI | D36: CONCRETAGEM DE BLOCO DE COROAMENTO OU VIGA BALDRAME, FCK 30 MPA, COM USO DE BOMBA - LANÇAMENTO, ADENSAMENTO E ACABAMENTO. AF_01/2024 | E36: Fundações Rasas (Blocos, Sapatas, Vigas Baldrame) | F36: m³ | G36: 32.83 | H36: 670.71 | I36: =TRUNC(H36 * (1 + 20.5 / 100), 2) -> 808.2 | J36: 601.45 | K36: =ROUND((J36 * 100 / TRUNC(G36 * I36, 2)), 2) -> 2.27 | L36: =TRUNC(G36 * I36, 2) -> 26533.2 | M36: =L36 / 7467019.56 -> 0.0035533856
... A38: 4.14 | B38: 98557 | C38: SINAPI | D38: IMPERMEABILIZAÇÃO DE SUPERFÍCIE COM EMULSÃO ASFÁLTICA, 2 DEMÃOS. AF_09/2023 | E38: Impermeabilização, Proteção Mecânica e Tratamento de Junta | F38: m² | G38: 630.99 | H38: 46.12 | I38: =TRUNC(H38 * (1 + 20.5 / 100), 2) -> 55.57 | J38: 8240.73 | K38: =ROUND((J38 * 100 / TRUNC(G38 * I38, 2)), 2) -> 23.5 | L38: =TRUNC(G38 * I38, 2) -> 35064.11 | M38: =L38 / 7467019.56 -> 0.0046958642
A39: 5 | D39: SUPERESTRUTURA | L39: 577093.46 | M39: =L39 / 7467019.56 -> 0.07728565
A40: 5.1 | B40: 92762 | C40: SINAPI | D40: ARMAÇÃO DE PILAR OU VIGA DE ESTRUTURA CONVENCIONAL DE CONCRETO ARMADO UTILIZANDO AÇO CA-50 DE 10,0 MM - MONTAGEM. AF_06/2022 | E40: Armação para Estruturas de Concreto Armado | F40: KG | G40: 1859.73 | H40: 11.23 | I40: =TRUNC(H40 * (1 + 20.5 / 100), 2) -> 13.53 | J40: 2492.04 | K40: =ROUND((J40 * 100 / TRUNC(G40 * I40, 2)), 2) -> 9.9 | L40: =TRUNC(G40 * I40, 2) -> 25162.14 | M40: =L40 / 7467019.56 -> 0.0033697702
A41: 5.2 | B41: 92763 | C41: SINAPI | D41: ARMAÇÃO DE PILAR OU VIGA DE ESTRUTURA CONVENCIONAL DE CONCRETO ARMADO UTILIZANDO AÇO CA-50 DE 12,5 MM - MONTAGEM. AF_06/2022 | E41: Armação para Estruturas de Concreto Armado | F41: KG | G41: 154.73 | H41: 9.4 | I41: =TRUNC(H41 * (1 + 20.5 / 100), 2) -> 11.32 | J41: 133.07 | K41: =ROUND((J41 * 100 / TRUNC(G41 * I41, 2)), 2) -> 7.6 | L41: =TRUNC(G41 * I41, 2) -> 1751.54 | M41: =L41 / 7467019.56 -> 0.00023457016
...

Sheet Sintético c MO MAT
D1: Obra | E1: Bancos | H1: B.D.I. | K1: Encargos Sociais
D2: CONSTRUÇÃO DE CRECHE 10 SALAS - FUNDAÇÃO RASA, NO DISTRITO DE UMARI, BOM JARDIM/PE | E2: SINAPI - 04/2025 - Pernambuco | H2: 20,5% | K2: Não Desonerado: embutido nos preços unitário dos insumos de mão de obra, de acordo com as bases.
A3: Planilha Orçamentária Sintética Com Valor do Material e da Mão de Obra
A4: Item | B4: Código | C4: Banco | D4: Descrição | E4: Und | F4: Quant. | G4: Valor Unit | H4: Valor Unit com BDI | K4: Total | N4: Peso (%)
H5: M. O. | I5: MAT. | J5: Total | K5: M. O. | L5: MAT. | M5: Total
A6: 1 | D6: ADMINISTRAÇÃO LOCAL | M6: 334535.04 | N6: =M6 / 7467019.56 -> 0.044801683
A7: 1.1 | B7: 4975 | C7: Próprio | D7: ADMINISTRAÇÃO LOCAL CRECHE 10 SALAS | E7: un | F7: 1 | G7: 277622.44 | H7: 308645.28 | I7: 25889.76 | J7: =TRUNC(G7 * (1 + 20.5 / 100), 2) -> 334535.04 | K7: =TRUNC(F7 * H7, 2) -> 308645.28 | L7: =M7 - K7 -> 25889.76 | M7: =TRUNC(F7 * J7, 2) -> 334535.04 | N7: =M7 / 7467019.56 -> 0.044801683
A8: 2 | D8: TERRAPLENAGEM | M8: 1288606.7 | N8: =M8 / 7467019.56 -> 0.1725731
A9: 2.1 | B9: 102291 | C9: SINAPI | D9: ESCAVAÇÃO MECANIZADA DE VALA COM PROF. ATÉ 1,5 M (MÉDIA MONTANTE E JUSANTE/UMA COMPOSIÇÃO POR TRECHO), ESCAVADEIRA (0,8 M3), LARG. DE 1,5 M A 2,5 M, EM SOLO MOLE, LOCAIS COM BAIXO NÍVEL DE INTERFERÊNCIA. AF_09/2024 | E9: m³ | F9: 6806 | G9: 8.06 | H9: 1.93 | I9: 7.78 | J9: =TRUNC(G9 * (1 + 20.5 / 100), 2) -> 9.71 | K9: =TRUNC(F9 * H9, 2) -> 13135.58 | L9: =M9 - K9 -> 52950.68 | M9: =TRUNC(F9 * J9, 2) -> 66086.26 | N9: =M9 / 7467019.56 -> 0.0088504201
A10: 2.2 | B10: 104738 | C10: SINAPI | D10: ATERRO MECANIZADO DE VALA COM MINICARREGADEIRA, COM SOLO ARGILO-ARENOSO. AF_08/2023 | E10: m³ | F10: 1985.32 | G10: 80.36 | H10: 10.71 | I10: 86.12 | J10: =TRUNC(G10 * (1 + 20.5 / 100), 2) -> 96.83 | K10: =TRUNC(F10 * H10, 2) -> 21262.77 | L10: =M10 - K10 -> 170975.76 | M10: =TRUNC(F10 * J10, 2) -> 192238.53 | N10: =M10 / 7467019.56 -> 0.025745015
A11: 2.3 | B11: 95876 | C11: SINAPI | D11: TRANSPORTE COM CAMINHÃO BASCULANTE DE 14 M³, EM VIA URBANA PAVIMENTADA, DMT ATÉ 30 KM (UNIDADE: M3XKM). AF_07/2020 | E11: M3XKM | F11: 8860 | G11: 2.14 | H11: 0.2 | I11: 2.37 | J11: =TRUNC(G11 * (1 + 20.5 / 100), 2) -> 2.57 | K11: =TRUNC(F11 * H11, 2) -> 1772 | L11: =M11 - K11 -> 20998.2 | M11: =TRUNC(F11 * J11, 2) -> 22770.2 | N11: =M11 / 7467019.56 -> 0.0030494362
A12: 2.4 | B12: 103800 | C12: SINAPI | D12: PEDRA ARGAMASSADA COM CIMENTO E AREIA 1:3, 40% DE ARGAMASSA EM VOLUME - AREIA E PEDRA DE MÃO COMERCIAIS - FORNECIMENTO E ASSENTAMENTO. AF_08/2022 | E12: m³ | F12: 1589.06 | G12: 526.17 | H12: 190.65 | I12: 443.38 | J12: =TRUNC(G12 * (1 + 20.5 / 100), 2) -> 634.03 | K12: =TRUNC(F12 * H12, 2) -> 302954.28 | L12: =M12 - K12 -> 704557.43 | M12: =TRUNC(F12 * J12, 2) -> 1007511.7 | N12: =M12 / 7467019.56 -> 0.13492823
A13: 3 | D13: INSTALAÇÕES PROVISÓRIAS | M13: 139281.1 | N13: =M13 / 7467019.56 -> 0.018652837
A14: 3.1 | B14: 103689 | C14: SINAPI | D14: FORNECIMENTO E INSTALAÇÃO DE PLACA DE OBRA COM CHAPA GALVANIZADA E ESTRUTURA DE MADEIRA. AF_03/2022_PS | E14: m² | F14: 15 | G14: 465.96 | H14: 37 | I14: 524.48 | J14: =TRUNC(G14 * (1 + 20.5 / 100), 2) -> 561.48 | K14: =TRUNC(F14 * H14, 2) -> 555 | L14: =M14 - K14 -> 7867.2 | M14: =TRUNC(F14 * J14, 2) -> 8422.2 | N14: =M14 / 7467019.56 -> 0.0011279199
A15: 3.2 | B15: 344 | C15: Próprio | D15: LIGACAO PROVISORIA DE AGUA -PARA MEDICAO DE AGUA - ENTRADA PRINCIPAL, EM PVC SOLDÁVEL DN 25 (¾") FORNECIMENTO E INSTALAÇÃO (INCLUSIVE HIDRÔMETRO) | E15: un | F15: 1 | G15: 360.44 | H15: 78.75 | I15: 355.58 | J15: =TRUNC(G15 * (1 + 20.5 / 100), 2) -> 434.33 | K15: =TRUNC(F15 * H15, 2) -> 78.75 | L15: =M15 - K15 -> 355.58 | M15: =TRUNC(F15 * J15, 2) -> 434.33 | N15: =M15 / 7467019.56 -> 5.8166447e-05
A16: 3.3 | B16: 345 | C16: Próprio | D16: INSTALACAO/LIGACAO PROVISORIA ELETRICA BAIXA TENSAO P/CANTEIRO DE OBRA | E16: un | F16: 1 | G16: 2016.64 | H16: 1094.4 | I16: 1335.65 | J16: =TRUNC(G16 * (1 + 20.5 / 100), 2) -> 2430.05 | K16: =TRUNC(F16 * H16, 2) -> 1094.4 | L16: =M16 - K16 -> 1335.65 | M16: =TRUNC(F16 * J16, 2) -> 2430.05 | N16: =M16 / 7467019.56 -> 0.00032543774
A17: 3.4 | B17: 98459 | C17: SINAPI | D17: TAPUME COM TELHA METÁLICA. AF_03/2024 | E17: m² | F17: 480 | G17: 95.96 | H17: 30.28 | I17: 85.35 | J17: =TRUNC(G17 * (1 + 20.5 / 100), 2) -> 115.63 | K17: =TRUNC(F17 * H17, 2) -> 14534.4 | L17: =M17 - K17 -> 40968 | M17: =TRUNC(F17 * J17, 2) -> 55502.4 | N17: =M17 / 7467019.56 -> 0.0074330058
A18: 3.5 | B18: 99059 | C18: SINAPI | D18: LOCAÇÃO CONVENCIONAL DE OBRA, UTILIZANDO GABARITO DE TÁBUAS CORRIDAS PONTALETADAS A CADA 2,00M - 2 UTILIZAÇÕES. AF_03/2024 | E18: M | F18: 200 | G18: 67.09 | H18: 34.57 | I18: 46.27 | J18: =TRUNC(G18 * (1 + 20.5 / 100), 2) -> 80.84 | K18: =TRUNC(F18 * H18, 2) -> 6914 | L18: =M18 - K18 -> 9254 | M18: =TRUNC(F18 * J18, 2) -> 16168 | N18: =M18 / 7467019.56 -> 0.0021652548
A19: 3.6 | B19: 4976 | C19: Próprio | D19: MOBILIZAÇÃO CRECHE 10 SALAS | E19: un | F19: 1 | G19: 4164.69 | H19: 0 | I19: 5018.45 | J19: =TRUNC(G19 * (1 + 20.5 / 100), 2) -> 5018.45 | K19: =TRUNC(F19 * H19, 2) -> 0 | L19: =M19 - K19 -> 5018.45 | M19: =TRUNC(F19 * J19, 2) -> 5018.45 | N19: =M19 / 7467019.56 -> 0.00067208208
A20: 3.7 | B20: 4979 | C20: Próprio | D20: DESMOBILIZAÇÃO CRECHE 10 SALAS | E20: un | F20: 1 | G20: 4164.69 | H20: 0 | I20: 5018.45 | J20: =TRUNC(G20 * (1 + 20.5 / 100), 2) -> 5018.45 | K20: =TRUNC(F20 * H20, 2) -> 0 | L20: =M20 - K20 -> 5018.45 | M20: =TRUNC(F20 * J20, 2) -> 5018.45 | N20: =M20 / 7467019.56 -> 0.00067208208
A21: 3.8 | B21: 4981 | C21: Próprio | D21: ADESIVO PARA APLICAÇÃO EM TAPUME DE TELHA METÁLICA DE CONSTRUÇÃO | E21: un | F21: 119.13 | G21: 45 | H21: 0 | I21: 54.22 | J21: =TRUNC(G21 * (1 + 20.5 / 100), 2) -> 54.22 | K21: =TRUNC(F21 * H21, 2) -> 0 | L21: =M21 - K21 -> 6459.22 | M21: =TRUNC(F21 * J21, 2) -> 6459.22 | N21: =M21 / 7467019.56 -> 0.00086503322
A22: 3.9 | B22: 2069 | C22: Próprio | D22: LOCACAO DE CONTAINER 2,30 X 6,00 M, ALT. 2,50 M, COM 1 SANITARIO, PARA ESCRITORIO, COMPLETO, SEM DIVISORIAS INTERNAS (NAO INCLUI MOBILIZACAO/DESMOBILIZACAO) | E22: MES | F22: 24 | G22: 847.5 | H22: 0 | I22: 1021.23 | J22: =TRUNC(G22 * (1 + 20.5 / 100), 2) -> 1021.23 | K22: =TRUNC(F22 * H22, 2) -> 0 | L22: =M22 - K22 -> 24509.52 | M22: =TRUNC(F22 * J22, 2) -> 24509.52 | N22: =M22 / 7467019.56 -> 0.0032823699
A23: 3.10 | B23: 2068 | C23: Próprio | D23: LOCACAO DE CONTAINER 2,30 X 4,30 M, ALT. 2,50 M, P/ SANITARIO, C/ 5 BACIAS, 1 LAVATORIO E 4 MICTORIOS (NAO INCLUI MOBILIZACAO/DESMOBILIZACAO) | E23: MES | F23: 12 | G23: 1059.37 | H23: 0 | I23: 1276.54 | J23: =TRUNC(G23 * (1 + 20.5 / 100), 2) -> 1276.54 | K23: =TRUNC(F23 * H23, 2) -> 0 | L23: =M23 - K23 -> 15318.48 | M23: =TRUNC(F23 * J23, 2) -> 15318.48 | N23: =M23 / 7467019.56 -> 0.0020514852
A24: 4 | D24: INFRAESTRUTURA | M24: 236769.64 | N24: =M24 / 7467019.56 -> 0.031708721
A25: 4.1 | B25: 104916 | C25: SINAPI | D25: ARMAÇÃO DE SAPATA ISOLADA, VIGA BALDRAME E SAPATA CORRIDA UTILIZANDO AÇO CA-60 DE 5 MM - MONTAGEM. AF_01/2024 | E25: KG | F25: 519.82 | G25: 17 | H25: 7.2 | I25: 13.28 | J25: =TRUNC(G25 * (1 + 20.5 / 100), 2) -> 20.48 | K25: =TRUNC(F25 * H25, 2) -> 3742.7 | L25: =M25 - K25 -> 6903.21 | M25: =TRUNC(F25 * J25, 2) -> 10645.91 | N25: =M25 / 7467019.56 -> 0.0014257241
A26: 4.2 | B26: 104918 | C26: SINAPI | D26: ARMAÇÃO DE SAPATA ISOLADA, VIGA BALDRAME E SAPATA CORRIDA UTILIZANDO AÇO CA-50 DE 8 MM - MONTAGEM. AF_01/2024 | E26: KG | F26: 1239.09 | G26: 14.57 | H26: 3.84 | I26: 13.71 | J26: =TRUNC(G26 * (1 + 20.5 / 100), 2) -> 17.55 | K26: =TRUNC(F26 * H26, 2) -> 4758.1 | L26: =M26 - K26 -> 16987.92 | M26: =TRUNC(F26 * J26, 2) -> 21746.02 | N26: =M26 / 7467019.56 -> 0.0029122758
A27: 4.3 | B27: 104917 | C27: SINAPI | D27: ARMAÇÃO DE SAPATA ISOLADA, VIGA BALDRAME E SAPATA CORRIDA UTILIZANDO AÇO CA-50 DE 6,3 MM - MONTAGEM. AF_01/2024 | E27: KG | F27: 0.36 | G27: 15.75 | H27: 5.21 | I27: 13.76 | J27: =TRUNC(G27 * (1 + 20.5 / 100), 2) -> 18.97 | K27: =TRUNC(F27 * H27, 2) -> 1.87 | L27: =M27 - K27 -> 4.95 | M27: =TRUNC(F27 * J27, 2) -> 6.82 | N27: =M27 / 7467019.56 -> 9.1334969e-07
A28: 4.4 | B28: 104919 | C28: SINAPI | D28: ARMAÇÃO DE SAPATA ISOLADA, VIGA BALDRAME E SAPATA CORRIDA UTILIZANDO AÇO CA-50 DE 10 MM - MONTAGEM. AF_01/2024 | E28: KG | F28: 557.09 | G28: 12.95 | H28: 2.91 | I28: 12.69 | J28: =TRUNC(G28 * (1 + 20.5 / 100), 2) -> 15.6 | K28: =TRUNC(F28 * H28, 2) -> 1621.13 | L28: =M28 - K28 -> 7069.47 | M28: =TRUNC(F28 * J28, 2) -> 8690.6 | N28: =M28 / 7467019.56 -> 0.0011638646
A29: 4.5 | B29: 104920 | C29: SINAPI | D29: ARMAÇÃO DE BLOCO, SAPATA ISOLADA, VIGA BALDRAME E SAPATA CORRIDA UTILIZANDO AÇO CA-50 DE 12,5 MM - MONTAGEM. AF_01/2024 | E29: KG | F29: 412.64 | G29: 10.95 | H29: 2.25 | I29: 10.94 | J29: =TRUNC(G29 * (1 + 20.5 / 100), 2) -> 13.19 | K29: =TRUNC(F29 * H29, 2) -> 928.44 | L29: =M29 - K29 -> 4514.28 | M29: =TRUNC(F29 * J29, 2) -> 5442.72 | N29: =M29 / 7467019.56 -> 0.00072890126
A30: 4.6 | B30: 96558 | C30: SINAPI | D30: CONCRETAGEM DE SAPATA, FCK 30 MPA, COM USO DE BOMBA - LANÇAMENTO, ADENSAMENTO E ACABAMENTO. AF_01/2024 | E30: m³ | F30: 21.15 | G30: 702.57 | H30: 32.21 | I30: 814.38 | J30: =TRUNC(G30 * (1 + 20.5 / 100), 2) -> 846.59 | K30: =TRUNC(F30 * H30, 2) -> 681.24 | L30: =M30 - K30 -> 17224.13 | M30: =TRUNC(F30 * J30, 2) -> 17905.37 | N30: =M30 / 7467019.56 -> 0.0023979273
A31: 4.7 | B31: 96538 | C31: SINAPI | D31: FABRICAÇÃO, MONTAGEM E DESMONTAGEM DE FÔRMA PARA SAPATA, EM CHAPA DE MADEIRA COMPENSADA RESINADA, E=17 MM, 2 UTILIZAÇÕES. AF_01/2024 | E31: m² | F31: 99.25 | G31: 248.52 | H31: 146.82 | I31: 152.64 | J31: =TRUNC(G31 * (1 + 20.5 / 100), 2) -> 299.46 | K31: =TRUNC(F31 * H31, 2) -> 14571.88 | L31: =M31 - K31 -> 15149.52 | M31: =TRUNC(F31 * J31, 2) -> 29721.4 | N31: =M31 / 7467019.56 -> 0.0039803565
A32: 4.8 | B32: 96616 | C32: SINAPI | D32: LASTRO DE CONCRETO MAGRO, APLICADO EM BLOCOS DE COROAMENTO OU SAPATAS. AF_01/2024 | E32: m³ | F32: 6.35 | G32: 809.8 | H32: 313.65 | I32: 662.15 | J32: =TRUNC(G32 * (1 + 20.5 / 100), 2) -> 975.8 | K32: =TRUNC(F32 * H32, 2) -> 1991.67 | L32: =M32 - K32 -> 4204.66 | M32: =TRUNC(F32 * J32, 2) -> 6196.33 | N32: =M32 / 7467019.56 -> 0.00082982641
A33: 4.9 | B33: 96521 | C33: SINAPI | D33: ESCAVAÇÃO MECANIZADA PARA BLOCO DE COROAMENTO OU SAPATA COM RETROESCAVADEIRA (INCLUINDO ESCAVAÇÃO PARA COLOCAÇÃO DE FÔRMAS). AF_01/2024 | E33: m³ | F33: 228.54 | G33: 40.6 | H33: 13.24 | I33: 35.68 | J33: =TRUNC(G33 * (1 + 20.5 / 100), 2) -> 48.92 | K33: =TRUNC(F33 * H33, 2) -> 3025.86 | L33: =M33 - K33 -> 8154.31 | M33: =TRUNC(F33 * J33, 2) -> 11180.17 | N33: =M33 / 7467019.56 -> 0.0014972734
A34: 4.10 | B34: 96527 | C34: SINAPI | D34: ESCAVAÇÃO MANUAL PARA VIGA BALDRAME OU SAPATA CORRIDA (INCLUINDO ESCAVAÇÃO PARA COLOCAÇÃO DE FÔRMAS). AF_01/2024 | E34: m³ | F34: 74.75 | G34: 109.11 | H34: 94.06 | I34: 37.41 | J34: =TRUNC(G34 * (1 + 20.5 / 100), 2) -> 131.47 | K34: =TRUNC(F34 * H34, 2) -> 7030.98 | L34: =M34 - K34 -> 2796.4 | M34: =TRUNC(F34 * J34, 2) -> 9827.38 | N34: =M34 / 7467019.56 -> 0.0013161048
A35: 4.11 | B35: 104741 | C35: SINAPI | D35: REATERRO MECANIZADO DE VALA COM MINICARREGADEIRA, COM PLACA VIBRATÓRIA. AF_08/2023 | E35: m³ | F35: 242.96 | G35: 23.21 | H35: 8.15 | I35: 19.81 | J35: =TRUNC(G35 * (1 + 20.5 / 100), 2) -> 27.96 | K35: =TRUNC(F35 * H35, 2) -> 1980.12 | L35: =M35 - K35 -> 4813.04 | M35: =TRUNC(F35 * J35, 2) -> 6793.16 | N35: =M35 / 7467019.56 -> 0.00090975522
A36: 4.12 | B36: 96557 | C36: SINAPI | D36: CONCRETAGEM DE BLOCO DE COROAMENTO OU VIGA BALDRAME, FCK 30 MPA, COM USO DE BOMBA - LANÇAMENTO, ADENSAMENTO E ACABAMENTO. AF_01/2024 | E36: m³ | F36: 32.83 | G36: 670.71 | H36: 18.32 | I36: 789.88 | J36: =TRUNC(G36 * (1 + 20.5 / 100), 2) -> 808.2 | K36: =TRUNC(F36 * H36, 2) -> 601.44 | L36: =M36 - K36 -> 25931.76 | M36: =TRUNC(F36 * J36, 2) -> 26533.2 | N36: =M36 / 7467019.56 -> 0.0035533856
... A38: 4.14 | B38: 98557 | C38: SINAPI | D38: IMPERMEABILIZAÇÃO DE SUPERFÍCIE COM EMULSÃO ASFÁLTICA, 2 DEMÃOS. AF_09/2023 | E38: m² | F38: 630.99 | G38: 46.12 | H38: 13.06 | I38: 42.51 | J38: =TRUNC(G38 * (1 + 20.5 / 100), 2) -> 55.57 | K38: =TRUNC(F38 * H38, 2) -> 8240.72 | L38: =M38 - K38 -> 26823.39 | M38: =TRUNC(F38 * J38, 2) -> 35064.11 | N38: =M38 / 7467019.56 -> 0.0046958642
A39: 5 | D39: SUPERESTRUTURA | M39: 577093.46 | N39: =M39 / 7467019.56 -> 0.07728565
A40: 5.1 | B40: 92762 | C40: SINAPI | D40: ARMAÇÃO DE PILAR OU VIGA DE ESTRUTURA CONVENCIONAL DE CONCRETO ARMADO UTILIZANDO AÇO CA-50 DE 10,0 MM - MONTAGEM. AF_06/2022 | E40: KG | F40: 1859.73 | G40: 11.23 | H40: 1.34 | I40: 12.19 | J40: =TRUNC(G40 * (1 + 20.5 / 100), 2) -> 13.53 | K40: =TRUNC(F40 * H40, 2) -> 2492.03 | L40: =M40 - K40 -> 22670.11 | M40: =TRUNC(F40 * J40, 2) -> 25162.14 | N40: =M40 / 7467019.56 -> 0.0033697702
A41: 5.2 | B41: 92763 | C41: SINAPI | D41: ARMAÇÃO DE PILAR OU VIGA DE ESTRUTURA CONVENCIONAL DE CONCRETO ARMADO UTILIZANDO AÇO CA-50 DE 12,5 MM - MONTAGEM. AF_06/2022 | E41: KG | F41: 154.73 | G41: 9.4 | H41: 0.86 | I41: 10.46 | J41: =TRUNC(G41 * (1 + 20.5 / 100), 2) -> 11.32 | K41: =TRUNC(F41 * H41, 2) -> 133.06 | L41: =M41 - K41 -> 1618.48 | M41: =TRUNC(F41 * J41, 2) -> 1751.54 | N41: =M41 / 7467019.56 -> 0.00023457016
...

Sheet Sintético c MO MAT EQ
D1: Obra | E1: Bancos | H1: B.D.I. | K1: Encargos Sociais
D2: CONSTRUÇÃO DE CRECHE 10 SALAS - FUNDAÇÃO RASA, NO DISTRITO DE UMARI, BOM JARDIM/PE | E2: SINAPI - 04/2025 - Pernambuco | H2: 20,5% | K2: Não Desonerado: embutido nos preços unitário dos insumos de mão de obra, de acordo com as bases.
A3: Planilha Orçamentária Sintética Com Valor do Material, Mão de Obra e Equipamento
A4: Item | B4: Código | C4: Banco | D4: Descrição | E4: Und | F4: Quant. | G4: Valor Unit | H4: Valor Unit com BDI | L4: Total | P4: Peso (%)
H5: M. O. | I5: EQ. | J5: MAT. | K5: Total | L5: M. O. | M5: EQ. | N5: MAT. | O5: Total
A6: 1 | D6: ADMINISTRAÇÃO LOCAL | O6: 334535.04 | P6: =O6 / 7467019.56 -> 0.044801683
A7: 1.1 | B7: 4975 | C7: Próprio | D7: ADMINISTRAÇÃO LOCAL CRECHE 10 SALAS | E7: un | F7: 1 | G7: 277622.44 | H7: 308645.28 | I7: 0 | J7: 25889.76 | K7: =TRUNC(G7 * (1 + 20.5 / 100), 2) -> 334535.04 | L7: =TRUNC(F7 * H7, 2) -> 308645.28 | M7: =TRUNC(F7 * I7, 2) -> 0 | N7: =TRUNC(F7 * J7, 2) -> 25889.76 | O7: =TRUNC(F7 * K7, 2) -> 334535.04 | P7: =O7 / 7467019.56 -> 0.044801683
A8: 2 | D8: TERRAPLENAGEM | O8: 1288606.7 | P8: =O8 / 7467019.56 -> 0.1725731
A9: 2.1 | B9: 102291 | C9: SINAPI | D9: ESCAVAÇÃO MECANIZADA DE VALA COM PROF. ATÉ 1,5 M (MÉDIA MONTANTE E JUSANTE/UMA COMPOSIÇÃO POR TRECHO), ESCAVADEIRA (0,8 M3), LARG. DE 1,5 M A 2,5 M, EM SOLO MOLE, LOCAIS COM BAIXO NÍVEL DE INTERFERÊNCIA. AF_09/2024 | E9: m³ | F9: 6806 | G9: 8.06 | H9: 1.93 | I9: 0 | J9: 7.78 | K9: =TRUNC(G9 * (1 + 20.5 / 100), 2) -> 9.71 | L9: =TRUNC(F9 * H9, 2) -> 13135.58 | M9: =TRUNC(F9 * I9, 2) -> 0 | N9: =TRUNC(F9 * J9, 2) -> 52950.68 | O9: =TRUNC(F9 * K9, 2) -> 66086.26 | P9: =O9 / 7467019.56 -> 0.0088504201
A10: 2.2 | B10: 104738 | C10: SINAPI | D10: ATERRO MECANIZADO DE VALA COM MINICARREGADEIRA, COM SOLO ARGILO-ARENOSO. AF_08/2023 | E10: m³ | F10: 1985.32 | G10: 80.36 | H10: 10.71 | I10: 0 | J10: 86.12 | K10: =TRUNC(G10 * (1 + 20.5 / 100), 2) -> 96.83 | L10: =TRUNC(F10 * H10, 2) -> 21262.77 | M10: =TRUNC(F10 * I10, 2) -> 0 | N10: =TRUNC(F10 * J10, 2) -> 170975.75 | O10: =TRUNC(F10 * K10, 2) -> 192238.53 | P10: =O10 / 7467019.56 -> 0.025745015
A11: 2.3 | B11: 95876 | C11: SINAPI | D11: TRANSPORTE COM CAMINHÃO BASCULANTE DE 14 M³, EM VIA URBANA PAVIMENTADA, DMT ATÉ 30 KM (UNIDADE: M3XKM). AF_07/2020 | E11: M3XKM | F11: 8860 | G11: 2.14 | H11: 0.2 | I11: 0 | J11: 2.37 | K11: =TRUNC(G11 * (1 + 20.5 / 100), 2) -> 2.57 | L11: =TRUNC(F11 * H11, 2) -> 1772 | M11: =TRUNC(F11 * I11, 2) -> 0 | N11: =TRUNC(F11 * J11, 2) -> 20998.2 | O11: =TRUNC(F11 * K11, 2) -> 22770.2 | P11: =O11 / 7467019.56 -> 0.0030494362
A12: 2.4 | B12: 103800 | C12: SINAPI | D12: PEDRA ARGAMASSADA COM CIMENTO E AREIA 1:3, 40% DE ARGAMASSA EM VOLUME - AREIA E PEDRA DE MÃO COMERCIAIS - FORNECIMENTO E ASSENTAMENTO. AF_08/2022 | E12: m³ | F12: 1589.06 | G12: 526.17 | H12: 190.65 | I12: 0 | J12: 443.38 | K12: =TRUNC(G12 * (1 + 20.5 / 100), 2) -> 634.03 | L12: =TRUNC(F12 * H12, 2) -> 302954.28 | M12: =TRUNC(F12 * I12, 2) -> 0 | N12: =TRUNC(F12 * J12, 2) -> 704557.42 | O12: =TRUNC(F12 * K12, 2) -> 1007511.7 | P12: =O12 / 7467019.56 -> 0.13492823
A13: 3 | D13: INSTALAÇÕES PROVISÓRIAS | O13: 139281.1 | P13: =O13 / 7467019.56 -> 0.018652837
A14: 3.1 | B14: 103689 | C14: SINAPI | D14: FORNECIMENTO E INSTALAÇÃO DE PLACA DE OBRA COM CHAPA GALVANIZADA E ESTRUTURA DE MADEIRA. AF_03/2022_PS | E14: m² | F14: 15 | G14: 465.96 | H14: 37 | I14: 0 | J14: 524.48 | K14: =TRUNC(G14 * (1 + 20.5 / 100), 2) -> 561.48 | L14: =TRUNC(F14 * H14, 2) -> 555 | M14: =TRUNC(F14 * I14, 2) -> 0 | N14: =TRUNC(F14 * J14, 2) -> 7867.2 | O14: =TRUNC(F14 * K14, 2) -> 8422.2 | P14: =O14 / 7467019.56 -> 0.0011279199
A15: 3.2 | B15: 344 | C15: Próprio | D15: LIGACAO PROVISORIA DE AGUA -PARA MEDICAO DE AGUA - ENTRADA PRINCIPAL, EM PVC SOLDÁVEL DN 25 (¾") FORNECIMENTO E INSTALAÇÃO (INCLUSIVE HIDRÔMETRO) | E15: un | F15: 1 | G15: 360.44 | H15: 78.75 | I15: 0 | J15: 355.58 | K15: =TRUNC(G15 * (1 + 20.5 / 100), 2) -> 434.33 | L15: =TRUNC(F15 * H15, 2) -> 78.75 | M15: =TRUNC(F15 * I15, 2) -> 0 | N15: =TRUNC(F15 * J15, 2) -> 355.58 | O15: =TRUNC(F15 * K15, 2) -> 434.33 | P15: =O15 / 7467019.56 -> 5.8166447e-05
A16: 3.3 | B16: 345 | C16: Próprio | D16: INSTALACAO/LIGACAO PROVISORIA ELETRICA BAIXA TENSAO P/CANTEIRO DE OBRA | E16: un | F16: 1 | G16: 2016.64 | H16: 1094.4 | I16: 0 | J16: 1335.65 | K16: =TRUNC(G16 * (1 + 20.5 / 100), 2) -> 2430.05 | L16: =TRUNC(F16 * H16, 2) -> 1094.4 | M16: =TRUNC(F16 * I16, 2) -> 0 | N16: =TRUNC(F16 * J16, 2) -> 1335.65 | O16: =TRUNC(F16 * K16, 2) -> 2430.05 | P16: =O16 / 7467019.56 -> 0.00032543774
A17: 3.4 | B17: 98459 | C17: SINAPI | D17: TAPUME COM TELHA METÁLICA. AF_03/2024 | E17: m² | F17: 480 | G17: 95.96 | H17: 30.28 | I17: 0 | J17: 85.35 | K17: =TRUNC(G17 * (1 + 20.5 / 100), 2) -> 115.63 | L17: =TRUNC(F17 * H17, 2) -> 14534.4 | M17: =TRUNC(F17 * I17, 2) -> 0 | N17: =TRUNC(F17 * J17, 2) -> 40968 | O17: =TRUNC(F17 * K17, 2) -> 55502.4 | P17: =O17 / 7467019.56 -> 0.0074330058
A18: 3.5 | B18: 99059 | C18: SINAPI | D18: LOCAÇÃO CONVENCIONAL DE OBRA, UTILIZANDO GABARITO DE TÁBUAS CORRIDAS PONTALETADAS A CADA 2,00M - 2 UTILIZAÇÕES. AF_03/2024 | E18: M | F18: 200 | G18: 67.09 | H18: 34.57 | I18: 0 | J18: 46.27 | K18: =TRUNC(G18 * (1 + 20.5 / 100), 2) -> 80.84 | L18: =TRUNC(F18 * H18, 2) -> 6914 | M18: =TRUNC(F18 * I18, 2) -> 0 | N18: =TRUNC(F18 * J18, 2) -> 9254 | O18: =TRUNC(F18 * K18, 2) -> 16168 | P18: =O18 / 7467019.56 -> 0.0021652548
A19: 3.6 | B19: 4976 | C19: Próprio | D19: MOBILIZAÇÃO CRECHE 10 SALAS | E19: un | F19: 1 | G19: 4164.69 | H19: 0 | I19: 0 | J19: 5018.45 | K19: =TRUNC(G19 * (1 + 20.5 / 100), 2) -> 5018.45 | L19: =TRUNC(F19 * H19, 2) -> 0 | M19: =TRUNC(F19 * I19, 2) -> 0 | N19: =TRUNC(F19 * J19, 2) -> 5018.45 | O19: =TRUNC(F19 * K19, 2) -> 5018.45 | P19: =O19 / 7467019.56 -> 0.00067208208
A20: 3.7 | B20: 4979 | C20: Próprio | D20: DESMOBILIZAÇÃO CRECHE 10 SALAS | E20: un | F20: 1 | G20: 4164.69 | H20: 0 | I20: 0 | J20: 5018.45 | K20: =TRUNC(G20 * (1 + 20.5 / 100), 2) -> 5018.45 | L20: =TRUNC(F20 * H20, 2) -> 0 | M20: =TRUNC(F20 * I20, 2) -> 0 | N20: =TRUNC(F20 * J20, 2) -> 5018.45 | O20: =TRUNC(F20 * K20, 2) -> 5018.45 | P20: =O20 / 7467019.56 -> 0.00067208208
A21: 3.8 | B21: 4981 | C21: Próprio | D21: ADESIVO PARA APLICAÇÃO EM TAPUME DE TELHA METÁLICA DE CONSTRUÇÃO | E21: un | F21: 119.13 | G21: 45 | H21: 0 | I21: 0 | J21: 54.22 | K21: =TRUNC(G21 * (1 + 20.5 / 100), 2) -> 54.22 | L21: =TRUNC(F21 * H21, 2) -> 0 | M21: =TRUNC(F21 * I21, 2) -> 0 | N21: =TRUNC(F21 * J21, 2) -> 6459.22 | O21: =TRUNC(F21 * K21, 2) -> 6459.22 | P21: =O21 / 7467019.56 -> 0.00086503322
A22: 3.9 | B22: 2069 | C22: Próprio | D22: LOCACAO DE CONTAINER 2,30 X 6,00 M, ALT. 2,50 M, COM 1 SANITARIO, PARA ESCRITORIO, COMPLETO, SEM DIVISORIAS INTERNAS (NAO INCLUI MOBILIZACAO/DESMOBILIZACAO) | E22: MES | F22: 24 | G22: 847.5 | H22: 0 | I22: 0 | J22: 1021.23 | K22: =TRUNC(G22 * (1 + 20.5 / 100), 2) -> 1021.23 | L22: =TRUNC(F22 * H22, 2) -> 0 | M22: =TRUNC(F22 * I22, 2) -> 0 | N22: =TRUNC(F22 * J22, 2) -> 24509.52 | O22: =TRUNC(F22 * K22, 2) -> 24509.52 | P22: =O22 / 7467019.56 -> 0.0032823699
A23: 3.10 | B23: 2068 | C23: Próprio | D23: LOCACAO DE CONTAINER 2,30 X 4,30 M, ALT. 2,50 M, P/ SANITARIO, C/ 5 BACIAS, 1 LAVATORIO E 4 MICTORIOS (NAO INCLUI MOBILIZACAO/DESMOBILIZACAO) | E23: MES | F23: 12 | G23: 1059.37 | H23: 0 | I23: 0 | J23: 1276.54 | K23: =TRUNC(G23 * (1 + 20.5 / 100), 2) -> 1276.54 | L23: =TRUNC(F23 * H23, 2) -> 0 | M23: =TRUNC(F23 * I23, 2) -> 0 | N23: =TRUNC(F23 * J23, 2) -> 15318.48 | O23: =TRUNC(F23 * K23, 2) -> 15318.48 | P23: =O23 / 7467019.56 -> 0.0020514852
A24: 4 | D24: INFRAESTRUTURA | O24: 236769.64 | P24: =O24 / 7467019.56 -> 0.031708721
A25: 4.1 | B25: 104916 | C25: SINAPI | D25: ARMAÇÃO DE SAPATA ISOLADA, VIGA BALDRAME E SAPATA CORRIDA UTILIZANDO AÇO CA-60 DE 5 MM - MONTAGEM. AF_01/2024 | E25: KG | F25: 519.82 | G25: 17 | H25: 7.2 | I25: 0 | J25: 13.28 | K25: =TRUNC(G25 * (1 + 20.5 / 100), 2) -> 20.48 | L25: =TRUNC(F25 * H25, 2) -> 3742.7 | M25: =TRUNC(F25 * I25, 2) -> 0 | N25: =TRUNC(F25 * J25, 2) -> 6903.2 | O25: =TRUNC(F25 * K25, 2) -> 10645.91 | P25: =O25 / 7467019.56 -> 0.0014257241
A26: 4.2 | B26: 104918 | C26: SINAPI | D26: ARMAÇÃO DE SAPATA ISOLADA, VIGA BALDRAME E SAPATA CORRIDA UTILIZANDO AÇO CA-50 DE 8 MM - MONTAGEM. AF_01/2024 | E26: KG | F26: 1239.09 | G26: 14.57 | H26: 3.84 | I26: 0 | J26: 13.71 | K26: =TRUNC(G26 * (1 + 20.5 / 100), 2) -> 17.55 | L26: =TRUNC(F26 * H26, 2) -> 4758.1 | M26: =TRUNC(F26 * I26, 2) -> 0 | N26: =TRUNC(F26 * J26, 2) -> 16987.92 | O26: =TRUNC(F26 * K26, 2) -> 21746.02 | P26: =O26 / 7467019.56 -> 0.0029122758
A27: 4.3 | B27: 104917 | C27: SINAPI | D27: ARMAÇÃO DE SAPATA ISOLADA, VIGA BALDRAME E SAPATA CORRIDA UTILIZANDO AÇO CA-50 DE 6,3 MM - MONTAGEM. AF_01/2024 | E27: KG | F27: 0.36 | G27: 15.75 | H27: 5.21 | I27: 0 | J27: 13.76 | K27: =TRUNC(G27 * (1 + 20.5 / 100), 2) -> 18.97 | L27: =TRUNC(F27 * H27, 2) -> 1.87 | M27: =TRUNC(F27 * I27, 2) -> 0 | N27: =TRUNC(F27 * J27, 2) -> 4.95 | O27: =TRUNC(F27 * K27, 2) -> 6.82 | P27: =O27 / 7467019.56 -> 9.1334969e-07
A28: 4.4 | B28: 104919 | C28: SINAPI | D28: ARMAÇÃO DE SAPATA ISOLADA, VIGA BALDRAME E SAPATA CORRIDA UTILIZANDO AÇO CA-50 DE 10 MM - MONTAGEM. AF_01/2024 | E28: KG | F28: 557.09 | G28: 12.95 | H28: 2.91 | I28: 0 | J28: 12.69 | K28: =TRUNC(G28 * (1 + 20.5 / 100), 2) -> 15.6 | L28: =TRUNC(F28 * H28, 2) -> 1621.13 | M28: =TRUNC(F28 * I28, 2) -> 0 | N28: =TRUNC(F28 * J28, 2) -> 7069.47 | O28: =TRUNC(F28 * K28, 2) -> 8690.6 | P28: =O28 / 7467019.56 -> 0.0011638646
A29: 4.5 | B29: 104920 | C29: SINAPI | D29: ARMAÇÃO DE BLOCO, SAPATA ISOLADA, VIGA BALDRAME E SAPATA CORRIDA UTILIZANDO AÇO CA-50 DE 12,5 MM - MONTAGEM. AF_01/2024 | E29: KG | F29: 412.64 | G29: 10.95 | H29: 2.25 | I29: 0 | J29: 10.94 | K29: =TRUNC(G29 * (1 + 20.5 / 100), 2) -> 13.19 | L29: =TRUNC(F29 * H29, 2) -> 928.44 | M29: =TRUNC(F29 * I29, 2) -> 0 | N29: =TRUNC(F29 * J29, 2) -> 4514.28 | O29: =TRUNC(F29 * K29, 2) -> 5442.72 | P29: =O29 / 7467019.56 -> 0.00072890126
A30: 4.6 | B30: 96558 | C30: SINAPI | D30: CONCRETAGEM DE SAPATA, FCK 30 MPA, COM USO DE BOMBA - LANÇAMENTO, ADENSAMENTO E ACABAMENTO. AF_01/2024 | E30: m³ | F30: 21.15 | G30: 702.57 | H30: 32.21 | I30: 0 | J30: 814.38 | K30: =TRUNC(G30 * (1 + 20.5 / 100), 2) -> 846.59 | L30: =TRUNC(F30 * H30, 2) -> 681.24 | M30: =TRUNC(F30 * I30, 2) -> 0 | N30: =TRUNC(F30 * J30, 2) -> 17224.13 | O30: =TRUNC(F30 * K30, 2) -> 17905.37 | P30: =O30 / 7467019.56 -> 0.0023979273
A31: 4.7 | B31: 96538 | C31: SINAPI | D31: FABRICAÇÃO, MONTAGEM E DESMONTAGEM DE FÔRMA PARA SAPATA, EM CHAPA DE MADEIRA COMPENSADA RESINADA, E=17 MM, 2 UTILIZAÇÕES. AF_01/2024 | E31: m² | F31: 99.25 | G31: 248.52 | H31: 146.82 | I31: 0 | J31: 152.64 | K31: =TRUNC(G31 * (1 + 20.5 / 100), 2) -> 299.46 | L31: =TRUNC(F31 * H31, 2) -> 14571.88 | M31: =TRUNC(F31 * I31, 2) -> 0 | N31: =TRUNC(F31 * J31, 2) -> 15149.52 | O31: =TRUNC(F31 * K31, 2) -> 29721.4 | P31: =O31 / 7467019.56 -> 0.0039803565
A32: 4.8 | B32: 96616 | C32: SINAPI | D32: LASTRO DE CONCRETO MAGRO, APLICADO EM BLOCOS DE COROAMENTO OU SAPATAS. AF_01/2024 | E32: m³ | F32: 6.35 | G32: 809.8 | H32: 313.65 | I32: 0 | J32: 662.15 | K32: =TRUNC(G32 * (1 + 20.5 / 100), 2) -> 975.8 | L32: =TRUNC(F32 * H32, 2) -> 1991.67 | M32: =TRUNC(F32 * I32, 2) -> 0 | N32: =TRUNC(F32 * J32, 2) -> 4204.65 | O32: =TRUNC(F32 * K32, 2) -> 6196.33 | P32: =O32 / 7467019.56 -> 0.00082982641
A33: 4.9 | B33: 96521 | C33: SINAPI | D33: ESCAVAÇÃO MECANIZADA PARA BLOCO DE COROAMENTO OU SAPATA COM RETROESCAVADEIRA (INCLUINDO ESCAVAÇÃO PARA COLOCAÇÃO DE FÔRMAS). AF_01/2024 | E33: m³ | F33: 228.54 | G33: 40.6 | H33: 13.24 | I33: 0 | J33: 35.68 | K33: =TRUNC(G33 * (1 + 20.5 / 100), 2) -> 48.92 | L33: =TRUNC(F33 * H33, 2) -> 3025.86 | M33: =TRUNC(F33 * I33, 2) -> 0 | N33: =TRUNC(F33 * J33, 2) -> 8154.3 | O33: =TRUNC(F33 * K33, 2) -> 11180.17 | P33: =O33 / 7467019.56 -> 0.0014972734
A34: 4.10 | B34: 96527 | C34: SINAPI | D34: ESCAVAÇÃO MANUAL PARA VIGA BALDRAME OU SAPATA CORRIDA (INCLUINDO ESCAVAÇÃO PARA COLOCAÇÃO DE FÔRMAS). AF_01/2024 | E34: m³ | F34: 74.75 | G34: 109.11 | H34: 94.06 | I34: 0 | J34: 37.41 | K34: =TRUNC(G34 * (1 + 20.5 / 100), 2) -> 131.47 | L34: =TRUNC(F34 * H34, 2) -> 7030.98 | M34: =TRUNC(F34 * I34, 2) -> 0 | N34: =TRUNC(F34 * J34, 2) -> 2796.39 | O34: =TRUNC(F34 * K34, 2) -> 9827.38 | P34: =O34 / 7467019.56 -> 0.0013161048
A35: 4.11 | B35: 104741 | C35: SINAPI | D35: REATERRO MECANIZADO DE VALA COM MINICARREGADEIRA, COM PLACA VIBRATÓRIA. AF_08/2023 | E35: m³ | F35: 242.96 | G35: 23.21 | H35: 8.15 | I35: 0 | J35: 19.81 | K35: =TRUNC(G35 * (1 + 20.5 / 100), 2) -> 27.96 | L35: =TRUNC(F35 * H35, 2) -> 1980.12 | M35: =TRUNC(F35 * I35, 2) -> 0 | N35: =TRUNC(F35 * J35, 2) -> 4813.03 | O35: =TRUNC(F35 * K35, 2) -> 6793.16 | P35: =O35 / 7467019.56 -> 0.00090975522
A36: 4.12 | B36: 96557 | C36: SINAPI | D36: CONCRETAGEM DE BLOCO DE COROAMENTO OU VIGA BALDRAME, FCK 30 MPA, COM USO DE BOMBA - LANÇAMENTO, ADENSAMENTO E ACABAMENTO. AF_01/2024 | E36: m³ | F36: 32.83 | G36: 670.71 | H36: 18.32 | I36: 0 | J36: 789.88 | K36: =TRUNC(G36 * (1 + 20.5 / 100), 2) -> 808.2 | L36: =TRUNC(F36 * H36, 2) -> 601.44 | M36: =TRUNC(F36 * I36, 2) -> 0 | N36: =TRUNC(F36 * J36, 2) -> 25931.76 | O36: =TRUNC(F36 * K36, 2) -> 26533.2 | P36: =O36 / 7467019.56 -> 0.0035533856
... A38: 4.14 | B38: 98557 | C38: SINAPI | D38: IMPERMEABILIZAÇÃO DE SUPERFÍCIE COM EMULSÃO ASFÁLTICA, 2 DEMÃOS. AF_09/2023 | E38: m² | F38: 630.99 | G38: 46.12 | H38: 13.06 | I38: 0 | J38: 42.51 | K38: =TRUNC(G38 * (1 + 20.5 / 100), 2) -> 55.57 | L38: =TRUNC(F38 * H38, 2) -> 8240.72 | M38: =TRUNC(F38 * I38, 2) -> 0 | N38: =TRUNC(F38 * J38, 2) -> 26823.38 | O38: =TRUNC(F38 * K38, 2) -> 35064.11 | P38: =O38 / 7467019.56 -> 0.0046958642
A39: 5 | D39: SUPERESTRUTURA | O39: 577093.46 | P39: =O39 / 7467019.56 -> 0.07728565
A40: 5.1 | B40: 92762 | C40: SINAPI | D40: ARMAÇÃO DE PILAR OU VIGA DE ESTRUTURA CONVENCIONAL DE CONCRETO ARMADO UTILIZANDO AÇO CA-50 DE 10,0 MM - MONTAGEM. AF_06/2022 | E40: KG | F40: 1859.73 | G40: 11.23 | H40: 1.34 | I40: 0 | J40: 12.19 | K40: =TRUNC(G40 * (1 + 20.5 / 100), 2) -> 13.53 | L40: =TRUNC(F40 * H40, 2) -> 2492.03 | M40: =TRUNC(F40 * I40, 2) -> 0 | N40: =TRUNC(F40 * J40, 2) -> 22670.1 | O40: =TRUNC(F40 * K40, 2) -> 25162.14 | P40: =O40 / 7467019.56 -> 0.0033697702
A41: 5.2 | B41: 92763 | C41: SINAPI | D41: ARMAÇÃO DE PILAR OU VIGA DE ESTRUTURA CONVENCIONAL DE CONCRETO ARMADO UTILIZANDO AÇO CA-50 DE 12,5 MM - MONTAGEM. AF_06/2022 | E41: KG | F41: 154.73 | G41: 9.4 | H41: 0.86 | I41: 0 | J41: 10.46 | K41: =TRUNC(G41 * (1 + 20.5 / 100), 2) -> 11.32 | L41: =TRUNC(F41 * H41, 2) -> 133.06 | M41: =TRUNC(F41 * I41, 2) -> 0 | N41: =TRUNC(F41 * J41, 2) -> 1618.47 | O41: =TRUNC(F41 * K41, 2) -> 1751.54 | P41: =O41 / 7467019.56 -> 0.00023457016
...

Sheet Orçamento Analítico
D1: Obra | E1: Bancos | G1: B.D.I. | I1: Encargos Sociais
D2: CONSTRUÇÃO DE CRECHE 10 SALAS - FUNDAÇÃO RASA, NO DISTRITO DE UMARI, BOM JARDIM/PE | E2: SINAPI - 04/2025 - Pernambuco | G2: 20,5% | I2: Não Desonerado: embutido nos preços unitário dos insumos de mão de obra, de acordo com as bases.
A3: Planilha Orçamentária Analítica
A4: 1 | D4: ADMINISTRAÇÃO LOCAL | J4: 334535.04
A5: 1.1 | B5: Código | C5: Banco | D5: Descrição | E5: Tipo | G5: Und | H5: Quant. | I5: Valor Unit | J5: Total
A6: Composição | B6: 4975 | C6: Próprio | D6: ADMINISTRAÇÃO LOCAL CRECHE 10 SALAS | G6: un | H6: 1 | I6: 277622.44 | J6: 277622.44
A7: Composição Auxiliar | B7: 100321 | C7: SINAPI | D7: TÉCNICO EM SEGURANÇA DO TRABALHO COM ENCARGOS COMPLEMENTARES | E7: Livro SINAPI: Cálculos e Parâmetros | G7: MES | H7: 5 | I7: 5129.4 | J7: 25647
A8: Composição Auxiliar | B8: 101460 | C8: SINAPI | D8: VIGIA DIURNO COM ENCARGOS COMPLEMENTARES | E8: Livro SINAPI: Cálculos e Parâmetros | G8: MES | H8: 10 | I8: 4145.02 | J8: 41450.2
A9: Composição Auxiliar | B9: 93572 | C9: SINAPI | D9: ENCARREGADO GERAL DE OBRAS COM ENCARGOS COMPLEMENTARES | E9: Livro SINAPI: Cálculos e Parâmetros | G9: MES | H9: 10 | I9: 6345.55 | J9: 63455.5
A10: Composição Auxiliar | B10: 93565 | C10: SINAPI | D10: ENGENHEIRO CIVIL DE OBRA JUNIOR COM ENCARGOS COMPLEMENTARES | E10: Livro SINAPI: Cálculos e Parâmetros | G10: MES | H10: 2.05 | I10: 22627.68 | J10: 46386.74
A11: Insumo | B11: 4546 | C11: Próprio | D11: VIGIA NOTURNO (REGIME DE TRABALHO - 12 X 36), COM ADICIONAL NOTURNO 20% + HORA REDUZIDA + DSR | E11: Mão de Obra | G11: MES | H11: 20 | I11: 5034.15 | J11: 100683
E12: MO sem LS => | F12: 256137.33 | G12: LS => | H12: 0 | I12: MO com LS => | J12: 256137.33
E13: Valor do BDI => | F13: 56912.6 | H13: Valor com BDI => | J13: 334535.04
G14: Quant. => | H14: 1,00 | I14: Preço Total => | J14: 334535.04
A16: 2 | D16: TERRAPLENAGEM | J16: 1288606.7
A17: 2.1 | B17: Código | C17: Banco | D17: Descrição | E17: Tipo | G17: Und | H17: Quant. | I17: Valor Unit | J17: Total
A18: Composição | B18: 102291 | C18: SINAPI | D18: ESCAVAÇÃO MECANIZADA DE VALA COM PROF. ATÉ 1,5 M (MÉDIA MONTANTE E JUSANTE/UMA COMPOSIÇÃO POR TRECHO), ESCAVADEIRA (0,8 M3), LARG. DE 1,5 M A 2,5 M, EM SOLO MOLE, LOCAIS COM BAIXO NÍVEL DE INTERFERÊNCIA. AF_09/2024 | E18: Escavação de Valas | G18: m³ | H18: 1 | I18: 8.06 | J18: 8.06
A19: Composição Auxiliar | B19: 5632 | C19: SINAPI | D19: ESCAVADEIRA HIDRÁULICA SOBRE ESTEIRAS, CAÇAMBA 0,80 M3, PESO OPERACIONAL 17 T, POTENCIA BRUTA 111 HP - CHI DIURNO. AF_06/2014 | E19: Custos Horários Produtivo e Improdutivo dos Equipamentos | G19: CHI | H19: 0.0191774 | I19: 89.96 | J19: 1.72
A20: Composição Auxiliar | B20: 88316 | C20: SINAPI | D20: SERVENTE COM ENCARGOS COMPLEMENTARES | E20: Livro SINAPI: Cálculos e Parâmetros | G20: H | H20: 0.0435232 | I20: 22.95 | J20: 0.99
A21: Composição Auxiliar | B21: 5631 | C21: SINAPI | D21: ESCAVADEIRA HIDRÁULICA SOBRE ESTEIRAS, CAÇAMBA 0,80 M3, PESO OPERACIONAL 17 T, POTENCIA BRUTA 111 HP - CHP DIURNO. AF_06/2014 | E21: Custos Horários Produtivo e Improdutivo dos Equipamentos | G21: CHP | H21: 0.0243458 | I21: 220 | J21: 5.35
E22: MO sem LS => | F22: 1.61 | G22: LS => | H22: 0 | I22: MO com LS => | J22: 1.61
E23: Valor do BDI => | F23: 1.65 | H23: Valor com BDI => | J23: 9.71
G24: Quant. => | H24: 6.806,00 | I24: Preço Total => | J24: 66086.26
A26: 2.2 | B26: Código | C26: Banco | D26: Descrição | E26: Tipo | G26: Und | H26: Quant. | I26: Valor Unit | J26: Total
A27: Composição | B27: 104738 | C27: SINAPI | D27: ATERRO MECANIZADO DE VALA COM MINICARREGADEIRA, COM SOLO ARGILO-ARENOSO. AF_08/2023 | E27: Aterro e Reaterro de Valas | G27: m³ | H27: 1 | I27: 80.36 | J27: 80.36
A28: Composição Auxiliar | B28: 91533 | C28: SINAPI | D28: COMPACTADOR DE SOLOS DE PERCUSSÃO (SOQUETE) COM MOTOR A GASOLINA 4 TEMPOS, POTÊNCIA 4 CV - CHP DIURNO. AF_08/2015 | E28: Custos Horários Produtivo e Improdutivo dos Equipamentos | G28: CHP | H28: 0.1962 | I28: 33.07 | J28: 6.48
A29: Composição Auxiliar | B29: 90693 | C29: SINAPI | D29: MINICARREGADEIRA SOBRE RODAS, POTÊNCIA LÍQUIDA DE 47 HP, CAPACIDADE NOMINAL DE OPERAÇÃO DE 646 KG - CHI DIURNO. AF_06/2015 | E29: Custos Horários Produtivo e Improdutivo dos Equipamentos | G29: CHI | H29: 0.1072 | I29: 57.08 | J29: 6.11
A30: Composição Auxiliar | B30: 5903 | C30: SINAPI | D30: CAMINHÃO PIPA 10.000 L TRUCADO, PESO BRUTO TOTAL 23.000 KG, CARGA ÚTIL MÁXIMA 15.935 KG, DISTÂNCIA ENTRE EIXOS 4,8 M, POTÊNCIA 230 CV, INCLUSIVE TANQUE DE AÇO PARA TRANSPORTE DE ÁGUA - CHI DIURNO. AF_06/2014 | E30: Custos Horários Produtivo e Improdutivo dos Equipamentos | G30: CHI | H30: 0.0006 | I30: 72.71 | J30: 0.04
A31: Composição Auxiliar | B31: 90692 | C31: SINAPI | D31: MINICARREGADEIRA SOBRE RODAS, POTÊNCIA LÍQUIDA DE 47 HP, CAPACIDADE NOMINAL DE OPERAÇÃO DE 646 KG - CHP DIURNO. AF_06/2015 | E31: Custos Horários Produtivo e Improdutivo dos Equipamentos | G31: CHP | H31: 0.0742 | I31: 132.22 | J31: 9.81
A32: Composição Auxiliar | B32: 5901 | C32: SINAPI | D32: CAMINHÃO PIPA 10.000 L TRUCADO, PESO BRUTO TOTAL 23.000 KG, CARGA ÚTIL MÁXIMA 15.935 KG, DISTÂNCIA ENTRE EIXOS 4,8 M, POTÊNCIA 230 CV, INCLUSIVE TANQUE DE AÇO PARA TRANSPORTE DE ÁGUA - CHP DIURNO. AF_06/2014 | E32: Custos Horários Produtivo e Improdutivo dos Equipamentos | G32: CHP | H32: 0.0054 | I32: 327.82 | J32: 1.77
A33: Composição Auxiliar | B33: 88316 | C33: SINAPI | D33: SERVENTE COM ENCARGOS COMPLEMENTARES | E33: Livro SINAPI: Cálculos e Parâmetros | G33: H | H33: 0.1012 | I33: 22.95 | J33: 2.32
A34: Insumo | B34: 00006079 | C34: SINAPI | D34: ARGILA, ARGILA VERMELHA OU ARGILA ARENOSA (RETIRADA NA JAZIDA, SEM TRANSPORTE) | E34: Material | G34: m³ | H34: 1.3889 | I34: 38.76 | J34: 53.83
E35: MO sem LS => | F35: 8.91 | G35: LS => | H35: 0 | I35: MO com LS => | J35: 8.91
E36: Valor do BDI => | F36: 16.47 | H36: Valor com BDI => | J36: 96.83
G37: Quant. => | H37: 1.985,32 | I37: Preço Total => | J37: 192238.53
A39: 2.3 | B39: Código | C39: Banco | D39: Descrição | E39: Tipo | G39: Und | H39: Quant. | I39: Valor Unit | J39: Total
A40: Composição | B40: 95876 | C40: SINAPI | D40: TRANSPORTE COM CAMINHÃO BASCULANTE DE 14 M³, EM VIA URBANA PAVIMENTADA, DMT ATÉ 30 KM (UNIDADE: M3XKM). AF_07/2020 | E40: Transporte, Carga e Descarga de Materiais | G40: M3XKM | H40: 1 | I40: 2.14 | J40: 2.14
A41: Composição Auxiliar | B41: 89876 | C41: SINAPI | D41: CAMINHÃO BASCULANTE 14 M3, COM CAVALO MECÂNICO DE CAPACIDADE MÁXIMA DE TRAÇÃO COMBINADO DE 36000 KG, POTÊNCIA 286 CV, INCLUSIVE SEMIREBOQUE COM CAÇAMBA METÁLICA - CHP DIURNO. AF_12/2014 | E41: Custos Horários Produtivo e Improdutivo dos Equipamentos | G41: CHP | H41: 0.0059 | I41: 328.91 | J41: 1.94
A42: Composição Auxiliar | B42: 89877 | C42: SINAPI | D42: CAMINHÃO BASCULANTE 14 M3, COM CAVALO MECÂNICO DE CAPACIDADE MÁXIMA DE TRAÇÃO COMBINADO DE 36000 KG, POTÊNCIA 286 CV, INCLUSIVE SEMIREBOQUE COM CAÇAMBA METÁLICA - CHI DIURNO. AF_12/2014 | E42: Custos Horários Produtivo e Improdutivo dos Equipamentos | G42: CHI | H42: 0.0025 | I42: 81.8 | J42: 0.2
E43: MO sem LS => | F43: 0.17 | G43: LS => | H43: 0 | I43: MO com LS => | J43: 0.17
...

Sheet Orçamento Sintético
D1: Obra | E1: Bancos | G1: B.D.I. | I1: Encargos Sociais | J1: =I7 + I9 + I14 + I25 + I40 + I51 + I59 + I72 + I98 + I120 + I134 + I287 + I314 + I324 + I492 + I523 + I525 + I594 + I601 + I615 + I656 -> 7467019.6
D2: CONSTRUÇÃO DE CRECHE 10 SALAS - FUNDAÇÃO RASA, NO DISTRITO DE UMARI, BOM JARDIM/PE | E2: SINAPI - 04/2025 - Pernambuco | G2: 20,5% | I2: Não Desonerado: embutido nos preços unitário dos insumos de mão de obra, de acordo com as bases.
A3: Orçamento Sintético com Fórmulas
H4: Valor Final do Orçamento | J4: 7467019.6
H5: BDI | J5: 0.205
A6: Item | B6: Código | C6: Banco | D6: Descrição | E6: Und | F6: Quant. | G6: Valor Unit | H6: Valor Unit com BDI | I6: Total | J6: Peso (%)
A7: 1 | D7: ADMINISTRAÇÃO LOCAL | F7: 1 | H7: =I8 -> 334535.04 | I7: =TRUNC(F7 * H7,2) -> 334535.04 | J7: =I7 / J4 -> 0.044801683
A8: 1.1 | B8: 4975 | C8: Próprio | D8: ADMINISTRAÇÃO LOCAL CRECHE 10 SALAS | E8: un | F8: 1 | G8: 277622.44 | H8: =TRUNC(TRUNC(G8 * J5, 2) + G8, 2) -> 334535.04 | I8: =TRUNC(F8 * H8,2) -> 334535.04 | J8: =I8 / J4 -> 0.044801683
A9: 2 | D9: TERRAPLENAGEM | F9: 1 | H9: =I10 + I11 + I12 + I13 -> 1288606.7 | I9: =TRUNC(F9 * H9,2) -> 1288606.7 | J9: =I9 / J4 -> 0.1725731
A10: 2.1 | B10: 102291 | C10: SINAPI | D10: ESCAVAÇÃO MECANIZADA DE VALA COM PROF. ATÉ 1,5 M (MÉDIA MONTANTE E JUSANTE/UMA COMPOSIÇÃO POR TRECHO), ESCAVADEIRA (0,8 M3), LARG. DE 1,5 M A 2,5 M, EM SOLO MOLE, LOCAIS COM BAIXO NÍVEL DE INTERFERÊNCIA. AF_09/2024 | E10: m³ | F10: 6806 | G10: 8.06 | H10: =TRUNC(TRUNC(G10 * J5, 2) + G10, 2) -> 9.71 | I10: =TRUNC(F10 * H10,2) -> 66086.26 | J10: =I10 / J4 -> 0.0088504201
A11: 2.2 | B11: 104738 | C11: SINAPI | D11: ATERRO MECANIZADO DE VALA COM MINICARREGADEIRA, COM SOLO ARGILO-ARENOSO. AF_08/2023 | E11: m³ | F11: 1985.32 | G11: 80.36 | H11: =TRUNC(TRUNC(G11 * J5, 2) + G11, 2) -> 96.83 | I11: =TRUNC(F11 * H11,2) -> 192238.53 | J11: =I11 / J4 -> 0.025745015
A12: 2.3 | B12: 95876 | C12: SINAPI | D12: TRANSPORTE COM CAMINHÃO BASCULANTE DE 14 M³, EM VIA URBANA PAVIMENTADA, DMT ATÉ 30 KM (UNIDADE: M3XKM). AF_07/2020 | E12: M3XKM | F12: 8860 | G12: 2.14 | H12: =TRUNC(TRUNC(G12 * J5, 2) + G12, 2) -> 2.57 | I12: =TRUNC(F12 * H12,2) -> 22770.2 | J12: =I12 / J4 -> 0.0030494362
A13: 2.4 | B13: 103800 | C13: SINAPI | D13: PEDRA ARGAMASSADA COM CIMENTO E AREIA 1:3, 40% DE ARGAMASSA EM VOLUME - AREIA E PEDRA DE MÃO COMERCIAIS - FORNECIMENTO E ASSENTAMENTO. AF_08/2022 | E13: m³ | F13: 1589.06 | G13: 526.17 | H13: =TRUNC(TRUNC(G13 * J5, 2) + G13, 2) -> 634.03 | I13: =TRUNC(F13 * H13,2) -> 1007511.7 | J13: =I13 / J4 -> 0.13492823
A14: 3 | D14: INSTALAÇÕES PROVISÓRIAS | F14: 1 | H14: =I15 + I16 + I17 + I18 + I19 + I20 + I21 + I22 + I23 + I24 -> 139281.1 | I14: =TRUNC(F14 * H14,2) -> 139281.1 | J14: =I14 / J4 -> 0.018652837
A15: 3.1 | B15: 103689 | C15: SINAPI | D15: FORNECIMENTO E INSTALAÇÃO DE PLACA DE OBRA COM CHAPA GALVANIZADA E ESTRUTURA DE MADEIRA. AF_03/2022_PS | E15: m² | F15: 15 | G15: 465.96 | H15: =TRUNC(TRUNC(G15 * J5, 2) + G15, 2) -> 561.48 | I15: =TRUNC(F15 * H15,2) -> 8422.2 | J15: =I15 / J4 -> 0.0011279199
A16: 3.2 | B16: 344 | C16: Próprio | D16: LIGACAO PROVISORIA DE AGUA -PARA MEDICAO DE AGUA - ENTRADA PRINCIPAL, EM PVC SOLDÁVEL DN 25 (¾") FORNECIMENTO E INSTALAÇÃO (INCLUSIVE HIDRÔMETRO) | E16: un | F16: 1 | G16: 360.44 | H16: =TRUNC(TRUNC(G16 * J5, 2) + G16, 2) -> 434.33 | I16: =TRUNC(F16 * H16,2) -> 434.33 | J16: =I16 / J4 -> 5.8166447e-05
A17: 3.3 | B17: 345 | C17: Próprio | D17: INSTALACAO/LIGACAO PROVISORIA ELETRICA BAIXA TENSAO P/CANTEIRO DE OBRA | E17: un | F17: 1 | G17: 2016.64 | H17: =TRUNC(TRUNC(G17 * J5, 2) + G17, 2) -> 2430.05 | I17: =TRUNC(F17 * H17,2) -> 2430.05 | J17: =I17 / J4 -> 0.00032543774
A18: 3.4 | B18: 98459 | C18: SINAPI | D18: TAPUME COM TELHA METÁLICA. AF_03/2024 | E18: m² | F18: 480 | G18: 95.96 | H18: =TRUNC(TRUNC(G18 * J5, 2) + G18, 2) -> 115.63 | I18: =TRUNC(F18 * H18,2) -> 55502.4 | J18: =I18 / J4 -> 0.0074330058
A19: 3.5 | B19: 99059 | C19: SINAPI | D19: LOCAÇÃO CONVENCIONAL DE OBRA, UTILIZANDO GABARITO DE TÁBUAS CORRIDAS PONTALETADAS A CADA 2,00M - 2 UTILIZAÇÕES. AF_03/2024 | E19: M | F19: 200 | G19: 67.09 | H19: =TRUNC(TRUNC(G19 * J5, 2) + G19, 2) -> 80.84 | I19: =TRUNC(F19 * H19,2) -> 16168 | J19: =I19 / J4 -> 0.0021652548
A20: 3.6 | B20: 4976 | C20: Próprio | D20: MOBILIZAÇÃO CRECHE 10 SALAS | E20: un | F20: 1 | G20: 4164.69 | H20: =TRUNC(TRUNC(G20 * J5, 2) + G20, 2) -> 5018.45 | I20: =TRUNC(F20 * H20,2) -> 5018.45 | J20: =I20 / J4 -> 0.00067208208
A21: 3.7 | B21: 4979 | C21: Próprio | D21: DESMOBILIZAÇÃO CRECHE 10 SALAS | E21: un | F21: 1 | G21: 4164.69 | H21: =TRUNC(TRUNC(G21 * J5, 2) + G21, 2) -> 5018.45 | I21: =TRUNC(F21 * H21,2) -> 5018.45 | J21: =I21 / J4 -> 0.00067208208
A22: 3.8 | B22: 4981 | C22: Próprio | D22: ADESIVO PARA APLICAÇÃO EM TAPUME DE TELHA METÁLICA DE CONSTRUÇÃO | E22: un | F22: 119.13 | G22: 45 | H22: =TRUNC(TRUNC(G22 * J5, 2) + G22, 2) -> 54.22 | I22: =TRUNC(F22 * H22,2) -> 6459.22 | J22: =I22 / J4 -> 0.00086503322
A23: 3.9 | B23: 2069 | C23: Próprio | D23: LOCACAO DE CONTAINER 2,30 X 6,00 M, ALT. 2,50 M, COM 1 SANITARIO, PARA ESCRITORIO, COMPLETO, SEM DIVISORIAS INTERNAS (NAO INCLUI MOBILIZACAO/DESMOBILIZACAO) | E23: MES | F23: 24 | G23: 847.5 | H23: =TRUNC(TRUNC(G23 * J5, 2) + G23, 2) -> 1021.23 | I23: =TRUNC(F23 * H23,2) -> 24509.52 | J23: =I23 / J4 -> 0.0032823699
A24: 3.10 | B24: 2068 | C24: Próprio | D24: LOCACAO DE CONTAINER 2,30 X 4,30 M, ALT. 2,50 M, P/ SANITARIO, C/ 5 BACIAS, 1 LAVATORIO E 4 MICTORIOS (NAO INCLUI MOBILIZACAO/DESMOBILIZACAO) | E24: MES | F24: 12 | G24: 1059.37 | H24: =TRUNC(TRUNC(G24 * J5, 2) + G24, 2) -> 1276.54 | I24: =TRUNC(F24 * H24,2) -> 15318.48 | J24: =I24 / J4 -> 0.0020514852
A25: 4 | D25: INFRAESTRUTURA | F25: 1 | H25: =I26 + I27 + I28 + I29 + I30 + I31 + I32 + I33 + I34 + I35 + I36 + I37 + I38 + I39 -> 236769.64 | I25: =TRUNC(F25 * H25,2) -> 236769.64 | J25: =I25 / J4 -> 0.031708721
A26: 4.1 | B26: 104916 | C26: SINAPI | D26: ARMAÇÃO DE SAPATA ISOLADA, VIGA BALDRAME E SAPATA CORRIDA UTILIZANDO AÇO CA-60 DE 5 MM - MONTAGEM. AF_01/2024 | E26: KG | F26: 519.82 | G26: 17 | H26: =TRUNC(TRUNC(G26 * J5, 2) + G26, 2) -> 20.48 | I26: =TRUNC(F26 * H26,2) -> 10645.91 | J26: =I26 / J4 -> 0.0014257241
A27: 4.2 | B27: 104918 | C27: SINAPI | D27: ARMAÇÃO DE SAPATA ISOLADA, VIGA BALDRAME E SAPATA CORRIDA UTILIZANDO AÇO CA-50 DE 8 MM - MONTAGEM. AF_01/2024 | E27: KG | F27: 1239.09 | G27: 14.57 | H27: =TRUNC(TRUNC(G27 * J5, 2) + G27, 2) -> 17.55 | I27: =TRUNC(F27 * H27,2) -> 21746.02 | J27: =I27 / J4 -> 0.0029122758
A28: 4.3 | B28: 104917 | C28: SINAPI | D28: ARMAÇÃO DE SAPATA ISOLADA, VIGA BALDRAME E SAPATA CORRIDA UTILIZANDO AÇO CA-50 DE 6,3 MM - MONTAGEM. AF_01/2024 | E28: KG | F28: 0.36 | G28: 15.75 | H28: =TRUNC(TRUNC(G28 * J5, 2) + G28, 2) -> 18.97 | I28: =TRUNC(F28 * H28,2) -> 6.82 | J28: =I28 / J4 -> 9.1334969e-07
A29: 4.4 | B29: 104919 | C29: SINAPI | D29: ARMAÇÃO DE SAPATA ISOLADA, VIGA BALDRAME E SAPATA CORRIDA UTILIZANDO AÇO CA-50 DE 10 MM - MONTAGEM. AF_01/2024 | E29: KG | F29: 557.09 | G29: 12.95 | H29: =TRUNC(TRUNC(G29 * J5, 2) + G29, 2) -> 15.6 | I29: =TRUNC(F29 * H29,2) -> 8690.6 | J29: =I29 / J4 -> 0.0011638646
A30: 4.5 | B30: 104920 | C30: SINAPI | D30: ARMAÇÃO DE BLOCO, SAPATA ISOLADA, VIGA BALDRAME E SAPATA CORRIDA UTILIZANDO AÇO CA-50 DE 12,5 MM - MONTAGEM. AF_01/2024 | E30: KG | F30: 412.64 | G30: 10.95 | H30: =TRUNC(TRUNC(G30 * J5, 2) + G30, 2) -> 13.19 | I30: =TRUNC(F30 * H30,2) -> 5442.72 | J30: =I30 / J4 -> 0.00072890126
A31: 4.6 | B31: 96558 | C31: SINAPI | D31: CONCRETAGEM DE SAPATA, FCK 30 MPA, COM USO DE BOMBA - LANÇAMENTO, ADENSAMENTO E ACABAMENTO. AF_01/2024 | E31: m³ | F31: 21.15 | G31: 702.57 | H31: =TRUNC(TRUNC(G31 * J5, 2) + G31, 2) -> 846.59 | I31: =TRUNC(F31 * H31,2) -> 17905.37 | J31: =I31 / J4 -> 0.0023979273
A32: 4.7 | B32: 96538 | C32: SINAPI | D32: FABRICAÇÃO, MONTAGEM E DESMONTAGEM DE FÔRMA PARA SAPATA, EM CHAPA DE MADEIRA COMPENSADA RESINADA, E=17 MM, 2 UTILIZAÇÕES. AF_01/2024 | E32: m² | F32: 99.25 | G32: 248.52 | H32: =TRUNC(TRUNC(G32 * J5, 2) + G32, 2) -> 299.46 | I32: =TRUNC(F32 * H32,2) -> 29721.4 | J32: =I32 / J4 -> 0.0039803565
