Workbook
Name Heloysa_Waléria_Gomes_Barbosa: #REF!
Name Heloysa_Waléria_Gomes_Barbosa: #REF!
Name Heloysa_Waléria_Gomes_Barbosa: #REF!
Name Heloysa_Waléria_Gomes_Barbosa: #REF!
Name Heloysa_Waléria_Gomes_Barbosa: #REF!
Name Heloysa_Waléria_Gomes_Barbosa: #REF!
Name Heloysa_Waléria_Gomes_Barbosa: #REF!
Name Pto_Exemplo: #REF!
Name Pto_Exemplo: #REF!
Name Pto_Exemplo: #REF!
Name Pto_Exemplo: #REF!
Name Pto_Exemplo: #REF!
Name Pto_Exemplo: #REF!
Name Pto_Exemplo: #REF!
Name ROTA: #REF!
Name ROTA1: #REF!

Sheet Planilha Univ. 
A3: PREFEITURA MUNICIPAL DE SÃO JOSÉ DA COROA GRANDE - PE
A6: GEORREFERENCIAMENTO DO TRANSPORTE ESCOLAR
A8: ANEXO 03 - ROTAS UNIVERSITÁRIAS TERCEIRIZADAS
A10: Nº DA ROTA | B10: DADOS DA ROTA | H10: Nº DE ALUNOS
B11: DESCRIÇÃO | C11: KM | D11: COM PAVIMENTO | E11: SEM PAVIMENTO | F11: HORÁRIO | G11: TIPO DE VEÍCULO | H11: M | I11: T | J11: N | K11: I
A12: 1 | B12: O ITINERÁRIO DA TARDE INICIA NO CENTRO ADMINISTRATIVO, PASSANDO NA UNINASSAU, PASSANDO NA UNIT, PASSANDO NA FBV, FINALIZANDO NA UNIVERSO. | C12: =D12+E12 -> 220.24 | D12: =110.12*2 -> 220.24 | E12: 0 | F12: ='ROTA 001.'!B44 -> NOITE | G12: =IF((MAX(H12:K12)<17),"Veículo Automotor do Tipo - Van",(IF(MAX(H12:K12)<31,"Veículo Automotor do Tipo - Micro-Ônibus","Veículo Automotor do Tipo - Onibus"))) -> Veículo Automotor do Tipo - Onibus | H12: 0 | I12: 0 | J12: ='ROTA 001.'!J44 -> 44 | K12: 0
A13: 2 | B13: O ITINERÁRIO DA TARDE INICIA NO CENTRO ADMINISTRATIVO, PASSANDO NA ESTÁCIO, PASSANDO NA UNINASSAU, PASSANDO NO GRAU TÉCNICO, PASSANDO NA FAFIRE, PASSANDO NA UNICAP, PASSANDO NA ESUDA, PASSANDO NO SENAC, PASSANDO NA CEFAPP, FINALIZANDO NA UNIBRA. | C13: =D13+E13 -> 252.72 | D13: =126.36*2 -> 252.72 | E13: 0 | F13: ='ROTA 002'!B38 -> NOITE | G13: =IF((MAX(H13:K13)<17),"Veículo Automotor do Tipo - Van",(IF(MAX(H13:K13)<31,"Veículo Automotor do Tipo - Micro-Ônibus","Veículo Automotor do Tipo - Onibus"))) -> Veículo Automotor do Tipo - Onibus | H13: 0 | I13: 0 | J13: ='ROTA 002'!J38 -> 44 | K13: 0
A14: 3 | B14: O ITINERÁRIO DA TARDE INICIA NO CENTRO ADMINISTRATIVO, PASSANDO NA UFPE, PASSANDO NA UNINASSAU CAXANGÁ, FINALIZANDO NA UFRPE. | C14: =D14 -> 250.3 | D14: =125.15*2 -> 250.3 | E14: 0 | F14: ='ROTA 003'!B38 -> NOITE | G14: =IF((MAX(H14:K14)<17),"Veículo Automotor do Tipo - Van",(IF(MAX(H14:K14)<31,"Veículo Automotor do Tipo - Micro-Ônibus","Veículo Automotor do Tipo - Onibus"))) -> Veículo Automotor do Tipo - Onibus | H14: 0 | I14: 0 | J14: ='ROTA 003'!J38 -> 44 | K14: 0
A15: 4 | B15: O ITINERÁRIO DA TARDE INICIA NA VARZEA DO UNA, ABREU DO UNA, VILA DA PRAIA E FINALIZANDO NO CENTRO ADMINISTRATIVO. OBS ROTA DE TRANSBORDO | C15: =D15+E15 -> 17.14 | D15: =2.58*2 -> 5.16 | E15: =5.99*2 -> 11.98 | F15: ='ROTA 004'!B38 -> TARDE | G15: =IF((MAX(H15:K15)<17),"Veículo Automotor do Tipo - Van",(IF(MAX(H15:K15)<31,"Veículo Automotor do Tipo - Micro-Ônibus","Veículo Automotor do Tipo - Onibus"))) -> Veículo Automotor do Tipo - Micro-Ônibus | H15: 0 | I15: {='ROTA 004'!F38:I38} -> 20 | J15: 0 | K15: 0 | L15: 0
A16: 5 | B16: O ITINERÁRIO DA TARDE INICIA NO CENTRO ADMINISTRATIVO, PASSANDO NO IFPE, PASSANDO NA UNOPAR, PASSANDO NA FAMASUL, PASSANDO NA ESTÁCIO, PASSANDO NA FLORENÇA, FINALIZANDO NA FAP. | C16: =D16+E16 -> 149.66 | D16: =74.83*2 -> 149.66 | E16: 0 | F16: ='ROTA 005'!B38 -> NOITE | G16: =IF((MAX(H16:K16)<17),"Veículo Automotor do Tipo - Van",(IF(MAX(H16:K16)<31,"Veículo Automotor do Tipo - Micro-Ônibus","Veículo Automotor do Tipo - Onibus"))) -> Veículo Automotor do Tipo - Onibus | H16: 0 | I16: 0 | J16: ='ROTA 005'!J38 -> 44 | K16: 0

Sheet ROTA 001.
B1: MAPA GEOREFERRÊNCIADO DE ROTA DO TRANSPORTE ESCOLAR | K1: ROTA Nº
K4: 1
A8: Descrição da Rota
A9: PT° | B9: DESCRIÇÃO | C9: Embarque | G9: Desembarque | K9: Total
C10: M | D10: T | E10: N | F10: I | G10: M | H10: T | I10: N | J10: I
A11: 1 | B11: CENTRO ADMINISTRATIVO | E11: 44 | K11: =E11 -> 44
A12: 2 | B12: UNINASSAU | I12: 12
A13: 3 | B13: UNIT | I13: 10
A14: 4 | B14: FBV | I14: 8
A15: 5 | B15: UNIVERSO | I15: 9
A16: 6
A17: 7
A18: 1
A19: 2
A20: 3
A21: 4
A22: 5
A23: 6
A24: 7
A25: 8
A26: 9
A27: 10
... A40: 20
A42: Km | B42: HORÁRIO | C42: Números de Alunos Transportados por Turno
C43: Manhã | F43: Tarde | J43: Noite | K43: Integral
A44: ='Planilha Univ. '!C12 -> 220.24 | B44: NOITE | C44: =SUM(C11:C35) -> 0 | F44: =SUM(D11:D35) -> 0 | J44: =SUM(E11:E37) -> 44 | K44: =SUM(F11:F35) -> 0

Sheet ROTA 002
B1: MAPA GEOREFERRÊNCIADO DE ROTA DO TRANSPORTE ESCOLAR | K1: ROTA Nº
K4: 2
A8: Descrição da Rota
A9: PT° | B9: DESCRIÇÃO | C9: Embarque | G9: Desembarque | K9: Total
C10: M | D10: T | E10: N | F10: I | G10: M | H10: T | I10: N | J10: I
A11: 1 | B11: CENTRO ADMINISTRATIVO | E11: 44 | K11: =E11 -> 44
A12: 2 | B12: ESTÁCIO | I12: 4 | K12: =K11-I12 -> 40
A13: 3 | B13: UNINASSAU | I13: 2 | K13: =K12-I13 -> 38
A14: 4 | B14: GRAU TÉCNICO | I14: 5 | K14: =K13-I14 -> 33
A15: 5 | B15: FAFIRE | I15: 10 | K15: =K14-I15 -> 23
A16: 6 | B16: UNICAP | I16: 3 | K16: =K15-I16 -> 20
A17: 7 | B17: ESUDA | I17: 5 | K17: =K16-I17 -> 15
A18: 8 | B18: SENAC | I18: 2 | K18: =K17-I18 -> 13
A19: 9 | B19: CEFAPP | I19: 3 | K19: =K18-I19 -> 10
A20: 10 | B20: UNIBRA | I20: 10 | K20: =K19-I20 -> 0
A21: 4
A22: 5
A23: 6
A24: 7
A25: 8
A26: 9
A27: 10
A28: 11
A29: 12
A30: 13
A31: 14
A32: 10
... A34: 12
A36: Km | B36: HORÁRIO | C36: Números de Alunos Transportados por Turno
C37: Manhã | F37: Tarde | J37: Noite | K37: Integral
A38: ='Planilha Univ. '!C13 -> 252.72 | B38: NOITE | C38: =SUM(C11:C31) -> 0 | F38: =SUM(D11:D31) -> 0 | J38: =SUM(E11:E31) -> 44 | K38: =SUM(F11:F31) -> 0

Sheet ROTA 003
B1: MAPA GEOREFERRÊNCIADO DE ROTA DO TRANSPORTE ESCOLAR | K1: ROTA Nº
K4: 3
A8: Descrição da Rota
A9: PT° | B9: DESCRIÇÃO | C9: Embarque | G9: Desembarque | K9: Total
C10: M | D10: T | E10: N | F10: I | G10: M | H10: T | I10: N | J10: I
A11: 1 | B11: CENTRO ADMINISTRATIVO | E11: 44 | K11: =E11 -> 44
A12: 2 | B12: UFPE | I12: 18 | K12: =K11-I12 -> 26
A13: 3 | B13: UNINASSAU CAXANGÁ | I13: 12 | K13: =K12-I13 -> 14
A14: 4 | B14: UFRPE | I14: 14 | K14: =K13-I14 -> 0
A15: 5 | K15: =K14-I15 -> 0
A16: 6 | K16: =K15-I16 -> 0
A17: 7 | K17: =K16-I17 -> 0
A18: 8 | K18: =K17-I18 -> 0
A19: 9 | K19: =K18-I19 -> 0
A20: 10 | K20: =K19-I20 -> 0
A21: 11 | K21: =K20-I21 -> 0
A22: 12 | K22: =K21-I22 -> 0
A23: 13 | K23: =K22-I23 -> 0
K24: =K23-I24 -> 0
K25: =K24-I25 -> 0
K26: =K25-I26 -> 0
K27: =K26-I27 -> 0
K28: =K27-I28 -> 0
K29: =K28-I29 -> 0
K30: =K29-I30 -> 0
K31: =K30-I31 -> 0
K32: =K31-I32 -> 0
K33: =K32-I33 -> 0
K34: =K33-I34 -> 0
A36: Km | B36: HORÁRIO | C36: Números de Alunos Transportados por Turno
C37: Manhã | F37: Tarde | J37: Noite | K37: Integral
B38: NOITE | C38: =SUM(C11:C31) -> 0 | F38: =SUM(D11:D31) -> 0 | J38: =SUM(E11:E31) -> 44 | K38: =SUM(F11:F31) -> 0

Sheet ROTA 004
B1: MAPA GEOREFERRÊNCIADO DE ROTA DO TRANSPORTE ESCOLAR | K1: ROTA Nº
K4: 4
A8: Descrição da Rota
A9: PT° | B9: DESCRIÇÃO | C9: Embarque | G9: Desembarque | K9: Total
C10: M | D10: T | E10: N | F10: I | G10: M | H10: T | I10: N | J10: I
A11: 1 | B11: VARZEA DO UMA | D11: 10 | K11: =D11 -> 10
A12: 2 | B12: ABREU DO UMA | D12: 7 | K12: =K11+D12 -> 17
A13: 3 | B13: VILA DA PRAIA | D13: 3 | K13: =K12+D13 -> 20
A14: 4 | B14: CENTRO ADM | H14: 25
A15: 5
A16: 6
A36: Km | B36: HORÁRIO | C36: Números de Alunos Transportados por Turno
C37: Manhã | F37: Tarde | J37: Noite | K37: Integral
A38: ='Planilha Univ. '!C15 -> 17.14 | B38: TARDE | C38: =SUM(C11:C31) -> 0 | F38: =SUM(D11:D33) -> 20 | J38: =SUM(E11:E31) -> 0 | K38: =SUM(F11:F31) -> 0

Sheet ROTA 005
B1: MAPA GEOREFERRÊNCIADO DE ROTA DO TRANSPORTE ESCOLAR | K1: ROTA Nº
K4: 5
A8: Descrição da Rota
A9: PT° | B9: DESCRIÇÃO | C9: Embarque | G9: Desembarque | K9: Total
C10: M | D10: T | E10: N | F10: I | G10: M | H10: T | I10: N | J10: I
A11: 1 | B11: CENTRO ADMINISTRATIVO | E11: 44 | K11: 44
A12: 2 | B12: IFPE | H12: 5
A13: 3 | B13: UNOPAR | H13: 9
A14: 4 | B14: FAMASUL | H14: 7
A15: 5 | B15: ESTÁCIO | H15: 8
A16: 6 | B16: FLORENÇA | H16: 6
A17: 7 | B17: FAP | H17: 9
A18: 8
A19: 9
A20: 10
A21: 11
A22: 12
A23: 13
A24: 1
A25: 2
A26: 3
A27: 4
A28: 5
A29: 6
... A34: 11
A36: Km | B36: HORÁRIO | C36: Números de Alunos Transportados por Turno
C37: Manhã | F37: Tarde | J37: Noite | K37: Integral
A38: ='Planilha Univ. '!C16 -> 149.66 | B38: NOITE | C38: =SUM(C11:C31) -> 0 | F38: =SUM(D11:D32) -> 0 | J38: =SUM(E11:E31) -> 44 | K38: =SUM(F11:F31) -> 0
