Workbook
Name Heloysa_Waléria_Gomes_Barbosa: #REF!
Name Heloysa_Waléria_Gomes_Barbosa: #REF!
Name Heloysa_Waléria_Gomes_Barbosa: #REF!
Name Heloysa_Waléria_Gomes_Barbosa: #REF!
Name Heloysa_Waléria_Gomes_Barbosa: #REF!
Name Heloysa_Waléria_Gomes_Barbosa: #REF!
Name Heloysa_Waléria_Gomes_Barbosa: #REF!
Name Heloysa_Waléria_Gomes_Barbosa: #REF!
Name Heloysa_Waléria_Gomes_Barbosa: #REF!
Name Heloysa_Waléria_Gomes_Barbosa: #REF!
Name Heloysa_Waléria_Gomes_Barbosa: #REF!
Name Heloysa_Waléria_Gomes_Barbosa: #REF!
Name Heloysa_Waléria_Gomes_Barbosa: #REF!
Name Heloysa_Waléria_Gomes_Barbosa: #REF!
Name Heloysa_Waléria_Gomes_Barbosa: #REF!
Name Pto_Exemplo: #REF!
Name Pto_Exemplo: #REF!
Name Pto_Exemplo: #REF!
Name Pto_Exemplo: #REF!
Name Pto_Exemplo: #REF!
Name Pto_Exemplo: #REF!
Name Pto_Exemplo: #REF!
Name Pto_Exemplo: #REF!
Name Pto_Exemplo: #REF!
Name Pto_Exemplo: #REF!
Name Pto_Exemplo: #REF!
Name Pto_Exemplo: #REF!
Name Pto_Exemplo: #REF!
Name Pto_Exemplo: #REF!
Name Pto_Exemplo: #REF!
Name ROTA: #REF!
Name ROTA1: #REF!

Sheet Planilha Locada
A3: PREFEITURA MUNICIPAL DE SÃO JOSÉ DA COROA GRANDE - PE
A6: GEORREFERENCIAMENTO DO TRANSPORTE ESCOLAR
A8: ANEXO 01 - ROTAS TERCEIRIZADAS
A10: Nº DA ROTA | B10: DADOS DA ROTA | H10: Nº DE ALUNOS
B11: DESCRIÇÃO | C11: KM | D11: COM PAVIMENTO | E11: SEM PAVIMENTO | F11: HORÁRIO | G11: TIPO DE VEÍCULO | H11: M | I11: T | J11: N | K11: I
A12: 1 | B12: O ITINERÁRIO DA MANHÃ INICIA NA VARZEA DO UNA, PASSANDO NA ABREU DO UNA, PASSANDO NA VILA DA PRAIA, PASSANDO NA ASSÉMBLEIA DE DEUS, CONTINUANDO NA ASSÉMBLEIA DE DEUS, PASSANDO NO SOCIETY, PASSANDO NA CAPELA NOSSA SRª DE FÁTIMA, PASSANDO NO BECO DA TAPA, PASSANDO NA POUSADA DO MAIA, PASSANDO NA PRACINHA, PASSANDO NA ESC. DE REF. PROFº CARLOS JOSÉ DIAS DA SILVA, PASSANDO NA ESC. MUN. JOÃO FRANCISCO, PASSANDO NA ESC. DE REF. SÃO FRANCISCO DE ASSIS, PASSANDO NA ESC. MUN. TERESA CRISTINA E FINALIZANDO NA ESC. SEVERINA NUNES. O ITINERÁRIO DA TARDE INICIA NA VARZEA DO UNA, PASSANDO NA ABREU DO UNA, PASSANDO NA VILA DA PRAIA, PASSANDO NA ASSÉMBLEIA DE DEUS, CONTINUANDO NA ASSÉMBLEIA DE DEUS, PASSANDO NO SOCIETY, PASSANDO NA CAPELA NOSSA SRª DE FÁTIMA, PASSANDO NO BECO DA TAPA, PASSANDO NA POUSADA DO MAIA, PASSANDO NA PRACINHA, PASSANDO NA ESC. DE REF. PROFº CARLOS JOSÉ DIAS DA SILVA, PASSANDO NA ESC. MUN. JOÃO FRANCISCO, PASSANDO NA ESC. DE REF. SÃO FRANCISCO DE ASSIS, PASSANDO NA ESC. MUN. TERESA CRISTINA E FINALIZANDO NA ESC. SEVERINA NUNES. | C12: =D12+E12 -> 66.08 | D12: =9.56*4 -> 38.24 | E12: =(5.34+1.62)*4 -> 27.84 | F12: ='ROTA 001'!B44 -> MANHÃ/INTEGRAL/TARDE | G12: =IF((MAX(H12:K12)<17),"Veículo Automotor do Tipo - Van",(IF(MAX(H12:K12)<31,"Veículo Automotor do Tipo - Micro-Ônibus","Veículo Automotor do Tipo - Onibus"))) -> Veículo Automotor do Tipo - Onibus | H12: ='ROTA 001'!C44 -> 44 | I12: ='ROTA 001'!F44 -> 44 | J12: 0 | K12: ='ROTA 001'!K44 -> 16
A13: 2 | B13: O ITINERÁRIO DA MANHÃ INICIA NO JUNCO, CONTINUANDO NO JUNCO, CONTINUANDO NO ASSENTAMENTO BARRO, PASSANDO NA ESC. MUN. TERESA CRISTINA PASSANDO NA ESC. MUN. JUDITE MARIA DE ALMEIDA, PASSANDO NA ESC. MUN. ESPIRITO SANTO, PASSANDO NA ESC. MUN. JOÃO FRANCISCO, PASSANDO NA ESC. DE REF. PROFº CARLOS JOSÉ DIAS DA SILVA, FINALIZANDO NA ESC. GISA. | C13: =D13+E13 -> 25.45 | D13: =1.59*2+0.49+1.59*2 -> 6.85 | E13: =3.72*4+3.72 -> 18.6 | F13: ='ROTA 002'!B38 -> MANHÃ/TARDE/INTEGRAL | G13: =IF((MAX(H13:K13)<17),"Veículo Automotor do Tipo - Van",(IF(MAX(H13:K13)<31,"Veículo Automotor do Tipo - Micro-Ônibus","Veículo Automotor do Tipo - Onibus"))) -> Veículo Automotor do Tipo - Micro-Ônibus | H13: ='ROTA 002'!C38 -> 25 | I13: ='ROTA 002'!F38 -> 14 | J13: 0 | K13: ='ROTA 002'!$K$38 -> 16
A14: 3 | B14: O ITINERÁRIO DA MANHÃ INICIA NA RUA DO CAMPO, PASSANDO NO COND. MAR DO SÃO JOSÉ, PASSANDO NA CAPLEA DA IGREJA, PASSANDO NA ESC. JUDITHE. PASSANDO NA LOKA DO AÇAI, PASSANDO NO CENTRO DE ADM, PASSANDO NA CASA DE APOIO, PASSANDO NO FERRO VELHO, PASSANDO NO LOT. MANGUINHOS, PASSANDO NO LAVA JATO, PASSANDO NA POUSADA IMPERIAL, PASSANDO NA PRAIA DO GRAVATÁ, PASSANDO NA ABREU DO UMA, PASSANDO NA VARZÉA DO UNA, PASSANDO NA ESC. MESTRE ZUZA, PASSANDO NA ESC. MUN. VARZEA DO UMA, FINALIZANDO NA ESC. SIMONE MAIRE. O ITINERÁRIO DA TARDE INICIA NA RUA DO CAMPO, PASSANDO NO COND. MAR DO SÃO JOSÉ, PASSANDO NA CAPLEA DA IGREJA, PASSANDO NA ESC. JUDITHE, PASSANDO NA LOKA DO AÇAI, PASSANDO NO CENTRO DE ADM, PASSANDO NA CASA DE APOIO, PASSANDO NO FERRO VELHO, PASSANDO NO LOT. MANGUINHOS, PASSANDO NO LAVA JATO, PASSANDO NA POUSADA IMPERIAL, PASSANDO NA PRAIA DO GRAVATÁ, PASSANDO NO ABREU DO UMA, PASSANDO NA VARZÉA DO UNA, PASSANDO NA ESC. MESTRE ZUZA, PASSANDO NA ESC. MUN. VARZEA DO UMA, FINALIZANDO NA ESC. SIMONE MAIRE. | C14: =D14+E14 -> 62.96 | D14: =10.25*4 -> 41 | E14: =3.66*6 -> 21.96 | F14: ='ROTA 003'!B48 -> MANHÃ/TARDE | G14: =IF((MAX(H14:K14)<17),"Veículo Automotor do Tipo - Van",(IF(MAX(H14:K14)<31,"Veículo Automotor do Tipo - Micro-Ônibus","Veículo Automotor do Tipo - Onibus"))) -> Veículo Automotor do Tipo - Onibus | H14: ='ROTA 003'!C48 -> 44 | I14: {='ROTA 003'!F48:I48} -> 44 | J14: 0 | K14: 0 | L14: 0
A15: 4 | B15: O ITINERÁRIO DA MANHÃ INICIA NA SERRA D'ÁGUA, PASSANDO NA FAZ. MURIM, PASSANDO NO ENGENHO TENTÚGAL, PASSANDO NA ESC. JOÃO FRANCISCO DE MELO, PASSANDO NA ESC. CARLOS DIAS, FINALIZANDO NA ESC. SÃO FRANCISCO DE ASSIS. CONTINUIDADE DA MANHÃ INICIA NA RUA DO CAMPO, PASSANDO NO RES. CALAMARES, PASSANDO NA ESC. JUDITHE, PASSANDO NA LOKA AÇAI, PASSANDO NA CASA DE APOIO, PASSANDO NO FERRO VELHO, FINALIZANDO NA ESC. MUN. LIVIO TENÓRIO. RETORNO DA MANHÃ INICIA NA ESC. MUN. LIVIO TENÓRIO, PASSANDO NO FERRO VELHO, PASSANDO NA CASA DE APOIO, PASSANDO NA LOKA AÇAI, PASSANDO NA ESC. JUDITHE, RES.CALAMARES FINALIZANDO NA RUA DO CAMPO. O ITINERÁRIO DA TARDE INICIA NA RUA DO CAMPO, PASSANDO NO RES.CALAMARES, PASSANDO NA ESC. JUDITHE, PASSANDO NA LOKA AÇAI, PASSANDO NA CASA DE APOIO, PASSANDO NO FERRO VELHO, PASSANDO NO ENGENHO SERRA D'ÁGUA, FINALIZANDO NA ESC. MUN. LIVIO TENÓRIO. RETORNO DA TARDE INICIA NA ESC. MUN. LIVIO TENÓRIO, PASSANDO NO FERRO VELHO, PASSANDO NA CASA DE APOIO, PASSANDO NA LOKA AÇAI, PASSANDO NA ESC. JUDITHE, RES.CALAMARES FINALIZANDO NA RUA DO CAMPO, CONTINUIDADE DA TARDE, INICIA NA ESCOLA SÃO FRANCISCO DE ASSIS, PASSANDO NA ESC. CARLOS DIAS, PASSANDO NA CASA DE APOIO, PASSANDO NO FERRO VELHO, PASSANDO NA ESC. MUN. LIVIO TENÓRIO, PASSANDO NA SERRA D'ÁGUA, PASSANDO NA FAZ. MURIM, FINALIZANDO NA ESC. MUN. LIVIO TENÓRIO. | C15: =D15+E15 -> 95.51 | D15: =4.57*4+6.78*4+4.57 -> 49.97 | E15: =5.34*4+2.88*4+1.83*4+5.34 -> 45.54 | F15: ='ROTA 004'!$B$50 -> MANHÃ/INTEGRAL/TARDE | G15: =IF((MAX(H15:K15)<17),"Veículo Automotor do Tipo - Van",(IF(MAX(H15:K15)<31,"Veículo Automotor do Tipo - Micro-Ônibus","Veículo Automotor do Tipo - Onibus"))) -> Veículo Automotor do Tipo - Onibus | H15: ='ROTA 004'!C50 -> 60 | I15: ='ROTA 004'!F50 -> 38 | J15: 0 | K15: ='ROTA 004'!K50 -> 30
A16: 5 | B16: O ITINERÁRIO DA MANHÃ INICIA NO ENG. CAMIPINAS, PASSANDO NO ENG. GINDAI, PASSANDO NO ENG. PAU AMARELO, PASSANDO NO ENG. BUENOS E FINALIZANDO NO ENG. BOA VISTA. OBS: ROTA DE TRANSBORDO PARA ROTA 06. | C16: =D16+E16 -> 107.22 | D16: =1*6 -> 6 | E16: =16.35*2+11.36*2+22.9*2 -> 101.22 | F16: ='ROTA 005'!B38 -> MANHÃ/TARDE/NOITE | G16: =IF((MAX(H16:K16)<17),"Veículo Automotor do Tipo - Van",(IF(MAX(H16:K16)<31,"Veículo Automotor do Tipo - Micro-Ônibus","Veículo Automotor do Tipo - Onibus"))) -> Veículo Automotor do Tipo - Van | H16: ='ROTA 005'!C38 -> 13 | I16: ='ROTA 005'!F38 -> 13 | J16: ='ROTA 005'!J38 -> 10 | K16: 0
A17: 6 | B17: O ITINERÁRIO DA MANHÃ INICIA 5:00H NO ENG. BOA VISTA, PASSANDO NO ENG. MUNDO NOVO, PASSANDO NO ENG. ARASSÚ, PASSANDO NA FAZ. SANTA HELENA, PASSANDO NO ENG. QUEIMADAS, PASSANDO NA ESC. MUN. JOÃO FRANCISCO DE MELO, PASSANDO NA ESC. DE REF. PROFº CARLOS JOSÉ DIAS DA SILVA, PASSANDO NA ESC. SÃO FRANCISCO DE ASSIS, FINALIZANDO 7:00H NA ESC. MUN. TERESA CRISTINA. CONTINUIDADE DA MANHÃ, 7:10H INICIA NA CASA DE APOIO, PASSANDO NO FERRO VELHO, PASSANDO NO ANTIGO BOBBY MOVEIS, PASSANDO NO FINAL DA MATA DO CAJUEIRO, PASSANDO NO ENG. QUEIMADAS, PASSANDO NA FAZ. SANTA HELENA, PASSANDO NO ENG. ARASSÚ, PASSANDO NO ENG. MUNDO NOVO, FINALIZANDO NA ESC. DO ENG. ARASSÚ 7:50H. RETORNO DA MANHÃ AS 11:20H (COM OS ALUNOS DAS 7:10H), INICIA NA ESC. DO ENG. ARASSÚ, PASSANDO NO ENG. MUNDO NOVO, PASSANDO NO ENG. ARASSÚ, PASSANDO NA FAZ. SANTA HELENA, PASSANDO NO ENG. QUEIMADAS, PASSANDO NO FINAL DA MATA DO CAJUEIRO, PASSANDO NO ANTIGO BOBBY MOVEIS, PASSANDO NO FERRO VELHO, FINALIZANDO 12:00H NA CASA DE APOIO. RETORNO DA MANHÃ AS 12:05H (COM UMA PARTE DOS ALUNOS DAS 5:00H), INICIA NA CASA DE APOIO, PASSANDO NO FERRO VELHO, PASSANDO NO ANTIGO BOBBY MOVEIS, PASSANDO NO FINAL DA MATA DO CAJUEIRO, PASSANDO NO ENG. QUEIMADAS, PASSANDO NA FAZ. SANTA HELENA, PASSANDO NO ENG. ARASSÚ, PASSANDO NO ENG. MUNDO NOVO, FINALIZANDO NO ENG. BOA VISTA 13:00H. O ITINERÁRIO DA NOITE INICIA 18:10H NO ENG. BOA VISTA, PASSANDO NO ENG. MUNDO NOVO, PASSANDO NO ENG. ARASSÚ, PASSANDO NA FAZ. SANTA HELENA, PASSANDO NO ENG. QUEIMADAS, PASSANDO NA ESC. MUN. JOÃO FRANCISCO DE MELO, FINALIZANDO NA ESC. DE REF. PROFº CARLOS JOSÉ DIAS DA SILVA. RETORNO DA NOITE AS 21:50H, INICIA NA ESC. DE REF. PROFº CARLOS JOSÉ DIAS DA SILVA, PASSANDO NA ESC. MUN. JOÃO FRANCISCO DE MELO, PASSANDO NA CASA DE APOIO, PASSANDO NO FERRO VELHO, PASSANDO NO ANTIGO BOBBY MOVEIS, PASSANDO NO FINAL DA MATA DO CAJUEIRO, PASSANDO NO ENG. QUEIMADAS, PASSANDO NA FAZ. SANTA HELENA, PASSANDO NO ENG. ARASSÚ, PASSANDO NO ENG. MUNDO NOVO, FINALIZANDO NO ENG. BOA VISTA 22:40H | C17: =D17+E17 -> 49.77 | D17: =4.06*3 -> 12.18 | E17: =12.53*3 -> 37.59 | F17: ='ROTA 006'!B50 -> MANHÃ/INTEGRAL | G17: =IF((MAX(H17:K17)<17),"Veículo Automotor do Tipo - Van",(IF(MAX(H17:K17)<31,"Veículo Automotor do Tipo - Micro-Ônibus","Veículo Automotor do Tipo - Onibus"))) -> Veículo Automotor do Tipo - Onibus | H17: ='ROTA 006'!C50 -> 35 | I17: ='ROTA 006'!F50 -> 0 | J17: ='ROTA 006'!J50 -> 0 | K17: ='ROTA 006'!K50 -> 20
A18: 6.1 | B18: O ITINERÁRIO DA TARDE INICIA 12:00H NO ENG. BOA VISTA, PASSANDO NO ENG. MUNDO NOVO, PASSANDO NO ENG. ARASSÚ, PASSANDO NA FAZ. SANTA HELENA, PASSANDO NO ENG. QUEIMADAS, PASSANDO NA ESC. MUN. JOÃO FRANCISCO DE MELO, FINALIZANDO 13:00H NA ESC. MUN. TERESA. CRISTINA. RETORNO DA TARDE AS 17:10H (COM UMA PARTE DOS ALUNOS DAS 5:00H E OS ALUNOS DAS 12:00H), INICIA NA CASA DE APOIO, PASSANDO NO FERRO VELHO, PASSANDO NO ANTIGO BOBBY MOVEIS, PASSANDO NO FINAL DA MATA DO CAJUEIRO, PASSANDO NO ENG. QUEIMADAS, PASSANDO NA FAZ. SANTA HELENA, PASSANDO NO ENG. ARASSÚ, PASSANDO NO ENG. MUNDO NOVO, FINALIZANDO NO ENG. BOA VISTA 18:00H. | C18: =D18+E18 -> 66.36 | D18: =4.06*4 -> 16.24 | E18: =12.53*4 -> 50.12 | F18: ='ROTA 006.1'!B37 -> TARDE/NOITE | G18: =IF((MAX(H18:K18)<17),"Veículo Automotor do Tipo - Van",(IF(MAX(H18:K18)<31,"Veículo Automotor do Tipo - Micro-Ônibus","Veículo Automotor do Tipo - Onibus"))) -> Veículo Automotor do Tipo - Onibus | H18: 0 | I18: ='ROTA 006.1'!F37 -> 32 | J18: ='ROTA 006.1'!J37 -> 11 | K18: 0
A19: 7 | B19: O ITINERÁRIO DA MANHÃ INICIA NO BOBBY, PASSANDO NA SINUCA, PASSANDO NA JAGATÁ, PASSANDO NA MATA DO CAJUEIRO, PASSANDO NO FERRO VELHO, PASSANDO NO MEGA CENTER, PASSANDO NA ESC. CARLOS DIAS, PASSANDO NA ESC. ESPIRITO SANTO, FINALIZANDO NA ESC. TEREZA CRISTINA. O ITINERÁRIO DA TARDE INICIA NO BOBBY, PASSANDO NA SINUCA, PASSANDO NA JAGATÁ, PASSANDO NA MATA DO CAJUEIRO, PASSANDO NO FERRO VELHO, PASSANDO NO MEGA CENTER, PASSANDO NA ESC. CARLOS DIAS, PASSANDO NA ESC. ESPIRITU SANTO, FINALIZANDO NA ESC. TEREZA CRISTINA. | C19: =D19+E19 -> 21.4 | D19: =5.35*4 -> 21.4 | E19: 0 | F19: ='ROTA 007'!B38 -> MANHÃ/INTEGRAL/TARDE | G19: =IF((MAX(H19:K19)<17),"Veículo Automotor do Tipo - Van",(IF(MAX(H19:K19)<31,"Veículo Automotor do Tipo - Micro-Ônibus","Veículo Automotor do Tipo - Onibus"))) -> Veículo Automotor do Tipo - Onibus | H19: ='ROTA 007'!C38 -> 30 | I19: ='ROTA 007'!F38 -> 37 | J19: 0 | K19: 0
A20: 8 | B20: O ITINERÁRIO DA MANHÃ INICIA NO BOBBY, PASSANDO NA SINUCA, PASSANDO NA JAGATÁ, PASSANDO NA MATA DO CAJUEIRO, PASSANDO NO FERRO VELHO, PASSANDO NO MEGA CENTER, PASSANDO NA ESC. JOÃO FRANCISCO DE MELO, FINALIZANDO NA ESC. SÃO FRANCISCO DE ASSIS. O ITINERÁRIO DA TARDE INICIA NO BOBBY, PASSANDO NA SINUCA, PASSANDO NA JAGATÁ, PASSANDO NA MATA DO CAJUEIRO, PASSANDO NO FERRO VELHO, PASSANDO NO MEGA CENTER, PASSANDO NA ESC. JOÃO FRANCISCO DE MELO, FINALIZANDO NA ESC. SÃO FRANCISCO DE ASSIS. | C20: =D20+E20 -> 15.76 | D20: =3.94*4 -> 15.76 | E20: 0 | F20: ='ROTA 008'!B38 -> MANHÃ/TARDE | G20: =IF((MAX(H20:K20)<17),"Veículo Automotor do Tipo - Van",(IF(MAX(H20:K20)<31,"Veículo Automotor do Tipo - Micro-Ônibus","Veículo Automotor do Tipo - Onibus"))) -> Veículo Automotor do Tipo - Onibus | H20: ='ROTA 008'!C38 -> 50 | I20: ='ROTA 008'!F38 -> 50 | J20: 0 | K20: 0
A21: 9 | B21: O ITINERÁRIO DA MANHÃ INICIA 6:00H SAINDO DO POSTO SETTA, PASSANDO NO REST. CALAMARES, PASSANDO NA RUA DO CAMPO, PASSANDO NO CENTRO DE ADM, PASSANDO NA LOKA DO AÇAI, PASSANDO NA CASA DE APOIO, PASSANDO NO FERRO VELHO, FINALIZANDO NO IFPE BARREIROS AS 6:45H. 17:00H RETORNO DOS 02 ÔNIBUS INICIANDO NO IFPE BARREIROS, PARA SÃO JOSÉ, FINALIZANDO NO POSTO SETTA E 18:00H INICIA O ITINERÁRIO DA NOITE COM 01 ÔNIBUS, SAINDO DO POSTO SETTA, PASSANDO NO REST. CALAMARES, PASSANDO NA RUA DO CAMPO, PASSANDO NO CENTRO DE ADM, PASSANDO NA LOKA DO AÇAI, PASSANDO NA CASA DE APOIO, PASSANDO NO FERRO VELHO, FINALIZANDO NO IFPE BARREIROS, COM RETORNO AS 22:00H PARA SÃO JOSÉ, FINALIZANDO NO POSTO SETTA. | C21: =D21+E21 -> 29.04 | D21: =14.52*2 -> 29.04 | E21: 0 | F21: ='ROTA 009'!B45 -> INTEGRAL | G21: =IF((MAX(H21:K21)<17),"Veículo Automotor do Tipo - Van",(IF(MAX(H21:K21)<31,"Veículo Automotor do Tipo - Micro-Ônibus","Veículo Automotor do Tipo - Onibus"))) -> Veículo Automotor do Tipo - Onibus | H21: 0 | I21: 0 | J21: 0 | K21: ='ROTA 009'!K45 -> 60
A22: 9.1 | B22: O ITINERÁRIO DA MANHÃ INICIA 6:00H SAINDO DO POSTO SETTA, PASSANDO NO REST. CALAMARES, PASSANDO NA RUA DO CAMPO, PASSANDO NO CENTRO DE ADM, PASSANDO NA LOKA DO AÇAI, PASSANDO NA CASA DE APOIO, PASSANDO NO FERRO VELHO, FINALIZANDO NO IFPE BARREIROS AS 6:45H. 17:00H RETORNO DOS 02 ÔNIBUS INICIANDO NO IFPE BARREIROS, PARA SÃO JOSÉ, FINALIZANDO NO POSTO SETTA E 18:00H INICIA O ITINERÁRIO DA NOITE COM 01 ÔNIBUS, SAINDO DO POSTO SETTA, PASSANDO NO REST. CALAMARES, PASSANDO NA RUA DO CAMPO, PASSANDO NO CENTRO DE ADM, PASSANDO NA LOKA DO AÇAI, PASSANDO NA CASA DE APOIO, PASSANDO NO FERRO VELHO, FINALIZANDO NO IFPE BARREIROS, COM RETORNO AS 22:00H PARA SÃO JOSÉ, FINALIZANDO NO POSTO SETTA. | C22: ='ROTA 009.1'!A57 -> 29.04 | D22: =14.52*4 -> 58.08 | E22: 0 | F22: ='ROTA 009.1'!B57 -> INTEGRAL/NOITE | G22: =IF((MAX(H22:K22)<17),"Veículo Automotor do Tipo - Van",(IF(MAX(H22:K22)<31,"Veículo Automotor do Tipo - Micro-Ônibus","Veículo Automotor do Tipo - Onibus"))) -> Veículo Automotor do Tipo - Onibus | H22: 0 | I22: 0 | J22: ='ROTA 009.1'!J57 -> 12 | K22: ='ROTA 009.1'!K57 -> 78
A23: 10 | B23: O ITINERÁRIO DA MANHÃ INICIA 6:00H SAINDO DO POSTO SETTA, PASSANDO NO REST. CALAMARES, PASSANDO NA RUA DO CAMPO, PASSANDO NO CENTRO DE ADM, PASSANDO NA LOKA DO AÇAI, PASSANDO NA CASA DE APOIO, PASSANDO NO FERRO VELHO, FINALIZANDO NO ETE/IFT BARREIROS AS 6:45H. 17:00H RETORNO INICIANDO NO ETE/IFT BARREIROS, PARA SÃO JOSÉ, FINALIZANDO NO POSTO SETTA E 18:00H | C23: =D23 -> 29.1 | D23: =14.55*2 -> 29.1 | E23: 0 | F23: ='ROTA 010'!B51 -> INTEGRAL | G23: =IF((MAX(H23:K23)<17),"Veículo Automotor do Tipo - Van",(IF(MAX(H23:K23)<31,"Veículo Automotor do Tipo - Micro-Ônibus","Veículo Automotor do Tipo - Onibus"))) -> Veículo Automotor do Tipo - Onibus | H23: 0 | I23: 0 | J23: 0 | K23: ='ROTA 010'!K51 -> 44
A24: 11 | B24: O ITINERÁRIO DA MANHÃ TEM INICIO NO ANTIGO BOBBY, PASSANDO NO CAJUEIRO, PASSANDO NA ESQUINA DO FERRO VELHO, PASSANDO NO NOVO BOBBY, PASSANDO NA ASSEMBLEIA DE DEUS, PASSANDO NA POUSADA DO MAIA, PASSANDO NA PRACINHA DO CASAMAR, PASSANDO NA LOKA DO AÇAI, PASSANDO NO CENTRO ADM, PASSANDO NO POSTO ANTIGO MAR AZUL, PASSANDO NA PE UTILIDADES, PASSANDO NA CAPELA PERPETUA SOCORRO, PASSANDO NO RESTAUTANTE CALAMARES, PASSANDO NO POSTO SETTA E FINALIZANDO NA IFAL. O ITINERARIO DA TARDE TEM INICIO NO ANTIGO BOBBY, PASSANDO NO CAJUEIRO, PASSANDO NA ESQUINA DO FERRO VELHO, PASSANDO NO NOVO BOBBY, PASSANDO NA ASSEMBLEIA DE DEUS, PASSANDO NA POUSADA DO MAIA, PASSANDO NA PRACINHA DO CASAMAR, PASSANDO NA LOKA DO AÇAI, PASSANDO NO CENTRO ADM, PASSANDO NO POSTO ANTIGO MAR AZUL, PASSANDO NA PE UTILIDADES, PASSANDO NA CAPELA PERPETUA SOCORRO, PASSANDO NO RESTAUTANTE CALAMARES, PASSANDO NO POSTO SETTA E FINALIZANDO NA IFAL. O ITINERARIO DA NOITE TEM INICIO NO ANTIGO BOBBY, PASSANDO NO CAJUEIRO, PASSANDO NA ESQUINA DO FERRO VELHO, PASSANDO NO NOVO BOBBY, PASSANDO NA ASSEMBLEIA DE DEUS, PASSANDO NA POUSADA DO MAIA, PASSANDO NA PRACINHA DO CASAMAR, PASSANDO NA LOKA DO AÇAI, PASSANDO NO CENTRO ADM, PASSADO NO POSTO ANTIGO MAR AZUL, PASSANDO NA PE UTILIDADES, PASSANDO NA CAPELA PERPETUA SOCORRO, PASSANDO NO RESTAURANTE CALAMARES, PASSANDO NO POSTO SETTA E FINALIZANDO NA IFAL. | C24: =D24+E24 -> 62.58 | D24: =10.43*6 -> 62.58 | E24: 0 | F24: ='ROTA 011'!B62 -> MANHÃ/TARDE/NOITE | G24: =IF((MAX(H24:K24)<17),"Veículo Automotor do Tipo - Van",(IF(MAX(H24:K24)<31,"Veículo Automotor do Tipo - Micro-Ônibus","Veículo Automotor do Tipo - Onibus"))) -> Veículo Automotor do Tipo - Van | H24: ='ROTA 011'!C62 -> 15 | I24: ='ROTA 011'!F62 -> 15 | J24: ='ROTA 011'!J62 -> 14 | K24: 0

Sheet ROTA 001
B1: MAPA GEOREFERRÊNCIADO DE ROTA DO TRANSPORTE ESCOLAR | K1: ROTA Nº
K4: 1
A8: Descrição da Rota
A9: PT° | B9: DESCRIÇÃO | C9: Embarque | G9: Desembarque | K9: Total
C10: M | D10: T | E10: N | F10: I | G10: M | H10: T | I10: N | J10: I
A11: 1 | B11: VARZEA DO UMA | C11: 10 | F11: 3 | K11: =C11+F11 -> 13
A12: 2 | B12: ABREU DO UMA | C12: 5 | F12: 2 | K12: =K11+C12+F12 -> 20
A13: 3 | B13: VILA DA PRAIA | C13: 4 | F13: 1 | K13: =K12+C13+F13 -> 25
A14: 4 | B14: ASSÉMBLEIA DE DEUS | C14: 3 | F14: 2 | K14: =K13+C14+F14 -> 30
A15: 5 | B15: ASSÉMBLEIA DE DEUS | C15: 6 | F15: 2 | K15: =K14+C15+F15 -> 38
A16: 6 | B16: SOCIETY | C16: 5 | F16: 2 | K16: =K15+C16+F16 -> 45
A17: 7 | B17: CAPELA NOSSA SRª DE FÁTIMA | C17: 4 | F17: 1 | K17: =K16+C17+F17 -> 50
A18: 8 | B18: BECO DA TAPA | C18: 3 | F18: 1 | K18: =K17+C18+F18 -> 54
A19: 9 | B19: POUSADA DO MAIA | C19: 2 | F19: 1 | K19: =K18+C19+F19 -> 57
A20: 10 | B20: PRACINHA | C20: 2 | F20: 1 | K20: =K19+C20+F20 -> 60
A21: 11 | B21: ESC. DE REF. PROFº CARLOS JOSÉ DIAS DA SILVA | G21: 11 | K21: =K20-G21 -> 49
A22: 12 | B22: ESC. MUN. JOÃO FRANCISCO | G22: 7 | K22: =K21-G22 -> 42
A23: 13 | B23: ESC. DE REF. SÃO FRANCISCO DE ASSIS | G23: 10 | K23: =K22-G23 -> 32
A24: 14 | B24: ESC. MUN. TERESA CRISTINA | G24: 7 | K24: =K23-G24 -> 25
A25: 15 | B25: ESC. SEVERINA NUNES | G25: 9 | K25: =K24-G25 -> 16
A26: 1 | B26: VARZEA DO UMA | D26: 5 | K26: =D26 -> 5
A27: 2 | B27: ABREU DO UMA | D27: 4 | K27: =K26+D27 -> 9
A28: 3 | B28: VILA DA PRAIA | D28: 3 | K28: =K27+D28 -> 12
A29: 4 | B29: ASSÉMBLEIA DE DEUS | D29: 4 | K29: =K28+D29 -> 16
A30: 5 | B30: ASSÉMBLEIA DE DEUS | D30: 3 | K30: =K29+D30 -> 19
A31: 6 | B31: SOCIETY | D31: 5 | K31: =K30+D31 -> 24
A32: 7 | B32: CAPELA NOSSA SRª DE FÁTIMA | D32: 6 | K32: =K31+D32 -> 30
A33: 8 | B33: BECO DA TAPA | D33: 3 | K33: =K32+D33 -> 33
A34: 9 | B34: POUSADA DO MAIA | D34: 4 | K34: =K33+D34 -> 37
A35: 10 | B35: PRACINHA | D35: 7 | K35: =K34+D35 -> 44
A36: 11 | B36: ESC. DE REF. PROFº CARLOS JOSÉ DIAS DA SILVA | H36: 10 | K36: =K35-H36 -> 34
A37: 12 | B37: ESC. MUN. JOÃO FRANCISCO | H37: 6 | K37: =K36-H37 -> 28
A38: 13 | B38: ESC. DE REF. SÃO FRANCISCO DE ASSIS | H38: 9 | K38: =K37-H38 -> 19
A39: 14 | B39: ESC. MUN. TERESA CRISTINA | H39: 11 | K39: =K38-H39 -> 8
A40: 15 | B40: ESC. SEVERINA NUNES | H40: 8 | K40: =K39-H40 -> 0
A42: Km | B42: HORÁRIO | C42: Números de Alunos Transportados por Turno
C43: Manhã | F43: Tarde | J43: Noite | K43: Integral
A44: ='Planilha Locada'!C12 -> 66.08 | B44: MANHÃ/INTEGRAL/TARDE | C44: =SUM(C11:C34) -> 44 | F44: =SUM(D26:D35) -> 44 | J44: =SUM(E11:E34) -> 0 | K44: =SUM(F11:F34) -> 16

Sheet ROTA 002
B1: MAPA GEOREFERRÊNCIADO DE ROTA DO TRANSPORTE ESCOLAR | K1: ROTA Nº
K4: 2
A8: Descrição da Rota
A9: PT° | B9: DESCRIÇÃO | C9: Embarque | G9: Desembarque | K9: Total
C10: M | D10: T | E10: N | F10: I | G10: M | H10: T | I10: N | J10: I
A11: 1 | B11: JUNCO | C11: 6 | F11: 3 | K11: =C11+F11 -> 9
A12: 2 | B12: JUNCO | C12: 12 | F12: 8 | K12: =K11+F12+C12 -> 29
A13: 3 | B13: ASSENTAMENTO BARRO | C13: 7 | F13: 5 | K13: =K12+F13 -> 34
A14: 4 | B14: ESC. MUN. TERESA CRISTINA | G14: 9 | K14: =K13-G14 -> 25
A15: 5 | B15: ESC. MUN. JUDITE MARIA DE ALMEIDA | G15: 8 | J15: 3
A16: 6 | B16: ESC. MUN. ESPIRITO SANTO | G16: 4
A17: 7 | B17: ESC. MUN. JOÃO FRANCISCO | G17: 3 | J17: 13
A18: 8 | B18: ESC. DE REF. PROFº CARLOS JOSÉ DIAS DA SILVA | G18: 6
A19: 9 | B19: ESC. GISA | G19: 4
A20: 1 | B20: JUNCO | D20: 3 | K20: =D20 -> 3
A21: 2 | B21: JUNCO | D21: 4 | K21: =K20+D21 -> 7
A22: 3 | B22: ASSENTAMENTO BARRO | D22: 7 | K22: =K21+D22 -> 14
A23: 4 | B23: ESC. MUN. TERESA CRISTINA | H23: 3 | K23: =K22+D23-H23 -> 11
A24: 5 | B24: ESC. MUN. JUDITE MARIA DE ALMEIDA | K24: =K23+D24 -> 11
A25: 6 | B25: ESC. MUN. ESPIRITO SANTO | H25: 2 | K25: =K24-H25 -> 9
A26: 7 | B26: ESC. MUN. JOÃO FRANCISCO | H26: 5 | K26: =K25-H26 -> 4
A27: 8 | B27: ESC. DE REF. PROFº CARLOS JOSÉ DIAS DA SILVA | H27: 2 | K27: =K26-H27 -> 2
A28: 9 | B28: ESC. GISA | H28: 1 | K28: =K27-H28 -> 1
H29: 3 | K29: =K28-H29 -> -2
K30: =K29-H30 -> -2
K31: =K30-H31 -> -2
K32: =K31-H32 -> -2
K33: =K32-H33 -> -2
K34: =K33-H34 -> -2
A36: Km | B36: HORÁRIO | C36: Números de Alunos Transportados por Turno
C37: Manhã | F37: Tarde | J37: Noite | K37: Integral
A38: ='Planilha Locada'!C13 -> 25.45 | B38: MANHÃ/TARDE/INTEGRAL | C38: =SUM(C11:C13) -> 25 | F38: =K22 -> 14 | J38: =SUM(E11:E31) -> 0 | K38: =SUM(F11:F31) -> 16

Sheet ROTA 003
B1: MAPA GEOREFERRÊNCIADO DE ROTA DO TRANSPORTE ESCOLAR | K1: ROTA Nº
K4: 3
A8: Descrição da Rota
A9: PT° | B9: DESCRIÇÃO | C9: Embarque | G9: Desembarque | K9: Total
C10: M | D10: T | E10: N | F10: I | G10: M | H10: T | I10: N | J10: I
A11: 1 | B11: RUA DO CAMPO | C11: 3 | K11: 3
A12: 2 | B12: COND. MAR DO SÃO JOSÉ | C12: 2 | K12: =K11+C12 -> 5
A13: 3 | B13: CAPELA DA IGREJA | C13: 3 | K13: =K12+C13 -> 8
A14: 4 | B14: ESC. JUDITHE | C14: 3 | K14: =K13+C14 -> 11
A15: 5 | B15: LOKA DO AÇAI | C15: 3 | K15: =K14+C15 -> 14
A16: 6 | B16: CENTRO DE ADM | C16: 3 | K16: =K15+C16 -> 17
A17: 7 | B17: CASA DE APOIO | C17: 3 | K17: =K16+C17 -> 20 | R17: verificar a observação
A18: 8 | B18: FERRO VELHO | C18: 4 | K18: =K17+C18 -> 24
A19: 9 | B19: LOT. MANGUINHOS | C19: 2 | K19: =K18+C19 -> 26
A20: 10 | B20: LAVA JATO | C20: 4 | K20: =K19+C20 -> 30
A21: 11 | B21: POUSADA IMPERIAL | C21: 4 | K21: =K20+C21 -> 34
A22: 12 | B22: PRAIA DO GRAVATÁ | C22: 2 | K22: =K21+C22 -> 36
A23: 13 | B23: ABREU DO UMA | C23: 4 | K23: =K22+C23 -> 40
A24: 14 | B24: VARZÉA DO UNA | C24: 4 | K24: =K23+C24 -> 44
A25: 15 | B25: ESC. MESTRE ZUZA | G25: 12 | K25: =K24-G25 -> 32
A26: 16 | B26: ESC. MUN. VARZEA DO UMA | G26: 15 | K26: =K25-G26 -> 17
A27: 17 | B27: ESC. SIMONE MAIRE | G27: 17 | K27: =K26+D27 -> 17
A28: 1 | B28: RUA DO CAMPO | D28: 2 | K28: =D28 -> 2
A29: 2 | B29: COND. MAR DO SÃO JOSÉ | D29: 1 | K29: =K28+D29 -> 3
A30: 3 | B30: CAPLEA DA IGREJA | D30: 3 | K30: =K29+D30 -> 6
A31: 4 | B31: ESC. JUDITHE | D31: 5 | K31: =K30+D31 -> 11
A32: 5 | B32: LOKA DO AÇAI | D32: 3 | K32: =K31+D32 -> 14
A33: 6 | B33: CENTRO DE ADM | D33: 3 | K33: =K32+D33 -> 17
A34: 7 | B34: CASA DE APOIO | D34: 3 | K34: =K33+D34 -> 20
A35: 8 | B35: FERRO VELHO | D35: 2 | K35: =K34+D35 -> 22
A36: 9 | B36: LOT. MANGUINHOS | D36: 3 | K36: =K35+D36 -> 25
A37: 10 | B37: LAVA JATO | D37: 3 | K37: =K36+D37 -> 28
A38: 11 | B38: POUSADA IMPERIAL | D38: 4 | K38: =K37+D38 -> 32
A39: 12 | B39: PRAIA DO GRAVATÁ | D39: 4 | K39: =K38+D39 -> 36
A40: 13 | B40: ABREU DO UMA | D40: 4 | K40: =K39+D40 -> 40
A41: 14 | B41: VARZÉA DO UNA | D41: 4 | K41: =K40+D41 -> 44
A42: 15 | B42: ESC. MESTRE ZUZA | H42: 13 | K42: =K41-H42 -> 31
A43: 16 | B43: ESC. MUN. VARZEA DO UMA | H43: 15 | K43: =K42-H43 -> 16
A44: 17 | B44: ESC. SIMONE MAIRE | H44: 16 | K44: =K43-H44 -> 0
A46: Km | B46: HORÁRIO | C46: Números de Alunos Transportados por Turno
C47: Manhã | F47: Tarde | J47: Noite | K47: Integral
A48: ='Planilha Locada'!C14 -> 62.96 | B48: MANHÃ/TARDE | C48: =SUM(C11:C41) -> 44 | F48: =SUM(D11:D42) -> 44 | J48: =SUM(E11:E41) -> 0 | K48: =SUM(F11:F41) -> 0

Sheet ROTA 004
B1: MAPA GEOREFERRÊNCIADO DE ROTA DO TRANSPORTE ESCOLAR | K1: ROTA Nº
K4: 4
A8: Descrição da Rota
A9: PT° | B9: DESCRIÇÃO | C9: Embarque | G9: Desembarque | K9: Total
C10: M | D10: T | E10: N | F10: I | G10: M | H10: T | I10: N | J10: I
A11: 1 | B11: SERRA D'ÁGUA | C11: 8 | F11: 5 | K11: =C11+F11 -> 13
A12: 2 | B12: FAZ. MARUIM | C12: 6 | F12: 5 | K12: =K11+C12+F12 -> 24
A13: 3 | B13: ENGENHO TENTÚGAL | C13: 8 | F13: 8 | K13: =K12+C13+F13 -> 40
A14: 4 | B14: ESC.JOÃO FRANCISCO DE MELO | C14: 6 | F14: 12 | G14: 20 | K14: =K13+C14+F14-G14 -> 38
A15: 5 | B15: ESC. CARLOS DIAS | G15: 26 | K15: =K14-G15 -> 12
A16: 6 | B16: ESC. FRANCISCO DE ASSIS | G16: 31 | K16: 0
A17: 1 | B17: SERRA D'ÁGUA | D17: 13 | K17: =D17 -> 13
A18: 2 | B18: FAZ. MARUIM | D18: 15 | K18: =K17+D18 -> 28
A19: 3 | B19: ENGENHO TENTÚGAL | D19: 13 | K19: =K18+D19 -> 41
A20: 4 | B20: ESC.JOÃO FRANCISCO DE MELO | G20: 11 | K20: =K19+D20-G20 -> 30
A21: 5 | B21: ESC. CARLOS DIAS | G21: 12 | K21: =K20-G21 -> 18
A22: 6 | B22: ESC. FRANCISCO DE ASSIS | G22: 18 | K22: 0
A23: 1 | B23: RUA DO CAMPO | C23: 5 | K23: =K16+C23 -> 5
A24: 2 | B24: RES.CALAMARES | C24: 6 | K24: =K23+C24 -> 11
A25: 3 | B25: ESC. JUDITHE | C25: 5 | K25: =K24+C25 -> 16
A26: 4 | B26: LOKA AÇAI | C26: 5 | K26: =K25+C26 -> 21
A27: 5 | B27: CASA DE APOIO | C27: 6 | K27: =K26+C27 -> 27
A28: 6 | B28: FERRO VELHO | C28: 5 | K28: =K27+C28 -> 32
A29: 7 | B29: ESC. MUN. LIVIO TENÓRIO | G29: 35
A30: 1 | B30: RUA DO CAMPO | D30: 8 | K30: =D30 -> 8
A31: 2 | B31: RES.CALAMARES | D31: 5 | K31: =K30+D31 -> 13
A32: 3 | B32: ESC. JUDITHE | D32: 7 | K32: =K31+D32 -> 20
A33: 4 | B33: LOKA AÇAI | D33: 6 | K33: =K32+D33 -> 26
A34: 5 | B34: CASA DE APOIO | D34: 6 | K34: =K33+D34 -> 32
A35: 6 | B35: FERRO VELHO | D35: 6 | K35: =K34+D35 -> 38
A36: 7 | B36: ENGENHO SERRA D'ÁGUA | H36: 38
A37: 8 | B37: ESC. MUN. LIVIO TENÓRIO | K37: 3
H38: 3
K39: =(C39+D39+E39+F39)+K38 -> 0
K40: =(C40+D40+E40+F40)+K39 -> 0
K41: =(C41+D41+E41+F41)+K40 -> 0
K42: =(C42+D42+E42+F42)-(G42+H42+I42+J42) -> 0
K43: =(C43+D43+E43+F43)-(G43+H43+I43+J43) -> 0
K44: =(C44+D44+E44+F44)-(G44+H44+I44+J44) -> 0
K45: =(C45+D45+E45+F45)-(G45+H45+I45+J45) -> 0
K46: =(C46+D46+E46+F46)-(G46+H46+I46+J46) -> 0
A48: Km | B48: HORÁRIO | C48: Números de Alunos Transportados por Turno
C49: Manhã | F49: Tarde | J49: Noite | K49: Integral
A50: ='Planilha Locada'!C15 -> 95.51 | B50: MANHÃ/INTEGRAL/TARDE | C50: =SUM(C11:C14,C23:C29) -> 60 | F50: =SUM(D30:D35) -> 38 | J50: =SUM(E11:E43) -> 0 | K50: =SUM(F11:F14) -> 30

Sheet ROTA 005
B1: MAPA GEOREFERRÊNCIADO DE ROTA DO TRANSPORTE ESCOLAR | K1: ROTA Nº
K4: 5
A8: Descrição da Rota
A9: PT° | B9: DESCRIÇÃO | C9: Embarque | G9: Desembarque | K9: Total
C10: M | D10: T | E10: N | F10: I | G10: M | H10: T | I10: N | J10: I
A11: 1 | B11: ENG. CAMIPINAS | C11: 3 | K11: =C11 -> 3
A12: 2 | B12: ENG. GINDAI | C12: 2 | K12: =K11+C12 -> 5
A13: 3 | B13: ENG. PAU AMARELO | C13: 3 | K13: =K12+C13 -> 8
A14: 4 | B14: ENG. BOA VISTA | C14: 2 | K14: =K13+C14 -> 10
A15: 5 | B15: ENG. BUENOS AIRIS | C15: 1 | K15: =K14+C15 -> 11
A16: 6 | B16: ENG. MUNDO NOVO | C16: 2 | K16: =K15+C16 -> 13
A17: 7 | B17: ENG. ARASSÚ | G17: 12
A18: 1 | B18: ENG. CAMIPINAS | D18: 2 | K18: =D18 -> 2
A19: 2 | B19: ENG. GINDAI | D19: 2 | K19: =K18+D19 -> 4
A20: 3 | B20: ENG. PAU AMARELO | D20: 4 | K20: =K19+D20 -> 8
A21: 4 | B21: ENG. PAU AMARELO | D21: 2 | K21: =K20+D21 -> 10
A22: 5 | B22: ENG. PAU AMARELO | D22: 1 | K22: =K21+D22 -> 11
A23: 6 | B23: ENG. BUENOS AIRIS | D23: 2 | K23: =K22+D23 -> 13
A24: 7 | B24: ENG. BOA VISTA | H24: 13 | K24: 0
A25: 1 | B25: ENG. CAMIPINAS | E25: 2 | K25: =E25 -> 2
A26: 2 | B26: ENG. PAU AMARELO | E26: 1 | K26: =K25+E26 -> 3
A27: 3 | B27: ENG. BOA VISTA | E27: 1 | K27: =K26+E27 -> 4
A28: 4 | B28: ENG. BUENOS AIRIS | E28: 2 | K28: =K27+E28 -> 6
A29: 5 | B29: ENG. MUNDO NOVO | E29: 1 | K29: =K28+E29 -> 7
A30: 6 | B30: ENG. ARASSÚ | E30: 1 | K30: =K29+E30 -> 8
A31: 7 | B31: ENG. QUIMANDAS | E31: 2 | K31: =K30+E31 -> 10
A32: 8 | B32: ESC. FRANCISCO DE ASSIS | I32: 10
A33: 9
A34: 10
A36: Km | B36: HORÁRIO | C36: Números de Alunos Transportados por Turno
C37: Manhã | F37: Tarde | J37: Noite | K37: Integral
A38: ='Planilha Locada'!C16 -> 107.22 | B38: MANHÃ/TARDE/NOITE | C38: =SUM(C11:C16) -> 13 | F38: =SUM(D11:D31) -> 13 | J38: =SUM(E11:E31) -> 10 | K38: =SUM(F11:F31) -> 0

Sheet ROTA 006
B1: MAPA GEOREFERRÊNCIADO DE ROTA DO TRANSPORTE ESCOLAR | K1: ROTA Nº
K4: 6
A8: Descrição da Rota
A9: PT° | B9: DESCRIÇÃO | C9: Embarque | G9: Desembarque | K9: Total
C10: M | D10: T | E10: N | F10: I | G10: M | H10: T | I10: N | J10: I
A11: 1 | B11: ENG. BOA VISTA | C11: 8 | F11: 4 | K11: =C11+F11 -> 12
A12: 2 | B12: ENG. MUNDO NOVO | C12: 5 | F12: 3 | K12: =K11+C12+F12 -> 20
A13: 3 | B13: ENG. ARASSÚ | C13: 7 | F13: 3 | K13: =K12+C13+F13 -> 30
A14: 4 | B14: FAZ. SANTA HELENA | C14: 5 | F14: 4 | K14: =K13+C14+F14 -> 39
A15: 5 | B15: ENG. QUEIMADAS | C15: 10 | F15: 6 | K15: =K14+C15+F15 -> 55
A16: 6 | B16: ESC. MUN. JOÃO FRANCISCO DE MELO | C16: 7 | G16: 1 | J16: 3 | K16: =K15+C16-G16-J16 -> 58
A17: 7 | B17: ESC. DE REF. PROFº CARLOS JOSÉ DIAS DA SILVA | C17: 6 | G17: 3 | J17: 15 | K17: =K16+C17-G17-J17 -> 46
A18: 8 | B18: ESC. SÃO FRANCISCO DE ASSIS | G18: 17 | J18: 12 | K18: =K17+C18-G18-J18 -> 17
A19: 9 | B19: ESC. MUN. TERESA CRISTINA
A20: 1 | B20: CASA DE APOIO | C20: 2 | K20: =C20 -> 2
A21: 2 | B21: FERRO VELHO | C21: 2 | K21: =K20+C21 -> 4
A22: 3 | B22: ANTIGO BOBBY MOVEIS | C22: 2 | K22: =K21+C22 -> 6
A23: 4 | B23: FINAL DA MATA DO CAJUEIRO | C23: 2 | K23: =K22+C23 -> 8
A24: 5 | B24: ENG. QUEIMADAS | C24: 2 | K24: =K23+C24 -> 10
A25: 6 | B25: FAZ. SANTA HELENA | C25: 3 | K25: =K24+C25 -> 13
A26: 7 | B26: ENG. ARASSÚ | C26: 2 | K26: =K25+C26 -> 15
A27: 8 | B27: ENG. MUNDO NOVO | C27: 3 | K27: =K26+C27 -> 18
A28: 9 | B28: ESC. DO ENG. ARASSÚ | G28: =SUM(C20:C27) -> 18 | K28: 0
K29: =D29 -> 0
K30: =K29+D30 -> 0
K31: =K30+D31 -> 0
K32: =K31+D32 -> 0
K33: =K32+D33 -> 0
K34: =K33+D34-H34 -> 0
K35: =K34+D35-H35 -> 0
K36: =K35+D36-H36 -> 0
K37: =K36+D37-H37 -> 0
A38: 1 | K38: =E38 -> 0
A39: 2 | K39: =E39+K38 -> 0
A40: 3 | K40: =K39+E40 -> 0
A41: 4 | K41: =K40+E41 -> 0
A42: 5 | K42: =K41+E42 -> 0
A43: 6 | K43: =K42+E43-I43 -> 0
A44: 7 | K44: =K43+E44-I44 -> 0
A45: 8 | K45: =K44-I45 -> 0
A46: 9 | K46: =K45-I46 -> 0
A48: Km | B48: HORÁRIO | C48: Números de Alunos Transportados por Turno
C49: Manhã | F49: Tarde | J49: Noite | K49: Integral
A50: ='Planilha Locada'!C17 -> 49.77 | B50: MANHÃ/INTEGRAL | C50: =SUM(G28,G18) -> 35 | F50: =K33 -> 0 | J50: =K42 -> 0 | K50: =SUM(F11:F15) -> 20

Sheet ROTA 006.1
B1: MAPA GEOREFERRÊNCIADO DE ROTA DO TRANSPORTE ESCOLAR | K1: ROTA Nº
K4: 6
A8: Descrição da Rota
A9: PT° | B9: DESCRIÇÃO | C9: Embarque | G9: Desembarque | K9: Total
C10: M | D10: T | E10: N | F10: I | G10: M | H10: T | I10: N | J10: I
A11: 1 | K11: =C11 -> 0
A12: 2 | K12: =K11+C12 -> 0
A13: 3 | K13: =K12+C13 -> 0
A14: 4 | K14: =K13+C14 -> 0
A15: 5 | K15: =K14+C15 -> 0
A16: 6 | K16: =K15+C16-G16 -> 0
A17: 7 | K17: =K16+C17-G17 -> 0
A18: 8 | K18: =K17-G18 -> 0
A19: 9 | K19: 0
A20: 1 | B20: ENG. BOA VISTA | D20: 10 | K20: =D20 -> 10
A21: 2 | B21: ENG. MUNDO NOVO | D21: 5 | K21: =K20+D21 -> 15
A22: 3 | B22: ENG. ARASSÚ | D22: 4 | K22: =K21+D22 -> 19
A23: 4 | B23: FAZ. SANTA HELENA | D23: 6 | K23: =K22+D23 -> 25
A24: 5 | B24: ENG. QUEIMADAS | D24: 7 | K24: =K23+D24 -> 32
A25: 6 | B25: ESC. MUN. JOÃO FRANCISCO DE MELO | D25: 7 | H25: 3 | K25: =K24+D25 -> 39
A26: 7 | B26: ESC. MUN. TERESA CRISTINA | H26: 5 | K26: =K25+D26 -> 39
A27: 1 | B27: ENG. BOA VISTA | E27: 1 | K27: =E27 -> 1
A28: 2 | B28: ENG. MUNDO NOVO | E28: 3 | K28: =E28+K27 -> 4
A29: 3 | B29: ENG. ARASSÚ | E29: 2 | K29: =K28+E29 -> 6
A30: 4 | B30: FAZ. SANTA HELENA | E30: 2 | K30: =K29+E30 -> 8
A31: 5 | B31: ENG. QUEIMADAS | E31: 3 | K31: =K30+E31 -> 11
A32: 6 | B32: ESC. MUN. JOÃO FRANCISCO DE MELO | I32: 7 | K32: =K31-I32 -> 4
A33: 7 | B33: ESC. DE REF. PROFº CARLOS JOSÉ DIAS DA SILVA | I33: 4 | K33: =K32-I33 -> 0
A35: Km | B35: HORÁRIO | C35: Números de Alunos Transportados por Turno
C36: Manhã | F36: Tarde | J36: Noite | K36: Integral
A37: ='Planilha Locada'!C18 -> 66.36 | B37: TARDE/NOITE | C37: =K15 -> 0 | F37: =K24 -> 32 | J37: =K31 -> 11 | K37: =SUM(F11:F30) -> 0

Sheet ROTA 007
B1: MAPA GEOREFERRÊNCIADO DE ROTA DO TRANSPORTE ESCOLAR | K1: ROTA Nº
K4: 7
A8: Descrição da Rota
A9: PT° | B9: DESCRIÇÃO | C9: Embarque | G9: Desembarque | K9: Total
C10: M | D10: T | E10: N | F10: I | G10: M | H10: T | I10: N | J10: I
A11: 1 | B11: BOBBY | C11: 8 | F11: 4 | K11: =C11+F11 -> 12
A12: 2 | B12: SINUCA | C12: 5 | F12: 5 | K12: =K11+C12+F12 -> 22
A13: 3 | B13: JAGATÁ | C13: 2 | F13: 5 | K13: =K12+C13+F13 -> 29
A14: 4 | B14: MATA DO CAJUEIRO | C14: 4 | F14: 8 | K14: =K13+C14+F14 -> 41
A15: 5 | B15: FERRO VELHO | C15: 4 | F15: 3 | K15: =K14+C15+F15 -> 48
A16: 6 | B16: MEGA CENTER | C16: 7 | F16: 5 | K16: =K15+C16+F16 -> 60
A17: 7 | B17: ESC. CARLOS DIAS | G17: 15 | K17: =K16-G17 -> 45
A18: 8 | B18: ESC. ESPIRITO SANTO | G18: 13 | K18: =K17-G18 -> 32
A19: 9 | B19: ESC. TEREZA CRISTINA | G19: 16 | K19: =K18-G19 -> 16
A20: 1 | B20: BOBBY | D20: 7 | K20: =D20 -> 7
A21: 2 | B21: SINUCA | D21: 8 | K21: =K20+D21 -> 15
A22: 3 | B22: JAGATÁ | D22: 6 | K22: =K21+D22 -> 21
A23: 4 | B23: MATA DO CAJUEIRO | D23: 5 | K23: =K22+D23 -> 26
A24: 5 | B24: FERRO VELHO | D24: 5 | K24: =K23+D24 -> 31
A25: 6 | B25: MEGA CENTER | D25: 6 | K25: =K24+D25 -> 37
A26: 7 | B26: ESC. CARLOS DIAS | H26: 12 | K26: =K25-H26 -> 25
A27: 8 | B27: ESC. ESPIRITO SANTO | H27: 14 | K27: =K26-H27 -> 11
A28: 9 | B28: ESC. TEREZA CRISTINA | H28: 11 | K28: =K27-H28 -> 0
A29: 7
A30: 8
A31: 9
A32: 10
A33: 11
A34: 12
A36: Km | B36: HORÁRIO | C36: Números de Alunos Transportados por Turno
C37: Manhã | F37: Tarde | J37: Noite | K37: Integral
A38: ='Planilha Locada'!C19 -> 21.4 | B38: MANHÃ/INTEGRAL/TARDE | C38: =SUM(C11:C16) -> 30 | F38: =SUM(D11:D31) -> 37 | J38: =SUM(E11:E31) -> 0 | K38: =SUM(F11:F16) -> 30

Sheet ROTA 008
B1: MAPA GEOREFERRÊNCIADO DE ROTA DO TRANSPORTE ESCOLAR | K1: ROTA Nº
K4: 8
A8: Descrição da Rota
A9: PT° | B9: DESCRIÇÃO | C9: Embarque | G9: Desembarque | K9: Total
C10: M | D10: T | E10: N | F10: I | G10: M | H10: T | I10: N | J10: I
A11: 1 | B11: BOBBY | C11: 10 | F11: 1 | K11: =C11+F11 -> 11
A12: 2 | B12: SINUCA | C12: 6 | F12: 3 | K12: =K11+C12+F12 -> 20
A13: 3 | B13: JAGATÁ | C13: 7 | F13: 1 | K13: =K12+C13+F13 -> 28
A14: 4 | B14: MATA DO CAJUEIRO | C14: 17 | F14: 2 | K14: =K13+C14+F14 -> 47
A15: 5 | B15: FERRO VELHO | C15: 4 | F15: 2 | K15: =K14+C15+F15 -> 53
A16: 6 | B16: MEGA CENTER | C16: 6 | F16: 1 | K16: =K15+C16+F16 -> 60
A17: 7 | B17: ESC. JOÃO FRANCISCO DE MELO | G17: 19
A18: 8 | B18: ESC. SÃO FRANCISCO DE ASSIS. | G18: 18
A19: 1 | B19: BOBBY | D19: 15 | K19: =D19 -> 15
A20: 2 | B20: SINUCA | D20: 12 | K20: =K19+D20 -> 27
A21: 3 | B21: JAGATÁ | D21: 7 | K21: =K20+D21 -> 34
A22: 4 | B22: MATA DO CAJUEIRO | D22: 5 | K22: =K21+D22 -> 39
A23: 5 | B23: FERRO VELHO | D23: 7 | K23: =K22+D23 -> 46
A24: 6 | B24: MEGA CENTER | D24: 4 | K24: =K23+D24 -> 50
A25: 7 | B25: ESC. JOÃO FRANCISCO DE MELO | H25: 29 | K25: =K24-H25 -> 21
A26: 8 | B26: ESC. SÃO FRANCISCO DE ASSIS. | H26: 14 | K26: =K25-H26 -> 7
A36: Km | B36: HORÁRIO | C36: Números de Alunos Transportados por Turno
C37: Manhã | F37: Tarde | J37: Noite | K37: Integral
A38: ='Planilha Locada'!C20 -> 15.76 | B38: MANHÃ/TARDE | C38: =SUM(C11:C31) -> 50 | F38: =SUM(D11:D32) -> 50 | J38: =SUM(E11:E31) -> 0 | K38: =SUM(F11:F31) -> 10

Sheet ROTA 009
B1: MAPA GEOREFERRÊNCIADO DE ROTA DO TRANSPORTE ESCOLAR | K1: ROTA Nº
K4: 9
A8: Descrição da Rota
A9: PT° | B9: DESCRIÇÃO | C9: Embarque | G9: Desembarque | K9: Total
C10: M | D10: T | E10: N | F10: I | G10: M | H10: T | I10: N | J10: I
A11: 1 | B11: POSTO SETTA | F11: 60 | K11: =F11 -> 60
A12: 2 | B12: IFPE (BARREIROS | J12: =K11 -> 60 | K12: 0
A43: Km | B43: HORÁRIO | C43: Números de Alunos Transportados por Turno
C44: Manhã | F44: Tarde | J44: Noite | K44: Integral
A45: ='Planilha Locada'!C21 -> 29.04 | B45: INTEGRAL | C45: =SUM(C11:C38) -> 0 | F45: =SUM(D11:D41) -> 0 | J45: =SUM(E11:E38) -> 0 | K45: =SUM(F11:F38) -> 60

Sheet ROTA 009.1
B1: MAPA GEOREFERRÊNCIADO DE ROTA DO TRANSPORTE ESCOLAR | K1: ROTA Nº
K4: 9
A8: Descrição da Rota
A9: PT° | B9: DESCRIÇÃO | C9: Embarque | G9: Desembarque | K9: Total
C10: M | D10: T | E10: N | F10: I | G10: M | H10: T | I10: N | J10: I
A11: 1 | B11: POSTO SETTA | F11: 18 | K11: =F11 -> 18
A12: 2 | B12: REST. CALAMARES | F12: 10 | K12: =K11+F12 -> 28
A13: 3 | B13: RUA DO CAMPO | F13: 10 | K13: =K12+F13 -> 38
A14: 4 | B14: CENTRO DE ADM | F14: 10 | K14: =K13+F14 -> 48
A15: 5 | B15: LOKA DO AÇAI | F15: 10 | K15: =K14+F15 -> 58
A16: 6 | B16: CASA DE APOIO | F16: 10 | K16: =K15+F16 -> 68
A17: 7 | B17: FERRO VELHO | F17: 10 | K17: =K16+F17 -> 78
A18: 8 | B18: IFPE BARREIROS | J18: =SUM(F11:F17) -> 78 | K18: 0
A19: 1 | B19: POSTO SETTA | E19: 2 | K19: =E19 -> 2
A20: 2 | B20: REST. CALAMARES | E20: 2 | K20: =K19+E20 -> 4
A21: 3 | B21: RUA DO CAMPO | E21: 2 | K21: =K20+E21 -> 6
A22: 4 | B22: CENTRO DE ADM | E22: 2 | K22: =K21+E22 -> 8
A23: 5 | B23: LOKA DO AÇAI | E23: 2 | K23: =K22+E23 -> 10
A24: 6 | B24: CASA DE APOIO | E24: 1 | K24: =K23+E24 -> 11
A25: 7 | B25: FERRO VELHO | E25: 1 | K25: =K24+E25 -> 12
A26: 8 | B26: IFPE BARREIROS | I26: 12 | K26: 0
A55: Km | B55: HORÁRIO | C55: Números de Alunos Transportados por Turno
C56: Manhã | F56: Tarde | J56: Noite | K56: Integral
A57: ='Planilha Locada'!C21 -> 29.04 | B57: INTEGRAL/NOITE | C57: =SUM(C11:C50) -> 0 | F57: =SUM(D11:D53) -> 0 | J57: =SUM(E11:E50) -> 12 | K57: =SUM(F11:F50) -> 78

Sheet ROTA 010
B1: MAPA GEOREFERRÊNCIADO DE ROTA DO TRANSPORTE ESCOLAR | K1: ROTA Nº
K4: 10
A8: Descrição da Rota
A9: PT° | B9: DESCRIÇÃO | C9: Embarque | G9: Desembarque | K9: Total
C10: M | D10: T | E10: N | F10: I | G10: M | H10: T | I10: N | J10: I
A11: 1 | B11: POSTO SETTA | F11: 7 | K11: =F11 -> 7
A12: 2 | B12: REST. CALAMARES | F12: 5 | K12: =K11+F12 -> 12
A13: 3 | B13: RUA DO CAMPO | F13: 5 | K13: =K12+F13 -> 17
A14: 4 | B14: CENTRO DE ADM | F14: 7 | K14: =K13+F14 -> 24
A15: 5 | B15: LOKA DO AÇAI | F15: 7 | K15: =K14+F15 -> 31
A16: 6 | B16: CASA DE APOIO | F16: 8 | K16: =K15+F16 -> 39
A17: 7 | B17: FERRO VELHO | F17: 5 | K17: =K16+F17 -> 44
A18: 8 | B18: ETE/IFT BARREIROS | J18: 44 | K18: 0
A49: Km | B49: HORÁRIO | C49: Números de Alunos Transportados por Turno
C50: Manhã | F50: Tarde | J50: Noite | K50: Integral
A51: ='Planilha Locada'!C21 -> 29.04 | B51: INTEGRAL | C51: =SUM(C11:C44) -> 0 | F51: =SUM(D11:D47) -> 0 | J51: =SUM(E11:E44) -> 0 | K51: =SUM(F11:F44) -> 44

Sheet ROTA 011
B1: MAPA GEOREFERRÊNCIADO DE ROTA DO TRANSPORTE ESCOLAR | K1: ROTA Nº
K4: 11
A8: Descrição da Rota
A9: PT° | B9: DESCRIÇÃO | C9: Embarque | G9: Desembarque | K9: Total
C10: M | D10: T | E10: N | F10: I | G10: M | H10: T | I10: N | J10: I
A11: 1 | B11: ANTIGO BOBBY | C11: 1 | K11: =C11 -> 1
A12: 2 | B12: CAJUEIRO | C12: 1 | K12: =K11+C12 -> 2
A13: 3 | B13: ESQUENIA DO FERRO VELHO | C13: 1 | K13: =K12+C13 -> 3
A14: 4 | B14: NOVO BOBBY | C14: 1 | K14: =K13+C14 -> 4
A15: 5 | B15: ASSEMBLEIA DE DEUS | C15: 1 | K15: =K14+C15 -> 5
A16: 6 | B16: POUSADA DO MAIA | C16: 1 | K16: =K15+C16 -> 6
A17: 7 | B17: PRACINHA DO CASAMAR | C17: 1 | K17: =K16+C17 -> 7
A18: 8 | B18: LOKA DO AÇAI | C18: 1 | K18: =K17+C18 -> 8
A19: 9 | B19: CENTRO ADM | C19: 2 | K19: =K18+C19 -> 10
A20: 10 | B20: POSTO ANTIGO MAR AZUL | C20: 1 | K20: =K19+C20 -> 11
A21: 11 | B21: PE UTILIDADES | C21: 1 | K21: =K20+C21 -> 12
A22: 12 | B22: CAPELA PERPETUA SOCORRO | C22: 1 | K22: =K21+C22 -> 13
A23: 13 | B23: RESTAUTANTE CALAMARES | C23: 1 | K23: =K22+C23 -> 14
A24: 14 | B24: POSTO SETTA | C24: 1 | K24: =K23+C24 -> 15
A25: 15 | B25: IFAL | G25: =K24 -> 15 | K25: 0
A26: 1 | B26: ANTIGO BOBBY | D26: 1 | K26: =D26 -> 1
A27: 2 | B27: CAJUEIRO | D27: 1 | K27: =K26+D27 -> 2
A28: 3 | B28: ESQUENIA DO FERRO VELHO | D28: 1 | K28: =K27+D28 -> 3
A29: 4 | B29: NOVO BOBBY | D29: 1 | K29: =K28+D29 -> 4
A30: 5 | B30: ASSEMBLEIA DE DEUS | D30: 1 | K30: =K29+D30 -> 5
A31: 6 | B31: POUSADA DO MAIA | D31: 2 | K31: =K30+D31 -> 7
A32: 7 | B32: PRACINHA DO CASAMAR | D32: 1 | K32: =K31+D32 -> 8
A33: 8 | B33: LOKA DO AÇAI | D33: 1 | K33: =K32+D33 -> 9
A34: 9 | B34: CENTRO ADM | D34: 1 | K34: =K33+D34 -> 10
A35: 10 | B35: POSTO ANTIGO MAR AZUL | D35: 1 | K35: =K34+D35 -> 11
A36: 11 | B36: PE UTILIDADES | D36: 1 | K36: =K35+D36 -> 12
A37: 12 | B37: CAPELA PERPETUA SOCORRO | D37: 1 | K37: =K36+D37 -> 13
A38: 13 | B38: RESTAUTANTE CALAMARES | D38: 1 | K38: =K37+D38 -> 14
A39: 14 | B39: POSTO SETTA | D39: 1 | K39: =K38+D39 -> 15
A40: 15 | B40: IFAL | H40: =K39 -> 15
A41: 1 | B41: ANTIGO BOBBY | E41: 1 | K41: =E41 -> 1
A42: 2 | B42: CAJUEIRO | E42: 1 | K42: =K41+E42 -> 2
A43: 3 | B43: ESQUENIA DO FERRO VELHO | E43: 1 | K43: =K42+E43 -> 3
A44: 4 | B44: NOVO BOBBY | E44: 1 | K44: =K43+E44 -> 4
A45: 5 | B45: ASSEMBLEIA DE DEUS | E45: 1 | K45: =K44+E45 -> 5
A46: 6 | B46: POUSADA DO MAIA | E46: 1 | K46: =K45+E46 -> 6
A47: 7 | B47: PRACINHA DO CASAMAR | E47: 1 | K47: =K46+E47 -> 7
A48: 8 | B48: LOKA DO AÇAI | E48: 1 | K48: =K47+E48 -> 8
A49: 9 | B49: CENTRO ADM | E49: 1 | K49: =K48+E49 -> 9
A50: 10 | B50: POSTO ANTIGO MAR AZUL | E50: 1 | K50: =K49+E50 -> 10
A51: 11 | B51: PE UTILIDADES | E51: 1 | K51: =K50+E51 -> 11
A52: 12 | B52: CAPELA PERPETUA SOCORRO | E52: 1 | K52: =K51+E52 -> 12
A53: 13 | B53: RESTAUTANTE CALAMARES | E53: 1 | K53: =K52+E53 -> 13
A54: 14 | B54: POSTO SETTA | E54: 1 | K54: =K53+E54 -> 14
A55: 15 | B55: IFAL | I55: =K54 -> 14
A60: Km | B60: HORÁRIO | C60: Números de Alunos Transportados por Turno
C61: Manhã | F61: Tarde | J61: Noite | K61: Integral
A62: ='Planilha Locada'!C24 -> 62.58 | B62: MANHÃ/TARDE/NOITE | C62: =SUM(C11:C55) -> 15 | F62: =SUM(D11:D58) -> 15 | J62: =SUM(E11:E55) -> 14 | K62: =SUM(F11:F55) -> 0
