Workbook
Name BDI: [1]ADT01!$O$6
Name COMPS: #REF!
Name DCMO01: '[2]CPUs VER02'!$AE$1
Name Memo: MC!$A$8:$L$1840
Name REF_DER_ED: DER_02_25!$A$2:$D$3110
Name REF_ORSE: #REF!
Name REF_SINAPI: 'SINAPI_12 24'!$A$1:$D$13182
Name TAB_COT: #REF!

Sheet EAP
A1: ESTRUTURA ANALÍTICA DE PROJETO
A2: OBRA: | B2: REFORMA DA EMPEF HONÓRIO PEDRO DE SIQUEIRA | C2: REFERENCIAL: | D2: SINAPI
A3: LOCAL: | B3: GUAÇUÍ - ES | C3: DATA BASE: | D3: 09/2025
A4: CONTRATANTE: | B4: PREFEITURA MUNICIPAL DE GUAÇUÍ | C4: BDI: | D4: 0.3325
A6: ITEM | B6: DESCRIÇÃO SERVIÇO | C6: PESO (%) | D6: PREÇO TOTAL:
A7: 01 | B7: =VLOOKUP(A7,PO!$A$7:$I$187,4,FALSE) -> CANTEIRO DE OBRAS | C7: =D7/$D$21 -> 0.070194337 | D7: =VLOOKUP(A7,PO!$A$7:$I$551,9,FALSE) -> 62801.38
A8: 02 | B8: =VLOOKUP(A8,PO!$A$7:$I$187,4,FALSE) -> RETIRADAS, REMOÇÕES E DEMOLIÇÕES | C8: =D8/$D$21 -> 0.023213417 | D8: =VLOOKUP(A8,PO!$A$7:$I$551,9,FALSE) -> 20768.55
A9: 03 | B9: =VLOOKUP(A9,PO!$A$7:$I$187,4,FALSE) -> INFRAESTRUTURA | C9: =D9/$D$21 -> 0.075168502 | D9: =VLOOKUP(A9,PO!$A$7:$I$551,9,FALSE) -> 67251.66
A10: 04 | B10: =VLOOKUP(A10,PO!$A$7:$I$187,4,FALSE) -> SUPERESTRUTURA | C10: =D10/$D$21 -> 0.075129997 | D10: =VLOOKUP(A10,PO!$A$7:$I$551,9,FALSE) -> 67217.21
A11: 05 | B11: =VLOOKUP(A11,PO!$A$7:$I$187,4,FALSE) -> PAREDES E PAINÉIS | C11: =D11/$D$21 -> 0.23565204 | D11: =VLOOKUP(A11,PO!$A$7:$I$551,9,FALSE) -> 210832.87
A12: 06 | B12: =VLOOKUP(A12,PO!$A$7:$I$187,4,FALSE) -> COBERTURA | C12: =D12/$D$21 -> 0.12937768 | D12: =VLOOKUP(A12,PO!$A$7:$I$551,9,FALSE) -> 115751.46
A13: 07 | B13: =VLOOKUP(A13,PO!$A$7:$I$187,4,FALSE) -> PISO | C13: =D13/$D$21 -> 0.10125077 | D13: =VLOOKUP(A13,PO!$A$7:$I$551,9,FALSE) -> 90586.91
A14: 08 | B14: =VLOOKUP(A14,PO!$A$7:$I$187,4,FALSE) -> TETOS E FORROS | C14: =D14/$D$21 -> 0.041527365 | D14: =VLOOKUP(A14,PO!$A$7:$I$551,9,FALSE) -> 37153.65
A15: 09 | B15: =VLOOKUP(A15,PO!$A$7:$I$187,4,FALSE) -> INSTALAÇÕES HIDROSSANITÁRIAS | C15: =D15/$D$21 -> 0.074529323 | D15: =VLOOKUP(A15,PO!$A$7:$I$551,9,FALSE) -> 66679.8
A16: 10 | B16: =VLOOKUP(A16,PO!$A$7:$I$187,4,FALSE) -> INSTALAÇÕES ELÉTRICAS | C16: =D16/$D$21 -> 0.030221452 | D16: =VLOOKUP(A16,PO!$A$7:$I$551,9,FALSE) -> 27038.49
A17: 11 | B17: =VLOOKUP(A17,PO!$A$7:$I$187,4,FALSE) -> ESQUADRIAS | C17: =D17/$D$21 -> 0.08613531 | D17: =VLOOKUP(A17,PO!$A$7:$I$551,9,FALSE) -> 77063.43
A18: 12 | B18: =VLOOKUP(A18,PO!$A$7:$I$187,4,FALSE) -> PINTURA | C18: =D18/$D$21 -> 0.031432076 | D18: =VLOOKUP(A18,PO!$A$7:$I$551,9,FALSE) -> 28121.61
... A20: 14 | B20: =VLOOKUP(A20,PO!$A$7:$I$187,4,FALSE) -> SERVIÇOS FINAIS | C20: =D20/$D$21 -> 0.0036877036 | D20: =VLOOKUP(A20,PO!$A$7:$I$551,9,FALSE) -> 3299.31
B21: TOTAL GERAL: | C21: =SUM(C7:C20) -> 1 | D21: =SUM(D7:D20) -> 894678.73
D24: =D21=PO!I186 -> TRUE

Sheet PO
A1: PLANILHA ORÇAMENTÁRIA SINTÉTICA
A2: OBRA: | B2: =EAP!B2 -> REFORMA DA EMPEF HONÓRIO PEDRO DE SIQUEIRA | G2: REFERENCIAL: | H2: =EAP!D2 -> SINAPI
A3: LOCAL: | B3: =EAP!B3 -> GUAÇUÍ - ES | G3: DATA BASE: | H3: 46143
A4: CONTRATANTE: | B4: =EAP!B4 -> PREFEITURA MUNICIPAL DE GUAÇUÍ | G4: BDI: | H4: =EAP!D4 -> 0.3325
A6: ITEM | B6: CÓDIGO | C6: ORGÃO | D6: DESCRIÇÃO SERVIÇO | E6: UNIDADE | F6: QUANTIDADE | G6: PREÇO UNITÁRIO S/ BDI (R$) | H6: PREÇO UNITÁRIO C/ BDI (R$) | I6: PREÇO TOTAL (R$):
A7: 01 | D7: CANTEIRO DE OBRAS | I7: =SUBTOTAL(9,I8:I15) -> 62801.38 | L7: =SUM(L8:L15) -> 62801.381
A8: =A7&".01" -> 01.01 | B8: 103689 | C8: SINAPI | D8: =UPPER(IF(C8="DER-EDIF",VLOOKUP(B8,REF_DER_ED,2,FALSE),IF(C8="SINAPI",VLOOKUP(B8,REF_SINAPI,2,FALSE),VLOOKUP(B8,COMPS,2,FALSE)))) -> FORNECIMENTO E INSTALAÇÃO DE PLACA DE OBRA COM CHAPA GALVANIZADA E ESTRUTURA DE MADEIRA. AF_03/2022_PS | E8: =IF(C8="DER-EDIF",VLOOKUP(B8,REF_DER_ED,3,FALSE),IF(C8="SINAPI",VLOOKUP(B8,REF_SINAPI,3,FALSE),VLOOKUP(B8,COMPS,3,FALSE))) -> M2 | F8: =IFERROR(VLOOKUP($A8,Memo,12,FALSE),0) -> 8 | G8: 597.49 | H8: 796.16 | I8: =ROUND(H8*F8,2) -> 6369.28 | J8: 597.49 | K8: =ROUND(J8*1.3325,2) -> 796.16 | L8: =K8*F8 -> 6369.28
A9: =IF(LEN(A8)=5,(IF((RIGHT(A8,2)-9)>=0,(LEFT(A8,3)&(RIGHT(A8,2)+1)),(LEFT(A8,4)&(RIGHT(A8,1)+1)))),IF(LEN(A8)=8,(IF((RIGHT(A8,2)-9)>=0,(LEFT(A8,6)&(RIGHT(A8,2)+1)),(LEFT(A8,7)&(RIGHT(A8,1)+1)))))) -> 01.02 | B9: 97063 | C9: SINAPI | D9: =UPPER(IF(C9="DER-EDIF",VLOOKUP(B9,REF_DER_ED,2,FALSE),IF(C9="SINAPI",VLOOKUP(B9,REF_SINAPI,2,FALSE),VLOOKUP(B9,COMPS,2,FALSE)))) -> MONTAGEM E DESMONTAGEM DE ANDAIME MODULAR FACHADEIRO, COM PISO METÁLICO, PARA EDIFÍCIOS COM MULTIPLOS PAVIMENTOS (EXCLUSIVE ANDAIME E LIMPEZA). AF_03/2024 | E9: =IF(C9="DER-EDIF",VLOOKUP(B9,REF_DER_ED,3,FALSE),IF(C9="SINAPI",VLOOKUP(B9,REF_SINAPI,3,FALSE),VLOOKUP(B9,COMPS,3,FALSE))) -> M2 | F9: =IFERROR(VLOOKUP($A9,Memo,12,FALSE),0) -> 111.29 | G9: 27.35 | H9: 36.44 | I9: =ROUND(H9*F9,2) -> 4055.41 | J9: 27.35 | K9: =ROUND(J9*1.3325,2) -> 36.44 | L9: =K9*F9 -> 4055.4076
A10: =IF(LEN(A9)=5,(IF((RIGHT(A9,2)-9)>=0,(LEFT(A9,3)&(RIGHT(A9,2)+1)),(LEFT(A9,4)&(RIGHT(A9,1)+1)))),IF(LEN(A9)=8,(IF((RIGHT(A9,2)-9)>=0,(LEFT(A9,6)&(RIGHT(A9,2)+1)),(LEFT(A9,7)&(RIGHT(A9,1)+1)))))) -> 01.03 | B10: 97062 | C10: SINAPI | D10: =UPPER(IF(C10="DER-EDIF",VLOOKUP(B10,REF_DER_ED,2,FALSE),IF(C10="SINAPI",VLOOKUP(B10,REF_SINAPI,2,FALSE),VLOOKUP(B10,COMPS,2,FALSE)))) -> COLOCAÇÃO DE TELA EM ANDAIME FACHADEIRO. AF_03/2024 | E10: =IF(C10="DER-EDIF",VLOOKUP(B10,REF_DER_ED,3,FALSE),IF(C10="SINAPI",VLOOKUP(B10,REF_SINAPI,3,FALSE),VLOOKUP(B10,COMPS,3,FALSE))) -> M2 | F10: =IFERROR(VLOOKUP($A10,Memo,12,FALSE),0) -> 111.29 | G10: 7.05 | H10: 9.39 | I10: =ROUND(H10*F10,2) -> 1045.01 | J10: 7.05 | K10: =ROUND(J10*1.3325,2) -> 9.39 | L10: =K10*F10 -> 1045.0131
A11: =IF(LEN(A10)=5,(IF((RIGHT(A10,2)-9)>=0,(LEFT(A10,3)&(RIGHT(A10,2)+1)),(LEFT(A10,4)&(RIGHT(A10,1)+1)))),IF(LEN(A10)=8,(IF((RIGHT(A10,2)-9)>=0,(LEFT(A10,6)&(RIGHT(A10,2)+1)),(LEFT(A10,7)&(RIGHT(A10,1)+1)))))) -> 01.04 | B11: 98459 | C11: SINAPI | D11: =UPPER(IF(C11="DER-EDIF",VLOOKUP(B11,REF_DER_ED,2,FALSE),IF(C11="SINAPI",VLOOKUP(B11,REF_SINAPI,2,FALSE),VLOOKUP(B11,COMPS,2,FALSE)))) -> TAPUME COM TELHA METÁLICA. AF_03/2024 | E11: =IF(C11="DER-EDIF",VLOOKUP(B11,REF_DER_ED,3,FALSE),IF(C11="SINAPI",VLOOKUP(B11,REF_SINAPI,3,FALSE),VLOOKUP(B11,COMPS,3,FALSE))) -> M2 | F11: =IFERROR(VLOOKUP($A11,Memo,12,FALSE),0) -> 132 | G11: 99.78 | H11: 132.96 | I11: =ROUND(H11*F11,2) -> 17550.72 | J11: 99.78 | K11: =ROUND(J11*1.3325,2) -> 132.96 | L11: =K11*F11 -> 17550.72
A12: =IF(LEN(A11)=5,(IF((RIGHT(A11,2)-9)>=0,(LEFT(A11,3)&(RIGHT(A11,2)+1)),(LEFT(A11,4)&(RIGHT(A11,1)+1)))),IF(LEN(A11)=8,(IF((RIGHT(A11,2)-9)>=0,(LEFT(A11,6)&(RIGHT(A11,2)+1)),(LEFT(A11,7)&(RIGHT(A11,1)+1)))))) -> 01.05 | B12: 10775 | C12: SINAPI | D12: =UPPER(IF(C12="DER-EDIF",VLOOKUP(B12,REF_DER_ED,2,FALSE),IF(C12="SINAPI",VLOOKUP(B12,REF_SINAPI,2,FALSE),VLOOKUP(B12,COMPS,2,FALSE)))) -> LOCACAO DE CONTAINER 2,30 X 6,00 M, ALT. 2,50 M, COM 1 SANITARIO, PARA ESCRITORIO, COMPLETO, SEM DIVISORIAS INTERNAS (NAO INCLUI MOBILIZACAO/DESMOBILIZACAO) | E12: =IF(C12="DER-EDIF",VLOOKUP(B12,REF_DER_ED,3,FALSE),IF(C12="SINAPI",VLOOKUP(B12,REF_SINAPI,3,FALSE),VLOOKUP(B12,COMPS,3,FALSE))) -> MES | F12: =IFERROR(VLOOKUP($A12,Memo,12,FALSE),0) -> 6 | G12: 976.56 | H12: 1301.27 | I12: =ROUND(H12*F12,2) -> 7807.62 | J12: 976.56 | K12: =ROUND(J12*1.3325,2) -> 1301.27 | L12: =K12*F12 -> 7807.62
A13: =IF(LEN(A12)=5,(IF((RIGHT(A12,2)-9)>=0,(LEFT(A12,3)&(RIGHT(A12,2)+1)),(LEFT(A12,4)&(RIGHT(A12,1)+1)))),IF(LEN(A12)=8,(IF((RIGHT(A12,2)-9)>=0,(LEFT(A12,6)&(RIGHT(A12,2)+1)),(LEFT(A12,7)&(RIGHT(A12,1)+1)))))) -> 01.06 | B13: 10779 | C13: SINAPI | D13: =UPPER(IF(C13="DER-EDIF",VLOOKUP(B13,REF_DER_ED,2,FALSE),IF(C13="SINAPI",VLOOKUP(B13,REF_SINAPI,2,FALSE),VLOOKUP(B13,COMPS,2,FALSE)))) -> LOCACAO DE CONTAINER 2,30 X 4,30 M, ALT. 2,50 M, P/ SANITARIO, C/ 5 BACIAS, 1 LAVATORIO E 4 MICTORIOS (NAO INCLUI MOBILIZACAO/DESMOBILIZACAO) | E13: =IF(C13="DER-EDIF",VLOOKUP(B13,REF_DER_ED,3,FALSE),IF(C13="SINAPI",VLOOKUP(B13,REF_SINAPI,3,FALSE),VLOOKUP(B13,COMPS,3,FALSE))) -> MES | F13: =IFERROR(VLOOKUP($A13,Memo,12,FALSE),0) -> 6 | G13: =IF(C13="DER-EDIF",VLOOKUP(B13,REF_DER_ED,4,FALSE),IF(C13="SINAPI",VLOOKUP(B13,REF_SINAPI,4,FALSE),VLOOKUP(B13,COMPS,4,FALSE))) -> 1562.5 | H13: =ROUND(IF(C13="DER-EDIF",VLOOKUP(B13,REF_DER_ED,4,FALSE),IF(C13="SINAPI",VLOOKUP(B13,REF_SINAPI,4,FALSE),VLOOKUP(B13,COMPS,4,FALSE)))*(1+$H$4),2) -> 2082.03 | I13: =ROUND(H13*F13,2) -> 12492.18 | J13: 1562.5 | K13: =ROUND(J13*1.3325,2) -> 2082.03 | L13: =K13*F13 -> 12492.18
A14: =IF(LEN(A13)=5,(IF((RIGHT(A13,2)-9)>=0,(LEFT(A13,3)&(RIGHT(A13,2)+1)),(LEFT(A13,4)&(RIGHT(A13,1)+1)))),IF(LEN(A13)=8,(IF((RIGHT(A13,2)-9)>=0,(LEFT(A13,6)&(RIGHT(A13,2)+1)),(LEFT(A13,7)&(RIGHT(A13,1)+1)))))) -> 01.07 | B14: 10776 | C14: SINAPI | D14: =UPPER(IF(C14="DER-EDIF",VLOOKUP(B14,REF_DER_ED,2,FALSE),IF(C14="SINAPI",VLOOKUP(B14,REF_SINAPI,2,FALSE),VLOOKUP(B14,COMPS,2,FALSE)))) -> LOCACAO DE CONTAINER 2,30 X 6,00 M, ALT. 2,50 M, PARA ESCRITORIO, SEM DIVISORIAS INTERNAS E SEM SANITARIO (NAO INCLUI MOBILIZACAO/DESMOBILIZACAO) | E14: =IF(C14="DER-EDIF",VLOOKUP(B14,REF_DER_ED,3,FALSE),IF(C14="SINAPI",VLOOKUP(B14,REF_SINAPI,3,FALSE),VLOOKUP(B14,COMPS,3,FALSE))) -> MES | F14: =IFERROR(VLOOKUP($A14,Memo,12,FALSE),0) -> 6 | G14: =IF(C14="DER-EDIF",VLOOKUP(B14,REF_DER_ED,4,FALSE),IF(C14="SINAPI",VLOOKUP(B14,REF_SINAPI,4,FALSE),VLOOKUP(B14,COMPS,4,FALSE))) -> 976.56 | H14: =ROUND(IF(C14="DER-EDIF",VLOOKUP(B14,REF_DER_ED,4,FALSE),IF(C14="SINAPI",VLOOKUP(B14,REF_SINAPI,4,FALSE),VLOOKUP(B14,COMPS,4,FALSE)))*(1+$H$4),2) -> 1301.27 | I14: =ROUND(H14*F14,2) -> 7807.62 | J14: 976.56 | K14: =ROUND(J14*1.3325,2) -> 1301.27 | L14: =K14*F14 -> 7807.62
A15: =IF(LEN(A14)=5,(IF((RIGHT(A14,2)-9)>=0,(LEFT(A14,3)&(RIGHT(A14,2)+1)),(LEFT(A14,4)&(RIGHT(A14,1)+1)))),IF(LEN(A14)=8,(IF((RIGHT(A14,2)-9)>=0,(LEFT(A14,6)&(RIGHT(A14,2)+1)),(LEFT(A14,7)&(RIGHT(A14,1)+1)))))) -> 01.08 | B15: S020344 | C15: DER-EDIF | D15: =UPPER(IF(C15="DER-EDIF",VLOOKUP(B15,REF_DER_ED,2,FALSE),IF(C15="SINAPI",VLOOKUP(B15,REF_SINAPI,2,FALSE),VLOOKUP(B15,COMPS,2,FALSE)))) -> MOBILIZAÇÃO E DESMOBILIZAÇÃO DE CONTEINER LOCADO PARA BARRACÃO DE OBRA | E15: =IF(C15="DER-EDIF",VLOOKUP(B15,REF_DER_ED,3,FALSE),IF(C15="SINAPI",VLOOKUP(B15,REF_SINAPI,3,FALSE),VLOOKUP(B15,COMPS,3,FALSE))) -> und | F15: =IFERROR(VLOOKUP($A15,Memo,12,FALSE),0) -> 3 | G15: 1419.27 | H15: 1891.18 | I15: =ROUND(H15*F15,2) -> 5673.54 | J15: 1419.27 | K15: =ROUND(J15*1.3325,2) -> 1891.18 | L15: =K15*F15 -> 5673.54
A16: 02 | D16: RETIRADAS, REMOÇÕES E DEMOLIÇÕES | I16: =SUBTOTAL(9,I17:I31) -> 20768.55 | L16: =SUM(L17:L31) -> 22149.511
A17: =A16&".01" -> 02.01 | B17: 97650 | C17: SINAPI | D17: =UPPER(IF(C17="DER-EDIF",VLOOKUP(B17,REF_DER_ED,2,FALSE),IF(C17="SINAPI",VLOOKUP(B17,REF_SINAPI,2,FALSE),VLOOKUP(B17,COMPS,2,FALSE)))) -> REMOÇÃO DE TRAMA DE MADEIRA PARA COBERTURA, DE FORMA MANUAL, SEM REAPROVEITAMENTO. AF_09/2023 | E17: =IF(C17="DER-EDIF",VLOOKUP(B17,REF_DER_ED,3,FALSE),IF(C17="SINAPI",VLOOKUP(B17,REF_SINAPI,3,FALSE),VLOOKUP(B17,COMPS,3,FALSE))) -> M2 | F17: =IFERROR(VLOOKUP($A17,Memo,12,FALSE),0) -> 192.14 | G17: 10.49 | H17: 13.98 | I17: =ROUND(H17*F17,2) -> 2686.12 | J17: 10.49 | K17: =ROUND(J17*1.3325,2) -> 13.98 | L17: =K17*F17 -> 2686.1172
A18: =IF(LEN(A17)=5,(IF((RIGHT(A17,2)-9)>=0,(LEFT(A17,3)&(RIGHT(A17,2)+1)),(LEFT(A17,4)&(RIGHT(A17,1)+1)))),IF(LEN(A17)=8,(IF((RIGHT(A17,2)-9)>=0,(LEFT(A17,6)&(RIGHT(A17,2)+1)),(LEFT(A17,7)&(RIGHT(A17,1)+1)))))) -> 02.02 | B18: 97647 | C18: SINAPI | D18: =UPPER(IF(C18="DER-EDIF",VLOOKUP(B18,REF_DER_ED,2,FALSE),IF(C18="SINAPI",VLOOKUP(B18,REF_SINAPI,2,FALSE),VLOOKUP(B18,COMPS,2,FALSE)))) -> REMOÇÃO DE TELHAS DE FIBROCIMENTO METÁLICA E CERÂMICA, DE FORMA MANUAL, SEM REAPROVEITAMENTO. AF_09/2023 | E18: =IF(C18="DER-EDIF",VLOOKUP(B18,REF_DER_ED,3,FALSE),IF(C18="SINAPI",VLOOKUP(B18,REF_SINAPI,3,FALSE),VLOOKUP(B18,COMPS,3,FALSE))) -> M2 | F18: =IFERROR(VLOOKUP($A18,Memo,12,FALSE),0) -> 192.14 | G18: 4.87 | H18: 6.49 | I18: =ROUND(H18*F18,2) -> 1246.99 | J18: 4.87 | K18: =ROUND(J18*1.3325,2) -> 6.49 | L18: =K18*F18 -> 1246.9886
A19: =IF(LEN(A18)=5,(IF((RIGHT(A18,2)-9)>=0,(LEFT(A18,3)&(RIGHT(A18,2)+1)),(LEFT(A18,4)&(RIGHT(A18,1)+1)))),IF(LEN(A18)=8,(IF((RIGHT(A18,2)-9)>=0,(LEFT(A18,6)&(RIGHT(A18,2)+1)),(LEFT(A18,7)&(RIGHT(A18,1)+1)))))) -> 02.03 | B19: 104803 | C19: SINAPI | D19: =UPPER(IF(C19="DER-EDIF",VLOOKUP(B19,REF_DER_ED,2,FALSE),IF(C19="SINAPI",VLOOKUP(B19,REF_SINAPI,2,FALSE),VLOOKUP(B19,COMPS,2,FALSE)))) -> REMOÇÃO CALHAS E RUFOS, DE FORMA MANUAL, SEM REAPROVEITAMENTO. AF_09/2023 | E19: =IF(C19="DER-EDIF",VLOOKUP(B19,REF_DER_ED,3,FALSE),IF(C19="SINAPI",VLOOKUP(B19,REF_SINAPI,3,FALSE),VLOOKUP(B19,COMPS,3,FALSE))) -> M | F19: =IFERROR(VLOOKUP($A19,Memo,12,FALSE),0) -> 26.1 | G19: 6.32 | H19: 8.42 | I19: =ROUND(H19*F19,2) -> 219.76 | J19: 6.32 | K19: =ROUND(J19*1.3325,2) -> 8.42 | L19: =K19*F19 -> 219.762
A20: =IF(LEN(A19)=5,(IF((RIGHT(A19,2)-9)>=0,(LEFT(A19,3)&(RIGHT(A19,2)+1)),(LEFT(A19,4)&(RIGHT(A19,1)+1)))),IF(LEN(A19)=8,(IF((RIGHT(A19,2)-9)>=0,(LEFT(A19,6)&(RIGHT(A19,2)+1)),(LEFT(A19,7)&(RIGHT(A19,1)+1)))))) -> 02.04 | B20: 97644 | C20: SINAPI | D20: =UPPER(IF(C20="DER-EDIF",VLOOKUP(B20,REF_DER_ED,2,FALSE),IF(C20="SINAPI",VLOOKUP(B20,REF_SINAPI,2,FALSE),VLOOKUP(B20,COMPS,2,FALSE)))) -> REMOÇÃO DE PORTAS, DE FORMA MANUAL, SEM REAPROVEITAMENTO. AF_09/2023 | E20: =IF(C20="DER-EDIF",VLOOKUP(B20,REF_DER_ED,3,FALSE),IF(C20="SINAPI",VLOOKUP(B20,REF_SINAPI,3,FALSE),VLOOKUP(B20,COMPS,3,FALSE))) -> M2 | F20: =IFERROR(VLOOKUP($A20,Memo,12,FALSE),0) -> 21.84 | G20: 12.84 | H20: 17.11 | I20: =ROUND(H20*F20,2) -> 373.68 | J20: 12.84 | K20: =ROUND(J20*1.3325,2) -> 17.11 | L20: =K20*F20 -> 373.6824
A21: =IF(LEN(A20)=5,(IF((RIGHT(A20,2)-9)>=0,(LEFT(A20,3)&(RIGHT(A20,2)+1)),(LEFT(A20,4)&(RIGHT(A20,1)+1)))),IF(LEN(A20)=8,(IF((RIGHT(A20,2)-9)>=0,(LEFT(A20,6)&(RIGHT(A20,2)+1)),(LEFT(A20,7)&(RIGHT(A20,1)+1)))))) -> 02.05 | B21: 104789 | C21: SINAPI | D21: =UPPER(IF(C21="DER-EDIF",VLOOKUP(B21,REF_DER_ED,2,FALSE),IF(C21="SINAPI",VLOOKUP(B21,REF_SINAPI,2,FALSE),VLOOKUP(B21,COMPS,2,FALSE)))) -> DEMOLIÇÃO DE PISO DE CONCRETO SIMPLES, DE FORMA MANUAL, SEM REAPROVEITAMENTO. AF_09/2023 | E21: =IF(C21="DER-EDIF",VLOOKUP(B21,REF_DER_ED,3,FALSE),IF(C21="SINAPI",VLOOKUP(B21,REF_SINAPI,3,FALSE),VLOOKUP(B21,COMPS,3,FALSE))) -> M3 | F21: =IFERROR(VLOOKUP($A21,Memo,12,FALSE),0) -> 30 | G21: 269.05 | H21: =ROUND(IF(C21="DER-EDIF",VLOOKUP(B21,REF_DER_ED,4,FALSE),IF(C21="SINAPI",VLOOKUP(B21,REF_SINAPI,4,FALSE),VLOOKUP(B21,COMPS,4,FALSE)))*(1+$H$4),2) -> 329.03 | I21: =ROUND(H21*F21,2) -> 9870.9 | J21: 269.05 | K21: =ROUND(J21*1.3325,2) -> 358.51 | L21: =K21*F21 -> 10755.3
A22: =IF(LEN(A21)=5,(IF((RIGHT(A21,2)-9)>=0,(LEFT(A21,3)&(RIGHT(A21,2)+1)),(LEFT(A21,4)&(RIGHT(A21,1)+1)))),IF(LEN(A21)=8,(IF((RIGHT(A21,2)-9)>=0,(LEFT(A21,6)&(RIGHT(A21,2)+1)),(LEFT(A21,7)&(RIGHT(A21,1)+1)))))) -> 02.06 | B22: 97633 | C22: SINAPI | D22: =UPPER(IF(C22="DER-EDIF",VLOOKUP(B22,REF_DER_ED,2,FALSE),IF(C22="SINAPI",VLOOKUP(B22,REF_SINAPI,2,FALSE),VLOOKUP(B22,COMPS,2,FALSE)))) -> DEMOLIÇÃO DE REVESTIMENTO CERÂMICO, DE FORMA MANUAL, SEM REAPROVEITAMENTO. AF_09/2023 | E22: =IF(C22="DER-EDIF",VLOOKUP(B22,REF_DER_ED,3,FALSE),IF(C22="SINAPI",VLOOKUP(B22,REF_SINAPI,3,FALSE),VLOOKUP(B22,COMPS,3,FALSE))) -> M2 | F22: =IFERROR(VLOOKUP($A22,Memo,12,FALSE),0) -> 98.24 | G22: =IF(C22="DER-EDIF",VLOOKUP(B22,REF_DER_ED,4,FALSE),IF(C22="SINAPI",VLOOKUP(B22,REF_SINAPI,4,FALSE),VLOOKUP(B22,COMPS,4,FALSE))) -> 28.1 | H22: =ROUND(IF(C22="DER-EDIF",VLOOKUP(B22,REF_DER_ED,4,FALSE),IF(C22="SINAPI",VLOOKUP(B22,REF_SINAPI,4,FALSE),VLOOKUP(B22,COMPS,4,FALSE)))*(1+$H$4),2) -> 37.44 | I22: =ROUND(H22*F22,2) -> 3678.11 | J22: 30.73 | K22: =ROUND(J22*1.3325,2) -> 40.95 | L22: =K22*F22 -> 4022.928
A23: =IF(LEN(A22)=5,(IF((RIGHT(A22,2)-9)>=0,(LEFT(A22,3)&(RIGHT(A22,2)+1)),(LEFT(A22,4)&(RIGHT(A22,1)+1)))),IF(LEN(A22)=8,(IF((RIGHT(A22,2)-9)>=0,(LEFT(A22,6)&(RIGHT(A22,2)+1)),(LEFT(A22,7)&(RIGHT(A22,1)+1)))))) -> 02.07 | B23: 97622 | C23: SINAPI | D23: =UPPER(IF(C23="DER-EDIF",VLOOKUP(B23,REF_DER_ED,2,FALSE),IF(C23="SINAPI",VLOOKUP(B23,REF_SINAPI,2,FALSE),VLOOKUP(B23,COMPS,2,FALSE)))) -> DEMOLIÇÃO DE ALVENARIA DE BLOCO FURADO, DE FORMA MANUAL, SEM REAPROVEITAMENTO. AF_09/2023 | E23: =IF(C23="DER-EDIF",VLOOKUP(B23,REF_DER_ED,3,FALSE),IF(C23="SINAPI",VLOOKUP(B23,REF_SINAPI,3,FALSE),VLOOKUP(B23,COMPS,3,FALSE))) -> M3 | F23: =IFERROR(VLOOKUP($A23,Memo,12,FALSE),0) -> 16.1 | G23: =IF(C23="DER-EDIF",VLOOKUP(B23,REF_DER_ED,4,FALSE),IF(C23="SINAPI",VLOOKUP(B23,REF_SINAPI,4,FALSE),VLOOKUP(B23,COMPS,4,FALSE))) -> 70.16 | H23: =ROUND(IF(C23="DER-EDIF",VLOOKUP(B23,REF_DER_ED,4,FALSE),IF(C23="SINAPI",VLOOKUP(B23,REF_SINAPI,4,FALSE),VLOOKUP(B23,COMPS,4,FALSE)))*(1+$H$4),2) -> 93.49 | I23: =ROUND(H23*F23,2) -> 1505.19 | J23: 76.45 | K23: =ROUND(J23*1.3325,2) -> 101.87 | L23: =K23*F23 -> 1640.107
A24: =IF(LEN(A23)=5,(IF((RIGHT(A23,2)-9)>=0,(LEFT(A23,3)&(RIGHT(A23,2)+1)),(LEFT(A23,4)&(RIGHT(A23,1)+1)))),IF(LEN(A23)=8,(IF((RIGHT(A23,2)-9)>=0,(LEFT(A23,6)&(RIGHT(A23,2)+1)),(LEFT(A23,7)&(RIGHT(A23,1)+1)))))) -> 02.08 | B24: 104791 | C24: SINAPI | D24: =UPPER(IF(C24="DER-EDIF",VLOOKUP(B24,REF_DER_ED,2,FALSE),IF(C24="SINAPI",VLOOKUP(B24,REF_SINAPI,2,FALSE),VLOOKUP(B24,COMPS,2,FALSE)))) -> DEMOLIÇÃO DE ARGAMASSAS, DE FORMA DE FORMA MECANIZADA COM MARTELETE, SEM REAPROVEITAMENTO. AF_09/2023 | E24: =IF(C24="DER-EDIF",VLOOKUP(B24,REF_DER_ED,3,FALSE),IF(C24="SINAPI",VLOOKUP(B24,REF_SINAPI,3,FALSE),VLOOKUP(B24,COMPS,3,FALSE))) -> M2 | F24: =IFERROR(VLOOKUP($A24,Memo,12,FALSE),0) -> 50 | G24: 8.11 | H24: 10.81 | I24: =ROUND(H24*F24,2) -> 540.5 | J24: 8.11 | K24: =ROUND(J24*1.3325,2) -> 10.81 | L24: =K24*F24 -> 540.5
A25: =IF(LEN(A24)=5,(IF((RIGHT(A24,2)-9)>=0,(LEFT(A24,3)&(RIGHT(A24,2)+1)),(LEFT(A24,4)&(RIGHT(A24,1)+1)))),IF(LEN(A24)=8,(IF((RIGHT(A24,2)-9)>=0,(LEFT(A24,6)&(RIGHT(A24,2)+1)),(LEFT(A24,7)&(RIGHT(A24,1)+1)))))) -> 02.09 | B25: 104792 | C25: SINAPI | D25: =UPPER(IF(C25="DER-EDIF",VLOOKUP(B25,REF_DER_ED,2,FALSE),IF(C25="SINAPI",VLOOKUP(B25,REF_SINAPI,2,FALSE),VLOOKUP(B25,COMPS,2,FALSE)))) -> REMOÇÃO DE CABOS ELÉTRICOS, COM SEÇÃO DE ATÉ 2,5 MM², DE FORMA MANUAL, SEM REAPROVEITAMENTO. AF_09/2023 | E25: =IF(C25="DER-EDIF",VLOOKUP(B25,REF_DER_ED,3,FALSE),IF(C25="SINAPI",VLOOKUP(B25,REF_SINAPI,3,FALSE),VLOOKUP(B25,COMPS,3,FALSE))) -> M | F25: =IFERROR(VLOOKUP($A25,Memo,12,FALSE),0) -> 150 | G25: 0.56 | H25: 0.75 | I25: =ROUND(H25*F25,2) -> 112.5 | J25: 0.56 | K25: =ROUND(J25*1.3325,2) -> 0.75 | L25: =K25*F25 -> 112.5
A26: =IF(LEN(A25)=5,(IF((RIGHT(A25,2)-9)>=0,(LEFT(A25,3)&(RIGHT(A25,2)+1)),(LEFT(A25,4)&(RIGHT(A25,1)+1)))),IF(LEN(A25)=8,(IF((RIGHT(A25,2)-9)>=0,(LEFT(A25,6)&(RIGHT(A25,2)+1)),(LEFT(A25,7)&(RIGHT(A25,1)+1)))))) -> 02.10 | B26: 104793 | C26: SINAPI | D26: =UPPER(IF(C26="DER-EDIF",VLOOKUP(B26,REF_DER_ED,2,FALSE),IF(C26="SINAPI",VLOOKUP(B26,REF_SINAPI,2,FALSE),VLOOKUP(B26,COMPS,2,FALSE)))) -> REMOÇÃO DE CABOS ELÉTRICOS, COM SEÇÃO MAIOR QUE 2,5 MM² E MENOR QUE 10 MM², DE FORMA MANUAL, SEM REAPROVEITAMENTO. AF_09/2023 | E26: =IF(C26="DER-EDIF",VLOOKUP(B26,REF_DER_ED,3,FALSE),IF(C26="SINAPI",VLOOKUP(B26,REF_SINAPI,3,FALSE),VLOOKUP(B26,COMPS,3,FALSE))) -> M | F26: =IFERROR(VLOOKUP($A26,Memo,12,FALSE),0) -> 150 | G26: 0.77 | H26: 1.03 | I26: =ROUND(H26*F26,2) -> 154.5 | J26: 0.77 | K26: =ROUND(J26*1.3325,2) -> 1.03 | L26: =K26*F26 -> 154.5
A27: =IF(LEN(A26)=5,(IF((RIGHT(A26,2)-9)>=0,(LEFT(A26,3)&(RIGHT(A26,2)+1)),(LEFT(A26,4)&(RIGHT(A26,1)+1)))),IF(LEN(A26)=8,(IF((RIGHT(A26,2)-9)>=0,(LEFT(A26,6)&(RIGHT(A26,2)+1)),(LEFT(A26,7)&(RIGHT(A26,1)+1)))))) -> 02.11 | B27: 104801 | C27: SINAPI | D27: =UPPER(IF(C27="DER-EDIF",VLOOKUP(B27,REF_DER_ED,2,FALSE),IF(C27="SINAPI",VLOOKUP(B27,REF_SINAPI,2,FALSE),VLOOKUP(B27,COMPS,2,FALSE)))) -> REMOÇÃO DE ALAMBRADOS PARA QUADRAS POLIESPORTIVAS, ESTRUTURADO POR TUBOS DE AÇO GALVANIZADO, COM TELA DE ARAME GALVANIZADO, DE FORMA MANUAL, SEM REAPROVEITAMENTO. AF_09/2023 | E27: =IF(C27="DER-EDIF",VLOOKUP(B27,REF_DER_ED,3,FALSE),IF(C27="SINAPI",VLOOKUP(B27,REF_SINAPI,3,FALSE),VLOOKUP(B27,COMPS,3,FALSE))) -> M2 | F27: =IFERROR(VLOOKUP($A27,Memo,12,FALSE),0) -> 8.48 | G27: =IF(C27="DER-EDIF",VLOOKUP(B27,REF_DER_ED,4,FALSE),IF(C27="SINAPI",VLOOKUP(B27,REF_SINAPI,4,FALSE),VLOOKUP(B27,COMPS,4,FALSE))) -> 18.33 | H27: =ROUND(IF(C27="DER-EDIF",VLOOKUP(B27,REF_DER_ED,4,FALSE),IF(C27="SINAPI",VLOOKUP(B27,REF_SINAPI,4,FALSE),VLOOKUP(B27,COMPS,4,FALSE)))*(1+$H$4),2) -> 24.42 | I27: =ROUND(H27*F27,2) -> 207.08 | J27: 20.24 | K27: =ROUND(J27*1.3325,2) -> 26.97 | L27: =K27*F27 -> 228.7056
A28: =IF(LEN(A27)=5,(IF((RIGHT(A27,2)-9)>=0,(LEFT(A27,3)&(RIGHT(A27,2)+1)),(LEFT(A27,4)&(RIGHT(A27,1)+1)))),IF(LEN(A27)=8,(IF((RIGHT(A27,2)-9)>=0,(LEFT(A27,6)&(RIGHT(A27,2)+1)),(LEFT(A27,7)&(RIGHT(A27,1)+1)))))) -> 02.12 | B28: 97663 | C28: SINAPI | D28: =UPPER(IF(C28="DER-EDIF",VLOOKUP(B28,REF_DER_ED,2,FALSE),IF(C28="SINAPI",VLOOKUP(B28,REF_SINAPI,2,FALSE),VLOOKUP(B28,COMPS,2,FALSE)))) -> REMOÇÃO DE LOUÇAS, DE FORMA MANUAL, SEM REAPROVEITAMENTO. AF_09/2023 | E28: =IF(C28="DER-EDIF",VLOOKUP(B28,REF_DER_ED,3,FALSE),IF(C28="SINAPI",VLOOKUP(B28,REF_SINAPI,3,FALSE),VLOOKUP(B28,COMPS,3,FALSE))) -> UN | F28: =IFERROR(VLOOKUP($A28,Memo,12,FALSE),0) -> 2 | G28: 14.03 | H28: 18.69 | I28: =ROUND(H28*F28,2) -> 37.38 | J28: 14.03 | K28: =ROUND(J28*1.3325,2) -> 18.69 | L28: =K28*F28 -> 37.38
A29: =IF(LEN(A28)=5,(IF((RIGHT(A28,2)-9)>=0,(LEFT(A28,3)&(RIGHT(A28,2)+1)),(LEFT(A28,4)&(RIGHT(A28,1)+1)))),IF(LEN(A28)=8,(IF((RIGHT(A28,2)-9)>=0,(LEFT(A28,6)&(RIGHT(A28,2)+1)),(LEFT(A28,7)&(RIGHT(A28,1)+1)))))) -> 02.13 | B29: 97664 | C29: SINAPI | D29: =UPPER(IF(C29="DER-EDIF",VLOOKUP(B29,REF_DER_ED,2,FALSE),IF(C29="SINAPI",VLOOKUP(B29,REF_SINAPI,2,FALSE),VLOOKUP(B29,COMPS,2,FALSE)))) -> REMOÇÃO DE ACESSÓRIOS, DE FORMA MANUAL, SEM REAPROVEITAMENTO. AF_09/2023 | E29: =IF(C29="DER-EDIF",VLOOKUP(B29,REF_DER_ED,3,FALSE),IF(C29="SINAPI",VLOOKUP(B29,REF_SINAPI,3,FALSE),VLOOKUP(B29,COMPS,3,FALSE))) -> UN | F29: =IFERROR(VLOOKUP($A29,Memo,12,FALSE),0) -> 20 | G29: =IF(C29="DER-EDIF",VLOOKUP(B29,REF_DER_ED,4,FALSE),IF(C29="SINAPI",VLOOKUP(B29,REF_SINAPI,4,FALSE),VLOOKUP(B29,COMPS,4,FALSE))) -> 1.93 | H29: =ROUND(IF(C29="DER-EDIF",VLOOKUP(B29,REF_DER_ED,4,FALSE),IF(C29="SINAPI",VLOOKUP(B29,REF_SINAPI,4,FALSE),VLOOKUP(B29,COMPS,4,FALSE)))*(1+$H$4),2) -> 2.57 | I29: =ROUND(H29*F29,2) -> 51.4 | J29: 1.75 | K29: =ROUND(J29*1.3325,2) -> 2.33 | L29: =K29*F29 -> 46.6
A30: =IF(LEN(A29)=5,(IF((RIGHT(A29,2)-9)>=0,(LEFT(A29,3)&(RIGHT(A29,2)+1)),(LEFT(A29,4)&(RIGHT(A29,1)+1)))),IF(LEN(A29)=8,(IF((RIGHT(A29,2)-9)>=0,(LEFT(A29,6)&(RIGHT(A29,2)+1)),(LEFT(A29,7)&(RIGHT(A29,1)+1)))))) -> 02.14 | B30: 97665 | C30: SINAPI | D30: =UPPER(IF(C30="DER-EDIF",VLOOKUP(B30,REF_DER_ED,2,FALSE),IF(C30="SINAPI",VLOOKUP(B30,REF_SINAPI,2,FALSE),VLOOKUP(B30,COMPS,2,FALSE)))) -> REMOÇÃO DE LUMINÁRIAS, DE FORMA MANUAL, SEM REAPROVEITAMENTO. AF_09/2023 | E30: =IF(C30="DER-EDIF",VLOOKUP(B30,REF_DER_ED,3,FALSE),IF(C30="SINAPI",VLOOKUP(B30,REF_SINAPI,3,FALSE),VLOOKUP(B30,COMPS,3,FALSE))) -> UN | F30: =IFERROR(VLOOKUP($A30,Memo,12,FALSE),0) -> 20 | G30: 2.15 | H30: 2.86 | I30: =ROUND(H30*F30,2) -> 57.2 | J30: 2.15 | K30: =ROUND(J30*1.3325,2) -> 2.86 | L30: =K30*F30 -> 57.2
A31: =IF(LEN(A30)=5,(IF((RIGHT(A30,2)-9)>=0,(LEFT(A30,3)&(RIGHT(A30,2)+1)),(LEFT(A30,4)&(RIGHT(A30,1)+1)))),IF(LEN(A30)=8,(IF((RIGHT(A30,2)-9)>=0,(LEFT(A30,6)&(RIGHT(A30,2)+1)),(LEFT(A30,7)&(RIGHT(A30,1)+1)))))) -> 02.15 | B31: 97666 | C31: SINAPI | D31: =UPPER(IF(C31="DER-EDIF",VLOOKUP(B31,REF_DER_ED,2,FALSE),IF(C31="SINAPI",VLOOKUP(B31,REF_SINAPI,2,FALSE),VLOOKUP(B31,COMPS,2,FALSE)))) -> REMOÇÃO DE METAIS SANITÁRIOS, DE FORMA MANUAL, SEM REAPROVEITAMENTO. AF_09/2023 | E31: =IF(C31="DER-EDIF",VLOOKUP(B31,REF_DER_ED,3,FALSE),IF(C31="SINAPI",VLOOKUP(B31,REF_SINAPI,3,FALSE),VLOOKUP(B31,COMPS,3,FALSE))) -> UN | F31: =IFERROR(VLOOKUP($A31,Memo,12,FALSE),0) -> 2 | G31: 10.22 | H31: 13.62 | I31: =ROUND(H31*F31,2) -> 27.24 | J31: 10.22 | K31: =ROUND(J31*1.3325,2) -> 13.62 | L31: =K31*F31 -> 27.24
A32: 03 | D32: INFRAESTRUTURA | I32: =SUBTOTAL(9,I33:I46) -> 67251.66
A33: 03.01 | D33: ESTRUTURA DE CONCRETO ARMADO | I33: =SUBTOTAL(9,I34:I46) -> 67251.66 | L33: =SUM(L34:L46) -> 67384.611
A34: =A33&".01" -> 03.01.01 | B34: 96527 | C34: SINAPI | D34: =UPPER(IF(C34="DER-EDIF",VLOOKUP(B34,REF_DER_ED,2,FALSE),IF(C34="SINAPI",VLOOKUP(B34,REF_SINAPI,2,FALSE),VLOOKUP(B34,COMPS,2,FALSE)))) -> ESCAVAÇÃO MANUAL PARA VIGA BALDRAME OU SAPATA CORRIDA (INCLUINDO ESCAVAÇÃO PARA COLOCAÇÃO DE FÔRMAS). AF_01/2024 | E34: =IF(C34="DER-EDIF",VLOOKUP(B34,REF_DER_ED,3,FALSE),IF(C34="SINAPI",VLOOKUP(B34,REF_SINAPI,3,FALSE),VLOOKUP(B34,COMPS,3,FALSE))) -> M3 | F34: =IFERROR(VLOOKUP($A34,Memo,12,FALSE),0) -> 23.65 | G34: 115.17 | H34: 153.46 | I34: =ROUND(H34*F34,2) -> 3629.33 | J34: 115.17 | K34: =ROUND(J34*1.3325,2) -> 153.46 | L34: =K34*F34 -> 3629.329
A35: =IF(LEN(A34)=5,(IF((RIGHT(A34,2)-9)>=0,(LEFT(A34,3)&(RIGHT(A34,2)+1)),(LEFT(A34,4)&(RIGHT(A34,1)+1)))),IF(LEN(A34)=8,(IF((RIGHT(A34,2)-9)>=0,(LEFT(A34,6)&(RIGHT(A34,2)+1)),(LEFT(A34,7)&(RIGHT(A34,1)+1)))))) -> 03.01.02 | B35: 96616 | C35: SINAPI | D35: =UPPER(IF(C35="DER-EDIF",VLOOKUP(B35,REF_DER_ED,2,FALSE),IF(C35="SINAPI",VLOOKUP(B35,REF_SINAPI,2,FALSE),VLOOKUP(B35,COMPS,2,FALSE)))) -> LASTRO DE CONCRETO MAGRO, APLICADO EM BLOCOS DE COROAMENTO OU SAPATAS. AF_01/2024 | E35: =IF(C35="DER-EDIF",VLOOKUP(B35,REF_DER_ED,3,FALSE),IF(C35="SINAPI",VLOOKUP(B35,REF_SINAPI,3,FALSE),VLOOKUP(B35,COMPS,3,FALSE))) -> M3 | F35: =IFERROR(VLOOKUP($A35,Memo,12,FALSE),0) -> 1.32 | G35: 804.32 | H35: 1071.76 | I35: =ROUND(H35*F35,2) -> 1414.72 | J35: 804.32 | K35: =ROUND(J35*1.3325,2) -> 1071.76 | L35: =K35*F35 -> 1414.7232
A36: =IF(LEN(A35)=5,(IF((RIGHT(A35,2)-9)>=0,(LEFT(A35,3)&(RIGHT(A35,2)+1)),(LEFT(A35,4)&(RIGHT(A35,1)+1)))),IF(LEN(A35)=8,(IF((RIGHT(A35,2)-9)>=0,(LEFT(A35,6)&(RIGHT(A35,2)+1)),(LEFT(A35,7)&(RIGHT(A35,1)+1)))))) -> 03.01.03 | B36: 94966 | C36: SINAPI | D36: =UPPER(IF(C36="DER-EDIF",VLOOKUP(B36,REF_DER_ED,2,FALSE),IF(C36="SINAPI",VLOOKUP(B36,REF_SINAPI,2,FALSE),VLOOKUP(B36,COMPS,2,FALSE)))) -> CONCRETO FCK = 30MPA, TRAÇO 1:2,1:2,5 (EM MASSA SECA DE CIMENTO/ AREIA MÉDIA/ BRITA 1) - PREPARO MECÂNICO COM BETONEIRA 400 L. AF_05/2021 | E36: =IF(C36="DER-EDIF",VLOOKUP(B36,REF_DER_ED,3,FALSE),IF(C36="SINAPI",VLOOKUP(B36,REF_SINAPI,3,FALSE),VLOOKUP(B36,COMPS,3,FALSE))) -> M3 | F36: =IFERROR(VLOOKUP($A36,Memo,12,FALSE),0) -> 9.72 | G36: 498.63 | H36: 664.42 | I36: =ROUND(H36*F36,2) -> 6458.16 | J36: 498.63 | K36: =ROUND(J36*1.3325,2) -> 664.42 | L36: =K36*F36 -> 6458.1624
A37: =IF(LEN(A36)=5,(IF((RIGHT(A36,2)-9)>=0,(LEFT(A36,3)&(RIGHT(A36,2)+1)),(LEFT(A36,4)&(RIGHT(A36,1)+1)))),IF(LEN(A36)=8,(IF((RIGHT(A36,2)-9)>=0,(LEFT(A36,6)&(RIGHT(A36,2)+1)),(LEFT(A36,7)&(RIGHT(A36,1)+1)))))) -> 03.01.04 | B37: 104737 | C37: SINAPI | D37: =UPPER(IF(C37="DER-EDIF",VLOOKUP(B37,REF_DER_ED,2,FALSE),IF(C37="SINAPI",VLOOKUP(B37,REF_SINAPI,2,FALSE),VLOOKUP(B37,COMPS,2,FALSE)))) -> REATERRO MANUAL DE VALAS, COM PLACA VIBRATÓRIA. AF_08/2023 | E37: =IF(C37="DER-EDIF",VLOOKUP(B37,REF_DER_ED,3,FALSE),IF(C37="SINAPI",VLOOKUP(B37,REF_SINAPI,3,FALSE),VLOOKUP(B37,COMPS,3,FALSE))) -> M3 | F37: =IFERROR(VLOOKUP($A37,Memo,12,FALSE),0) -> 12.61 | G37: 23.73 | H37: 31.62 | I37: =ROUND(H37*F37,2) -> 398.73 | J37: 23.73 | K37: =ROUND(J37*1.3325,2) -> 31.62 | L37: =K37*F37 -> 398.7282
A38: =IF(LEN(A37)=5,(IF((RIGHT(A37,2)-9)>=0,(LEFT(A37,3)&(RIGHT(A37,2)+1)),(LEFT(A37,4)&(RIGHT(A37,1)+1)))),IF(LEN(A37)=8,(IF((RIGHT(A37,2)-9)>=0,(LEFT(A37,6)&(RIGHT(A37,2)+1)),(LEFT(A37,7)&(RIGHT(A37,1)+1)))))) -> 03.01.05 | B38: 96532 | C38: SINAPI | D38: =UPPER(IF(C38="DER-EDIF",VLOOKUP(B38,REF_DER_ED,2,FALSE),IF(C38="SINAPI",VLOOKUP(B38,REF_SINAPI,2,FALSE),VLOOKUP(B38,COMPS,2,FALSE)))) -> FABRICAÇÃO, MONTAGEM E DESMONTAGEM DE FÔRMA PARA SAPATA, EM MADEIRA SERRADA, E=25 MM, 2 UTILIZAÇÕES. AF_01/2024 | E38: =IF(C38="DER-EDIF",VLOOKUP(B38,REF_DER_ED,3,FALSE),IF(C38="SINAPI",VLOOKUP(B38,REF_SINAPI,3,FALSE),VLOOKUP(B38,COMPS,3,FALSE))) -> M2 | F38: =IFERROR(VLOOKUP($A38,Memo,12,FALSE),0) -> 31.08 | G38: 195.53 | H38: 260.54 | I38: =ROUND(H38*F38,2) -> 8097.58 | J38: 195.53 | K38: =ROUND(J38*1.3325,2) -> 260.54 | L38: =K38*F38 -> 8097.5832
A39: =IF(LEN(A38)=5,(IF((RIGHT(A38,2)-9)>=0,(LEFT(A38,3)&(RIGHT(A38,2)+1)),(LEFT(A38,4)&(RIGHT(A38,1)+1)))),IF(LEN(A38)=8,(IF((RIGHT(A38,2)-9)>=0,(LEFT(A38,6)&(RIGHT(A38,2)+1)),(LEFT(A38,7)&(RIGHT(A38,1)+1)))))) -> 03.01.06 | B39: 96533 | C39: SINAPI | D39: =UPPER(IF(C39="DER-EDIF",VLOOKUP(B39,REF_DER_ED,2,FALSE),IF(C39="SINAPI",VLOOKUP(B39,REF_SINAPI,2,FALSE),VLOOKUP(B39,COMPS,2,FALSE)))) -> FABRICAÇÃO, MONTAGEM E DESMONTAGEM DE FÔRMA PARA VIGA BALDRAME, EM MADEIRA SERRADA, E=25 MM, 2 UTILIZAÇÕES. AF_01/2024 | E39: =IF(C39="DER-EDIF",VLOOKUP(B39,REF_DER_ED,3,FALSE),IF(C39="SINAPI",VLOOKUP(B39,REF_SINAPI,3,FALSE),VLOOKUP(B39,COMPS,3,FALSE))) -> M2 | F39: =IFERROR(VLOOKUP($A39,Memo,12,FALSE),0) -> 57.74 | G39: 100.3 | H39: 133.65 | I39: =ROUND(H39*F39,2) -> 7716.95 | J39: 100.3 | K39: =ROUND(J39*1.3325,2) -> 133.65 | L39: =K39*F39 -> 7716.951
A40: =IF(LEN(A39)=5,(IF((RIGHT(A39,2)-9)>=0,(LEFT(A39,3)&(RIGHT(A39,2)+1)),(LEFT(A39,4)&(RIGHT(A39,1)+1)))),IF(LEN(A39)=8,(IF((RIGHT(A39,2)-9)>=0,(LEFT(A39,6)&(RIGHT(A39,2)+1)),(LEFT(A39,7)&(RIGHT(A39,1)+1)))))) -> 03.01.07 | B40: 92800 | C40: SINAPI | D40: =UPPER(IF(C40="DER-EDIF",VLOOKUP(B40,REF_DER_ED,2,FALSE),IF(C40="SINAPI",VLOOKUP(B40,REF_SINAPI,2,FALSE),VLOOKUP(B40,COMPS,2,FALSE)))) -> CORTE E DOBRA DE AÇO CA-60, DIÂMETRO DE 5,0 MM. AF_06/2022 | E40: =IF(C40="DER-EDIF",VLOOKUP(B40,REF_DER_ED,3,FALSE),IF(C40="SINAPI",VLOOKUP(B40,REF_SINAPI,3,FALSE),VLOOKUP(B40,COMPS,3,FALSE))) -> KG | F40: =IFERROR(VLOOKUP($A40,Memo,12,FALSE),0) -> 95.98 | G40: 12.04 | H40: 16.04 | I40: =ROUND(H40*F40,2) -> 1539.52 | J40: 12.04 | K40: =ROUND(J40*1.3325,2) -> 16.04 | L40: =K40*F40 -> 1539.5192
A41: =IF(LEN(A40)=5,(IF((RIGHT(A40,2)-9)>=0,(LEFT(A40,3)&(RIGHT(A40,2)+1)),(LEFT(A40,4)&(RIGHT(A40,1)+1)))),IF(LEN(A40)=8,(IF((RIGHT(A40,2)-9)>=0,(LEFT(A40,6)&(RIGHT(A40,2)+1)),(LEFT(A40,7)&(RIGHT(A40,1)+1)))))) -> 03.01.08 | B41: 92802 | C41: SINAPI | D41: =UPPER(IF(C41="DER-EDIF",VLOOKUP(B41,REF_DER_ED,2,FALSE),IF(C41="SINAPI",VLOOKUP(B41,REF_SINAPI,2,FALSE),VLOOKUP(B41,COMPS,2,FALSE)))) -> CORTE E DOBRA DE AÇO CA-50, DIÂMETRO DE 8,0 MM. AF_06/2022 | E41: =IF(C41="DER-EDIF",VLOOKUP(B41,REF_DER_ED,3,FALSE),IF(C41="SINAPI",VLOOKUP(B41,REF_SINAPI,3,FALSE),VLOOKUP(B41,COMPS,3,FALSE))) -> KG | F41: =IFERROR(VLOOKUP($A41,Memo,12,FALSE),0) -> 177.26 | G41: 12.19 | H41: 16.24 | I41: =ROUND(H41*F41,2) -> 2878.7 | J41: 12.19 | K41: =ROUND(J41*1.3325,2) -> 16.24 | L41: =K41*F41 -> 2878.7024
...

Sheet MC
A1: MEMÓRIA DE CÁLCULO
A2: =EAP!A2 -> OBRA: | B2: =EAP!B2 -> REFORMA DA EMPEF HONÓRIO PEDRO DE SIQUEIRA
A3: =EAP!A3 -> LOCAL: | B3: =EAP!B3 -> GUAÇUÍ - ES
A4: =EAP!A4 -> CONTRATANTE: | B4: =EAP!B4 -> PREFEITURA MUNICIPAL DE GUAÇUÍ
A7: CÓDIGO | B7: DESCRIÇÃO SERVIÇO | C7: POSIÇÃO | D7: QUANT. | E7: PERÍMETRO EXTENSÃO (m) | F7: PROF. LARGURA (m) | G7: ALTURA. (m) | H7: ÁREA (m²) | I7: VOLUME (m³) | J7: MASSA (kg) | K7: TOTAL | L7: UNIDADE
A8: =PO!A7 -> 01 | B8: =VLOOKUP(A8,PO!$A:$I,4,FALSE) -> CANTEIRO DE OBRAS
A9: =PO!A8 -> 01.01 | B9: =VLOOKUP(A9,PO!$A:$I,4,FALSE) -> FORNECIMENTO E INSTALAÇÃO DE PLACA DE OBRA COM CHAPA GALVANIZADA E ESTRUTURA DE MADEIRA. AF_03/2022_PS | L9: =K13 -> 8
E11: 4 | G11: 2 | H11: =G11*E11 -> 8 | K11: =H11 -> 8
B13: QUANTIDADE | K13: =ROUND(SUM(K9:K12),2) -> 8 | L13: =IFERROR(VLOOKUP(A9,PO!$A:$I,5,FALSE),0) -> M2
A15: =PO!A9 -> 01.02 | B15: =VLOOKUP(A15,PO!$A:$I,4,FALSE) -> MONTAGEM E DESMONTAGEM DE ANDAIME MODULAR FACHADEIRO, COM PISO METÁLICO, PARA EDIFÍCIOS COM MULTIPLOS PAVIMENTOS (EXCLUSIVE ANDAIME E LIMPEZA). AF_03/2024 | L15: =K19 -> 111.29
B17: PROJEÇÃO FACHADA AMPLIAÇÃO | E17: 41.22 | G17: 2.7 | H17: =E17*G17 -> 111.294 | K17: =H17 -> 111.294
B19: QUANTIDADE | K19: =ROUND(SUM(K15:K18),2) -> 111.29 | L19: =IFERROR(VLOOKUP(A15,PO!$A:$I,5,FALSE),0) -> M2
A21: =PO!A10 -> 01.03 | B21: =VLOOKUP(A21,PO!$A:$I,4,FALSE) -> COLOCAÇÃO DE TELA EM ANDAIME FACHADEIRO. AF_03/2024 | L21: =K25 -> 111.29
B23: PROJEÇÃO FACHADA AMPLIAÇÃO | E23: 41.22 | G23: 2.7 | H23: =E23*G23 -> 111.294 | K23: =H23 -> 111.294
B25: QUANTIDADE | K25: =ROUND(SUM(K21:K24),2) -> 111.29 | L25: =IFERROR(VLOOKUP(A21,PO!$A:$I,5,FALSE),0) -> M2
A27: =PO!A11 -> 01.04 | B27: =VLOOKUP(A27,PO!$A:$I,4,FALSE) -> TAPUME COM TELHA METÁLICA. AF_03/2024 | L27: =K31 -> 132
E29: 60 | F29: 2.2 | H29: =F29*E29 -> 132 | K29: =H29 -> 132
B31: QUANTIDADE | K31: =ROUND(SUM(K27:K30),2) -> 132 | L31: =IFERROR(VLOOKUP(A27,PO!$A:$I,5,FALSE),0) -> M2
A33: =PO!A12 -> 01.05 | B33: =VLOOKUP(A33,PO!$A:$I,4,FALSE) -> LOCACAO DE CONTAINER 2,30 X 6,00 M, ALT. 2,50 M, COM 1 SANITARIO, PARA ESCRITORIO, COMPLETO, SEM DIVISORIAS INTERNAS (NAO INCLUI MOBILIZACAO/DESMOBILIZACAO) | L33: =K37 -> 6
D35: 6 | K35: =D35 -> 6
B37: QUANTIDADE | K37: =ROUND(SUM(K33:K36),2) -> 6 | L37: =IFERROR(VLOOKUP(A33,PO!$A:$I,5,FALSE),0) -> MES
A39: =PO!A13 -> 01.06 | B39: =VLOOKUP(A39,PO!$A:$I,4,FALSE) -> LOCACAO DE CONTAINER 2,30 X 4,30 M, ALT. 2,50 M, P/ SANITARIO, C/ 5 BACIAS, 1 LAVATORIO E 4 MICTORIOS (NAO INCLUI MOBILIZACAO/DESMOBILIZACAO) | L39: =K43 -> 6
B41: PROJEÇÃO FACHADA AMPLIAÇÃO | D41: 6 | K41: =D41 -> 6
B43: QUANTIDADE | K43: =ROUND(SUM(K39:K42),2) -> 6 | L43: =IFERROR(VLOOKUP(A39,PO!$A:$I,5,FALSE),0) -> MES
A45: =PO!A14 -> 01.07 | B45: =VLOOKUP(A45,PO!$A:$I,4,FALSE) -> LOCACAO DE CONTAINER 2,30 X 6,00 M, ALT. 2,50 M, PARA ESCRITORIO, SEM DIVISORIAS INTERNAS E SEM SANITARIO (NAO INCLUI MOBILIZACAO/DESMOBILIZACAO) | L45: =K49 -> 6
B47: PROJEÇÃO FACHADA AMPLIAÇÃO | D47: 6 | K47: =D47 -> 6
B49: QUANTIDADE | K49: =ROUND(SUM(K45:K48),2) -> 6 | L49: =IFERROR(VLOOKUP(A45,PO!$A:$I,5,FALSE),0) -> MES
A51: =PO!A15 -> 01.08 | B51: =VLOOKUP(A51,PO!$A:$I,4,FALSE) -> MOBILIZAÇÃO E DESMOBILIZAÇÃO DE CONTEINER LOCADO PARA BARRACÃO DE OBRA | L51: =K55 -> 3
D53: 3 | K53: =D53 -> 3
B55: QUANTIDADE | K55: =ROUND(SUM(K51:K54),2) -> 3 | L55: =IFERROR(VLOOKUP(A51,PO!$A:$I,5,FALSE),0) -> und
A57: =PO!A16 -> 02 | B57: =VLOOKUP(A57,PO!$A:$I,4,FALSE) -> RETIRADAS, REMOÇÕES E DEMOLIÇÕES
A58: =PO!A17 -> 02.01 | B58: =VLOOKUP(A58,PO!$A:$I,4,FALSE) -> REMOÇÃO DE TRAMA DE MADEIRA PARA COBERTURA, DE FORMA MANUAL, SEM REAPROVEITAMENTO. AF_09/2023 | L58: =K63 -> 192.14
B60: TELHADO 03 - REPAROS PONTUAIS | D60: 1 | H60: 94.63 | K60: =H60*D60 -> 94.63
B61: TELHADO 04 - REPAROS PONTUAIS | D61: 1 | H61: 97.51 | K61: =H61*D61 -> 97.51
B63: QUANTIDADE | K63: =ROUND(SUM(K58:K62),2) -> 192.14 | L63: =IFERROR(VLOOKUP(A58,PO!$A:$I,5,FALSE),0) -> M2
A65: =PO!A18 -> 02.02 | B65: =VLOOKUP(A65,PO!$A:$I,4,FALSE) -> REMOÇÃO DE TELHAS DE FIBROCIMENTO METÁLICA E CERÂMICA, DE FORMA MANUAL, SEM REAPROVEITAMENTO. AF_09/2023 | L65: =K70 -> 192.14
B67: TELHADO 03 | H67: 94.63 | K67: =H67 -> 94.63
B68: TELHADO 04 | H68: 97.51 | K68: =H68 -> 97.51
B70: QUANTIDADE | K70: =ROUND(SUM(K65:K69),2) -> 192.14 | L70: =IFERROR(VLOOKUP(A65,PO!$A:$I,5,FALSE),0) -> M2
A72: =PO!A19 -> 02.03 | B72: =VLOOKUP(A72,PO!$A:$I,4,FALSE) -> REMOÇÃO CALHAS E RUFOS, DE FORMA MANUAL, SEM REAPROVEITAMENTO. AF_09/2023 | L72: =K76 -> 26.1
...

Sheet CRONOGRAMA
A2: CRONOGRAMA MENSAL DE MEDIÇÃO DE SERVIÇOS
A3: OBRA: | B3: =EAP!B2 -> REFORMA DA EMPEF HONÓRIO PEDRO DE SIQUEIRA
A4: LOCAL: | B4: =EAP!B3 -> GUAÇUÍ - ES
A5: CONTRATANTE: | B5: =EAP!B4 -> PREFEITURA MUNICIPAL DE GUAÇUÍ
A7: ITEM | B7: SERVIÇO | C7: VALOR | D7: MÊS 01 | E7: MÊS 02 | F7: MÊS 03 | G7: MÊS 04 | H7: MÊS 05 | I7: MÊS 06 | J7: MÊS 07 | K7: MÊS 08 | L7: MÊS 09 | M7: MÊS 10
A8: 01 | B8: =VLOOKUP(A8,EAP!$A$6:$D$27,2,FALSE) -> CANTEIRO DE OBRAS | C8: =VLOOKUP(A8,EAP!$A$6:$D$27,4,FALSE) -> 62801.38 | D8: =D9*$C8 -> 42076.925 | E8: =E9*$C8 -> 0 | F8: =F9*$C8 -> 0 | G8: =G9*$C8 -> 0 | H8: =H9*$C8 -> 7850.1725 | I8: =I9*$C8 -> 6437.1415 | J8: =J9*$C8 -> 6437.1415 | K8: =K9*$C8 -> 0 | ... M8: =M9*$C8 -> 0 | O8: =SUM(D8:M8)=C8 -> TRUE
D9: 0.67 | E9: 0 | F9: 0 | G9: 0 | H9: 0.125 | I9: 0.1025 | J9: 0.1025 | K9: 0 | L9: 0 | M9: 0 | O9: =SUM(D9:M9) -> 1
A10: 02 | B10: =VLOOKUP(A10,EAP!$A$6:$D$27,2,FALSE) -> RETIRADAS, REMOÇÕES E DEMOLIÇÕES | C10: =VLOOKUP(A10,EAP!$A$6:$D$27,4,FALSE) -> 20768.55 | D10: =D11*$C10 -> 15576.413 | E10: =E11*$C10 -> 0 | F10: =F11*$C10 -> 1038.4275 | G10: =G11*$C10 -> 1038.4275 | H10: =H11*$C10 -> 1038.4275 | I10: =I11*$C10 -> 1038.4275 | J10: =J11*$C10 -> 1038.4275 | K10: =K11*$C10 -> 0 | ... M10: =M11*$C10 -> 0 | O10: =SUM(D10:M10)=C10 -> TRUE
D11: =1-SUM(E11:M11) -> 0.75 | E11: 0 | F11: 0.05 | G11: 0.05 | H11: 0.05 | I11: 0.05 | J11: 0.05 | K11: 0 | L11: 0 | M11: 0 | O11: =SUM(D11:M11) -> 1
A12: 03 | B12: =VLOOKUP(A12,EAP!$A$6:$D$27,2,FALSE) -> INFRAESTRUTURA | C12: =VLOOKUP(A12,EAP!$A$6:$D$27,4,FALSE) -> 67251.66 | D12: =D13*$C12 -> 0 | E12: =E13*$C12 -> 67251.66 | F12: =F13*$C12 -> 0 | G12: =G13*$C12 -> 0 | H12: =H13*$C12 -> 0 | I12: =I13*$C12 -> 0 | J12: =J13*$C12 -> 0 | K12: =K13*$C12 -> 0 | L12: =L13*$C12 -> 0 | M12: 0 | O12: =SUM(D12:M12)=C12 -> TRUE
D13: 0 | E13: 1 | F13: 0 | G13: 0 | H13: 0 | I13: 0 | J13: 0 | K13: 0 | L13: 0 | M13: 0 | O13: =SUM(D13:M13) -> 1
A14: 04 | B14: =VLOOKUP(A14,EAP!$A$6:$D$27,2,FALSE) -> SUPERESTRUTURA | C14: =VLOOKUP(A14,EAP!$A$6:$D$27,4,FALSE) -> 67217.21 | D14: =D15*$C14 -> 0 | E14: =E15*$C14 -> 67217.21 | F14: =F15*$C14 -> 0 | G14: =G15*$C14 -> 0 | H14: =H15*$C14 -> 0 | I14: =I15*$C14 -> 0 | J14: =J15*$C14 -> 0 | K14: =K15*$C14 -> 0 | ... M14: =M15*$C14 -> 0 | O14: =SUM(D14:M14)=C14 -> TRUE
D15: 0 | E15: 1 | F15: 0 | G15: 0 | H15: 0 | I15: 0 | J15: 0 | K15: 0 | L15: 0 | M15: 0 | O15: =SUM(D15:M15) -> 1
A16: 05 | B16: =VLOOKUP(A16,EAP!$A$6:$D$27,2,FALSE) -> PAREDES E PAINÉIS | C16: =VLOOKUP(A16,EAP!$A$6:$D$27,4,FALSE) -> 210832.87 | D16: =D17*$C16 -> 0 | E16: =E17*$C16 -> 0 | F16: =F17*$C16 -> 179207.94 | G16: =G17*$C16 -> 0 | H16: =H17*$C16 -> 0 | I16: =I17*$C16 -> 31624.93 | J16: =J17*$C16 -> 0 | K16: =K17*$C16 -> 0 | ... M16: =M17*$C16 -> 0 | O16: =SUM(D16:M16)=C16 -> TRUE
D17: 0 | E17: 0 | F17: 0.85 | G17: 0 | H17: 0 | I17: 0.15 | J17: 0 | K17: 0 | L17: 0 | M17: 0 | O17: =SUM(D17:M17) -> 1
A18: 06 | B18: =VLOOKUP(A18,EAP!$A$6:$D$27,2,FALSE) -> COBERTURA | C18: =VLOOKUP(A18,EAP!$A$6:$D$27,4,FALSE) -> 115751.46 | D18: =D19*$C18 -> 0 | E18: =E19*$C18 -> 0 | F18: =F19*$C18 -> 0 | G18: =G19*$C18 -> 92601.168 | H18: =H19*$C18 -> 23150.292 | I18: =I19*$C18 -> 0 | J18: =J19*$C18 -> 0 | K18: =K19*$C18 -> 0 | ... M18: =M19*$C18 -> 0 | O18: =SUM(D18:M18)=C18 -> TRUE
D19: 0 | E19: 0 | F19: 0 | G19: 0.8 | H19: 0.2 | I19: 0 | J19: 0 | K19: 0 | L19: 0 | M19: 0 | O19: =SUM(D19:M19) -> 1
A20: 07 | B20: =VLOOKUP(A20,EAP!$A$6:$D$27,2,FALSE) -> PISO | C20: =VLOOKUP(A20,EAP!$A$6:$D$27,4,FALSE) -> 90586.91 | D20: =D21*$C20 -> 0 | E20: =E21*$C20 -> 0 | F20: =F21*$C20 -> 0 | G20: =G21*$C20 -> 0 | H20: =H21*$C20 -> 45293.455 | I20: =I21*$C20 -> 22646.727 | J20: =J21*$C20 -> 22646.727 | K20: =K21*$C20 -> 0 | ... M20: =M21*$C20 -> 0 | O20: =SUM(D20:M20)=C20 -> TRUE
D21: 0 | E21: 0 | F21: 0 | G21: 0 | H21: 0.5 | I21: 0.25 | J21: 0.25 | K21: 0 | L21: 0 | M21: 0 | O21: =SUM(D21:M21) -> 1
A22: 08 | B22: =VLOOKUP(A22,EAP!$A$6:$D$27,2,FALSE) -> TETOS E FORROS | C22: =VLOOKUP(A22,EAP!$A$6:$D$27,4,FALSE) -> 37153.65 | D22: =D23*$C22 -> 0 | E22: =E23*$C22 -> 0 | F22: =F23*$C22 -> 0 | G22: =G23*$C22 -> 0 | H22: =H23*$C22 -> 14861.46 | I22: =I23*$C22 -> 11146.095 | J22: =J23*$C22 -> 11146.095 | K22: =K23*$C22 -> 0 | ... M22: =M23*$C22 -> 0 | O22: =SUM(D22:M22)=C22 -> TRUE
D23: 0 | E23: 0 | F23: 0 | G23: 0 | H23: 0.4 | I23: 0.3 | J23: 0.3 | K23: 0 | L23: 0 | M23: 0 | O23: =SUM(D23:M23) -> 1
A24: 09 | B24: =VLOOKUP(A24,EAP!$A$6:$D$27,2,FALSE) -> INSTALAÇÕES HIDROSSANITÁRIAS | C24: =VLOOKUP(A24,EAP!$A$6:$D$27,4,FALSE) -> 66679.8 | D24: =D25*$C24 -> 0 | E24: =E25*$C24 -> 0 | F24: =F25*$C24 -> 0 | G24: =G25*$C24 -> 0 | H24: =H25*$C24 -> 0 | I24: =I25*$C24 -> 0 | J24: =J25*$C24 -> 0 | K24: =K25*$C24 -> 66679.8 | ... M24: =M25*$C24 -> 0 | O24: =SUM(D24:M24)=C24 -> TRUE
D25: 0 | E25: 0 | F25: 0 | G25: 0 | H25: 0 | I25: 0 | J25: 0 | K25: 1 | L25: 0 | M25: 0 | O25: =SUM(D25:M25) -> 1
A26: 10 | B26: =VLOOKUP(A26,EAP!$A$6:$D$27,2,FALSE) -> INSTALAÇÕES ELÉTRICAS | C26: =VLOOKUP(A26,EAP!$A$6:$D$27,4,FALSE) -> 27038.49 | D26: =D27*$C26 -> 0 | E26: =E27*$C26 -> 0 | F26: =F27*$C26 -> 0 | G26: =G27*$C26 -> 0 | H26: =H27*$C26 -> 0 | I26: =I27*$C26 -> 0 | J26: =J27*$C26 -> 27038.49 | K26: =K27*$C26 -> 0 | ... M26: =M27*$C26 -> 0 | O26: =SUM(D26:M26)=C26 -> TRUE
D27: 0 | E27: 0 | F27: 0 | G27: 0 | H27: 0 | I27: 0 | J27: 1 | K27: 0 | L27: 0 | M27: 0 | O27: =SUM(D27:M27) -> 1
A28: 11 | B28: =VLOOKUP(A28,EAP!$A$6:$D$27,2,FALSE) -> ESQUADRIAS | C28: =VLOOKUP(A28,EAP!$A$6:$D$27,4,FALSE) -> 77063.43 | D28: =D29*$C28 -> 0 | E28: =E29*$C28 -> 0 | F28: =F29*$C28 -> 0 | G28: =G29*$C28 -> 0 | H28: =H29*$C28 -> 0 | I28: =I29*$C28 -> 50861.864 | J28: =J29*$C28 -> 0 | K28: =K29*$C28 -> 0 | ... M28: =M29*$C28 -> 0 | O28: =SUM(D28:M28)=C28 -> TRUE
D29: 0 | E29: 0 | F29: 0 | G29: 0 | H29: 0 | I29: 0.66 | J29: 0 | K29: 0 | L29: 0.34 | M29: 0 | O29: =SUM(D29:M29) -> 1
A30: 12 | B30: =VLOOKUP(A30,EAP!$A$6:$D$27,2,FALSE) -> PINTURA | C30: =VLOOKUP(A30,EAP!$A$6:$D$27,4,FALSE) -> 28121.61 | D30: =D31*$C30 -> 0 | E30: =E31*$C30 -> 0 | F30: =F31*$C30 -> 0 | G30: =G31*$C30 -> 0 | H30: =H31*$C30 -> 0 | I30: =I31*$C30 -> 28121.61 | J30: =J31*$C30 -> 0 | K30: =K31*$C30 -> 0 | ... M30: =M31*$C30 -> 0 | O30: =SUM(D30:M30)=C30 -> TRUE
D31: 0 | E31: 0 | F31: 0 | G31: 0 | H31: 0 | I31: 1 | J31: 0 | K31: 0 | L31: 0 | M31: 0 | O31: =SUM(D31:M31) -> 1
A32: 13 | B32: =VLOOKUP(A32,EAP!$A$6:$D$27,2,FALSE) -> LOUÇAS, METAIS E ACESSÓRIOS | C32: =VLOOKUP(A32,EAP!$A$6:$D$27,4,FALSE) -> 20112.4 | D32: =D33*$C32 -> 0 | E32: =E33*$C32 -> 0 | F32: =F33*$C32 -> 0 | G32: =G33*$C32 -> 0 | H32: =H33*$C32 -> 0 | I32: =I33*$C32 -> 0 | J32: =J33*$C32 -> 0 | K32: =K33*$C32 -> 14078.68 | ... M32: =M33*$C32 -> 0 | O32: =SUM(D32:M32)=C32 -> TRUE
D33: 0 | E33: 0 | F33: 0 | G33: 0 | H33: 0 | I33: 0 | J33: 0 | K33: 0.7 | L33: 0.3 | M33: 0 | O33: =SUM(D33:M33) -> 1
A34: 14 | B34: =VLOOKUP(A34,EAP!$A$6:$D$27,2,FALSE) -> SERVIÇOS FINAIS | C34: =VLOOKUP(A34,EAP!$A$6:$D$27,4,FALSE) -> 3299.31 | D34: =D35*$C34 -> 0 | E34: =E35*$C34 -> 0 | F34: =F35*$C34 -> 0 | G34: =G35*$C34 -> 0 | H34: =H35*$C34 -> 0 | I34: =I35*$C34 -> 0 | J34: =J35*$C34 -> 0 | K34: =K35*$C34 -> 0 | ... M34: =M35*$C34 -> 0 | O34: =SUM(D34:M34)=C34 -> TRUE
D35: 0 | E35: 0 | F35: 0 | G35: 0 | H35: 0 | I35: 0 | J35: 0 | K35: 0 | L35: 1 | O35: =SUM(D35:M35) -> 1
A36: TOTAL (R$): | C36: =SUM(C8:C35) -> 894678.73 | D36: =SUM(D8,D10,D12,D14,D16,D18,D20,D22,D24,D26,D28,D30,D32,D34,#REF!,#REF!,#REF!) -> #REF! | E36: =SUM(E8,E10,E12,E14,E16,E18,E20,E22,E24,E26,E28,E30,E32,E34,#REF!,#REF!,#REF!) -> #REF! | F36: =SUM(F8,F10,F12,F14,F16,F18,F20,F22,F24,F26,F28,F30,F32,F34,#REF!,#REF!,#REF!) -> #REF! | G36: =SUM(G8,G10,G12,G14,G16,G18,G20,G22,G24,G26,G28,G30,G32,G34,#REF!,#REF!,#REF!) -> #REF! | H36: =SUM(H8,H10,H12,H14,H16,H18,H20,H22,H24,H26,H28,H30,H32,H34,#REF!,#REF!,#REF!) -> #REF! | I36: =SUM(I8,I10,I12,I14,I16,I18,I20,I22,I24,I26,I28,I30,I32,I34,#REF!,#REF!,#REF!) -> #REF! | J36: =SUM(J8,J10,J12,J14,J16,J18,J20,J22,J24,J26,J28,J30,J32,J34,#REF!,#REF!,#REF!) -> #REF! | K36: =SUM(K8,K10,K12,K14,K16,K18,K20,K22,K24,K26,K28,K30,K32,K34,#REF!,#REF!,#REF!) -> #REF! | ... M36: =SUM(M8,M10,M12,M14,M16,M18,M20,M22,M24,M26,M28,M30,M32,M34,#REF!,#REF!,#REF!) -> #REF! | O36: =SUM(D36:M36)=C36 -> #REF!
A37: TOTAL ACUMULADO (R$): | D37: =D36 -> #REF! | E37: =E36+D37 -> #REF! | F37: =F36+E37 -> #REF! | G37: =G36+F37 -> #REF! | H37: =H36+G37 -> #REF! | I37: =I36+H37 -> #REF! | J37: =J36+I37 -> #REF! | K37: =K36+J37 -> #REF! | L37: =L36+K37 -> #REF! | M37: =M36+L37 -> #REF! | O37: =M37=C36 -> #REF!
C39: =C36=PO!I186 -> TRUE | M39: =M37/10 -> #REF!

Sheet BDI
A2: DETALHAMENTO DAS BONIFICAÇÕES E DESPESAS INDIRETAS (BDI)
A3: OBRA: | B3: =EAP!B2 -> REFORMA DA EMPEF HONÓRIO PEDRO DE SIQUEIRA
A4: LOCAL: | B4: =EAP!B3 -> GUAÇUÍ - ES
A5: CONTRATANTE: | B5: =EAP!B4 -> PREFEITURA MUNICIPAL DE GUAÇUÍ
A6: CONTRATO: | B6: =EAP!#REF! -> #REF!
C8: 01 - REGIME DE CONTRIBUIÇÃO PREVIDENCIÁRIA:
C9: Sem Desoneração
C11: 02 - TIPO DE OBRA:
C12: Edificações
B15: ITEM | C15: 03 - INCIDÊNCIAS SOBRE O CUSTO: | D15: ADOTADO
B16: A | C16: Administração Central | D16: 0.0406
B17: B | C17: Administração Local | D17: 0.0819
B18: D | C18: Custos Financeiros | D18: 0.0061
B19: E | C19: Risco, Garantias e Seguros | D19: 0.01
B20: F | C20: Lucro | D20: 0.08
B22: ITEM | C22: 04 - INCIDÊNCIAS SOBRE O PREÇO DE VENDA: | D22: ADOTADO
B23: C | C23: Tributos | D23: =SUM(D25:D27) -> 0.0765
C25: ISS | D25: 0.04
C26: COFINS | D26: 0.03
C27: PIS | D27: 0.0065
C29: 05 - DEMONSTRATIVO DE CÁLCULO DO BDI: | D29: BDI:
C30: BDI = { [ ( 1 + A + B + E ) ] * ( 1 + D ) * ( 1 + F ) } -1 = ( 1 - C ) | D30: =(((1+D16+D17+D19)*(1+D18)*(1+D20))/(1-D23))-1 -> 0.33249692
B32: Declaro para os devidos fins que o regime de Contribuição Previdenciária adotado para elaboração do orçamento foi Sem Desoneração, e que esta é a alternativa mais adequada para a Administração Pública.
C34: Mimoso do Sul, 31 de maio de 2025
C39: Representante

Sheet DER_02_25
B1: SERVIÇOS - FEVEREIRO 2025
A2: Item | B2: Especificação do Serviço | C2: Und. | D2: Preço Unitário
A3: S01 | B3: SERVIÇOS PRELIMINARES
A4: S0102 | B4: DEMOLIÇÕES E RETIRADAS
A5: S010201 | B5: Demolição de piso cimentado inclusive lastro de concreto | C5: m2 | D5: 26.37
A6: S010202 | B6: Demolição de piso revestido com cerâmica | C6: m2 | D6: 14.19
A7: S010203 | B7: Demolição de piso revestido com cerâmica inclusive lastro de concreto | C7: m2 | D7: 28.4
A8: S010204 | B8: Demolição de piso revestido com tacos de madeira | C8: m2 | D8: 20.29
A9: S010205 | B9: Demolição de piso de tábuas | C9: m2 | D9: 18.25
A10: S010206 | B10: Demolição de revestimento com azulejos | C10: m2 | D10: 50.72
A11: S010207 | B11: Demolição de revestimento com lambris de madeira | C11: m2 | D11: 50.72
A12: S010208 | B12: Retirada de revestimento antigo em reboco | C12: m2 | D12: 10.14
A13: S010209 | B13: Demolição de alvenaria | C13: m3 | D13: 60.87
A14: S010210 | B14: Demolição manual de concreto simples (EMOP 05.001.001) | C14: m3 | D14: 286.08
A15: S010212 | B15: Retirada manual de pavimento em paralelepípedos, incluindo empilhamento para reaproveitamento | C15: m2 | D15: 12.16
A16: S010213 | B16: Retirada manual de blocos pré-moldados de concreto (Blokret), inclusive empilhamento para reaproveitamento | C16: m2 | D16: 14.19
... A50: S010292 | B50: Retirada de alizar de madeira | C50: m | D50: 0.62
A51: S0103 | B51: DEMOLIÇÕES E RETIRADAS
A52: S010315 | B52: Retirada de cobertura em telhas Canalete 49 | C52: m2 | D52: 11.58
A53: S010317 | B53: Demolição de alvenaria, com reaproveitamento | C53: m2 | D53: 121.74
A54: S010318 | B54: Remoção de forro em eucatex, sem aproveitamento do material | C54: m2 | D54: 14.22
A55: S010319 | B55: Remoção de pintura antiga a base de óleo ou esmalte sobre esquadrias | C55: m2 | D55: 19.82
A56: S010320 | B56: Remoção de revestimento de pisos com forração textil | C56: m2 | D56: 2.02
A57: S010323 | B57: Retirada de torneiras e registros | C57: und | D57: 11.1
A58: S010324 | B58: Retirada de cobertura em telha canalete 90 | C58: m2 | D58: 8.91
A59: S010325 | B59: Demolição de estrutura de madeira para telhado | C59: m2 | D59: 29.54
A60: S010326 | B60: Retirada de estrutura em madeira do telhado | C60: m2 | D60: 29.54
A61: S010327 | B61: Retirada de marco de madeira | C61: m | D61: 2.51
A62: S010329 | B62: Retirada de disjuntor | C62: und | D62: 20.72
A63: S010331 | B63: Demolição de piso, soleira, peitoris e escadas em mármore ou granito, exclusive regularização | C63: m2 | D63: 10.86
... A66: S010344 | B66: Demolição de lajes, em concreto armado, de forma mecanizada com martelete demolidor elétrico, sem reaproveitamento | C66: m3 | D66: 88.65
A67: S0104 | B67: LIMPEZA DO TERRENO
A68: S010401 | B68: Corte de capoeira fina, a foice (manual) | C68: m2 | D68: 1.38
A69: S010402 | B69: Raspagem e limpeza do terreno (manual) | C69: m2 | D69: 4.47
A70: S010403 | B70: Corte e destocamento de árvores com diâmetro de até 15 cm | C70: und | D70: 53.64
A71: S010404 | B71: Corte e destocamento de árvores com diâmetro superior a 30 cm | C71: und | D71: 133.38
A72: S0105 | B72: LOCAÇÃO
A73: S010501 | B73: Locação de obra com gabarito de madeira | C73: m2 | D73: 10.95
A74: S010512 | B74: Equipe topográfica para serviços simples de locação e nivelamento (incluindo equipamento, transporte e profissionais nivel médio) | C74: mês | D74: 23479.53
A75: S0108 | B75: SERVIÇOS ADMINISTRATIVOS E TÉCNICOS - MENSALISTAS
...

Sheet SINAPI_12 24
B1: PRECOS DE SERVIÇOS - SINAPI - SETEMBRO 2025 - (SEM DESONERAÇÃO)
A2: CÓDIGO | B2: DESCRICAO DA COMPOSICAO | C2: UNIDADE | D2: CUSTO TOTAL
A3: 104658 | B3: PISO PODOTÁTIL DE ALERTA OU DIRECIONAL, DE CONCRETO, ASSENTADO SOBRE ARGAMASSA. AF_03/2024 | C3: M2 | D3: 181.49
A4: 105002 | B4: RAMPA DE ACESSIBILIDADE EM CONCRETO MOLDADO IN LOCO, EM CALÇADA NOVA COM LARGURA MAIOR OU IGUAL À 3,00 M, FCK 25MPA, COM PISO PODOTÁTIL. AF_03/2024 | C4: UN | D4: 764.35
A5: 105004 | B5: RAMPA DE ACESSIBILIDADE EM CONCRETO MOLDADO IN LOCO, EM CALÇADA NOVA COM LARGURA MENOR À 3,00 M, FCK 25MPA, COM PISO PODOTÁTIL. AF_03/2024 | C5: M2 | D5: 130
A6: 105003 | B6: RAMPA DE ACESSIBILIDADE EM CONCRETO MOLDADO IN LOCO, EM CALÇADA PRÉ EXISTENTE COM LARGURA MAIOR OU IGUAL À 3,00 M, FCK 25MPA, COM PISO PODOTÁTIL. AF_03/2024 | C6: UN | D6: 1278.47
A7: 105005 | B7: RAMPA DE ACESSIBILIDADE EM CONCRETO MOLDADO IN LOCO, EM CALÇADA PRÉ EXISTENTE COM LARGURA MENOR À 3,00 M, FCK 25MPA, COM PISO PODOTÁTIL. AF_03/2024 | C7: M2 | D7: 225.19
A8: 105006 | B8: RAMPA DE ACESSIBILIDADE EM CONCRETO PRÉ MOLDADO, EM CALÇADA NOVA COM LARGURA MAIOR OU IGUAL À 3,00 M, FCK 25MPA, COM PISO PODOTÁTIL. AF_03/2024 | C8: UN | D8: 0
A9: 104999 | B9: RAMPA DE ACESSIBILIDADE EM CONCRETO PRÉ MOLDADO, EM CALÇADA PRÉ EXISTENTE COM LARGURA MAIOR OU IGUAL À 3,00 M, FCK 25MPA, COM PISO PODOTÁTIL. AF_03/2024 | C9: UN | D9: 0
A10: 105000 | B10: RAMPA DE ACESSIBILIDADE PARA ACESSO A EDIFICAÇÕES COM INCLINAÇÃO DE 8,33% EM CONCRETO MOLDADO IN LOCO, COM LARGURA DE 1,20M, FCK 25MPA, NÃO ARMADA, COM JUNTA A CADA 2M COM CORTE À SECO. AF_03/2024 | C10: M | D10: 1714.11
A11: 105001 | B11: RAMPA DE ACESSIBILIDADE PARA ACESSO A EDIFICAÇÕES COM INCLINAÇÃO DE 8,33% EM CONCRETO MOLDADO IN LOCO, COM LARGURA DE 1,50M, FCK 25MPA, NÃO ARMADA, COM JUNTA A CADA 2M COM CORTE À SECO. AF_03/2024 | C11: M | D11: 1752
A12: 89306 | B12: ALVENARIA ESTRUTURAL DE BLOCOS CERÂMICOS 14X19X29, (ESPESSURA DE 14 CM), UTILIZANDO COLHER DE PEDREIRO E ARGAMASSA DE ASSENTAMENTO COM PREPARO EM BETONEIRA. AF_03/2023 | C12: M2 | D12: 97.61
A13: 89307 | B13: ALVENARIA ESTRUTURAL DE BLOCOS CERÂMICOS 14X19X29, (ESPESSURA DE 14 CM), UTILIZANDO COLHER DE PEDREIRO E ARGAMASSA DE ASSENTAMENTO COM PREPARO MANUAL. AF_03/2023 | C13: M2 | D13: 99.93
A14: 89290 | B14: ALVENARIA ESTRUTURAL DE BLOCOS CERÂMICOS 14X19X29, (ESPESSURA DE 14 CM), UTILIZANDO PALHETA E ARGAMASSA DE ASSENTAMENTO COM PREPARO EM BETONEIRA. AF_03/2023 | C14: M2 | D14: 79.05
... A3621: 100375 | B3621: FABRICAÇÃO E INSTALAÇÃO DE MEIA TESOURA DE MADEIRA NÃO APARELHADA, COM VÃO DE 11 M, PARA TELHA ONDULADA DE FIBROCIMENTO, ALUMÍNIO, PLÁSTICA OU TERMOACÚSTICA, INCLUSO IÇAMENTO. AF_07/2019 | C3621: UN | D3621: 3803.2
A3622: 100366 | B3622: FABRICAÇÃO E INSTALAÇÃO DE MEIA TESOURA DE MADEIRA NÃO APARELHADA, COM VÃO DE 12 M, PARA TELHA CERÂMICA OU DE CONCRETO, INCLUSO IÇAMENTO. AF_07/2019 | C3622: UN | D3622: 4422.85 | F3622: =2.54*3/4 -> 1.905
A3623: 100376 | B3623: FABRICAÇÃO E INSTALAÇÃO DE MEIA TESOURA DE MADEIRA NÃO APARELHADA, COM VÃO DE 12 M, PARA TELHA ONDULADA DE FIBROCIMENTO, ALUMÍNIO, PLÁSTICA OU TERMOACÚSTICA, INCLUSO IÇAMENTO. AF_07/2019 | C3623: UN | D3623: 3727.33
A3624: 100357 | B3624: FABRICAÇÃO E INSTALAÇÃO DE MEIA TESOURA DE MADEIRA NÃO APARELHADA, COM VÃO DE 3 M, PARA TELHA CERÂMICA OU DE CONCRETO, INCLUSO IÇAMENTO. AF_07/2019 | C3624: UN | D3624: 1267.2
A3625: 100367 | B3625: FABRICAÇÃO E INSTALAÇÃO DE MEIA TESOURA DE MADEIRA NÃO APARELHADA, COM VÃO DE 3 M, PARA TELHA ONDULADA DE FIBROCIMENTO, ALUMÍNIO, PLÁSTICA OU TERMOACÚSTICA, INCLUSO IÇAMENTO. AF_07/2019 | C3625: UN | D3625: 1235.77
A3626: 100358 | B3626: FABRICAÇÃO E INSTALAÇÃO DE MEIA TESOURA DE MADEIRA NÃO APARELHADA, COM VÃO DE 4 M, PARA TELHA CERÂMICA OU DE CONCRETO, INCLUSO IÇAMENTO. AF_07/2019 | C3626: UN | D3626: 1738.48
A3627: 100368 | B3627: FABRICAÇÃO E INSTALAÇÃO DE MEIA TESOURA DE MADEIRA NÃO APARELHADA, COM VÃO DE 4 M, PARA TELHA ONDULADA DE FIBROCIMENTO, ALUMÍNIO, PLÁSTICA OU TERMOACÚSTICA, INCLUSO IÇAMENTO. AF_07/2019 | C3627: UN | D3627: 1699.71
A3628: 100359 | B3628: FABRICAÇÃO E INSTALAÇÃO DE MEIA TESOURA DE MADEIRA NÃO APARELHADA, COM VÃO DE 5 M, PARA TELHA CERÂMICA OU DE CONCRETO, INCLUSO IÇAMENTO. AF_07/2019 | C3628: UN | D3628: 1820.72
A3629: 100369 | B3629: FABRICAÇÃO E INSTALAÇÃO DE MEIA TESOURA DE MADEIRA NÃO APARELHADA, COM VÃO DE 5 M, PARA TELHA ONDULADA DE FIBROCIMENTO, ALUMÍNIO, PLÁSTICA OU TERMOACÚSTICA, INCLUSO IÇAMENTO. AF_07/2019 | C3629: UN | D3629: 1781.96
A3630: 100360 | B3630: FABRICAÇÃO E INSTALAÇÃO DE MEIA TESOURA DE MADEIRA NÃO APARELHADA, COM VÃO DE 6 M, PARA TELHA CERÂMICA OU DE CONCRETO, INCLUSO IÇAMENTO. AF_07/2019 | C3630: UN | D3630: 2018.16
A3631: 100370 | B3631: FABRICAÇÃO E INSTALAÇÃO DE MEIA TESOURA DE MADEIRA NÃO APARELHADA, COM VÃO DE 6 M, PARA TELHA ONDULADA DE FIBROCIMENTO, ALUMÍNIO, PLÁSTICA OU TERMOACÚSTICA, INCLUSO IÇAMENTO. AF_07/2019 | C3631: UN | D3631: 2099.52
A3632: 100361 | B3632: FABRICAÇÃO E INSTALAÇÃO DE MEIA TESOURA DE MADEIRA NÃO APARELHADA, COM VÃO DE 7 M, PARA TELHA CERÂMICA OU DE CONCRETO, INCLUSO IÇAMENTO. AF_07/2019 | C3632: UN | D3632: 2524.27
A3633: 100371 | B3633: FABRICAÇÃO E INSTALAÇÃO DE MEIA TESOURA DE MADEIRA NÃO APARELHADA, COM VÃO DE 7 M, PARA TELHA ONDULADA DE FIBROCIMENTO, ALUMÍNIO, PLÁSTICA OU TERMOACÚSTICA, INCLUSO IÇAMENTO. AF_07/2019 | C3633: UN | D3633: 2420.91
A3634: 100362 | B3634: FABRICAÇÃO E INSTALAÇÃO DE MEIA TESOURA DE MADEIRA NÃO APARELHADA, COM VÃO DE 8 M, PARA TELHA CERÂMICA OU DE CONCRETO, INCLUSO IÇAMENTO. AF_07/2019 | C3634: UN | D3634: 3190.7
... A9785: 103548 | B9785: VÁLVULA REDUTORA DE PRESSÃO DE FERRO FUNDIDO PARA REDE DE ÁGUA, DN 80 MM, JUNTA FLANGEADA. AF_12/2021 | C9785: UN | D9785: 0
B9787: SINAPI - Sistema Nacional de Pesquisa de Custos e Índices da Construção Civil
B9788: RELATÓRIO DE CUSTOS DE COMPOSIÇÕES - ENCARGOS SOCIAIS COM DESONERAÇÃO
A9790: Mês de Referência: | B9790: 09/2025
A9791: Data de emissão: | B9791: 10/10/2025
A9792: Localidade: | B9792: VITORIA - ES
A9793: Encargos sociais: | B9793: (SEM DESONERAÇÃO)
A9794: Horista: | B9794: 1.1689
A9795: Mensalista: | B9795: 0.7295
A9796: Origem de preço: | B9796: CR = COEFICIENTE DE REPRESENTATIVIDADE / C = COLETADO
A9798: Código do Insumo | B9798: Descrição do Insumo | C9798: Unidade | D9798: VALOR (R$)
A9799: 45333 | B9799: ABERTURA PARA ENCAIXE DE CUBA OU LAVATORIO EM BANCADA DE MARMORE/ GRANITO OU OUTRO TIPO DE PEDRA NATURAL | C9799: UN | D9799: 55.08
...
