Workbook
Name BDI: #REF!
Name BDI: #REF!
Name BDI: #REF!
Name BDI: #REF!
Name BDI: #REF!
Name BDI: #REF!
Name BDI: #REF!
Name BDI: #REF!
Name BDI: #REF!
Name BDI: #REF!
Name Print_Area_0: 'QUANT. POR AREA '!$A$1:$S$14
Name Print_Area_0: 'RESUMO '!$B$1:$D$23
Name Print_Area_0_0: 'QUANT. POR AREA '!$A$1:$T$11

Sheet RESUMO 
B1: PLANILHA DE RESUMO
B3: ITEM | C3: MERCADOS (MÃO DE OBRA) | D3: PREÇO TOTAL MENSAL
B4: 1 | C4: ='QUANT. POR AREA '!B6 -> Mercados Maria Virgínia Leite Franco/Antônio Franco/Thales Ferraz | D4: ='QUANT. POR AREA '!S6 -> 0
B5: 2 | C5: ='QUANT. POR AREA '!B7 -> Mercado Milton Santos (Augusto Franco) | D5: ='QUANT. POR AREA '!S7 -> 0
B6: 3 | C6: ='QUANT. POR AREA '!B8 -> Mercado Roberto Silveira (América) | D6: ='QUANT. POR AREA '!S8 -> 0
B7: 4 | C7: ='QUANT. POR AREA '!B9 -> Mercado Viana de Assis (Santos Dumont) | D7: ='QUANT. POR AREA '!S9 -> 0
B8: 5 | C8: ='QUANT. POR AREA '!B10 -> Miguel Arraes (Bugio) | D8: ='QUANT. POR AREA '!S10 -> 0
B9: CUSTO TOTAL MÊS | D9: =(SUM(D4:D8)) -> 0
B10: ITEM | C10: MERCADOS (MATERIAIS DE LIMPEZA) | D10: PREÇO TOTAL MENSAL
B11: 1 | C11: =C4 -> Mercados Maria Virgínia Leite Franco/Antônio Franco/Thales Ferraz | D11: ='FORNECIMENTO DE MATERIAL - MERC'!E51 -> 0
B12: 2 | C12: =C5 -> Mercado Milton Santos (Augusto Franco) | D12: ='FORNECIMENTO DE MATERIAL - MILT'!E54 -> 0
B13: 3 | C13: =C6 -> Mercado Roberto Silveira (América) | D13: ='FORNECIMENTO DE MATERIAL - ME-1'!E50 -> 0
B14: 4 | C14: =C7 -> Mercado Viana de Assis (Santos Dumont) | D14: ='FORNECIMENTO DE MATERIAL - ME-2'!E51 -> 0
B15: 5 | C15: =C8 -> Miguel Arraes (Bugio) | D15: ='FORNECIMENTO DE MATERIAL - ME-3'!E51 -> 0
B16: CUSTO TOTAL MÊS | D16: =ROUND(SUM(D11:D15),2) -> 0
B17: ITEM | C17: MERCADOS (FORNECIMENTO DE FERRAMENTAS) | D17: PREÇO TOTAL MENSAL
B18: 1 | C18: =C4 -> Mercados Maria Virgínia Leite Franco/Antônio Franco/Thales Ferraz | D18: ='FERRAMENTAS E MATERIAIS - MERCA'!F44 -> 0
B19: CUSTO TOTAL MÊS | D19: =ROUND((SUM(D18)),2) -> 0
B21: TOTAL GERAL MENSAL | D21: =(SUM(D9+D16+D19)) -> 0
B23: TOTAL GLOBAL (36 meses) | D23: =SUM(D21*36) -> 0

Sheet QUANT. POR AREA 
A2: PLANILHA DE REFERENCIA
A3: ITEM | B3: MERCADOS | C3: ASG COM INSALUBRIDADE (12X36) | E3: ENCARREGADO (44H SEMANAIS) | G3: FISCAL (12X36) | I3: ELETRICISTA COM PERICULOSIDADE (44 HORAS SEMANAIS) | K3: ENCANADOR COM INSALUBRIDADE (44 HORAS SEMANAIS) | M3: PORTEIRO (44 HORAS SEMANAIS ) | O3: DEDETIZADOR / CONTROLE DE PRAGAS (36 HORAS) | Q3: SUPERVISOR (44 HORAS SEMANAIS) | S3: CUSTOS MÊS MÃO DE OBRA R$
C4: Valor Unt. | D4: ='MÃO DE OBRA'!D$105 -> 0 | E4: Valor Unt. | F4: ='MÃO DE OBRA'!D$68 -> 0 | G4: Valor Unt. | H4: ='MÃO DE OBRA'!D138 -> 0 | I4: Valor Unt. | J4: ='MÃO DE OBRA'!D$208 -> 0 | K4: Valor Unt. | L4: ='MÃO DE OBRA'!D173 -> 0 | M4: Valor Unt. | N4: ='MÃO DE OBRA'!D241 -> 0 | O4: Valor Unt. | P4: ='MÃO DE OBRA'!D$277 -> 0 | Q4: Valor Unt. | R4: ='MÃO DE OBRA'!D35 -> 0
C5: QTD | D5: TOTAL R$ | E5: QTD | F5: TOTAL R$ | G5: QTD | H5: TOTAL R$ | I5: QTD | J5: TOTAL R$ | K5: QTD | L5: TOTAL R$ | M5: QTD | N5: TOTAL R$ | O5: QTD | P5: TOTAL R$ | Q5: QTD | R5: TOTAL R$
A6: 1 | B6: Mercados Maria Virgínia Leite Franco/Antônio Franco/Thales Ferraz | C6: 78 | D6: =C6*$D$4 -> 0 | E6: 4 | F6: =E6*$F$4 -> 0 | G6: 14 | H6: =G6*$H$4 -> 0 | I6: 2 | J6: =I6*$J$4 -> 0 | K6: 2 | L6: =K6*$L$4 -> 0 | M6: 2 | N6: =M6*$N$4 -> 0 | O6: 2 | P6: =O6*$P$4 -> 0 | Q6: 1 | R6: =Q6*$R$4 -> 0 | S6: =SUM(D6+F6+H6+J6+L6+N6+P6+R6) -> 0
A7: 2 | B7: Mercado Milton Santos (Augusto Franco) | C7: 24 | D7: =C7*$D$4 -> 0 | E7: 1 | F7: =E7*$F$4 -> 0 | G7: 0 | H7: =G7*$H$4 -> 0 | I7: 2 | J7: =$I$7/4*$J$4 -> 0 | K7: 2 | L7: =$K$7/4*$L$4 -> 0 | M7: 1 | N7: =M7*$N$4 -> 0 | O7: 1 | P7: =O7*$P$4 -> 0 | Q7: 1 | R7: =$Q$7/4*$R$4 -> 0 | S7: =SUM(D7+F7+H7+J7+L7+N7+P7+R7) -> 0
A8: 3 | B8: Mercado Roberto Silveira (América) | C8: 8 | D8: =C8*$D$4 -> 0 | E8: 1 | F8: =E8*$F$4 -> 0 | H8: =G8*$H$4 -> 0 | J8: =$I$7/4*$J$4 -> 0 | L8: =$K$7/4*$L$4 -> 0 | M8: 0 | N8: =M8*$N$4 -> 0 | O8: 2 | P8: =$O$8/3*$P$4 -> 0 | R8: =$Q$7/4*$R$4 -> 0 | S8: =SUM(D8+F8+H8+J8+L8+N8+P8+R8) -> 0
A9: 4 | B9: Mercado Viana de Assis (Santos Dumont) | C9: 6 | D9: =C9*$D$4 -> 0 | E9: 1 | F9: =E9*$F$4 -> 0 | H9: =G9*$H$4 -> 0 | J9: =$I$7/4*$J$4 -> 0 | L9: =$K$7/4*$L$4 -> 0 | N9: =M9*$N$4 -> 0 | P9: =$O$8/3*$P$4 -> 0 | R9: =$Q$7/4*$R$4 -> 0 | S9: =SUM(D9+F9+H9+J9+L9+N9+P9+R9) -> 0
A10: 5 | B10: Miguel Arraes (Bugio) | C10: 6 | D10: =C10*$D$4 -> 0 | E10: 1 | F10: =E10*$F$4 -> 0 | H10: =G10*$H$4 -> 0 | J10: =$I$7/4*$J$4 -> 0 | L10: =$K$7/4*$L$4 -> 0 | N10: =M10*$N$4 -> 0 | P10: =$O$8/3*$P$4 -> 0 | R10: =$Q$7/4*$R$4 -> 0 | S10: =SUM(D10+F10+H10+J10+L10+N10+P10+R10) -> 0
A11: TOTAL | C11: =SUM(C6:C10) -> 122 | D11: =SUM(D6:D10) -> 0 | E11: =SUM(E6:E10) -> 8 | F11: =SUM(F6:F10) -> 0 | G11: =SUM(G6:G10) -> 14 | H11: =SUM(H6:H10) -> 0 | I11: =SUM(I6:I10) -> 4 | J11: =SUM(J6:J10) -> 0 | ... R11: =SUM(R6:R10) -> 0 | S11: =ROUND(SUM(S6:S10),2) -> 0
B16: RESUMO MÃO DE OBRA: | E16: QTD.
D17: ASG COM INSALUBRIDADE (12X36) | E17: =C11 -> 122
D18: ENCARREGADO (44H SEMANAIS) | E18: =E11 -> 8
D19: FISCAL (12X36) | E19: =G11 -> 14
D20: ELETRICISTA COM PERICULOSIDADE (44 HORAS SEMANAIS) | E20: =I11 -> 4
D21: ENCANADOR COM INSALUBRIDADE (44 HORAS SEMANAIS) | E21: =K11 -> 4
D22: PORTEIRO (44 HORAS SEMANAIS ) | E22: =M11 -> 3
D23: DEDETIZADOR / CONTROLE DE PRAGAS (36 HORAS) | E23: =O11 -> 5
D24: SUPERVISOR (44 HORAS SEMANAIS) | E24: =Q11 -> 2
D25: TOTAL: | E25: =SUM(E17:E24) -> 162

Sheet MÃO DE OBRA
A2: COMPOSIÇÃO DE MÃO DE OBRA
C3: DISCRIMINAÇÃO
A4: Mão de Obra - SUPERVISOR - 44 HORAS | F4: ASSEIO DE SERGIPE 2019
A5: DISCRIMINAÇÃO | B5: QUANTIDADE | C5: PREÇO UNITÁRIO | D5: SUB-TOTAL
A6: Salário | B6: 1 | D6: =C6*B6 -> 0
A7: Horas extras 100% (DOMINGOS) | B7: 0 | D7: =C7*B7 -> 0 | F7: CABO DE TURMA | G7: 1185.71
A8: Adicional de insalubridade | B8: 0 | C8: 0 | D8: 0 | F8: JARDINEIRO | G8: 1142.85
A9: Adicional noturno 20% | B9: 0 | C9: 0 | D9: 0 | F9: ASG | G9: 1000
C10: SALÁRIO BRUTO | D10: =SUM(D6:D9) -> 0
C11: ENCARGOS SOCIAIS (85,41%) | D11: =D10*'ENCARGOS SOCIAIS'!B38 -> 0
C12: CUSTO/MÊS | D12: =SUM(D10:D11) -> 0
A14: Benefícios
A15: DISCRIMINAÇÃO | B15: QUANTIDADE | C15: PREÇO UNITÁRIO | D15: SUB-TOTAL
A16: Vale transporte | B16: 1 | D16: =B16*C16 -> 0
A17: Vale refeição | B17: 1 | D17: =B17*C17 -> 0
A18: Cesta básica | B18: 1 | D18: =B18*C18 -> 0
A19: Assistência médica | B19: 1 | D19: =B19*C19 -> 0
A20: Cota Jovem Aprendiz | B20: 1 | D20: =B20*C20 -> 0
C21: =C12 -> CUSTO/MÊS | D21: =ROUND(SUM(D16:D20),2) -> 0
A23: Uniformes e EPI's
A24: DISCRIMINAÇÃO | B24: QUANTIDADE | C24: PREÇO UNITÁRIO | D24: SUB-TOTAL
A25: Bota de couro antiderrapante | B25: =2/12 -> 0.16666667 | D25: =B25*C25 -> 0
A26: Boné de brim | B26: =2/12 -> 0.16666667 | D26: =C26*B26 -> 0
A27: Meia em algodão | B27: =4/12 -> 0.33333333 | D27: =C27*B27 -> 0
A28: Calça jeans | B28: =2/12 -> 0.16666667 | D28: =C28*B28 -> 0
A29: Camisa polo manga curta | B29: =4/12 -> 0.33333333 | D29: =C29*B29 -> 0
C30: =C12 -> CUSTO/MÊS | D30: =ROUND(SUM(D25:D29),2) -> 0
C32: CUSTO HORA | D32: =ROUND(SUM(D30,D21,D12)/220,2) -> 0
C33: CUSTO MENSAL TOTAL | D33: =ROUND(SUM(D30,D21,D12),2) -> 0
C34: BDI (22,02%) | D34: =D33*BDI!C17 -> 0
C35: PREÇO MENSAL TOTAL | D35: =SUM(D33:D34) -> 0
A37: Mão de Obra - ENCARREGADO 44 HORAS
A38: DISCRIMINAÇÃO | B38: QUANTIDADE | C38: PREÇO UNITÁRIO | D38: SUB-TOTAL
A39: Salário | B39: 1 | D39: =C39*B39 -> 0
A40: Horas extras 100% (DOMINGOS) | B40: 0 | D40: =C40*B40 -> 0
A41: Adicional de insalubridade | B41: 0 | C41: 0 | D41: 0
A42: Adicional noturno 20% | B42: 0 | C42: 0 | D42: 0
C43: SALÁRIO BRUTO | D43: =ROUND(SUM(D39:D42),2) -> 0
C44: ENCARGOS SOCIAIS (85,41%) | D44: =D43*'ENCARGOS SOCIAIS'!B38 -> 0
C45: CUSTO/MÊS | D45: =SUM(D43:D44) -> 0
...

Sheet FORNECIMENTO DE MATERIAL - MERC
A2: COMPOSIÇÃO MATERIAL DE LIMPEZA CONSERVAÇÃO E HIGIENIZAÇÃO
C3: DISCRIMINAÇÃO
A5: FORNECIMENTO DE MATERIAL DE LIMPEZA E INSETICIDAS E RATICIDAS
A6: MERCADOS CENTRAIS (Maria Virginia Leite Franco, Thales Ferraz e Antônio Franco)
A8: DISCRIMINAÇÃO | B8: UNIDADE | C8: QUANTIDADE | D8: PREÇO UNITÁRIO | E8: SUB-TOTAL
A9: Álcool, de 1ª qualidade, 92° a 93°. | B9: litro | C9: 10 | E9: =D9*C9 -> 0
A10: Balde Mop 15 litros com escorredor, sistema de torção e enxague | B10: und | C10: 20 | E10: =D10*C10 -> 0
A11: Balde plástico preto com capacidade para 20 litros | B11: und | C11: 5 | E11: =D11*C11 -> 0
A12: Brodifacoum Técnico, bloco parafinado, embalado conforme consta no registro do produto. A embalagem deverá trazer externamente os dados de identificação, número do lote, data de fabricação e data de validade. Ingrediente Ativo: Brodifacoum 0,005 p/p. Grupo Químico: Hidroxicumarina. PRODUTO REFERÊNCIA: RATOL BLOCO PARAFINADO | B12: kg | C12: 8 | E12: =D12*C12 -> 0
A13: Brodifacoum Técnico, formulado com 100% de semente de girassol, embalado conforme consta no registro do produto. A embalagem deverá trazer externamente os dados de identificação, número do lote, data de fabricação e data de validade. Ingrediente Ativo: Brodifacoum 0,005 p/p. Grupo Químico: Hidroxicumarina. PRODUTO REFERÊNCIA: RATOL GRANULADO GS | B13: kg | C13: 20 | E13: =D13*C13 -> 0
A14: Cumatetralil 0,75% p/p, embalado conforme consta no registro do produto. A embalagem deverá trazer externamente os dados de identificação, número do lote, data de fabricação e data de validade. Ingrediente Ativo: Cumatetralil 0,75% Grupo químico: Hidroxicumarinas Formulação: Pó PRODUTO REFERÊNCIA: RACUMIN PÓ | B14: kg | C14: 20 | E14: =D14*C14 -> 0
A15: Desentupidor De Vaso Sanitário De Borracha com Cabo. Dimensões: AxLxP/ 57,0 x 30,0 x 30,0 cm | B15: und | C15: 5 | E15: =D15*C15 -> 0
A16: Desinfetante líquido para uso geral – Composição: componente ativo Cloreto de Alquil Dimetil Benzil Amônio e Cloreto de Dialquil Dimetil Amônio que elimine germes e bactérias. Embalagem mínima de 5L.(bactericida) | B16: und | C16: 120 | E16: =D16*C16 -> 0
A17: Detergente concentrado Pinho Gel – Composição: ácido linear alquilbenezeno sufônico, laurel éter sulfato de sódio, neutralizante, espessante, conservante, coadjuvante, corante e veículo; Para limpeza pesada de azulejos, bancadas, banheiros, fórmicas, paredes, pisos, superfícies laváveis em geral para remoção de óleos, gorduras, graxas e fuligem, superconcentrado com diluição aproximada de 1 para 60 litros de água. (deterg biodegradavel) | B17: litro | C17: 750 | E17: =D17*C17 -> 0
A18: Diclorvós 78% (p/p), embalado conforme consta no registro do produto. A embalagem deverá trazer externamente os dados de identificação, número do lote, data de fabricação e data de validade. Ingrediente Ativo: Diclorvós 78% Grupo Químico: Organofosforado Formulação: líquido PRODUTO REFERÊNCIA: DDVP ROGAMA 1000 CE | B18: litro | C18: 24 | E18: =D18*C18 -> 0
A19: Disco de lavar piso | B19: und | C19: 2 | E19: =D19*C19 -> 0
A20: Escova de mão modelo grande com fibras duras | B20: und | C20: 4 | E20: =D20*C20 -> 0
... A48: Vassourinha pra limpar vaso | B48: und | C48: 4 | E48: =D48*C48 -> 0
D49: CUSTO/MÊS | E49: =SUM(E9:E48) -> 0
D50: BDI DIFERENCIADO (17,26%) | E50: =E49*'BDI FORNECIMENTO DE MATERIAL'!C16 -> 0
D51: PREÇO/MÊS | E51: =SUM(E49:E50) -> 0

Sheet FORNECIMENTO DE MATERIAL - MILT
A2: COMPOSIÇÃO MATERIAL DE LIMPEZA CONSERVAÇÃO E HIGIENIZAÇÃO
C3: DISCRIMINAÇÃO
A5: FORNECIMENTO DE MATERIAL DE LIMPEZA E INSETICIDAS E RATICIDAS
A6: MERCADO MILTON SANTOS
A8: DISCRIMINAÇÃO | B8: UNIDADE | C8: QUANTIDADE | D8: PREÇO UNITÁRIO | E8: SUB-TOTAL
A9: Álcool, 70% em gel 1ª qualidade - refil para ser utilizado em dispenser tipo saboneteira. | B9: und | C9: 8 | E9: =D9*C9 -> 0
A10: Álcool, de 1ª qualidade, 92° a 93°. | B10: litro | C10: 8 | E10: =D10*C10 -> 0
A11: Balde plástico preto com capacidade para 20 litros | B11: und | C11: 4 | E11: =D11*C11 -> 0
A12: Brodifacoum Técnico, bloco parafinado, embalado conforme consta no registro do produto. A embalagem deverá trazer externamente os dados de identificação, número do lote, data de fabricação e data de validade. Ingrediente Ativo: Brodifacoum 0,005 p/p. Grupo Químico: Hidroxicumarina. PRODUTO REFERÊNCIA: RATOL BLOCO PARAFINADO | B12: kg | C12: 5 | E12: =D12*C12 -> 0
A13: Brodifacoum Técnico, formulado com 100% de semente de girassol, embalado conforme consta no registro do produto. A embalagem deverá trazer externamente os dados de identificação, número do lote, data de fabricação e data de validade. Ingrediente Ativo: Brodifacoum 0,005 p/p. Grupo Químico: Hidroxicumarina. PRODUTO REFERÊNCIA: RATOL GRANULADO GS | B13: kg | C13: 15 | E13: =D13*C13 -> 0
A14: Cumatetralil 0,75% p/p, embalado conforme consta no registro do produto. A embalagem deverá trazer externamente os dados de identificação, número do lote, data de fabricação e data de validade. Ingrediente Ativo: Cumatetralil 0,75% Grupo químico: Hidroxicumarinas Formulação: Pó PRODUTO REFERÊNCIA: RACUMIN PÓ | B14: kg | C14: 15 | E14: =D14*C14 -> 0
A15: Desentupidor De Vaso Sanitário De Borracha com Cabo. Dimensões: AxLxP/ 57,0 x 30,0 x 30,0 cm | B15: und | C15: 5 | E15: =D15*C15 -> 0
A16: Desinfetante líquido para uso geral – Composição: componente ativo Cloreto de Alquil Dimetil Benzil Amônio e Cloreto de Dialquil Dimetil Amônio que elimine germes e bactérias. Embalagem mínima de 5L.(bactericida) | B16: und | C16: 80 | E16: =D16*C16 -> 0
A17: Detergente concentrado Pinho Gel – Composição: ácido linear alquilbenezeno sufônico, laurel éter sulfato de sódio, neutralizante, espessante, conservante, coadjuvante, corante e veículo; Para limpeza pesada de azulejos, bancadas, banheiros, fórmicas, paredes, pisos, superfícies laváveis em geral para remoção de óleos, gorduras, graxas e fuligem, superconcentrado com diluição aproximada de 1 para 60 litros de água. (deterg biodegradavel) | B17: litro | C17: 550 | E17: =D17*C17 -> 0
A18: Desodorizador de ambiente, tipo spray, fragrância lavanda, contendo 500ml cada unidade (purificador de ar) | B18: und | C18: 44 | E18: =D18*C18 -> 0
A19: Diclorvós 78% (p/p), embalado conforme consta no registro do produto. A embalagem deverá trazer externamente os dados de identificação, número do lote, data de fabricação e data de validade. Ingrediente Ativo: Diclorvós 78% Grupo Químico: Organofosforado Formulação: líquido PRODUTO REFERÊNCIA: DDVP ROGAMA 1000 CE | B19: litro | C19: 20 | E19: =D19*C19 -> 0
A20: Disco de lavar piso | B20: und | C20: 2 | E20: =D20*C20 -> 0
... A51: Vassourinha pra limpar vaso | B51: und | C51: 3 | E51: =D51*C51 -> 0
D52: CUSTO/MÊS | E52: =SUM(E9:E51) -> 0
D53: BDI DIFERENCIADO (17,26%) | E53: =E52*'BDI FORNECIMENTO DE MATERIAL'!C16 -> 0
D54: PREÇO/MÊS | E54: =SUM(E52:E53) -> 0

Sheet FORNECIMENTO DE MATERIAL - ME-1
A2: COMPOSIÇÃO MATERIAL DE LIMPEZA CONSERVAÇÃO E HIGIENIZAÇÃO
C3: DISCRIMINAÇÃO
A5: FORNECIMENTO DE MATERIAL DE LIMPEZA E INSETICIDAS E RATICIDAS
A6: MERCADOS ROBERTO SILVEIRA (AMÉRICA)
A8: DISCRIMINAÇÃO | B8: UNIDADE | C8: QUANTIDADE | D8: PREÇO UNITÁRIO | E8: SUB-TOTAL
A9: Álcool, 70% em gel 1ª qualidade - refil para ser utilizado em dispenser tipo saboneteira. | B9: und | C9: 3 | E9: =D9*C9 -> 0
A10: Álcool, de 1ª qualidade, 92° a 93°. | B10: litro | C10: 3 | E10: =D10*C10 -> 0
A11: Ácido Muriático 5L | B11: und | C11: 2 | E11: =D11*C11 -> 0
A12: Balde plástico preto com capacidade para 20 litros | B12: und | C12: 2 | E12: =D12*C12 -> 0
A13: Brodifacoum Técnico, bloco parafinado, embalado conforme consta no registro do produto. A embalagem deverá trazer externamente os dados de identificação, número do lote, data de fabricação e data de validade. Ingrediente Ativo: Brodifacoum 0,005 p/p. Grupo Químico: Hidroxicumarina. PRODUTO REFERÊNCIA: RATOL BLOCO PARAFINADO | B13: kg | C13: 6 | E13: =D13*C13 -> 0
A14: Brodifacoum Técnico, formulado com 100% de semente de girassol, embalado conforme consta no registro do produto. A embalagem deverá trazer externamente os dados de identificação, número do lote, data de fabricação e data de validade. Ingrediente Ativo: Brodifacoum 0,005 p/p. Grupo Químico: Hidroxicumarina. PRODUTO REFERÊNCIA: RATOL GRANULADO GS | B14: kg | C14: 15 | E14: =D14*C14 -> 0
A15: Cumatetralil 0,75% p/p, embalado conforme consta no registro do produto. A embalagem deverá trazer externamente os dados de identificação, número do lote, data de fabricação e data de validade. Ingrediente Ativo: Cumatetralil 0,75% Grupo químico: Hidroxicumarinas Formulação: Pó PRODUTO REFERÊNCIA: RACUMIN PÓ | B15: kg | C15: 15 | E15: =D15*C15 -> 0
A16: Desentupidor De Vaso Sanitário De Borracha com Cabo. Dimensões: AxLxP/ 57,0 x 30,0 x 30,0 cm | B16: und | C16: 1 | E16: =D16*C16 -> 0
A17: Desinfetante líquido para uso geral – Composição: componente ativo Cloreto de Alquil Dimetil Benzil Amônio e Cloreto de Dialquil Dimetil Amônio que elimine germes e bactérias. Embalagem mínima de 5L.(bactericida) | B17: und | C17: 8 | E17: =D17*C17 -> 0
A18: Detergente concentrado Pinho Gel – Composição: ácido linear alquilbenezeno sufônico, laurel éter sulfato de sódio, neutralizante, espessante, conservante, coadjuvante, corante e veículo; Para limpeza pesada de azulejos, bancadas, banheiros, fórmicas, paredes, pisos, superfícies laváveis em geral para remoção de óleos, gorduras, graxas e fuligem, superconcentrado com diluição aproximada de 1 para 60 litros de água. (deterg biodegradavel) | B18: litro | C18: 6 | E18: =D18*C18 -> 0
A19: Desodorizador de ambiente, tipo spray, fragrância lavanda, contendo 500ml cada unidade (purificador de ar) | B19: und | C19: 5 | E19: =D19*C19 -> 0
A20: Diclorvós 78% (p/p), embalado conforme consta no registro do produto. A embalagem deverá trazer externamente os dados de identificação, número do lote, data de fabricação e data de validade. Ingrediente Ativo: Diclorvós 78% Grupo Químico: Organofosforado Formulação: líquido PRODUTO REFERÊNCIA: DDVP ROGAMA 1000 CE | B20: litro | C20: 15 | E20: =D20*C20 -> 0
... A47: Vassourinha pra limpar vaso | B47: und | C47: 4 | E47: =D47*C47 -> 0
D48: CUSTO/MÊS | E48: =SUM(E9:E47) -> 0
D49: BDI DIFERENCIADO (17,26%) | E49: =E48*'BDI FORNECIMENTO DE MATERIAL'!C16 -> 0
D50: PREÇO/MÊS | E50: =SUM(E48:E49) -> 0

Sheet FORNECIMENTO DE MATERIAL - ME-2
A2: COMPOSIÇÃO MATERIAL DE LIMPEZA CONSERVAÇÃO E HIGIENIZAÇÃO
C3: DISCRIMINAÇÃO
A5: FORNECIMENTO DE MATERIAL DE LIMPEZA E INSETICIDAS E RATICIDAS
A6: MERCADO VIANA DE ASSIS (SANTOS DUMONT)
A8: DISCRIMINAÇÃO | B8: UNIDADE | C8: QUANTIDADE | D8: PREÇO UNITÁRIO | E8: SUB-TOTAL
A9: Álcool, 70% em gel 1ª qualidade - refil para ser utilizado em dispenser tipo saboneteira. | B9: und | C9: 3 | E9: =D9*C9 -> 0
A10: Álcool, de 1ª qualidade, 92° a 93°. | B10: litro | C10: 3 | E10: =D10*C10 -> 0
A11: Ácido Muriático 5L | B11: und | C11: 4 | E11: =D11*C11 -> 0
A12: Balde plástico preto com capacidade para 20 litros | B12: und | C12: 3 | E12: =D12*C12 -> 0
A13: Brodifacoum Técnico, bloco parafinado, embalado conforme consta no registro do produto. A embalagem deverá trazer externamente os dados de identificação, número do lote, data de fabricação e data de validade. Ingrediente Ativo: Brodifacoum 0,005 p/p. Grupo Químico: Hidroxicumarina. PRODUTO REFERÊNCIA: RATOL BLOCO PARAFINADO | B13: kg | C13: 6 | E13: =D13*C13 -> 0
A14: Brodifacoum Técnico, formulado com 100% de semente de girassol, embalado conforme consta no registro do produto. A embalagem deverá trazer externamente os dados de identificação, número do lote, data de fabricação e data de validade. Ingrediente Ativo: Brodifacoum 0,005 p/p. Grupo Químico: Hidroxicumarina. PRODUTO REFERÊNCIA: RATOL GRANULADO GS | B14: kg | C14: 12 | E14: =D14*C14 -> 0
A15: Cumatetralil 0,75% p/p, embalado conforme consta no registro do produto. A embalagem deverá trazer externamente os dados de identificação, número do lote, data de fabricação e data de validade. Ingrediente Ativo: Cumatetralil 0,75% Grupo químico: Hidroxicumarinas Formulação: Pó PRODUTO REFERÊNCIA: RACUMIN PÓ | B15: kg | C15: 12 | E15: =D15*C15 -> 0
A16: Desentupidor De Vaso Sanitário De Borracha com Cabo. Dimensões: AxLxP/ 57,0 x 30,0 x 30,0 cm | B16: und | C16: 2 | E16: =D16*C16 -> 0
A17: Desinfetante líquido para uso geral – Composição: componente ativo Cloreto de Alquil Dimetil Benzil Amônio e Cloreto de Dialquil Dimetil Amônio que elimine germes e bactérias. Embalagem mínima de 5L.(bactericida) | B17: und | C17: 5 | E17: =D17*C17 -> 0
A18: Detergente concentrado Pinho Gel – Composição: ácido linear alquilbenezeno sufônico, laurel éter sulfato de sódio, neutralizante, espessante, conservante, coadjuvante, corante e veículo; Para limpeza pesada de azulejos, bancadas, banheiros, fórmicas, paredes, pisos, superfícies laváveis em geral para remoção de óleos, gorduras, graxas e fuligem, superconcentrado com diluição aproximada de 1 para 60 litros de água. (deterg biodegradavel) | B18: litro | C18: 4 | E18: =D18*C18 -> 0
A19: Desodorizador de ambiente, tipo spray, fragrância lavanda, contendo 500ml cada unidade (purificador de ar) | B19: und | C19: 2 | E19: =D19*C19 -> 0
A20: Diclorvós 78% (p/p), embalado conforme consta no registro do produto. A embalagem deverá trazer externamente os dados de identificação, número do lote, data de fabricação e data de validade. Ingrediente Ativo: Diclorvós 78% Grupo Químico: Organofosforado Formulação: líquido PRODUTO REFERÊNCIA: DDVP ROGAMA 1000 CE | B20: litro | C20: 15 | E20: =D20*C20 -> 0
... A48: Vassourinha pra limpar vaso | B48: und | C48: 3 | E48: =D48*C48 -> 0
D49: CUSTO/MÊS | E49: =SUM(E9:E48) -> 0
D50: BDI DIFERENCIADO (17,26%) | E50: =E49*'BDI FORNECIMENTO DE MATERIAL'!C16 -> 0
D51: PREÇO/MÊS | E51: =SUM(E49:E50) -> 0

Sheet FORNECIMENTO DE MATERIAL - ME-3
A2: COMPOSIÇÃO MATERIAL DE LIMPEZA CONSERVAÇÃO E HIGIENIZAÇÃO
C3: DISCRIMINAÇÃO
A5: FORNECIMENTO DE MATERIAL DE LIMPEZA E INSETICIDAS E RATICIDAS
A6: MERCADOS MIGUEL ARRAES (BUGIO)
A8: DISCRIMINAÇÃO | B8: UNIDADE | C8: QUANTIDADE | D8: PREÇO UNITÁRIO | E8: SUB-TOTAL
A9: Álcool, 70% em gel 1ª qualidade - refil para ser utilizado em dispenser tipo saboneteira. | B9: und | C9: 3 | E9: =D9*C9 -> 0
A10: Álcool, de 1ª qualidade, 92° a 93°. | B10: litro | C10: 3 | E10: =D10*C10 -> 0
A11: Ácido Muriático 5L | B11: und | C11: 4 | E11: =D11*C11 -> 0
A12: Balde plástico preto com capacidade para 20 litros | B12: und | C12: 3 | E12: =D12*C12 -> 0
A13: Brodifacoum Técnico, bloco parafinado, embalado conforme consta no registro do produto. A embalagem deverá trazer externamente os dados de identificação, número do lote, data de fabricação e data de validade. Ingrediente Ativo: Brodifacoum 0,005 p/p. Grupo Químico: Hidroxicumarina. PRODUTO REFERÊNCIA: RATOL BLOCO PARAFINADO | B13: kg | C13: 6 | E13: =D13*C13 -> 0
A14: Brodifacoum Técnico, formulado com 100% de semente de girassol, embalado conforme consta no registro do produto. A embalagem deverá trazer externamente os dados de identificação, número do lote, data de fabricação e data de validade. Ingrediente Ativo: Brodifacoum 0,005 p/p. Grupo Químico: Hidroxicumarina. PRODUTO REFERÊNCIA: RATOL GRANULADO GS | B14: kg | C14: 12 | E14: =D14*C14 -> 0
A15: Cumatetralil 0,75% p/p, embalado conforme consta no registro do produto. A embalagem deverá trazer externamente os dados de identificação, número do lote, data de fabricação e data de validade. Ingrediente Ativo: Cumatetralil 0,75% Grupo químico: Hidroxicumarinas Formulação: Pó PRODUTO REFERÊNCIA: RACUMIN PÓ | B15: kg | C15: 12 | E15: =D15*C15 -> 0
A16: Desentupidor De Vaso Sanitário De Borracha com Cabo. Dimensões: AxLxP/ 57,0 x 30,0 x 30,0 cm | B16: und | C16: 2 | E16: =D16*C16 -> 0
A17: Desinfetante líquido para uso geral – Composição: componente ativo Cloreto de Alquil Dimetil Benzil Amônio e Cloreto de Dialquil Dimetil Amônio que elimine germes e bactérias. Embalagem mínima de 5L.(bactericida) | B17: und | C17: 5 | E17: =D17*C17 -> 0
A18: Detergente concentrado Pinho Gel – Composição: ácido linear alquilbenezeno sufônico, laurel éter sulfato de sódio, neutralizante, espessante, conservante, coadjuvante, corante e veículo; Para limpeza pesada de azulejos, bancadas, banheiros, fórmicas, paredes, pisos, superfícies laváveis em geral para remoção de óleos, gorduras, graxas e fuligem, superconcentrado com diluição aproximada de 1 para 60 litros de água. (deterg biodegradavel) | B18: litro | C18: 4 | E18: =D18*C18 -> 0
A19: Desodorizador de ambiente, tipo spray, fragrância lavanda, contendo 500ml cada unidade (purificador de ar) | B19: und | C19: 2 | E19: =D19*C19 -> 0
A20: Diclorvós 78% (p/p), embalado conforme consta no registro do produto. A embalagem deverá trazer externamente os dados de identificação, número do lote, data de fabricação e data de validade. Ingrediente Ativo: Diclorvós 78% Grupo Químico: Organofosforado Formulação: líquido PRODUTO REFERÊNCIA: DDVP ROGAMA 1000 CE | B20: litro | C20: 15 | E20: =D20*C20 -> 0
... A48: Vassourinha pra limpar vaso | B48: und | C48: 3 | E48: =D48*C48 -> 0
D49: CUSTO/MÊS | E49: =SUM(E9:E48) -> 0
D50: BDI DIFERENCIADO (17,26%) | E50: =E49*'BDI FORNECIMENTO DE MATERIAL'!C16 -> 0
D51: PREÇO/MÊS | E51: =SUM(E49:E50) -> 0

Sheet FERRAMENTAS E MATERIAIS - MERCA
A2: FERRAMENTAS E MATERIAIS DE APOIO A PRODUÇÃO
C3: DISCRIMINAÇÃO
A4: DISCRIMINAÇÃO | B4: UNIDADE | C4: QUANTIDADE | D4: DEPRECIAÇÃO | E4: PREÇO UNITÁRIO | F4: SUB-TOTAL
A5: Alicate de corte corrente | B5: und | C5: 1 | D5: =1/12 -> 0.083333333 | F5: =C5*D5*E5 -> 0
A6: Alicate universal com isolamento | B6: und | C6: 1 | D6: =1/12 -> 0.083333333 | F6: =C6*D6*E6 -> 0
A7: Alicate volt-amperímetro | B7: und | C7: 1 | D7: =1/12 -> 0.083333333 | F7: =C7*D7*E7 -> 0
A8: Andaime tubolar (Aluguel) – de 1,0x1,5m, reforçados, plataforma antiderrapante, travas laterais (limitadora de movimentos), travas diagonais e rodízios | B8: m/mês | C8: 20 | D8: 0.5 | F8: =C8*D8*E8 -> 0
A9: Carrinho Lutocar 120L | B9: und | C9: 60 | D9: =1/12 -> 0.083333333 | F9: =C9*D9*E9 -> 0
A10: Carrinho Lutocar 240L | B10: und | C10: 40 | D10: =1/12 -> 0.083333333 | F10: =C10*D10*E10 -> 0
A11: Carro de mão capacidade 50 a 60l, pneu com câmara | B11: und | C11: 1 | D11: =1/12 -> 0.083333333 | F11: =C11*D11*E11 -> 0
A12: Carro funcional para limpeza padrão e conjunto com kit de limpeza/ lixeira com retirada frontal do lixo/esfregão /conjunto MOP/ pá de lixo. | B12: und | C12: 1 | D12: =1/12 -> 0.083333333 | F12: =C12*D12*E12 -> 0
A13: Carro plataforma transbloco em chapa de aço com guarda corpo, 1500x800x700mm, rodas pneumáticas 350x80mm, sendo dois giratórios com freio, carga 800kg. Para transbordo de resíduos até a caixa coletora | B13: und | C13: 2 | D13: =1/12 -> 0.083333333 | F13: =C13*D13*E13 -> 0
A14: Chave de Grifo 36' | B14: m/mês | C14: 1 | D14: =1/12 -> 0.083333333 | F14: =C14*D14*E14 -> 0
A15: Disco de Corte diamantado 110 x 20 mm | B15: und | C15: 5 | D15: =2/12 -> 0.16666667 | F15: =C15*D15*E15 -> 0
A16: Enceradeira Industrial 220v conservadora de piso para lavagem em locais de difícil acesso. | B16: und | C16: 2 | D16: =1/12 -> 0.083333333 | F16: =C16*D16*E16 -> 0
A17: Escada de fibra de vidro 17 degraus 3,30x5,40 metros com pés emborrachados | B17: und | C17: 1 | D17: =1/12 -> 0.083333333 | F17: =C17*D17*E17 -> 0
A18: Escada de fibra de vidro 23 degraus 4,20x7,20 metros com pés emborrachados | B18: und | C18: 1 | D18: =1/12 -> 0.083333333 | F18: =C18*D18*E18 -> 0
A19: Escada extensível 2x8 em alumínio com 16 degraus com pés emborrachados | B19: und | C19: 1 | D19: =1/12 -> 0.083333333 | F19: =C19*D19*E19 -> 0
A20: Extensão elétrica em cabo revestido PP 3 x 2,5mm² com no mínimo 100 m. | B20: und | C20: 1 | D20: =1/12 -> 0.083333333 | F20: =C20*D20*E20 -> 0
A21: Extensão elétrica em cabo revestido PP 3 x 2,5mm² com no mínimo 50 m. | B21: und | C21: 2 | D21: =1/12 -> 0.083333333 | F21: =C21*D21*E21 -> 0
A22: Furadeira elétrica bosch profissional ou similar | B22: und | C22: 1 | D22: =1/12 -> 0.083333333 | F22: =C22*D22*E22 -> 0
A23: Jogo de broca p/ concreto 7 peças bosch ou similar | B23: und | C23: 1 | D23: =1/12 -> 0.083333333 | F23: =C23*D23*E23 -> 0
A24: Jogo de broca p/ ferro 7 peças bosch ou similar | B24: und | C24: 1 | D24: =1/12 -> 0.083333333 | F24: =C24*D24*E24 -> 0
A25: Jogo de broca p/ madeira 7 peças bosch ou similar | B25: und | C25: 1 | D25: =1/12 -> 0.083333333 | F25: =C25*D25*E25 -> 0
A26: Jogo de chave de fenda 6 pcs Trmontina ou similar | B26: und | C26: 1 | D26: =1/12 -> 0.083333333 | F26: =C26*D26*E26 -> 0
A27: Jogo de chave phillips 6 pcs tramontina ou similar | B27: und | C27: 1 | D27: =1/12 -> 0.083333333 | F27: =C27*D27*E27 -> 0
... A35: Marreta 1kg com cabo | B35: und | C35: 1 | D35: =1/12 -> 0.083333333 | F35: =C35*D35*E35 -> 0
A36: Ponteiro de Aço | B36: und | C36: 2 | D36: =2/12 -> 0.16666667 | F36: =C36*D36*E36 -> 0
A37: Serra circular portátil/lixadeira | B37: und | C37: 2 | D37: =1/12 -> 0.083333333 | F37: =C37*D37*E37 -> 0
A38: Soprador de folhas a gasolina, fluxo de ar 720m3/h | B38: und | C38: 1 | D38: =1/12 -> 0.083333333 | F38: =C38*D38*E38 -> 0
A39: Serra Mármore 1500w 220v com 04 discos | B39: und | C39: 1 | D39: =1/12 -> 0.083333333 | F39: =C39*D39*E39 -> 0
A40: Talhadeira Chata 10" | B40: und | C40: 1 | D40: =2/12 -> 0.16666667 | F40: =C40*D40*E40 -> 0
A41: Martelete Demolidor 15Kg 220V | B41: und | C41: 1 | D41: =1/12 -> 0.083333333 | F41: =C41*D41*E41 -> 0
E42: CUSTO/MÊS | F42: =SUM(F5:F41) -> 0
E43: BDI (22,02%) | F43: =F42*BDI!C17 -> 0
E44: PREÇO/MÊS | F44: =ROUND(SUM(F42:F43),2) -> 0

Sheet ENCARGOS SOCIAIS
A2: COMPOSIÇÃO DE ENCARGOS SOCIAIS
A3: Encargos Sociais | C3: DISCRIMINAÇÃO
A5: GRUPO "A" - OBRIGAÇÕES SOCIAIS | B5: %
A6: 01 - INSS | B6: 0.2
A7: 02 - SESI OU SESC | B7: 0.015
A8: 03 - SENAI OU SENAC | B8: 0.01
A9: 04 - INCRA | B9: 0.002
A10: 05 - SALÁRIO EDUCAÇÃO | B10: 0.025
A11: 06 - FGTS | B11: 0.08
A12: 07 - SEGURO ACIDENTE DO TRABALHO/SAT/INSS (MÉDIO) | B12: 0.03
A13: 08 - SEBRAE | B13: 0.006
A14: 09 - OUTROS (Custos legais não previstos na planilha MODELO) | B14: 0
A15: TOTAL | B15: =SUM(B6:B14) -> 0.368
A17: GRUPO "B" - AUSÊNCIAS DE TRABALHO | B17: %
A18: 10 - FÉRIAS | B18: 0.1203
A19: 11 - AUXÍLIO DOENÇA | B19: 0.0185
A20: 12 - LICENÇA PATERNIDADE / MATERNIDADE | B20: 0.0133
A21: 13 - FALTAS LEGAIS | B21: 0.0228
A22: 14 - ACIDENTE DE TRABALHO | B22: 0.013
A23: 15 - AVISO PRÉVIO | B23: 0.0137
A24: 16 - 13º SALÁRIO | B24: 0.0833
A25: TOTAL | B25: =SUM(B18:B24) -> 0.2849
A27: GRUPO "C" - INDENIZAÇÕES | B27: %
A28: 17 - AVISO PRÉVIO INDENIZADO | B28: 0.0384
A29: 18 - INDENIZAÇÃO ADICIONAL | B29: 0.018
A30: 19 - FGTS NAS RESCISÕES SEM JUSTA CAUSA | B30: 0.04
A31: TOTAL | B31: =SUM(B28:B30) -> 0.0964
A33: GRUPO "D" - INCIDÊNCIA DO GRUPO "A" | B33: %
A34: 20 - INCIDÊNCIA DOS ENCARGOS DO GRUPO "A" SOBRE OS ITENS DO GRUPO "B" | B34: =B15*B25 -> 0.1048432
A35: TOTAL | B35: =SUM(B32:B34) -> 0.1048432
A38: TOTAL GERAL DOS ENCARGOS SOCIAIS (GRUPOS A + B + C + D) | B38: =B15+B25+B31+B35 -> 0.8541432

Sheet BDI
A2: COMPOSIÇÃO DE BDI
A4: Itens | B4: Discriminação | C4: %
A5: A | B5: Despesas indiretas (A1 + A2 + A3 + A4 + A5 +A6) | C5: =SUM(C6:C10) -> 0
A6: A1 | B6: Administração Central (Infra-estrutura + Pessoal Administrativo)
A7: A2 | B7: Seguro
A8: A3 | B8: Risco e Garantia
A9: A4 | B9: Despesas Indiretas
A10: A5 | B10: Despesas Financeiras
A11: B | B11: Lucro Bruto (antes do IRPJ e CSLL) | C11: 0
A12: C | B12: Impostos e taxas sobre o Faturamento (C1 + C2 + C3 + C4) | C12: =SUM(C13:C16) -> 0
A13: C1 | B13: PIS
A14: C2 | B14: COFINS
A15: C3 | B15: ISS
A16: C4 | B16: Taxa de Gerenciamento (EMSURB)
A17: BDI | C17: =TRUNC((1+C5)*(1+C11)/((1-(C12)))-1,4) -> 0
A18: Fórmula TCU:
A19: BDI = [(1 + A) x (1 + B) / (1 - C)] - 1

Sheet BDI FORNECIMENTO DE MATERIAL
A2: COMPOSIÇÃO DE BDI FORNECIMENTO DE MATERIAL
A4: Itens | B4: Discriminação | C4: %
A5: A | B5: Despesas indiretas (A1 + A2 + A3 + A4 + A5 +A6) | C5: =SUM(C6:C10) -> 0
A6: A1 | B6: Administração Central (Infra-estrutura + Pessoal Administrativo)
A7: A2 | B7: Seguro
A8: A3 | B8: Risco e Garantia
A9: A4 | B9: Despesas Indiretas
A10: A5 | B10: Despesas Financeiras
A11: B | B11: Lucro Bruto (antes do IRPJ e CSLL) | C11: 0
A12: C | B12: Impostos e taxas sobre o Faturamento (C1 + C2 + C3 + C4) | C12: =SUM(C13:C15) -> 0
A13: C1 | B13: PIS
A14: C2 | B14: COFINS
A15: C4 | B15: Taxa de Gerenciamento (EMSURB)
A16: BDI | C16: =TRUNC((1+C5)*(1+C11)/((1-(C12)))-1,4) -> 0
A17: Fórmula TCU:
A18: BDI = [(1 + A) x (1 + B) / (1 - C)] - 1

Sheet LISTA DE EPI
C3: DISCRIMINAÇÃO
A4: LISTA DE EPI
A6: DISCRIMINAÇÃO | B6: PREÇO UNITÁRIO
A7: Boné de brim
A8: Bota de couro antiderrapante
A9: Bota PVC cano longo
A10: Calça jeans
A11: Calça comprida de brim
A12: Camisa polo manga curta
A13: Camisa de brim manga curta
A14: Camisa de brim manga longa
A15: Capacete de segurança com jugular
A16: Cinto de segurança para-quedista em couro
A17: Colete de brim
A18: Luva de PVC cano longo
... A26: Respirador Alltec ref. 2002 ou similar
