Workbook

Sheet RESUMO
B5: Posto/ ITEM | C5: Cargo | D5: CBO | E5: Nivel | F5: Experiência Mínima | G5: C/H | H5: Qttvo postos | I5: Salário | J5: Custo unitário do posto | K5: Total Mensal | L5: Total Anual
B6: 1 | C6: Auxiliar Administrativo I | D6: 2523-05 | E6: NÍVEL FUNDAMENTAL | F6: sem experiência | G6: 40 | H6: ='POSTO 1 - Aux. Adm. I'!E135 -> 8 | I6: ='POSTO 1 - Aux. Adm. I'!E24 -> 1710.58 | J6: ='POSTO 1 - Aux. Adm. I'!E134 -> 1607.9452 | K6: =J6*H6 -> 12863.562 | L6: =K6*12 -> 154362.74
B7: 2 | C7: Auxiliar Administrativo II | D7: 2523-05 | E7: NÍVEL FUNDAMENTAL | F7: 6 meses | G7: 40 | H7: ='POSTO 2 - Aux. Adm. II'!E135 -> 11 | I7: ='POSTO 2 - Aux. Adm. II'!E24 -> 1824.89 | J7: ='POSTO 2 - Aux. Adm. II'!E134 -> 1715.3966 | K7: =J7*H7 -> 18869.363 | L7: =K7*12 -> 226432.35
B8: 3 | C8: Assistente Administrativo I | D8: 4110-10 | E8: NÍVEL MÉDIO | F8: 12 meses | G8: 40 | H8: ='POSTO 3 - Assist. Adm I'!E135 -> 10 | I8: ='POSTO 3 - Assist. Adm I'!E24 -> 2069.14 | J8: ='POSTO 3 - Assist. Adm I'!E134 -> 1944.9916 | K8: =J8*H8 -> 19449.916 | L8: =K8*12 -> 233398.99
B9: 4 | C9: Assistente Administrativo II | D9: 4110-10 | E9: NÍVEL MÉDIO | F9: 24 meses | G9: 40 | H9: ='POSTO 4 - Assist. Adm. II'!E135 -> 30 | I9: ='POSTO 4 - Assist. Adm. II'!E24 -> 2278.95 | J9: ='POSTO 4 - Assist. Adm. II'!E134 -> 2142.213 | K9: =J9*H9 -> 64266.39 | L9: =K9*12 -> 771196.68
B10: 5 | C10: Analista Administrativo Júnior | D10: 2521-05 | E10: NÍVEL SUPERIOR | F10: 30 meses | G10: 40 | H10: ='POSTO 5 - Analista Adm. Jr.'!E135 -> 4 | I10: ='POSTO 5 - Analista Adm. Jr.'!E24 -> 3454.97 | J10: ='POSTO 5 - Analista Adm. Jr.'!E134 -> 3247.6718 | K10: =J10*H10 -> 12990.687 | L10: =K10*12 -> 155888.25
B11: 6 | C11: Auxiliar de Laboratório I | D11: 5152-20 | E11: NÍVEL FUNDAMENTAL | F11: sem experiência | G11: 40 | H11: ='POSTO 6 - Aux. Lab. I'!E135 -> 11 | I11: ='POSTO 6 - Aux. Lab. I'!E24 -> 1710.58 | J11: ='POSTO 6 - Aux. Lab. I'!E134 -> 1607.9452 | K11: =J11*H11 -> 17687.397 | L11: =K11*12 -> 212248.77
B12: 7 | C12: Auxiliar de Laboratório II | D12: 5152-20 | E12: NÍVEL FUNDAMENTAL | F12: 06 meses | G12: 40 | H12: ='POSTO 7 - Aux. Lab. II'!E135 -> 12 | I12: ='POSTO 7 - Aux. Lab. II'!E24 -> 1824.89 | J12: ='POSTO 7 - Aux. Lab. II'!E134 -> 1715.3966 | K12: =J12*H12 -> 20584.759 | L12: =K12*12 -> 247017.11
B13: 8 | C13: Assistente de Laboratório I | D13: 3242-10 | E13: NÍVEL MÉDIO | F13: 12 meses | G13: 40 | H13: ='POSTO 8 - Assist. Lab. I'!E135 -> 8 | I13: ='POSTO 8 - Assist. Lab. I'!E24 -> 2069.14 | J13: ='POSTO 8 - Assist. Lab. I'!E134 -> 1944.9916 | K13: =J13*H13 -> 15559.933 | L13: =K13*12 -> 186719.19
B14: 9 | C14: Assistente de Laboratório II | D14: 3242-10 | E14: NÍVEL MÉDIO | F14: 24 meses | G14: 40 | H14: ='POSTO 9 - Assist. Lab. II'!E135 -> 10 | I14: ='POSTO 9 - Assist. Lab. II'!E24 -> 2278.95 | J14: ='POSTO 9 - Assist. Lab. II'!E134 -> 2142.213 | K14: =J14*H14 -> 21422.13 | L14: =K14*12 -> 257065.56
B15: 10 | C15: Auxiliar de Mantenção I | D15: 5143-25 | E15: NÍVEL FUNDAMENTAL | F15: sem experiência | G15: 40 | H15: ='POSTO 10 Aux de Manut I'!E135 -> 1 | I15: ='POSTO 10 Aux de Manut I'!E24 -> 1710.58 | J15: ='POSTO 10 Aux de Manut I'!E134 -> 1607.9452 | K15: =J15*H15 -> 1607.9452 | L15: =K15*12 -> 19295.342
B16: 11 | C16: Meio-Oficial de Manutenção I | D16: 5143-10 | E16: NÍVEL FUNDAMENTAL | F16: 12 meses | G16: 40 | H16: ='POSTO 11 Meio-Oficial Manut.I'!E135 -> 1 | I16: ='POSTO 11 Meio-Oficial Manut.I'!E24 -> 2069.14 | J16: ='POSTO 11 Meio-Oficial Manut.I'!E134 -> 1944.9916 | K16: =J16*H16 -> 1944.9916 | L16: =K16*12 -> 23339.899
B17: 12 | C17: Meio-Oficial de Manutenção II | D17: 5143-10 | E17: NÍVEL FUNDAMENTAL | F17: 24 meses | G17: 40 | H17: ='POSTO 12 Meio-Oficial Manut. II'!E135 -> 5 | I17: ='POSTO 12 Meio-Oficial Manut. II'!E24 -> 2278.95 | J17: ='POSTO 12 Meio-Oficial Manut. II'!E134 -> 2142.213 | K17: =J17*H17 -> 10711.065 | L17: =K17*12 -> 128532.78
B18: 13 | C18: Meio-Oficial de Manutenção III | D18: 5143-10 | E18: NÍVEL FUNDAMENTAL | F18: 30 meses | G18: 40 | H18: ='POSTO 13 Meio-Oficial Manut.III'!E135 -> 1 | I18: ='POSTO 13 Meio-Oficial Manut.III'!E24 -> 3454.97 | J18: ='POSTO 13 Meio-Oficial Manut.III'!E134 -> 3247.6718 | K18: =J18*H18 -> 3247.6718 | L18: =K18*12 -> 38972.062
B19: 14 | C19: Intérprete de Libras | D19: 2614-25 | E19: NÍVEL SUPERIOR | F19: 12 meses | G19: 40 | H19: ='POSTO 14 Intérprete de Libras'!E135 -> 1 | I19: ='POSTO 14 Intérprete de Libras'!E24 -> 3406.11 | J19: ='POSTO 14 Intérprete de Libras'!E134 -> 3201.7434 | K19: =J19*H19 -> 3201.7434 | L19: =K19*12 -> 38420.921
B20: 15 | C20: Psicólogo(a) | D20: 2515-40 | E20: NÍVEL SUPERIOR | F20: 12 meses | G20: 40 | H20: ='POSTO 15 Psicólogo'!E135 -> 1 | I20: ='POSTO 15 Psicólogo'!E24 -> 4991.14 | J20: ='POSTO 15 Psicólogo'!E134 -> 4691.6716 | K20: =J20*H20 -> 4691.6716 | L20: =K20*12 -> 56300.059
B21: 16 | C21: Assistente Social | D21: 2516-05 | E21: NÍVEL SUPERIOR | F21: 12 meses | G21: 40 | H21: ='POSTO 16 Assist. Social'!E135 -> 1 | I21: ='POSTO 16 Assist. Social'!E24 -> 4991.14 | J21: ='POSTO 16 Assist. Social'!E134 -> 4691.6716 | K21: =J21*H21 -> 4691.6716 | L21: =K21*12 -> 56300.059
B22: 17 | C22: Supervisão de Educação | D22: 1311-20 | E22: NÍVEL SUPERIOR | F22: 24 meses | G22: 40 | H22: ='POSTO 17 Supervisão de Educação'!E135 -> 1 | I22: ='POSTO 17 Supervisão de Educação'!E24 -> 6102.62 | J22: ='POSTO 17 Supervisão de Educação'!E134 -> 5736.4628 | K22: =J22*H22 -> 5736.4628 | L22: =K22*12 -> 68837.554
B23: Total de mão de obra | H23: =SUM(H6:H22) -> 116 | I23: Total | K23: =SUM(K6:K22) -> 239527.36 | L23: =+K23*12 -> 2874328.3
J24: Uniformes | K24: 11575.62 | L24: 11575.62
J25: Ttl global estimado | L25: =SUM(L23:L24) -> 2885903.9

Sheet Mão de Obra
B2: PLANILHA DE CUSTO E FORMAÇÃO DE PREÇOS
B4: DADOS COMPLEMENTARES PARA COMPOSIÇÃO DOS CUSTOS REFERENTE AOS SERVIÇOS
B5: Nº do Processo Administrativo:
B7: Local da Prestação dos Serviços:
B9: Descrição do Posto de Trabalho: Auxiliar Administrativo I
B12: Dados Complementares para Composição dos Custos com Mão de Obra
B13: Tipo de Jornada de Trabalho:
B14: 44 Horas Semanais (Segunda a Sexta)
B15: Descrição da Convenção Coletiva de Trabalho (CCT, ACT ou Dissídio Coletivo) | D15: Vigência da CCT, ACT ou Dissídio Coletivo:
B17: Classificação Brasileira de Ocupações (CBO) (MTE Nº)
B19: Piso Salarial Definido na CCT:
B20: 1412
B22: MÓDULO 1 - COMPOSIÇÃO DA REMUNERAÇÃO
B23: COMPOSIÇÃO DA REMUNERAÇÃO | D23: (%) | E23: VALOR (R$)
B24: A | C24: Salário Base | E24: 5000
B25: B | C25: Adicional Periculosidade | E25: 0
B26: C | C26: Adicional Insalubridade | E26: =D26*B20 -> 0
B27: D | C27: Adicional Noturno | E27: 0
B28: E | C28: Adicional de Hora Noturna Reduzida | E28: 0
B29: F | C29: Outros (especificar) | E29: 0
B30: TOTAL DO MÓDULO 1 | E30: =SUM(E24:E29) -> 5000
B32: MÓDULO 2 – ENCARGOS E BENEFÍCIOS ANUAIS, MENSAIS E DIÁRIOS
B33: Submódulo 2.1 - 13º Salário, Férias e Adicional de Férias | D33: (%) | E33: VALOR (R$)
B34: A | C34: 13 (Décimo-terceiro) salário | E34: =$E$30*D34 -> 0
B35: B | C35: Férias e Adicional de Férias | E35: =$E$30*D35 -> 0
B36: C | C36: Incidência dos encargos do submódulo 2.2 sobre Submódulo 2.1 - 13º Salário, Férias e Adicional de Férias | E36: =$E$30*D36 -> 0
B37: TOTAL SUBMÓDULO 2.1 | C37: Incidência dos encargos do submódulo 2.2 sobre Submódulo 2.1 - 13º Salário, Férias e Adicional de Férias | D37: =SUM(D34:D36) -> 0 | E37: =SUM(E34:E36) -> 0
B39: Submódulo 2.2 - GPS, FGTS e Outras Contribuições | D39: (%) | E39: VALOR (R$)
B40: A | C40: INSS | E40: =D40*$E$30 -> 0
B41: B | C41: Salário Educação | E41: =D41*$E$30 -> 0
B42: C | C42: SAT (Seguro Acidente de Trabalho) | E42: =D42*$E$30 -> 0
B43: D | C43: SESC ou SESI | E43: =D43*$E$30 -> 0
B44: E | C44: SENAI - SENAC | E44: =D44*$E$30 -> 0
B45: F | C45: SEBRAE | E45: =D45*$E$30 -> 0
B46: G | C46: INCRA | E46: =D46*$E$30 -> 0
B47: H | C47: FGTS | E47: =D47*$E$30 -> 0
B48: TOTAL SUBMÓDULO 2.2 | D48: =SUM(D40:D47) -> 0 | E48: =SUM(E40:E47) -> 0
B50: Submódulo 2.3 - Benefícios Mensais e Diários | D50: Valor Unitário | E50: VALOR (R$)
B51: A | C51: Transporte | E51: 0
B52: B | C52: Auxílio-Refeição/Alimentação | E52: 0
...

Sheet POSTO 1 - Aux. Adm. I
B2: PLANILHA DE CUSTO E FORMAÇÃO DE PREÇOS
B4: DADOS COMPLEMENTARES PARA COMPOSIÇÃO DOS CUSTOS REFERENTE AOS SERVIÇOS
B5: Nº do Processo Administrativo:
B7: Local da Prestação dos Serviços:
B9: Descrição do Posto de Trabalho:
B10: Auxiliar Administrativo I
B12: Dados Complementares para Composição dos Custos com Mão de Obra
B13: Tipo de Jornada de Trabalho:
B14: 40 Horas Semanais (Segunda a Sexta)
B15: Descrição da Convenção Coletiva de Trabalho (CCT, ACT ou Dissídio Coletivo) | D15: Vigência da CCT, ACT ou Dissídio Coletivo:
B17: Classificação Brasileira de Ocupações (CBO) (MTE Nº)
B19: Piso Salarial Definido na CCT (PISO NACIONAL 2024):
B20: 1412
B22: MÓDULO 1 - COMPOSIÇÃO DA REMUNERAÇÃO
B23: COMPOSIÇÃO DA REMUNERAÇÃO | D23: (%) | E23: VALOR (R$)
B24: A | C24: Salário Base | D24: ='Mão de Obra'!D24 -> 0 | E24: 1710.58
B25: B | C25: Adicional Periculosidade | D25: ='Mão de Obra'!D25 -> 0 | E25: 0
B26: C | C26: Adicional Insalubridade | D26: ='Mão de Obra'!D26 -> 0 | E26: =D26*B20 -> 0
B27: D | C27: Adicional Noturno | D27: ='Mão de Obra'!D27 -> 0 | E27: 0
B28: E | C28: Adicional de Hora Noturna Reduzida | D28: ='Mão de Obra'!D28 -> 0 | E28: 0
B29: F | C29: Outros (especificar) | D29: ='Mão de Obra'!D29 -> 0 | E29: 0
B30: TOTAL DO MÓDULO 1 | E30: =SUM(E24:E29) -> 1710.58
B32: MÓDULO 2 – ENCARGOS E BENEFÍCIOS ANUAIS, MENSAIS E DIÁRIOS
B33: Submódulo 2.1 - 13º Salário, Férias e Adicional de Férias | D33: (%) | E33: VALOR (R$)
B34: A | C34: 13 (Décimo-terceiro) salário | D34: ='Mão de Obra'!D34 -> 0 | E34: =$E$30*D34 -> 0
B35: B | C35: Férias e Adicional de Férias | D35: ='Mão de Obra'!D35 -> 0 | E35: =$E$30*D35 -> 0
B36: C | C36: Incidência dos encargos do submódulo 2.2 sobre Submódulo 2.1 - 13º Salário, Férias e Adicional de Férias | D36: ='Mão de Obra'!D36 -> 0 | E36: =$E$30*D36 -> 0
B37: TOTAL SUBMÓDULO 2.1 | C37: Incidência dos encargos do submódulo 2.2 sobre Submódulo 2.1 - 13º Salário, Férias e Adicional de Férias | D37: =SUM(D34:D36) -> 0 | E37: =SUM(E34:E36) -> 0
B39: Submódulo 2.2 - GPS, FGTS e Outras Contribuições | D39: (%) | E39: VALOR (R$)
B40: A | C40: INSS | D40: ='Mão de Obra'!D40 -> 0 | E40: =D40*$E$30 -> 0
B41: B | C41: Salário Educação | D41: ='Mão de Obra'!D41 -> 0 | E41: =D41*$E$30 -> 0
B42: C | C42: SAT (Seguro Acidente de Trabalho) | D42: ='Mão de Obra'!D42 -> 0 | E42: =D42*$E$30 -> 0
B43: D | C43: SESC ou SESI | D43: ='Mão de Obra'!D43 -> 0 | E43: =D43*$E$30 -> 0
B44: E | C44: SENAI - SENAC | D44: ='Mão de Obra'!D44 -> 0 | E44: =D44*$E$30 -> 0
B45: F | C45: SEBRAE | D45: ='Mão de Obra'!D45 -> 0 | E45: =D45*$E$30 -> 0
B46: G | C46: INCRA | D46: ='Mão de Obra'!D46 -> 0 | E46: =D46*$E$30 -> 0
B47: H | C47: FGTS | D47: ='Mão de Obra'!D47 -> 0 | E47: =D47*$E$30 -> 0
B48: TOTAL SUBMÓDULO 2.2 | D48: =SUM(D40:D47) -> 0 | E48: =SUM(E40:E47) -> 0
B50: Submódulo 2.3 - Benefícios Mensais e Diários | D50: Valor Unitário | E50: VALOR (R$)
B51: A | C51: Transporte | D51: ='Mão de Obra'!D51 -> 0 | E51: =(D51*4*22)-E24*6% -> -102.6348
...

Sheet POSTO 2 - Aux. Adm. II
B2: PLANILHA DE CUSTO E FORMAÇÃO DE PREÇOS
B4: DADOS COMPLEMENTARES PARA COMPOSIÇÃO DOS CUSTOS REFERENTE AOS SERVIÇOS
B5: Nº do Processo Administrativo:
B7: Local da Prestação dos Serviços:
B9: Descrição do Posto de Trabalho:
B10: Auxiliar Administrativo II
B12: Dados Complementares para Composição dos Custos com Mão de Obra
B13: Tipo de Jornada de Trabalho:
B14: 40 Horas Semanais (Segunda a Sexta)
B15: Descrição da Convenção Coletiva de Trabalho (CCT, ACT ou Dissídio Coletivo) | D15: Vigência da CCT, ACT ou Dissídio Coletivo:
B17: Classificação Brasileira de Ocupações (CBO) (MTE Nº)
B19: Piso Salarial Definido na CCT:
B20: 1412
B22: MÓDULO 1 - COMPOSIÇÃO DA REMUNERAÇÃO
B23: COMPOSIÇÃO DA REMUNERAÇÃO | D23: (%) | E23: VALOR (R$)
B24: A | C24: Salário Base | D24: ='Mão de Obra'!D24 -> 0 | E24: 1824.89
B25: B | C25: Adicional Periculosidade | D25: ='Mão de Obra'!D25 -> 0 | E25: 0
B26: C | C26: Adicional Insalubridade | D26: ='Mão de Obra'!D26 -> 0 | E26: =D26*B20 -> 0
B27: D | C27: Adicional Noturno | D27: ='Mão de Obra'!D27 -> 0 | E27: 0
B28: E | C28: Adicional de Hora Noturna Reduzida | D28: ='Mão de Obra'!D28 -> 0 | E28: 0
B29: F | C29: Outros (especificar) | D29: ='Mão de Obra'!D29 -> 0 | E29: 0
B30: TOTAL DO MÓDULO 1 | E30: =SUM(E24:E29) -> 1824.89
B32: MÓDULO 2 – ENCARGOS E BENEFÍCIOS ANUAIS, MENSAIS E DIÁRIOS
B33: Submódulo 2.1 - 13º Salário, Férias e Adicional de Férias | D33: (%) | E33: VALOR (R$)
B34: A | C34: 13 (Décimo-terceiro) salário | D34: ='Mão de Obra'!D34 -> 0 | E34: =$E$30*D34 -> 0
B35: B | C35: Férias e Adicional de Férias | D35: ='Mão de Obra'!D35 -> 0 | E35: =$E$30*D35 -> 0
B36: C | C36: Incidência dos encargos do submódulo 2.2 sobre Submódulo 2.1 - 13º Salário, Férias e Adicional de Férias | D36: ='Mão de Obra'!D36 -> 0 | E36: =$E$30*D36 -> 0
B37: TOTAL SUBMÓDULO 2.1 | C37: Incidência dos encargos do submódulo 2.2 sobre Submódulo 2.1 - 13º Salário, Férias e Adicional de Férias | D37: =SUM(D34:D36) -> 0 | E37: =SUM(E34:E36) -> 0
B39: Submódulo 2.2 - GPS, FGTS e Outras Contribuições | D39: (%) | E39: VALOR (R$)
B40: A | C40: INSS | D40: ='Mão de Obra'!D40 -> 0 | E40: =D40*$E$30 -> 0
B41: B | C41: Salário Educação | D41: ='Mão de Obra'!D41 -> 0 | E41: =D41*$E$30 -> 0
B42: C | C42: SAT (Seguro Acidente de Trabalho) | D42: ='Mão de Obra'!D42 -> 0 | E42: =D42*$E$30 -> 0
B43: D | C43: SESC ou SESI | D43: ='Mão de Obra'!D43 -> 0 | E43: =D43*$E$30 -> 0
B44: E | C44: SENAI - SENAC | D44: ='Mão de Obra'!D44 -> 0 | E44: =D44*$E$30 -> 0
B45: F | C45: SEBRAE | D45: ='Mão de Obra'!D45 -> 0 | E45: =D45*$E$30 -> 0
B46: G | C46: INCRA | D46: ='Mão de Obra'!D46 -> 0 | E46: =D46*$E$30 -> 0
B47: H | C47: FGTS | D47: ='Mão de Obra'!D47 -> 0 | E47: =D47*$E$30 -> 0
B48: TOTAL SUBMÓDULO 2.2 | D48: =SUM(D40:D47) -> 0 | E48: =SUM(E40:E47) -> 0
B50: Submódulo 2.3 - Benefícios Mensais e Diários | D50: Valor Unitário | E50: VALOR (R$)
B51: A | C51: Transporte | D51: ='Mão de Obra'!D51 -> 0 | E51: =(D51*4*22)-E24*6% -> -109.4934
...

Sheet POSTO 3 -  Assist. Adm I
B2: PLANILHA DE CUSTO E FORMAÇÃO DE PREÇOS
B4: DADOS COMPLEMENTARES PARA COMPOSIÇÃO DOS CUSTOS REFERENTE AOS SERVIÇOS
B5: Nº do Processo Administrativo:
B7: Local da Prestação dos Serviços:
B9: Descrição do Posto de Trabalho:
B10: Assistente Administrativo I
B12: Dados Complementares para Composição dos Custos com Mão de Obra
B13: Tipo de Jornada de Trabalho:
B14: 40 Horas Semanais (Segunda a Sexta)
B15: Descrição da Convenção Coletiva de Trabalho (CCT, ACT ou Dissídio Coletivo) | D15: Vigência da CCT, ACT ou Dissídio Coletivo:
B17: Classificação Brasileira de Ocupações (CBO) (MTE Nº)
B19: Piso Salarial Definido na CCT:
B20: 1412
B22: MÓDULO 1 - COMPOSIÇÃO DA REMUNERAÇÃO
B23: COMPOSIÇÃO DA REMUNERAÇÃO | D23: (%) | E23: VALOR (R$)
B24: A | C24: Salário Base | D24: ='Mão de Obra'!D24 -> 0 | E24: 2069.14
B25: B | C25: Adicional Periculosidade | D25: ='Mão de Obra'!D25 -> 0 | E25: 0
B26: C | C26: Adicional Insalubridade | D26: ='Mão de Obra'!D26 -> 0 | E26: =D26*B20 -> 0
B27: D | C27: Adicional Noturno | D27: ='Mão de Obra'!D27 -> 0 | E27: 0
B28: E | C28: Adicional de Hora Noturna Reduzida | D28: ='Mão de Obra'!D28 -> 0 | E28: 0
B29: F | C29: Outros (especificar) | D29: ='Mão de Obra'!D29 -> 0 | E29: 0
B30: TOTAL DO MÓDULO 1 | E30: =SUM(E24:E29) -> 2069.14
B32: MÓDULO 2 – ENCARGOS E BENEFÍCIOS ANUAIS, MENSAIS E DIÁRIOS
B33: Submódulo 2.1 - 13º Salário, Férias e Adicional de Férias | D33: (%) | E33: VALOR (R$)
B34: A | C34: 13 (Décimo-terceiro) salário | D34: ='Mão de Obra'!D34 -> 0 | E34: =$E$30*D34 -> 0
B35: B | C35: Férias e Adicional de Férias | D35: ='Mão de Obra'!D35 -> 0 | E35: =$E$30*D35 -> 0
B36: C | C36: Incidência dos encargos do submódulo 2.2 sobre Submódulo 2.1 - 13º Salário, Férias e Adicional de Férias | D36: ='Mão de Obra'!D36 -> 0 | E36: =$E$30*D36 -> 0
B37: TOTAL SUBMÓDULO 2.1 | C37: Incidência dos encargos do submódulo 2.2 sobre Submódulo 2.1 - 13º Salário, Férias e Adicional de Férias | D37: =SUM(D34:D36) -> 0 | E37: =SUM(E34:E36) -> 0
B39: Submódulo 2.2 - GPS, FGTS e Outras Contribuições | D39: (%) | E39: VALOR (R$)
B40: A | C40: INSS | D40: ='Mão de Obra'!D40 -> 0 | E40: =D40*$E$30 -> 0
B41: B | C41: Salário Educação | D41: ='Mão de Obra'!D41 -> 0 | E41: =D41*$E$30 -> 0
B42: C | C42: SAT (Seguro Acidente de Trabalho) | D42: ='Mão de Obra'!D42 -> 0 | E42: =D42*$E$30 -> 0
B43: D | C43: SESC ou SESI | D43: ='Mão de Obra'!D43 -> 0 | E43: =D43*$E$30 -> 0
B44: E | C44: SENAI - SENAC | D44: ='Mão de Obra'!D44 -> 0 | E44: =D44*$E$30 -> 0
B45: F | C45: SEBRAE | D45: ='Mão de Obra'!D45 -> 0 | E45: =D45*$E$30 -> 0
B46: G | C46: INCRA | D46: ='Mão de Obra'!D46 -> 0 | E46: =D46*$E$30 -> 0
B47: H | C47: FGTS | D47: ='Mão de Obra'!D47 -> 0 | E47: =D47*$E$30 -> 0
B48: TOTAL SUBMÓDULO 2.2 | D48: =SUM(D40:D47) -> 0 | E48: =SUM(E40:E47) -> 0
B50: Submódulo 2.3 - Benefícios Mensais e Diários | D50: Valor Unitário | E50: VALOR (R$)
B51: A | C51: Transporte | D51: ='Mão de Obra'!D51 -> 0 | E51: =(D51*4*22)-E24*6% -> -124.1484
...

Sheet POSTO 4 - Assist. Adm. II
B2: PLANILHA DE CUSTO E FORMAÇÃO DE PREÇOS
B4: DADOS COMPLEMENTARES PARA COMPOSIÇÃO DOS CUSTOS REFERENTE AOS SERVIÇOS
B5: Nº do Processo Administrativo:
B7: Local da Prestação dos Serviços:
B9: Descrição do Posto de Trabalho:
B10: Assistente Administrativo II
B12: Dados Complementares para Composição dos Custos com Mão de Obra
B13: Tipo de Jornada de Trabalho:
B14: 40 Horas Semanais (Segunda a Sexta)
B15: Descrição da Convenção Coletiva de Trabalho (CCT, ACT ou Dissídio Coletivo) | D15: Vigência da CCT, ACT ou Dissídio Coletivo:
B17: Classificação Brasileira de Ocupações (CBO) (MTE Nº)
B19: Piso Salarial Definido na CCT:
B20: 1412
B22: MÓDULO 1 - COMPOSIÇÃO DA REMUNERAÇÃO
B23: COMPOSIÇÃO DA REMUNERAÇÃO | D23: (%) | E23: VALOR (R$)
B24: A | C24: Salário Base | D24: ='Mão de Obra'!D24 -> 0 | E24: 2278.95
B25: B | C25: Adicional Periculosidade | D25: ='Mão de Obra'!D25 -> 0 | E25: 0
B26: C | C26: Adicional Insalubridade | D26: ='Mão de Obra'!D26 -> 0 | E26: =D26*B20 -> 0
B27: D | C27: Adicional Noturno | D27: ='Mão de Obra'!D27 -> 0 | E27: 0
B28: E | C28: Adicional de Hora Noturna Reduzida | D28: ='Mão de Obra'!D28 -> 0 | E28: 0
B29: F | C29: Outros (especificar) | D29: ='Mão de Obra'!D29 -> 0 | E29: 0
B30: TOTAL DO MÓDULO 1 | E30: =SUM(E24:E29) -> 2278.95
B32: MÓDULO 2 – ENCARGOS E BENEFÍCIOS ANUAIS, MENSAIS E DIÁRIOS
B33: Submódulo 2.1 - 13º Salário, Férias e Adicional de Férias | D33: (%) | E33: VALOR (R$)
B34: A | C34: 13 (Décimo-terceiro) salário | D34: ='Mão de Obra'!D34 -> 0 | E34: =$E$30*D34 -> 0
B35: B | C35: Férias e Adicional de Férias | D35: ='Mão de Obra'!D35 -> 0 | E35: =$E$30*D35 -> 0
B36: C | C36: Incidência dos encargos do submódulo 2.2 sobre Submódulo 2.1 - 13º Salário, Férias e Adicional de Férias | D36: ='Mão de Obra'!D36 -> 0 | E36: =$E$30*D36 -> 0
B37: TOTAL SUBMÓDULO 2.1 | C37: Incidência dos encargos do submódulo 2.2 sobre Submódulo 2.1 - 13º Salário, Férias e Adicional de Férias | D37: =SUM(D34:D36) -> 0 | E37: =SUM(E34:E36) -> 0
B39: Submódulo 2.2 - GPS, FGTS e Outras Contribuições | D39: (%) | E39: VALOR (R$)
B40: A | C40: INSS | D40: ='Mão de Obra'!D40 -> 0 | E40: =D40*$E$30 -> 0
B41: B | C41: Salário Educação | D41: ='Mão de Obra'!D41 -> 0 | E41: =D41*$E$30 -> 0
B42: C | C42: SAT (Seguro Acidente de Trabalho) | D42: ='Mão de Obra'!D42 -> 0 | E42: =D42*$E$30 -> 0
B43: D | C43: SESC ou SESI | D43: ='Mão de Obra'!D43 -> 0 | E43: =D43*$E$30 -> 0
B44: E | C44: SENAI - SENAC | D44: ='Mão de Obra'!D44 -> 0 | E44: =D44*$E$30 -> 0
B45: F | C45: SEBRAE | D45: ='Mão de Obra'!D45 -> 0 | E45: =D45*$E$30 -> 0
B46: G | C46: INCRA | D46: ='Mão de Obra'!D46 -> 0 | E46: =D46*$E$30 -> 0
B47: H | C47: FGTS | D47: ='Mão de Obra'!D47 -> 0 | E47: =D47*$E$30 -> 0
B48: TOTAL SUBMÓDULO 2.2 | D48: =SUM(D40:D47) -> 0 | E48: =SUM(E40:E47) -> 0
B50: Submódulo 2.3 - Benefícios Mensais e Diários | D50: Valor Unitário | E50: VALOR (R$)
B51: A | C51: Transporte | D51: ='Mão de Obra'!D51 -> 0 | E51: =(D51*4*22)-E24*6% -> -136.737
...

Sheet POSTO 5 - Analista Adm. Jr.
B2: PLANILHA DE CUSTO E FORMAÇÃO DE PREÇOS
B4: DADOS COMPLEMENTARES PARA COMPOSIÇÃO DOS CUSTOS REFERENTE AOS SERVIÇOS
B5: Nº do Processo Administrativo:
B7: Local da Prestação dos Serviços:
B9: Descrição do Posto de Trabalho:
B10: Analista Administrativo Júnior
B12: Dados Complementares para Composição dos Custos com Mão de Obra
B13: Tipo de Jornada de Trabalho:
B14: 40 Horas Semanais (Segunda a Sexta)
B15: Descrição da Convenção Coletiva de Trabalho (CCT, ACT ou Dissídio Coletivo) | D15: Vigência da CCT, ACT ou Dissídio Coletivo:
B17: Classificação Brasileira de Ocupações (CBO) (MTE Nº)
B19: Piso Salarial Definido na CCT:
B20: 1412
B22: MÓDULO 1 - COMPOSIÇÃO DA REMUNERAÇÃO
B23: COMPOSIÇÃO DA REMUNERAÇÃO | D23: (%) | E23: VALOR (R$)
B24: A | C24: Salário Base | D24: ='Mão de Obra'!D24 -> 0 | E24: 3454.97
B25: B | C25: Adicional Periculosidade | D25: ='Mão de Obra'!D25 -> 0 | E25: 0
B26: C | C26: Adicional Insalubridade | D26: ='Mão de Obra'!D26 -> 0 | E26: =D26*B20 -> 0
B27: D | C27: Adicional Noturno | D27: ='Mão de Obra'!D27 -> 0 | E27: 0
B28: E | C28: Adicional de Hora Noturna Reduzida | D28: ='Mão de Obra'!D28 -> 0 | E28: 0
B29: F | C29: Outros (especificar) | D29: ='Mão de Obra'!D29 -> 0 | E29: 0
B30: TOTAL DO MÓDULO 1 | E30: =SUM(E24:E29) -> 3454.97
B32: MÓDULO 2 – ENCARGOS E BENEFÍCIOS ANUAIS, MENSAIS E DIÁRIOS
B33: Submódulo 2.1 - 13º Salário, Férias e Adicional de Férias | D33: (%) | E33: VALOR (R$)
B34: A | C34: 13 (Décimo-terceiro) salário | D34: ='Mão de Obra'!D34 -> 0 | E34: =$E$30*D34 -> 0
B35: B | C35: Férias e Adicional de Férias | D35: ='Mão de Obra'!D35 -> 0 | E35: =$E$30*D35 -> 0
B36: C | C36: Incidência dos encargos do submódulo 2.2 sobre Submódulo 2.1 - 13º Salário, Férias e Adicional de Férias | D36: ='Mão de Obra'!D36 -> 0 | E36: =$E$30*D36 -> 0
B37: TOTAL SUBMÓDULO 2.1 | C37: Incidência dos encargos do submódulo 2.2 sobre Submódulo 2.1 - 13º Salário, Férias e Adicional de Férias | D37: =SUM(D34:D36) -> 0 | E37: =SUM(E34:E36) -> 0
B39: Submódulo 2.2 - GPS, FGTS e Outras Contribuições | D39: (%) | E39: VALOR (R$)
B40: A | C40: INSS | D40: ='Mão de Obra'!D40 -> 0 | E40: =D40*$E$30 -> 0
B41: B | C41: Salário Educação | D41: ='Mão de Obra'!D41 -> 0 | E41: =D41*$E$30 -> 0
B42: C | C42: SAT (Seguro Acidente de Trabalho) | D42: ='Mão de Obra'!D42 -> 0 | E42: =D42*$E$30 -> 0
B43: D | C43: SESC ou SESI | D43: ='Mão de Obra'!D43 -> 0 | E43: =D43*$E$30 -> 0
B44: E | C44: SENAI - SENAC | D44: ='Mão de Obra'!D44 -> 0 | E44: =D44*$E$30 -> 0
B45: F | C45: SEBRAE | D45: ='Mão de Obra'!D45 -> 0 | E45: =D45*$E$30 -> 0
B46: G | C46: INCRA | D46: ='Mão de Obra'!D46 -> 0 | E46: =D46*$E$30 -> 0
B47: H | C47: FGTS | D47: ='Mão de Obra'!D47 -> 0 | E47: =D47*$E$30 -> 0
B48: TOTAL SUBMÓDULO 2.2 | D48: =SUM(D40:D47) -> 0 | E48: =SUM(E40:E47) -> 0
B50: Submódulo 2.3 - Benefícios Mensais e Diários | D50: Valor Unitário | E50: VALOR (R$)
B51: A | C51: Transporte | D51: ='Mão de Obra'!D51 -> 0 | E51: =(D51*4*22)-E24*6% -> -207.2982
...

Sheet POSTO 6 - Aux. Lab. I
B2: PLANILHA DE CUSTO E FORMAÇÃO DE PREÇOS
B4: DADOS COMPLEMENTARES PARA COMPOSIÇÃO DOS CUSTOS REFERENTE AOS SERVIÇOS
B5: Nº do Processo Administrativo:
B7: Local da Prestação dos Serviços:
B9: Descrição do Posto de Trabalho:
B10: Auxiliar Laboratório I
B12: Dados Complementares para Composição dos Custos com Mão de Obra
B13: Tipo de Jornada de Trabalho:
B14: 40 Horas Semanais (Segunda a Sexta)
B15: Descrição da Convenção Coletiva de Trabalho (CCT, ACT ou Dissídio Coletivo) | D15: Vigência da CCT, ACT ou Dissídio Coletivo:
B17: Classificação Brasileira de Ocupações (CBO) (MTE Nº)
B19: Piso Salarial Definido na CCT:
B20: 1412
B22: MÓDULO 1 - COMPOSIÇÃO DA REMUNERAÇÃO
B23: COMPOSIÇÃO DA REMUNERAÇÃO | D23: (%) | E23: VALOR (R$)
B24: A | C24: Salário Base | D24: ='Mão de Obra'!D24 -> 0 | E24: 1710.58
B25: B | C25: Adicional Periculosidade | D25: ='Mão de Obra'!D25 -> 0 | E25: 0
B26: C | C26: Adicional Insalubridade | D26: ='Mão de Obra'!D26 -> 0 | E26: =D26*B20 -> 0
B27: D | C27: Adicional Noturno | D27: ='Mão de Obra'!D27 -> 0 | E27: 0
B28: E | C28: Adicional de Hora Noturna Reduzida | D28: ='Mão de Obra'!D28 -> 0 | E28: 0
B29: F | C29: Outros (especificar) | D29: ='Mão de Obra'!D29 -> 0 | E29: 0
B30: TOTAL DO MÓDULO 1 | E30: =SUM(E24:E29) -> 1710.58
B32: MÓDULO 2 – ENCARGOS E BENEFÍCIOS ANUAIS, MENSAIS E DIÁRIOS
B33: Submódulo 2.1 - 13º Salário, Férias e Adicional de Férias | D33: (%) | E33: VALOR (R$)
B34: A | C34: 13 (Décimo-terceiro) salário | D34: ='Mão de Obra'!D34 -> 0 | E34: =$E$30*D34 -> 0
B35: B | C35: Férias e Adicional de Férias | D35: ='Mão de Obra'!D35 -> 0 | E35: =$E$30*D35 -> 0
B36: C | C36: Incidência dos encargos do submódulo 2.2 sobre Submódulo 2.1 - 13º Salário, Férias e Adicional de Férias | D36: ='Mão de Obra'!D36 -> 0 | E36: =$E$30*D36 -> 0
B37: TOTAL SUBMÓDULO 2.1 | C37: Incidência dos encargos do submódulo 2.2 sobre Submódulo 2.1 - 13º Salário, Férias e Adicional de Férias | D37: =SUM(D34:D36) -> 0 | E37: =SUM(E34:E36) -> 0
B39: Submódulo 2.2 - GPS, FGTS e Outras Contribuições | D39: (%) | E39: VALOR (R$)
B40: A | C40: INSS | D40: ='Mão de Obra'!D40 -> 0 | E40: =D40*$E$30 -> 0
B41: B | C41: Salário Educação | D41: ='Mão de Obra'!D41 -> 0 | E41: =D41*$E$30 -> 0
B42: C | C42: SAT (Seguro Acidente de Trabalho) | D42: ='Mão de Obra'!D42 -> 0 | E42: =D42*$E$30 -> 0
B43: D | C43: SESC ou SESI | D43: ='Mão de Obra'!D43 -> 0 | E43: =D43*$E$30 -> 0
B44: E | C44: SENAI - SENAC | D44: ='Mão de Obra'!D44 -> 0 | E44: =D44*$E$30 -> 0
B45: F | C45: SEBRAE | D45: ='Mão de Obra'!D45 -> 0 | E45: =D45*$E$30 -> 0
B46: G | C46: INCRA | D46: ='Mão de Obra'!D46 -> 0 | E46: =D46*$E$30 -> 0
B47: H | C47: FGTS | D47: ='Mão de Obra'!D47 -> 0 | E47: =D47*$E$30 -> 0
B48: TOTAL SUBMÓDULO 2.2 | D48: =SUM(D40:D47) -> 0 | E48: =SUM(E40:E47) -> 0
B50: Submódulo 2.3 - Benefícios Mensais e Diários | D50: Valor Unitário | E50: VALOR (R$)
B51: A | C51: Transporte | D51: ='Mão de Obra'!D51 -> 0 | E51: =(D51*4*22)-E24*6% -> -102.6348
...

Sheet POSTO 7 - Aux. Lab. II
B2: PLANILHA DE CUSTO E FORMAÇÃO DE PREÇOS
B4: DADOS COMPLEMENTARES PARA COMPOSIÇÃO DOS CUSTOS REFERENTE AOS SERVIÇOS
B5: Nº do Processo Administrativo:
B7: Local da Prestação dos Serviços:
B9: Descrição do Posto de Trabalho:
B10: Auxiliar de Laboratório II
B12: Dados Complementares para Composição dos Custos com Mão de Obra
B13: Tipo de Jornada de Trabalho:
B14: 40 Horas Semanais (Segunda a Sexta)
B15: Descrição da Convenção Coletiva de Trabalho (CCT, ACT ou Dissídio Coletivo) | D15: Vigência da CCT, ACT ou Dissídio Coletivo:
B17: Classificação Brasileira de Ocupações (CBO) (MTE Nº)
B19: Piso Salarial Definido na CCT:
B20: 1412
B22: MÓDULO 1 - COMPOSIÇÃO DA REMUNERAÇÃO
B23: COMPOSIÇÃO DA REMUNERAÇÃO | D23: (%) | E23: VALOR (R$)
B24: A | C24: Salário Base | D24: ='Mão de Obra'!D24 -> 0 | E24: 1824.89
B25: B | C25: Adicional Periculosidade | D25: ='Mão de Obra'!D25 -> 0 | E25: 0
B26: C | C26: Adicional Insalubridade | D26: ='Mão de Obra'!D26 -> 0 | E26: =D26*B20 -> 0
B27: D | C27: Adicional Noturno | D27: ='Mão de Obra'!D27 -> 0 | E27: 0
B28: E | C28: Adicional de Hora Noturna Reduzida | D28: ='Mão de Obra'!D28 -> 0 | E28: 0
B29: F | C29: Outros (especificar) | D29: ='Mão de Obra'!D29 -> 0 | E29: 0
B30: TOTAL DO MÓDULO 1 | E30: =SUM(E24:E29) -> 1824.89
B32: MÓDULO 2 – ENCARGOS E BENEFÍCIOS ANUAIS, MENSAIS E DIÁRIOS
B33: Submódulo 2.1 - 13º Salário, Férias e Adicional de Férias | D33: (%) | E33: VALOR (R$)
B34: A | C34: 13 (Décimo-terceiro) salário | D34: ='Mão de Obra'!D34 -> 0 | E34: =$E$30*D34 -> 0
B35: B | C35: Férias e Adicional de Férias | D35: ='Mão de Obra'!D35 -> 0 | E35: =$E$30*D35 -> 0
B36: C | C36: Incidência dos encargos do submódulo 2.2 sobre Submódulo 2.1 - 13º Salário, Férias e Adicional de Férias | D36: ='Mão de Obra'!D36 -> 0 | E36: =$E$30*D36 -> 0
B37: TOTAL SUBMÓDULO 2.1 | C37: Incidência dos encargos do submódulo 2.2 sobre Submódulo 2.1 - 13º Salário, Férias e Adicional de Férias | D37: =SUM(D34:D36) -> 0 | E37: =SUM(E34:E36) -> 0
B39: Submódulo 2.2 - GPS, FGTS e Outras Contribuições | D39: (%) | E39: VALOR (R$)
B40: A | C40: INSS | D40: ='Mão de Obra'!D40 -> 0 | E40: =D40*$E$30 -> 0
B41: B | C41: Salário Educação | D41: ='Mão de Obra'!D41 -> 0 | E41: =D41*$E$30 -> 0
B42: C | C42: SAT (Seguro Acidente de Trabalho) | D42: ='Mão de Obra'!D42 -> 0 | E42: =D42*$E$30 -> 0
B43: D | C43: SESC ou SESI | D43: ='Mão de Obra'!D43 -> 0 | E43: =D43*$E$30 -> 0
B44: E | C44: SENAI - SENAC | D44: ='Mão de Obra'!D44 -> 0 | E44: =D44*$E$30 -> 0
B45: F | C45: SEBRAE | D45: ='Mão de Obra'!D45 -> 0 | E45: =D45*$E$30 -> 0
B46: G | C46: INCRA | D46: ='Mão de Obra'!D46 -> 0 | E46: =D46*$E$30 -> 0
B47: H | C47: FGTS | D47: ='Mão de Obra'!D47 -> 0 | E47: =D47*$E$30 -> 0
B48: TOTAL SUBMÓDULO 2.2 | D48: =SUM(D40:D47) -> 0 | E48: =SUM(E40:E47) -> 0
B50: Submódulo 2.3 - Benefícios Mensais e Diários | D50: Valor Unitário | E50: VALOR (R$)
B51: A | C51: Transporte | D51: ='Mão de Obra'!D51 -> 0 | E51: =(D51*4*22)-E24*6% -> -109.4934
...

Sheet POSTO 8 - Assist. Lab. I
B2: PLANILHA DE CUSTO E FORMAÇÃO DE PREÇOS
B4: DADOS COMPLEMENTARES PARA COMPOSIÇÃO DOS CUSTOS REFERENTE AOS SERVIÇOS
B5: Nº do Processo Administrativo:
B7: Local da Prestação dos Serviços:
B9: Descrição do Posto de Trabalho:
B10: Assistente de Laboratório I
B12: Dados Complementares para Composição dos Custos com Mão de Obra
B13: Tipo de Jornada de Trabalho:
B14: 40 Horas Semanais (Segunda a Sexta)
B15: Descrição da Convenção Coletiva de Trabalho (CCT, ACT ou Dissídio Coletivo) | D15: Vigência da CCT, ACT ou Dissídio Coletivo:
B17: Classificação Brasileira de Ocupações (CBO) (MTE Nº)
B19: Piso Salarial Definido na CCT:
B20: 1412
B22: MÓDULO 1 - COMPOSIÇÃO DA REMUNERAÇÃO
B23: COMPOSIÇÃO DA REMUNERAÇÃO | D23: (%) | E23: VALOR (R$)
B24: A | C24: Salário Base | D24: ='Mão de Obra'!D24 -> 0 | E24: 2069.14
B25: B | C25: Adicional Periculosidade | D25: ='Mão de Obra'!D25 -> 0 | E25: 0
B26: C | C26: Adicional Insalubridade | D26: ='Mão de Obra'!D26 -> 0 | E26: =D26*B20 -> 0
B27: D | C27: Adicional Noturno | D27: ='Mão de Obra'!D27 -> 0 | E27: 0
B28: E | C28: Adicional de Hora Noturna Reduzida | D28: ='Mão de Obra'!D28 -> 0 | E28: 0
B29: F | C29: Outros (especificar) | D29: ='Mão de Obra'!D29 -> 0 | E29: 0
B30: TOTAL DO MÓDULO 1 | E30: =SUM(E24:E29) -> 2069.14
B32: MÓDULO 2 – ENCARGOS E BENEFÍCIOS ANUAIS, MENSAIS E DIÁRIOS
B33: Submódulo 2.1 - 13º Salário, Férias e Adicional de Férias | D33: (%) | E33: VALOR (R$)
B34: A | C34: 13 (Décimo-terceiro) salário | D34: ='Mão de Obra'!D34 -> 0 | E34: =$E$30*D34 -> 0
B35: B | C35: Férias e Adicional de Férias | D35: ='Mão de Obra'!D35 -> 0 | E35: =$E$30*D35 -> 0
B36: C | C36: Incidência dos encargos do submódulo 2.2 sobre Submódulo 2.1 - 13º Salário, Férias e Adicional de Férias | D36: ='Mão de Obra'!D36 -> 0 | E36: =$E$30*D36 -> 0
B37: TOTAL SUBMÓDULO 2.1 | C37: Incidência dos encargos do submódulo 2.2 sobre Submódulo 2.1 - 13º Salário, Férias e Adicional de Férias | D37: =SUM(D34:D36) -> 0 | E37: =SUM(E34:E36) -> 0
B39: Submódulo 2.2 - GPS, FGTS e Outras Contribuições | D39: (%) | E39: VALOR (R$)
B40: A | C40: INSS | D40: ='Mão de Obra'!D40 -> 0 | E40: =D40*$E$30 -> 0
B41: B | C41: Salário Educação | D41: ='Mão de Obra'!D41 -> 0 | E41: =D41*$E$30 -> 0
B42: C | C42: SAT (Seguro Acidente de Trabalho) | D42: ='Mão de Obra'!D42 -> 0 | E42: =D42*$E$30 -> 0
B43: D | C43: SESC ou SESI | D43: ='Mão de Obra'!D43 -> 0 | E43: =D43*$E$30 -> 0
B44: E | C44: SENAI - SENAC | D44: ='Mão de Obra'!D44 -> 0 | E44: =D44*$E$30 -> 0
B45: F | C45: SEBRAE | D45: ='Mão de Obra'!D45 -> 0 | E45: =D45*$E$30 -> 0
B46: G | C46: INCRA | D46: ='Mão de Obra'!D46 -> 0 | E46: =D46*$E$30 -> 0
B47: H | C47: FGTS | D47: ='Mão de Obra'!D47 -> 0 | E47: =D47*$E$30 -> 0
B48: TOTAL SUBMÓDULO 2.2 | D48: =SUM(D40:D47) -> 0 | E48: =SUM(E40:E47) -> 0
B50: Submódulo 2.3 - Benefícios Mensais e Diários | D50: Valor Unitário | E50: VALOR (R$)
B51: A | C51: Transporte | D51: ='Mão de Obra'!D51 -> 0 | E51: =(D51*4*22)-E24*6% -> -124.1484
...

Sheet POSTO 9 - Assist. Lab. II
B2: PLANILHA DE CUSTO E FORMAÇÃO DE PREÇOS
B4: DADOS COMPLEMENTARES PARA COMPOSIÇÃO DOS CUSTOS REFERENTE AOS SERVIÇOS
B5: Nº do Processo Administrativo:
B7: Local da Prestação dos Serviços:
B9: Descrição do Posto de Trabalho:
B10: Assistente de Laboratório II
B12: Dados Complementares para Composição dos Custos com Mão de Obra
B13: Tipo de Jornada de Trabalho:
B14: 40 Horas Semanais (Segunda a Sexta)
B15: Descrição da Convenção Coletiva de Trabalho (CCT, ACT ou Dissídio Coletivo) | D15: Vigência da CCT, ACT ou Dissídio Coletivo:
B17: Classificação Brasileira de Ocupações (CBO) (MTE Nº)
B19: Piso Salarial Definido na CCT:
B20: 1412
B22: MÓDULO 1 - COMPOSIÇÃO DA REMUNERAÇÃO
B23: COMPOSIÇÃO DA REMUNERAÇÃO | D23: (%) | E23: VALOR (R$)
B24: A | C24: Salário Base | D24: ='Mão de Obra'!D24 -> 0 | E24: 2278.95
B25: B | C25: Adicional Periculosidade | D25: ='Mão de Obra'!D25 -> 0 | E25: 0
B26: C | C26: Adicional Insalubridade | D26: ='Mão de Obra'!D26 -> 0 | E26: =D26*B20 -> 0
B27: D | C27: Adicional Noturno | D27: ='Mão de Obra'!D27 -> 0 | E27: 0
B28: E | C28: Adicional de Hora Noturna Reduzida | D28: ='Mão de Obra'!D28 -> 0 | E28: 0
B29: F | C29: Outros (especificar) | D29: ='Mão de Obra'!D29 -> 0 | E29: 0
B30: TOTAL DO MÓDULO 1 | E30: =SUM(E24:E29) -> 2278.95
B32: MÓDULO 2 – ENCARGOS E BENEFÍCIOS ANUAIS, MENSAIS E DIÁRIOS
B33: Submódulo 2.1 - 13º Salário, Férias e Adicional de Férias | D33: (%) | E33: VALOR (R$)
B34: A | C34: 13 (Décimo-terceiro) salário | D34: ='Mão de Obra'!D34 -> 0 | E34: =$E$30*D34 -> 0
B35: B | C35: Férias e Adicional de Férias | D35: ='Mão de Obra'!D35 -> 0 | E35: =$E$30*D35 -> 0
B36: C | C36: Incidência dos encargos do submódulo 2.2 sobre Submódulo 2.1 - 13º Salário, Férias e Adicional de Férias | D36: ='Mão de Obra'!D36 -> 0 | E36: =$E$30*D36 -> 0
B37: TOTAL SUBMÓDULO 2.1 | C37: Incidência dos encargos do submódulo 2.2 sobre Submódulo 2.1 - 13º Salário, Férias e Adicional de Férias | D37: =SUM(D34:D36) -> 0 | E37: =SUM(E34:E36) -> 0
B39: Submódulo 2.2 - GPS, FGTS e Outras Contribuições | D39: (%) | E39: VALOR (R$)
B40: A | C40: INSS | D40: ='Mão de Obra'!D40 -> 0 | E40: =D40*$E$30 -> 0
B41: B | C41: Salário Educação | D41: ='Mão de Obra'!D41 -> 0 | E41: =D41*$E$30 -> 0
B42: C | C42: SAT (Seguro Acidente de Trabalho) | D42: ='Mão de Obra'!D42 -> 0 | E42: =D42*$E$30 -> 0
B43: D | C43: SESC ou SESI | D43: ='Mão de Obra'!D43 -> 0 | E43: =D43*$E$30 -> 0
B44: E | C44: SENAI - SENAC | D44: ='Mão de Obra'!D44 -> 0 | E44: =D44*$E$30 -> 0
B45: F | C45: SEBRAE | D45: ='Mão de Obra'!D45 -> 0 | E45: =D45*$E$30 -> 0
B46: G | C46: INCRA | D46: ='Mão de Obra'!D46 -> 0 | E46: =D46*$E$30 -> 0
B47: H | C47: FGTS | D47: ='Mão de Obra'!D47 -> 0 | E47: =D47*$E$30 -> 0
B48: TOTAL SUBMÓDULO 2.2 | D48: =SUM(D40:D47) -> 0 | E48: =SUM(E40:E47) -> 0
B50: Submódulo 2.3 - Benefícios Mensais e Diários | D50: Valor Unitário | E50: VALOR (R$)
B51: A | C51: Transporte | D51: ='Mão de Obra'!D51 -> 0 | E51: =(D51*4*22)-E24*6% -> -136.737
...

Sheet POSTO 10 Aux de Manut I
B2: PLANILHA DE CUSTO E FORMAÇÃO DE PREÇOS
B4: DADOS COMPLEMENTARES PARA COMPOSIÇÃO DOS CUSTOS REFERENTE AOS SERVIÇOS
B5: Nº do Processo Administrativo:
B7: Local da Prestação dos Serviços:
B9: Descrição do Posto de Trabalho:
B10: Auxiliar de Manutenção I
B12: Dados Complementares para Composição dos Custos com Mão de Obra
B13: Tipo de Jornada de Trabalho:
B14: 40 Horas Semanais (Segunda a Sexta)
B15: Descrição da Convenção Coletiva de Trabalho (CCT, ACT ou Dissídio Coletivo) | D15: Vigência da CCT, ACT ou Dissídio Coletivo:
B17: Classificação Brasileira de Ocupações (CBO) (MTE Nº)
B19: Piso Salarial Definido na CCT:
B20: 1412
B22: MÓDULO 1 - COMPOSIÇÃO DA REMUNERAÇÃO
B23: COMPOSIÇÃO DA REMUNERAÇÃO | D23: (%) | E23: VALOR (R$)
B24: A | C24: Salário Base | D24: ='Mão de Obra'!D24 -> 0 | E24: 1710.58
B25: B | C25: Adicional Periculosidade | D25: ='Mão de Obra'!D25 -> 0 | E25: 0
B26: C | C26: Adicional Insalubridade | D26: ='Mão de Obra'!D26 -> 0 | E26: =D26*B20 -> 0
B27: D | C27: Adicional Noturno | D27: ='Mão de Obra'!D27 -> 0 | E27: 0
B28: E | C28: Adicional de Hora Noturna Reduzida | D28: ='Mão de Obra'!D28 -> 0 | E28: 0
B29: F | C29: Outros (especificar) | D29: ='Mão de Obra'!D29 -> 0 | E29: 0
B30: TOTAL DO MÓDULO 1 | E30: =SUM(E24:E29) -> 1710.58
B32: MÓDULO 2 – ENCARGOS E BENEFÍCIOS ANUAIS, MENSAIS E DIÁRIOS
B33: Submódulo 2.1 - 13º Salário, Férias e Adicional de Férias | D33: (%) | E33: VALOR (R$)
B34: A | C34: 13 (Décimo-terceiro) salário | D34: ='Mão de Obra'!D34 -> 0 | E34: =$E$30*D34 -> 0
B35: B | C35: Férias e Adicional de Férias | D35: ='Mão de Obra'!D35 -> 0 | E35: =$E$30*D35 -> 0
B36: C | C36: Incidência dos encargos do submódulo 2.2 sobre Submódulo 2.1 - 13º Salário, Férias e Adicional de Férias | D36: ='Mão de Obra'!D36 -> 0 | E36: =$E$30*D36 -> 0
B37: TOTAL SUBMÓDULO 2.1 | C37: Incidência dos encargos do submódulo 2.2 sobre Submódulo 2.1 - 13º Salário, Férias e Adicional de Férias | D37: =SUM(D34:D36) -> 0 | E37: =SUM(E34:E36) -> 0
B39: Submódulo 2.2 - GPS, FGTS e Outras Contribuições | D39: (%) | E39: VALOR (R$)
B40: A | C40: INSS | D40: ='Mão de Obra'!D40 -> 0 | E40: =D40*$E$30 -> 0
B41: B | C41: Salário Educação | D41: ='Mão de Obra'!D41 -> 0 | E41: =D41*$E$30 -> 0
B42: C | C42: SAT (Seguro Acidente de Trabalho) | D42: ='Mão de Obra'!D42 -> 0 | E42: =D42*$E$30 -> 0
B43: D | C43: SESC ou SESI | D43: ='Mão de Obra'!D43 -> 0 | E43: =D43*$E$30 -> 0
B44: E | C44: SENAI - SENAC | D44: ='Mão de Obra'!D44 -> 0 | E44: =D44*$E$30 -> 0
B45: F | C45: SEBRAE | D45: ='Mão de Obra'!D45 -> 0 | E45: =D45*$E$30 -> 0
B46: G | C46: INCRA | D46: ='Mão de Obra'!D46 -> 0 | E46: =D46*$E$30 -> 0
B47: H | C47: FGTS | D47: ='Mão de Obra'!D47 -> 0 | E47: =D47*$E$30 -> 0
B48: TOTAL SUBMÓDULO 2.2 | D48: =SUM(D40:D47) -> 0 | E48: =SUM(E40:E47) -> 0
B50: Submódulo 2.3 - Benefícios Mensais e Diários | D50: Valor Unitário | E50: VALOR (R$)
B51: A | C51: Transporte | D51: ='Mão de Obra'!D51 -> 0 | E51: =(D51*4*22)-E24*6% -> -102.6348
...

Sheet POSTO 11 Meio-Oficial Manut.I
B2: PLANILHA DE CUSTO E FORMAÇÃO DE PREÇOS
B4: DADOS COMPLEMENTARES PARA COMPOSIÇÃO DOS CUSTOS REFERENTE AOS SERVIÇOS
B5: Nº do Processo Administrativo:
B7: Local da Prestação dos Serviços:
B9: Descrição do Posto de Trabalho:
B10: Meio-Oficial de Manutenção I
B12: Dados Complementares para Composição dos Custos com Mão de Obra
B13: Tipo de Jornada de Trabalho:
B14: 40 Horas Semanais (Segunda a Sexta)
B15: Descrição da Convenção Coletiva de Trabalho (CCT, ACT ou Dissídio Coletivo) | D15: Vigência da CCT, ACT ou Dissídio Coletivo:
B17: Classificação Brasileira de Ocupações (CBO) (MTE Nº)
B19: Piso Salarial Definido na CCT:
B20: 1412
B22: MÓDULO 1 - COMPOSIÇÃO DA REMUNERAÇÃO
B23: COMPOSIÇÃO DA REMUNERAÇÃO | D23: (%) | E23: VALOR (R$)
B24: A | C24: Salário Base | D24: ='Mão de Obra'!D24 -> 0 | E24: 2069.14
B25: B | C25: Adicional Periculosidade | D25: ='Mão de Obra'!D25 -> 0 | E25: 0
B26: C | C26: Adicional Insalubridade | D26: ='Mão de Obra'!D26 -> 0 | E26: =D26*B20 -> 0
B27: D | C27: Adicional Noturno | D27: ='Mão de Obra'!D27 -> 0 | E27: 0
B28: E | C28: Adicional de Hora Noturna Reduzida | D28: ='Mão de Obra'!D28 -> 0 | E28: 0
B29: F | C29: Outros (especificar) | D29: ='Mão de Obra'!D29 -> 0 | E29: 0
B30: TOTAL DO MÓDULO 1 | E30: =SUM(E24:E29) -> 2069.14
B32: MÓDULO 2 – ENCARGOS E BENEFÍCIOS ANUAIS, MENSAIS E DIÁRIOS
B33: Submódulo 2.1 - 13º Salário, Férias e Adicional de Férias | D33: (%) | E33: VALOR (R$)
B34: A | C34: 13 (Décimo-terceiro) salário | D34: ='Mão de Obra'!D34 -> 0 | E34: =$E$30*D34 -> 0
B35: B | C35: Férias e Adicional de Férias | D35: ='Mão de Obra'!D35 -> 0 | E35: =$E$30*D35 -> 0
B36: C | C36: Incidência dos encargos do submódulo 2.2 sobre Submódulo 2.1 - 13º Salário, Férias e Adicional de Férias | D36: ='Mão de Obra'!D36 -> 0 | E36: =$E$30*D36 -> 0
B37: TOTAL SUBMÓDULO 2.1 | C37: Incidência dos encargos do submódulo 2.2 sobre Submódulo 2.1 - 13º Salário, Férias e Adicional de Férias | D37: =SUM(D34:D36) -> 0 | E37: =SUM(E34:E36) -> 0
B39: Submódulo 2.2 - GPS, FGTS e Outras Contribuições | D39: (%) | E39: VALOR (R$)
B40: A | C40: INSS | D40: ='Mão de Obra'!D40 -> 0 | E40: =D40*$E$30 -> 0
B41: B | C41: Salário Educação | D41: ='Mão de Obra'!D41 -> 0 | E41: =D41*$E$30 -> 0
B42: C | C42: SAT (Seguro Acidente de Trabalho) | D42: ='Mão de Obra'!D42 -> 0 | E42: =D42*$E$30 -> 0
B43: D | C43: SESC ou SESI | D43: ='Mão de Obra'!D43 -> 0 | E43: =D43*$E$30 -> 0
B44: E | C44: SENAI - SENAC | D44: ='Mão de Obra'!D44 -> 0 | E44: =D44*$E$30 -> 0
B45: F | C45: SEBRAE | D45: ='Mão de Obra'!D45 -> 0 | E45: =D45*$E$30 -> 0
B46: G | C46: INCRA | D46: ='Mão de Obra'!D46 -> 0 | E46: =D46*$E$30 -> 0
B47: H | C47: FGTS | D47: ='Mão de Obra'!D47 -> 0 | E47: =D47*$E$30 -> 0
B48: TOTAL SUBMÓDULO 2.2 | D48: =SUM(D40:D47) -> 0 | E48: =SUM(E40:E47) -> 0
B50: Submódulo 2.3 - Benefícios Mensais e Diários | D50: Valor Unitário | E50: VALOR (R$)
B51: A | C51: Transporte | D51: ='Mão de Obra'!D51 -> 0 | E51: =(D51*4*22)-E24*6% -> -124.1484
...

Sheet POSTO 12 Meio-Oficial Manut. II
B2: PLANILHA DE CUSTO E FORMAÇÃO DE PREÇOS
B4: DADOS COMPLEMENTARES PARA COMPOSIÇÃO DOS CUSTOS REFERENTE AOS SERVIÇOS
B5: Nº do Processo Administrativo:
B7: Local da Prestação dos Serviços:
B9: Descrição do Posto de Trabalho:
B10: Meio-Oficial de Manutenção II
B12: Dados Complementares para Composição dos Custos com Mão de Obra
B13: Tipo de Jornada de Trabalho:
B14: 40 Horas Semanais (Segunda a Sexta)
B15: Descrição da Convenção Coletiva de Trabalho (CCT, ACT ou Dissídio Coletivo) | D15: Vigência da CCT, ACT ou Dissídio Coletivo:
B17: Classificação Brasileira de Ocupações (CBO) (MTE Nº)
B19: Piso Salarial Definido na CCT:
B20: 1412
B22: MÓDULO 1 - COMPOSIÇÃO DA REMUNERAÇÃO
B23: COMPOSIÇÃO DA REMUNERAÇÃO | D23: (%) | E23: VALOR (R$)
B24: A | C24: Salário Base | D24: ='Mão de Obra'!D24 -> 0 | E24: 2278.95
B25: B | C25: Adicional Periculosidade | D25: ='Mão de Obra'!D25 -> 0 | E25: 0
B26: C | C26: Adicional Insalubridade | D26: ='Mão de Obra'!D26 -> 0 | E26: =D26*B20 -> 0
B27: D | C27: Adicional Noturno | D27: ='Mão de Obra'!D27 -> 0 | E27: 0
B28: E | C28: Adicional de Hora Noturna Reduzida | D28: ='Mão de Obra'!D28 -> 0 | E28: 0
B29: F | C29: Outros (especificar) | D29: ='Mão de Obra'!D29 -> 0 | E29: 0
B30: TOTAL DO MÓDULO 1 | E30: =SUM(E24:E29) -> 2278.95
B32: MÓDULO 2 – ENCARGOS E BENEFÍCIOS ANUAIS, MENSAIS E DIÁRIOS
B33: Submódulo 2.1 - 13º Salário, Férias e Adicional de Férias | D33: (%) | E33: VALOR (R$)
B34: A | C34: 13 (Décimo-terceiro) salário | D34: ='Mão de Obra'!D34 -> 0 | E34: =$E$30*D34 -> 0
B35: B | C35: Férias e Adicional de Férias | D35: ='Mão de Obra'!D35 -> 0 | E35: =$E$30*D35 -> 0
B36: C | C36: Incidência dos encargos do submódulo 2.2 sobre Submódulo 2.1 - 13º Salário, Férias e Adicional de Férias | D36: ='Mão de Obra'!D36 -> 0 | E36: =$E$30*D36 -> 0
B37: TOTAL SUBMÓDULO 2.1 | C37: Incidência dos encargos do submódulo 2.2 sobre Submódulo 2.1 - 13º Salário, Férias e Adicional de Férias | D37: =SUM(D34:D36) -> 0 | E37: =SUM(E34:E36) -> 0
B39: Submódulo 2.2 - GPS, FGTS e Outras Contribuições | D39: (%) | E39: VALOR (R$)
B40: A | C40: INSS | D40: ='Mão de Obra'!D40 -> 0 | E40: =D40*$E$30 -> 0
B41: B | C41: Salário Educação | D41: ='Mão de Obra'!D41 -> 0 | E41: =D41*$E$30 -> 0
B42: C | C42: SAT (Seguro Acidente de Trabalho) | D42: ='Mão de Obra'!D42 -> 0 | E42: =D42*$E$30 -> 0
B43: D | C43: SESC ou SESI | D43: ='Mão de Obra'!D43 -> 0 | E43: =D43*$E$30 -> 0
B44: E | C44: SENAI - SENAC | D44: ='Mão de Obra'!D44 -> 0 | E44: =D44*$E$30 -> 0
B45: F | C45: SEBRAE | D45: ='Mão de Obra'!D45 -> 0 | E45: =D45*$E$30 -> 0
B46: G | C46: INCRA | D46: ='Mão de Obra'!D46 -> 0 | E46: =D46*$E$30 -> 0
B47: H | C47: FGTS | D47: ='Mão de Obra'!D47 -> 0 | E47: =D47*$E$30 -> 0
B48: TOTAL SUBMÓDULO 2.2 | D48: =SUM(D40:D47) -> 0 | E48: =SUM(E40:E47) -> 0
B50: Submódulo 2.3 - Benefícios Mensais e Diários | D50: Valor Unitário | E50: VALOR (R$)
B51: A | C51: Transporte | D51: ='Mão de Obra'!D51 -> 0 | E51: =(D51*4*22)-E24*6% -> -136.737
...

Sheet POSTO 13 Meio-Oficial Manut.III
B2: PLANILHA DE CUSTO E FORMAÇÃO DE PREÇOS
B4: DADOS COMPLEMENTARES PARA COMPOSIÇÃO DOS CUSTOS REFERENTE AOS SERVIÇOS
B5: Nº do Processo Administrativo:
B7: Local da Prestação dos Serviços:
B9: Descrição do Posto de Trabalho:
B10: Meio-Oficial de Manutenção III
B12: Dados Complementares para Composição dos Custos com Mão de Obra
B13: Tipo de Jornada de Trabalho:
B14: 40 Horas Semanais (Segunda a Sexta)
B15: Descrição da Convenção Coletiva de Trabalho (CCT, ACT ou Dissídio Coletivo) | D15: Vigência da CCT, ACT ou Dissídio Coletivo:
B17: Classificação Brasileira de Ocupações (CBO) (MTE Nº)
B19: Piso Salarial Definido na CCT:
B20: 1412
B22: MÓDULO 1 - COMPOSIÇÃO DA REMUNERAÇÃO
B23: COMPOSIÇÃO DA REMUNERAÇÃO | D23: (%) | E23: VALOR (R$)
B24: A | C24: Salário Base | D24: ='Mão de Obra'!D24 -> 0 | E24: 3454.97
B25: B | C25: Adicional Periculosidade | D25: ='Mão de Obra'!D25 -> 0 | E25: 0
B26: C | C26: Adicional Insalubridade | D26: ='Mão de Obra'!D26 -> 0 | E26: =D26*B20 -> 0
B27: D | C27: Adicional Noturno | D27: ='Mão de Obra'!D27 -> 0 | E27: 0
B28: E | C28: Adicional de Hora Noturna Reduzida | D28: ='Mão de Obra'!D28 -> 0 | E28: 0
B29: F | C29: Outros (especificar) | D29: ='Mão de Obra'!D29 -> 0 | E29: 0
B30: TOTAL DO MÓDULO 1 | E30: =SUM(E24:E29) -> 3454.97
B32: MÓDULO 2 – ENCARGOS E BENEFÍCIOS ANUAIS, MENSAIS E DIÁRIOS
B33: Submódulo 2.1 - 13º Salário, Férias e Adicional de Férias | D33: (%) | E33: VALOR (R$)
B34: A | C34: 13 (Décimo-terceiro) salário | D34: ='Mão de Obra'!D34 -> 0 | E34: =$E$30*D34 -> 0
B35: B | C35: Férias e Adicional de Férias | D35: ='Mão de Obra'!D35 -> 0 | E35: =$E$30*D35 -> 0
B36: C | C36: Incidência dos encargos do submódulo 2.2 sobre Submódulo 2.1 - 13º Salário, Férias e Adicional de Férias | D36: ='Mão de Obra'!D36 -> 0 | E36: =$E$30*D36 -> 0
B37: TOTAL SUBMÓDULO 2.1 | C37: Incidência dos encargos do submódulo 2.2 sobre Submódulo 2.1 - 13º Salário, Férias e Adicional de Férias | D37: =SUM(D34:D36) -> 0 | E37: =SUM(E34:E36) -> 0
B39: Submódulo 2.2 - GPS, FGTS e Outras Contribuições | D39: (%) | E39: VALOR (R$)
B40: A | C40: INSS | D40: ='Mão de Obra'!D40 -> 0 | E40: =D40*$E$30 -> 0
B41: B | C41: Salário Educação | D41: ='Mão de Obra'!D41 -> 0 | E41: =D41*$E$30 -> 0
B42: C | C42: SAT (Seguro Acidente de Trabalho) | D42: ='Mão de Obra'!D42 -> 0 | E42: =D42*$E$30 -> 0
B43: D | C43: SESC ou SESI | D43: ='Mão de Obra'!D43 -> 0 | E43: =D43*$E$30 -> 0
B44: E | C44: SENAI - SENAC | D44: ='Mão de Obra'!D44 -> 0 | E44: =D44*$E$30 -> 0
B45: F | C45: SEBRAE | D45: ='Mão de Obra'!D45 -> 0 | E45: =D45*$E$30 -> 0
B46: G | C46: INCRA | D46: ='Mão de Obra'!D46 -> 0 | E46: =D46*$E$30 -> 0
B47: H | C47: FGTS | D47: ='Mão de Obra'!D47 -> 0 | E47: =D47*$E$30 -> 0
B48: TOTAL SUBMÓDULO 2.2 | D48: =SUM(D40:D47) -> 0 | E48: =SUM(E40:E47) -> 0
B50: Submódulo 2.3 - Benefícios Mensais e Diários | D50: Valor Unitário | E50: VALOR (R$)
B51: A | C51: Transporte | D51: ='Mão de Obra'!D51 -> 0 | E51: =(D51*4*22)-E24*6% -> -207.2982
...

Sheet POSTO 14 Intérprete de Libras
B2: PLANILHA DE CUSTO E FORMAÇÃO DE PREÇOS
B4: DADOS COMPLEMENTARES PARA COMPOSIÇÃO DOS CUSTOS REFERENTE AOS SERVIÇOS
B5: Nº do Processo Administrativo:
B7: Local da Prestação dos Serviços:
B9: Descrição do Posto de Trabalho:
B10: Intérprete de Libras
B12: Dados Complementares para Composição dos Custos com Mão de Obra
B13: Tipo de Jornada de Trabalho:
B14: 40 Horas Semanais (Segunda a Sexta)
B15: Descrição da Convenção Coletiva de Trabalho (CCT, ACT ou Dissídio Coletivo) | D15: Vigência da CCT, ACT ou Dissídio Coletivo:
B17: Classificação Brasileira de Ocupações (CBO) (MTE Nº)
B19: Piso Salarial Definido na CCT:
B20: 1412
B22: MÓDULO 1 - COMPOSIÇÃO DA REMUNERAÇÃO
B23: COMPOSIÇÃO DA REMUNERAÇÃO | D23: (%) | E23: VALOR (R$)
B24: A | C24: Salário Base | D24: ='Mão de Obra'!D24 -> 0 | E24: 3406.11
B25: B | C25: Adicional Periculosidade | D25: ='Mão de Obra'!D25 -> 0 | E25: 0
B26: C | C26: Adicional Insalubridade | D26: ='Mão de Obra'!D26 -> 0 | E26: =D26*B20 -> 0
B27: D | C27: Adicional Noturno | D27: ='Mão de Obra'!D27 -> 0 | E27: 0
B28: E | C28: Adicional de Hora Noturna Reduzida | D28: ='Mão de Obra'!D28 -> 0 | E28: 0
B29: F | C29: Outros (especificar) | D29: ='Mão de Obra'!D29 -> 0 | E29: 0
B30: TOTAL DO MÓDULO 1 | E30: =SUM(E24:E29) -> 3406.11
B32: MÓDULO 2 – ENCARGOS E BENEFÍCIOS ANUAIS, MENSAIS E DIÁRIOS
B33: Submódulo 2.1 - 13º Salário, Férias e Adicional de Férias | D33: (%) | E33: VALOR (R$)
B34: A | C34: 13 (Décimo-terceiro) salário | D34: ='Mão de Obra'!D34 -> 0 | E34: =$E$30*D34 -> 0
B35: B | C35: Férias e Adicional de Férias | D35: ='Mão de Obra'!D35 -> 0 | E35: =$E$30*D35 -> 0
B36: C | C36: Incidência dos encargos do submódulo 2.2 sobre Submódulo 2.1 - 13º Salário, Férias e Adicional de Férias | D36: ='Mão de Obra'!D36 -> 0 | E36: =$E$30*D36 -> 0
B37: TOTAL SUBMÓDULO 2.1 | C37: Incidência dos encargos do submódulo 2.2 sobre Submódulo 2.1 - 13º Salário, Férias e Adicional de Férias | D37: =SUM(D34:D36) -> 0 | E37: =SUM(E34:E36) -> 0
B39: Submódulo 2.2 - GPS, FGTS e Outras Contribuições | D39: (%) | E39: VALOR (R$)
B40: A | C40: INSS | D40: ='Mão de Obra'!D40 -> 0 | E40: =D40*$E$30 -> 0
B41: B | C41: Salário Educação | D41: ='Mão de Obra'!D41 -> 0 | E41: =D41*$E$30 -> 0
B42: C | C42: SAT (Seguro Acidente de Trabalho) | D42: ='Mão de Obra'!D42 -> 0 | E42: =D42*$E$30 -> 0
B43: D | C43: SESC ou SESI | D43: ='Mão de Obra'!D43 -> 0 | E43: =D43*$E$30 -> 0
B44: E | C44: SENAI - SENAC | D44: ='Mão de Obra'!D44 -> 0 | E44: =D44*$E$30 -> 0
B45: F | C45: SEBRAE | D45: ='Mão de Obra'!D45 -> 0 | E45: =D45*$E$30 -> 0
B46: G | C46: INCRA | D46: ='Mão de Obra'!D46 -> 0 | E46: =D46*$E$30 -> 0
B47: H | C47: FGTS | D47: ='Mão de Obra'!D47 -> 0 | E47: =D47*$E$30 -> 0
B48: TOTAL SUBMÓDULO 2.2 | D48: =SUM(D40:D47) -> 0 | E48: =SUM(E40:E47) -> 0
B50: Submódulo 2.3 - Benefícios Mensais e Diários | D50: Valor Unitário | E50: VALOR (R$)
B51: A | C51: Transporte | D51: ='Mão de Obra'!D51 -> 0 | E51: =(D51*4*22)-E24*6% -> -204.3666
...

Sheet POSTO 15 Psicólogo
B2: PLANILHA DE CUSTO E FORMAÇÃO DE PREÇOS
B4: DADOS COMPLEMENTARES PARA COMPOSIÇÃO DOS CUSTOS REFERENTE AOS SERVIÇOS
B5: Nº do Processo Administrativo:
B7: Local da Prestação dos Serviços:
B9: Descrição do Posto de Trabalho:
B10: Psicólogo(a)
B12: Dados Complementares para Composição dos Custos com Mão de Obra
B13: Tipo de Jornada de Trabalho:
B14: 40 Horas Semanais (Segunda a Sexta)
B15: Descrição da Convenção Coletiva de Trabalho (CCT, ACT ou Dissídio Coletivo) | D15: Vigência da CCT, ACT ou Dissídio Coletivo:
B17: Classificação Brasileira de Ocupações (CBO) (MTE Nº)
B19: Piso Salarial Definido na CCT:
B20: 1412
B22: MÓDULO 1 - COMPOSIÇÃO DA REMUNERAÇÃO
B23: COMPOSIÇÃO DA REMUNERAÇÃO | D23: (%) | E23: VALOR (R$)
B24: A | C24: Salário Base | D24: ='Mão de Obra'!D24 -> 0 | E24: 4991.14
B25: B | C25: Adicional Periculosidade | D25: ='Mão de Obra'!D25 -> 0 | E25: 0
B26: C | C26: Adicional Insalubridade | D26: ='Mão de Obra'!D26 -> 0 | E26: =D26*B20 -> 0
B27: D | C27: Adicional Noturno | D27: ='Mão de Obra'!D27 -> 0 | E27: 0
B28: E | C28: Adicional de Hora Noturna Reduzida | D28: ='Mão de Obra'!D28 -> 0 | E28: 0
B29: F | C29: Outros (especificar) | D29: ='Mão de Obra'!D29 -> 0 | E29: 0
B30: TOTAL DO MÓDULO 1 | E30: =SUM(E24:E29) -> 4991.14
B32: MÓDULO 2 – ENCARGOS E BENEFÍCIOS ANUAIS, MENSAIS E DIÁRIOS
B33: Submódulo 2.1 - 13º Salário, Férias e Adicional de Férias | D33: (%) | E33: VALOR (R$)
B34: A | C34: 13 (Décimo-terceiro) salário | D34: ='Mão de Obra'!D34 -> 0 | E34: =$E$30*D34 -> 0
B35: B | C35: Férias e Adicional de Férias | D35: ='Mão de Obra'!D35 -> 0 | E35: =$E$30*D35 -> 0
B36: C | C36: Incidência dos encargos do submódulo 2.2 sobre Submódulo 2.1 - 13º Salário, Férias e Adicional de Férias | D36: ='Mão de Obra'!D36 -> 0 | E36: =$E$30*D36 -> 0
B37: TOTAL SUBMÓDULO 2.1 | C37: Incidência dos encargos do submódulo 2.2 sobre Submódulo 2.1 - 13º Salário, Férias e Adicional de Férias | D37: =SUM(D34:D36) -> 0 | E37: =SUM(E34:E36) -> 0
B39: Submódulo 2.2 - GPS, FGTS e Outras Contribuições | D39: (%) | E39: VALOR (R$)
B40: A | C40: INSS | D40: ='Mão de Obra'!D40 -> 0 | E40: =D40*$E$30 -> 0
B41: B | C41: Salário Educação | D41: ='Mão de Obra'!D41 -> 0 | E41: =D41*$E$30 -> 0
B42: C | C42: SAT (Seguro Acidente de Trabalho) | D42: ='Mão de Obra'!D42 -> 0 | E42: =D42*$E$30 -> 0
B43: D | C43: SESC ou SESI | D43: ='Mão de Obra'!D43 -> 0 | E43: =D43*$E$30 -> 0
B44: E | C44: SENAI - SENAC | D44: ='Mão de Obra'!D44 -> 0 | E44: =D44*$E$30 -> 0
B45: F | C45: SEBRAE | D45: ='Mão de Obra'!D45 -> 0 | E45: =D45*$E$30 -> 0
B46: G | C46: INCRA | D46: ='Mão de Obra'!D46 -> 0 | E46: =D46*$E$30 -> 0
B47: H | C47: FGTS | D47: ='Mão de Obra'!D47 -> 0 | E47: =D47*$E$30 -> 0
B48: TOTAL SUBMÓDULO 2.2 | D48: =SUM(D40:D47) -> 0 | E48: =SUM(E40:E47) -> 0
B50: Submódulo 2.3 - Benefícios Mensais e Diários | D50: Valor Unitário | E50: VALOR (R$)
B51: A | C51: Transporte | D51: ='Mão de Obra'!D51 -> 0 | E51: =(D51*4*22)-E24*6% -> -299.4684
...

Sheet POSTO 16 Assist. Social
B2: PLANILHA DE CUSTO E FORMAÇÃO DE PREÇOS
B4: DADOS COMPLEMENTARES PARA COMPOSIÇÃO DOS CUSTOS REFERENTE AOS SERVIÇOS
B5: Nº do Processo Administrativo:
B7: Local da Prestação dos Serviços:
B9: Descrição do Posto de Trabalho:
B10: Assistente Social
B12: Dados Complementares para Composição dos Custos com Mão de Obra
B13: Tipo de Jornada de Trabalho:
B14: 40 Horas Semanais (Segunda a Sexta)
B15: Descrição da Convenção Coletiva de Trabalho (CCT, ACT ou Dissídio Coletivo) | D15: Vigência da CCT, ACT ou Dissídio Coletivo:
B17: Classificação Brasileira de Ocupações (CBO) (MTE Nº)
B19: Piso Salarial Definido na CCT:
B20: 1412
B22: MÓDULO 1 - COMPOSIÇÃO DA REMUNERAÇÃO
B23: COMPOSIÇÃO DA REMUNERAÇÃO | D23: (%) | E23: VALOR (R$)
B24: A | C24: Salário Base | D24: ='Mão de Obra'!D24 -> 0 | E24: 4991.14
B25: B | C25: Adicional Periculosidade | D25: ='Mão de Obra'!D25 -> 0 | E25: 0
B26: C | C26: Adicional Insalubridade | D26: ='Mão de Obra'!D26 -> 0 | E26: =D26*B20 -> 0
B27: D | C27: Adicional Noturno | D27: ='Mão de Obra'!D27 -> 0 | E27: 0
B28: E | C28: Adicional de Hora Noturna Reduzida | D28: ='Mão de Obra'!D28 -> 0 | E28: 0
B29: F | C29: Outros (especificar) | D29: ='Mão de Obra'!D29 -> 0 | E29: 0
B30: TOTAL DO MÓDULO 1 | E30: =SUM(E24:E29) -> 4991.14
B32: MÓDULO 2 – ENCARGOS E BENEFÍCIOS ANUAIS, MENSAIS E DIÁRIOS
B33: Submódulo 2.1 - 13º Salário, Férias e Adicional de Férias | D33: (%) | E33: VALOR (R$)
B34: A | C34: 13 (Décimo-terceiro) salário | D34: ='Mão de Obra'!D34 -> 0 | E34: =$E$30*D34 -> 0
B35: B | C35: Férias e Adicional de Férias | D35: ='Mão de Obra'!D35 -> 0 | E35: =$E$30*D35 -> 0
B36: C | C36: Incidência dos encargos do submódulo 2.2 sobre Submódulo 2.1 - 13º Salário, Férias e Adicional de Férias | D36: ='Mão de Obra'!D36 -> 0 | E36: =$E$30*D36 -> 0
B37: TOTAL SUBMÓDULO 2.1 | C37: Incidência dos encargos do submódulo 2.2 sobre Submódulo 2.1 - 13º Salário, Férias e Adicional de Férias | D37: =SUM(D34:D36) -> 0 | E37: =SUM(E34:E36) -> 0
B39: Submódulo 2.2 - GPS, FGTS e Outras Contribuições | D39: (%) | E39: VALOR (R$)
B40: A | C40: INSS | D40: ='Mão de Obra'!D40 -> 0 | E40: =D40*$E$30 -> 0
B41: B | C41: Salário Educação | D41: ='Mão de Obra'!D41 -> 0 | E41: =D41*$E$30 -> 0
B42: C | C42: SAT (Seguro Acidente de Trabalho) | D42: ='Mão de Obra'!D42 -> 0 | E42: =D42*$E$30 -> 0
B43: D | C43: SESC ou SESI | D43: ='Mão de Obra'!D43 -> 0 | E43: =D43*$E$30 -> 0
B44: E | C44: SENAI - SENAC | D44: ='Mão de Obra'!D44 -> 0 | E44: =D44*$E$30 -> 0
B45: F | C45: SEBRAE | D45: ='Mão de Obra'!D45 -> 0 | E45: =D45*$E$30 -> 0
B46: G | C46: INCRA | D46: ='Mão de Obra'!D46 -> 0 | E46: =D46*$E$30 -> 0
B47: H | C47: FGTS | D47: ='Mão de Obra'!D47 -> 0 | E47: =D47*$E$30 -> 0
B48: TOTAL SUBMÓDULO 2.2 | D48: =SUM(D40:D47) -> 0 | E48: =SUM(E40:E47) -> 0
B50: Submódulo 2.3 - Benefícios Mensais e Diários | D50: Valor Unitário | E50: VALOR (R$)
B51: A | C51: Transporte | D51: ='Mão de Obra'!D51 -> 0 | E51: =(D51*4*22)-E24*6% -> -299.4684
...

Sheet POSTO 17 Supervisão de Educação
B2: PLANILHA DE CUSTO E FORMAÇÃO DE PREÇOS
B4: DADOS COMPLEMENTARES PARA COMPOSIÇÃO DOS CUSTOS REFERENTE AOS SERVIÇOS
B5: Nº do Processo Administrativo:
B7: Local da Prestação dos Serviços:
B9: Descrição do Posto de Trabalho:
B10: Supervisão de Educação
B12: Dados Complementares para Composição dos Custos com Mão de Obra
B13: Tipo de Jornada de Trabalho:
B14: 40 Horas Semanais (Segunda a Sexta)
B15: Descrição da Convenção Coletiva de Trabalho (CCT, ACT ou Dissídio Coletivo) | D15: Vigência da CCT, ACT ou Dissídio Coletivo:
B17: Classificação Brasileira de Ocupações (CBO) (MTE Nº)
B19: Piso Salarial Definido na CCT:
B20: 1412
B22: MÓDULO 1 - COMPOSIÇÃO DA REMUNERAÇÃO
B23: COMPOSIÇÃO DA REMUNERAÇÃO | D23: (%) | E23: VALOR (R$)
B24: A | C24: Salário Base | D24: ='Mão de Obra'!D24 -> 0 | E24: 6102.62
B25: B | C25: Adicional Periculosidade | D25: ='Mão de Obra'!D25 -> 0 | E25: 0
B26: C | C26: Adicional Insalubridade | D26: ='Mão de Obra'!D26 -> 0 | E26: =D26*B20 -> 0
B27: D | C27: Adicional Noturno | D27: ='Mão de Obra'!D27 -> 0 | E27: 0
B28: E | C28: Adicional de Hora Noturna Reduzida | D28: ='Mão de Obra'!D28 -> 0 | E28: 0
B29: F | C29: Outros (especificar) | D29: ='Mão de Obra'!D29 -> 0 | E29: 0
B30: TOTAL DO MÓDULO 1 | E30: =SUM(E24:E29) -> 6102.62
B32: MÓDULO 2 – ENCARGOS E BENEFÍCIOS ANUAIS, MENSAIS E DIÁRIOS
B33: Submódulo 2.1 - 13º Salário, Férias e Adicional de Férias | D33: (%) | E33: VALOR (R$)
B34: A | C34: 13 (Décimo-terceiro) salário | D34: ='Mão de Obra'!D34 -> 0 | E34: =$E$30*D34 -> 0
B35: B | C35: Férias e Adicional de Férias | D35: ='Mão de Obra'!D35 -> 0 | E35: =$E$30*D35 -> 0
B36: C | C36: Incidência dos encargos do submódulo 2.2 sobre Submódulo 2.1 - 13º Salário, Férias e Adicional de Férias | D36: ='Mão de Obra'!D36 -> 0 | E36: =$E$30*D36 -> 0
B37: TOTAL SUBMÓDULO 2.1 | C37: Incidência dos encargos do submódulo 2.2 sobre Submódulo 2.1 - 13º Salário, Férias e Adicional de Férias | D37: =SUM(D34:D36) -> 0 | E37: =SUM(E34:E36) -> 0
B39: Submódulo 2.2 - GPS, FGTS e Outras Contribuições | D39: (%) | E39: VALOR (R$)
B40: A | C40: INSS | D40: ='Mão de Obra'!D40 -> 0 | E40: =D40*$E$30 -> 0
B41: B | C41: Salário Educação | D41: ='Mão de Obra'!D41 -> 0 | E41: =D41*$E$30 -> 0
B42: C | C42: SAT (Seguro Acidente de Trabalho) | D42: ='Mão de Obra'!D42 -> 0 | E42: =D42*$E$30 -> 0
B43: D | C43: SESC ou SESI | D43: ='Mão de Obra'!D43 -> 0 | E43: =D43*$E$30 -> 0
B44: E | C44: SENAI - SENAC | D44: ='Mão de Obra'!D44 -> 0 | E44: =D44*$E$30 -> 0
B45: F | C45: SEBRAE | D45: ='Mão de Obra'!D45 -> 0 | E45: =D45*$E$30 -> 0
B46: G | C46: INCRA | D46: ='Mão de Obra'!D46 -> 0 | E46: =D46*$E$30 -> 0
B47: H | C47: FGTS | D47: ='Mão de Obra'!D47 -> 0 | E47: =D47*$E$30 -> 0
B48: TOTAL SUBMÓDULO 2.2 | D48: =SUM(D40:D47) -> 0 | E48: =SUM(E40:E47) -> 0
B50: Submódulo 2.3 - Benefícios Mensais e Diários | D50: Valor Unitário | E50: VALOR (R$)
B51: A | C51: Transporte | D51: ='Mão de Obra'!D51 -> 0 | E51: =(D51*4*22)-E24*6% -> -366.1572
...
