Workbook
Name ASG: MdO!$E$15
Name ASG_: MdO!$E$15
Name Auxiliar_de_Serviços_Gerais: MdO!$E$15

Sheet PROPOSTA
A1: PLANILHA DE CUSTOS E FORMAÇÃO DE PREÇOS
A3: ANEXO (I)
A4: PROCESSO Nº: 25380.000286/2026-74
A5: PREGÃO ELETRÔNICO:
A6: OBJETO: Contratação de empresa especializada para prestação dos serviços continuados de apoio administrativo e técnico operacional ao desenvolvimento das atividades de competência do Instituto de Comunicação e Informação Científica e Tecnológica em Saúde, sob o regime de dedicação exclusiva de mão de obra.
A11: IDENTIFICAÇÃO
A12: RAZÃO SOCIAL:
A13: CNPJ (MF):
A14: ENDEREÇO: | F14: UF: | G14: CEP:
A15: TELEFONE: | B15: ( )
A16: EMAIL:
A17: DATA:
A19: Indicação do Dissídio ou Convenção Coletiva de Trabalho e Data Base da Categoria:
A23: POSTOS DE TRABALHO | B23: QUANTIDADE | C23: VALOR MENSAL POR POSTO - R$ | E23: VALOR TOTAL MENSAL - R$
A24: =MdO!B149 -> Assistente de Informação e Comunicação | B24: =MdO!D149 -> 27 | C24: =MdO!F149 -> 11424.957 | E24: =+C24*B24 -> 308473.83
A25: =MdO!B150 -> Assistente de Restauração de Livros e Documentos | B25: =MdO!D150 -> 11 | C25: =MdO!F150 -> 11470.697 | E25: =C25*B25 -> 126177.66
A26: =MdO!B151 -> Analista de Informação e Comunicação | B26: =MdO!D151 -> 35 | C26: =MdO!F151 -> 13520.783 | E26: =C26*B26 -> 473227.41
A27: =MdO!B152 -> Analista de Gestão da Informação e Comunicação | B27: =MdO!D152 -> 30 | C27: =MdO!F152 -> 18402.755 | E27: =C27*B27 -> 552082.65
A28: =MdO!B153 -> Analista Técnico-Administrativo de Informação e Comunicação | B28: =MdO!D153 -> 9 | C28: =MdO!F153 -> 19923.708 | E28: =C28*B28 -> 179313.37
A29: =MdO!B154 -> Especialista Técnico-Administrativo de Informação e Comunicação | B29: =MdO!D154 -> 2 | C29: =MdO!F154 -> 26876.636 | E29: =C29*B29 -> 53753.272
A30: Total dos Postos | B30: =SUM(B24:B29) -> 114 | C30: =SUM(C24:D29) -> 101619.54 | E30: =SUM(E24:I29) -> 1693028.2
A32: TOTAL MENSAL DA NECESSIDADE | E32: =E30 -> 1693028.2
A34: TOTAL ANUAL (DOZE MESES) | E34: =E32*12 -> 20316338
A37: Valor total da proposta por extenso:
A39: Nos preços ofertados estão incluídos todos os custos e despesas necessários ao cumprimento do objeto da licitação. O prazo de validade desta Proposta de Preço é de 60 dias corridos, a contar da data de sua apresentação.
A41: Local e Data _____________________________________________ Assinatura e identificação do Responsável ________________________________________________

Sheet MdO
A1: PLANILHA DE CUSTOS E FORMAÇÃO DE PREÇOS
A2: Processo Nº: 25001.016221/2022-34
A3: Data da apresentação da proposta (dia/mês/ano): ___/___/_____
A4: Município/UF:
A5: Ano Acordo,Convenção ou Sentença Normativa em Dissídio Coletivo:
A6: Nº de meses de execução contratual: 12 (Doze meses)
A7: Mão-de-obra vinculada à execução contratual
A8: Identificação do Serviço:
A9: Salário para o cálculo de Periculosidade:
A10: Salário Normativo da Categoria Profissional:
A11: Categoria profissional (vinculada à execução contratual):
A12: Data base da categoria (dia/mês/ano):
A15: DESCRIÇÃO | C15: =A148 -> CARGO | E15: =B149 -> Assistente de Informação e Comunicação | F15: =B150 -> Assistente de Restauração de Livros e Documentos | G15: =B151 -> Analista de Informação e Comunicação | H15: =B152 -> Analista de Gestão da Informação e Comunicação | I15: =B153 -> Analista Técnico-Administrativo de Informação e Comunicação | J15: =B154 -> Especialista Técnico-Administrativo de Informação e Comunicação
C16: CBO | E16: 4110-10 | F16: 7687-10 | G16: 2521-05 | H16: 2521-05 | I16: 2521-05 | J16: 2521-05
C17: =C148 -> SALÁRIO | E17: =C149 -> 4500 | F17: =C150 -> 4500 | G17: =C151 -> 5500 | H17: =C152 -> 7800 | I17: =C153 -> 8500 | J17: =C154 -> 11700
C18: =D148 -> QUANTIDADE DE POSTOS | E18: =D149 -> 27 | F18: =D150 -> 11 | G18: =D151 -> 35 | H18: =D152 -> 30 | I18: =D153 -> 9 | J18: =D154 -> 2
A20: Módulo 1 - Composição da Remuneração
A21: 1 | B21: Composição da Remuneração | D21: Percentual (%) | E21: Valor (R$) | F21: Valor (R$) | G21: Valor (R$) | H21: Valor (R$) | I21: Valor (R$) | J21: Valor (R$)
A22: A | B22: Salário-Base | E22: =+E17 -> 4500 | F22: =+F17 -> 4500 | G22: =+G17 -> 5500 | H22: =+H17 -> 7800 | I22: =+I17 -> 8500 | J22: =+J17 -> 11700
A23: B | B23: Adicional de Insalubridade (Conforme CCT)
A24: C | B24: Adicional Noturno
A25: D | B25: Adicional de Hora Noturna Reduzida
A26: F | B26: Outros (Especificar)
A27: Total | E27: =SUM(E22:E26) -> 4500 | F27: =SUM(F22:F26) -> 4500 | G27: =SUM(G22:G26) -> 5500 | H27: =SUM(H22:H26) -> 7800 | I27: =SUM(I22:I26) -> 8500 | J27: =SUM(J22:J26) -> 11700
A30: Módulo 2 - Encargos e Benefícios Anuais, Mensais e Diários
A32: Submódulo 2.1 - 13º (décimo terceiro) Salário, Férias e Adicional de Férias
A34: 2.1 | B34: 13º (décimo terceiro) Salário, Férias e Adicional de Férias | D34: Percentual (%) | E34: Valor (R$) | F34: Valor (R$) | G34: Valor (R$) | H34: Valor (R$) | I34: Valor (R$) | J34: Valor (R$)
A35: A | B35: 13º (décimo terceiro) Salário | D35: 0.0833 | E35: =+E27*$D$35 -> 374.85 | F35: =+F27*$D$35 -> 374.85 | G35: =+G27*$D$35 -> 458.15 | H35: =+H27*$D$35 -> 649.74 | I35: =+I27*$D$35 -> 708.05 | J35: =+J27*$D$35 -> 974.61
A36: B | B36: Férias e Adicional de Férias | D36: 0.121 | E36: =+E27*$D$36 -> 544.5 | F36: =+F27*$D$36 -> 544.5 | G36: =+G27*$D$36 -> 665.5 | H36: =+H27*$D$36 -> 943.8 | I36: =+I27*$D$36 -> 1028.5 | J36: =+J27*$D$36 -> 1415.7
A37: SubTotal | D37: =D35+D36 -> 0.2043 | E37: =SUM(E35:E36) -> 919.35 | F37: =SUM(F35:F36) -> 919.35 | G37: =SUM(G35:G36) -> 1123.65 | H37: =SUM(H35:H36) -> 1593.54 | I37: =SUM(I35:I36) -> 1736.55 | J37: =SUM(J35:J36) -> 2390.31
A38: C | B38: Incidência do Submódulo 2.2 sobre 13º Salário e Adicional de Férias | D38: =D37*D55 -> 0.0751824 | E38: =E37*D55 -> 338.3208 | F38: =F37*D55 -> 338.3208 | G38: =G37*D55 -> 413.5032 | H38: =H37*D55 -> 586.42272 | I38: =I37*D55 -> 639.0504 | J38: =J37*D55 -> 879.63408
A40: Total | E40: =E37+E38 -> 1257.6708 | F40: =F37+F38 -> 1257.6708 | G40: =G37+G38 -> 1537.1532 | H40: =H37+H38 -> 2179.9627 | I40: =I37+I38 -> 2375.6004 | J40: =J37+J38 -> 3269.9441
A44: Submódulo 2.2 - Encargos Previdenciários (GPS), Fundo de Garantia por Tempo de Serviço (FGTS) e outras contribuições.
A46: 2.2 | B46: GPS, FGTS e outras contribuições | D46: Percentual (%) | E46: Valor (R$) | F46: Valor (R$) | G46: Valor (R$) | H46: Valor (R$) | I46: Valor (R$) | J46: Valor (R$)
A47: A | B47: INSS | D47: 0.2 | E47: =+E27*$D$47 -> 900 | F47: =+F27*$D$47 -> 900 | G47: =+G27*$D$47 -> 1100 | H47: =+H27*$D$47 -> 1560 | I47: =+I27*$D$47 -> 1700 | J47: =+J27*$D$47 -> 2340
A48: B | B48: Salário Educação | D48: 0.025 | E48: =+E27*$D$48 -> 112.5 | F48: =+F27*$D$48 -> 112.5 | G48: =+G27*$D$48 -> 137.5 | H48: =+H27*$D$48 -> 195 | I48: =+I27*$D$48 -> 212.5 | J48: =+J27*$D$48 -> 292.5
A49: C | B49: SAT (RAT x FAP) | D49: 0.03 | E49: =+E27*$D$49 -> 135 | F49: =+F27*$D$49 -> 135 | G49: =+G27*$D$49 -> 165 | H49: =+H27*$D$49 -> 234 | I49: =+I27*$D$49 -> 255 | J49: =+J27*$D$49 -> 351
A50: D | B50: SESC ou SESI | D50: 0.015 | E50: =+E27*$D$50 -> 67.5 | F50: =+F27*$D$50 -> 67.5 | G50: =+G27*$D$50 -> 82.5 | H50: =+H27*$D$50 -> 117 | I50: =+I27*$D$50 -> 127.5 | J50: =+J27*$D$50 -> 175.5
A51: E | B51: SENAI - SENAC | D51: 0.01 | E51: =+E27*$D$51 -> 45 | F51: =+F27*$D$51 -> 45 | G51: =+G27*$D$51 -> 55 | H51: =+H27*$D$51 -> 78 | I51: =+I27*$D$51 -> 85 | J51: =+J27*$D$51 -> 117
A52: F | B52: SEBRAE | D52: 0.006 | E52: =+E27*$D$52 -> 27 | F52: =+F27*$D$52 -> 27 | G52: =+G27*$D$52 -> 33 | H52: =+H27*$D$52 -> 46.8 | I52: =+I27*$D$52 -> 51 | J52: =+J27*$D$52 -> 70.2
...

Sheet BENEFÍCIOS 
A1: PLANILHA AUXILIAR DE CUSTOS - VT
A3: ORDEM | B3: POSTOS | C3: QUANTIDADE (A) | E3: SALÁRIO BASE | F3: DESCONTO PROFISSIONAL (Bx6%) | G3: VALOR DA TARIFA | H3: QUANTIDADE DE PASSAGEM DIÁRIA | I3: DIAS TRABALHADOS (F) | J3: CUSTO MENSAL DA TARIFA (DxExF) | K3: CUSTO POR PROFISSIONAL (G - C) | L3: CUSTO MENSAL TOTAL (H x A)
C4: (A) | E4: (B) | F4: ( C ) | G4: (D) | H4: (E) | I4: (F) | J4: (G) | K4: (H) | L4: (I)
A5: 1 | B5: =MdO!B149 -> Assistente de Informação e Comunicação | C5: =MdO!D149 -> 27 | E5: =MdO!C149 -> 4500 | F5: =E5*6% -> 270 | G5: 5 | H5: 4 | I5: 21 | J5: =((G5*H5)*I5) -> 420 | K5: =J5-F5 -> 150 | L5: =K5*C5 -> 4050
A6: 2 | B6: =MdO!B150 -> Assistente de Restauração de Livros e Documentos | C6: =MdO!D150 -> 11 | E6: =MdO!C150 -> 4500 | F6: =E6*6% -> 270 | G6: 5 | H6: 4 | I6: 21 | J6: =((G6*H6)*I6) -> 420 | K6: =J6-F6 -> 150 | L6: =K6*C6 -> 1650
A7: 3 | B7: =MdO!B151 -> Analista de Informação e Comunicação | C7: =MdO!D151 -> 35 | E7: =MdO!C151 -> 5500 | F7: =E7*6% -> 330 | G7: 5 | H7: 4 | I7: 21 | J7: =((G7*H7)*I7) -> 420 | K7: =J7-F7 -> 90 | L7: =K7*C7 -> 3150
A8: 4 | B8: =MdO!B152 -> Analista de Gestão da Informação e Comunicação | C8: =MdO!D152 -> 30 | E8: =MdO!C152 -> 7800 | F8: =E8*6% -> 468 | G8: 5 | H8: 4 | I8: 21 | J8: =((G8*H8)*I8) -> 420 | K8: =((G8*H8)*I8)-J8 -> 0 | L8: =K8*C8 -> 0
A9: 5 | B9: =MdO!B153 -> Analista Técnico-Administrativo de Informação e Comunicação | C9: =MdO!D153 -> 9 | E9: =MdO!C153 -> 8500 | F9: =E9*6% -> 510 | G9: 5 | H9: 4 | I9: 21 | J9: =((G9*H9)*I9) -> 420 | K9: =((G9*H9)*I9)-J9 -> 0 | L9: =K9*C9 -> 0
A10: 6 | B10: =MdO!B154 -> Especialista Técnico-Administrativo de Informação e Comunicação | C10: =MdO!D154 -> 2 | E10: =MdO!C154 -> 11700 | F10: =E10*6% -> 702 | G10: 5 | H10: 4 | I10: 21 | J10: =((G10*H10)*I10) -> 420 | K10: =((G10*H10)*I10)-J10 -> 0 | L10: =K10*C10 -> 0
A11: O licitante deverá apresentar memória de cálculo para os percentuais que forem adotados.
C12: =SUM(C5:C10) -> 114
A14: PLANILHA AUXILIAR DE CUSTOS - VA
A16: ORDEM | B16: POSTOS | C16: QUANTIDADE | E16: VALOR DO BENEFÍCIO | F16: DIAS TRABALHADOS | G16: CUSTO MENSAL (B x C) | H16: VALOR DA PARTICIPAÇÃO DO PROFISSINAL (D x 10%) | I16: CUSTO POR PROFISSIONAL (D - E) | J16: CUSTO MENSAL TOTAL POR FUNÇÃO (F x A)
C17: (A) | E17: (B) | F17: ( C ) | G17: (D) | H17: (E) | I17: (F) | J17: (G)
A18: 1 | B18: =B5 -> Assistente de Informação e Comunicação | C18: =MdO!D149 -> 27 | E18: 35 | F18: 21 | G18: =E18*F18 -> 735 | H18: =G18*1% -> 7.35 | I18: =G18-H18 -> 727.65 | J18: =I18*C18 -> 19646.55
A19: 2 | B19: =MdO!B150 -> Assistente de Restauração de Livros e Documentos | C19: =MdO!D150 -> 11 | E19: 35 | F19: 21 | G19: =E19*F19 -> 735 | H19: =G19*1% -> 7.35 | I19: =G19-H19 -> 727.65 | J19: =I19*C19 -> 8004.15
A20: 3 | B20: =MdO!B151 -> Analista de Informação e Comunicação | C20: =MdO!D151 -> 35 | E20: 35 | F20: 21 | G20: =E20*F20 -> 735 | H20: =G20*1% -> 7.35 | I20: =G20-H20 -> 727.65 | J20: =I20*C20 -> 25467.75
A21: 4 | B21: =MdO!B152 -> Analista de Gestão da Informação e Comunicação | C21: =MdO!D152 -> 30 | E21: 35 | F21: 21 | G21: =E21*F21 -> 735 | H21: =G21*1% -> 7.35 | I21: =G21-H21 -> 727.65 | J21: =I21*C21 -> 21829.5
A22: 5 | B22: =MdO!B153 -> Analista Técnico-Administrativo de Informação e Comunicação | C22: =MdO!D153 -> 9 | E22: 35 | F22: 21 | G22: =E22*F22 -> 735 | H22: =G22*1% -> 7.35 | I22: =G22-H22 -> 727.65 | J22: =I22*C22 -> 6548.85
A23: 6 | B23: =MdO!B154 -> Especialista Técnico-Administrativo de Informação e Comunicação | C23: =MdO!D154 -> 2 | E23: 35 | F23: 21 | G23: =E23*F23 -> 735 | H23: =G23*1% -> 7.35 | I23: =G23-H23 -> 727.65 | J23: =I23*C23 -> 1455.3
A24: TOTAL | J24: =SUM(J18:J23) -> 82952.1
C25: =SUM(C18:C23) -> 114
A27: PLANILHA AUXILIAR DE CUSTOS - REEMBOLSO-CRECHE
A29: ORDEM | B29: POSTOS | C29: QUANTIDADE | E29: VALOR DO BENEFÍCIO | F29: PERCENTUAL DE INCIDÊNCIA | G29: CUSTO MENSAL POR POSTO (B x C) | H29: CUSTO MENSAL TOTAL POR FUNÇÃO (E x A) | I29: QUANT. BENEFICIADOS | J29: CUSTO MENSAL EFETIVO (F x B)
C30: (A) | E30: (B) | F30: ( C ) | G30: (D) | H30: (E) | I30: (F) | J30: (G)
A31: 1 | B31: =B5 -> Assistente de Informação e Comunicação | C31: =C5 -> 27 | E31: =MdO!D64 -> 526.64 | F31: 0.2 | G31: =E31*F31 -> 105.328 | H31: =G31*C31 -> 2843.856 | J31: =I31*E31 -> 0
A32: 2 | B32: =B6 -> Assistente de Restauração de Livros e Documentos | C32: =C6 -> 11 | E32: =MdO!D64 -> 526.64 | F32: 0.2 | G32: =E32*F32 -> 105.328 | H32: =G32*C32 -> 1158.608 | J32: =I32*E32 -> 0
A33: 3 | B33: =B7 -> Analista de Informação e Comunicação | C33: =C7 -> 35 | E33: =MdO!D64 -> 526.64 | F33: 0.2 | G33: =E33*F33 -> 105.328 | H33: =G33*C33 -> 3686.48 | J33: =I33*E33 -> 0
A34: 4 | B34: =B8 -> Analista de Gestão da Informação e Comunicação | C34: =C8 -> 30 | E34: =MdO!D64 -> 526.64 | F34: 0.2 | G34: =E34*F34 -> 105.328 | H34: =G34*C34 -> 3159.84 | J34: =I34*E34 -> 0
A35: 5 | B35: =B9 -> Analista Técnico-Administrativo de Informação e Comunicação | C35: =C9 -> 9 | E35: =MdO!D64 -> 526.64 | F35: 0.2 | G35: =E35*F35 -> 105.328 | H35: =G35*C35 -> 947.952 | J35: =I35*E35 -> 0
A36: 6 | B36: =B10 -> Especialista Técnico-Administrativo de Informação e Comunicação | C36: =C10 -> 2 | E36: =MdO!D64 -> 526.64 | F36: 0.2 | G36: =E36*F36 -> 105.328 | H36: =G36*C36 -> 210.656 | J36: =I36*G36 -> 0
A37: TOTAL | H37: =SUM(H31:H36) -> 12007.392 | I37: =SUM(I31:I36) -> 0 | J37: =SUM(J31:J36) -> 0
B38: CUSTOS INDIRETOS | C38: =MdO!D127 -> 0.03 | H38: =H37*C38 -> 360.22176 | J38: =J37*C38 -> 0
B39: LUCRO | C39: =MdO!D128 -> 0.0679 | H39: =H37*C39 -> 815.30192 | J39: =J37*C39 -> 0
B40: TRIBUTOS | C40: =MdO!D129 -> 0.1425 | H40: =H37*C40 -> 1711.0534 | J40: =J37*C40 -> 0
B41: VALOR PROVISIONADO MENSALMENTE E VALOR EFETIVAMENTE EMPREGADO PARA O BENEFÍCIO | H41: =SUM(H37:H40) -> 14893.969 | J41: =SUM(J37:J40) -> 0
B42: A DIFERENÇA NÃO SERÁ REPASSADA PARA A EMPRESA, A DIFERENÇA ENTRE O CUSTO MENSAL PROVISIONADO E O CUSTO EFETIVO + CITL (*CITL – Custos Indiretos, Tributos e Lucro), NÃO MEDIDOS NO MÊS FICARÃO NO SALDO DO CONTRATO OU LIBERADOS PARA OUTROS FINS. | J42: =H41-J41 -> 14893.969
A44: INSTRUÇÃO NORMATIVA SEGES/MGI Nº 147, DE 13 DE ABRIL DE 2026 Conforme disposto na referida Instrução Normativa, a provisão deve considerar o percentual de incidência de 20%. A presente tabela tem como objetivo facilitar a gestão do benefício, permitindo que, quando ativado, sejam lançados os quantitativos reais. Dessa forma, serão calculados automaticamente os valores a serem reembolsados e aqueles que permanecerão no saldo contratual. Ressalta-se que o valor a ser reembolsado mensalmente a cada trabalhador ou trabalhadora que atenda às regras estabelecidas é de R$ 526,64.

Sheet EPI's
A1: EPI's
A3: POSTOS | B3: DESCRIÇÃO | C3: QUANTIDADE | E3: VALOR UNIT. | F3: VALOR MENSAL
A8: =MdO!B150 -> Assistente de Restauração de Livros e Documentos | B8: Luvas nitrílicas sem pó - TAMANHO M - Caixa com 100 pares | C8: 4 | E8: 31.6 | F8: =E8*C8 -> 126.4
B9: Luvas nitrílicas sem pó - TAMANHO G - Caixa com 100 pares | C9: 4 | E9: 31.6 | F9: =E9*C9 -> 126.4
B10: Avental de TNT Descartável ANVISA Manga Longa 40gr - Pacote com 10 unidades | C10: 4 | E10: 41.35 | F10: =E10*C10 -> 165.4
B11: Touca de TNT Descartável Plissada - Pacote com 100 unidades | C11: 2 | E11: 12.6 | F11: =E11*C11 -> 25.2
B12: Crachá em PVC com cordão silk da empresa | C12: 1 | E12: 18.6 | F12: =(E12*C12)/6 -> 3.1
B13: TOTAL | F13: =SUM(F8:F12)/12 -> 37.208333
A14: DEMAIS POSTOS | B14: Crachá em PVC com cordão silk da empresa | C14: 1 | E14: 18.6 | F14: =E14*C14 -> 18.6
B15: TOTAL | F15: =SUM(F14:F14)/12 -> 1.55
A16: No que se refere ao reajuste stricto sensu insidirá o IPCA, respeitada a anualidade da proposta. O crachá deverá ser confeccionado em PVC, com foto e identificação de que o colaborador está a serviço do Instituto de Comunicação e Informação Científica e Tecnológica em Saúde - FIOCRUZ. O cordão Silk deverá ser de qualidade e possuir o logo da empresa. Os EPIS deverão ser ajustados de acordo com as necessidades de cada colaborador.

Sheet  Notas
A1: NOTAS
A3: Módulo 1 - Composição da Remuneração
A4: ITEM | C4: % | D4: CÁLCULO | G4: CONSIDERAÇÕES E FUNDAMENTAÇÕES
A6: Salário Base | G6: Os salários foram estipulados com base no histórico já praticado neste Instituto, visando garantir uma justa remuneração conforme a complexidade das atividades desempenhadas. A metodologia está de acordo com a jurisprudência, e os valores são o mínimo aceitável.
A7: Adicional de Insalubridade
A8: Adicional Noturno
A9: Adicional de Hora Noturna Reduzida
A14: Módulo 2 - Encargos e Benefícios Anuais, Mensais e Diários
A15: Submódulo 2.1 - 13º (décimo terceiro) Salário, Férias e Adicional de Férias
A16: 13º (décimo terceiro) Salário | C16: 0.0833 | D16: 8,33%*Múdulo 1 | G16: Art. 1º, caput e parágrafo único do Decreto n° 57.155/1965; Provisionamento mensal: 8,33% que corresponde a 1 ÷ 12 = 8,3333.
A17: Férias e Adicional de Férias | C17: 0.121 | D17: 12,10%*Módulo 1 | G17: O percentual de 12,10% leva em consideração a opção de utilizar a Conta-Depósito Vinculada ― bloqueada para movimentação durante a execução.
A18: Incidência do Submódulo 2.2 sobre 13º Salário e Adicional de Férias | C18: 0.0752
A20: Submódulo 2.2 - Encargos Previdenciários (GPS), Fundo de Garantia por Tempo de Serviço (FGTS) e outras contribuições.
A21: INSS | C21: 0.2 | G21: Para efeito do SAT o licitante deverá preencher conforme relatório SEFIP/GFIP da empresa.
A22: Salário Educação | C22: 0.025
A23: SAT
A24: SESC ou SESI | C24: 0.015
A25: SENAI - SENAC | C25: 0.01
A26: SEBRAE | C26: 0.006
A27: INCRA | C27: 0.002
A28: FGTS | C28: 0.08
A29: Total | C29: =SUM(C21:C28) -> 0.338
A30: Submódulo 2.3 - Benefícios Mensais e Diários.
A31: Vale Transporte | C31: 5 | D31: (VT*4*21)-(SB*6%) | G31: O cálculo deverá ser de 21 dias. Para efeito do desconto sobre o VA, o valor será no mínimo de R$35,00 por dia e o desconto será de 1%, conforme CCT de referência. Benefício indiretos no valor de R$ 299,77.
A32: Auxílio-Refeição/Alimentação | C32: 35 | D32: (VA*21)-(1% )
A33: Benefícios indiretos | C33: 299.77 | D33: -
A34: =MdO!B64 -> Reembolso-Creche (Incidência de 20%) | C34: =MdO!D64 -> 526.64
A35: Módulo 3 - Provisão para Rescisão
A36: Aviso Prévio Indenizado | C36: 0.0042 | D36: Percentual*Total do módulo 1 | G36: O licitante deverá apresentar memória de cálculo para os percentuais que forem adotados. O percentual relativo ao Aviso Prévio Trabalhado não será considerado custo renovável, após a anualidade, passará a 0,194% conforme Acórdão 1186/2017 do Plenário do Tribunal de Contas da União.
A37: Incidência do FGTS sobre o Aviso Prévio Indenizado | C37: =C28*C36 -> 0.000336
A38: Multa do FGTS e contribuição social sobre o Aviso Prévio Indenizado | C38: =MdO!D81 -> 0.000168
A39: Aviso Prévio Trabalhado | C39: 0.0194
A40: Incidência dos encargos do submódulo 2.2 sobre o Aviso Prévio Trabalhado | C40: =C29*C39 -> 0.0065572
A41: Multa do FGTS e contribuição social sobre o Aviso Prévio Trabalhado | C41: =MdO!D84 -> 0.00776
A45: Módulo 4 - Custo de Reposição do Profissional Ausente
A46: Submódulo 4.1 - Substituto nas Ausências Legais
A47: Substituto na cobertura de Férias | C47: =MdO!D93 -> 0 | G47: Não há previsão editalícia de cobertura de férias e ausências legais, motivo pelo qual deve permanecer em branco.
A48: Substituto na cobertura de Ausências Legais | C48: =MdO!D94 -> 0.0028
A49: Substituto na cobertura de Licença-Paternidade | C49: =MdO!D95 -> 0.0002
A50: Substituto na cobertura de Ausência por acidente de trabalho | C50: =MdO!D96 -> 0.0042
...
